{"text_format":"1","workbook":"xlsx","n_sheets":64,"sheets":["START","Instructions","Template names","Lookup and lists","Org structure","Contacts","A1-Sum","A2-FinPerf SC","A2A","A3-FinPerf V","A3A","A4-FinPerf RE","A5-Capex","A5A","A6-FinPos","A7-CFlow","A8-ResRecon","A9-Asset","A10-SerDel","SA1","SA2","SA3","SA4","SA5","SA6","SA7","SA8","SA9","SA10","SA11","SA12a","SA12b","SA13a","SA13b","SA14","SA15","SA16","SA17","SA18","SA19","SA20","SA21","SA22","SA23","SA24","SA25","SA26","SA27","SA28","SA29","SA30","SA31","SA32","SA33","SA34a","SA34b","SA34c","SA34d","SA34e","SA35","SA36","SA37","SA38","LGDB_EXPORT"],"not_rendered":{"charts":0,"images":18,"macros":1,"external_links":2,"defined_names":1917,"comments":0,"pivot_tables":0},"unopened":[],"bounds":{"document_bytes":16777216,"sheet_cells":100000,"rows_first":2000,"rows_last":500,"rows_between":2000,"halvings":0,"cell_chars":16384,"cell_head_chars":4096},"cells_cut":0,"cells_raw":0,"read":"whole","date_system":"1900"}

{"sheet":"START","index":0,"n_rows":0,"n_cols":0,"rows_kept":0,"cut":false,"hidden":false,"merged":[]}

{"sheet":"Instructions","index":1,"n_rows":77,"n_cols":24,"rows_kept":77,"cut":false,"hidden":false,"merged":[]}
[]
[null,null,null,2020]
[]
[null,null,null,null,null,null,null,null,null,null,null,null,null,null,null,null,null,null,null,null,null,null,null,"Yes"]
[null,null,null,null,null,null,null,null,null,null,null,null,null,null,null,null,null,null,null,null,null,null,null,"No"]
[]
[null,null,null,null,null,null,null,null,null,null,null,null,null,null,null,null,null,null,null,null,null,null,"Type of Entities Range:"]
[null,null,null,null,null,null,null,null,null,null,null,null,null,null,null,null,null,null,null,null,null,null,null,"Parent Municipality"]
[null,null,null,null,null,null,null,null,null,null,null,null,null,null,null,null,null,null,null,null,null,null,null,"Consolidated Information"]
[]
[]
[]
[]
[null,null,null,null,null,"START"]
[null,null,null,null,null,"Instructions"]
[null,null,null,null,null,"Template names"]
[null,null,null,null,null,"Lookup and lists",null,null,null,null,null,null,null,null,null,null,null,null,null,null,null,null,"MTREF Range:",2013]
[null,null,null,null,null,"Org structure",null,null,null,null,null,null,null,null,null,null,null,null,null,null,null,null,null,2014]
[null,null,null,null,null,"Contacts",null,null,null,null,null,null,null,null,null,null,null,null,null,null,null,null,null,2015]
[null,null,null,null,null,"A1-Sum",null,null,null,null,null,null,null,null,null,null,null,null,null,null,null,null,null,2016]
[null,null,null,null,null,"A2-FinPerf SC",null,null,null,null,null,null,null,null,null,null,null,null,null,null,null,null,null,2017]
[null,null,null,null,null,"A2A",null,null,null,null,null,null,null,null,null,null,null,null,null,null,null,null,null,2018]
[null,null,null,null,null,"A3-FinPerf V",null,null,null,null,null,null,null,null,null,null,null,null,null,null,null,null,null,2019]
[null,null,null,null,null,"A3A",null,null,null,null,null,null,null,null,null,null,null,null,null,null,null,null,null,2020]
[null,null,null,null,null,"A4-FinPerf RE",null,null,null,null,null,null,null,null,null,null,null,null,null,null,null,null,null,2021]
[null,null,null,null,null,"A5-Capex",null,null,null,null,null,null,null,null,null,null,null,null,null,null,null,null,null,2022]
[null,null,null,null,null,"A5A",null,null,null,null,null,null,null,null,null,null,null,null,null,null,null,null,null,2023]
[null,null,null,null,null,"A6-FinPos",null,null,null,null,null,null,null,null,null,null,null,null,null,null,null,null,null,2024]
[null,null,null,null,null,"A7-CFlow",null,null,null,null,null,null,null,null,null,null,null,null,null,null,null,null,null,2025]
[null,null,null,null,null,"A8-ResRecon",null,null,null,null,null,null,null,null,null,null,null,null,null,null,null,null,null,2026]
[null,null,null,null,null,"A9-Asset",null,null,null,null,null,null,null,null,null,null,null,null,null,null,null,null,null,2027]
[null,null,null,null,null,"A10-SerDel"]
[null,null,null,null,null,"SA1",null,null,null,null,null,null,null,null,null,null,null,null,null,null,null,null,"MTREF Linked:",11]
[null,null,null,null,null,"SA2",null,null,null,null,null,null,null,null,null,null,null,null,null,null,null,null,"MTREF:",{"$f":"INDEX(X17:X31,X33,1)","v":2023}]
[null,null,null,null,null,"SA3"]
[null,null,null,null,null,"SA4",null,null,null,null,null,null,null,null,null,null,null,null,null,null,null,null,"Fin Year:",{"$f":"MTREF&\"/\"&RIGHT(MTREF,2)+1","v":"2023/24"}]
[null,null,null,null,null,"SA5"]
[null,null,null,null,null,"SA6"]
[null,null,null,null,null,"SA7"]
[null,null,null,null,null,"SA8"]
[null,null,null,null,null,"SA9"]
[null,null,null,null,null,"SA10"]
[null,null,null,null,null,"SA11"]
[null,null,null,null,null,"SA12a"]
[null,null,null,null,null,"SA12b"]
[null,null,null,null,null,"SA13a"]
[null,null,null,null,null,"SA13b"]
[null,null,null,null,null,"SA14"]
[null,null,null,null,null,"SA15"]
[null,null,null,null,null,"SA16"]
[null,null,null,null,null,"SA17"]
[null,null,null,null,null,"SA18"]
[null,null,null,null,null,"SA19"]
[null,null,null,null,null,"SA20"]
[null,null,null,null,null,"SA21"]
[null,null,null,null,null,"SA22"]
[null,null,null,null,null,"SA23"]
[null,null,null,null,null,"SA24"]
[null,null,null,null,null,"SA25"]
[null,null,null,null,null,"SA26"]
[null,null,null,null,null,"SA27"]
[null,null,null,null,null,"SA28"]
[null,null,null,null,null,"SA29"]
[null,null,null,null,null,"SA30"]
[null,null,null,null,null,"SA31"]
[null,null,null,null,null,"SA32"]
[null,null,null,null,null,"SA33"]
[null,null,null,null,null,"SA34a"]
[null,null,null,null,null,"SA34b"]
[null,null,null,null,null,"SA34c"]
[null,null,null,null,null,"SA34d"]
[null,null,null,null,null,"SA34e"]
[null,null,null,null,null,"SA35"]
[null,null,null,null,null,"SA36"]
[null,null,null,null,null,"SA37"]
[null,null,null,null,null,"SA38"]
[null,null,null,null,null,"LGDB_EXPORT"]

{"sheet":"Template names","index":2,"n_rows":179,"n_cols":6,"rows_kept":179,"cut":false,"hidden":true,"merged":[[0,0,0,3],[86,0,86,1],[109,0,109,1],[98,0,98,1],[91,0,91,3]]}
["Common sheet headings"]
["Head1",{"$f":"HLOOKUP(MTREF,Headings,2)","v":"2021/22"},"Prior year -1"]
["Head1A",{"$f":"HLOOKUP(MTREF,Headings,3)","v":"2020/21"},"Prior year -2"]
["Head1B",{"$f":"HLOOKUP(MTREF,Headings,4)","v":"2019/20"},"Prior year -3"]
["Head2",{"$f":"HLOOKUP(MTREF,Headings,5)","v":"Current Year 2022/23"},"Year in which budget is being prepared"]
["Head2A",{"$f":"HLOOKUP(MTREF,Headings,6)","v":"2022/23"},"Year in which budget is being prepared"]
["Head3",{"$f":"HLOOKUP(MTREF,Headings,7)","v":"2023/24 Medium Term Revenue & Expenditure Framework"},"MTREF name"]
["Head4","LTFS","Long term financial strategy"]
["Head5","Audited Outcome"]
["Head5A","Outcome"]
["Head5B","Pre-audit outcome"]
["Head6","Original Budget"]
["Head7","Adjusted Budget"]
["Head8","Full Year Forecast"]
["Head9",{"$f":"HLOOKUP(MTREF,Headings,8)","v":"Budget Year 2023/24"},"1st year of MTREF","Year1"]
["Head10",{"$f":"HLOOKUP(MTREF,Headings,9)","v":"Budget Year +1 2024/25"},"2nd year of MTREF","Year2"]
["Head11",{"$f":"HLOOKUP(MTREF,Headings,10)","v":"Budget Year +2 2025/26"},"3rd year of MTREF","Year3"]
["Head12",{"$f":"HLOOKUP(MTREF,Headings,11)","v":"Forecast 2026/27"},"1st yr of long term forecast","Year4"]
["Head13",{"$f":"HLOOKUP(MTREF,Headings,12)","v":"Forecast 2027/28"},"Next yr of long term forecast","Year5"]
["Head14",{"$f":"HLOOKUP(MTREF,Headings,13)","v":"Forecast 2028/29"},"Next yr of long term forecast","Year6"]
["Head15",{"$f":"HLOOKUP(MTREF,Headings,14)","v":"Forecast 2029/30"},"Next yr of long term forecast","Year7"]
["Head16",{"$f":"HLOOKUP(MTREF,Headings,15)","v":"Forecast 2030/31"},"Next yr of long term forecast","Year8"]
["Head17",{"$f":"HLOOKUP(MTREF,Headings,16)","v":"Forecast 2031/32"},"Next yr of long term forecast","Year9"]
["Head18",{"$f":"HLOOKUP(MTREF,Headings,17)","v":"Forecast 2032/33"},"Next yr of long term forecast","Year10"]
["Head19",{"$f":"HLOOKUP(MTREF,Headings,18)","v":"Forecast 2033/34"},"Next yr of long term forecast","Year11"]
["Head20",{"$f":"HLOOKUP(MTREF,Headings,19)","v":"Forecast 2034/35"},"Next yr of long term forecast","Year12"]
["Head21",{"$f":"HLOOKUP(MTREF,Headings,20)","v":"Forecast 2035/36"},"Next yr of long term forecast","Year13"]
["Head22",{"$f":"HLOOKUP(MTREF,Headings,21)","v":"Forecast 2036/37"},"Next yr of long term forecast","Year14"]
["Head23",{"$f":"HLOOKUP(MTREF,Headings,22)","v":"Forecast 2037/38"},"Next yr of long term forecast","Year15"]
["Head24","Description"]
["Head25"]
["Head26","Vote Description"]
["Head27","Ref"]
["Head27a","References"]
["Head28","Surplus/(Deficit) for the year",null,"Result"]
["Head29",{"$f":"HLOOKUP(MTREF,Headings,23)","v":"Annual target 2023/24"}]
["Head30",{"$f":"HLOOKUP(MTREF,Headings,24)","v":"Revised target 2023/24"}]
["Head31","Quarter ended 30 September"]
["Head32","Quarter ended 31 December"]
["Head33","Quarter ended 31 March"]
["Head34","Quarter ended 30 June"]
["Head35","Variance explanation"]
["Head36","YTD  Actual 31 Dec"]
["Head37","YTD  Budget 31 Dec"]
["Head38","Monthly actual"]
["Head39","YTD actual"]
["Head40","YTD budget"]
["Head41","YTD variance"]
["Head42","Surplus/ (Deficit) for the yr/period"]
["Head43",{"$f":"Head3&\" Summary\"","v":"2023/24 Medium Term Revenue & Expenditure Framework Summary"}]
["Head44","2001 Census"]
["Head45","2011 Census"]
["Head46"," - Adjustments Budget - January 2007"]
["Head47","Previous target year to complete"]
["Head48","Present value"]
["Head49"]
["Head50","Other Adjusts."]
["Head51","Accum. Funds"]
["Head52","Multi-year capital"]
["Head53","Unfore. Unavoid."]
["Head54","Prior Adjusted"]
["Head55","Nat. or Prov. Govt"]
["Head56","Total Adjusts."]
["SFPerf1","Budgeted Financial Performance"]
["SFPerf2","Forecast Financial Performance"]
["SFPos1","Budgeted Financial Position"]
["SFPos2","Forecast Financial Position"]
["Cash1","Budget Cash Flow"]
["Cash2","Forecast Cash Flow"]
["RandM","Expenditure includes repairs & maintenance of R'000"]
["Depart1","Department 1 - ",null,"DEP1"]
["Depart2","Department 2 - ",null,"DEP2"]
["Depart3","Department 3 - ",null,"DEP3"]
["Depart4","Department 4 - ",null,"DEP4"]
["Depart5","Department 5 - ",null,"DEP5"]
["Depart6","Department 6 - ",null,"DEP6"]
["Depart7","Department 7 - ",null,"DEP7"]
["Depart8","Department 8 - ",null,"DEP8"]
["Depart9","Department 9 - ",null,"DEP9"]
["Depart10","Department 10 - ",null,"DEP10"]
["Depart11","Department 11 - ",null,"DEP11"]
["Depart12","Department 12 - ",null,"DEP12"]
["Depart13","Department 13 - ",null,"DEP13"]
["Depart14","Department 14 - ",null,"DEP14"]
[]
[]
["Base year of forecast column selection names"]
["Choose","ACT"]
[null,"APP"]
[null,"ADJ"]
[]
["Standard nomenclature"]
["Muni",{"$f":"'Lookup and lists'!B28","v":0}]
["Municipal Entities",2,"Type of report:",2]
[{"$f":"IF((MuniEntities=1)*(MuniType=2),\"YES\",\"NO\")","v":"NO"},"Does this municipality have entities (consolidated budget and entity budgets required)? YES/NO"]
["Entity 1","(Pty) Ltd Example 1 - Municipal entity - ",null,"Ent1"]
["Entity 2","(Pty) Ltd Example 2 - Municipal entity - ",null,"Ent2"]
["Entity 3","Municipal Entity Example 3",null,"Ent3"]
["Budget approval tables",null,"Chart x-ref","Sch/Tab/Ch","Alternative for municipalities without entities","Alternative for municipalities without entities"]
[null,{"$f":"IF(Consolques=\"YES\",E100,F100)","v":"Table A1 Budget Summary"},null,"Table A1 ",{"$f":"D100&\"Consolidated Budget Summary\"","v":"Table A1 Consolidated Budget Summary"},{"$f":"D100&\"Budget Summary\"","v":"Table A1 Budget Summary"}]
[null,"Table A2 Budgeted Financial Performance (revenue and expenditure by functional classification)","Charts 5, 6","Table A2 ",{"$f":"D101&\"Consolidated Budgeted Financial Performance (revenue and expenditure by functional classification)\"","v":"Table A2 Consolidated Budgeted Financial Performance (revenue and expenditure by functional classification)"},{"$f":"D101&\"Budgeted Financial Performance (revenue and expenditure by functional classification)\"","v":"Table A2 Budgeted Financial Performance (revenue and expenditure by functional classification)"}]
[null,"Table A3 Budgeted Financial Performance (revenue and expenditure by municipal vote)",null,"Table A3 ",{"$f":"D102&\"Consolidated Budgeted Financial Performance (revenue and expenditure by municipal vote)\"","v":"Table A3 Consolidated Budgeted Financial Performance (revenue and expenditure by municipal vote)"},{"$f":"D102&\"Budgeted Financial Performance (revenue and expenditure by municipal vote)\"","v":"Table A3 Budgeted Financial Performance (revenue and expenditure by municipal vote)"}]
[null,"Table A4 Budgeted Financial Performance (revenue and expenditure)","Charts 1, 2, 3, 4","Table A4 ",{"$f":"D103&\"Consolidated Budgeted Financial Performance (revenue and expenditure)\"","v":"Table A4 Consolidated Budgeted Financial Performance (revenue and expenditure)"},{"$f":"D103&\"Budgeted Financial Performance (revenue and expenditure)\"","v":"Table A4 Budgeted Financial Performance (revenue and expenditure)"}]
[null,"Table A5 Budgeted Capital Expenditure by vote, functional classification and funding","Charts 7, 8, 9, 10, 20","Table A5 ",{"$f":"D104&\"Consolidated Budgeted Capital Expenditure by vote, functional classification and funding\"","v":"Table A5 Consolidated Budgeted Capital Expenditure by vote, functional classification and funding"},{"$f":"D104&\"Budgeted Capital Expenditure by vote, functional classification and funding\"","v":"Table A5 Budgeted Capital Expenditure by vote, functional classification and funding"}]
[null,"Table A6 Budgeted Financial Position",null,"Table A6 ",{"$f":"D105&\"Consolidated Budgeted Financial Position\"","v":"Table A6 Consolidated Budgeted Financial Position"},{"$f":"D105&\"Budgeted Financial Position\"","v":"Table A6 Budgeted Financial Position"}]
[null,"Table A7 Budgeted Cash Flows",null,"Table A7 ",{"$f":"D106&\"Consolidated Budgeted Cash Flows\"","v":"Table A7 Consolidated Budgeted Cash Flows"},{"$f":"D106&\"Budgeted Cash Flows\"","v":"Table A7 Budgeted Cash Flows"}]
[null,"Table A8 Cash backed reserves/accumulated surplus reconciliation",null,"Table A8 ",{"$f":"D107&\"Consolidated Cash backed reserves/accumulated surplus reconciliation\"","v":"Table A8 Consolidated Cash backed reserves/accumulated surplus reconciliation"},{"$f":"D107&\"Cash backed reserves/accumulated surplus reconciliation\"","v":"Table A8 Cash backed reserves/accumulated surplus reconciliation"}]
[null,"Table A9 Asset Management",null,"Table A9 ",{"$f":"D108&\"Consolidated Asset Management\"","v":"Table A9 Consolidated Asset Management"},{"$f":"D108&\"Asset Management\"","v":"Table A9 Asset Management"}]
[null,"Table A10 Basic service delivery measurement",null,"Table A10 ",{"$f":"D109&\"Consolidated basic service delivery measurement\"","v":"Table A10 Consolidated basic service delivery measurement"},{"$f":"D109&\"Basic service delivery measurement\"","v":"Table A10 Basic service delivery measurement"}]
["Supportinging Tables to the Budget Approval Tables",null,{"$f":"$C$99","v":"Chart x-ref"},{"$f":"$D$99","v":"Sch/Tab/Ch"}]
["Supporting Table SA1",{"$f":"A111&\" Supportinging detail to 'Budgeted Financial Performance'\"","v":"Supporting Table SA1 Supportinging detail to 'Budgeted Financial Performance'"}]
["Supporting Table SA2 ",{"$f":"IF(Consolques=\"YES\",E112,F112)","v":"Supporting Table SA2 Matrix Financial Performance Budget (revenue source/expenditure type and dept.)"},null,null,{"$f":"A112&\"Consolidated Matrix Financial Performance Budget (revenue source/expenditure type & dept.)\"","v":"Supporting Table SA2 Consolidated Matrix Financial Performance Budget (revenue source/expenditure type & dept.)"},{"$f":"A112&\"Matrix Financial Performance Budget (revenue source/expenditure type and dept.)\"","v":"Supporting Table SA2 Matrix Financial Performance Budget (revenue source/expenditure type and dept.)"}]
["Supporting Table SA3 ",{"$f":"A113&\"Supportinging detail to 'Budgeted Financial Position'\"","v":"Supporting Table SA3 Supportinging detail to 'Budgeted Financial Position'"}]
["Supporting Table SA4 ",{"$f":"A114&\"Reconciliation of IDP strategic objectives and budget (revenue)\"","v":"Supporting Table SA4 Reconciliation of IDP strategic objectives and budget (revenue)"},"Chart 11"]
["Supporting Table SA5 ",{"$f":"A115&\"Reconciliation of IDP strategic objectives and budget (operating expenditure)\"","v":"Supporting Table SA5 Reconciliation of IDP strategic objectives and budget (operating expenditure)"},"Chart 12"]
["Supporting Table SA6 ",{"$f":"A116&\"Reconciliation of IDP strategic objectives and budget (capital expenditure)\"","v":"Supporting Table SA6 Reconciliation of IDP strategic objectives and budget (capital expenditure)"},"Chart 13"]
["Supporting Table SA7",{"$f":"A117&\" Measureable performance objectives\"","v":"Supporting Table SA7 Measureable performance objectives"}]
["Supporting Table SA8",{"$f":"A118&\" Performance indicators and benchmarks\"","v":"Supporting Table SA8 Performance indicators and benchmarks"},"Chts 15-19"]
["Supporting Table SA9",{"$f":"A119&\" Social, economic and demographic statistics and assumptions\"","v":"Supporting Table SA9 Social, economic and demographic statistics and assumptions"}]
["Supporting Table SA10",{"$f":"A120&\" Funding measurement\"","v":"Supporting Table SA10 Funding measurement"},"Chart 14"]
["Supporting Table SA11",{"$f":"A121&\" Property rates summary\"","v":"Supporting Table SA11 Property rates summary"}]
["Supporting Table SA12a",{"$f":"A122&\" Property rates by category (current year)\"","v":"Supporting Table SA12a Property rates by category (current year)"}]
["Supporting Table SA12b",{"$f":"A123&\" Property rates by category (budget year)\"","v":"Supporting Table SA12b Property rates by category (budget year)"}]
["Supporting Table SA13a",{"$f":"A124&\" Service Tariffs by category\"","v":"Supporting Table SA13a Service Tariffs by category"}]
["Supporting Table SA13b",{"$f":"A125&\" Service Tariffs by category - explanatory\"","v":"Supporting Table SA13b Service Tariffs by category - explanatory"}]
["Supporting Table SA14",{"$f":"A126&\" Household bills\"","v":"Supporting Table SA14 Household bills"}]
["Supporting Table SA15",{"$f":"A127&\" Investment particulars by type\"","v":"Supporting Table SA15 Investment particulars by type"}]
["Supporting Table SA16",{"$f":"A128&\" Investment particulars by maturity\"","v":"Supporting Table SA16 Investment particulars by maturity"}]
["Supporting Table SA17",{"$f":"A129&\" Borrowing\"","v":"Supporting Table SA17 Borrowing"}]
["Supporting Table SA18",{"$f":"A130&\" Transfers and grant receipts\"","v":"Supporting Table SA18 Transfers and grant receipts"}]
["Supporting Table SA19",{"$f":"A131&\" Expenditure on transfers and grant programme\"","v":"Supporting Table SA19 Expenditure on transfers and grant programme"}]
["Supporting Table SA20",{"$f":"A132&\" Reconciliation of transfers, grant receipts and unspent funds\"","v":"Supporting Table SA20 Reconciliation of transfers, grant receipts and unspent funds"}]
["Supporting Table SA21",{"$f":"A133&\" Transfers and grants made by the municipality\"","v":"Supporting Table SA21 Transfers and grants made by the municipality"}]
["Supporting Table SA22",{"$f":"A134&\" Summary councillor and staff benefits\"","v":"Supporting Table SA22 Summary councillor and staff benefits"}]
["Supporting Table SA23",{"$f":"A135&\" Salaries, allowances & benefits (political office bearers/councillors/senior managers)\"","v":"Supporting Table SA23 Salaries, allowances & benefits (political office bearers/councillors/senior managers)"}]
["Supporting Table SA24",{"$f":"A136&\" Summary of personnel numbers\"","v":"Supporting Table SA24 Summary of personnel numbers"}]
["Supporting Table SA25",{"$f":"IF(Consolques=\"YES\",E137,F137)","v":"Supporting Table SA25 Budgeted monthly revenue and expenditure"},null,null,{"$f":"A137&\" Consolidated budgeted monthly revenue and expenditure\"","v":"Supporting Table SA25 Consolidated budgeted monthly revenue and expenditure"},{"$f":"A137&\" Budgeted monthly revenue and expenditure\"","v":"Supporting Table SA25 Budgeted monthly revenue and expenditure"}]
["Supporting Table SA26","Supporting Table SA26 Budgeted monthly revenue and expenditure (municipal vote)",null,null,{"$f":"A138&\" Consolidated budgeted monthly revenue and expenditure (municipal vote)\"","v":"Supporting Table SA26 Consolidated budgeted monthly revenue and expenditure (municipal vote)"},{"$f":"A138&\" Budgeted monthly revenue and expenditure (municipal vote)\"","v":"Supporting Table SA26 Budgeted monthly revenue and expenditure (municipal vote)"}]
["Supporting Table SA27","Supporting Table SA27 Budgeted monthly revenue and expenditure (functional classification)",null,null,{"$f":"A139&\" Consolidated budgeted monthly revenue and expenditure (functional classification)\"","v":"Supporting Table SA27 Consolidated budgeted monthly revenue and expenditure (functional classification)"},{"$f":"A139&\" Budgeted monthly revenue and expenditure (functional classification)\"","v":"Supporting Table SA27 Budgeted monthly revenue and expenditure (functional classification)"}]
["Supporting Table SA28","Supporting Table SA28 Budgeted monthly capital expenditure (municipal vote)",null,null,{"$f":"A140&\" Consolidated budgeted monthly capital expenditure (municipal vote)\"","v":"Supporting Table SA28 Consolidated budgeted monthly capital expenditure (municipal vote)"},{"$f":"A140&\" Budgeted monthly capital expenditure (municipal vote)\"","v":"Supporting Table SA28 Budgeted monthly capital expenditure (municipal vote)"}]
["Supporting Table SA29","Supporting Table SA29 Budgeted monthly capital expenditure (functional classification)",null,null,{"$f":"A141&\" Consolidated budgeted monthly capital expenditure (functional classification)\"","v":"Supporting Table SA29 Consolidated budgeted monthly capital expenditure (functional classification)"},{"$f":"A141&\" Budgeted monthly capital expenditure (functional classification)\"","v":"Supporting Table SA29 Budgeted monthly capital expenditure (functional classification)"}]
["Supporting Table SA30","Supporting Table SA30 Budgeted monthly cash flow",null,null,{"$f":"A142&\" Consolidated budgeted monthly cash flow\"","v":"Supporting Table SA30 Consolidated budgeted monthly cash flow"},{"$f":"A142&\" Budgeted monthly cash flow\"","v":"Supporting Table SA30 Budgeted monthly cash flow"}]
["Supporting Table SA31","NOT REQUIRED - municipality does not have entities",null,null,{"$f":"A143&\" Aggregated entity budget\"","v":"Supporting Table SA31 Aggregated entity budget"},"NOT REQUIRED - municipality does not have entities"]
["Supporting Table SA32",{"$f":"A144&\" List of external mechanisms\"","v":"Supporting Table SA32 List of external mechanisms"}]
["Supporting Table SA33",{"$f":"A145&\" Contracts having future budgetary implications\"","v":"Supporting Table SA33 Contracts having future budgetary implications"}]
["Supporting Table SA34a",{"$f":"IF(Consolques=\"YES\",E146,F146)","v":"Supporting Table SA34a Capital expenditure on new assets by asset class"},null,null,{"$f":"A146&\" Consolidated capital expenditure on new assets by asset class\"","v":"Supporting Table SA34a Consolidated capital expenditure on new assets by asset class"},{"$f":"A146&\" Capital expenditure on new assets by asset class\"","v":"Supporting Table SA34a Capital expenditure on new assets by asset class"}]
["Supporting Table SA34b","Supporting Table SA34b Capital expenditure on the renewal of existing assets by asset class",null,null,{"$f":"A147&\" Consolidated capital expenditure on the renewal of existing assets by asset class\"","v":"Supporting Table SA34b Consolidated capital expenditure on the renewal of existing assets by asset class"},{"$f":"A147&\" Capital expenditure on the renewal of existing assets by asset class\"","v":"Supporting Table SA34b Capital expenditure on the renewal of existing assets by asset class"}]
["Supporting Table SA34c","Supporting Table SA34c Repairs and maintenance expenditure by asset class",null,null,{"$f":"A148&\" Consolidated repairs and maintenance by asset class\"","v":"Supporting Table SA34c Consolidated repairs and maintenance by asset class"},{"$f":"A148&\" Repairs and maintenance expenditure by asset class\"","v":"Supporting Table SA34c Repairs and maintenance expenditure by asset class"}]
["Supporting Table SA34d",{"$f":"IF(Consolques=\"YES\",E149,F149)","v":"Supporting Table SA34d Depreciation by asset class"},null,null,{"$f":"A149&\" Consolidated Depreciation by asset class\"","v":"Supporting Table SA34d Consolidated Depreciation by asset class"},{"$f":"A149&\" Depreciation by asset class\"","v":"Supporting Table SA34d Depreciation by asset class"}]
["Supporting Table SA34e",{"$f":"IF(Consolques=\"YES\",E150,F150)","v":"Supporting Table SA34e Capital expenditure on the upgrading of existing assets by asset class"},null,null,{"$f":"A150&\" Consolidated capital expenditure on the upgrading of existing assets by asset class\"","v":"Supporting Table SA34e Consolidated capital expenditure on the upgrading of existing assets by asset class"},{"$f":"A150&\" Capital expenditure on the upgrading of existing assets by asset class\"","v":"Supporting Table SA34e Capital expenditure on the upgrading of existing assets by asset class"}]
["Supporting Table SA35","Supporting Table SA35 Future financial implications of the capital budget",null,null,{"$f":"A151&\" Consolidated future financial implications of the capital budget\"","v":"Supporting Table SA35 Consolidated future financial implications of the capital budget"},{"$f":"A151& \" Future financial implications of the capital budget\"","v":"Supporting Table SA35 Future financial implications of the capital budget"}]
["Supporting Table SA36","Supporting Table SA36 Detailed capital budget",null,null,{"$f":"A152&\" Consolidated detailed capital budget\"","v":"Supporting Table SA36 Consolidated detailed capital budget"},{"$f":"A152& \" Detailed capital budget\"","v":"Supporting Table SA36 Detailed capital budget"}]
["Supporting Table SA37","Supporting Table SA37 Projects delayed from previous financial year/s",null,null,{"$f":"A153&\" Consolidated projects delayed from previous financial year/s\"","v":"Supporting Table SA37 Consolidated projects delayed from previous financial year/s"},{"$f":"A153& \" Projects delayed from previous financial year/s\"","v":"Supporting Table SA37 Projects delayed from previous financial year/s"}]
["Supporting Table SA38",{"$f":"IF(Consolques=\"YES\",E154,F154)","v":"Supporting Table SA38 Detailed operational projects"},null,null,{"$f":"A154&\" Consolidated detailed operational projects\"","v":"Supporting Table SA38 Consolidated detailed operational projects"},{"$f":"A154& \" Detailed operational projects\"","v":"Supporting Table SA38 Detailed operational projects"}]
[]
["Budget Charts","Charts","Cross reference"]
["Chart A1 ",{"$f":"A157&\"Revenue by Municipal Vote\"","v":"Chart A1 Revenue by Municipal Vote"}]
["Chart A2 ",{"$f":"A158&\"Expenditure by Municipal Vote\"","v":"Chart A2 Expenditure by Municipal Vote"}]
["Chart A3 ",{"$f":"A159&\"Revenue by Standard Classification\"","v":"Chart A3 Revenue by Standard Classification"},"A2"]
["Chart A4 ",{"$f":"A160&\"Expenditure by Standard Classification\"","v":"Chart A4 Expenditure by Standard Classification"},"A2"]
["Chart A5 ",{"$f":"A161&\"Revenue by Major Source (refer 'Minor' source for 'Other Revenue' allocation\"","v":"Chart A5 Revenue by Major Source (refer 'Minor' source for 'Other Revenue' allocation"},"A3"]
["Chart A6 ",{"$f":"A162&\"Revenue by Minor Source (Other)\"","v":"Chart A6 Revenue by Minor Source (Other)"},"A3"]
["Chart A7 ",{"$f":"A163&\"Expenditure by Major Type\"","v":"Chart A7 Expenditure by Major Type"},"A3"]
["Chart A8 ",{"$f":"A164&\"Expenditure by Minor Type (Other)\"","v":"Chart A8 Expenditure by Minor Type (Other)"},"A3"]
["Chart A9 ",{"$f":"A165&\"Capital Expenditure by Municipal Vote/Appropriation (Major)\"","v":"Chart A9 Capital Expenditure by Municipal Vote/Appropriation (Major)"},"A5"]
["Chart A10 ",{"$f":"A166&\"Capital Expenditure by Municipal Vote/Appropriation (Minor)\"","v":"Chart A10 Capital Expenditure by Municipal Vote/Appropriation (Minor)"},"A5"]
["Chart A11 ",{"$f":"A166&\"Capital Expenditure by Standard Classification\"","v":"Chart A10 Capital Expenditure by Standard Classification"},"A5"]
["Chart A12 ",{"$f":"A168&\"Capital expenditure performance trend\"","v":"Chart A12 Capital expenditure performance trend"},"A5"]
["Chart A13 ",{"$f":"A169&\"Capital funding by Source\"","v":"Chart A13 Capital funding by Source"},"A5"]
["Chart A14 ",{"$f":"A170&\"Cash flow trend\"","v":"Chart A14 Cash flow trend"},"A7"]
["Chart A15 ",{"$f":"A171&\"IDP Strategic Objective - Revenue\"","v":"Chart A15 IDP Strategic Objective - Revenue"},"Table A4"]
["Chart A16 ",{"$f":"A172&\"IDP Strategic Objective - Expenditure\"","v":"Chart A16 IDP Strategic Objective - Expenditure"},"Table A5"]
["Chart A17 ",{"$f":"A173&\"IDP Strategic Objective - Capital Expenditure\"","v":"Chart A17 IDP Strategic Objective - Capital Expenditure"},"Table A6"]
["Chart A18 ",{"$f":"A174&\"Debt (borrowing to Total Revenue)\"","v":"Chart A18 Debt (borrowing to Total Revenue)"},"Table A8"]
["Chart A19 ",{"$f":"A175&\"Debtors' trend analysis\"","v":"Chart A19 Debtors' trend analysis"},"Table A8"]
["Chart A20 ",{"$f":"A176&\"Distribution losses\"","v":"Chart A20 Distribution losses"},"Table A8"]
["Chart A21 ",{"$f":"A177&\"Borrowed funding of capital expenditure\"","v":"Chart A21 Borrowed funding of capital expenditure"},"Table A8"]
["Chart A22 ",{"$f":"A178&\"Expenditure analysis (% of Revenue)\"","v":"Chart A22 Expenditure analysis (% of Revenue)"},"Table A8"]
["Chart A23 ",{"$f":"A179&\"Increases in service charges\"","v":"Chart A23 Increases in service charges"},"Table A10"]

{"sheet":"Lookup and lists","index":3,"n_rows":308,"n_cols":30,"rows_kept":308,"cut":false,"hidden":true,"merged":[]}
["Description",2013,2014,2015,2016,2017,2018,2019,2020,2021,2022,2023,2024,2025,2026,null,"Lists",null,null,null,null,null,null,null,"Grants:","National - opex","Provincial - opex","National - capex","Provincial - capex"]
[{"$f":"'Template names'!C2","v":"Prior year -1"},{"$f":"B1-2&\"/\"&RIGHT(B1,2)-1","v":"2011/12"},"2012/13","2013/14","2014/15","2015/16","2016/17","2017/18","2018/19",{"$f":"J1-2&\"/\"&RIGHT(J1,2)-1","v":"2019/20"},"2020/21","2021/22","2022/23","2023/24","2024/25",null,"Yes","<1","<4","Market","Land & impr.","Yes","Uniform","Yrs",null,"Local Government Equitable Share","Health subsidy"," Municipal Infrastructure Grant (MIG)","Agriculture"]
[{"$f":"'Template names'!C3","v":"Prior year -2"},{"$f":"B1-3&\"/\"&RIGHT(B1,2)-2","v":"2010/11"},"2011/12","2012/13","2013/14","2014/15","2015/16","2016/17","2017/18",{"$f":"J1-3&\"/\"&RIGHT(J1,2)-2","v":"2018/19"},"2019/20","2020/21","2021/22","2022/23","2023/24",null,"No",1,4,"Dep.Replace","Land only","No","Variable","Mths",null,"RSC Levy Replacement ","Ambulance subsidy"," Public Transport and Systems","Education"]
[{"$f":"'Template names'!C4","v":"Prior year -3"},{"$f":"B1-4&\"/\"&RIGHT(B1,2)-3","v":"2009/10"},"2010/11","2011/12","2012/13","2013/14","2014/15","2015/16","2016/17",{"$f":"J1-4&\"/\"&RIGHT(J1,2)-3","v":"2017/18"},"2018/19","2019/20","2020/21","2021/22","2022/23",null,null,2,5,"Other","Other",null,null,null,null,"Finance Management ","Housing","Rural Transport Services and Infrastructure","Health"]
[{"$f":"'Template names'!C5","v":"Year in which budget is being prepared"},{"$f":"\"Current Year \"& B1-1&\"/\"&RIGHT(B1,2)","v":"Current Year 2012/13"},"Current Year 2013/14","Current Year 2014/15","Current Year 2015/16","Current Year 2016/17","Current Year 2017/18","Current Year 2018/19","Current Year 2019/20",{"$f":"\"Current Year \"& J1-1&\"/\"&RIGHT(J1,2)","v":"Current Year 2020/21"},"Current Year 2021/22","Current Year 2022/23","Current Year 2023/24","Current Year 2024/25","Current Year 2025/26",null,null,3,6,null,null,null,null,null,null,"Municipal Systems Improvement","Sport and Recreation","Regional Bulk Infrastructure","Housing and Local Government "]
[{"$f":"'Template names'!C6","v":"Year in which budget is being prepared"},{"$f":"B1-1&\"/\"&RIGHT(B1,2)","v":"2012/13"},"2013/14","2014/15","2015/16","2016/17","2017/18","2018/19","2019/20",{"$f":"J1-1&\"/\"&RIGHT(J1,2)","v":"2020/21"},"2021/22","2022/23","2023/24","2024/25","2025/26",null,null,4,"6-10",null,null,null,null,null,null,"Water Services Operating Subsidy ",null,"Rural Households Infrastructure ","Other Departments"]
[{"$f":"'Template names'!C7","v":"MTREF name"},{"$f":"B1&\"/\"&RIGHT(B1,2)+1&\" Medium Term Revenue & Expenditure Framework\"","v":"2013/14 Medium Term Revenue & Expenditure Framework"},"2014/15 Medium Term Revenue & Expenditure Framework","2015/16 Medium Term Revenue & Expenditure Framework","2016/17 Medium Term Revenue & Expenditure Framework","2017/18 Medium Term Revenue & Expenditure Framework","2018/19 Medium Term Revenue & Expenditure Framework","2019/20 Medium Term Revenue & Expenditure Framework","2020/21 Medium Term Revenue & Expenditure Framework",{"$f":"J1&\"/\"&RIGHT(J1,2)+1&\" Medium Term Revenue & Expenditure Framework\"","v":"2021/22 Medium Term Revenue & Expenditure Framework"},"2022/23 Medium Term Revenue & Expenditure Framework","2023/24 Medium Term Revenue & Expenditure Framework","2024/25 Medium Term Revenue & Expenditure Framework","2025/26 Medium Term Revenue & Expenditure Framework","2026/27 Medium Term Revenue & Expenditure Framework",null,null,5,">10",null,null,null,null,null,null,"Energy Efficiency  and Demand Management",null,"Neighbourhood Development Partnership","Public Works, Roads, Transport "]
[{"$f":"'Template names'!C15","v":"1st year of MTREF"},{"$f":"\"Budget Year \"&B1&\"/\"&RIGHT(B1,2)+1","v":"Budget Year 2013/14"},"Budget Year 2014/15","Budget Year 2015/16","Budget Year 2016/17","Budget Year 2017/18","Budget Year 2018/19","Budget Year 2019/20","Budget Year 2020/21",{"$f":"\"Budget Year \"&J1&\"/\"&RIGHT(J1,2)+1","v":"Budget Year 2021/22"},"Budget Year 2022/23","Budget Year 2023/24","Budget Year 2024/25","Budget Year 2025/26","Budget Year 2026/27",null,null,">5",null,null,null,null,null,null,null,"Integrated National Electrification Programme",null,"2010 FIFA World Cup Stadiums Development","Sport and Recreation"]
[{"$f":"'Template names'!C16","v":"2nd year of MTREF"},{"$f":"\"Budget Year +1 \"&B1+1&\"/\"&RIGHT(B1,2)+2","v":"Budget Year +1 2014/15"},"Budget Year +1 2015/16","Budget Year +1 2016/17","Budget Year +1 2017/18","Budget Year +1 2018/19","Budget Year +1 2019/20","Budget Year +1 2020/21","Budget Year +1 2021/22",{"$f":"\"Budget Year +1 \"&J1+1&\"/\"&RIGHT(J1,2)+2","v":"Budget Year +1 2022/23"},"Budget Year +1 2023/24","Budget Year +1 2024/25","Budget Year +1 2025/26","Budget Year +1 2026/27","Budget Year +1 2027/28",null,null,null,null,null,null,null,null,null,null,"Municipal Drought Relief "]
[{"$f":"'Template names'!C17","v":"3rd year of MTREF"},{"$f":"\"Budget Year +2 \"&B1+2&\"/\"&RIGHT(B1,2)+3","v":"Budget Year +2 2015/16"},"Budget Year +2 2016/17","Budget Year +2 2017/18","Budget Year +2 2018/19","Budget Year +2 2019/20","Budget Year +2 2020/21","Budget Year +2 2021/22","Budget Year +2 2022/23",{"$f":"\"Budget Year +2 \"&J1+2&\"/\"&RIGHT(J1,2)+3","v":"Budget Year +2 2023/24"},"Budget Year +2 2024/25","Budget Year +2 2025/26","Budget Year +2 2026/27","Budget Year +2 2027/28","Budget Year +2 2028/29",null,null,null,null,null,null,null,null,null,null,"2010 FIFA World Cup Operating"]
[{"$f":"'Template names'!C18","v":"1st yr of long term forecast"},{"$f":"\"Forecast \"&B1+3&\"/\"&RIGHT(B1,2)+4","v":"Forecast 2016/17"},"Forecast 2017/18","Forecast 2018/19","Forecast 2019/20","Forecast 2020/21","Forecast 2021/22","Forecast 2022/23","Forecast 2023/24",{"$f":"\"Forecast \"&J1+3&\"/\"&RIGHT(J1,2)+4","v":"Forecast 2024/25"},"Forecast 2025/26","Forecast 2026/27","Forecast 2027/28","Forecast 2028/29","Forecast 2029/30",null,null,null,null,null,null,null,null,null,null,"Electricity Demand Side Management"]
[{"$f":"'Template names'!C19","v":"Next yr of long term forecast"},{"$f":"\"Forecast \"&B1+4&\"/\"&RIGHT(B1,2)+5","v":"Forecast 2017/18"},"Forecast 2018/19","Forecast 2019/20","Forecast 2020/21","Forecast 2021/22","Forecast 2022/23","Forecast 2023/24","Forecast 2024/25",{"$f":"\"Forecast \"&J1+4&\"/\"&RIGHT(J1,2)+5","v":"Forecast 2025/26"},"Forecast 2026/27","Forecast 2027/28","Forecast 2028/29","Forecast 2029/30","Forecast 2030/31",null,null,null,null,null,null,null,null,null,null,"EPWP Incentive"]
[{"$f":"'Template names'!C20","v":"Next yr of long term forecast"},{"$f":"\"Forecast \"&B1+5&\"/\"&RIGHT(B1,2)+6","v":"Forecast 2018/19"},"Forecast 2019/20","Forecast 2020/21","Forecast 2021/22","Forecast 2022/23","Forecast 2023/24","Forecast 2024/25","Forecast 2025/26",{"$f":"\"Forecast \"&J1+5&\"/\"&RIGHT(J1,2)+6","v":"Forecast 2026/27"},"Forecast 2027/28","Forecast 2028/29","Forecast 2029/30","Forecast 2030/31","Forecast 2031/32"]
[{"$f":"'Template names'!C21","v":"Next yr of long term forecast"},{"$f":"\"Forecast \"&B1+6&\"/\"&RIGHT(B1,2)+7","v":"Forecast 2019/20"},"Forecast 2020/21","Forecast 2021/22","Forecast 2022/23","Forecast 2023/24","Forecast 2024/25","Forecast 2025/26","Forecast 2026/27",{"$f":"\"Forecast \"&J1+6&\"/\"&RIGHT(J1,2)+7","v":"Forecast 2027/28"},"Forecast 2028/29","Forecast 2029/30","Forecast 2030/31","Forecast 2031/32","Forecast 2032/33",null,null,null,null,null,null,null,null,null,null,"Asset Class","Asset sub-class old","Asset sub-class","IUDF","MTSF"]
[{"$f":"'Template names'!C22","v":"Next yr of long term forecast"},{"$f":"\"Forecast \"&B1+7&\"/\"&RIGHT(B1,2)+8","v":"Forecast 2020/21"},"Forecast 2021/22","Forecast 2022/23","Forecast 2023/24","Forecast 2024/25","Forecast 2025/26","Forecast 2026/27","Forecast 2027/28",{"$f":"\"Forecast \"&J1+7&\"/\"&RIGHT(J1,2)+8","v":"Forecast 2028/29"},"Forecast 2029/30","Forecast 2030/31","Forecast 2031/32","Forecast 2032/33","Forecast 2033/34"]
[{"$f":"'Template names'!C23","v":"Next yr of long term forecast"},{"$f":"\"Forecast \"&B1+8&\"/\"&RIGHT(B1,2)+9","v":"Forecast 2021/22"},"Forecast 2022/23","Forecast 2023/24","Forecast 2024/25","Forecast 2025/26","Forecast 2026/27","Forecast 2027/28","Forecast 2028/29",{"$f":"\"Forecast \"&J1+8&\"/\"&RIGHT(J1,2)+9","v":"Forecast 2029/30"},"Forecast 2030/31","Forecast 2031/32","Forecast 2032/33","Forecast 2033/34","Forecast 2034/35",null,null,null,null,null,null,null,null,null,null,"Roads Infrastructure","Roads, Pavements & Bridges","Roads","Spatial integration","Quality basic education"]
[{"$f":"'Template names'!C24","v":"Next yr of long term forecast"},{"$f":"\"Forecast \"&B1+9&\"/\"&RIGHT(B1,2)+10","v":"Forecast 2022/23"},"Forecast 2023/24","Forecast 2024/25","Forecast 2025/26","Forecast 2026/27","Forecast 2027/28","Forecast 2028/29","Forecast 2029/30",{"$f":"\"Forecast \"&J1+9&\"/\"&RIGHT(J1,2)+10","v":"Forecast 2030/31"},"Forecast 2031/32","Forecast 2032/33","Forecast 2033/34","Forecast 2034/35","Forecast 2035/36",null,null,null,null,null,null,null,null,null,null,"Storm water Infrastructure","Storm water","Road Structures","Inclusion and access","A long and healthy life for all South Africans"]
[{"$f":"'Template names'!C25","v":"Next yr of long term forecast"},{"$f":"\"Forecast \"&B1+10&\"/\"&RIGHT(B1,2)+11","v":"Forecast 2023/24"},"Forecast 2024/25","Forecast 2025/26","Forecast 2026/27","Forecast 2027/28","Forecast 2028/29","Forecast 2029/30","Forecast 2030/31",{"$f":"\"Forecast \"&J1+10&\"/\"&RIGHT(J1,2)+11","v":"Forecast 2031/32"},"Forecast 2032/33","Forecast 2033/34","Forecast 2034/35","Forecast 2035/36","Forecast 2036/37",null,null,null,null,null,null,null,null,null,null,"Electrical Infrastructure","Generation","Road Furniture","Growth","All people in South Africa are and feel safe"]
[{"$f":"'Template names'!C26","v":"Next yr of long term forecast"},{"$f":"\"Forecast \"&B1+11&\"/\"&RIGHT(B1,2)+12","v":"Forecast 2024/25"},"Forecast 2025/26","Forecast 2026/27","Forecast 2027/28","Forecast 2028/29","Forecast 2029/30","Forecast 2030/31","Forecast 2031/32",{"$f":"\"Forecast \"&J1+11&\"/\"&RIGHT(J1,2)+12","v":"Forecast 2032/33"},"Forecast 2033/34","Forecast 2034/35","Forecast 2035/36","Forecast 2036/37","Forecast 2037/38",null,null,null,null,null,null,null,null,null,null,"Water Supply Infrastructure","Transmission & Reticulation","Capital Spares","Governance","Decent employment through inclusive growth"]
[{"$f":"'Template names'!C27","v":"Next yr of long term forecast"},{"$f":"\"Forecast \"&B1+12&\"/\"&RIGHT(B1,2)+13","v":"Forecast 2025/26"},"Forecast 2026/27","Forecast 2027/28","Forecast 2028/29","Forecast 2029/30","Forecast 2030/31","Forecast 2031/32","Forecast 2032/33",{"$f":"\"Forecast \"&J1+12&\"/\"&RIGHT(J1,2)+13","v":"Forecast 2033/34"},"Forecast 2034/35","Forecast 2035/36","Forecast 2036/37","Forecast 2037/38","Forecast 2038/39",null,null,null,null,null,null,null,null,null,null,"Sanitation Infrastructure","Street Lighting","Drainage Collection",null,"A skilled and capable workforce to support an inclusive growth path"]
[{"$f":"'Template names'!C28","v":"Next yr of long term forecast"},{"$f":"\"Forecast \"&B1+13&\"/\"&RIGHT(B1,2)+14","v":"Forecast 2026/27"},"Forecast 2027/28","Forecast 2028/29","Forecast 2029/30","Forecast 2030/31","Forecast 2031/32","Forecast 2032/33","Forecast 2033/34",{"$f":"\"Forecast \"&J1+13&\"/\"&RIGHT(J1,2)+14","v":"Forecast 2034/35"},"Forecast 2035/36","Forecast 2036/37","Forecast 2037/38","Forecast 2038/39","Forecast 2039/40",null,null,null,null,null,null,null,null,null,null,"Solid Waste Infrastructure","Dams & Reservoirs","Storm water Conveyance",null,"An efficient, competitive and responsive economic infrastructure network"]
[{"$f":"'Template names'!C29","v":"Next yr of long term forecast"},{"$f":"\"Forecast \"&B1+14&\"/\"&RIGHT(B1,2)+15","v":"Forecast 2027/28"},"Forecast 2028/29","Forecast 2029/30","Forecast 2030/31","Forecast 2031/32","Forecast 2032/33","Forecast 2033/34","Forecast 2034/35",{"$f":"\"Forecast \"&J1+14&\"/\"&RIGHT(J1,2)+15","v":"Forecast 2035/36"},"Forecast 2036/37","Forecast 2037/38","Forecast 2038/39","Forecast 2039/40","Forecast 2040/41",null,null,null,null,null,null,null,null,null,null,"Rail Infrastructure","Water purification","Attenuation",null,"Vibrant, equitable, sustainable rural communities contributing towards food security for all"]
["Adjustments Budget",{"$f":"\"Annual target \" & B1&\"/\"&RIGHT(B1,2)+1","v":"Annual target 2013/14"},"Annual target 2014/15","Annual target 2015/16","Annual target 2016/17","Annual target 2017/18","Annual target 2018/19","Annual target 2019/20","Annual target 2020/21",{"$f":"\"Annual target \" & J1&\"/\"&RIGHT(J1,2)+1","v":"Annual target 2021/22"},"Annual target 2022/23","Annual target 2023/24","Annual target 2024/25","Annual target 2025/26","Annual target 2026/27",null,null,null,null,null,null,null,null,null,null,"Coastal Infrastructure","Reticulation","Power Plants",null,"Sustainable human settlements and improved quality of household life"]
[{"$f":"A23","v":"Adjustments Budget"},{"$f":"\"Revised target \"& B1&\"/\"&RIGHT(B1,2)+1","v":"Revised target 2013/14"},"Revised target 2014/15","Revised target 2015/16","Revised target 2016/17","Revised target 2017/18","Revised target 2018/19","Revised target 2019/20","Revised target 2020/21",{"$f":"\"Revised target \"& J1&\"/\"&RIGHT(J1,2)+1","v":"Revised target 2021/22"},"Revised target 2022/23","Revised target 2023/24","Revised target 2024/25","Revised target 2025/26","Revised target 2026/27",null,null,null,null,null,null,null,null,null,null,"Information and Communication Infrastructure","Sewerage purification","HV Substations",null,"Responsive, accountable, effective and efficient local government"]
["NOTE: This sheet should not be directly amended - select headings from sheet 'S'",null,null,null,null,null,null,null,null,null,null,null,null,null,null,null,null,null,null,null,null,null,null,null,null,"Community Facilities","Waste Management","HV Switching Station",null,"Protect and enhance our environmental assets and natural resources"]
[null,null,null,null,null,null,null,null,null,null,null,null,null,null,null,null,null,null,null,null,null,null,null,null,null,"Sport and Recreation Facilities","Transportation","HV Transmission Conductors",null,"Create a better South Africa and contribute to a better Africa and a better world"]
["Name link",273,null,null,null,null,null,null,null,null,null,null,null,null,null,null,null,null,null,null,null,null,null,null,null,"Heritage assets","Gas","MV Substations",null,"An efficient, effective and development-oriented public service"]
["Name of Muni",{"$f":"INDEX(B29:B307,B27,1)","v":0},null,null,null,null,null,null,null,null,null,null,null,null,null,null,null,null,null,null,null,null,null,null,null,"Revenue Generating","Parks & gardens","MV Switching Stations",null,"A comprehensive, responsive and sustainable social protection system"]
[null,"Choose name from list","Set name on 'Instructions' sheet",null,null,null,null,null,null,null,null,null,null,null,null,null,null,null,null,null,null,null,null,null,null,"Non-revenue Generating","Sportsfields & stadia","MV Networks",null,"A diverse, socially cohesive society with a common national identity"]
[null,"BUF Buffalo City","EC EASTERN CAPE",null,null,null,null,null,null,null,null,null,null,null,null,null,null,null,null,null,null,null,null,null,null,"Operational Buildings","Swimming pools","LV Networks"]
[null,"NMA Nelson Mandela Bay","EC EASTERN CAPE",null,null,null,null,null,null,null,null,null,null,null,null,null,null,null,null,null,null,null,null,null,null,"Housing","Community halls","Capital Spares"]
[null,"EC101 Dr Beyers Naude","EC EASTERN CAPE",null,null,null,null,null,null,null,null,null,null,null,null,null,null,null,null,null,null,null,null,null,null,"Biological or Cultivated Assets","Libraries","Dams and Weirs"]
[null,"EC102 Blue Crane Route","EC EASTERN CAPE",null,null,null,null,null,null,null,null,null,null,null,null,null,null,null,null,null,null,null,null,null,null,"Servitudes","Recreational facilities","Boreholes"]
[null,"EC104 Makana","EC EASTERN CAPE",null,null,null,null,null,null,null,null,null,null,null,null,null,null,null,null,null,null,null,null,null,null,"Licences and Rights","Fire, safety & emergency","Reservoirs"]
[null,"EC105 Ndlambe","EC EASTERN CAPE",null,null,null,null,null,null,null,null,null,null,null,null,null,null,null,null,null,null,null,null,null,null,"Computer Equipment","Security and policing","Pump Stations"]
[null,"EC106 Sundays River Valley","EC EASTERN CAPE",null,null,null,null,null,null,null,null,null,null,null,null,null,null,null,null,null,null,null,null,null,null,"Furniture and Office Equipment","Buses","Water Treatment Works"]
[null,"EC108 Kouga","EC EASTERN CAPE",null,null,null,null,null,null,null,null,null,null,null,null,null,null,null,null,null,null,null,null,null,null,"Machinery and Equipment","Clinics","Bulk Mains"]
[null,"EC109 Kou-Kamma","EC EASTERN CAPE",null,null,null,null,null,null,null,null,null,null,null,null,null,null,null,null,null,null,null,null,null,null,"Transport Assets","Museums & Art Galleries","Distribution"]
[null,"DC10 Sarah Baartman","EC EASTERN CAPE",null,null,null,null,null,null,null,null,null,null,null,null,null,null,null,null,null,null,null,null,null,null,"Land","Cemeteries","Distribution Points"]
[null,"EC121 Mbhashe","EC EASTERN CAPE",null,null,null,null,null,null,null,null,null,null,null,null,null,null,null,null,null,null,null,null,null,null,"Zoo's, Marine and Non-biological Animals","Social rental housing","PRV Stations"]
[null,"EC122 Mnquma","EC EASTERN CAPE",null,null,null,null,null,null,null,null,null,null,null,null,null,null,null,null,null,null,null,null,null,null,null,"Buildings","Capital Spares"]
[null,"EC123 Great Kei","EC EASTERN CAPE",null,null,null,null,null,null,null,null,null,null,null,null,null,null,null,null,null,null,null,null,null,null,null,"Housing development","Pump Station"]
[null,"EC124 Amahlathi","EC EASTERN CAPE",null,null,null,null,null,null,null,null,null,null,null,null,null,null,null,null,null,null,null,null,null,null,null,"General vehicles","Reticulation"]
[null,"EC126 Ngqushwa","EC EASTERN CAPE",null,null,null,null,null,null,null,null,null,null,null,null,null,null,null,null,null,null,null,null,null,null,null,"Specialised vehicles - Refuse","Waste Water Treatment Works"]
[null,"EC129 Raymond Mhlaba","EC EASTERN CAPE",null,null,null,null,null,null,null,null,null,null,null,null,null,null,null,null,null,null,null,null,null,null,null,"Specialised vehicles - Fire","Outfall Sewers"]
[null,"DC12 Amathole","EC EASTERN CAPE",null,null,null,null,null,null,null,null,null,null,null,null,null,null,null,null,null,null,null,null,null,null,null,"Specialised vehicles - Conservancy","Toilet Facilities"]
[null,"EC131 Inxuba Yethemba","EC EASTERN CAPE",null,null,null,null,null,null,null,null,null,null,null,null,null,null,null,null,null,null,null,null,null,null,null,"Specialised vehicles - Ambulances","Capital Spares"]
[null,"EC135 Intsika Yethu","EC EASTERN CAPE",null,null,null,null,null,null,null,null,null,null,null,null,null,null,null,null,null,null,null,null,null,null,null,"Plant & equipment","Landfill Sites"]
[null,"EC136 Emalahleni (Ec)","EC EASTERN CAPE",null,null,null,null,null,null,null,null,null,null,null,null,null,null,null,null,null,null,null,null,null,null,null,"Computers - hardware/equipment","Waste Transfer Stations"]
[null,"EC137 Engcobo","EC EASTERN CAPE",null,null,null,null,null,null,null,null,null,null,null,null,null,null,null,null,null,null,null,null,null,null,null,"Furniture and other office equipment","Waste Processing Facilities"]
[null,"EC138 Sakhisizwe","EC EASTERN CAPE",null,null,null,null,null,null,null,null,null,null,null,null,null,null,null,null,null,null,null,null,null,null,null,"Abattoirs","Waste Drop-off Points"]
[null,"EC139 Enoch Mgijima","EC EASTERN CAPE",null,null,null,null,null,null,null,null,null,null,null,null,null,null,null,null,null,null,null,null,null,null,null,"Markets","Waste Separation Facilities"]
[null,"DC13 Chris Hani","EC EASTERN CAPE",null,null,null,null,null,null,null,null,null,null,null,null,null,null,null,null,null,null,null,null,null,null,null,"Civic Land and Buildings","Electricity Generation Facilities"]
[null,"EC141 Elundini","EC EASTERN CAPE",null,null,null,null,null,null,null,null,null,null,null,null,null,null,null,null,null,null,null,null,null,null,null,"Other Buildings","Capital Spares"]
[null,"EC142 Senqu","EC EASTERN CAPE",null,null,null,null,null,null,null,null,null,null,null,null,null,null,null,null,null,null,null,null,null,null,null,"Other Land","Rail Lines"]
[null,"EC145 Walter Sisulu","EC EASTERN CAPE",null,null,null,null,null,null,null,null,null,null,null,null,null,null,null,null,null,null,null,null,null,null,null,"Surplus Assets - (Investment or Inventory)","Rail Structures"]
[null,"DC14 Joe Gqabi","EC EASTERN CAPE",null,null,null,null,null,null,null,null,null,null,null,null,null,null,null,null,null,null,null,null,null,null,null,"Computers - software & programming","Rail Furniture"]
[null,"EC153 Ngquza Hills","EC EASTERN CAPE",null,null,null,null,null,null,null,null,null,null,null,null,null,null,null,null,null,null,null,null,null,null,null,"Other","Drainage Collection"]
[null,"EC154 Port St Johns","EC EASTERN CAPE",null,null,null,null,null,null,null,null,null,null,null,null,null,null,null,null,null,null,null,null,null,null,null,null,"Storm water Conveyance"]
[null,"EC155 Nyandeni","EC EASTERN CAPE",null,null,null,null,null,null,null,null,null,null,null,null,null,null,null,null,null,null,null,null,null,null,"SA16 - Investments",null,"Attenuation"]
[null,"EC156 Mhlontlo","EC EASTERN CAPE",null,null,null,null,null,null,null,null,null,null,null,null,null,null,null,null,null,null,null,null,null,null,"Security","Interest rate","MV Substations"]
[null,"EC157 King Sabata Dalindyebo","EC EASTERN CAPE",null,null,null,null,null,null,null,null,null,null,null,null,null,null,null,null,null,null,null,null,null,null,"Yes","Fixed","LV Networks"]
[null,"DC15 O .R. Tambo","EC EASTERN CAPE",null,null,null,null,null,null,null,null,null,null,null,null,null,null,null,null,null,null,null,null,null,null,"No","Variable","Capital Spares"]
[null,"EC441 Matatiele","EC EASTERN CAPE",null,null,null,null,null,null,null,null,null,null,null,null,null,null,null,null,null,null,null,null,null,null,null,null,"Sand Pumps"]
[null,"EC442 Umzimvubu","EC EASTERN CAPE",null,null,null,null,null,null,null,null,null,null,null,null,null,null,null,null,null,null,null,null,null,null,null,null,"Piers"]
[null,"EC443 Winnie Madikizela Mandela","EC EASTERN CAPE",null,null,null,null,null,null,null,null,null,null,null,null,null,null,null,null,null,null,null,null,null,null,"SA36, SA37 - Capital projects",null,"Revetments"]
[null,"EC444 Ntabankulu","EC EASTERN CAPE",null,null,null,null,null,null,null,null,null,null,null,null,null,null,null,null,null,null,null,null,null,null,"Yes",null,"Promenades"]
[null,"DC44 Alfred Nzo","EC EASTERN CAPE",null,null,null,null,null,null,null,null,null,null,null,null,null,null,null,null,null,null,null,null,null,null,"No",null,"Capital Spares"]
[null,"MAN Mangaung","FS FREE STATE",null,null,null,null,null,null,null,null,null,null,null,null,null,null,null,null,null,null,null,null,null,null,null,null,"Data Centres"]
[null,"FS161 Letsemeng","FS FREE STATE",null,null,null,null,null,null,null,null,null,null,null,null,null,null,null,null,null,null,null,null,null,null,null,null,"Core Layers"]
[null,"FS162 Kopanong","FS FREE STATE",null,null,null,null,null,null,null,null,null,null,null,null,null,null,null,null,null,null,null,null,null,null,null,null,"Distribution Layers"]
[null,"FS163 Mohokare","FS FREE STATE",null,null,null,null,null,null,null,null,null,null,null,null,null,null,null,null,null,null,null,null,null,null,null,null,"Capital Spares"]
[null,"DC16 Xhariep","FS FREE STATE",null,null,null,null,null,null,null,null,null,null,null,null,null,null,null,null,null,null,null,null,null,null,null,null,"Halls"]
[null,"FS181 Masilonyana","FS FREE STATE",null,null,null,null,null,null,null,null,null,null,null,null,null,null,null,null,null,null,null,null,null,null,null,null,"Centres"]
[null,"FS182 Tokologo","FS FREE STATE",null,null,null,null,null,null,null,null,null,null,null,null,null,null,null,null,null,null,null,null,null,null,null,null,"Crèches"]
[null,"FS183 Tswelopele","FS FREE STATE",null,null,null,null,null,null,null,null,null,null,null,null,null,null,null,null,null,null,null,null,null,null,null,null,"Clinics/Care Centres"]
[null,"FS184 Matjhabeng","FS FREE STATE",null,null,null,null,null,null,null,null,null,null,null,null,null,null,null,null,null,null,null,null,null,null,null,null,"Fire/Ambulance Stations"]
[null,"FS185 Nala","FS FREE STATE",null,null,null,null,null,null,null,null,null,null,null,null,null,null,null,null,null,null,null,null,null,null,null,null,"Testing Stations"]
[null,"DC18 Lejweleputswa","FS FREE STATE",null,null,null,null,null,null,null,null,null,null,null,null,null,null,null,null,null,null,null,null,null,null,null,null,"Museums"]
[null,"FS191 Setsoto","FS FREE STATE",null,null,null,null,null,null,null,null,null,null,null,null,null,null,null,null,null,null,null,null,null,null,null,null,"Galleries"]
[null,"FS192 Dihlabeng","FS FREE STATE",null,null,null,null,null,null,null,null,null,null,null,null,null,null,null,null,null,null,null,null,null,null,null,null,"Theatres"]
[null,"FS193 Nketoana","FS FREE STATE",null,null,null,null,null,null,null,null,null,null,null,null,null,null,null,null,null,null,null,null,null,null,null,null,"Libraries"]
[null,"FS194 Maluti-a-Phofung","FS FREE STATE",null,null,null,null,null,null,null,null,null,null,null,null,null,null,null,null,null,null,null,null,null,null,null,null,"Cemeteries/Crematoria"]
[null,"FS195 Phumelela","FS FREE STATE",null,null,null,null,null,null,null,null,null,null,null,null,null,null,null,null,null,null,null,null,null,null,null,null,"Police"]
[null,"FS196 Mantsopa","FS FREE STATE",null,null,null,null,null,null,null,null,null,null,null,null,null,null,null,null,null,null,null,null,null,null,null,null,"Purls"]
[null,"DC19 Thabo Mofutsanyana","FS FREE STATE",null,null,null,null,null,null,null,null,null,null,null,null,null,null,null,null,null,null,null,null,null,null,null,null,"Public Open Space"]
[null,"FS201 Moqhaka","FS FREE STATE",null,null,null,null,null,null,null,null,null,null,null,null,null,null,null,null,null,null,null,null,null,null,null,null,"Nature Reserves"]
[null,"FS203 Ngwathe","FS FREE STATE",null,null,null,null,null,null,null,null,null,null,null,null,null,null,null,null,null,null,null,null,null,null,null,null,"Public Ablution Facilities"]
[null,"FS204 Metsimaholo","FS FREE STATE",null,null,null,null,null,null,null,null,null,null,null,null,null,null,null,null,null,null,null,null,null,null,null,null,"Markets"]
[null,"FS205 Mafube","FS FREE STATE",null,null,null,null,null,null,null,null,null,null,null,null,null,null,null,null,null,null,null,null,null,null,null,null,"Stalls"]
[null,"DC20 Fezile Dabi","FS FREE STATE",null,null,null,null,null,null,null,null,null,null,null,null,null,null,null,null,null,null,null,null,null,null,null,null,"Abattoirs"]
[null,"EKU City of Ekurhuleni","GT GAUTENG",null,null,null,null,null,null,null,null,null,null,null,null,null,null,null,null,null,null,null,null,null,null,null,null,"Airports"]
[null,"JHB City Of Johannesburg","GT GAUTENG",null,null,null,null,null,null,null,null,null,null,null,null,null,null,null,null,null,null,null,null,null,null,null,null,"Taxi Ranks/Bus Terminals"]
[null,"TSH City Of Tshwane","GT GAUTENG",null,null,null,null,null,null,null,null,null,null,null,null,null,null,null,null,null,null,null,null,null,null,null,null,"Capital Spares"]
[null,"GT421 Emfuleni","GT GAUTENG",null,null,null,null,null,null,null,null,null,null,null,null,null,null,null,null,null,null,null,null,null,null,null,null,"Indoor Facilities"]
[null,"GT422 Midvaal","GT GAUTENG",null,null,null,null,null,null,null,null,null,null,null,null,null,null,null,null,null,null,null,null,null,null,null,null,"Outdoor Facilities"]
[null,"GT423 Lesedi","GT GAUTENG",null,null,null,null,null,null,null,null,null,null,null,null,null,null,null,null,null,null,null,null,null,null,null,null,"Capital Spares"]
[null,"DC42 Sedibeng","GT GAUTENG",null,null,null,null,null,null,null,null,null,null,null,null,null,null,null,null,null,null,null,null,null,null,null,null,"Monuments"]
[null,"GT481 Mogale City","GT GAUTENG",null,null,null,null,null,null,null,null,null,null,null,null,null,null,null,null,null,null,null,null,null,null,null,null,"Historic Buildings"]
[null,"GT484 Merafong City","GT GAUTENG",null,null,null,null,null,null,null,null,null,null,null,null,null,null,null,null,null,null,null,null,null,null,null,null,"Works of Art"]
[null,"GT485 Rand West City","GT GAUTENG",null,null,null,null,null,null,null,null,null,null,null,null,null,null,null,null,null,null,null,null,null,null,null,null,"Conservation Areas"]
[null,"DC48 West Rand","GT GAUTENG",null,null,null,null,null,null,null,null,null,null,null,null,null,null,null,null,null,null,null,null,null,null,null,null,"Other Heritage"]
[null,"ETH eThekwini","KZN KWAZULU-NATAL",null,null,null,null,null,null,null,null,null,null,null,null,null,null,null,null,null,null,null,null,null,null,null,null,"Improved Property"]
[null,"KZN212 Umdoni","KZN KWAZULU-NATAL",null,null,null,null,null,null,null,null,null,null,null,null,null,null,null,null,null,null,null,null,null,null,null,null,"Unimproved Property"]
[null,"KZN213 Umzumbe","KZN KWAZULU-NATAL",null,null,null,null,null,null,null,null,null,null,null,null,null,null,null,null,null,null,null,null,null,null,null,null,"Municipal Offices"]
[null,"KZN214 uMuziwabantu","KZN KWAZULU-NATAL",null,null,null,null,null,null,null,null,null,null,null,null,null,null,null,null,null,null,null,null,null,null,null,null,"Pay/Enquiry Points"]
[null,"KZN216 Ray Nkonyeni","KZN KWAZULU-NATAL",null,null,null,null,null,null,null,null,null,null,null,null,null,null,null,null,null,null,null,null,null,null,null,null,"Building Plan Offices"]
[null,"DC21 Ugu","KZN KWAZULU-NATAL",null,null,null,null,null,null,null,null,null,null,null,null,null,null,null,null,null,null,null,null,null,null,null,null,"Workshops"]
[null,"KZN221 uMshwathi","KZN KWAZULU-NATAL",null,null,null,null,null,null,null,null,null,null,null,null,null,null,null,null,null,null,null,null,null,null,null,null,"Yards"]
[null,"KZN222 uMngeni","KZN KWAZULU-NATAL",null,null,null,null,null,null,null,null,null,null,null,null,null,null,null,null,null,null,null,null,null,null,null,null,"Stores"]
[null,"KZN223 Mpofana","KZN KWAZULU-NATAL",null,null,null,null,null,null,null,null,null,null,null,null,null,null,null,null,null,null,null,null,null,null,null,null,"Laboratories"]
[null,"KZN224 Impendle","KZN KWAZULU-NATAL",null,null,null,null,null,null,null,null,null,null,null,null,null,null,null,null,null,null,null,null,null,null,null,null,"Training Centres"]
[null,"KZN225 Msunduzi","KZN KWAZULU-NATAL",null,null,null,null,null,null,null,null,null,null,null,null,null,null,null,null,null,null,null,null,null,null,null,null,"Manufacturing Plant"]
[null,"KZN226 Mkhambathini","KZN KWAZULU-NATAL",null,null,null,null,null,null,null,null,null,null,null,null,null,null,null,null,null,null,null,null,null,null,null,null,"Depots"]
[null,"KZN227 Richmond","KZN KWAZULU-NATAL",null,null,null,null,null,null,null,null,null,null,null,null,null,null,null,null,null,null,null,null,null,null,null,null,"Capital Spares"]
[null,"DC22 uMgungundlovu","KZN KWAZULU-NATAL",null,null,null,null,null,null,null,null,null,null,null,null,null,null,null,null,null,null,null,null,null,null,null,null,"Staff Housing"]
[null,"KZN235 Okhahlamba","KZN KWAZULU-NATAL",null,null,null,null,null,null,null,null,null,null,null,null,null,null,null,null,null,null,null,null,null,null,null,null,"Social Housing"]
[null,"KZN237 Inkosi Langalibalele","KZN KWAZULU-NATAL",null,null,null,null,null,null,null,null,null,null,null,null,null,null,null,null,null,null,null,null,null,null,null,null,"Capital Spares"]
[null,"KZN238 Alfred Duma","KZN KWAZULU-NATAL",null,null,null,null,null,null,null,null,null,null,null,null,null,null,null,null,null,null,null,null,null,null,null,null,"Water Rights"]
[null,"DC23 Uthukela","KZN KWAZULU-NATAL",null,null,null,null,null,null,null,null,null,null,null,null,null,null,null,null,null,null,null,null,null,null,null,null,"Effluent Licenses"]
[null,"KZN241 Endumeni","KZN KWAZULU-NATAL",null,null,null,null,null,null,null,null,null,null,null,null,null,null,null,null,null,null,null,null,null,null,null,null,"Solid Waste Licenses"]
[null,"KZN242 Nquthu","KZN KWAZULU-NATAL",null,null,null,null,null,null,null,null,null,null,null,null,null,null,null,null,null,null,null,null,null,null,null,null,"Computer Software and Applications"]
[null,"KZN244 Msinga","KZN KWAZULU-NATAL",null,null,null,null,null,null,null,null,null,null,null,null,null,null,null,null,null,null,null,null,null,null,null,null,"Load Settlement Software Applications"]
[null,"KZN245 Umvoti","KZN KWAZULU-NATAL",null,null,null,null,null,null,null,null,null,null,null,null,null,null,null,null,null,null,null,null,null,null,null,null,"Unspecified"]
[null,"DC24 Umzinyathi","KZN KWAZULU-NATAL"]
[null,"KZN252 Newcastle","KZN KWAZULU-NATAL"]
[null,"KZN253 Emadlangeni","KZN KWAZULU-NATAL"]
[null,"KZN254 Dannhauser","KZN KWAZULU-NATAL"]
[null,"DC25 Amajuba","KZN KWAZULU-NATAL"]
[null,"KZN261 eDumbe","KZN KWAZULU-NATAL"]
[null,"KZN262 uPhongolo","KZN KWAZULU-NATAL"]
[null,"KZN263 Abaqulusi","KZN KWAZULU-NATAL"]
[null,"KZN265 Nongoma","KZN KWAZULU-NATAL"]
[null,"KZN266 Ulundi","KZN KWAZULU-NATAL"]
[null,"DC26 Zululand","KZN KWAZULU-NATAL"]
[null,"KZN271 Umhlabuyalingana","KZN KWAZULU-NATAL"]
[null,"KZN272 Jozini","KZN KWAZULU-NATAL"]
[null,"KZN275 Mtubatuba","KZN KWAZULU-NATAL"]
[null,"KZN276 Hlabisa Big Five","KZN KWAZULU-NATAL"]
[null,"DC27 Umkhanyakude","KZN KWAZULU-NATAL"]
[null,"KZN281 Mfolozi","KZN KWAZULU-NATAL"]
[null,"KZN282 uMhlathuze","KZN KWAZULU-NATAL"]
[null,"KZN284 uMlalazi","KZN KWAZULU-NATAL"]
[null,"KZN285 Mthonjaneni","KZN KWAZULU-NATAL"]
[null,"KZN286 Nkandla","KZN KWAZULU-NATAL"]
[null,"DC28 King Cetshwayo","KZN KWAZULU-NATAL"]
[null,"KZN291 Mandeni","KZN KWAZULU-NATAL"]
[null,"KZN292 KwaDukuza","KZN KWAZULU-NATAL"]
[null,"KZN293 Ndwedwe","KZN KWAZULU-NATAL"]
[null,"KZN294 Maphumulo","KZN KWAZULU-NATAL"]
[null,"DC29 iLembe","KZN KWAZULU-NATAL"]
[null,"KZN433 Greater Kokstad","KZN KWAZULU-NATAL"]
[null,"KZN434 Ubuhlebezwe","KZN KWAZULU-NATAL"]
[null,"KZN435 Umzimkhulu","KZN KWAZULU-NATAL"]
[null,"KZN436 Dr Nkosazana Dlamini Zuma","KZN KWAZULU-NATAL"]
[null,"DC43 Harry Gwala","KZN KWAZULU-NATAL"]
[null,"LIM331 Greater Giyani","LIM LIMPOPO"]
[null,"LIM332 Greater Letaba","LIM LIMPOPO"]
[null,"LIM333 Greater Tzaneen","LIM LIMPOPO"]
[null,"LIM334 Ba-Phalaborwa","LIM LIMPOPO"]
[null,"LIM335 Maruleng","LIM LIMPOPO"]
[null,"DC33 Mopani","LIM LIMPOPO"]
[null,"LIM341 Musina","LIM LIMPOPO"]
[null,"LIM343 Thulamela","LIM LIMPOPO"]
[null,"LIM344 Makhado","LIM LIMPOPO"]
[null,"LIM345 Collins Chabane","LIM LIMPOPO"]
[null,"DC34 Vhembe","LIM LIMPOPO"]
[null,"LIM351 Blouberg","LIM LIMPOPO"]
[null,"LIM353 Molemole","LIM LIMPOPO"]
[null,"LIM354 Polokwane","LIM LIMPOPO"]
[null,"LIM355 Lepelle-Nkumpi","LIM LIMPOPO"]
[null,"DC35 Capricorn","LIM LIMPOPO"]
[null,"LIM361 Thabazimbi","LIM LIMPOPO"]
[null,"LIM362 Lephalale","LIM LIMPOPO"]
[null,"LIM366 Bela Bela","LIM LIMPOPO"]
[null,"LIM367 Mogalakwena","LIM LIMPOPO"]
[null,"LIM368 Modimolle-Mookgopong","LIM LIMPOPO"]
[null,"DC36 Waterberg","LIM LIMPOPO"]
[null,"LIM471 Ephraim Mogale","LIM LIMPOPO"]
[null,"LIM472 Elias Motsoaledi","LIM LIMPOPO"]
[null,"LIM473 Makhuduthamaga","LIM LIMPOPO"]
[null,"LIM476 Tubatse Fetakgomo","LIM LIMPOPO"]
[null,"DC47 Sekhukhune","LIM LIMPOPO"]
[null,"MP301 Albert Luthuli","MP MPUMALANGA"]
[null,"MP302 Msukaligwa","MP MPUMALANGA"]
[null,"MP303 Mkhondo","MP MPUMALANGA"]
[null,"MP304 Pixley Ka Seme (MP)","MP MPUMALANGA"]
[null,"MP305 Lekwa","MP MPUMALANGA"]
[null,"MP306 Dipaleseng","MP MPUMALANGA"]
[null,"MP307 Govan Mbeki","MP MPUMALANGA"]
[null,"DC30 Gert Sibande","MP MPUMALANGA"]
[null,"MP311 Victor Khanye","MP MPUMALANGA"]
[null,"MP312 Emalahleni (Mp)","MP MPUMALANGA"]
[null,"MP313 Steve Tshwete","MP MPUMALANGA"]
[null,"MP314 Emakhazeni","MP MPUMALANGA"]
[null,"MP315 Thembisile Hani","MP MPUMALANGA"]
[null,"MP316 Dr J.S. Moroka","MP MPUMALANGA"]
[null,"DC31 Nkangala","MP MPUMALANGA"]
[null,"MP321 Thaba Chweu","MP MPUMALANGA"]
[null,"MP324 Nkomazi","MP MPUMALANGA"]
[null,"MP325 Bushbuckridge","MP MPUMALANGA"]
[null,"MP326 City of Mbombela","MP MPUMALANGA"]
[null,"DC32 Ehlanzeni","MP MPUMALANGA"]
[null,"NC451 Joe Morolong","NC NORTHERN CAPE"]
[null,"NC452 Ga-Segonyana","NC NORTHERN CAPE"]
[null,"NC453 Gamagara","NC NORTHERN CAPE"]
[null,"DC45 John Taolo Gaetsewe","NC NORTHERN CAPE"]
[null,"NC061 Richtersveld","NC NORTHERN CAPE"]
[null,"NC062 Nama Khoi","NC NORTHERN CAPE"]
[null,"NC064 Kamiesberg","NC NORTHERN CAPE"]
[null,"NC065 Hantam","NC NORTHERN CAPE"]
[null,"NC066 Karoo Hoogland","NC NORTHERN CAPE"]
[null,"NC067 Khai-Ma","NC NORTHERN CAPE"]
[null,"DC6 Namakwa","NC NORTHERN CAPE"]
[null,"NC071 Ubuntu","NC NORTHERN CAPE"]
[null,"NC072 Umsobomvu","NC NORTHERN CAPE"]
[null,"NC073 Emthanjeni","NC NORTHERN CAPE"]
[null,"NC074 Kareeberg","NC NORTHERN CAPE"]
[null,"NC075 Renosterberg","NC NORTHERN CAPE"]
[null,"NC076 Thembelihle","NC NORTHERN CAPE"]
[null,"NC077 Siyathemba","NC NORTHERN CAPE"]
[null,"NC078 Siyancuma","NC NORTHERN CAPE"]
[null,"DC7 Pixley Ka Seme (Nc)","NC NORTHERN CAPE"]
[null,"NC082 !Kai! Garib","NC NORTHERN CAPE"]
[null,"NC084 !Kheis","NC NORTHERN CAPE"]
[null,"NC085 Tsantsabane","NC NORTHERN CAPE"]
[null,"NC086 Kgatelopele","NC NORTHERN CAPE"]
[null,"NC087 Dawid Kruiper","NC NORTHERN CAPE"]
[null,"DC8 Z F Mgcawu","NC NORTHERN CAPE"]
[null,"NC091 Sol Plaatje","NC NORTHERN CAPE"]
[null,"NC092 Dikgatlong","NC NORTHERN CAPE"]
[null,"NC093 Magareng","NC NORTHERN CAPE"]
[null,"NC094 Phokwane","NC NORTHERN CAPE"]
[null,"DC9 Frances Baard","NC NORTHERN CAPE"]
[null,"NW371 Moretele","NW NORTH WEST"]
[null,"NW372 Madibeng","NW NORTH WEST"]
[null,"NW373 Rustenburg","NW NORTH WEST"]
[null,"NW374 Kgetlengrivier","NW NORTH WEST"]
[null,"NW375 Moses Kotane","NW NORTH WEST"]
[null,"DC37 Bojanala Platinum","NW NORTH WEST"]
[null,"NW381 Ratlou","NW NORTH WEST"]
[null,"NW382 Tswaing","NW NORTH WEST"]
[null,"NW383 Mafikeng","NW NORTH WEST"]
[null,"NW384 Ditsobotla","NW NORTH WEST"]
[null,"NW385 Ramotshere Moiloa","NW NORTH WEST"]
[null,"DC38 Ngaka Modiri Molema","NW NORTH WEST"]
[null,"NW392 Naledi (Nw)","NW NORTH WEST"]
[null,"NW393 Mamusa","NW NORTH WEST"]
[null,"NW394 Greater Taung","NW NORTH WEST"]
[null,"NW396 Lekwa-Teemane","NW NORTH WEST"]
[null,"NW397 Kagisano-Molopo","NW NORTH WEST"]
[null,"DC39 Dr Ruth Segomotsi Mompati","NW NORTH WEST"]
[null,"NW403 City Of Matlosana","NW NORTH WEST"]
[null,"NW404 Maquassi Hills","NW NORTH WEST"]
[null,"NW405 J B Marks","NW NORTH WEST"]
[null,"DC40 Dr Kenneth Kaunda","NW NORTH WEST"]
[null,"CPT Cape Town","WC WESTERN CAPE"]
[null,"WC011 Matzikama","WC WESTERN CAPE"]
[null,"WC012 Cederberg","WC WESTERN CAPE"]
[null,"WC013 Bergrivier","WC WESTERN CAPE"]
[null,"WC014 Saldanha Bay","WC WESTERN CAPE"]
[null,"WC015 Swartland","WC WESTERN CAPE"]
[null,"DC1 West Coast","WC WESTERN CAPE"]
[null,"WC022 Witzenberg","WC WESTERN CAPE"]
[null,"WC023 Drakenstein","WC WESTERN CAPE"]
[null,"WC024 Stellenbosch","WC WESTERN CAPE"]
[null,"WC025 Breede Valley","WC WESTERN CAPE"]
[null,"WC026 Langeberg","WC WESTERN CAPE"]
[null,"DC2 Cape Winelands DM","WC WESTERN CAPE"]
[null,"WC031 Theewaterskloof","WC WESTERN CAPE"]
[null,"WC032 Overstrand","WC WESTERN CAPE"]
[null,"WC033 Cape Agulhas","WC WESTERN CAPE"]
[null,"WC034 Swellendam","WC WESTERN CAPE"]
[null,"DC3 Overberg","WC WESTERN CAPE"]
[null,"WC041 Kannaland","WC WESTERN CAPE"]
[null,"WC042 Hessequa","WC WESTERN CAPE"]
[null,"WC043 Mossel Bay","WC WESTERN CAPE"]
[null,"WC044 George","WC WESTERN CAPE"]
[null,"WC045 Oudtshoorn","WC WESTERN CAPE"]
[null,"WC047 Bitou","WC WESTERN CAPE"]
[null,"WC048 Knysna","WC WESTERN CAPE"]
[null,"DC4 Garden Route","WC WESTERN CAPE"]
[null,"WC051 Laingsburg","WC WESTERN CAPE"]
[null,"WC052 Prince Albert","WC WESTERN CAPE"]
[null,"WC053 Beaufort West","WC WESTERN CAPE"]
[null,"DC5 Central Karoo","WC WESTERN CAPE"]
[]
[]
[]
[]
[]
[]
[]
[]
[]
[]
[]
[]
[]
[]
[]
[]
[]
[]
[]
[]
[]
[null,{"$f":"COUNTA(B30:B307)","v":257}]

{"sheet":"Org structure","index":4,"n_rows":166,"n_cols":5,"rows_kept":166,"cut":false,"hidden":false,"merged":[]}
["Organisational Structure Votes",null,"Organisational Structure Sub-Votes",null,"Display Sub-Votes"]
["Vote 1 - City Manager","Vote 1","City Manager"]
["Vote 2 - City Finance",1.1000000000000001,"Internal Audit and Compliance",{"$f":"CONCATENATE(B3, \" - \", C3)","v":"1,1 - Internal Audit and Compliance"},"1.1 - Internal Audit and Compliance"]
["Vote 3 - Corporate Services",1.2,"Office of the City Manager","1,2 - Office of the City Manager","1.2 - Office of the City Manager"]
["Vote 4 - Community Services and Social Equity",1.3,"Political Support","1,3 - Political Support","1.3 - Political Support"]
["Vote 5 - Infrastructure Services",1.4,"Strategic Planning","1,4 - Strategic Planning","1.4 - Strategic Planning"]
["Vote 6 - Sustainable Development and City Enterprises",1.5,"[Name of sub-vote]","1.5 - [Name of sub-vote]"]
["Vote 7 - Electricity",1.6,"[Name of sub-vote]","1.6 - [Name of sub-vote]"]
[{"$f":"B79&\" - \"&C79","v":"Vote 8 - [NAME OF VOTE 8]"},1.7,"[Name of sub-vote]","1.7 - [Name of sub-vote]"]
[{"$f":"B90&\" - \"&C90","v":"Vote 9 - [NAME OF VOTE 9]"},1.8,"[Name of sub-vote]","1.8 - [Name of sub-vote]"]
[{"$f":"B101&\" - \"&C101","v":"Vote 10 - [NAME OF VOTE 10]"},1.9,"[Name of sub-vote]","1.9 - [Name of sub-vote]"]
[{"$f":"B112&\" - \"&C112","v":"Vote 11 - [NAME OF VOTE 11]"},"1.10","[Name of sub-vote]","1.10 - [Name of sub-vote]"]
[{"$f":"B123&\" - \"&C123","v":"Vote 12 - [NAME OF VOTE 12]"},"Vote 2","City Finance"]
[{"$f":"B134&\" - \"&C134","v":"Vote 13 - [NAME OF VOTE 13]"},2.1,"Asset Management",{"$f":"CONCATENATE(B14, \" - \", C14)","v":"2,1 - Asset Management"},"2.1 - Asset Management"]
[{"$f":"B145&\" - \"&C145","v":"Vote 14 - [NAME OF VOTE 14]"},2.2000000000000002,"Budget and Treasury Management","2,2 - Budget and Treasury Management","2.2 - Budget and Treasury Management"]
[{"$f":"B156&\" - \"&C156","v":"Vote 15 - [NAME OF VOTE 15]"},2.2999999999999998,"Expenditure Management","2,3 - Expenditure Management","2.3 - Expenditure Management"]
[null,2.4,"Revenue Management","2,4 - Revenue Management","2.4 - Revenue Management"]
[null,2.5,"Supply Chain Management","2,5 - Supply Chain Management","2.5 - Supply Chain Management"]
[null,2.6,"[Name of sub-vote]","2.6 - [Name of sub-vote]"]
[null,2.7,"[Name of sub-vote]","2.7 - [Name of sub-vote]"]
[null,2.8,"[Name of sub-vote]","2.8 - [Name of sub-vote]"]
[null,2.9,"[Name of sub-vote]","2.9 - [Name of sub-vote]"]
[null,"2.10","[Name of sub-vote]","2.10 - [Name of sub-vote]"]
[null,"Vote 3","Corporate Services"]
[null,3.1,"Human Resources Management",{"$f":"CONCATENATE(B25, \" - \", C25)","v":"3,1 - Human Resources Management"},"Corporate Services"]
[null,3.2,"Information Technology","3,2 - Information Technology","Human Resources Management"]
[null,3.3,"Legal Services","3,3 - Legal Services","Information Technology"]
[null,3.4,"Secretariat and Auxiliary Services","3,4 - Secretariat and Auxiliary Services","Legal Services"]
[null,3.5,"General Manager: Corporate Service","3,5 - General Manager: Corporate Service","Secretariat and Auxiliary Services"]
[null,3.6,"[Name of sub-vote]","3.6 - [Name of sub-vote]","General Manager: Corporate Service"]
[null,3.7,"[Name of sub-vote]","3.7 - [Name of sub-vote]"]
[null,3.8,"[Name of sub-vote]","3.8 - [Name of sub-vote]"]
[null,3.9,"[Name of sub-vote]","3.9 - [Name of sub-vote]"]
[null,"3.10","[Name of sub-vote]","3.10 - [Name of sub-vote]"]
[null,"Vote 4","Community Services and Social Equity"]
[null,4.0999999999999996,"Area Based Management ",{"$f":"CONCATENATE(B36, \" - \", C36)","v":"4,1 - Area Based Management "},"4.1 - Area Based Management "]
[null,4.2,"Public Safety, Emergency Services and Enforcement","4,2 - Public Safety, Emergency Services and Enforcement","4.2 - Public Safety, Emergency Services and Enforcement"]
[null,4.3,"Recreation and Facilities","4,3 - Recreation and Facilities","4.3 - Recreation and Facilities"]
[null,4.4000000000000004,"Waste Management","4,4 - Waste Management","4.4 - Waste Management"]
[null,4.5,"[Name of sub-vote]","4.5 - [Name of sub-vote]"]
[null,4.5999999999999996,"[Name of sub-vote]","4.6 - [Name of sub-vote]"]
[null,4.7,"[Name of sub-vote]","4.7 - [Name of sub-vote]"]
[null,4.8,"[Name of sub-vote]","4.8 - [Name of sub-vote]"]
[null,4.9000000000000004,"[Name of sub-vote]","4.9 - [Name of sub-vote]"]
[null,"4.10","[Name of sub-vote]","4.10 - [Name of sub-vote]"]
[null,"Vote 5","Infrastructure Services"]
[null,5.0999999999999996,"Project Management Office",{"$f":"CONCATENATE(B47, \" - \", C47)","v":"5,1 - Project Management Office"},"5.1 - Project Management Office"]
[null,5.2,"Roads and Transportation","5,2 - Roads and Transportation","5.2 - Roads and Transportation"]
[null,5.3,"Water and Sanitation","5,3 - Water and Sanitation","5.3 - Water and Sanitation"]
[null,5.4,"General Manager: Infrastructure ","5,4 - General Manager: Infrastructure ","5.4 - General Manager: Infrastructure "]
[null,5.5,"[Name of sub-vote]","5.5 - [Name of sub-vote]"]
[null,5.6,"[Name of sub-vote]","5.6 - [Name of sub-vote]"]
[null,5.7,"[Name of sub-vote]","5.7 - [Name of sub-vote]"]
[null,5.8,"[Name of sub-vote]","5.8 - [Name of sub-vote]"]
[null,5.9,"[Name of sub-vote]","5.9 - [Name of sub-vote]"]
[null,"5.10","[Name of sub-vote]","5.10 - [Name of sub-vote]"]
[null,"Vote 6","Sustainable Development and City Enterprises"]
[null,6.1,"City Entities",{"$f":"CONCATENATE(B58, \" - \", C58)","v":"6,1 - City Entities"},"6.1 - City Entities"]
[null,6.2,"Development Services","6,2 - Development Services","6.2 - Development Services"]
[null,6.3,"Human Settlement Development","6,3 - Human Settlement Development","6.3 - Human Settlement Development"]
[null,6.4,"Town Planning","6,4 - Town Planning","6.4 - Town Planning"]
[null,6.5,"General Manager: Sustainable Development and City Enterprises","6,5 - General Manager: Sustainable Development and City Enterprises","6.5 - General Manager: Sustainable Development and City Enterprises"]
[null,6.6,"[Name of sub-vote]","6.6 - [Name of sub-vote]"]
[null,6.7,"[Name of sub-vote]","6.7 - [Name of sub-vote]"]
[null,6.8,"[Name of sub-vote]","6.8 - [Name of sub-vote]"]
[null,6.9,"[Name of sub-vote]","6.9 - [Name of sub-vote]"]
[null,"6.10","[Name of sub-vote]","6.10 - [Name of sub-vote]"]
[null,"Vote 7","Electricity"]
[null,7.1,"Electricity planning",{"$f":"CONCATENATE(B69, \" - \", C69)","v":"7,1 - Electricity planning"},"7.1 Electricity planning"]
[null,7.2,"Methods and Standards","7,2 - Methods and Standards","7.2 Methods and Standards"]
[null,7.3,"Operations and Maintenance","7,3 - Operations and Maintenance","7.3 Operations and Maintenance"]
[null,7.4,"Revenue Management","7,4 - Revenue Management","7.4 Revenue Management"]
[null,7.5,"General Manager Electricity","7,5 - General Manager Electricity","7.5 General Manager Electricity"]
[null,7.6,"[Name of sub-vote]","7.6 - [Name of sub-vote]"]
[null,7.7,"[Name of sub-vote]","7.7 - [Name of sub-vote]"]
[null,7.8,"[Name of sub-vote]","7.8 - [Name of sub-vote]"]
[null,7.9,"[Name of sub-vote]","7.9 - [Name of sub-vote]"]
[null,"7.10","[Name of sub-vote]","7.10 - [Name of sub-vote]"]
[null,"Vote 8","[NAME OF VOTE 8]"]
[null,8.1,"[Name of sub-vote]",{"$f":"CONCATENATE(B80, \" - \", C80)","v":"8.1 - [Name of sub-vote]"},"8.1 - [Name of sub-vote]"]
[null,8.1999999999999993,"[Name of sub-vote]","8.2 - [Name of sub-vote]"]
[null,8.3000000000000007,"[Name of sub-vote]","8.3 - [Name of sub-vote]"]
[null,8.4,"[Name of sub-vote]","8.4 - [Name of sub-vote]"]
[null,8.5,"[Name of sub-vote]","8.5 - [Name of sub-vote]"]
[null,8.6,"[Name of sub-vote]","8.6 - [Name of sub-vote]"]
[null,8.6999999999999993,"[Name of sub-vote]","8.7 - [Name of sub-vote]"]
[null,8.8000000000000007,"[Name of sub-vote]","8.8 - [Name of sub-vote]"]
[null,8.9,"[Name of sub-vote]","8.9 - [Name of sub-vote]"]
[null,"8.10","[Name of sub-vote]","8.10 - [Name of sub-vote]"]
[null,"Vote 9","[NAME OF VOTE 9]"]
[null,9.1,"[Name of sub-vote]",{"$f":"CONCATENATE(B91, \" - \", C91)","v":"9.1 - [Name of sub-vote]"},"9.1 - [Name of sub-vote]"]
[null,9.1999999999999993,"[Name of sub-vote]","9.2 - [Name of sub-vote]"]
[null,9.3000000000000007,"[Name of sub-vote]","9.3 - [Name of sub-vote]"]
[null,9.4,"[Name of sub-vote]","9.4 - [Name of sub-vote]"]
[null,9.5,"[Name of sub-vote]","9.5 - [Name of sub-vote]"]
[null,9.6,"[Name of sub-vote]","9.6 - [Name of sub-vote]"]
[null,9.6999999999999993,"[Name of sub-vote]","9.7 - [Name of sub-vote]"]
[null,9.8000000000000007,"[Name of sub-vote]","9.8 - [Name of sub-vote]"]
[null,9.9,"[Name of sub-vote]","9.9 - [Name of sub-vote]"]
[null,"9.10","[Name of sub-vote]","9.10 - [Name of sub-vote]"]
[null,"Vote 10","[NAME OF VOTE 10]"]
[null,10.1,"[Name of sub-vote]",{"$f":"CONCATENATE(B102, \" - \", C102)","v":"10.1 - [Name of sub-vote]"},"10.1 - [Name of sub-vote]"]
[null,10.199999999999999,"[Name of sub-vote]","10.2 - [Name of sub-vote]"]
[null,10.3,"[Name of sub-vote]","10.3 - [Name of sub-vote]"]
[null,10.4,"[Name of sub-vote]","10.4 - [Name of sub-vote]"]
[null,10.5,"[Name of sub-vote]","10.5 - [Name of sub-vote]"]
[null,10.6,"[Name of sub-vote]","10.6 - [Name of sub-vote]"]
[null,10.7,"[Name of sub-vote]","10.7 - [Name of sub-vote]"]
[null,10.8,"[Name of sub-vote]","10.8 - [Name of sub-vote]"]
[null,10.9,"[Name of sub-vote]","10.9 - [Name of sub-vote]"]
[null,"10.10","[Name of sub-vote]","10.10 - [Name of sub-vote]"]
[null,"Vote 11","[NAME OF VOTE 11]"]
[null,11.1,"[Name of sub-vote]",{"$f":"CONCATENATE(B113, \" - \", C113)","v":"11.1 - [Name of sub-vote]"},"11.1 - [Name of sub-vote]"]
[null,11.2,"[Name of sub-vote]","11.2 - [Name of sub-vote]"]
[null,11.3,"[Name of sub-vote]","11.3 - [Name of sub-vote]"]
[null,11.4,"[Name of sub-vote]","11.4 - [Name of sub-vote]"]
[null,11.5,"[Name of sub-vote]","11.5 - [Name of sub-vote]"]
[null,11.6,"[Name of sub-vote]","11.6 - [Name of sub-vote]"]
[null,11.7,"[Name of sub-vote]","11.7 - [Name of sub-vote]"]
[null,11.8,"[Name of sub-vote]","11.8 - [Name of sub-vote]"]
[null,11.9,"[Name of sub-vote]","11.9 - [Name of sub-vote]"]
[null,"11.10","[Name of sub-vote]","11.10 - [Name of sub-vote]"]
[null,"Vote 12","[NAME OF VOTE 12]"]
[null,12.1,"[Name of sub-vote]",{"$f":"CONCATENATE(B124, \" - \", C124)","v":"12.1 - [Name of sub-vote]"},"12.1 - [Name of sub-vote]"]
[null,12.2,"[Name of sub-vote]","12.2 - [Name of sub-vote]"]
[null,12.3,"[Name of sub-vote]","12.3 - [Name of sub-vote]"]
[null,12.4,"[Name of sub-vote]","12.4 - [Name of sub-vote]"]
[null,12.5,"[Name of sub-vote]","12.5 - [Name of sub-vote]"]
[null,12.6,"[Name of sub-vote]","12.6 - [Name of sub-vote]"]
[null,12.7,"[Name of sub-vote]","12.7 - [Name of sub-vote]"]
[null,12.8,"[Name of sub-vote]","12.8 - [Name of sub-vote]"]
[null,12.9,"[Name of sub-vote]","12.9 - [Name of sub-vote]"]
[null,"12.10","[Name of sub-vote]","12.10 - [Name of sub-vote]"]
[null,"Vote 13","[NAME OF VOTE 13]"]
[null,13.1,"[Name of sub-vote]",{"$f":"CONCATENATE(B135, \" - \", C135)","v":"13.1 - [Name of sub-vote]"},"13.1 - [Name of sub-vote]"]
[null,13.2,"[Name of sub-vote]","13.2 - [Name of sub-vote]"]
[null,13.3,"[Name of sub-vote]","13.3 - [Name of sub-vote]"]
[null,13.4,"[Name of sub-vote]","13.4 - [Name of sub-vote]"]
[null,13.5,"[Name of sub-vote]","13.5 - [Name of sub-vote]"]
[null,13.6,"[Name of sub-vote]","13.6 - [Name of sub-vote]"]
[null,13.7,"[Name of sub-vote]","13.7 - [Name of sub-vote]"]
[null,13.8,"[Name of sub-vote]","13.8 - [Name of sub-vote]"]
[null,13.9,"[Name of sub-vote]","13.9 - [Name of sub-vote]"]
[null,"13.10","[Name of sub-vote]","13.10 - [Name of sub-vote]"]
[null,"Vote 14","[NAME OF VOTE 14]"]
[null,14.1,"[Name of sub-vote]",{"$f":"CONCATENATE(B146, \" - \", C146)","v":"14.1 - [Name of sub-vote]"},"14.1 - [Name of sub-vote]"]
[null,14.2,"[Name of sub-vote]","14.2 - [Name of sub-vote]"]
[null,14.3,"[Name of sub-vote]","14.3 - [Name of sub-vote]"]
[null,14.4,"[Name of sub-vote]","14.4 - [Name of sub-vote]"]
[null,14.5,"[Name of sub-vote]","14.5 - [Name of sub-vote]"]
[null,14.6,"[Name of sub-vote]","14.6 - [Name of sub-vote]"]
[null,14.7,"[Name of sub-vote]","14.7 - [Name of sub-vote]"]
[null,14.8,"[Name of sub-vote]","14.8 - [Name of sub-vote]"]
[null,14.9,"[Name of sub-vote]","14.9 - [Name of sub-vote]"]
[null,"14.10","[Name of sub-vote]","14.10 - [Name of sub-vote]"]
[null,"Vote 15","[NAME OF VOTE 15]"]
[null,15.1,"[Name of sub-vote]",{"$f":"CONCATENATE(B157, \" - \", C157)","v":"15.1 - [Name of sub-vote]"},"15.1 - [Name of sub-vote]"]
[null,15.2,"[Name of sub-vote]","15.2 - [Name of sub-vote]"]
[null,15.3,"[Name of sub-vote]","15.3 - [Name of sub-vote]"]
[null,15.4,"[Name of sub-vote]","15.4 - [Name of sub-vote]"]
[null,15.5,"[Name of sub-vote]","15.5 - [Name of sub-vote]"]
[null,15.6,"[Name of sub-vote]","15.6 - [Name of sub-vote]"]
[null,15.7,"[Name of sub-vote]","15.7 - [Name of sub-vote]"]
[null,15.8,"[Name of sub-vote]","15.8 - [Name of sub-vote]"]
[null,15.9,"[Name of sub-vote]","15.9 - [Name of sub-vote]"]
[null,"15.10","[Name of sub-vote]","15.10 - [Name of sub-vote]"]

{"sheet":"Contacts","index":5,"n_rows":140,"n_cols":3,"rows_kept":140,"cut":false,"hidden":false,"merged":[[132,0,132,1],[132,2,132,3],[76,0,76,1],[57,0,57,1],[76,2,76,3],[92,2,92,3],[67,2,67,3],[124,0,124,1],[124,2,124,3],[116,0,116,1],[116,2,116,3],[108,0,108,1],[108,2,108,3],[100,0,100,1],[58,2,58,3],[84,0,84,1],[84,2,84,3],[30,2,30,3],[29,2,29,3],[48,0,48,1],[100,2,100,3],[39,2,39,3],[48,2,48,3],[57,2,57,3],[92,0,92,1],[39,0,39,1],[7,2,7,3],[13,0,13,1],[29,0,29,1],[10,2,10,3],[12,2,12,3]]}
[{"$f":"muni&\" - \"&\" Contact Information\"","v":"0 -  Contact Information"}]
[]
["A. GENERAL INFORMATION"]
["Municipality",{"$f":"muni","v":0},{"$f":"IF(B4=\"Choose name from List\",\"Set name on 'Instructions' sheet\", \"\")","v":""}]
[]
["Grade",null,"1 Grade in terms of the Remuneration of Public Office Bearers Act."]
[]
["Province",{"$f":"IF(B4>\" \",VLOOKUP(B4,'Lookup and lists'!B29:C307,2, FALSE),\" \")","v":" "}]
[]
["Web Address"]
[]
["e-mail Address"]
[]
["B. CONTACT INFORMATION"]
["Postal address:"]
["P.O. Box"]
["City / Town"]
["Postal Code"]
[]
["Street address"]
["Building"]
["Street No. & Name"]
["City / Town"]
["Postal Code"]
[]
["General Contacts"]
["Telephone number"]
["Fax number"]
[]
["C. POLITICAL LEADERSHIP"]
["Speaker:",null,"Secretary/PA to the Speaker:"]
["ID Number",null,"ID Number"]
["Title",null,"Title"]
["Name",null,"Name"]
["Telephone number",null,"Telephone number"]
["Cell number",null,"Cell number"]
["Fax number",null,"Fax number"]
["E-mail address",null,"E-mail address"]
[]
["Mayor/Executive Mayor:",null,"Secretary/PA to the Mayor/Executive Mayor:"]
["ID Number",null,"ID Number"]
["Title",null,"Title"]
["Name",null,"Name"]
["Telephone number",null,"Telephone number"]
["Cell number",null,"Cell number"]
["Fax number",null,"Fax number"]
["E-mail address",null,"E-mail address"]
[]
["Deputy Mayor/Executive Mayor:",null,"Secretary/PA to the Deputy Mayor/Executive Mayor:"]
["ID Number",null,"ID Number"]
["Title",null,"Title"]
["Name",null,"Name"]
["Telephone number",null,"Telephone number"]
["Cell number",null,"Cell number"]
["Fax number",null,"Fax number"]
["E-mail address",null,"E-mail address"]
[]
["D. MANAGEMENT LEADERSHIP"]
["Municipal Manager:",null,"Secretary/PA to the Municipal Manager:"]
["ID Number",null,"ID Number"]
["Title",null,"Title"]
["Name",null,"Name"]
["Telephone number",null,"Telephone number"]
["Cell number",null,"Cell number"]
["Fax number",null,"Fax number"]
["E-mail address",null,"E-mail address"]
[]
["Chief Financial Officer",null,"Secretary/PA to the Chief Financial Officer"]
["ID Number",null,"ID Number"]
["Title",null,"Title"]
["Name","","Name"]
["Telephone number",null,"Telephone number"]
["Cell number",null,"Cell number"]
["Fax number",null,"Fax number"]
["E-mail address",null,"E-mail address"]
[]
["Official responsible for submitting financial information",null,"Official responsible for submitting financial information"]
["ID Number",null,"ID Number"]
["Title",null,"Title"]
["Name",null,"Name"]
["Telephone number",null,"Telephone number"]
["Cell number",null,"Cell number"]
["Fax number",null,"Fax number"]
["E-mail address",null,"E-mail address"]
["Official responsible for submitting financial information",null,"Official responsible for submitting financial information"]
["ID Number",null,"ID Number"]
["Title",null,"Title"]
["Name",null,"Name"]
["Telephone number",null,"Telephone number"]
["Cell number",null,"Cell number"]
["Fax number",null,"Fax number"]
["E-mail address",null,"E-mail address"]
["Official responsible for submitting financial information",null,"Official responsible for submitting financial information"]
["ID Number",null,"ID Number"]
["Title",null,"Title"]
["Name",null,"Name"]
["Telephone number",null,"Telephone number"]
["Cell number",null,"Cell number"]
["Fax number",null,"Fax number"]
["E-mail address",null,"E-mail address"]
["Official responsible for submitting financial information",null,"Official responsible for submitting financial information"]
["ID Number",null,"ID Number"]
["Title",null,"Title"]
["Name",null,"Name"]
["Telephone number",null,"Telephone number"]
["Cell number",null,"Cell number"]
["Fax number",null,"Fax number"]
["E-mail address",null,"E-mail address"]
["Official responsible for submitting financial information",null,"Official responsible for submitting financial information"]
["ID Number",null,"ID Number"]
["Title",null,"Title"]
["Name",null,"Name"]
["Telephone number",null,"Telephone number"]
["Cell number",null,"Cell number"]
["Fax number",null,"Fax number"]
["E-mail address",null,"E-mail address"]
["Official responsible for submitting financial information",null,"Official responsible for submitting financial information"]
["ID Number",null,"ID Number"]
["Title",null,"Title"]
["Name",null,"Name"]
["Telephone number",null,"Telephone number"]
["Cell number",null,"Cell number"]
["Fax number",null,"Fax number"]
["E-mail address",null,"E-mail address"]
["Official responsible for submitting financial information",null,"Official responsible for submitting financial information"]
["ID Number",null,"ID Number"]
["Title",null,"Title"]
["Name",null,"Name"]
["Telephone number",null,"Telephone number"]
["Cell number",null,"Cell number"]
["Fax number",null,"Fax number"]
["E-mail address",null,"E-mail address"]
["Official responsible for submitting financial information"]
["ID Number"]
["Title"]
["Name"]
["Telephone number"]
["Cell number"]
["Fax number"]
["E-mail address"]

{"sheet":"A1-Sum","index":6,"n_rows":61,"n_cols":11,"rows_kept":61,"cut":false,"hidden":false,"merged":[[1,8,1,10],[1,4,1,7],[0,0,0,2]]}
[{"$f":"muni&\" - \"&Approve1","v":"0 - Table A1 Budget Summary"}]
[{"$f":"desc","v":"Description"},{"$f":"head1b","v":"2019/20"},{"$f":"head1A","v":"2020/21"},{"$f":"Head1","v":"2021/22"},{"$f":"Head2","v":"Current Year 2022/23"},null,null,null,{"$f":"Head3","v":"2023/24 Medium Term Revenue & Expenditure Framework"}]
["R thousands",{"$f":"Head5","v":"Audited Outcome"},{"$f":"Head5","v":"Audited Outcome"},{"$f":"Head5","v":"Audited Outcome"},{"$f":"Head6","v":"Original Budget"},{"$f":"Head7","v":"Adjusted Budget"},{"$f":"Head8","v":"Full Year Forecast"},{"$f":"Head5b","v":"Pre-audit outcome"},{"$f":"Head9","v":"Budget Year 2023/24"},{"$f":"Head10","v":"Budget Year +1 2024/25"},{"$f":"Head11","v":"Budget Year +2 2025/26"}]
["Financial Performance"]
["Property rates",{"$f":"'A4-FinPerf RE'!C21","v":1177107606},{"$f":"'A4-FinPerf RE'!D21","v":1232330305},{"$f":"'A4-FinPerf RE'!E21","v":1211348604},{"$f":"'A4-FinPerf RE'!F21","v":1427088861.3507991},{"$f":"'A4-FinPerf RE'!G21","v":1427088861.3507991},{"$f":"'A4-FinPerf RE'!H21","v":1427088861.3507991},{"$f":"'A4-FinPerf RE'!I21","v":0},{"$f":"'A4-FinPerf RE'!J21","v":1526985081.6338},{"$f":"'A4-FinPerf RE'!K21","v":1601807350.6338601},{"$f":"'A4-FinPerf RE'!L21","v":1677092296.1136501}]
["Service charges",{"$f":"SUM('A4-FinPerf RE'!C6:C9)","v":3104466759},{"$f":"SUM('A4-FinPerf RE'!D6:D9)","v":3206751663},{"$f":"SUM('A4-FinPerf RE'!E6:E9)","v":3619669817},{"$f":"SUM('A4-FinPerf RE'!F6:F9)","v":4306994214.6571569},{"$f":"SUM('A4-FinPerf RE'!G6:G9)","v":4306994214.6571569},{"$f":"SUM('A4-FinPerf RE'!H6:H9)","v":4306994214.6571569},{"$f":"SUM('A4-FinPerf RE'!I6:I9)","v":0},{"$f":"SUM('A4-FinPerf RE'!J6:J9)","v":5135631234.4884996},{"$f":"SUM('A4-FinPerf RE'!K6:K9)","v":5819379973.5967875},{"$f":"SUM('A4-FinPerf RE'!L6:L9)","v":6693474808.1543846}]
["Investment revenue",{"$f":"'A4-FinPerf RE'!C14","v":0},{"$f":"'A4-FinPerf RE'!D14","v":8455919},{"$f":"'A4-FinPerf RE'!E14","v":10535026},{"$f":"'A4-FinPerf RE'!F14","v":0},{"$f":"'A4-FinPerf RE'!G14","v":0},{"$f":"'A4-FinPerf RE'!H14","v":0},{"$f":"'A4-FinPerf RE'!I14","v":0},{"$f":"'A4-FinPerf RE'!J14","v":18052025.281800002},{"$f":"'A4-FinPerf RE'!K14","v":19225406.925117001},{"$f":"'A4-FinPerf RE'!L14","v":20494283.782174725}]
["Transfer and subsidies - Operational",{"$f":"'A4-FinPerf RE'!C25","v":637128044},{"$f":"'A4-FinPerf RE'!D25","v":757425720},{"$f":"'A4-FinPerf RE'!E25","v":681737625},{"$f":"'A4-FinPerf RE'!F25","v":855842084.72000003},{"$f":"'A4-FinPerf RE'!G25","v":800708693.91999996},{"$f":"'A4-FinPerf RE'!H25","v":800708693.91999996},{"$f":"'A4-FinPerf RE'!I25","v":0},{"$f":"'A4-FinPerf RE'!J25","v":838135150},{"$f":"'A4-FinPerf RE'!K25","v":906229405},{"$f":"'A4-FinPerf RE'!L25","v":982611448}]
["Other own revenue",{"$f":"'A4-FinPerf RE'!C32-SUM(B5:B8)","v":568411169},{"$f":"'A4-FinPerf RE'!D32-SUM(C5:C8)","v":335392036},{"$f":"'A4-FinPerf RE'!E32-SUM(D5:D8)","v":330421548},{"$f":"'A4-FinPerf RE'!F32-SUM(E5:E8)","v":460845100.72691441},{"$f":"'A4-FinPerf RE'!G32-SUM(F5:F8)","v":460845100.72691345},{"$f":"'A4-FinPerf RE'!H32-SUM(G5:G8)","v":460845100.72691345},{"$f":"'A4-FinPerf RE'!I32-SUM(H5:H8)","v":0},{"$f":"'A4-FinPerf RE'!J32-SUM(I5:I8)","v":601922633.85635948},{"$f":"'A4-FinPerf RE'!K32-SUM(J5:J8)","v":634943668.84142399},{"$f":"'A4-FinPerf RE'!L32-SUM(K5:K8)","v":664786021.963974}]
[{"$f":"'A4-FinPerf RE'!A32","v":"Total Revenue (excluding capital transfers and contributions)"},{"$f":"SUM(B5:B9)","v":5487113578},{"$f":"SUM(C5:C9)","v":5540355643},5853712620,7050770261.4548702,6995636870.6548691,6995636870.6548691,0,8120726125.2604589,8981585804.9971886,10038458858.014183]
["Employee costs",{"$f":"'A4-FinPerf RE'!C34","v":1345486985},{"$f":"'A4-FinPerf RE'!D34","v":1418425769},{"$f":"'A4-FinPerf RE'!E34","v":1494486747},{"$f":"'A4-FinPerf RE'!F34","v":1579699178.3249986},{"$f":"'A4-FinPerf RE'!G34","v":1621248373.1299989},{"$f":"'A4-FinPerf RE'!H34","v":1621248373.1299989},{"$f":"'A4-FinPerf RE'!I34","v":0},{"$f":"'A4-FinPerf RE'!J34","v":1793148355},{"$f":"'A4-FinPerf RE'!K34","v":1856685849},{"$f":"'A4-FinPerf RE'!L34","v":1927749152.9999998}]
["Remuneration of councillors",{"$f":"'A4-FinPerf RE'!C35","v":43759322},{"$f":"'A4-FinPerf RE'!D35","v":51641246},{"$f":"'A4-FinPerf RE'!E35","v":49529446},{"$f":"'A4-FinPerf RE'!F35","v":59431217.939999998},{"$f":"'A4-FinPerf RE'!G35","v":59431217.939999998},{"$f":"'A4-FinPerf RE'!H35","v":59431217.939999998},{"$f":"'A4-FinPerf RE'!I35","v":0},{"$f":"'A4-FinPerf RE'!J35","v":62699934.989999995},{"$f":"'A4-FinPerf RE'!K35","v":65521432.064549997},{"$f":"'A4-FinPerf RE'!L35","v":68469896.507454708}]
["Depreciation and amortisation",{"$f":"'A4-FinPerf RE'!C39","v":417614094},{"$f":"'A4-FinPerf RE'!D39","v":372532037},{"$f":"'A4-FinPerf RE'!E39","v":366625069},{"$f":"'A4-FinPerf RE'!F39","v":441964212.52200043},{"$f":"'A4-FinPerf RE'!G39","v":441737790.63000011},{"$f":"'A4-FinPerf RE'!H39","v":441737790.63000011},{"$f":"'A4-FinPerf RE'!I39","v":0},{"$f":"'A4-FinPerf RE'!J39","v":461615984},{"$f":"'A4-FinPerf RE'!K39","v":482388711},{"$f":"'A4-FinPerf RE'!L39","v":504096199}]
["Finance charges",{"$f":"'A4-FinPerf RE'!C40","v":43716970},{"$f":"'A4-FinPerf RE'!D40","v":35856007},{"$f":"'A4-FinPerf RE'!E40","v":26915534},{"$f":"'A4-FinPerf RE'!F40","v":94217139.016199991},{"$f":"'A4-FinPerf RE'!G40","v":52038518.889999993},{"$f":"'A4-FinPerf RE'!H40","v":52038518.889999993},{"$f":"'A4-FinPerf RE'!I40","v":0},{"$f":"'A4-FinPerf RE'!J40","v":40400879.723359942},{"$f":"'A4-FinPerf RE'!K40","v":42218920.588025153},{"$f":"'A4-FinPerf RE'!L40","v":44118763.824688859}]
["Inventory consumed and bulk purchases",{"$f":"'A4-FinPerf RE'!C36+'A4-FinPerf RE'!C37","v":2548288188},{"$f":"'A4-FinPerf RE'!D36+'A4-FinPerf RE'!D37","v":2717562620},{"$f":"'A4-FinPerf RE'!E36+'A4-FinPerf RE'!E37","v":3034560771},{"$f":"'A4-FinPerf RE'!F36+'A4-FinPerf RE'!F37","v":3071509197.2146616},{"$f":"'A4-FinPerf RE'!G36+'A4-FinPerf RE'!G37","v":3142581197.8575001},{"$f":"'A4-FinPerf RE'!H36+'A4-FinPerf RE'!H37","v":3142581197.8575001},{"$f":"'A4-FinPerf RE'!I36+'A4-FinPerf RE'!I37","v":0},{"$f":"'A4-FinPerf RE'!J36+'A4-FinPerf RE'!J37","v":3484629036},{"$f":"'A4-FinPerf RE'!K36+'A4-FinPerf RE'!K37","v":4085009865.9999995},{"$f":"'A4-FinPerf RE'!L36+'A4-FinPerf RE'!L37","v":4592887779.999999}]
["Transfers and subsidies",{"$f":"'A4-FinPerf RE'!C42","v":25306678},{"$f":"'A4-FinPerf RE'!D42","v":16870305},{"$f":"'A4-FinPerf RE'!E42","v":19995785},{"$f":"'A4-FinPerf RE'!F42","v":63469171.499117002},{"$f":"'A4-FinPerf RE'!G42","v":53651931.489999987},{"$f":"'A4-FinPerf RE'!H42","v":53651931.489999987},{"$f":"'A4-FinPerf RE'!I42","v":0},{"$f":"'A4-FinPerf RE'!J42","v":51023535.286639996},{"$f":"'A4-FinPerf RE'!K42","v":53395331.347425342},{"$f":"'A4-FinPerf RE'!L42","v":55899093.667858809}]
["Other expenditure",{"$f":"'A4-FinPerf RE'!C47-SUM(B11:B16)","v":1269274936.999999},{"$f":"'A4-FinPerf RE'!D47-SUM(C11:C16)","v":1371114676},{"$f":"'A4-FinPerf RE'!E47-SUM(D11:D16)","v":1957306065},{"$f":"'A4-FinPerf RE'!F47-SUM(E11:E16)","v":1144656776.7217312},{"$f":"'A4-FinPerf RE'!G47-SUM(F11:F16)","v":1252521227.4104996},{"$f":"'A4-FinPerf RE'!H47-SUM(G11:G16)","v":1252521227.4104996},{"$f":"'A4-FinPerf RE'!I47-SUM(H11:H16)","v":0},{"$f":"'A4-FinPerf RE'!J47-SUM(I11:I16)","v":1810270070},{"$f":"'A4-FinPerf RE'!K47-SUM(J11:J16)","v":1902008433},{"$f":"'A4-FinPerf RE'!L47-SUM(K11:K16)","v":1990472071.999999}]
[{"$f":"'A4-FinPerf RE'!A47","v":"Total Expenditure"},{"$f":"SUM(B11:B17)","v":5693447173.999999},{"$f":"SUM(C11:C17)","v":5984002660},6949419417,6454946893.2387085,6623210257.3479986,6623210257.3479986,0,7703787795,8487228543,9183692958]
[{"$f":"'A4-FinPerf RE'!A48","v":"Surplus/(Deficit)"},{"$f":"B10-B18","v":-206333595.99999905},{"$f":"C10-C18","v":-443647017},-1095706797,595823368.21616173,372426613.30687046,372426613.30687046,0,416938330.26045895,494357261.99718857,854765900.01418304]
[{"$f":"'A4-FinPerf RE'!A49","v":"Transfers and subsidies - capital (monetary allocations)"},{"$f":"'A4-FinPerf RE'!C49","v":430113749},{"$f":"'A4-FinPerf RE'!D49","v":498603417},{"$f":"'A4-FinPerf RE'!E49","v":368724617},{"$f":"'A4-FinPerf RE'!F49","v":446431108.87},{"$f":"'A4-FinPerf RE'!G49","v":437597241.95100003},{"$f":"'A4-FinPerf RE'!H49","v":437597241.95100003},{"$f":"'A4-FinPerf RE'!I49","v":0},{"$f":"'A4-FinPerf RE'!J49","v":448700054.94999999},{"$f":"'A4-FinPerf RE'!K49","v":321309343.19999999},{"$f":"'A4-FinPerf RE'!L49","v":327881560}]
[{"$f":"'A4-FinPerf RE'!A50","v":"Transfers and subsidies - capital (in-kind)"},{"$f":"'A4-FinPerf RE'!C50","v":0},{"$f":"'A4-FinPerf RE'!D50","v":0},{"$f":"'A4-FinPerf RE'!E50","v":0},{"$f":"'A4-FinPerf RE'!F50","v":0},{"$f":"'A4-FinPerf RE'!G50","v":0},{"$f":"'A4-FinPerf RE'!H50","v":0},{"$f":"'A4-FinPerf RE'!I50","v":0},{"$f":"'A4-FinPerf RE'!J50","v":0},{"$f":"'A4-FinPerf RE'!K50","v":0},{"$f":"'A4-FinPerf RE'!L50","v":0}]
[{"$f":"'A4-FinPerf RE'!A51","v":"Surplus/(Deficit) after capital transfers & contributions"},{"$f":"B19+SUM(B20:B21)","v":223780153.00000095},{"$f":"C19+SUM(C20:C21)","v":54956400},-726982180,1042254477.0861617,810023855.25787044,810023855.25787044,0,865638385.21045899,815666605.19718862,1182647460.014183]
[{"$f":"'A4-FinPerf RE'!A57","v":"Share of Surplus/Deficit attributable to Associate"},{"$f":"'A4-FinPerf RE'!C57","v":0},{"$f":"'A4-FinPerf RE'!D57","v":0},{"$f":"'A4-FinPerf RE'!E57","v":0},{"$f":"'A4-FinPerf RE'!F57","v":0},{"$f":"'A4-FinPerf RE'!G57","v":0},{"$f":"'A4-FinPerf RE'!H57","v":0},{"$f":"'A4-FinPerf RE'!I57","v":0},{"$f":"'A4-FinPerf RE'!J57","v":0},{"$f":"'A4-FinPerf RE'!K57","v":0},{"$f":"'A4-FinPerf RE'!L57","v":0}]
[{"$f":"'A4-FinPerf RE'!A59","v":"Surplus/(Deficit) for the year"},{"$f":"B22+B23","v":223780153.00000095},{"$f":"C22+C23","v":54956400},-726982180,1042254477.0861617,810023855.25787044,810023855.25787044,0,865638385.21045899,815666605.19718862,1182647460.014183]
["Capital expenditure & funds sources"]
["Capital expenditure",{"$f":"'A5-Capex'!C63","v":479854918.75999987},{"$f":"'A5-Capex'!D63","v":685931270.08999991},{"$f":"'A5-Capex'!E63","v":521826748.73000014},{"$f":"'A5-Capex'!F63","v":835918464.87},{"$f":"'A5-Capex'!G63","v":526984994.04499996},{"$f":"'A5-Capex'!H63","v":526984994.04499996},{"$f":"'A5-Capex'!I63","v":0},{"$f":"'A5-Capex'!J63","v":768760054},{"$f":"'A5-Capex'!K63","v":581309343.20000005},{"$f":"'A5-Capex'!L63","v":447881560}]
["Transfers recognised - capital",{"$f":"'A5-Capex'!C70","v":389132125},{"$f":"'A5-Capex'!D70","v":563995119.71000004},{"$f":"'A5-Capex'!E70","v":312721147.32000005},{"$f":"'A5-Capex'!F70","v":445961108.87},{"$f":"'A5-Capex'!G70","v":437597241.95099998},{"$f":"'A5-Capex'!H70","v":437597241.95099998},{"$f":"'A5-Capex'!I70","v":0},{"$f":"'A5-Capex'!J70","v":448700054.94999999},{"$f":"'A5-Capex'!K70","v":321309343.19999999},{"$f":"'A5-Capex'!L70","v":327881560}]
[]
[{"$f":"'A5-Capex'!A72","v":"Borrowing"},{"$f":"'A5-Capex'!C72","v":4229818.17},{"$f":"'A5-Capex'!D72","v":0},{"$f":"'A5-Capex'!E72","v":49400541.770000003},{"$f":"'A5-Capex'!F72","v":300000000},{"$f":"'A5-Capex'!G72","v":0},{"$f":"'A5-Capex'!H72","v":0},{"$f":"'A5-Capex'!I72","v":0},{"$f":"'A5-Capex'!J72","v":200000000},{"$f":"'A5-Capex'!K72","v":150000000},{"$f":"'A5-Capex'!L72","v":0}]
[{"$f":"'A5-Capex'!A73","v":"Internally generated funds"},{"$f":"'A5-Capex'!C73","v":86493279},{"$f":"'A5-Capex'!D73","v":121936150.38000003},{"$f":"'A5-Capex'!E73","v":159705059.64000008},{"$f":"'A5-Capex'!F73","v":89957356},{"$f":"'A5-Capex'!G73","v":89387752.093999997},{"$f":"'A5-Capex'!H73","v":89387752.093999997},{"$f":"'A5-Capex'!I73","v":0},{"$f":"'A5-Capex'!J73","v":120059999.04999995},{"$f":"'A5-Capex'!K73","v":110000000},{"$f":"'A5-Capex'!L73","v":120000000}]
["Total sources of capital funds",{"$f":"+B27+B29+B30","v":479855222.17000002},{"$f":"+C27+C29+C30","v":685931270.09000003},521826748.73000014,835918464.87,526984994.04499996,526984994.04499996,0,768760054,581309343.20000005,447881560]
["Financial position"]
[{"$f":"'A6-FinPos'!A13","v":"Total current assets"},{"$f":"'A6-FinPos'!C13","v":2052804436},{"$f":"'A6-FinPos'!D13","v":2488537592},{"$f":"'A6-FinPos'!E13","v":2535747948},{"$f":"'A6-FinPos'!F13","v":2090047368.5655217},{"$f":"'A6-FinPos'!G13","v":2930349833.4794683},{"$f":"'A6-FinPos'!H13","v":2930349833.4794683},{"$f":"'A6-FinPos'!I13","v":4390532032.9409761},{"$f":"'A6-FinPos'!J13","v":2928028759.6362319},{"$f":"'A6-FinPos'!K13","v":3082794193.4629617},{"$f":"'A6-FinPos'!L13","v":3461674856.057405}]
[{"$f":"'A6-FinPos'!A25","v":"Total non current assets"},{"$f":"'A6-FinPos'!C25","v":7787361578},{"$f":"'A6-FinPos'!D25","v":8068661579},{"$f":"'A6-FinPos'!E25","v":8217232199},{"$f":"'A6-FinPos'!F25","v":8339501362.5},{"$f":"'A6-FinPos'!G25","v":8039501362.5},{"$f":"'A6-FinPos'!H25","v":8039501362.5},{"$f":"'A6-FinPos'!I25","v":0},{"$f":"'A6-FinPos'!J25","v":9298982591.302},{"$f":"'A6-FinPos'!K25","v":9069593408.4617977},{"$f":"'A6-FinPos'!L25","v":7994823477.0355024}]
[{"$f":"'A6-FinPos'!A37","v":"Total current liabilities"},{"$f":"'A6-FinPos'!C37","v":1893327921.9200001},{"$f":"'A6-FinPos'!D37","v":2037745602},{"$f":"'A6-FinPos'!E37","v":2518688404},{"$f":"'A6-FinPos'!F37","v":1463352337.0271871},{"$f":"'A6-FinPos'!G37","v":2634522746.0033035},{"$f":"'A6-FinPos'!H37","v":2634522746.0033035},{"$f":"'A6-FinPos'!I37","v":49117979},{"$f":"'A6-FinPos'!J37","v":1647578968.1462326},{"$f":"'A6-FinPos'!K37","v":1519136907.5083511},{"$f":"'A6-FinPos'!L37","v":1529884385.3979845}]
[{"$f":"'A6-FinPos'!A43","v":"Total non current liabilities"},{"$f":"'A6-FinPos'!C43","v":816497835.64999998},{"$f":"'A6-FinPos'!D43","v":814494100},{"$f":"'A6-FinPos'!E43","v":775015320},{"$f":"'A6-FinPos'!F43","v":1309132900.3805661},{"$f":"'A6-FinPos'!G43","v":2084148220.3805664},{"$f":"'A6-FinPos'!H43","v":2084148220.3805664},{"$f":"'A6-FinPos'!I43","v":0},{"$f":"'A6-FinPos'!J43","v":855012692.03600001},{"$f":"'A6-FinPos'!K43","v":1449035966.870364},{"$f":"'A6-FinPos'!L43","v":939063004.34521484}]
["Community wealth/Equity",{"$f":"'A6-FinPos'!C50","v":7939404541},{"$f":"'A6-FinPos'!D50","v":7704876415},{"$f":"'A6-FinPos'!E50","v":7467179413},{"$f":"'A6-FinPos'!F50","v":7657063494.1364689},{"$f":"'A6-FinPos'!G50","v":6251180230.0770531},{"$f":"'A6-FinPos'!H50","v":6251180230.0770531},{"$f":"'A6-FinPos'!I50","v":0},{"$f":"'A6-FinPos'!J50","v":9724419690.7560005},{"$f":"'A6-FinPos'!K50","v":9184214727.5460434},{"$f":"'A6-FinPos'!L50","v":8987550943.3497086}]
["Cash flows"]
["Net cash from (used) operating",{"$f":"'A7-CFlow'!C17","v":676226237},{"$f":"'A7-CFlow'!D17","v":588460200},{"$f":"'A7-CFlow'!E17","v":535138615},{"$f":"'A7-CFlow'!F17","v":632267605},{"$f":"'A7-CFlow'!G17","v":668468092},{"$f":"'A7-CFlow'!H17","v":668468092},{"$f":"'A7-CFlow'!I17","v":0},{"$f":"'A7-CFlow'!J17","v":946660442},{"$f":"'A7-CFlow'!K17","v":1055960700},{"$f":"'A7-CFlow'!L17","v":1450949262}]
["Net cash from (used) investing",{"$f":"'A7-CFlow'!C26","v":-381844004},{"$f":"'A7-CFlow'!D26","v":-632698178},{"$f":"'A7-CFlow'!E26","v":-524931844},{"$f":"'A7-CFlow'!F26","v":-835918464.87},{"$f":"'A7-CFlow'!G26","v":-523292402.04499996},{"$f":"'A7-CFlow'!H26","v":-523292402.04499996},{"$f":"'A7-CFlow'!I26","v":0},{"$f":"'A7-CFlow'!J26","v":-768501055},{"$f":"'A7-CFlow'!K26","v":-668585745},{"$f":"'A7-CFlow'!L26","v":-515147794}]
["Net cash from (used) financing",{"$f":"'A7-CFlow'!C35","v":-83600511},{"$f":"'A7-CFlow'!D35","v":-113418258},{"$f":"'A7-CFlow'!E35","v":-81573483},{"$f":"'A7-CFlow'!F35","v":276393968.31},{"$f":"'A7-CFlow'!G35","v":-23606031.690000001},{"$f":"'A7-CFlow'!H35","v":-23606031.690000001},{"$f":"'A7-CFlow'!I35","v":0},{"$f":"'A7-CFlow'!J35","v":177000000},{"$f":"'A7-CFlow'!K35","v":126000000},{"$f":"'A7-CFlow'!L35","v":-26000000}]
[{"$f":"LEFT('A7-CFlow'!A39,37)","v":"Cash/cash equivalents at the year end"},{"$f":"'A7-CFlow'!C39","v":518976967},{"$f":"'A7-CFlow'!D39","v":361320731},{"$f":"'A7-CFlow'!E39","v":288152840},{"$f":"'A7-CFlow'!F39","v":134860108.44},{"$f":"'A7-CFlow'!G39","v":412002857.26500005},{"$f":"'A7-CFlow'!H39","v":412002857.26500005},{"$f":"'A7-CFlow'!I39","v":0},{"$f":"'A7-CFlow'!J39","v":767162244.2650001},{"$f":"'A7-CFlow'!K39","v":1280537199.2650001},{"$f":"'A7-CFlow'!L39","v":2190338667.2650003}]
[]
["Cash backing/surplus reconciliation"]
[{"$f":"'A8-ResRecon'!A4","v":"Cash and investments available"},{"$f":"'A8-ResRecon'!C8","v":7639456037},{"$f":"'A8-ResRecon'!D8","v":7162654281},{"$f":"'A8-ResRecon'!E8","v":7228605733},{"$f":"'A8-ResRecon'!F8","v":9042235407.5064983},{"$f":"'A8-ResRecon'!G8","v":9605359177.9948254},{"$f":"'A8-ResRecon'!H8","v":9605359177.9948254},{"$f":"'A8-ResRecon'!I8","v":4204533611},{"$f":"'A8-ResRecon'!J8","v":9831116541.0000019},{"$f":"'A8-ResRecon'!K8","v":9907698055.1050034},{"$f":"'A8-ResRecon'!L8","v":9123185477.5386124}]
[{"$f":"'A8-ResRecon'!A10","v":"Application of cash and investments"},{"$f":"'A8-ResRecon'!C18","v":-643048000},{"$f":"'A8-ResRecon'!D18","v":-667763000},{"$f":"'A8-ResRecon'!E18","v":-691635000},{"$f":"'A8-ResRecon'!F18","v":820875000},{"$f":"'A8-ResRecon'!G18","v":-256541098},{"$f":"'A8-ResRecon'!H18","v":-256541098},{"$f":"'A8-ResRecon'!I18","v":0},{"$f":"'A8-ResRecon'!J18","v":837478675},{"$f":"'A8-ResRecon'!K18","v":950609880.07499981},{"$f":"'A8-ResRecon'!L18","v":965918919.43852472}]
["Balance - surplus (shortfall)",{"$f":"B45-B46","v":8282504037},{"$f":"C45-C46","v":7830417281},7920240733,8221360407.5064983,9861900275.9948254,9861900275.9948254,4204533611,8993637866.0000019,8957088175.0300026,8157266558.1000881]
["Asset management"]
["Asset register summary (WDV)",{"$f":"'A9-Asset'!C180","v":8114943436.2600126},{"$f":"'A9-Asset'!D180","v":7776759066.1600027},{"$f":"'A9-Asset'!E180","v":0},{"$f":"'A9-Asset'!F180","v":7195684086.4780006},{"$f":"'A9-Asset'!G180","v":6895684086.4780006},{"$f":"'A9-Asset'!H180","v":6895684086.4780006},{"$f":"'A9-Asset'!I180","v":7261155343.0613356},{"$f":"'A9-Asset'!J180","v":7616951954.8713388},{"$f":"'A9-Asset'!K180","v":7974948696.7502918},{"$f":"'A9-Asset'!L180","v":0}]
[{"$f":"'A9-Asset'!A183","v":"Depreciation"},{"$f":"'A9-Asset'!C183","v":417614094},{"$f":"'A9-Asset'!D183","v":372532037},{"$f":"'A9-Asset'!E183","v":366625069},{"$f":"'A9-Asset'!F183","v":441964212.52200043},{"$f":"'A9-Asset'!G183","v":441737790.63000011},{"$f":"'A9-Asset'!H183","v":441737790.63000011},{"$f":"'A9-Asset'!I183","v":466692276.99818736},{"$f":"'A9-Asset'!J183","v":492331943.39808822},{"$f":"'A9-Asset'!K183","v":504096199},{"$f":"'A9-Asset'!L183","v":0}]
["Renewal and Upgrading of Existing Assets",{"$f":"'A9-Asset'!C40+'A9-Asset'!C75","v":458747088.06999999},{"$f":"'A9-Asset'!D40+'A9-Asset'!D75","v":277988495.23000008},{"$f":"'A9-Asset'!E40+'A9-Asset'!E75","v":313421420.63000005},{"$f":"'A9-Asset'!F40+'A9-Asset'!F75","v":640005443.87},{"$f":"'A9-Asset'!G40+'A9-Asset'!G75","v":329500004.32999992},{"$f":"'A9-Asset'!H40+'A9-Asset'!H75","v":329500004.32999992},{"$f":"'A9-Asset'!I40+'A9-Asset'!I75","v":260820500},{"$f":"'A9-Asset'!J40+'A9-Asset'!J75","v":405063245},{"$f":"'A9-Asset'!K40+'A9-Asset'!K75","v":286388196.10000002},{"$f":"'A9-Asset'!L40+'A9-Asset'!L75","v":260820500}]
["Repairs and Maintenance",{"$f":"'A9-Asset'!C184","v":57161591},{"$f":"'A9-Asset'!D184","v":111339565.78999999},{"$f":"'A9-Asset'!E184","v":238603531.13999999},{"$f":"'A9-Asset'!F184","v":505967086.11728001},{"$f":"'A9-Asset'!G184","v":246697734.66300005},{"$f":"'A9-Asset'!H184","v":246697734.66300005},{"$f":"'A9-Asset'!I184","v":573286476.18856001},{"$f":"'A9-Asset'!J184","v":600586963.52179933},{"$f":"'A9-Asset'!K184","v":630046846.80732405},{"$f":"'A9-Asset'!L184","v":0}]
[]
["Free services"]
["Cost of Free Basic Services provided",{"$f":"'A10-SerDel'!C60","v":0},{"$f":"'A10-SerDel'!D60","v":0},{"$f":"'A10-SerDel'!E60","v":0},{"$f":"'A10-SerDel'!F60","v":228088786.13074759},{"$f":"'A10-SerDel'!G60","v":0},{"$f":"'A10-SerDel'!H60","v":0},{"$f":"'A10-SerDel'!I60","v":242071343.66400835},{"$f":"'A10-SerDel'!J60","v":256929502.14413583},{"$f":"'A10-SerDel'!K60","v":0},{"$f":"'A10-SerDel'!L60","v":0}]
["Revenue cost of free services provided",{"$f":"'A10-SerDel'!C79","v":0},{"$f":"'A10-SerDel'!D79","v":65640309},{"$f":"'A10-SerDel'!E79","v":0},{"$f":"'A10-SerDel'!F79","v":345185830.93958348},{"$f":"'A10-SerDel'!G79","v":345185830.93958348},{"$f":"'A10-SerDel'!H79","v":345185830.93958348},{"$f":"'A10-SerDel'!I79","v":368680147.73310006},{"$f":"'A10-SerDel'!J79","v":389715857.23687589},{"$f":"'A10-SerDel'!K79","v":411643111.91224921},{"$f":"'A10-SerDel'!L79","v":0}]
["Households below minimum service level"]
[{"$f":"'A10-SerDel'!A5","v":"Water:"},{"$f":"'A10-SerDel'!C14","v":17010.1888},{"$f":"'A10-SerDel'!D14","v":17010.1888},{"$f":"'A10-SerDel'!E14","v":17010.1888},{"$f":"'A10-SerDel'!F14","v":8505.0944},{"$f":"'A10-SerDel'!G14","v":8505.0944},{"$f":"'A10-SerDel'!H14","v":8505.0944},{"$f":"'A10-SerDel'!I14","v":8505.0944},{"$f":"'A10-SerDel'!J14","v":8505.0944},{"$f":"'A10-SerDel'!K14","v":8505.0944},{"$f":"'A10-SerDel'!L14","v":0}]
[{"$f":"'A10-SerDel'!A16","v":"Sanitation/sewerage:"},{"$f":"'A10-SerDel'!C26","v":2368.9776000000002},{"$f":"'A10-SerDel'!D26","v":2368.9776000000002},{"$f":"'A10-SerDel'!E26","v":2368.9776000000002},{"$f":"'A10-SerDel'!F26","v":1184.4888000000001},{"$f":"'A10-SerDel'!G26","v":1184.4888000000001},{"$f":"'A10-SerDel'!H26","v":1184.4888000000001},{"$f":"'A10-SerDel'!I26","v":1184.4888000000001},{"$f":"'A10-SerDel'!J26","v":1184.4888000000001},{"$f":"'A10-SerDel'!K26","v":1184.4888000000001},{"$f":"'A10-SerDel'!L26","v":0}]
[{"$f":"'A10-SerDel'!A28","v":"Energy:"},{"$f":"'A10-SerDel'!C35","v":16000},{"$f":"'A10-SerDel'!D35","v":16000},{"$f":"'A10-SerDel'!E35","v":16000},{"$f":"'A10-SerDel'!F35","v":8000},{"$f":"'A10-SerDel'!G35","v":8000},{"$f":"'A10-SerDel'!H35","v":8000},{"$f":"'A10-SerDel'!I35","v":8000},{"$f":"'A10-SerDel'!J35","v":8000},{"$f":"'A10-SerDel'!K35","v":8000},{"$f":"'A10-SerDel'!L35","v":0}]
[{"$f":"'A10-SerDel'!A37","v":"Refuse:"},{"$f":"'A10-SerDel'!C45","v":81540.634399999995},{"$f":"'A10-SerDel'!D45","v":81540.634399999995},{"$f":"'A10-SerDel'!E45","v":81540.634399999995},{"$f":"'A10-SerDel'!F45","v":40770.317199999998},{"$f":"'A10-SerDel'!G45","v":40770.317199999998},{"$f":"'A10-SerDel'!H45","v":40770.317199999998},{"$f":"'A10-SerDel'!I45","v":40770.317199999998},{"$f":"'A10-SerDel'!J45","v":40770.317199999998},{"$f":"'A10-SerDel'!K45","v":40770.317199999998},{"$f":"'A10-SerDel'!L45","v":0}]

{"sheet":"A2-FinPerf SC","index":7,"n_rows":58,"n_cols":11,"rows_kept":58,"cut":false,"hidden":false,"merged":[[53,0,53,10],[1,5,1,7],[1,8,1,10]]}
[{"$f":"muni&\" - \"&Approve3","v":"0 - Table A2 Budgeted Financial Performance (revenue and expenditure by functional classification)"}]
[{"$f":"\"Functional Classification \"&desc","v":"Functional Classification Description"},{"$f":"head27","v":"Ref"},{"$f":"head1b","v":"2019/20"},{"$f":"head1A","v":"2020/21"},{"$f":"Head1","v":"2021/22"},{"$f":"Head2","v":"Current Year 2022/23"},null,null,{"$f":"Head3","v":"2023/24 Medium Term Revenue & Expenditure Framework"}]
["R thousand",1,{"$f":"Head5","v":"Audited Outcome"},{"$f":"Head5","v":"Audited Outcome"},{"$f":"Head5","v":"Audited Outcome"},{"$f":"Head6","v":"Original Budget"},{"$f":"Head7","v":"Adjusted Budget"},{"$f":"Head8","v":"Full Year Forecast"},{"$f":"Head9","v":"Budget Year 2023/24"},{"$f":"Head10","v":"Budget Year +1 2024/25"},{"$f":"Head11","v":"Budget Year +2 2025/26"}]
["Revenue - Functional"]
["Governance and administration",null,{"$f":"SUM(C6:C8)","v":1655378011.7899995},{"$f":"SUM(D6:D8)","v":1685956767.6199996},1695855981.2699997,2124738194.1095493,2060770936.3905492,2060770936.3905492,2375779978.8053889,2499277464.1080379,2655166953.8806252]
["Executive and council",null,{"$f":"A2A!C6","v":4200350.03},{"$f":"A2A!D6","v":3935419.51},{"$f":"A2A!E6","v":3530376.55},{"$f":"A2A!F6","v":5297070.1146146543},{"$f":"A2A!G6","v":5297070.1146146543},{"$f":"A2A!H6","v":5297070.1146146543},{"$f":"A2A!I6","v":4979000},{"$f":"A2A!J6","v":0},{"$f":"A2A!K6","v":0}]
["Finance and administration",null,{"$f":"A2A!C9","v":1651177626.8599994},{"$f":"A2A!D9","v":1682018698.2699997},{"$f":"A2A!E9","v":1692323109.7599998},{"$f":"A2A!F9","v":2119441123.9949346},{"$f":"A2A!G9","v":2055473866.2759345},{"$f":"A2A!H9","v":2055473866.2759345},{"$f":"A2A!I9","v":2370800978.8053889},{"$f":"A2A!J9","v":2499277464.1080379},{"$f":"A2A!K9","v":2655166953.8806252}]
["Internal audit",null,{"$f":"A2A!C23","v":34.9},{"$f":"A2A!D23","v":2649.84},{"$f":"A2A!E23","v":2494.96},{"$f":"A2A!F23","v":0},{"$f":"A2A!G23","v":0},{"$f":"A2A!H23","v":0},{"$f":"A2A!I23","v":0},{"$f":"A2A!J23","v":0},{"$f":"A2A!K23","v":0}]
["Community and public safety",null,{"$f":"SUM(C10:C14)","v":234248834.69000009},{"$f":"SUM(D10:D14)","v":187149779.21999997},134306482.69999999,261951083.74541038,261951083.74541038,261951083.74541038,338866615.01203102,343724927.49745625,359601534.91820908]
["Community and social services",null,{"$f":"A2A!C26","v":38829586.050000012},{"$f":"A2A!D26","v":24279484.789999999},{"$f":"A2A!E26","v":45792786.729999997},{"$f":"A2A!F26","v":21317576.896262452},{"$f":"A2A!G26","v":21317576.896262452},{"$f":"A2A!H26","v":21317576.896262452},{"$f":"A2A!I26","v":276753844.24993801},{"$f":"A2A!J26","v":282672023.158095},{"$f":"A2A!K26","v":295768116.83094198}]
["Sport and recreation",null,{"$f":"A2A!C48","v":863612.67},{"$f":"A2A!D48","v":523912.58999999997},{"$f":"A2A!E48","v":344638.91000000003},{"$f":"A2A!F48","v":307553.91244844231},{"$f":"A2A!G48","v":307553.91244844231},{"$f":"A2A!H48","v":307553.91244844231},{"$f":"A2A!I48","v":21223330.408260003},{"$f":"A2A!J48","v":22263273.598264743},{"$f":"A2A!K48","v":23309647.457383178}]
["Public safety",null,{"$f":"A2A!C54","v":15024987.17},{"$f":"A2A!D54","v":19851967.140000001},{"$f":"A2A!E54","v":18186248.149999999},{"$f":"A2A!F54","v":4191499.1378272604},{"$f":"A2A!G54","v":4191499.1378272604},{"$f":"A2A!H54","v":4191499.1378272604},{"$f":"A2A!I54","v":8568779.0717440005},{"$f":"A2A!J54","v":8988649.2462594546},{"$f":"A2A!K54","v":9411115.7608336471}]
["Housing",null,{"$f":"A2A!C63","v":179530648.80000007},{"$f":"A2A!D63","v":142494414.69999999},{"$f":"A2A!E63","v":69982808.910000011},{"$f":"A2A!F63","v":236134453.79887223},{"$f":"A2A!G63","v":236134453.79887223},{"$f":"A2A!H63","v":236134453.79887223},{"$f":"A2A!I63","v":32320661.282088995},{"$f":"A2A!J63","v":29800981.494837027},{"$f":"A2A!K63","v":31112654.869050343}]
["Health",null,{"$f":"A2A!C66","v":0},{"$f":"A2A!D66","v":0},{"$f":"A2A!E66","v":0},{"$f":"A2A!F66","v":0},{"$f":"A2A!G66","v":0},{"$f":"A2A!H66","v":0},{"$f":"A2A!I66","v":0},{"$f":"A2A!J66","v":0},{"$f":"A2A!K66","v":0}]
["Economic and environmental services",null,{"$f":"SUM(C16:C18)","v":279315022.31},{"$f":"SUM(D16:D18)","v":271667406.32000172},207365686.9199999,64129389.03430222,64129389.03430222,64129389.03430222,55600947.447282426,47167489.110480599,47974361.09867318]
["Planning and development",null,{"$f":"A2A!C75","v":33595749.049999997},{"$f":"A2A!D75","v":37507188.980000004},{"$f":"A2A!E75","v":55781154.039999887},{"$f":"A2A!F75","v":56730916.806429245},{"$f":"A2A!G75","v":56730916.806429245},{"$f":"A2A!H75","v":56730916.806429245},{"$f":"A2A!I75","v":47684582.161182426},{"$f":"A2A!J75","v":45825734.207385167},{"$f":"A2A!K75","v":46569543.715132266}]
["Road transport",null,{"$f":"A2A!C86","v":245675268.38},{"$f":"A2A!D86","v":234057621.14000174},{"$f":"A2A!E86","v":151376861.56999999},{"$f":"A2A!F86","v":0},{"$f":"A2A!G86","v":0},{"$f":"A2A!H86","v":0},{"$f":"A2A!I86","v":0},{"$f":"A2A!J86","v":0},{"$f":"A2A!K86","v":0}]
["Environmental protection",null,{"$f":"A2A!C91","v":44004.88},{"$f":"A2A!D91","v":102596.2},{"$f":"A2A!E91","v":207671.31},{"$f":"A2A!F91","v":7398472.2278729789},{"$f":"A2A!G91","v":7398472.2278729789},{"$f":"A2A!H91","v":7398472.2278729789},{"$f":"A2A!I91","v":7916365.2861000011},{"$f":"A2A!J91","v":1341754.9030954284},{"$f":"A2A!K91","v":1404817.3835409135}]
["Trading services",null,{"$f":"SUM(C20:C23)","v":3747985280.1099992},{"$f":"SUM(D20:D23)","v":3845123160.5199995},4158681262.6300006,5315562519.6482496,5315562519.6482496,5315562519.6482496,5698134020.4703426,{"$f":"SUM(J20:J23)","v":6299141016.1405859},7184674852.0613136]
["Energy sources",null,{"$f":"A2A!C99","v":2241860229.1299992},{"$f":"A2A!D99","v":2212438065.8699999},{"$f":"A2A!E99","v":2569652753.8200002},{"$f":"A2A!F99","v":3305883087.2042556},{"$f":"A2A!G99","v":3305883087.2042556},{"$f":"A2A!H99","v":3305883087.2042556},{"$f":"A2A!I99","v":4028755845.6152434},{"$f":"A2A!J99","v":4521615547.7464094},{"$f":"A2A!K99","v":5323721088.8283806}]
["Water management",null,{"$f":"A2A!C103","v":1068639661.8800001},{"$f":"A2A!D103","v":1189218732.8199999},{"$f":"A2A!E103","v":1156790470.3700004},{"$f":"A2A!F103","v":1590735187.6685145},{"$f":"A2A!G103","v":1590735187.6685145},{"$f":"A2A!H103","v":1590735187.6685145},{"$f":"A2A!I103","v":1300958055.8464499},{"$f":"A2A!J103","v":1391052514.0007725},{"$f":"A2A!K103","v":1456299660.763361}]
["Waste water management",null,{"$f":"A2A!C107","v":261156393.46000001},{"$f":"A2A!D107","v":288947747.09999996},{"$f":"A2A!E107","v":281762407.31999999},{"$f":"A2A!F107","v":231533141.18396106},{"$f":"A2A!G107","v":231533141.18396106},{"$f":"A2A!H107","v":231533141.18396106},{"$f":"A2A!I107","v":209646015.87575004},{"$f":"A2A!J107","v":219918670.6536617},{"$f":"A2A!K107","v":230254848.17438382}]
["Waste management",null,{"$f":"A2A!C112","v":176328995.64000002},{"$f":"A2A!D112","v":154518614.72999999},{"$f":"A2A!E112","v":150475631.12},{"$f":"A2A!F112","v":187411103.59151816},{"$f":"A2A!G112","v":187411103.59151816},{"$f":"A2A!H112","v":187411103.59151816},{"$f":"A2A!I112","v":158774103.1329},{"$f":"A2A!J112","v":166554283.73974228},{"$f":"A2A!K112","v":174399254.29518774}]
["Other",4,{"$f":"A2A!C117","v":32681201.350000001},{"$f":"A2A!D117","v":49061946.319999993},{"$f":"A2A!E117","v":26227823.480000004},{"$f":"A2A!F117","v":67955454.608029872},{"$f":"A2A!G117","v":67955454.608029872},{"$f":"A2A!H117","v":67955454.608029872},{"$f":"A2A!I117","v":101044616.26495585},{"$f":"A2A!J117","v":113584253.14343685},{"$f":"A2A!K117","v":118922713.04117841}]
[{"$f":"\"Total \"&A4","v":"Total Revenue - Functional"},2,{"$f":"C5+C9+C15+C19+C24","v":5949608350.249999},{"$f":"D5+D9+D15+D19+D24","v":6038959060},{"$f":"E5+E9+E15+E19+E24","v":6222437237},7834336641.1455421,7770369383.4265423,7770369383.4265423,{"$f":"I5+I9+I15+I19+I24","v":8569426178},9302895149.9999962,10366340414.999998]
[]
["Expenditure - Functional"]
["Governance and administration",null,{"$f":"SUM(C29:C31)","v":1038362184.7999995},{"$f":"SUM(D29:D31)","v":1520817441.8899994},1191049486.5700023,1423527488.5838168,1399634843.8239999,1399634843.8239999,1480552759.1052101,1542103257.2794719,1613275975.6195669]
["Executive and council",null,{"$f":"A2A!C128","v":120747650.11000003},{"$f":"A2A!D128","v":117397847.64999996},{"$f":"A2A!E128","v":117808679.09},{"$f":"A2A!F128","v":117494245.21787992},{"$f":"A2A!G128","v":163072746.52999991},{"$f":"A2A!H128","v":163072746.52999991},{"$f":"A2A!I128","v":258320031.05366999},{"$f":"A2A!J128","v":264803117.2082448},{"$f":"A2A!K128","v":276751639.985246}]
["Finance and administration",null,{"$f":"A2A!C131","v":898976596.40999949},{"$f":"A2A!D131","v":1386457371.3499994},{"$f":"A2A!E131","v":1053698122.1100024},{"$f":"A2A!F131","v":1285221052.5424368},{"$f":"A2A!G131","v":1216919906.434},{"$f":"A2A!H131","v":1216919906.434},{"$f":"A2A!I131","v":1193777692.58764},{"$f":"A2A!J131","v":1247497428.0114515},{"$f":"A2A!K131","v":1305345255.1318555}]
["Internal audit",null,{"$f":"A2A!C145","v":18637938.279999994},{"$f":"A2A!D145","v":16962222.890000001},{"$f":"A2A!E145","v":19542685.369999997},{"$f":"A2A!F145","v":20812190.8235},{"$f":"A2A!G145","v":19642190.859999999},{"$f":"A2A!H145","v":19642190.859999999},{"$f":"A2A!I145","v":28455035.463900004},{"$f":"A2A!J145","v":29802712.059775505},{"$f":"A2A!K145","v":31179080.502465397}]
["Community and public safety",null,{"$f":"SUM(C33:C37)","v":550877476.08999991},{"$f":"SUM(D33:D37)","v":551498800.58000004},551440158.55999994,613713094.31616056,540010710.47799861,540010710.47799861,535783647.38537049,542802873.62134409,556136755.76124573]
["Community and social services",null,{"$f":"A2A!C148","v":112786554.15999997},{"$f":"A2A!D148","v":149092712.52000004},{"$f":"A2A!E148","v":141393704.71999994},{"$f":"A2A!F148","v":129634195.31604829},{"$f":"A2A!G148","v":129214013.118},{"$f":"A2A!H148","v":129214013.118},{"$f":"A2A!I148","v":135893001.57432997},{"$f":"A2A!J148","v":142179459.39971715},{"$f":"A2A!K148","v":149432538.67917544}]
["Sport and recreation",null,{"$f":"A2A!C170","v":102539647.32000002},{"$f":"A2A!D170","v":121244913.64000003},{"$f":"A2A!E170","v":115888281.38},{"$f":"A2A!F170","v":153119379.20126945},{"$f":"A2A!G170","v":147756038.4699986},{"$f":"A2A!H170","v":147756038.4699986},{"$f":"A2A!I170","v":130424689.03570996},{"$f":"A2A!J170","v":136399028.7017464},{"$f":"A2A!K170","v":142592177.42519572}]
["Public safety",null,{"$f":"A2A!C176","v":193214425.33999997},{"$f":"A2A!D176","v":196809242.19999999},{"$f":"A2A!E176","v":216193878.25},{"$f":"A2A!F176","v":207854114.14148462},{"$f":"A2A!G176","v":207622267.35999998},{"$f":"A2A!H176","v":207622267.35999998},{"$f":"A2A!I176","v":220685496.01233053},{"$f":"A2A!J176","v":213467615.50143355},{"$f":"A2A!K176","v":211306049.73158419}]
["Housing",null,{"$f":"A2A!C185","v":136867613.72999996},{"$f":"A2A!D185","v":74912128.999999985},{"$f":"A2A!E185","v":68394082.769999996},{"$f":"A2A!F185","v":110226497.50518},{"$f":"A2A!G185","v":42564006.329999998},{"$f":"A2A!H185","v":42564006.329999998},{"$f":"A2A!I185","v":35263319.4102},{"$f":"A2A!J185","v":36629554.104770996},{"$f":"A2A!K185","v":38042103.517098933}]
["Health",null,{"$f":"A2A!C188","v":5469235.5399999991},{"$f":"A2A!D188","v":9439803.2200000007},{"$f":"A2A!E188","v":9570211.4399999995},{"$f":"A2A!F188","v":12878908.152178148},{"$f":"A2A!G188","v":12854385.200000003},{"$f":"A2A!H188","v":12854385.200000003},{"$f":"A2A!I188","v":13517141.352799997},{"$f":"A2A!J188","v":14127215.913676001},{"$f":"A2A!K188","v":14763886.408191418}]
["Economic and environmental services",null,{"$f":"SUM(C39:C41)","v":332744460.63000005},{"$f":"SUM(D39:D41)","v":313304803.33000004},393095328.99000007,375461838.57209504,403531040.93700004,403531040.93700004,513621030.73583996,536409574.6590395,560925958.92847204]
["Planning and development",null,{"$f":"A2A!C197","v":83509759.390000015},{"$f":"A2A!D197","v":69071779.380000025},{"$f":"A2A!E197","v":87743205.430000037},{"$f":"A2A!F197","v":78766873.587500036},{"$f":"A2A!G197","v":96727161.333000019},{"$f":"A2A!H197","v":96727161.333000019},{"$f":"A2A!I197","v":84862819.172940001},{"$f":"A2A!J197","v":87699044.716661274},{"$f":"A2A!K197","v":91678229.837063491}]
["Road transport",null,{"$f":"A2A!C208","v":228801221.18000001},{"$f":"A2A!D208","v":223381413.30000001},{"$f":"A2A!E208","v":282415490.86000001},{"$f":"A2A!F208","v":270631755.75050032},{"$f":"A2A!G208","v":282199280.00000006},{"$f":"A2A!H208","v":282199280.00000006},{"$f":"A2A!I208","v":402475671.16714996},{"$f":"A2A!J208","v":421231370.1044715},{"$f":"A2A!K208","v":440524713.82307553}]
["Environmental protection",null,{"$f":"A2A!C213","v":20433480.060000002},{"$f":"A2A!D213","v":20851610.649999999},{"$f":"A2A!E213","v":22936632.700000003},{"$f":"A2A!F213","v":26063209.234094702},{"$f":"A2A!G213","v":24604599.603999995},{"$f":"A2A!H213","v":24604599.603999995},{"$f":"A2A!I213","v":26282540.395750005},{"$f":"A2A!J213","v":27479159.837906741},{"$f":"A2A!K213","v":28723015.268333077}]
["Trading services",null,{"$f":"SUM(C43:C46)","v":3726987413.6399989},{"$f":"SUM(D43:D46)","v":3532257237.5100017},4733193786.6699972,{"$f":"SUM(F43:F46)","v":4323067957.3034744},4212498612.9660001,4212498612.9660001,5109852270.9189796,5799171443.7353601,{"$f":"SUM(K43:K46)","v":6383560579.1212807}]
["Energy sources",null,{"$f":"A2A!C221","v":2095935638.1399987},{"$f":"A2A!D221","v":1916751313.3999996},{"$f":"A2A!E221","v":2982827962.3400002},{"$f":"A2A!F221","v":2707081565.7371736},{"$f":"A2A!G221","v":2773851064.8899999},{"$f":"A2A!H221","v":2773851064.8899999},{"$f":"A2A!I221","v":3289791559.6896291},{"$f":"A2A!J221","v":3880684085.4224238},{"$f":"A2A!K221","v":4376467642.4245243}]
["Water management",null,{"$f":"A2A!C225","v":1216151982.74},{"$f":"A2A!D225","v":1172570222.9900014},{"$f":"A2A!E225","v":1280896308.8899977},{"$f":"A2A!F225","v":1187779784.0970142},{"$f":"A2A!G225","v":984739719.28599989},{"$f":"A2A!H225","v":984739719.28599989},{"$f":"A2A!I225","v":1293156973.5049391},{"$f":"A2A!J225","v":1355688448.0384879},{"$f":"A2A!K225","v":1418970449.1259158}]
["Waste water management",null,{"$f":"A2A!C229","v":259564356.74000001},{"$f":"A2A!D229","v":294864459.79999995},{"$f":"A2A!E229","v":325212343.78999996},{"$f":"A2A!F229","v":294534683.93052161},{"$f":"A2A!G229","v":338156292.76000005},{"$f":"A2A!H229","v":338156292.76000005},{"$f":"A2A!I229","v":399300023.23709154},{"$f":"A2A!J229","v":429298391.728275},{"$f":"A2A!K229","v":448533338.63240778}]
["Waste management",null,{"$f":"A2A!C234","v":155335436.02000001},{"$f":"A2A!D234","v":148071241.31999996},{"$f":"A2A!E234","v":144257171.65000004},{"$f":"A2A!F234","v":133671923.53876582},{"$f":"A2A!G234","v":115751536.03},{"$f":"A2A!H234","v":115751536.03},{"$f":"A2A!I234","v":127603714.48732021},{"$f":"A2A!J234","v":133500518.54617307},{"$f":"A2A!K234","v":139589148.93843222}]
["Other",4,{"$f":"A2A!C239","v":76856662.089999989},{"$f":"A2A!D239","v":66124376.689998507},{"$f":"A2A!E239","v":80640656.209999993},{"$f":"A2A!F239","v":64362345.725500003},{"$f":"A2A!G239","v":67535049.143000007},{"$f":"A2A!H239","v":67535049.143000007},{"$f":"A2A!I239","v":63978086.854600012},{"$f":"A2A!J239","v":66741393.704784997},{"$f":"A2A!K239","v":69793688.569436654}]
[{"$f":"\"Total \"&A27","v":"Total Expenditure - Functional"},3,{"$f":"C28+C32+C38+C42+C47","v":5725828197.2499981},{"$f":"D28+D32+D38+D42+D47","v":5984002660},{"$f":"E28+E32+E38+E42+E47","v":6949419416.999999},{"$f":"F28+F32+F38+F42+F47","v":6800132724.5010471},6623210257.3479977,6623210257.3479977,7703787795,8487228543.000001,9183692958.0000019]
[{"$f":"result","v":"Surplus/(Deficit) for the year"},null,{"$f":"C25-C48","v":223780153.00000095},{"$f":"D25-D48","v":54956400},-726982179.99999905,1034203916.644495,1147159126.0785446,1147159126.0785446,865638383,815666606.99999523,1182647456.9999962]
[{"$f":"head27a","v":"References"}]
["1. Government Finance Statistics Functions and Sub-functions are standardised to assist the compilation of national and international accounts for comparison purposes"]
["2. Total Revenue by functional classification must reconcile to Total Operating Revenue shown in Budgeted Financial Performance (revenue and expenditure)"]
["3. Total Expenditure by Functional Classification must reconcile to Total Operating Expenditure shown in Budgeted Financial Performance (revenue and expenditure)"]
["4. All amounts must be classified under a functional classification . The GFS function 'Other' is only for Abbatoirs, Air Transport,  Forestry, Licensing and Regulation, Markets and Tourism - and if used must be supported by footnotes. Nothing else may be placed under 'Other'. Assign associate share to relevant classification."]
[]
[]
["check oprev balance",null,{"$f":"C25-'A4-FinPerf RE'!C32","v":462494772.24999905},{"$f":"D25-'A4-FinPerf RE'!D32","v":498603417},{"$f":"E25-'A4-FinPerf RE'!E32","v":368724617},{"$f":"F25-'A4-FinPerf RE'!F32","v":783566379.69067192},{"$f":"G25-'A4-FinPerf RE'!G32","v":774732512.7716732},{"$f":"H25-'A4-FinPerf RE'!H32","v":774732512.7716732},{"$f":"I25-'A4-FinPerf RE'!I32","v":8569426178},{"$f":"J25-'A4-FinPerf RE'!J32","v":1182169024.7395372},{"$f":"K25-'A4-FinPerf RE'!K32","v":1384754610.0028095}]
["check opexp balance",null,{"$f":"C48-'A4-FinPerf RE'!C47","v":32381023.249999046},{"$f":"D48-'A4-FinPerf RE'!D47","v":0},{"$f":"E48-'A4-FinPerf RE'!E47","v":0},{"$f":"F48-'A4-FinPerf RE'!F47","v":345185831.26233864},{"$f":"G48-'A4-FinPerf RE'!G47","v":0},{"$f":"H48-'A4-FinPerf RE'!H47","v":0},{"$f":"I48-'A4-FinPerf RE'!J47","v":0},{"$f":"J48-'A4-FinPerf RE'!K47","v":0},{"$f":"K48-'A4-FinPerf RE'!L47","v":0}]

{"sheet":"A2A","index":8,"n_rows":256,"n_cols":16,"rows_kept":256,"cut":false,"hidden":false,"merged":[[1,5,1,7],[1,8,1,10],[251,0,251,10]]}
[{"$f":"muni&\" - \"&Approve3","v":"0 - Table A2 Budgeted Financial Performance (revenue and expenditure by functional classification)"}]
[{"$f":"\"Functional Classification \"&desc","v":"Functional Classification Description"},{"$f":"head27","v":"Ref"},{"$f":"head1b","v":"2019/20"},{"$f":"head1A","v":"2020/21"},{"$f":"Head1","v":"2021/22"},{"$f":"Head2","v":"Current Year 2022/23"},null,null,{"$f":"Head3","v":"2023/24 Medium Term Revenue & Expenditure Framework"}]
["R thousand",1,{"$f":"Head5","v":"Audited Outcome"},{"$f":"Head5","v":"Audited Outcome"},{"$f":"Head5","v":"Audited Outcome"},{"$f":"Head6","v":"Original Budget"},{"$f":"Head7","v":"Adjusted Budget"},{"$f":"Head8","v":"Full Year Forecast"},{"$f":"Head9","v":"Budget Year 2023/24"},{"$f":"Head10","v":"Budget Year +1 2024/25"},{"$f":"Head11","v":"Budget Year +2 2025/26"}]
["Revenue - Functional"]
["Municipal governance and administration",null,{"$f":"C6+C9+C23","v":1655378011.7899995},1685956767.6199996,1695855981.2699997,2124738194.1095493,2060770936.3905492,2060770936.3905492,2375779978.8053889,2499277464.1080379,2655166953.8806252]
["Executive and council",null,{"$f":"SUM(C7:C8)","v":4200350.03},{"$f":"SUM(D7:D8)","v":3935419.51},3530376.55,5297070.1146146543,5297070.1146146543,5297070.1146146543,4979000,0,0]
["Mayor and Council",null,-128873.70999999999,12674.789999999999,0,null,0,0,0,0,0]
["Municipal Manager, Town Secretary and Chief Executive",null,4329223.74,3922744.7199999997,3530376.55,5297070.1146146543,5297070.1146146543,5297070.1146146543,4979000,0,0]
["Finance and administration",null,{"$f":"SUM(C10:C22)","v":1651177626.8599994},1682018698.2699997,1692323109.7599998,2119441123.9949346,2055473866.2759345,2055473866.2759345,2370800978.8053889,2499277464.1080379,2655166953.8806252]
["Administrative and Corporate Support",null,442.16,12307.09,6500.21,null,0,0,607186.86479999998,636939.02117519989,666875.15517043427]
["Asset Management",null,1356895.9,1587023.03,6070848.9699999997,12341486.845029693,12341486.845029693,12341486.845029693,13390566.76685,14046704.538425649,14706899.651731653]
["Finance",null,1600339337.1399996,1665539963.3899999,1663295423.7499998,2080569938.311738,2016602680.5927379,2016602680.5927379,2305482256.4584389,2432018767.0060873,2583791479.0498834]
["Fleet Management",null,0,0,0,null,0,0,0,0,0]
["Human Resources",null,9291052.9400000013,8063480.46,7456070.5399999991,11601353.686321218,11601353.686321218,11601353.686321218,12513790.277449999,11866323.36104505,13379659.524014167]
["Information Technology",null,616.54,22555.09,17396.22,2237.4978340715002,2237.4978340715002,2237.4978340715002,2472.4264499999999,2593.57534605,2715.47338731435]
["Legal Services",null,135.57,2567.63,1711.96,285352.27872014715,285352.27872014715,285352.27872014715,315314.26940000005,330764.66860060004,346310.60802482819]
["Marketing, Customer Relations, Publicity and Media Co-ordination",null,13.04,1362.34,0,null,0,0,0,0,0]
["Property Services",null,40108986.49999997,6676492.879999998,15365369.849999998,14329709.418480501,14329709.418480501,14329709.418480501,38156452.557500005,40026118.732817493,41907346.313259915]
["Risk Management",null,0,0,0,null,0,0,0,0,0]
["Security Services",null,173.73,3256.51,4291.1899999999996,null,0,0,0,0,0]
["Supply Chain Management ",null,79973.340000000011,109689.85,105497.06999999951,311045.95681122824,311045.95681122824,311045.95681122824,332939.18450000003,349253.20454050001,365668.10515390348]
["Valuation Service",null,0,null,0,null,0,0,0,0,0]
["Internal audit",null,{"$f":"SUM(C24:C24)","v":34.9},2649.84,2494.96,0,0,0,0,0,0]
["Governance Function",null,34.9,2649.84,2494.96]
["Community and public safety",null,{"$f":"C26+C48+C54+C63+C66","v":234248834.69000009},187149779.21999997,134306482.69999999,261951083.74541038,261951083.74541038,261951083.74541038,338866615.01203102,343724927.49745625,359601534.91820908]
["Community and social services",null,{"$f":"SUM(C27:C47)","v":38829586.050000012},{"$f":"SUM(D27:D47)","v":24279484.789999999},45792786.729999997,21317576.896262452,21317576.896262452,21317576.896262452,276753844.24993801,282672023.158095,295768116.83094198]
["Aged Care",null,63,null,0,null,0,0,0,0,0]
["Agricultural",null,0,null,0,null,0,0,0,0,0]
["Animal Care and Diseases",null,0,null,0,null,0,0,0,0,0]
["Cemeteries, Funeral Parlours and Crematoriums",null,2698963.34,5208007.3099999996,8279696.419999999,3910259.7196420454,3910259.7196420454,3910259.7196420454,16617370.718400002,17431621.883601598,18250908.112130873]
["Child Care Facilities",null,0,0,0,null,0,0,0,0,0]
["Community Halls and Facilities",null,6685882.1400000034,2902948.8200000003,14033547.309999997,1160697.1766204087,1160697.1766204087,1160697.1766204087,245427473.62153801,249927401.4689934,260778208.37303609]
["Consumer Protection",null,0,0,0,null,0,0,0,0,0]
["Cultural Matters",null,0,0,0,null,0,0,0,0,0]
["Disaster Management",null,0,0,0,null,0,0,0,0,0]
["Education",null,0,0,0,null,0,0,0,0,0]
["Indigenous and Customary Law",null,0,0,0,null,0,0,0,0,0]
["Industrial Promotion",null,0,0,0,null,0,0,0,0,0]
["Language Policy",null,0,0,0,null,0,0,0,0,0]
["Libraries and Archives",null,28731129.23,15205234.719999999,22907275.890000001,15438000,15438000,15438000,13537999.91,14272999.805500001,15749000.345775001]
["Literacy Programmes",null,0,0,0,null,0,0,0,0,0]
["Media Services",null,0,0,0,null,0,0,0,0,0]
["Museums and Art Galleries",null,713369.28,953550.37,572267.1100000001,808620,808620,808620,1171000,1040000,990000]
["Population Development",null,179.06,9743.57,0,null,0,0,0,0,0]
["Provincial Cultural Matters",null,null,null,0,null,0,0,0,0,0]
["Theatres",null,null,null,0,null,0,0,0,0,0]
["Zoo's",null,null,null,0,null,0,0,0,0,0]
["Sport and recreation",null,{"$f":"SUM(C49:C53)","v":863612.67},{"$f":"SUM(D49:D53)","v":523912.58999999997},344638.91000000003,307553.91244844231,307553.91244844231,307553.91244844231,21223330.408260003,22263273.598264743,23309647.457383178]
["Beaches and Jetties ",null,null,null,0,null,0,0,0,0,0]
["Casinos, Racing, Gambling, Wagering",null,null,null,0,null,0,0,0,0,0]
["Community Parks (including Nurseries)",null,527.86,4738.68,0,null,0,0,0,0,0]
["Recreational Facilities",null,863084.81,519173.91,344638.91000000003,307553.91244844231,307553.91244844231,307553.91244844231,21223330.408260003,22263273.598264743,23309647.457383178]
["Sports Grounds and Stadiums",null,null,null,0,null,0,0,0,0,0]
["Public safety",null,{"$f":"SUM(C55:C62)","v":15024987.17},19851967.140000001,18186248.149999999,4191499.1378272604,4191499.1378272604,4191499.1378272604,8568779.0717440005,8988649.2462594546,9411115.7608336471]
["Civil Defence",null,-814.29,1199482.6400000001,0,null,0,0,0,0,0]
["Cleansing",null,0,0,0,null,0,0,0,0,0]
["Control of Public Nuisances",null,0,0,0,null,0,0,0,0,0]
["Fencing and Fences ",null,0,0,0,null,0,0,0,0,0]
["Fire Fighting and Protection",null,216610.22999999998,310842.78999999998,904902.65,371030.9203305206,371030.9203305206,371030.9203305206,397088.87290000002,416546.22767210001,436123.90037268866]
["Licensing and Control of Animals",null,0,0,0,null,0,0,0,0,0]
["Police Forces, Traffic and Street Parking Control",null,14809191.23,18341641.710000001,17281345.5,3820468.2174967397,3820468.2174967397,3820468.2174967397,8171690.1988439998,8572103.0185873546,8974991.8604609594]
["Pounds",null,null,null,0,null,0,0,0,0,0]
["Housing",null,{"$f":"SUM(C64:C65)","v":179530648.80000007},{"$f":"SUM(D64:D65)","v":142494414.69999999},69982808.910000011,236134453.79887223,236134453.79887223,236134453.79887223,32320661.282088995,29800981.494837027,31112654.869050343]
["Housing",null,179530648.80000007,142494414.69999999,69982808.910000011,236134453.79887223,236134453.79887223,236134453.79887223,32320661.282088995,29800981.494837027,31112654.869050343]
["Informal Settlements",null,null,null,0,null,0,0,0,0,0]
["Health",null,{"$f":"SUM(C67:C73)","v":0},{"$f":"SUM(D67:D73)","v":0},0,0,0,0,0,0,0]
["Ambulance",null,null,null,0]
["Health Services",null,null,null,0]
["Laboratory Services",null,null,null,0]
["Food Control",null,null,null,0]
["Health Surveillance and Prevention of Communicable Diseases including immunizations",null,null,null,0]
["Vector Control",null,null,null,0]
["Chemical Safety",null,null,null,0]
["Economic and environmental services",null,{"$f":"C75+C86+C91","v":279315022.31},271667406.32000172,207365686.9199999,64129389.03430222,64129389.03430222,64129389.03430222,55600947.447282426,47167489.110480599,47974361.09867318]
["Planning and development",null,{"$f":"SUM(C76:C85)","v":33595749.049999997},{"$f":"SUM(D76:D85)","v":37507188.980000004},55781154.039999887,56730916.806429245,56730916.806429245,56730916.806429245,47684582.161182426,45825734.207385167,46569543.715132266]
["Billboards",null,null,null,0,null,0,0,0,0,0]
["Corporate Wide Strategic Planning (IDPs, LEDs)",null,13.78,300065.51,739.71,null,0,0,0,0,0]
["Central City Improvement District",null,0,0,0,null,0,0,0,0,0]
["Development Facilitation",null,0,0,0,null,0,0,0,0,0]
["Economic Development/Planning",null,23.95,364155.19,46481241.649999887,null,0,0,0,0,0]
["Regional Planning and Development",null,0,0,0,null,0,0,0,0,0]
["Town Planning, Building Regulations and Enforcement, and City Engineer",null,33595711.32,36842968.280000001,9299172.6800000016,56730916.806429245,56730916.806429245,56730916.806429245,47684582.161182426,45825734.207385167,46569543.715132266]
["Project Management Unit",null,null,null,0,null,0,0,0,0,0]
["Provincial Planning",null,null,null,0,null,0,0,0,0,0]
["Support to Local Municipalities",null,null,null,0,null,0,0,0,0,0]
["Road transport",null,{"$f":"SUM(C87:C90)","v":245675268.38},234057621.14000174,151376861.56999999,0,0,0,0,0,0]
["Public Transport",null,135535047.30999997,178133714.37999997,64161510.690000005,null,null,0]
["Road and Traffic Regulation",null,0,0,0,null,null,0]
["Roads",null,110140221.07000001,55923559.92000176,87215350.879999995,null,null,0]
["Taxi Ranks",null,null,346.84,0,null,null,0]
["Environmental protection",null,{"$f":"SUM(C92:C97)","v":44004.88},{"$f":"SUM(D92:D97)","v":102596.2},207671.31,7398472.2278729789,7398472.2278729789,7398472.2278729789,7916365.2861000011,1341754.9030954284,1404817.3835409135]
["Biodiversity and Landscape",null,null,null,0,null,0,0,0,0,0]
["Coastal Protection",null,null,null,0,null,0,0,0,0,0]
["Indigenous Forests",null,null,null,0,null,0,0,0,0,0]
["Nature Conservation",null,null,null,0,null,0,0,0,0,0]
["Pollution Control",null,44004.88,102596.2,207671.31,7398472.2278729789,7398472.2278729789,7398472.2278729789,7916365.2861000011,1341754.9030954284,1404817.3835409135]
["Soil Conservation",null,null,null,0,null,0,0,0,0,0]
["Trading services",null,{"$f":"C99+C103+C107+C112","v":3747985280.1099992},{"$f":"D99+D103+D107+D112","v":3845123160.5199995},4158681262.6300006,5315562519.6482496,5315562519.6482496,5315562519.6482496,5698134020.4703426,6299141016.1405859,{"$f":"K99+K103+K107+K112","v":7184674852.0613136}]
["Energy sources",null,{"$f":"SUM(C100:C102)","v":2241860229.1299992},{"$f":"SUM(D100:D102)","v":2212438065.8699999},2569652753.8200002,3305883087.2042556,3305883087.2042556,3305883087.2042556,4028755845.6152434,4521615547.7464094,5323721088.8283806]
["Electricity ",null,2240942829.059999,2212438065.8699999,2569652753.8200002,3305883087.2042556,3305883087.2042556,3305883087.2042556,4028755845.6152434,4521615547.7464094,5323721088.8283806]
["Street Lighting and Signal Systems",null,917400.07,null,0,null,0,0,0,0,0]
["Nonelectric Energy",null,null,null,0,null,0,0,0,0,0]
["Water management",null,{"$f":"SUM(C104:C106)","v":1068639661.8800001},{"$f":"SUM(D104:D106)","v":1189218732.8199999},1156790470.3700004,1590735187.6685145,1590735187.6685145,1590735187.6685145,1300958055.8464499,1391052514.0007725,1456299660.763361]
["Water Treatment",null,null,null,0,null,0,0,0,0,0,null,200000000]
["Water Distribution",null,1068639661.8800001,1189218732.8199999,1156790470.3700004,1590735187.6685145,1590735187.6685145,1590735187.6685145,1300958055.8464499,1391052514.0007725,1456299660.763361]
["Water Storage",null,null,null,0,null,0,0,0,0,0]
["Waste water management",null,{"$f":"SUM(C108:C111)","v":261156393.46000001},{"$f":"SUM(D108:D111)","v":288947747.09999996},281762407.31999999,231533141.18396106,231533141.18396106,231533141.18396106,209646015.87575004,219918670.6536617,230254848.17438382]
["Public Toilets",null,7,39.549999999999997,0,null,0,0,null,0,0]
["Sewerage",null,261154067.56,288947596.98999995,281762407.31999999,231533141.18396106,231533141.18396106,231533141.18396106,209646015.87575004,219918670.6536617,230254848.17438382]
["Storm Water Management",null,2318.9,110.56,0,null,0,0,0,0,0]
["Waste Water Treatment",null,null,null,0,null,0,0,0,0,0]
["Waste management",null,{"$f":"SUM(C113:C116)","v":176328995.64000002},{"$f":"SUM(D113:D116)","v":154518614.72999999},150475631.12,187411103.59151816,187411103.59151816,187411103.59151816,158774103.1329,166554283.73974228,174399254.29518774]
["Recycling",null,null,null,0,null,0,0,0,0,0]
["Solid Waste Disposal (Landfill Sites)",null,54317150.460000008,39354941.57,37451184.189999998,39331060.45130153,39331060.45130153,39331060.45130153,0,0,0]
["Solid Waste Removal",null,122011845.18000001,115163673.15999998,113024446.93000001,148080043.14021662,148080043.14021662,148080043.14021662,158774103.1329,166554283.73974228,174399254.29518774]
["Street Cleaning",null,null,null,0,null,0,0,0,0,0]
["Other",null,{"$f":"SUM(C118:C123)","v":32681201.350000001},{"$f":"SUM(D118:D123)","v":49061946.319999993},26227823.480000004,67955454.608029872,67955454.608029872,67955454.608029872,101044616.26495585,113584253.14343685,118922713.04117841]
["Abattoirs",null,null,null,0,null,null,0,0,0,0]
["Air Transport",null,7386267.7299999995,6456463.5600000005,8595764.2000000011,12413491.86594706,12413491.86594706,12413491.86594706,41534302.447833002,46688709.381609067,48883078.7225447]
["Forestry ",null,4347826.09,21904865.390000001,0,9687813.7652234398,9687813.7652234398,9687813.7652234398,0,0,0]
["Licensing and Regulation",null,103515.49999999999,243272.99,189936.33,558867.53024679504,558867.53024679504,558867.53024679504,2292326.484033857,2576804.2007024586,2697913.998135474]
["Markets",null,20843579.620000001,20456577.799999997,17431810.100000001,45295281.446612582,45295281.446612582,45295281.446612582,57217987.333088987,64318739.561125331,67341720.320498228]
["Tourism",null,12.41,766.58,10312.85,null,0,0,0,0,0]
[{"$f":"\"Total \"&A4","v":"Total Revenue - Functional"},2,{"$f":"C5+C25+C74+C98+C117","v":5949608350.249999},6038959060,6222437237,7834336641.1455421,7770369383.4265423,7770369383.4265423,8569426178,9302895149.9999962,10366340414.999998]
[]
["Expenditure - Functional"]
[{"$f":"A5","v":"Municipal governance and administration"},null,{"$f":"C128+C131+C145","v":1038362184.7999995},1520817441.8899994,1191049486.5700023,1423527488.5838168,1399634843.8239999,1399634843.8239999,1480552759.1052101,1542103257.2794719,1613275975.6195669]
["Executive and council",null,{"$f":"SUM(C129:C130)","v":120747650.11000003},117397847.64999996,117808679.09,117494245.21787992,163072746.52999991,163072746.52999991,258320031.05366999,264803117.2082448,276751639.985246]
["Mayor and Council",null,78987084.480000019,76667592.009999961,87358886.800000012,85131102.342499942,84957626.789999947,84957626.789999947,94350834.421950057,98648657.770937681,103115140.14772989]
["Municipal Manager, Town Secretary and Chief Executive",null,41760565.63000001,40730255.640000001,30449792.289999988,32363142.875379987,78115119.73999998,78115119.73999998,163969196.63171995,166154459.43730712,173636499.83751613]
["Finance and administration",null,{"$f":"SUM(C132:C144)","v":898976596.40999949},1386457371.3499994,1053698122.1100024,1285221052.5424368,1216919906.434,1216919906.434,1193777692.58764,1247497428.0114515,1305345255.1318555]
["Administrative and Corporate Support",null,46763894.560000002,48520851.23999998,50791457.849999987,58475861.16496449,61010797.719999984,61010797.719999984,59777153.102950022,62472392.192582741,65286412.487648942]
["Asset Management",null,61292864.669999987,62056116.669999972,70971653.479999989,70532793.240833342,51113091.453999989,51113091.453999989,62176445.608900003,65064186.976801872,68039176.180738479]
["Finance",null,349092055.42999953,810749316.67999923,478867966.32000244,730866573.44457817,626186615.58000016,626186615.58000016,626500972.80509007,655178990.66074121,685012951.27013075]
["Fleet Management",null,null,0,0,null,0,0,0,0,0]
["Human Resources",null,78526261.099999994,78065597.330000043,77305139.460000023,113566051.01889572,88986551.790000007,88986551.790000007,91046088.266750023,94016902.798753709,99271245.092817664]
["Information Technology",null,39378015.420000009,41373957.399999991,32643990.520000007,51699390.498999991,55621890.530000001,55621890.530000001,57159369.863049999,59856727.506887235,62615940.301697165]
["Legal Services",null,14770253.189999998,13829269.889999995,10503949.749999998,16733791.780000001,18307857.779999997,18307857.779999997,18240282.653700002,19075018.925116494,19940697.679770742]
["Marketing, Customer Relations, Publicity and Media Co-ordination",null,15603502.729999997,16349277.730000006,17212369.130000003,17753994.789500002,18350710.249999996,18350710.249999996,19543388.61685,20422841.104608245,21341868.954315618]
["Property Services",null,75555808.519999981,66799138.260000013,68297316.799999997,55210808.765825257,55772078.18999999,55772078.18999999,63488452.646650001,66410940.271778248,69433791.139795437]
["Risk Management",null,null,0,0,null,0,0,0,0,0]
["Security Services",null,154812636.40000004,184663244.61000007,172034542.93000001,118804125.75033997,173731706.39000002,173731706.39000002,120077387.86580002,125651183.02571362,131394815.27614282]
["Supply Chain Management ",null,63181304.390000015,64050601.540000029,75069735.86999999,51577662.088499993,67838606.750000015,67838606.750000015,75768151.157900006,79348244.548468098,83008356.748797789]
["Valuation Service",null,null,0,0,null,0,0]
["Internal audit",null,{"$f":"SUM(C146:C146)","v":18637938.279999994},16962222.890000001,19542685.369999997,20812190.8235,19642190.859999999,19642190.859999999,28455035.463900004,29802712.059775505,31179080.502465397]
["Governance Function",null,18637938.279999994,16962222.890000001,19542685.369999997,20812190.8235,19642190.859999999,19642190.859999999,28455035.463900004,29802712.059775505,31179080.502465397]
["Community and public safety",null,{"$f":"C148+C170+C176+C185+C188","v":550877476.08999991},551498800.58000004,551440158.55999994,613713094.31616056,540010710.47799861,540010710.47799861,535783647.38537049,542802873.62134409,556136755.76124573]
["Community and social services",null,{"$f":"SUM(C149:C169)","v":112786554.15999997},{"$f":"SUM(D149:D169)","v":149092712.52000004},141393704.71999994,129634195.31604829,129214013.118,129214013.118,135893001.57432997,142179459.39971715,149432538.67917544]
["Aged Care",null,28650.61,556.83000000000004,636.73,42557.749499999998,620412.35,620412.35,658027.55774999992,687714.79784874991,718701.82575194363]
["Agricultural",null,null,0,0,null,0,0,0,0,0]
["Animal Care and Diseases",null,1322049.3600000001,1400050.2,1482653,1200000,1200000,1200000,1257600,1319222.3999999999,1381225.8527999998]
["Cemeteries, Funeral Parlours and Crematoriums",null,25987108.460000001,26495873.820000011,29019589.550000004,30020423.069344454,30020423.080000006,30020423.080000006,32803662.198449999,34289532.861060247,35837652.565308101]
["Child Care Facilities",null,null,0,0,null,0,0,0,0,0]
["Community Halls and Facilities",null,15253772.860000005,45190957.960000001,29720949.309999999,15113189.351426724,13658781.379999999,13658781.379999999,15799744.623949999,16532121.132027755,17287284.588969]
["Consumer Protection",null,null,0,0,null,0,0,0,0,0]
["Cultural Matters",null,null,0,0,null,0,0,0,0,0]
["Disaster Management",null,null,0,0,null,0,0,0,0,0]
["Education",null,null,0,0,null,0,0,0,0,0]
[{"$f":"A37","v":"Indigenous and Customary Law"},null,null,0,0,null,0,0,0,0,0]
["Industrial Promotion",null,null,0,0,null,0,0,0,0,0]
["Language Policy",null,null,0,0,null,0,0,0,0,0]
["Libraries and Archives",null,58401677.979999959,63852761.410000026,69491675.269999936,72261023.206040919,73131230.280000001,73131230.280000001,73518450.614529997,76954571.583910167,81252292.269710124]
["Literacy Programmes",null,null,0,0,null,0,0,0,0,0]
["Media Services",null,null,0,0,null,0,0,0,0,0]
["Museums and Art Galleries",null,6707807.7100000009,7430643.2700000014,7662252.2699999996,5881079.5994999995,5487540.6479999991,5487540.6479999991,6040266.1131999996,6314453.8042299999,6597282.5884287814]
["Population Development",null,5079039.34,4714883.8699999982,4009500.75,5115922.3402362093,5095625.379999999,5095625.379999999,5815250.4664500011,6081842.8206402492,6358098.9882074622]
["Provincial Cultural Matters",null,null,0,0,null,0,0]
["Theatres",null,6447.84,6985.16,6447.84,null,0,0]
["Zoo's",null,null,null,0,null,0,0]
["Sport and recreation",null,{"$f":"SUM(C171:C175)","v":102539647.32000002},121244913.64000003,115888281.38,153119379.20126945,147756038.4699986,147756038.4699986,130424689.03570996,136399028.7017464,142592177.42519572]
["Beaches and Jetties ",null,null,null,0,null,0,0]
["Casinos, Racing, Gambling, Wagering",null,null,null,0,null,0,0]
["Community Parks (including Nurseries)",null,45310937.109999999,49055094.570000038,56517812.86999996,69646307.740014195,68962307.870000005,68962307.870000005,72878671.55377996,76186430.923174009,79629621.258615896]
["Recreational Facilities",null,57228710.210000023,72189819.069999993,59134104.510000028,83473071.461255252,77967322.599998578,77967322.599998578,56465275.913929991,59078899.873740397,61775574.460220709]
["Sports Grounds and Stadiums",null,null,null,236364,null,826408,826408,1080741.568,1133697.9048320001,1186981.7063591038]
["Public safety",null,{"$f":"SUM(C177:C184)","v":193214425.33999997},196809242.19999999,216193878.25,207854114.14148462,207622267.35999998,207622267.35999998,220685496.01233053,213467615.50143355,211306049.73158419]
["Civil Defence",null,13908466.710000001,14573432.220000001,15285989.35,18109375.250257164,18030003.280000005,18030003.280000005,19219679.351999991,20139933.925619997,21101023.379486341]
["Cleansing",null,null,0,0,null,0,0,0,0,0]
[{"$f":"A57","v":"Control of Public Nuisances"},null,null,0,0,null,0,0,0,0,0]
["Fencing and Fences ",null,null,0,0,null,0,0,0,0,0]
["Fire Fighting and Protection",null,98385793.119999975,95656656.359999999,109259286.02999999,103532071.11460863,105669596.25999999,105669596.25999999,113864517.82308057,101756623.16893025,94498741.078438446]
["Licensing and Control of Animals",null,null,0,0,null,0,0,0,0,0]
["Police Forces, Traffic and Street Parking Control",null,80920165.50999999,86579153.620000005,91648602.870000005,86212667.776618809,83922667.819999993,83922667.819999993,87601298.837249979,91571058.406883284,95706285.273659423]
["Pounds",null,null,null,0,null,0,0,0,0,0]
[{"$f":"A63","v":"Housing"},null,{"$f":"SUM(C186:C187)","v":136867613.72999996},74912128.999999985,68394082.769999996,110226497.50518,42564006.329999998,42564006.329999998,35263319.4102,36629554.104770996,38042103.517098933]
["Housing",null,136867613.72999996,74912128.999999985,68394082.769999996,110226497.50518,42564006.329999998,{"$f":"G186","v":42564006.329999998},35263319.4102,36629554.104770996,38042103.517098933]
["Informal Settlements",null,null,null,0,null,0,0]
["Health",null,{"$f":"SUM(C189:C195)","v":5469235.5399999991},{"$f":"SUM(D189:D195)","v":9439803.2200000007},9570211.4399999995,12878908.152178148,12854385.200000003,12854385.200000003,13517141.352799997,14127215.913676001,14763886.408191418]
["Ambulance",null,null,null,0,null,0,0]
["Health Services",null,5469235.5399999991,9439803.2200000007,9570211.4399999995,12878908.152178148,12854385.200000003,12854385.200000003,13517141.352799997,14127215.913676001,14763886.408191418]
["Laboratory Services",null,null,null,0,null,0,0]
["Food Control",null,null,null,0,null,0,0]
["Health Surveillance and Prevention of Communicable Diseases including immunizations",null,null,null,0,null,0,0]
["Vector Control",null,null,null,0,null,0,0]
["Chemical Safety",null,null,null,0,null,0,0]
["Economic and environmental services",null,{"$f":"C197+C208+C213","v":332744460.63000005},313304803.33000004,393095328.99000007,375461838.57209504,403531040.93700004,403531040.93700004,513621030.73583996,536409574.6590395,560925958.92847204]
["Planning and development",null,{"$f":"SUM(C198:C207)","v":83509759.390000015},{"$f":"SUM(D198:D207)","v":69071779.380000025},87743205.430000037,78766873.587500036,96727161.333000019,96727161.333000019,84862819.172940001,87699044.716661274,91678229.837063491]
["Billboards",null,null,null,0,null,0,0,0,0,0]
["Corporate Wide Strategic Planning (IDPs, LEDs)",null,5500706.7299999995,6772978.5,6406941.959999999,7673782.3625000017,8554656.1099999994,8554656.1099999994,9449713.0767499972,9881949.1972037517,10330307.90336192]
["Central City Improvement District",null,null,0,0,null,0,0,0,0,0]
["Development Facilitation",null,null,0,0,null,0,0,0,0,0]
["Economic Development/Planning",null,13287784.870000005,7308567.1600000001,11125047.750000002,11188492.4245,11578333.84,11578333.84,13694455.520049999,13291774.538892256,13903577.332113177]
["Regional Planning and Development",null,null,0,0,null,0,0,0,0,0]
["Town Planning, Building Regulations and Enforcement, and City Engineer",null,64721267.790000007,54990233.720000021,70211215.720000044,59904598.800500028,76594171.383000016,76594171.383000016,61718650.576140009,64525320.980565272,67444344.601588398]
["Project Management Unit",null,null,null,0,null,0,0]
["Provincial Planning",null,null,null,0,null,0,0]
["Support to Local Municipalities",null,null,null,0,null,0,0]
["Road transport",null,{"$f":"SUM(C209:C212)","v":228801221.18000001},223381413.30000001,282415490.86000001,270631755.75050032,282199280.00000006,282199280.00000006,402475671.16714996,421231370.1044715,440524713.82307553]
["Public Transport",null,6531463.5099999988,7878623.3799999999,10795678.240000004,6351637.5409999993,6621637.5700000012,6621637.5700000012,6742509.3140500011,7058444.8411822487,7382642.9669314502]
["Road and Traffic Regulation",null,null,0,0,null,0,0,0,0,0]
["Roads",null,219845849.30000001,213423592.26000002,269811581.25999999,262547401.39350036,273959968.25000006,273959968.25000006,393924556.45119995,412280264.85430378,431162841.4865362]
["Taxi Ranks",null,2423908.37,2079197.6599999997,1808231.3599999999,1732716.8160000001,1617674.1800000002,1617674.1800000002,1808605.4018999997,1892660.4089855,1979229.3696078472]
["Environmental protection",null,{"$f":"SUM(C214:C219)","v":20433480.060000002},{"$f":"SUM(D214:D219)","v":20851610.649999999},22936632.700000003,26063209.234094702,24604599.603999995,24604599.603999995,26282540.395750005,27479159.837906741,28723015.268333077]
["Biodiversity and Landscape",null,null,null,0,null,0,0]
["Coastal Protection",null,null,null,0,null,0,0]
["Indigenous Forests",null,null,null,0,null,0,0]
[{"$f":"A95","v":"Nature Conservation"},null,4966902.9400000004,4261801.040000001,5180345.21,6576686.5307,5951500.7699999996,5951500.7699999996,6467961.4522500001,6764849.47360125,7072325.4069353044]
["Pollution Control",null,15466577.120000001,16589809.609999998,17756287.490000002,19486522.7033947,18653098.833999995,18653098.833999995,19814578.943500005,20714310.364305492,21650689.861397773]
["Soil Conservation",null,null,null,0,null,0,0]
["Trading services",null,{"$f":"C221+C225+C229+C234","v":3726987413.6399989},{"$f":"D221+D225+D229+D234","v":3532257237.5100017},4733193786.6699972,4323067957.3034744,4212498612.9660001,4212498612.9660001,5109852270.9189796,5799171443.7353601,6383560579.1212807]
["Energy sources",null,{"$f":"SUM(C222:C224)","v":2095935638.1399987},{"$f":"SUM(D222:D224)","v":1916751313.3999996},2982827962.3400002,2707081565.7371736,2773851064.8899999,2773851064.8899999,3289791559.6896291,3880684085.4224238,4376467642.4245243]
["Electricity ",null,2073960612.3599987,1886499282.2899997,2950207305,2675098909.2521734,2773851064.8899999,2773851064.8899999,3289791559.6896291,3880684085.4224238,4376467642.4245243]
["Street Lighting and Signal Systems",null,21975025.780000001,30252031.110000003,32620657.339999996,31982656.484999999,0,0,0,0,0]
["Nonelectric Energy",null,null,null,0,null,0,0,0,0,0]
["Water management",null,{"$f":"SUM(C226:C228)","v":1216151982.74},{"$f":"SUM(D226:D228)","v":1172570222.9900014},1280896308.8899977,1187779784.0970142,984739719.28599989,984739719.28599989,1293156973.5049391,1355688448.0384879,1418970449.1259158]
["Water Treatment",null,null,null,0,null,0,0,0,0,0]
["Water Distribution",null,1216151982.74,1172570222.9900014,1280896308.8899977,1187779784.0970142,984739719.28599989,984739719.28599989,1293156973.5049391,1355688448.0384879,1418970449.1259158]
["Water Storage",null,null,null,0,null,0,0,0,0,0]
["Waste water management",null,{"$f":"SUM(C230:C233)","v":259564356.74000001},{"$f":"SUM(D230:D233)","v":294864459.79999995},325212343.78999996,294534683.93052161,338156292.76000005,338156292.76000005,399300023.23709154,429298391.728275,448533338.63240778]
["Public Toilets",null,2974590.1199999996,3165191.5599999996,2532683.4799999995,3612385.1530800001,3092385.15,3092385.15,3781334.1134100002,3781334.1134100002,4153010.4666438019]
["Sewerage",null,229825174.31,265416348.93999997,295458713.79999995,256271714.62744164,305321007.43000007,305321007.43000007,363938329.14618152,393936697.63736498,409893246.39099956]
["Storm Water Management",null,26764592.310000006,26282919.300000008,27220946.509999998,34650584.149999999,29742900.18,29742900.18,31580359.97750001,31580359.97750001,34487081.774764426]
["Waste Water Treatment",null,null,null,0,null,0,0,0,0,0]
["Waste management",null,{"$f":"SUM(C235:C238)","v":155335436.02000001},{"$f":"SUM(D235:D238)","v":148071241.31999996},144257171.65000004,133671923.53876582,115751536.03,115751536.03,127603714.48732021,133500518.54617307,139589148.93843222]
["Recycling",null,null,null,0,null,0,0,0,0,0]
["Solid Waste Disposal (Landfill Sites)",null,15015690.77,14553144.019999998,17150084.129999995,17279744.01786245,17491400.439999998,17491400.439999998,16324162.11723,17110817.942628868,17908114.694096956,null,null,null,null,0]
["Solid Waste Removal",null,140319745.25,133518097.29999997,127107087.52000003,116392179.52090336,98260135.590000004,98260135.590000004,111279552.37009022,116389700.60354419,121681034.24433526]
["Street Cleaning",null,null,null,0,null,0,0,null,0,0]
["Other",null,{"$f":"SUM(C240:C245)","v":76856662.089999989},{"$f":"SUM(D240:D245)","v":66124376.689998507},80640656.209999993,64362345.725500003,67535049.143000007,67535049.143000007,63978086.854600012,66741393.704784997,69793688.569436654]
["Abattoirs",null,null,null,0,null,0,0,0,0,0]
["Air Transport",null,19394700.789999995,23621261.829999994,25566698.639999997,26366475.553000003,26014893.190000005,26014893.190000005,20656518.23855,21417386.359284747,22402319.10305256]
["Forestry ",null,23074439.920000002,7849452.2799985129,18793066.190000001,4345414.9914999986,2414827.5249999999,2414827.5249999999,1838278.6540999997,1927913.6735344995,2018295.3846035528]
["Licensing and Regulation",null,4080150.6200000006,4304772.8899999997,4950226.47,5402033.5690000001,5992379.0820000004,5992379.0820000004,6622068.8997499999,6922826.4322387502,7235803.5662734928]
["Markets",null,27628357.369999997,27877528.050000001,29308262.119999994,25556874.369000003,27484975.611999996,27484975.611999996,28847018.797550008,30166051.982951749,31534495.466758616]
["Tourism",null,2679013.3900000006,2471361.64,2022402.7900000003,2691547.2429999993,5627973.7340000002,5627973.7340000002,6014202.2646499993,6307215.2567752497,6602775.0487484289]
[{"$f":"\"Total \"&A126","v":"Total Expenditure - Functional"},3,{"$f":"C127+C147+C196+C220+C239","v":5725828197.2499981},5984002660,6949419416.999999,6800132724.5010471,6623210257.3479977,6623210257.3479977,7703787795,8487228543.000001,9183692958.0000019]
[{"$f":"result","v":"Surplus/(Deficit) for the year"},null,{"$f":"C124-C246","v":223780153.00000095},54956400,-726982179.99999905,1034203916.644495,1147159126.0785446,1147159126.0785446,865638383,815666606.99999523,1182647456.9999962]
[{"$f":"head27a","v":"References"}]
["1. Government Finance Statistics Functions and Sub-functions are standardised to assist national and international accounts and comparison"]
["2. Total Revenue by Functional Classification must reconcile to total operating revenue shown in Financial Performance (revenue and expenditure)"]
["3. Total Expenditure by Functional Classification must reconcile to total operating expenditure shown in Financial Performance (revenue and expenditure)"]
["4. All amounts must be classified under a Functional classification. The GFS function 'Other' is only for Abbatoirs, Air Transport,  Forestry, Licensing and Regulation, Markets and Tourism - and if used must be supported by footnotes. Nothing else may be placed under 'Other'. Assign associate share to relevant classification"]
[]
[]
["check oprev balance",null,{"$f":"C124-'A4-FinPerf RE'!C32","v":462494772.24999905},{"$f":"D124-'A4-FinPerf RE'!D32","v":498603417},{"$f":"E124-'A4-FinPerf RE'!E32","v":368724617},{"$f":"F124-'A4-FinPerf RE'!F32","v":783566379.69067192},{"$f":"G124-'A4-FinPerf RE'!G32","v":774732512.7716732},{"$f":"H124-'A4-FinPerf RE'!H32","v":774732512.7716732},{"$f":"I124-'A4-FinPerf RE'!J32","v":448700052.73954105},{"$f":"J124-'A4-FinPerf RE'!K32","v":321309345.00280762},{"$f":"K124-'A4-FinPerf RE'!L32","v":327881556.98581505}]
["check opexp balance",null,{"$f":"C246-'A4-FinPerf RE'!C47","v":32381023.249999046},{"$f":"D246-'A4-FinPerf RE'!D47","v":0},{"$f":"E246-'A4-FinPerf RE'!E47","v":0},{"$f":"F246-'A4-FinPerf RE'!F47","v":345185831.26233864},{"$f":"G246-'A4-FinPerf RE'!G47","v":0},{"$f":"H246-'A4-FinPerf RE'!H47","v":0},{"$f":"I246-'A4-FinPerf RE'!J47","v":0},{"$f":"J246-'A4-FinPerf RE'!K47","v":0},{"$f":"K246-'A4-FinPerf RE'!L47","v":0}]

{"sheet":"A3-FinPerf V","index":9,"n_rows":45,"n_cols":23,"rows_kept":45,"cut":false,"hidden":false,"merged":[[1,5,1,7],[1,8,1,10],[1,11,1,22]]}
[{"$f":"muni&\" - \"&Approve2","v":"0 - Table A3 Budgeted Financial Performance (revenue and expenditure by municipal vote)"}]
[{"$f":"Vdesc","v":"Vote Description"},{"$f":"head27","v":"Ref"},{"$f":"head1b","v":"2019/20"},{"$f":"head1A","v":"2020/21"},{"$f":"Head1","v":"2021/22"},{"$f":"Head2","v":"Current Year 2022/23"},null,null,{"$f":"Head3","v":"2023/24 Medium Term Revenue & Expenditure Framework"},null,null,{"$f":"Head4","v":"LTFS"}]
["R thousand",null,{"$f":"Head5","v":"Audited Outcome"},{"$f":"Head5","v":"Audited Outcome"},{"$f":"Head5","v":"Audited Outcome"},{"$f":"Head6","v":"Original Budget"},{"$f":"Head7","v":"Adjusted Budget"},{"$f":"Head8","v":"Full Year Forecast"},{"$f":"Head9","v":"Budget Year 2023/24"},{"$f":"Head10","v":"Budget Year +1 2024/25"},{"$f":"Head11","v":"Budget Year +2 2025/26"},{"$f":"Head12","v":"Forecast 2026/27"},{"$f":"Head13","v":"Forecast 2027/28"},{"$f":"Head14","v":"Forecast 2028/29"},{"$f":"Head15","v":"Forecast 2029/30"},{"$f":"Head16","v":"Forecast 2030/31"},{"$f":"Head17","v":"Forecast 2031/32"},{"$f":"Head18","v":"Forecast 2032/33"},{"$f":"Head19","v":"Forecast 2033/34"},{"$f":"Head20","v":"Forecast 2034/35"},{"$f":"Head21","v":"Forecast 2035/36"},{"$f":"Head22","v":"Forecast 2036/37"},{"$f":"Head23","v":"Forecast 2037/38"}]
["Revenue by Vote",1]
[{"$f":"A3A!A5","v":"Vote 1 - City Manager"},null,{"$f":"A3A!C5","v":325.94000000000347},{"$f":"A3A!D5","v":316680.28000000003},{"$f":"A3A!E5","v":21554.57},{"$f":"A3A!F5","v":66070.114614654172},{"$f":"A3A!G5","v":66070.114614654172},{"$f":"A3A!H5","v":66070.114614654172},{"$f":"A3A!I5","v":0},{"$f":"A3A!J5","v":0},{"$f":"A3A!K5","v":0}]
[{"$f":"A3A!A16","v":"Vote 2 - City Finance"},null,{"$f":"A3A!C16","v":1641524016.2699997},{"$f":"A3A!D16","v":1673384925.8199999},{"$f":"A3A!E16","v":1692708414.1399996},{"$f":"A3A!F16","v":2098136528.2242875},{"$f":"A3A!G16","v":2034169270.5052874},{"$f":"A3A!H16","v":2034169270.5052874},{"$f":"A3A!I16","v":2342934596.9894886},{"$f":"A3A!J16","v":2471595104.627667},{"$f":"A3A!K16","v":2625593187.2712536}]
[{"$f":"A3A!A27","v":"Vote 3 - Corporate Services"},null,{"$f":"A3A!C27","v":4201240.59},{"$f":"A3A!D27","v":3958707.1499999994},{"$f":"A3A!E27","v":3542654.1799999997},{"$f":"A3A!F27","v":5518589.7765542185},{"$f":"A3A!G27","v":7947033.4628754351},{"$f":"A3A!H27","v":7947033.4628754351},{"$f":"A3A!I27","v":7980216.9733000007},{"$f":"A3A!J27","v":3148276.6049917},{"$f":"A3A!K27","v":3296245.6054263096}]
[{"$f":"A3A!A37","v":"Vote 4 - Community Services and Social Equity"},null,{"$f":"A3A!C37","v":233840786.66999999},{"$f":"A3A!D37","v":198749941.63999999},{"$f":"A3A!E37","v":215034923.48000002},{"$f":"A3A!F37","v":221409887.57524872},{"$f":"A3A!G37","v":221409887.57524872},{"$f":"A3A!H37","v":221409887.57524872},{"$f":"A3A!I37","v":497013172.69024205},{"$f":"A3A!J37","v":513912687.24530405},{"$f":"A3A!K37","v":537992891.34992743}]
[{"$f":"A3A!A48","v":"Vote 5 - Infrastructure Services"},null,{"$f":"A3A!C48","v":1584762444.5200005},{"$f":"A3A!D48","v":1719141597.9099996},{"$f":"A3A!E48","v":1596046262.1200004},{"$f":"A3A!F48","v":1831866117.1230555},{"$f":"A3A!G48","v":1831866117.1230555},{"$f":"A3A!H48","v":1831866117.1230555},{"$f":"A3A!I48","v":1520657146.0191998},{"$f":"A3A!J48","v":1620256216.9519873},{"$f":"A3A!K48","v":1696742341.1572068}]
[{"$f":"A3A!A59","v":"Vote 6 - Sustainable Development and City Enterprises"},null,{"$f":"A3A!C59","v":243419159.21000007},{"$f":"A3A!D59","v":229818291.27999997},{"$f":"A3A!E59","v":144081748.58000001},{"$f":"A3A!F59","v":369027983.12234604},{"$f":"A3A!G59","v":369027983.12234604},{"$f":"A3A!H59","v":369027983.12234604},{"$f":"A3A!I59","v":200280366.01151729},{"$f":"A3A!J59","v":202212592.39375246},{"$f":"A3A!K59","v":210118731.48021477}]
[{"$f":"A3A!A70","v":"Vote 7 - Electricity"},null,{"$f":"A3A!C70","v":2241860377.0499988},{"$f":"A3A!D70","v":2213588915.920001},{"$f":"A3A!E70","v":2571001679.9299998},{"$f":"A3A!F70","v":3305883087.2042556},{"$f":"A3A!G70","v":3305883087.2042556},{"$f":"A3A!H70","v":3305883087.2042556},{"$f":"A3A!I70","v":4000560679.3162532},{"$f":"A3A!J70","v":4491770272.1762962},{"$f":"A3A!K70","v":5292597018.1359711}]
[{"$f":"A3A!A81","v":"Vote 8 - [NAME OF VOTE 8]"},null,{"$f":"A3A!C81","v":0},{"$f":"A3A!D81","v":0},{"$f":"A3A!E81","v":0},{"$f":"A3A!F81","v":0},{"$f":"A3A!G81","v":0},{"$f":"A3A!H81","v":0},{"$f":"A3A!I81","v":0},{"$f":"A3A!J81","v":0},{"$f":"A3A!K81","v":0}]
[{"$f":"A3A!A92","v":"Vote 9 - [NAME OF VOTE 9]"},null,{"$f":"A3A!C92","v":0},{"$f":"A3A!D92","v":0},{"$f":"A3A!E92","v":0},{"$f":"A3A!F92","v":0},{"$f":"A3A!G92","v":0},{"$f":"A3A!H92","v":0},{"$f":"A3A!I92","v":0},{"$f":"A3A!J92","v":0},{"$f":"A3A!K92","v":0}]
[{"$f":"A3A!A103","v":"Vote 10 - [NAME OF VOTE 10]"},null,{"$f":"A3A!C103","v":0},{"$f":"A3A!D103","v":0},{"$f":"A3A!E103","v":0},{"$f":"A3A!F103","v":0},{"$f":"A3A!G103","v":0},{"$f":"A3A!H103","v":0},{"$f":"A3A!I103","v":0},{"$f":"A3A!J103","v":0},{"$f":"A3A!K103","v":0}]
[{"$f":"A3A!A114","v":"Vote 11 - [NAME OF VOTE 11]"},null,{"$f":"A3A!C114","v":0},{"$f":"A3A!D114","v":0},{"$f":"A3A!E114","v":0},{"$f":"A3A!F114","v":0},{"$f":"A3A!G114","v":0},{"$f":"A3A!H114","v":0},{"$f":"A3A!I114","v":0},{"$f":"A3A!J114","v":0},{"$f":"A3A!K114","v":0},{"$f":"A5A!L114","v":0}]
[{"$f":"A3A!A125","v":"Vote 12 - [NAME OF VOTE 12]"},null,{"$f":"A3A!C125","v":0},{"$f":"A3A!D125","v":0},{"$f":"A3A!E125","v":0},{"$f":"A3A!F125","v":0},{"$f":"A3A!G125","v":0},{"$f":"A3A!H125","v":0},{"$f":"A3A!I125","v":0},{"$f":"A3A!J125","v":0},{"$f":"A3A!K125","v":0},{"$f":"A5A!L125","v":0}]
[{"$f":"A3A!A136","v":"Vote 13 - [NAME OF VOTE 13]"},null,{"$f":"A3A!C136","v":0},{"$f":"A3A!D136","v":0},{"$f":"A3A!E136","v":0},{"$f":"A3A!F136","v":0},{"$f":"A3A!G136","v":0},{"$f":"A3A!H136","v":0},{"$f":"A3A!I136","v":0},{"$f":"A3A!J136","v":0},{"$f":"A3A!K136","v":0},{"$f":"A5A!L136","v":0}]
[{"$f":"A3A!A147","v":"Vote 14 - [NAME OF VOTE 14]"},null,{"$f":"A3A!C147","v":0},{"$f":"A3A!D147","v":0},{"$f":"A3A!E147","v":0},{"$f":"A3A!F147","v":0},{"$f":"A3A!G147","v":0},{"$f":"A3A!H147","v":0},{"$f":"A3A!I147","v":0},{"$f":"A3A!J147","v":0},{"$f":"A3A!K147","v":0},{"$f":"A5A!L147","v":0}]
[{"$f":"A3A!A158","v":"Vote 15 - [NAME OF VOTE 15]"},null,{"$f":"A3A!C158","v":0},{"$f":"A3A!D158","v":0},{"$f":"A3A!E158","v":0},{"$f":"A3A!F158","v":0},{"$f":"A3A!G158","v":0},{"$f":"A3A!H158","v":0},{"$f":"A3A!I158","v":0},{"$f":"A3A!J158","v":0},{"$f":"A3A!K158","v":0},{"$f":"A5A!L158","v":0}]
["Total Revenue by Vote",2,{"$f":"SUM(C5:C19)","v":5949608350.249999},{"$f":"SUM(D5:D19)","v":6038959060},6222437237,7831908263.1403618,7770369449.1076832,7770369449.1076832,8569426178,9302895150,10366340415]
[]
["Expenditure by Vote to be appropriated",1]
[{"$f":"A3A!A172","v":"Vote 1 - City Manager"},null,{"$f":"A3A!C172","v":156568923.94},{"$f":"A3A!D172","v":144293564.35999995},{"$f":"A3A!E172","v":155043755.89000002},{"$f":"A3A!F172","v":157775344.36349994},{"$f":"A3A!G172","v":148399679.42999995},{"$f":"A3A!H172","v":148399679.42999995},{"$f":"A3A!I172","v":300105971.0701499},{"$f":"A3A!J172","v":313749698.60030675},{"$f":"A3A!K172","v":327941318.94470441}]
[{"$f":"A3A!A183","v":"Vote 2 - City Finance"},null,{"$f":"A3A!C183","v":489928288.83000004},{"$f":"A3A!D183","v":951383518.39999998},{"$f":"A3A!E183","v":611783863.67000008},{"$f":"A3A!F183","v":846124063.23607826},{"$f":"A3A!G183","v":757338722.30999994},{"$f":"A3A!H183","v":757338722.30999994},{"$f":"A3A!I183","v":799187822.74149001},{"$f":"A3A!J183","v":835918652.58300567},{"$f":"A3A!K183","v":874033756.4898597}]
[{"$f":"A3A!A194","v":"Vote 3 - Corporate Services"},null,{"$f":"A3A!C194","v":78073132.649999991},{"$f":"A3A!D194","v":89837684.959999993},{"$f":"A3A!E194","v":69616493.690000013},{"$f":"A3A!F194","v":99501184.072879985},{"$f":"A3A!G194","v":242457481.72000003},{"$f":"A3A!H194","v":242457481.72000003},{"$f":"A3A!I194","v":195633443.38037002},{"$f":"A3A!J194","v":199465750.20164624},{"$f":"A3A!K194","v":208563317.88859463}]
[{"$f":"A3A!A204","v":"Vote 4 - Community Services and Social Equity"},null,{"$f":"A3A!C204","v":768775615.63999963},{"$f":"A3A!D204","v":848301582.7499994},{"$f":"A3A!E204","v":864836632.15999997},{"$f":"A3A!F204","v":801717965.13803589},{"$f":"A3A!G204","v":837659497.9200002},{"$f":"A3A!H204","v":837659497.9200002},{"$f":"A3A!I204","v":827458053.8400197},{"$f":"A3A!J204","v":865408025.82646799},{"$f":"A3A!K204","v":905493807.32650614}]
[{"$f":"A3A!A215","v":"Vote 5 - Infrastructure Services"},null,{"$f":"A3A!C215","v":1748945156.2749989},{"$f":"A3A!D215","v":1734904818.9750006},{"$f":"A3A!E215","v":2026075660.7999997},{"$f":"A3A!F215","v":1768788550.0619564},{"$f":"A3A!G215","v":1621673325.6799965},{"$f":"A3A!H215","v":1621673325.6799965},{"$f":"A3A!I215","v":2117250005.9725699},{"$f":"A3A!J215","v":2229930567.7122083},{"$f":"A3A!K215","v":2332105416.8701296}]
[{"$f":"A3A!A226","v":"Vote 6 - Sustainable Development and City Enterprises"},null,{"$f":"A3A!C226","v":329587598.99000007},{"$f":"A3A!D226","v":242328175.91999993},{"$f":"A3A!E226","v":271855705.78999996},{"$f":"A3A!F226","v":291171880.10219467},{"$f":"A3A!G226","v":242374357.76800001},{"$f":"A3A!H226","v":242374357.76800001},{"$f":"A3A!I226","v":224007326.25767064},{"$f":"A3A!J226","v":215568824.48431984},{"$f":"A3A!K226","v":213318280.94486776}]
[{"$f":"A3A!A237","v":"Vote 7 - Electricity"},null,{"$f":"A3A!C237","v":2153949480.9249992},{"$f":"A3A!D237","v":1972953314.6350002},{"$f":"A3A!E237","v":2950207305},{"$f":"A3A!F237","v":2731735557.8155065},{"$f":"A3A!G237","v":2773307192.5200009},{"$f":"A3A!H237","v":2773307192.5200009},{"$f":"A3A!I237","v":3240145171.7377305},{"$f":"A3A!J237","v":3827187023.5920448},{"$f":"A3A!K237","v":4322237059.5353384}]
[{"$f":"A3A!A248","v":"Vote 8 - [NAME OF VOTE 8]"},null,{"$f":"A3A!C248","v":0},{"$f":"A3A!D248","v":0},{"$f":"A3A!E248","v":0},{"$f":"A3A!F248","v":0},{"$f":"A3A!G248","v":0},{"$f":"A3A!H248","v":0},{"$f":"A3A!I248","v":0},{"$f":"A3A!J248","v":0},{"$f":"A3A!K248","v":0}]
[{"$f":"A3A!A259","v":"Vote 9 - [NAME OF VOTE 9]"},null,{"$f":"A3A!C259","v":0},{"$f":"A3A!D259","v":0},{"$f":"A3A!E259","v":0},{"$f":"A3A!F259","v":0},{"$f":"A3A!G259","v":0},{"$f":"A3A!H259","v":0},{"$f":"A3A!I259","v":0},{"$f":"A3A!J259","v":0},{"$f":"A3A!K259","v":0}]
[{"$f":"A3A!A270","v":"Vote 10 - [NAME OF VOTE 10]"},null,{"$f":"A3A!C270","v":0},{"$f":"A3A!D270","v":0},{"$f":"A3A!E270","v":0},{"$f":"A3A!F270","v":0},{"$f":"A3A!G270","v":0},{"$f":"A3A!H270","v":0},{"$f":"A3A!I270","v":0},{"$f":"A3A!J270","v":0},{"$f":"A3A!K270","v":0}]
[{"$f":"A3A!A281","v":"Vote 11 - [NAME OF VOTE 11]"},null,{"$f":"A3A!C281","v":0},{"$f":"A3A!D281","v":0},{"$f":"A3A!E281","v":0},{"$f":"A3A!F281","v":0},{"$f":"A3A!G281","v":0},{"$f":"A3A!H281","v":0},{"$f":"A3A!I281","v":0},{"$f":"A3A!J281","v":0},{"$f":"A3A!K281","v":0},{"$f":"A3A!L282","v":0}]
[{"$f":"A3A!A292","v":"Vote 12 - [NAME OF VOTE 12]"},null,{"$f":"A3A!C292","v":0},{"$f":"A3A!D292","v":0},{"$f":"A3A!E292","v":0},{"$f":"A3A!F292","v":0},{"$f":"A3A!G292","v":0},{"$f":"A3A!H292","v":0},{"$f":"A3A!I292","v":0},{"$f":"A3A!J292","v":0},{"$f":"A3A!K292","v":0},{"$f":"A3A!L293","v":0}]
[{"$f":"A3A!A303","v":"Vote 13 - [NAME OF VOTE 13]"},null,{"$f":"A3A!C303","v":0},{"$f":"A3A!D303","v":0},{"$f":"A3A!E303","v":0},{"$f":"A3A!F303","v":0},{"$f":"A3A!G303","v":0},{"$f":"A3A!H303","v":0},{"$f":"A3A!I303","v":0},{"$f":"A3A!J303","v":0},{"$f":"A3A!K303","v":0},{"$f":"A3A!L304","v":0}]
[{"$f":"A3A!A314","v":"Vote 14 - [NAME OF VOTE 14]"},null,{"$f":"A3A!C314","v":0},{"$f":"A3A!D314","v":0},{"$f":"A3A!E314","v":0},{"$f":"A3A!F314","v":0},{"$f":"A3A!G314","v":0},{"$f":"A3A!H314","v":0},{"$f":"A3A!I314","v":0},{"$f":"A3A!J314","v":0},{"$f":"A3A!K314","v":0},{"$f":"A3A!L315","v":0}]
[{"$f":"A3A!A325","v":"Vote 15 - [NAME OF VOTE 15]"},null,{"$f":"A3A!C325","v":0},{"$f":"A3A!D325","v":0},{"$f":"A3A!E325","v":0},{"$f":"A3A!F325","v":0},{"$f":"A3A!G325","v":0},{"$f":"A3A!H325","v":0},{"$f":"A3A!I325","v":0},{"$f":"A3A!J325","v":0},{"$f":"A3A!K325","v":0},{"$f":"A3A!L326","v":0}]
["Total Expenditure by Vote",2,{"$f":"SUM(C23:C37)","v":5725828197.2499981},{"$f":"SUM(D23:D37)","v":5984002660},6949419417,6696814544.7901516,6623210257.3479977,6623210257.3479977,7703787795,8487228543,9183692958,{"$f":"SUM(L23:L29)","v":0},0,0,0,0,0,0,0,0,0,0,0]
[{"$f":"result","v":"Surplus/(Deficit) for the year"},2,{"$f":"C20-C38","v":223780153.00000095},54956400,-726982180,1135093718.3502102,1147159191.7596855,1147159191.7596855,865638383,815666607,1182647457,0,0,0,0,0,0,0,0,0,0,0,0]
[{"$f":"head27a","v":"References"}]
["1. Insert 'Vote'; e.g. department, if different to functional classification structure"]
["2. Must reconcile to Budgeted Financial Performance (revenue and expenditure)"]
["3. Assign share in 'associate' to relevant Vote"]
[]
[{"$f":"\"check \"&A39","v":"check Surplus/(Deficit) for the year"},null,{"$f":"C39-A3A!C338","v":0},{"$f":"D39-A3A!D338","v":0},{"$f":"E39-A3A!E338","v":0},{"$f":"F39-A3A!F338","v":0},{"$f":"G39-A3A!G338","v":0},{"$f":"H39-A3A!H338","v":0},{"$f":"I39-A3A!I338","v":0},{"$f":"J39-A3A!J338","v":0},{"$f":"K39-A3A!K338","v":0}]

{"sheet":"A3A","index":10,"n_rows":345,"n_cols":24,"rows_kept":345,"cut":false,"hidden":false,"merged":[[1,11,1,22],[1,5,1,7],[1,8,1,10]]}
[{"$f":"muni&\" - \"&Approve2&\"A\"","v":"0 - Table A3 Budgeted Financial Performance (revenue and expenditure by municipal vote)A"}]
[{"$f":"Vdesc","v":"Vote Description"},{"$f":"head27","v":"Ref"},{"$f":"head1b","v":"2019/20"},{"$f":"head1A","v":"2020/21"},{"$f":"Head1","v":"2021/22"},{"$f":"Head2","v":"Current Year 2022/23"},null,null,{"$f":"Head3","v":"2023/24 Medium Term Revenue & Expenditure Framework"},null,null,{"$f":"Head4","v":"LTFS"}]
["R thousand",null,{"$f":"Head5","v":"Audited Outcome"},{"$f":"Head5","v":"Audited Outcome"},{"$f":"Head5","v":"Audited Outcome"},{"$f":"Head6","v":"Original Budget"},{"$f":"Head7","v":"Adjusted Budget"},{"$f":"Head8","v":"Full Year Forecast"},{"$f":"Head9","v":"Budget Year 2023/24"},{"$f":"Head10","v":"Budget Year +1 2024/25"},{"$f":"Head11","v":"Budget Year +2 2025/26"},{"$f":"Head12","v":"Forecast 2026/27"},{"$f":"Head13","v":"Forecast 2027/28"},{"$f":"Head14","v":"Forecast 2028/29"},{"$f":"Head15","v":"Forecast 2029/30"},{"$f":"Head16","v":"Forecast 2030/31"},{"$f":"Head17","v":"Forecast 2031/32"},{"$f":"Head18","v":"Forecast 2032/33"},{"$f":"Head19","v":"Forecast 2033/34"},{"$f":"Head20","v":"Forecast 2034/35"},{"$f":"Head21","v":"Forecast 2035/36"},{"$f":"Head22","v":"Forecast 2036/37"},{"$f":"Head23","v":"Forecast 2037/38"}]
["Revenue by Vote",1]
[{"$f":"'Org structure'!A2","v":"Vote 1 - City Manager"},null,{"$f":"SUM(C6:C15)","v":325.94000000000347},{"$f":"SUM(D6:D15)","v":316680.28000000003},21554.57,66070.114614654172,66070.114614654172,66070.114614654172,0,0,0]
[{"$f":"'Org structure'!E3","v":"1.1 - Internal Audit and Compliance"},null,34.9,2649.84,2494.96,null,0,0]
[{"$f":"'Org structure'!E4","v":"1.2 - Office of the City Manager"},null,129164.97,1290.1399999999996,6831.15,66070.114614654172,66070.114614654172,66070.114614654172]
[{"$f":"'Org structure'!E5","v":"1.3 - Political Support"},null,-128887.70999999999,12674.789999999999,11488.75,null,0,0]
[{"$f":"'Org structure'!E6","v":"1.4 - Strategic Planning"},null,13.78,300065.51,739.71,null,0,0]
[{"$f":"'Org structure'!E7","v":0}]
[{"$f":"'Org structure'!E8","v":0}]
[{"$f":"'Org structure'!E9","v":0}]
[{"$f":"'Org structure'!E10","v":0}]
[{"$f":"'Org structure'!E11","v":0}]
[{"$f":"'Org structure'!E12","v":0}]
[{"$f":"'Org structure'!A3","v":"Vote 2 - City Finance"},null,{"$f":"SUM(C17:C26)","v":1641524016.2699997},{"$f":"SUM(D17:D26)","v":1673384925.8199999},1692708414.1399996,2098136528.2242875,2034169270.5052874,2034169270.5052874,2342934596.9894886,2471595104.627667,2625593187.2712536]
[{"$f":"'Org structure'!E14","v":"2.1 - Asset Management"},null,41427851.559999987,7754458.1599999983,20671097.220000003,17255543.95573815,17255543.95573815,17255543.95573815,19067376.064750001,20001677.491922751,20941756.334043115]
[{"$f":"'Org structure'!E15","v":"2.2 - Budget and Treasury Management"},null,314420414.69999999,385609372.69000006,351346646.67000008,410698664.56192845,410698664.56192845,410698664.56192845,787224025.28180003,857839406.92511702,951820283.78217471]
[{"$f":"'Org structure'!E16","v":"2.3 - Expenditure Management"},null,264.31,1233.72,527.3900000000001,372177.02983743593,372177.02983743593,372177.02983743593,411255.61814999999,431407.14343934995,451683.27918099938]
[{"$f":"'Org structure'!E17","v":"2.4 - Revenue Management"},null,1285595512.3599999,1279910171.3999999,1320584645.7899997,1669499096.7199724,1605531839.0009723,1605531839.0009723,1535899000.8402884,1592973359.8626473,1652013795.7707009]
[{"$f":"'Org structure'!E18","v":"2.5 - Supply Chain Management"},null,79973.340000000011,109689.85,105497.06999999951,311045.95681122824,311045.95681122824,311045.95681122824,332939.18450000003,349253.20454050001,365668.10515390348]
[{"$f":"'Org structure'!E19","v":0}]
[{"$f":"'Org structure'!E20","v":0}]
[{"$f":"'Org structure'!E21","v":0}]
[{"$f":"'Org structure'!E22","v":0}]
[{"$f":"'Org structure'!E23","v":0}]
[{"$f":"'Org structure'!A4","v":"Vote 3 - Corporate Services"},null,{"$f":"SUM(C28:C36)","v":4201240.59},3958707.1499999994,3542654.1799999997,5518589.7765542185,7947033.4628754351,7947033.4628754351,7980216.9733000007,3148276.6049917,3296245.6054263096]
[{"$f":"'Org structure'!E26","v":"Human Resources Management"},null,616.54,22555.09,17396.22,2237.4978340715002,2428443.6863212166,2428443.6863212166,2683430.2774499999,2814918.36104505,2947219.524014167]
[{"$f":"'Org structure'!E27","v":"Information Technology"},null,135.57,2567.63,1711.96,285352.27872014715,2237.4978340715002,2237.4978340715002,2472.4264499999999,2593.57534605,2715.47338731435]
[{"$f":"'Org structure'!E28","v":"Legal Services"},null,442.16,12247.85,6513.46,5231000,285352.27872014715,285352.27872014715,315314.26940000005,330764.66860060004,346310.60802482819]
[{"$f":"'Org structure'!E29","v":"Secretariat and Auxiliary Services"},null,4200046.32,3921336.5799999996,3517032.5399999996,null,5231000,5231000,0,0,0]
[{"$f":"'Org structure'!E30","v":"General Manager: Corporate Service"},null,null,null,null,null,0,0,4979000,0,0]
[{"$f":"'Org structure'!E31","v":0}]
[{"$f":"'Org structure'!E32","v":0}]
[{"$f":"'Org structure'!E33","v":0}]
[{"$f":"'Org structure'!E34","v":0}]
[{"$f":"'Org structure'!A5","v":"Vote 4 - Community Services and Social Equity"},null,{"$f":"SUM(C38:C47)","v":233840786.66999999},198749941.63999999,215034923.48000002,221409887.57524872,221409887.57524872,221409887.57524872,497013172.69024205,513912687.24530405,537992891.34992743]
[{"$f":"'Org structure'!E36","v":"4.1 - Area Based Management "},null,790002.40000000014,185977.70000000007,429151.75999999995,1127716.2126673118,1127716.2126673118,1127716.2126673118,9788096.7055380009,10267713.444109365,10750295.975982504]
[{"$f":"'Org structure'!E37","v":"4.2 - Public Safety, Emergency Services and Enforcement"},null,15025160.9,19855223.649999999,18190539.34,4191499.1378272604,4191499.1378272604,4191499.1378272604,8568779.0717439987,8988649.2462594546,9411115.7608336508]
[{"$f":"'Org structure'!E38","v":"4.3 - Recreation and Facilities"},null,41696620.730000004,24190086.009999998,45939601.260000005,28679568.633235991,28679568.633235991,28679568.633235991,319882193.78006005,328102040.81519294,343432225.31792355]
[{"$f":"'Org structure'!E39","v":"4.4 - Waste Management"},null,176329002.63999999,154518654.27999997,150475631.12,187411103.59151816,187411103.59151816,187411103.59151816,158774103.1329,166554283.73974228,174399254.29518774]
[{"$f":"'Org structure'!E40","v":0}]
[{"$f":"'Org structure'!E41","v":0}]
[{"$f":"'Org structure'!E42","v":0}]
[{"$f":"'Org structure'!E43","v":0}]
[{"$f":"'Org structure'!E44","v":0}]
[{"$f":"'Org structure'!E45","v":0}]
[{"$f":"'Org structure'!A6","v":"Vote 5 - Infrastructure Services"},null,{"$f":"SUM(C49:C58)","v":1584762444.5200005},{"$f":"SUM(D49:D58)","v":1719141597.9099996},1596046262.1200004,1831866117.1230555,1831866117.1230555,1831866117.1230555,1520657146.0191998,1620256216.9519873,1696742341.1572068]
[{"$f":"'Org structure'!E47","v":"5.1 - Project Management Office"},null,6272011.5299999993,6074552.0600000005,6107917.5599999996,9172910,9172910,9172910,9830360,9051405,10432440]
[{"$f":"'Org structure'!E48","v":"5.2 - Roads and Transportation"},null,245677587.27999997,234900598.03999999,151378954.01000002,424878.27057963447,424878.27057963447,424878.27057963447,222714.29699999999,233627.29755299998,-244607.78053799097]
[{"$f":"'Org structure'!E49","v":"5.3 - Water and Sanitation"},null,1332812819.2600005,1478166329.8099997,1438552877.6900005,1822268328.8524759,1822268328.8524759,1822268328.8524759,1510604071.7221999,1610971184.6544342,1686554508.9377449]
[{"$f":"'Org structure'!E50","v":"5.4 - General Manager: Infrastructure "},null,26.45,118,6512.86,null,0,0,0,0,0]
[{"$f":"'Org structure'!E51","v":0},null,null,null,null,null,0]
[{"$f":"'Org structure'!E52","v":0}]
[{"$f":"'Org structure'!E53","v":0}]
[{"$f":"'Org structure'!E54","v":0}]
[{"$f":"'Org structure'!E55","v":0}]
[{"$f":"'Org structure'!E56","v":0}]
[{"$f":"'Org structure'!A7","v":"Vote 6 - Sustainable Development and City Enterprises"},null,{"$f":"SUM(C60:C69)","v":243419159.21000007},{"$f":"SUM(D60:D69)","v":229818291.27999997},144081748.58000001,369027983.12234604,369027983.12234604,369027983.12234604,200280366.01151729,202212592.39375246,210118731.48021477]
[{"$f":"'Org structure'!E58","v":"6.1 - City Entities"},null,33291054.990000006,49772223.699999996,26610735.059999999,77848244.801315695,77848244.801315695,77848244.801315695,110066430.798112,122667317.58773236,128333801.51435576]
[{"$f":"'Org structure'!E59","v":"6.2 - Development Services"},null,103539.44999999998,607428.17999999993,37982121.609999999,558867.53024679504,558867.53024679504,558867.53024679504,2292326.484033857,2576804.2007024586,2697913.998135474]
[{"$f":"'Org structure'!E60","v":"6.3 - Human Settlement Development"},null,176384852.83000007,142494414.69999999,69982808.910000011,142337500.61001399,142337500.61001399,142337500.61001399,32320661.282088995,29800981.494837027,31112654.869050343]
[{"$f":"'Org structure'!E61","v":"6.4 - Town Planning"},null,33639711.939999998,36944224.700000003,9506083,45486351.31076958,45486351.31076958,45486351.31076958,55600947.447282434,47167489.110480592,47974361.09867318]
[{"$f":"'Org structure'!E62","v":"6.5 - General Manager: Sustainable Development and City Enterprises"},null,0,null,0,102797018.87,102797018.87,102797018.87,0,0,0]
[{"$f":"'Org structure'!E63","v":0}]
[{"$f":"'Org structure'!E64","v":0}]
[{"$f":"'Org structure'!E65","v":0}]
[{"$f":"'Org structure'!E66","v":0}]
[{"$f":"'Org structure'!E67","v":0}]
[{"$f":"'Org structure'!A8","v":"Vote 7 - Electricity"},null,{"$f":"SUM(C71:C80)","v":2241860377.0499988},2213588915.920001,2571001679.9299998,3305883087.2042556,3305883087.2042556,3305883087.2042556,4000560679.3162532,4491770272.1762962,5292597018.1359711]
[{"$f":"'Org structure'!E69","v":"7.1 Electricity planning"},null,2241860377.0499988,2213588915.920001,2571001679.9299998,3254458564.8742557,3254458564.8742557,3254458564.8742557,12000000,12000000,7314000]
[{"$f":"'Org structure'!E70","v":"7.2 Methods and Standards"},null,null,null,null,null,0,0,0,0,0]
[{"$f":"'Org structure'!E71","v":"7.3 Operations and Maintenance"},null,null,null,null,null,0,0,0,0,0]
[{"$f":"'Org structure'!E72","v":"7.4 Revenue Management"},null,null,null,null,null,null,null,3954444242.4871535,4442941218.5738926,5245276225.9875908,0,0,0,0,0,0,0,0,0,0,0,0,0]
[{"$f":"'Org structure'!E73","v":"7.5 General Manager Electricity"},null,null,null,null,51424522.329999998,51424522.329999998,51424522.329999998,24738856.931099996,25951060.920723896,27170760.783997916]
[{"$f":"'Org structure'!E74","v":0},null,null,null,null,null,null,null,9377579.898,10877992.681679999,12836031.364382399]
[{"$f":"'Org structure'!E75","v":0}]
[{"$f":"'Org structure'!E76","v":0}]
[{"$f":"'Org structure'!E77","v":0}]
[{"$f":"'Org structure'!E78","v":0}]
[{"$f":"'Org structure'!A9","v":"Vote 8 - [NAME OF VOTE 8]"},null,{"$f":"SUM(C82:C91)","v":0},{"$f":"SUM(D82:D91)","v":0},0,0,0,0,0,0,0]
[{"$f":"'Org structure'!E80","v":"8.1 - [Name of sub-vote]"}]
[{"$f":"'Org structure'!E81","v":0}]
[{"$f":"'Org structure'!E82","v":0}]
[{"$f":"'Org structure'!E83","v":0}]
[{"$f":"'Org structure'!E84","v":0}]
[{"$f":"'Org structure'!E85","v":0}]
[{"$f":"'Org structure'!E86","v":0}]
[{"$f":"'Org structure'!E87","v":0}]
[{"$f":"'Org structure'!E88","v":0}]
[{"$f":"'Org structure'!E89","v":0}]
[{"$f":"'Org structure'!A10","v":"Vote 9 - [NAME OF VOTE 9]"},null,{"$f":"SUM(C93:C102)","v":0},{"$f":"SUM(D93:D102)","v":0},0,0,0,0,0,0,0]
[{"$f":"'Org structure'!E91","v":"9.1 - [Name of sub-vote]"}]
[{"$f":"'Org structure'!E92","v":0}]
[{"$f":"'Org structure'!E93","v":0}]
[{"$f":"'Org structure'!E94","v":0}]
[{"$f":"'Org structure'!E95","v":0}]
[{"$f":"'Org structure'!E96","v":0}]
[{"$f":"'Org structure'!E97","v":0}]
[{"$f":"'Org structure'!E98","v":0}]
[{"$f":"'Org structure'!E99","v":0}]
[{"$f":"'Org structure'!E100","v":0}]
[{"$f":"'Org structure'!A11","v":"Vote 10 - [NAME OF VOTE 10]"},null,{"$f":"SUM(C104:C113)","v":0},{"$f":"SUM(D104:D113)","v":0},0,0,0,0,0,0,0]
[{"$f":"'Org structure'!E102","v":"10.1 - [Name of sub-vote]"}]
[{"$f":"'Org structure'!E103","v":0}]
[{"$f":"'Org structure'!E104","v":0}]
[{"$f":"'Org structure'!E105","v":0}]
[{"$f":"'Org structure'!E106","v":0}]
[{"$f":"'Org structure'!E107","v":0}]
[{"$f":"'Org structure'!E108","v":0}]
[{"$f":"'Org structure'!E109","v":0}]
[{"$f":"'Org structure'!E110","v":0}]
[{"$f":"'Org structure'!E111","v":0}]
[{"$f":"'Org structure'!A12","v":"Vote 11 - [NAME OF VOTE 11]"},null,{"$f":"SUM(C115:C124)","v":0},{"$f":"SUM(D115:D124)","v":0},0,0,0,0,0,0,0]
[{"$f":"'Org structure'!E113","v":"11.1 - [Name of sub-vote]"}]
[{"$f":"'Org structure'!E114","v":0}]
[{"$f":"'Org structure'!E115","v":0}]
[{"$f":"'Org structure'!E116","v":0}]
[{"$f":"'Org structure'!E117","v":0}]
[{"$f":"'Org structure'!E118","v":0}]
[{"$f":"'Org structure'!E119","v":0}]
[{"$f":"'Org structure'!E120","v":0}]
[{"$f":"'Org structure'!E121","v":0}]
[{"$f":"'Org structure'!E122","v":0}]
[{"$f":"'Org structure'!A13","v":"Vote 12 - [NAME OF VOTE 12]"},null,{"$f":"SUM(C126:C135)","v":0},{"$f":"SUM(D126:D135)","v":0},0,0,0,0,0,0,0]
[{"$f":"'Org structure'!E124","v":"12.1 - [Name of sub-vote]"}]
[{"$f":"'Org structure'!E125","v":0}]
[{"$f":"'Org structure'!E126","v":0}]
[{"$f":"'Org structure'!E127","v":0}]
[{"$f":"'Org structure'!E128","v":0}]
[{"$f":"'Org structure'!E129","v":0}]
[{"$f":"'Org structure'!E130","v":0}]
[{"$f":"'Org structure'!E131","v":0}]
[{"$f":"'Org structure'!E132","v":0}]
[{"$f":"'Org structure'!E133","v":0}]
[{"$f":"'Org structure'!A14","v":"Vote 13 - [NAME OF VOTE 13]"},null,{"$f":"SUM(C137:C146)","v":0},{"$f":"SUM(D137:D146)","v":0},0,0,0,0,0,0,0]
[{"$f":"'Org structure'!E135","v":"13.1 - [Name of sub-vote]"}]
[{"$f":"'Org structure'!E136","v":0}]
[{"$f":"'Org structure'!E137","v":0}]
[{"$f":"'Org structure'!E138","v":0}]
[{"$f":"'Org structure'!E139","v":0}]
[{"$f":"'Org structure'!E140","v":0}]
[{"$f":"'Org structure'!E141","v":0}]
[{"$f":"'Org structure'!E142","v":0}]
[{"$f":"'Org structure'!E143","v":0}]
[{"$f":"'Org structure'!E144","v":0}]
[{"$f":"'Org structure'!A15","v":"Vote 14 - [NAME OF VOTE 14]"},null,{"$f":"SUM(C148:C157)","v":0},{"$f":"SUM(D148:D157)","v":0},0,0,0,0,0,0,0]
[{"$f":"'Org structure'!E146","v":"14.1 - [Name of sub-vote]"}]
[{"$f":"'Org structure'!E147","v":0}]
[{"$f":"'Org structure'!E148","v":0}]
[{"$f":"'Org structure'!E149","v":0}]
[{"$f":"'Org structure'!E150","v":0}]
[{"$f":"'Org structure'!E151","v":0}]
[{"$f":"'Org structure'!E152","v":0}]
[{"$f":"'Org structure'!E153","v":0}]
[{"$f":"'Org structure'!E154","v":0}]
[{"$f":"'Org structure'!E155","v":0}]
[{"$f":"'Org structure'!A16","v":"Vote 15 - [NAME OF VOTE 15]"},null,{"$f":"SUM(C159:C168)","v":0},{"$f":"SUM(D159:D168)","v":0},0,0,0,0,0,0,0]
[{"$f":"'Org structure'!E157","v":"15.1 - [Name of sub-vote]"}]
[{"$f":"'Org structure'!E158","v":0}]
[{"$f":"'Org structure'!E159","v":0}]
[{"$f":"'Org structure'!E160","v":0}]
[{"$f":"'Org structure'!E161","v":0}]
[{"$f":"'Org structure'!E162","v":0}]
[{"$f":"'Org structure'!E163","v":0}]
[{"$f":"'Org structure'!E164","v":0}]
[{"$f":"'Org structure'!E165","v":0}]
[{"$f":"'Org structure'!E166","v":0}]
["Total Revenue by Vote",2,{"$f":"C5+C16+C27+C37+C48+C59+C70+C81+C92+C103+C114+C125+C136+C147+C158","v":5949608350.249999},6038959060,6222437237,7831908263.1403618,7770369449.1076832,7770369449.1076832,8569426178,9302895150,10366340415,{"$f":"SUM(L77:L80)","v":0},0,0,0,0,0,0,0,0,0,0,0]
[]
["Expenditure by Vote",1]
[{"$f":"A5","v":"Vote 1 - City Manager"},null,{"$f":"SUM(C173:C182)","v":156568923.94},144293564.35999995,155043755.89000002,157775344.36349994,148399679.42999995,148399679.42999995,300105971.0701499,313749698.60030675,327941318.94470441]
["1.1 - Internal Audit and Compliance",null,18637938.279999994,16962222.890000001,19542685.369999997,20812190.8235,19642190.859999999,19642190.859999999,28455035.463900004,29802712.059775505,31179080.502465397]
["1.2 - Office of the City Manager",null,54540594.459999993,40195404.760000005,30952176.339999996,33571588.090999998,25553050.759999998,25553050.759999998,160808892.1931999,168071712.34189406,175648796.68727916]
["1.3 - Political Support",null,77889684.470000029,80362958.209999934,98141952.219999999,95717783.086499929,94649781.699999943,94649781.699999943,101392330.33630003,105993325.00143345,110783133.85159796]
["1.4 - Strategic Planning",null,5500706.7299999995,6772978.5,6406941.959999999,7673782.3625000017,8554656.1099999994,8554656.1099999994,9449713.0767499972,9881949.1972037517,10330307.90336192]
[0]
[0]
[0]
[0]
[0]
[0]
["Vote 2 - City Finance",null,{"$f":"SUM(C184:C193)","v":489928288.83000004},{"$f":"SUM(D184:D193)","v":951383518.39999998},{"$f":"SUM(E184:E193)","v":611783863.67000008},846124063.23607826,757338722.30999994,757338722.30999994,799187822.74149001,835918652.58300567,874033756.4898597]
["2.1 - Asset Management",null,75352789.679999962,74248458.530000001,76038184.099999979,73231429.101500005,71569160.390000015,71569160.390000015,81457538.503649995,85241483.171844646,89139427.340513349]
["2.2 - Budget and Treasury Management",null,27419381.869999975,130822583.22999999,124803387.16,156541220.25873545,136376021.40999994,136376021.40999994,139219805.77629003,145659479.36455345,152402104.14216754]
["2.3 - Expenditure Management",null,63846097.970000014,44830103.270000026,40273490.669999979,33704320.696500011,32910377.100000009,32910377.100000009,43561837.159500003,45627500.736714713,47736010.554558873]
["2.4 - Revenue Management",null,260128714.92000005,637431771.82999992,295599065.87000006,531069431.09084278,448644556.65999997,448644556.65999997,459180490.14415008,480041944.76142478,501747857.70382208]
["2.5 - Supply Chain Management",null,63181304.390000015,64050601.540000029,75069735.86999999,51577662.088499993,67838606.75,67838606.75,75768151.157900006,79348244.548468098,83008356.748797789]
[0]
[0]
[0]
[0]
[0]
["Vote 3 - Corporate Services",null,{"$f":"SUM(C195:C203)","v":78073132.649999991},89837684.959999993,69616493.690000013,99501184.072879985,242457481.72000003,242457481.72000003,195633443.38037002,199465750.20164624,208563317.88859463]
["Human Resources Management",null,32974505.649999999,33578160.710000001,29012266.820000008,46284340.824999996,82826103.540000007,82826103.540000007,82790450.052050024,86616554.464392215,90567029.5822099]
["Information Technology",null,14770253.189999998,13829269.889999995,10503949.749999998,16733791.780000001,55606840.859999999,55606840.859999999,56146777.957900017,58794568.966005489,61503886.626475729]
["Legal Services",null,21268326.009999998,23534277.580000002,23571277.440000005,27960112.044999994,18307857.780000001,18307857.780000001,18240282.653700002,19075018.925116494,19940697.679770742]
["Secretariat and Auxiliary Services",null,9060047.8000000026,18895976.780000005,6528999.6800000016,8522939.4228799995,27949740.089999992,27949740.089999992,25452722.210449994,26593327.909920249,27787527.479266647]
["General Manager: Corporate Service",null,null,null,null,null,57766939.450000003,57766939.450000003,13003210.506269999,8386279.93621183,8764176.520871615]
[0]
[0]
[0]
[0]
[{"$f":"A37","v":"Vote 4 - Community Services and Social Equity"},null,{"$f":"SUM(C205:C214)","v":768775615.63999963},848301582.7499994,864836632.15999997,801717965.13803589,837659497.9200002,837659497.9200002,827458053.8400197,865408025.82646799,905493807.32650614]
["4.1 - Area Based Management ",null,32379250.299999986,36359677.500000022,37967938.279999986,47493887.18283888,45553936.219999991,45553936.219999991,47703203.807950027,49866345.262507729,52118983.624359012]
["4.2 - Public Safety, Emergency Services and Enforcement",null,336647862.6099999,369678652.88999987,375811532.5,311014466.56182456,365710200.42000008,365710200.42000008,321675568.57029974,336376840.40387309,351632267.69157612]
["4.3 - Recreation and Facilities",null,241438476.58999977,291026819.4799996,304267306.25,305925302.70152664,307551440.1000002,307551440.1000002,326694232.86103976,341697727.70022243,358000396.60549498]
["4.4 - Waste Management",null,158310026.13999999,151236432.87999997,146789855.13,137284308.69184577,118843921.17999998,118843921.17999998,131385048.60073024,137467112.4598648,143742159.405076]
[0]
[0]
[0]
[0]
[0]
[0]
["Vote 5 - Infrastructure Services",null,{"$f":"SUM(C216:C225)","v":1748945156.2749989},1734904818.9750006,2026075660.7999997,1768788550.0619564,1621673325.6799965,1621673325.6799965,2117250005.9725699,2229930567.7122083,2332105416.8701296]
["5.1 - Project Management Office",null,12573127.24,13130314.270000005,10752578.970000003,16854120.906500001,15431595.930000305,15431595.930000305,18004023.692650005,17592883.558819246,19358285.093966123]
["5.2 - Roads and Transportation",null,252617661.56000003,245687231.06,305903618.89000005,305034113.81450033,313311146.393996,313311146.393996,439116862.80299973,459542199.89457482,480570432.44005412]
["5.3 - Water and Sanitation",null,1482686083.5949988,1474103580.8950007,1706486866.4599996,1444051498.7244561,1290060726.7160001,1290060726.7160001,1657095302.6511202,1749625145.6758533,1828863695.5169151]
["5.4 - General Manager: Infrastructure ",null,1068283.8799999999,1983692.7499999998,2932596.4799999995,2848816.6164999995,2869856.6399999997,2869856.6399999997,3033816.8257999988,3170338.5829609996,3313003.8191942433]
[0]
[0]
[0]
[0]
[0]
[0]
["Vote 6 - Sustainable Development and City Enterprises",null,{"$f":"SUM(C227:C236)","v":329587598.99000007},242328175.91999993,271855705.78999996,291171880.10219467,242374357.76800001,242374357.76800001,224007326.25767064,215568824.48431984,213318280.94486776]
["6.1 - City Entities",null,90863518.310000032,81044080.98999998,95769570.689999998,80485165.085999995,82673984.039000005,82673984.039000005,82483599.375880614,68874979.200050309,60223764.907743022,0]
["6.2 - Development Services",null,16556686.570000006,8657695.7500000019,12761091.660000002,13374294.493499998,15252510.901999999,15252510.901999999,17320417.397500001,17080239.106027499,17862173.70029692]
["6.3 - Human Settlement Development",null,133915918.80999993,68650085.36999999,53857282.320000008,103074242.0641,33580606.11999999,33580606.11999999,25425089.556399997,26343700.07395,27290813.994167805]
["6.4 - Town Planning",null,87440226.380000055,81020669.509999961,106153578.55999994,91849777.063594714,108549054.68700001,108549054.68700001,95782112.905590028,100135544.23918852,104664321.14457026]
["6.5 - General Manager: Sustainable Development and City Enterprises",null,811248.91999999981,2955644.3000000003,3314182.5599999996,2388401.3949999996,2318202.02,2318202.02,2996107.0223000003,3134361.865103499,3277207.1980897575]
[0]
[0]
[0]
[0]
[{"$f":"A69","v":0}]
["Vote 7 - Electricity",null,{"$f":"SUM(C238:C247)","v":2153949480.9249992},1972953314.6350002,2950207305,2731735557.8155065,2773307192.5200009,2773307192.5200009,3240145171.7377305,3827187023.5920448,4322237059.5353384]
["7.1 Electricity planning",null,2153949480.9249992,1972953314.6350002,2950207305,28479060.770000003,29831864.770000003,29831864.770000003,35584488.520025253,37207150.503471375,38892675.596154705]
["7.2 Methods and Standards",null,null,null,null,316870077.5,-309000.05999851227,-309000.05999851227]
["7.3 Operations and Maintenance",null,null,null,null,null,315337041.5,315337041.5,497036063.11125004,520543963.80697638,544567042.41361547]
["7.4 Revenue Management",null,null,null,null,2222925630.5455065,2323961312.6399994,2323961312.6399994,2568171972.8664055,3123618978.1007729,3586297202.3711538]
["7.5 General Manager Electricity",null,null,null,null,163460789,104485973.67,104485973.67,139352647.24004999,145816931.18082428,152480139.15441412]
[0]
[0]
[0]
[0]
[0]
["Vote 8 - [NAME OF VOTE 8]",null,{"$f":"SUM(C249:C258)","v":0},0,0,0,0,0,0,0,0]
["8.1 - [Name of sub-vote]"]
[0]
[0]
[0]
[0]
[0]
[0]
[0]
[0]
[0]
["Vote 9 - [NAME OF VOTE 9]",null,{"$f":"SUM(C260:C269)","v":0},0,0,0,0,0,0,0,0]
["9.1 - [Name of sub-vote]"]
[0]
[0]
[0]
[0]
[0]
[0]
[0]
[{"$f":"A101","v":0}]
[0]
["Vote 10 - [NAME OF VOTE 10]",null,{"$f":"SUM(C271:C280)","v":0},0,0,0,0,0,0,0,0]
["10.1 - [Name of sub-vote]"]
[0]
[0]
[0]
[0]
[0]
[0]
[0]
[0]
[0]
["Vote 11 - [NAME OF VOTE 11]",null,{"$f":"SUM(C282:C291)","v":0},0,0,0,0,0,0,0,0]
["11.1 - [Name of sub-vote]"]
[0]
[0]
[0]
[0]
[0]
[0]
[0]
[0]
[0]
["Vote 12 - [NAME OF VOTE 12]",null,{"$f":"SUM(C293:C302)","v":0},0,0,0,0,0,0,0,0]
["12.1 - [Name of sub-vote]"]
[0]
[0]
[0]
[0]
[0]
[0]
[{"$f":"A133","v":0}]
[0]
[0]
["Vote 13 - [NAME OF VOTE 13]",null,{"$f":"SUM(C304:C313)","v":0},0,0,0,0,0,0,0,0]
["13.1 - [Name of sub-vote]"]
[0]
[0]
[0]
[0]
[0]
[0]
[0]
[0]
[0]
["Vote 14 - [NAME OF VOTE 14]",null,{"$f":"SUM(C315:C324)","v":0},0,0,0,0,0,0,0,0]
["14.1 - [Name of sub-vote]"]
[0]
[0]
[0]
[0]
[0]
[0]
[0]
[0]
[0]
["Vote 15 - [NAME OF VOTE 15]",null,{"$f":"SUM(C326:C335)","v":0},0,0,0,0,0,0,0,0]
["15.1 - [Name of sub-vote]"]
[0]
[0]
[0]
[0]
[0]
[{"$f":"A165","v":0}]
[0]
[0]
[0]
["Total Expenditure by Vote",2,{"$f":"C172+C183+C194+C204+C215+C226+C237+C248+C259+C281+C292+C303+C314+C325+C270","v":5725828197.2499981},5984002660,6949419417,6696814544.7901516,6623210257.3479977,6623210257.3479977,7703787795,8487228543,9183692958,{"$f":"SUM(L172:L247)","v":0},0,0,0,0,0,0,0,0,0,0,0]
[]
[{"$f":"result","v":"Surplus/(Deficit) for the year"},2,{"$f":"C169-C336","v":223780153.00000095},54956400,-726982180,1135093718.3502102,1147159191.7596855,1147159191.7596855,865638383,815666607,1182647457,0,0,0,0,0,0,0,0,0,0,0,0]
[{"$f":"head27a","v":"References"}]
["1. Insert 'Vote'; e.g. Department, if different to Functional structure"]
["2. Must reconcile to Financial Performance ('Revenue and Expenditure by Functional Classification' and 'Revenue and Expenditure')"]
["3. Assign share in 'associate' to relevant Vote"]
[null,null,null,null,null,null,null,null,{"$f":"I341+I340","v":0},{"$f":"J341+J340","v":0},0,0,0,0,0,0,0,0,0,0,0,0,0,0]
["check revenue",null,{"$f":"C169-'A4-FinPerf RE'!#REF!","v":{"$error":"#REF!"}},{"$f":"D169-'A4-FinPerf RE'!#REF!","v":{"$error":"#REF!"}},{"$f":"E169-'A4-FinPerf RE'!#REF!","v":{"$error":"#REF!"}},{"$f":"F169-'A4-FinPerf RE'!G32","v":836271392.48549271},{"$f":"G169-'A4-FinPerf RE'!H32","v":774732578.4528141},{"$f":"H169-'A4-FinPerf RE'!I32","v":7770369449.1076832},{"$f":"I169-'A4-FinPerf RE'!J32","v":448700052.73954105},{"$f":"J169-'A4-FinPerf RE'!K32","v":321309345.00281143},{"$f":"K169-'A4-FinPerf RE'!L32","v":327881556.98581696}]
["check expenditure",null,{"$f":"C336-'A4-FinPerf RE'!C47","v":32381023.249999046},{"$f":"D336-'A4-FinPerf RE'!D47","v":0},{"$f":"E336-'A4-FinPerf RE'!E47","v":0},{"$f":"F336-'A4-FinPerf RE'!F47","v":241867651.5514431},{"$f":"G336-'A4-FinPerf RE'!G47","v":0},{"$f":"H336-'A4-FinPerf RE'!H47","v":0},{"$f":"I336-'A4-FinPerf RE'!J47","v":0},{"$f":"J336-'A4-FinPerf RE'!K47","v":0},{"$f":"K336-'A4-FinPerf RE'!L47","v":0}]

{"sheet":"A4-FinPerf RE","index":11,"n_rows":68,"n_cols":31,"rows_kept":68,"cut":false,"hidden":false,"merged":[[1,12,1,23],[1,9,1,11],[1,5,1,8]]}
[{"$f":"muni&\" - \"&Approve4","v":"0 - Table A4 Budgeted Financial Performance (revenue and expenditure)"}]
[{"$f":"desc","v":"Description"},{"$f":"head27","v":"Ref"},{"$f":"head1b","v":"2019/20"},{"$f":"head1A","v":"2020/21"},{"$f":"Head1","v":"2021/22"},{"$f":"Head2","v":"Current Year 2022/23"},null,null,null,{"$f":"Head3","v":"2023/24 Medium Term Revenue & Expenditure Framework"},null,null,{"$f":"Head4","v":"LTFS"}]
["R thousand",1,{"$f":"Head5","v":"Audited Outcome"},{"$f":"Head5","v":"Audited Outcome"},{"$f":"Head5","v":"Audited Outcome"},{"$f":"Head6","v":"Original Budget"},{"$f":"Head7","v":"Adjusted Budget"},{"$f":"Head8","v":"Full Year Forecast"},{"$f":"Head5b","v":"Pre-audit outcome"},{"$f":"Head9","v":"Budget Year 2023/24"},{"$f":"Head10","v":"Budget Year +1 2024/25"},{"$f":"Head11","v":"Budget Year +2 2025/26"},{"$f":"Head12","v":"Forecast 2026/27"},{"$f":"Head13","v":"Forecast 2027/28"},{"$f":"Head14","v":"Forecast 2028/29"},{"$f":"Head15","v":"Forecast 2029/30"},{"$f":"Head16","v":"Forecast 2030/31"},{"$f":"Head17","v":"Forecast 2031/32"},{"$f":"Head18","v":"Forecast 2032/33"},{"$f":"Head19","v":"Forecast 2033/34"},{"$f":"Head20","v":"Forecast 2034/35"},{"$f":"Head21","v":"Forecast 2035/36"},{"$f":"Head22","v":"Forecast 2036/37"},{"$f":"Head23","v":"Forecast 2037/38"}]
["Revenue"," "]
["Exchange Revenue"," "]
["Service charges - Electricity","2",{"$f":"'SA1'!C17","v":2159757821},{"$f":"'SA1'!D17","v":2152783170},{"$f":"'SA1'!E17","v":2549652864},{"$f":"'SA1'!F17","v":3183149702.3390446},{"$f":"'SA1'!G17","v":3183149702.3390446},{"$f":"'SA1'!H17","v":3183149702.3390446},{"$f":"'SA1'!I17","v":0},{"$f":"'SA1'!J17","v":3892818095.6607995},{"$f":"'SA1'!K17","v":4515668990.966527},{"$f":"'SA1'!L17","v":5328489409.3405018}]
["Service charges - Water","2",{"$f":"'SA1'!C23","v":662849315},{"$f":"'SA1'!D23","v":773169373},{"$f":"'SA1'!E23","v":773657197},{"$f":"'SA1'!F23","v":819610456.14892745},{"$f":"'SA1'!G23","v":819610456.14892745},{"$f":"'SA1'!H23","v":819610456.14892745},{"$f":"'SA1'!I23","v":0},{"$f":"'SA1'!J23","v":901571501.7650001},{"$f":"'SA1'!K23","v":945748505.35148907},{"$f":"'SA1'!L23","v":990198685.10300791}]
["Service charges - Waste Water Management","2",{"$f":"'SA1'!C29","v":172220502},{"$f":"'SA1'!D29","v":167102484},{"$f":"'SA1'!E29","v":182241050},{"$f":"'SA1'!F29","v":174568855.12},{"$f":"'SA1'!G29","v":174568855.12},{"$f":"'SA1'!H29","v":174568855.12},{"$f":"'SA1'!I29","v":0},{"$f":"'SA1'!J29","v":202499871.93920001},{"$f":"'SA1'!K29","v":212422365.66422099},{"$f":"'SA1'!L29","v":222406216.85043901}]
["Service charges - Waste Management","2",{"$f":"'SA1'!C36","v":109639121},{"$f":"'SA1'!D36","v":113696636},{"$f":"'SA1'!E36","v":114118706},{"$f":"'SA1'!F36","v":129665201.04918516},{"$f":"'SA1'!G36","v":129665201.04918516},{"$f":"'SA1'!H36","v":129665201.04918516},{"$f":"'SA1'!I36","v":0},{"$f":"'SA1'!J36","v":138741765.12349999},{"$f":"'SA1'!K36","v":145540111.61455101},{"$f":"'SA1'!L36","v":152380496.86043501}]
["Sale of Goods and Rendering of Services"," ",23619674,9320476,11474040]
["Agency services"," ",1090372,1931382,2139483,668028.33685591863,668028.33685591863,668028.33685591863,null,714790.32380000001,749815.04966619995,785056.35700051126]
["Interest"," ",14258674,null,null,17030212.530215371,17030212.530215371,17030212.530215371]
["Interest earned from Receivables"," ",225860971,144311904,148962699,225217621.29413053,225217621.29413053,225217621.29413053,null,198174144,207884677,217655258]
["Interest earned from Current and Non Current Assets"," ",null,8455919,10535026,null,null,null,null,18052025.281800002,19225406.925117001,20494283.782174725]
["Dividends"," "]
["Rent on Land"," ",null,14558911]
["Rental from Fixed Assets"," ",43597286,148196,25415308,37424363.209708527,37424363.209708527,37424363.209708527,null,104823531.74793798,112623580.49332854,117916888.77651502]
["Licence and permits"," ",604456,null,984210,null,null,null,null,2451743.9566758568,2667323.6062311009,2792687.8157239622]
["Operational Revenue"," ",47565468,44527160,54566408,null,null,null,null,230407182.35087389,249375506.15869284,261096154.94815132]
["Non-Exchange Revenue"," "]
["Property rates","2",{"$f":"'SA1'!C10","v":1177107606},{"$f":"'SA1'!D10","v":1232330305},{"$f":"'SA1'!E10","v":1211348604},{"$f":"'SA1'!F10","v":1427088861.3507991},{"$f":"'SA1'!G10","v":1427088861.3507991},{"$f":"'SA1'!H10","v":1427088861.3507991},{"$f":"'SA1'!I10","v":0},{"$f":"'SA1'!J10","v":1526985081.6338},{"$f":"'SA1'!K10","v":1601807350.6338601},{"$f":"'SA1'!L10","v":1677092296.1136501}]
["Surcharges and Taxes"," "]
["Fines, penalties and forfeits"," ",13272582,16062035,14488973,2004874.3646360512,2004874.3646360512,2004874.3646360512,null,14659914.477071574,8467564.5335067343,8865540.0665815491]
["Licences or permits"," ",null,602789,null,1500000.9913680174,1500000.9913680174,1500000.9913680174]
["Transfer and subsidies - Operational"," ",637128044,757425720,681737625,855842084.72000003,800708693.91999996,800708693.91999996,null,838135150,906229405,982611448]
["Interest"," ",66392640,38479755,50189792,null,null,null,null,50691327,53175202,55674436]
["Fuel Levy"," "]
["Operational Revenue"," ",null,null,null,177000000,177000000,177000000]
["Gains on disposal of Assets"," ",130714164,null,4179142]
["Other Gains"," ",1434882,65449428,18021493]
["Discontinued Operations"," "]
["Total Revenue (excluding capital transfers and contributions)"," ",{"$f":"SUM(C6:C19)+SUM(C21:C31)","v":5487113578},{"$f":"SUM(D6:D19)+SUM(D21:D31)","v":5540355643},5853712620,7050770261.4548702,6995636870.6548691,6995636870.6548691,0,8120726125.2604589,8981585804.9971886,10038458858.014183]
["Expenditure"," "]
["Employee related costs","2",{"$f":"'SA1'!C71","v":1345486985},{"$f":"'SA1'!D71","v":1418425769},{"$f":"'SA1'!E71","v":1494486747},{"$f":"'SA1'!F71","v":1579699178.3249986},{"$f":"'SA1'!G71","v":1621248373.1299989},{"$f":"'SA1'!H71","v":1621248373.1299989},{"$f":"'SA1'!I71","v":0},{"$f":"'SA1'!J71","v":1793148355},{"$f":"'SA1'!K71","v":1856685849},{"$f":"'SA1'!L71","v":1927749152.9999998},{"$f":"'SA1'!M71","v":0},{"$f":"'SA1'!N71","v":0},{"$f":"'SA1'!O71","v":0},{"$f":"'SA1'!P71","v":0},{"$f":"'SA1'!Q71","v":0},{"$f":"'SA1'!R71","v":0},{"$f":"'SA1'!S71","v":0},{"$f":"'SA1'!T71","v":0}]
["Remuneration of councillors"," ",43759322,51641246,49529446,59431217.939999998,59431217.939999998,59431217.939999998,null,62699934.989999995,65521432.064549997,68469896.507454708]
["Bulk purchases - electricity","2",{"$f":"'SA1'!C88","v":2491126597},{"$f":"'SA1'!D88","v":2659404299},{"$f":"'SA1'!E88","v":2950207305},{"$f":"'SA1'!F88","v":2200000000},{"$f":"'SA1'!G88","v":2300000000},{"$f":"'SA1'!H88","v":2300000000},{"$f":"'SA1'!I88","v":0},{"$f":"'SA1'!J88","v":2514000000},{"$f":"'SA1'!K88","v":3066819999.9999995},{"$f":"'SA1'!L88","v":3526842999.999999}]
["Inventory consumed","8",{"$f":"'SA1'!C169","v":57161591},{"$f":"'SA1'!D169","v":58158321},{"$f":"'SA1'!E169","v":84353466},871509197.21466136,842581197.85750008,842581197.85750008,{"$f":"'SA1'!I169","v":0},{"$f":"'SA1'!J169","v":970629036},{"$f":"'SA1'!K169","v":1018189866},{"$f":"'SA1'!L169","v":1066044780}]
["Debt impairment","3",567918578,236403910,1003762757,300000000,300000000,300000000,null,600000000,627000000,656469000]
["Depreciation and amortisation"," ",{"$f":"'SA1'!C83","v":417614094},{"$f":"'SA1'!D83","v":372532037},{"$f":"'SA1'!E83","v":366625069},{"$f":"'SA1'!F83","v":441964212.52200043},{"$f":"'SA1'!G83","v":441737790.63000011},{"$f":"'SA1'!H83","v":441737790.63000011},{"$f":"'SA1'!I83","v":0},{"$f":"'SA1'!J83","v":461615984},{"$f":"'SA1'!K83","v":482388711},{"$f":"'SA1'!L83","v":504096199}]
["Interest"," ",43716970,35856007,26915534,94217139.016199991,52038518.889999993,52038518.889999993,null,40400879.723359942,42218920.588025153,44118763.824688859]
["Contracted services"," ",{"$f":"'SA1'!C127","v":495489983.99999905},{"$f":"'SA1'!D127","v":575663952},{"$f":"'SA1'!E127","v":722753886},{"$f":"'SA1'!F127","v":664656776.77958131},{"$f":"'SA1'!G127","v":755248230.55400014},{"$f":"'SA1'!H127","v":755248230.55400014},{"$f":"'SA1'!I127","v":0},{"$f":"'SA1'!J127","v":994887837},{"$f":"'SA1'!K127","v":1049323573},{"$f":"'SA1'!L127","v":1097750641}]
["Transfers and subsidies"," ",{"$f":"'SA1'!C93","v":25306678},{"$f":"'SA1'!D93","v":16870305},{"$f":"'SA1'!E93","v":19995785},{"$f":"'SA1'!F93","v":63469171.499117002},{"$f":"'SA1'!G93","v":53651931.489999987},{"$f":"'SA1'!H93","v":53651931.489999987},{"$f":"'SA1'!I93","v":0},{"$f":"'SA1'!J93","v":51023535.286639996},{"$f":"'SA1'!K93","v":53395331.347425342},{"$f":"'SA1'!L93","v":55899093.667858809}]
["Irrecoverable debts written off"," ",20930221,390096130,83779107]
["Operational costs"," ",{"$f":"'SA1'!C157","v":136748409},{"$f":"'SA1'!D157","v":128891893},{"$f":"'SA1'!E157","v":121311526},{"$f":"'SA1'!F157","v":179999999.94215006},{"$f":"'SA1'!G157","v":197272996.85649997},{"$f":"'SA1'!H157","v":197272996.85649997},{"$f":"'SA1'!I157","v":0},{"$f":"'SA1'!J157","v":215382233},{"$f":"'SA1'!K157","v":225684860},{"$f":"'SA1'!L157","v":236252431}]
["Losses on disposal of Assets"," ",14646287,10483210,16100000]
["Other Losses"," ",33541458,29575581,9598789]
["Total Expenditure"," ",{"$f":"SUM(C34:C46)","v":5693447173.999999},{"$f":"SUM(D34:D46)","v":5984002660},6949419417,6454946893.2387085,6623210257.3479986,6623210257.3479986,0,7703787795,8487228543,9183692958,{"$f":"SUM(M34:M46)","v":0},0,0,0,0,0,0,0,0,0,0,0]
["Surplus/(Deficit)",null,{"$f":"C32-C47","v":-206333595.99999905},-443647017,-1095706797,595823368.21616173,372426613.30687046,372426613.30687046,0,416938330.26045895,494357261.99718857,854765900.01418304,{"$f":"M32+M47","v":0},0,0,0,0,0,0,0,0,0,0,0]
["Transfers and subsidies - capital (monetary allocations)","6",430113749,498603417,368724617,446431108.87,437597241.95100003,437597241.95100003,null,448700054.94999999,321309343.19999999,327881560]
["Transfers and subsidies - capital (in-kind)","6",null,null,null,null,null,null,null,null,null,null,null,null,null,null,null,null,null,null,null,null,null,null,null,null,null,null,null,null,{"$f":"AE47-AE48","v":0}]
["Surplus/(Deficit) after capital transfers & contributions",null,{"$f":"SUM(C48:C50)","v":223780153.00000095},54956400,-726982180,1042254477.0861617,810023855.25787044,810023855.25787044,0,865638385.21045899,815666605.19718862,1182647460.014183]
["Income Tax"]
["Surplus/(Deficit) after income tax",null,{"$f":"+C51-C52","v":223780153.00000095},{"$f":"+D51-D52","v":54956400},-726982180,1042254477.0861617,810023855.25787044,810023855.25787044,0,865638385.21045899,815666605.19718862,1182647460.014183,0,0,0,0,0]
["Share of Surplus/Deficit attributable to Joint Venture"]
["Share of Surplus/Deficit attributable to Minorities"]
["Surplus/(Deficit) attributable to municipality",null,{"$f":"SUM(C53:C55)","v":223780153.00000095},{"$f":"SUM(D53:D55)","v":54956400},-726982180,1042254477.0861617,810023855.25787044,810023855.25787044,0,865638385.21045899,815666605.19718862,1182647460.014183,0,0,0,0,0]
["Share of Surplus/Deficit attributable to Associate",7]
["Intercompany/Parent subsidiary transactions"]
[{"$f":"result","v":"Surplus/(Deficit) for the year"},1,{"$f":"SUM(C56:C58)","v":223780153.00000095},{"$f":"SUM(D56:D58)","v":54956400},-726982180,1042254477.0861617,810023855.25787044,810023855.25787044,0,865638385.21045899,815666605.19718862,1182647460.014183,0,0,0,0,0,{"$f":"R35+R58","v":0},0,0,0,0,0,0]
["References"]
["1. Classifications are revenue sources and expenditure type"]
["2. Detail to be provided in Table SA1",null,null,null,null,null,null,null,null,null,null,null,null,null,{"$f":"O59-'A4-FinPerf RE'!J59","v":-865638385.21045899},{"$f":"P59-'A4-FinPerf RE'!K59","v":-815666605.19718862},{"$f":"Q59-'A4-FinPerf RE'!L59","v":-1182647460.014183}]
["3. Debt impairment includes Impairment and Reversal of Impairment Losses"]
["4. Expenditure type components previously shown under repairs and maintenance should be allocated back to the originating expenditure group/item; e.g. employee costs"]
["5. Repairs & maintenance detailed in Table A9 and Table SA34c"]
["6. Contributions are funds provided by external organisations to assist with infrastructure development; e.g. developer contributions (detail to be provided in Table SA1)"]
["7. Equity method ( Includes Joint Ventures)"]
["8. All materials consumed including water consumed and materials used in operations."]

{"sheet":"A5-Capex","index":12,"n_rows":85,"n_cols":12,"rows_kept":85,"cut":false,"hidden":false,"merged":[[1,9,1,11],[1,5,1,8],[82,0,82,11],[77,0,77,11],[76,0,76,11],[78,0,78,11]]}
[" "]
[{"$f":"Vdesc","v":"Vote Description"},{"$f":"head27","v":"Ref"},{"$f":"head1b","v":"2019/20"},{"$f":"head1A","v":"2020/21"},{"$f":"Head1","v":"2021/22"},{"$f":"Head2","v":"Current Year 2022/23"},null,null,null,{"$f":"Head3","v":"2023/24 Medium Term Revenue & Expenditure Framework"}]
["R thousand",1,{"$f":"Head5","v":"Audited Outcome"},{"$f":"Head5","v":"Audited Outcome"},{"$f":"Head5","v":"Audited Outcome"},{"$f":"Head6","v":"Original Budget"},{"$f":"Head7","v":"Adjusted Budget"},{"$f":"Head8","v":"Full Year Forecast"},{"$f":"Head5b","v":"Pre-audit outcome"},{"$f":"Head9","v":"Budget Year 2023/24"},{"$f":"Head10","v":"Budget Year +1 2024/25"},{"$f":"Head11","v":"Budget Year +2 2025/26"}]
["Capital expenditure - Vote"]
["Multi-year expenditure  to be appropriated",2]
[{"$f":"A5A!A6","v":"Vote 1 - City Manager"},null,{"$f":"A5A!C6","v":646307},{"$f":"A5A!D6","v":0},{"$f":"A5A!E6","v":1613825.13},{"$f":"A5A!F6","v":500000},{"$f":"A5A!G6","v":550000},{"$f":"A5A!H6","v":550000},{"$f":"A5A!I6","v":0},{"$f":"A5A!J6","v":0},{"$f":"A5A!K6","v":0},{"$f":"A5A!L6","v":0}]
[{"$f":"A5A!A17","v":"Vote 2 - City Finance"},null,{"$f":"A5A!C17","v":9184603},{"$f":"A5A!D17","v":1592912.04},{"$f":"A5A!E17","v":4935541.4799999995},{"$f":"A5A!F17","v":21288783},{"$f":"A5A!G17","v":16128783},{"$f":"A5A!H17","v":16128783},{"$f":"A5A!I17","v":0},{"$f":"A5A!J17","v":30000000},{"$f":"A5A!K17","v":30000000},{"$f":"A5A!L17","v":30000000}]
[{"$f":"A5A!A28","v":"Vote 3 - Corporate Services"},null,{"$f":"A5A!C28","v":-6912874},{"$f":"A5A!D28","v":971615.63000000012},{"$f":"A5A!E28","v":2272710.48},{"$f":"A5A!F28","v":5601500},{"$f":"A5A!G28","v":1105279},{"$f":"A5A!H28","v":1105279},{"$f":"A5A!I28","v":0},{"$f":"A5A!J28","v":10000000},{"$f":"A5A!K28","v":10000000},{"$f":"A5A!L28","v":10000000}]
[{"$f":"A5A!A38","v":"Vote 4 - Community Services and Social Equity"},null,{"$f":"A5A!C38","v":12745198},{"$f":"A5A!D38","v":24381249.32},{"$f":"A5A!E38","v":33154389.839999996},{"$f":"A5A!F38","v":40401050},{"$f":"A5A!G38","v":41471050},{"$f":"A5A!H38","v":41471050},{"$f":"A5A!I38","v":0},{"$f":"A5A!J38","v":24886499.049999952},{"$f":"A5A!K38","v":17455350},{"$f":"A5A!L38","v":26864880}]
[{"$f":"A5A!A49","v":"Vote 5 - Infrastructure Services"},null,{"$f":"A5A!C49","v":321091528.07999998},{"$f":"A5A!D49","v":404546366.09000003},{"$f":"A5A!E49","v":308960388.29999995},{"$f":"A5A!F49","v":580999200},{"$f":"A5A!G49","v":211961757.60499999},{"$f":"A5A!H49","v":211961757.60499999},{"$f":"A5A!I49","v":0},{"$f":"A5A!J49","v":318102140},{"$f":"A5A!K49","v":342432645},{"$f":"A5A!L49","v":305181156.10000002}]
[{"$f":"A5A!A60","v":"Vote 6 - Sustainable Development and City Enterprises"},null,{"$f":"A5A!C60","v":109767844.09},{"$f":"A5A!D60","v":180965008.91},{"$f":"A5A!E60","v":51772460.630000003},{"$f":"A5A!F60","v":146855858.87},{"$f":"A5A!G60","v":152823832.44},{"$f":"A5A!H60","v":152823832.44},{"$f":"A5A!I60","v":0},{"$f":"A5A!J60","v":144745414.94999999},{"$f":"A5A!K60","v":6977496.2000000002},{"$f":"A5A!L60","v":700000}]
[{"$f":"A5A!A71","v":"Vote 7 - Electricity"},null,{"$f":"A5A!C71","v":33332616},{"$f":"A5A!D71","v":46850530.93},{"$f":"A5A!E71","v":98800431.880000204},{"$f":"A5A!F71","v":1000000},{"$f":"A5A!G71","v":76484471},{"$f":"A5A!H71","v":76484471},{"$f":"A5A!I71","v":0},{"$f":"A5A!J71","v":175400000},{"$f":"A5A!K71","v":128967852},{"$f":"A5A!L71","v":29632523.899999999}]
[{"$f":"A5A!A82","v":"Vote 8 - [NAME OF VOTE 8]"},null,{"$f":"A5A!C82","v":0},{"$f":"A5A!D82","v":0},{"$f":"A5A!E82","v":0},{"$f":"A5A!F82","v":0},{"$f":"A5A!G82","v":0},{"$f":"A5A!H82","v":0},{"$f":"A5A!I82","v":0},{"$f":"A5A!J82","v":0},{"$f":"A5A!K82","v":0},{"$f":"A5A!L82","v":0}]
[{"$f":"A5A!A93","v":"Vote 9 - [NAME OF VOTE 9]"},null,{"$f":"A5A!C93","v":0},{"$f":"A5A!D93","v":0},{"$f":"A5A!E93","v":0},{"$f":"A5A!F93","v":0},{"$f":"A5A!G93","v":0},{"$f":"A5A!H93","v":0},{"$f":"A5A!I93","v":0},{"$f":"A5A!J93","v":0},{"$f":"A5A!K93","v":0},{"$f":"A5A!L93","v":0}]
[{"$f":"A5A!A104","v":"Vote 10 - [NAME OF VOTE 10]"},null,{"$f":"A5A!C104","v":0},{"$f":"A5A!D104","v":0},{"$f":"A5A!E104","v":0},{"$f":"A5A!F104","v":0},{"$f":"A5A!G104","v":0},{"$f":"A5A!H104","v":0},{"$f":"A5A!I104","v":0},{"$f":"A5A!J104","v":0},{"$f":"A5A!K104","v":0},{"$f":"A5A!L104","v":0}]
[{"$f":"A5A!A115","v":"Vote 11 - [NAME OF VOTE 11]"},null,{"$f":"A5A!C115","v":0},{"$f":"A5A!D115","v":0},{"$f":"A5A!E115","v":0},{"$f":"A5A!F115","v":0},{"$f":"A5A!G115","v":0},{"$f":"A5A!H115","v":0},{"$f":"A5A!I115","v":0},{"$f":"A5A!J115","v":0},{"$f":"A5A!K115","v":0},{"$f":"A5A!L115","v":0}]
[{"$f":"A5A!A126","v":"Vote 12 - [NAME OF VOTE 12]"},null,{"$f":"A5A!C126","v":0},{"$f":"A5A!D126","v":0},{"$f":"A5A!E126","v":0},{"$f":"A5A!F126","v":0},{"$f":"A5A!G126","v":0},{"$f":"A5A!H126","v":0},{"$f":"A5A!I126","v":0},{"$f":"A5A!J126","v":0},{"$f":"A5A!K126","v":0},{"$f":"A5A!L126","v":0}]
[{"$f":"A5A!A137","v":"Vote 13 - [NAME OF VOTE 13]"},null,{"$f":"A5A!C137","v":0},{"$f":"A5A!D137","v":0},{"$f":"A5A!E137","v":0},{"$f":"A5A!F137","v":0},{"$f":"A5A!G137","v":0},{"$f":"A5A!H137","v":0},{"$f":"A5A!I137","v":0},{"$f":"A5A!J137","v":0},{"$f":"A5A!K137","v":0},{"$f":"A5A!L137","v":0}]
[{"$f":"A5A!A148","v":"Vote 14 - [NAME OF VOTE 14]"},null,{"$f":"A5A!C148","v":0},{"$f":"A5A!D148","v":0},{"$f":"A5A!E148","v":0},{"$f":"A5A!F148","v":0},{"$f":"A5A!G148","v":0},{"$f":"A5A!H148","v":0},{"$f":"A5A!I148","v":0},{"$f":"A5A!J148","v":0},{"$f":"A5A!K148","v":0},{"$f":"A5A!L148","v":0}]
[{"$f":"A5A!A159","v":"Vote 15 - [NAME OF VOTE 15]"},null,{"$f":"A5A!C159","v":0},{"$f":"A5A!D159","v":0},{"$f":"A5A!E159","v":0},{"$f":"A5A!F159","v":0},{"$f":"A5A!G159","v":0},{"$f":"A5A!H159","v":0},{"$f":"A5A!I159","v":0},{"$f":"A5A!J159","v":0},{"$f":"A5A!K159","v":0},{"$f":"A5A!L159","v":0}]
["Capital multi-year expenditure sub-total",7,{"$f":"SUM(C6:C20)","v":479855222.16999996},{"$f":"SUM(D6:D20)","v":659307682.91999996},501509747.74000013,796646391.87,500525173.04500002,{"$f":"SUM(H6:H20)","v":500525173.04500002},0,703134054,535833343.19999999,402378560]
[]
["Single-year expenditure to be appropriated",2]
[{"$f":"A6","v":"Vote 1 - City Manager"},null,{"$f":"A5A!C174","v":0},{"$f":"A5A!D174","v":1409774.98},{"$f":"A5A!E174","v":2151205.0099999998},{"$f":"A5A!F174","v":3500000},{"$f":"A5A!G174","v":1900000},{"$f":"A5A!H174","v":1900000},{"$f":"A5A!I174","v":0},{"$f":"A5A!J174","v":5000000},{"$f":"A5A!K174","v":0},{"$f":"A5A!L174","v":0}]
[{"$f":"A7","v":"Vote 2 - City Finance"},null,{"$f":"A5A!C185","v":0},{"$f":"A5A!D185","v":6469188.79},{"$f":"A5A!E185","v":6344857.3299999982},{"$f":"A5A!F185","v":16565000},{"$f":"A5A!G185","v":4785000},{"$f":"A5A!H185","v":4785000},{"$f":"A5A!I185","v":0},{"$f":"A5A!J185","v":0},{"$f":"A5A!K185","v":0},{"$f":"A5A!L185","v":0}]
["Vote 3 - Corporate Services",null,{"$f":"A5A!C196","v":0},{"$f":"A5A!D196","v":132691.03},{"$f":"A5A!E196","v":2270139.63},{"$f":"A5A!F196","v":12326000},{"$f":"A5A!G196","v":4042321},{"$f":"A5A!H196","v":4042321},{"$f":"A5A!I196","v":0},{"$f":"A5A!J196","v":10000000},{"$f":"A5A!K196","v":10000000},{"$f":"A5A!L196","v":10000000}]
["Vote 4 - Community Services and Social Equity",null,{"$f":"A5A!C206","v":0},{"$f":"A5A!D206","v":13964306.879999999},{"$f":"A5A!E206","v":3553157.0500000003},{"$f":"A5A!F206","v":833000},{"$f":"A5A!G206","v":9956000},{"$f":"A5A!H206","v":9956000},{"$f":"A5A!I206","v":0},{"$f":"A5A!J206","v":4000000},{"$f":"A5A!K206","v":0},{"$f":"A5A!L206","v":0}]
["Vote 5 - Infrastructure Services",null,{"$f":"A5A!C217","v":0},{"$f":"A5A!D217","v":0},{"$f":"A5A!E217","v":3549110.5999999996},{"$f":"A5A!F217","v":600000},{"$f":"A5A!G217","v":2242500},{"$f":"A5A!H217","v":2242500},{"$f":"A5A!I217","v":0},{"$f":"A5A!J217","v":5000000},{"$f":"A5A!K217","v":5000000},{"$f":"A5A!L217","v":5000000}]
["Vote 6 - Sustainable Development and City Enterprises",null,{"$f":"A5A!C228","v":0},{"$f":"A5A!D228","v":399547.54000000004},{"$f":"A5A!E228","v":2059024.0899999999},{"$f":"A5A!F228","v":2198073},{"$f":"A5A!G228","v":3533999.9999999404},{"$f":"A5A!H228","v":3533999.9999999404},{"$f":"A5A!I228","v":0},{"$f":"A5A!J228","v":38026000},{"$f":"A5A!K228","v":30476000},{"$f":"A5A!L228","v":30503000}]
["Vote 7 - Electricity",null,{"$f":"A5A!C239","v":0},{"$f":"A5A!D239","v":4248077.95},{"$f":"A5A!E239","v":0},{"$f":"A5A!F239","v":3250000},{"$f":"A5A!G239","v":0},{"$f":"A5A!H239","v":0},{"$f":"A5A!I239","v":0},{"$f":"A5A!J239","v":3600000},{"$f":"A5A!K239","v":0},{"$f":"A5A!L239","v":0}]
["Vote 8 - [NAME OF VOTE 8]",null,{"$f":"A5A!C250","v":0},{"$f":"A5A!D250","v":0},{"$f":"A5A!E250","v":0},{"$f":"A5A!F250","v":0},{"$f":"A5A!G250","v":0},{"$f":"A5A!H250","v":0},{"$f":"A5A!I250","v":0},{"$f":"A5A!J250","v":0},{"$f":"A5A!K250","v":0},{"$f":"A5A!L250","v":0}]
["Vote 9 - [NAME OF VOTE 9]",null,{"$f":"A5A!C261","v":0},{"$f":"A5A!D261","v":0},{"$f":"A5A!E261","v":0},{"$f":"A5A!F261","v":0},{"$f":"A5A!G261","v":0},{"$f":"A5A!H261","v":0},{"$f":"A5A!I261","v":0},{"$f":"A5A!J261","v":0},{"$f":"A5A!K261","v":0},{"$f":"A5A!L261","v":0}]
["Vote 10 - [NAME OF VOTE 10]",null,{"$f":"A5A!C272","v":0},{"$f":"A5A!D272","v":0},{"$f":"A5A!E272","v":0},{"$f":"A5A!F272","v":0},{"$f":"A5A!G272","v":0},{"$f":"A5A!H272","v":0},{"$f":"A5A!I272","v":0},{"$f":"A5A!J272","v":0},{"$f":"A5A!K272","v":0},{"$f":"A5A!L272","v":0}]
["Vote 11 - [NAME OF VOTE 11]",null,{"$f":"A5A!C283","v":0},{"$f":"A5A!D283","v":0},{"$f":"A5A!E283","v":0},{"$f":"A5A!F283","v":0},{"$f":"A5A!G283","v":0},{"$f":"A5A!H283","v":0},{"$f":"A5A!I283","v":0},{"$f":"A5A!J283","v":0},{"$f":"A5A!K283","v":0},{"$f":"A5A!L283","v":0}]
["Vote 12 - [NAME OF VOTE 12]",null,{"$f":"A5A!C294","v":0},{"$f":"A5A!D294","v":0},{"$f":"A5A!E294","v":0},{"$f":"A5A!F294","v":0},{"$f":"A5A!G294","v":0},{"$f":"A5A!H294","v":0},{"$f":"A5A!I294","v":0},{"$f":"A5A!J294","v":0},{"$f":"A5A!K294","v":0},{"$f":"A5A!L294","v":0}]
["Vote 13 - [NAME OF VOTE 13]",null,{"$f":"A5A!C305","v":0},{"$f":"A5A!D305","v":0},{"$f":"A5A!E305","v":0},{"$f":"A5A!F305","v":0},{"$f":"A5A!G305","v":0},{"$f":"A5A!H305","v":0},{"$f":"A5A!I305","v":0},{"$f":"A5A!J305","v":0},{"$f":"A5A!K305","v":0},{"$f":"A5A!L305","v":0}]
["Vote 14 - [NAME OF VOTE 14]",null,{"$f":"A5A!C316","v":0},{"$f":"A5A!D316","v":0},{"$f":"A5A!E316","v":0},{"$f":"A5A!F316","v":0},{"$f":"A5A!G316","v":0},{"$f":"A5A!H316","v":0},{"$f":"A5A!I316","v":0},{"$f":"A5A!J316","v":0},{"$f":"A5A!K316","v":0},{"$f":"A5A!L316","v":0}]
[{"$f":"A20","v":"Vote 15 - [NAME OF VOTE 15]"},null,{"$f":"A5A!C327","v":0},{"$f":"A5A!D327","v":0},{"$f":"A5A!E327","v":0},{"$f":"A5A!F327","v":0},{"$f":"A5A!G327","v":0},{"$f":"A5A!H327","v":0},{"$f":"A5A!I327","v":0},{"$f":"A5A!J327","v":0},{"$f":"A5A!K327","v":0},{"$f":"A5A!L327","v":0}]
["Capital single-year expenditure sub-total",null,{"$f":"SUM(C24:C38)","v":0},{"$f":"SUM(D24:D38)","v":26623587.169999998},19927493.709999997,39272073,26459820.99999994,26459820.99999994,0,65626000,45476000,45503000]
["Total Capital Expenditure - Vote",null,{"$f":"C39+C21","v":479855222.16999996},{"$f":"D39+D21","v":685931270.08999991},521437241.45000011,835918464.87,526984994.04499996,526984994.04499996,0,768760054,581309343.20000005,447881560]
[]
["Capital Expenditure - Functional"]
["Governance and administration",null,{"$f":"SUM(C44:C46)","v":2918036},{"$f":"SUM(D44:D46)","v":10576182.470000001},19335557.149999999,49638283,29461383,29461383,0,51000000,50000000,50000000]
["Executive and council",null,646307,1409774.98,2638711.39,2100000,2000000,2000000,null,1000000,0,0]
["Finance and administration",null,2271729,9166407.4900000002,16696845.76,47538283,27461383,27461383,null,50000000,50000000,50000000]
["Internal audit",null,null,null,0,null,0,0,null,0,0,0]
["Community and public safety",null,{"$f":"SUM(C48:C52)","v":1454997.7099999278},{"$f":"SUM(D48:D52)","v":79498230.520000011},36890721.919999994,128562908.87,45009291.560000002,45009291.560000002,0,169251913.99999994,19908846.199999999,23067880]
["Community and social services",null,null,14120515.579999998,33969243.759999998,24132050,28542850,28542850,null,20307499.049999952,12931350,22367880]
["Sport and recreation",null,3374495,2414731.1399999997,1041093.51,2150000,2200000,2200000,null,0,0,0]
["Public safety",null,-1919497.2900000722,-299343.43,94470,2875000,1975000,1975000,null,4199000,0,0]
["Housing",null,null,63262327.230000004,1785914.6500000001,99405858.870000005,12291441.560000002,12291441.560000002,null,144745414.94999999,6977496.2000000002,700000]
["Health",null,null,null,0,null,0,0,null,0,0,0]
["Economic and environmental services",null,{"$f":"SUM(C54:C56)","v":321827707.07999998},{"$f":"SUM(D54:D56)","v":366180038.40999997},239009075.43000004,104991233,197378920.64399999,197378920.64399999,0,107006000,121091846,133492336.09999999]
["Planning and development",null,23844833,115786718.44999999,37474066.530000001,44830000,137287919.59999999,137287919.59999999,null,38606000,30000000,30000000]
["Road transport",null,297722791.07999998,250393319.95999998,201376703.90000004,59643160,59310301.044,59310301.044,null,68400000,91091846,103492336.09999999]
["Environmental protection",null,260083,null,158305,518073,780700,780700,null,0,0,0]
["Trading services",null,{"$f":"SUM(C58:C61)","v":153654177.97},{"$f":"SUM(D58:D61)","v":227503654.91999999},226176439.72999999,548106040,250528427.56099999,250528427.56099999,0,{"$f":"SUM(J58:J61)","v":438702140},{"$f":"SUM(K58:K62)","v":390308651},241321343.90000001]
["Energy sources",null,47652373.969999999,51098608.880000003,98800431.879999995,241154000,76484471,76484471,null,179000000,{"$f":"28967852+100000000","v":128967852},29632523.899999999]
["Water management",null,74706096,78159404.5,58051642.310000002,196582915,84617815,84617815,null,133924500,{"$f":"81163235+50000000","v":131163235},105099423]
["Waste water management",null,23360737,75993641.629999995,54321981.289999992,94269125,76326141.561000004,76326141.561000004,null,120777640,125177564,101589397]
["Waste management",null,7934971,22251999.91,15002384.25,16100000,13100000,13100000,null,5000000,5000000,5000000]
["Other",null,null,2173163.77,414954.50000011921,4620000,4606971.28,4606971.28,null,2800000,0,0]
["Total Capital Expenditure - Functional",3,{"$f":"C43+C47+C53+C57+C62","v":479854918.75999987},{"$f":"D43+D47+D53+D57+D62","v":685931270.08999991},521826748.73000014,835918464.87,526984994.04499996,526984994.04499996,0,768760054,581309343.20000005,{"$f":"L43+L47+L53+L57+L62","v":447881560}]
[]
["Funded by:"]
["National Government",null,312943688,397216558.00999999,291413394.42000008,344634090,310626005.56099999,310626005.56099999,null,312534640,320133343.19999999,326678560]
["Provincial Government",null,76188437,166778561.69999999,21307752.900000002,101327018.87,126971236.39,126971236.39,null,136165414.94999999,1176000,1203000]
["District Municipality"]
[{"$f":"'A4-FinPerf RE'!A50","v":"Transfers and subsidies - capital (in-kind)"}]
["Transfers recognised - capital",4,{"$f":"SUM(C66:C69)","v":389132125},563995119.71000004,312721147.32000005,445961108.87,437597241.95099998,437597241.95099998,0,448700054.94999999,321309343.19999999,327881560]
[]
["Borrowing",6,4229818.17,null,49400541.770000003,300000000,0,0,null,200000000,150000000,0]
["Internally generated funds",null,86493279,121936150.38000003,159705059.64000008,89957356,89387752.093999997,89387752.093999997,null,120059999.04999995,110000000,120000000]
["Total Capital Funding",7,{"$f":"+C70+C72+C73","v":479855222.17000002},{"$f":"+D70+D72+D73","v":685931270.09000003},521826748.73000014,835918464.87,526984994.04499996,526984994.04499996,0,768760054,581309343.20000005,447881560]
[{"$f":"head27a","v":"References"}]
["1. Municipalities may choose to appropriate for capital expenditure for three years or for one year (if one year appropriation projected expenditure required for yr2 and yr3)."]
["2. Include capital component of PPP unitary payment. Note that capital transfers are only appropriated to municipalities for the budget year"]
["3. Capital expenditure by functional classification must reconcile to the appropriations by vote"]
["4. Must reconcile to supporting table SA20 and to Budgeted Financial Performance (revenue and expenditure)"]
[]
["6. Include finance leases and PPP capital funding component of unitary payment - total borrowing/repayments to reconcile to changes in Table SA17"]
["7. Total Capital Funding must balance with Total Capital Expenditure"]
["8. Include any capitalised interest (MFMA section 46) as part of relevant capital budget"]
[]
["check balance",null,{"$f":"IF((C63-C74)=0,0,\"Unbalanced\")","v":"Unbalanced"},{"$f":"IF((D63-D74)=0,0,\"Unbalanced\")","v":"Unbalanced"},0,0,0,0,0,0,0,0]

{"sheet":"A5A","index":13,"n_rows":339,"n_cols":24,"rows_kept":339,"cut":false,"hidden":false,"merged":[[1,5,1,8],[1,9,1,11],[1,13,1,16],[1,17,1,20],[1,21,1,23]]}
[{"$f":"muni&\" - \"&Approve5","v":"0 - Table A5 Budgeted Capital Expenditure by vote, functional classification and funding"}]
[{"$f":"Vdesc","v":"Vote Description"},{"$f":"head27","v":"Ref"},{"$f":"head1b","v":"2019/20"},{"$f":"head1A","v":"2020/21"},{"$f":"Head1","v":"2021/22"},{"$f":"Head2","v":"Current Year 2022/23"},null,null,null,{"$f":"Head3","v":"2023/24 Medium Term Revenue & Expenditure Framework"},null,null,null,{"$f":"\"Multi-year appropriation for \"&Head9&\n\"\n in the \"&Head2A&\" Annual Budget\"","v":"Multi-year appropriation for Budget Year 2023/24\n in the 2022/23 Annual Budget"},null,null,null,{"$f":"\"Multi-year appropriation for \"&RIGHT(Head10,7)&\n\"\n in the \"&Head2A&\" Annual Budget\"","v":"Multi-year appropriation for 2024/25\n in the 2022/23 Annual Budget"},null,null,null,"New multi-year appropriations \n(funds for new and existing projects) "]
["R thousand",1,{"$f":"Head5","v":"Audited Outcome"},{"$f":"Head5","v":"Audited Outcome"},{"$f":"Head5","v":"Audited Outcome"},{"$f":"Head6","v":"Original Budget"},{"$f":"Head7","v":"Adjusted Budget"},{"$f":"Head8","v":"Full Year Forecast"},{"$f":"Head5b","v":"Pre-audit outcome"},{"$f":"Head9","v":"Budget Year 2023/24"},{"$f":"Head10","v":"Budget Year +1 2024/25"},{"$f":"Head11","v":"Budget Year +2 2025/26"},null,{"$f":"\"Appropriation for \"&RIGHT(Head9,7)","v":"Appropriation for 2023/24"},{"$f":"\"Adjustments in \"&Head2A","v":"Adjustments in 2022/23"},{"$f":"\"Downward adjustments for \"&RIGHT(Head9,7)","v":"Downward adjustments for 2023/24"},"Appropriation carried forward",{"$f":"\"Appropriation for \"&RIGHT(Head9,7)","v":"Appropriation for 2023/24"},{"$f":"\"Adjustments in \"&Head2A","v":"Adjustments in 2022/23"},{"$f":"\"Downward adjustments for \"&RIGHT(Head9,7)","v":"Downward adjustments for 2023/24"},"Appropriation carried forward",{"$f":"Head9","v":"Budget Year 2023/24"},{"$f":"Head10","v":"Budget Year +1 2024/25"},{"$f":"Head11","v":"Budget Year +2 2025/26"}]
["Capital expenditure - Municipal Vote"]
["Multi-year expenditure appropriation",2]
[{"$f":"'Org structure'!A2","v":"Vote 1 - City Manager"},null,{"$f":"SUM(C7:C16)","v":646307},{"$f":"SUM(D7:D16)","v":0},1613825.13,500000,550000,550000,{"$f":"SUM(I7:I16)","v":0},0,0,0,null,{"$f":"SUM(N7:N16)","v":0},0,0,0,0,0,0,0,{"$f":"SUM(V7:V16)","v":0},{"$f":"SUM(W7:W16)","v":0},{"$f":"SUM(X7:X16)","v":0}]
[{"$f":"'Org structure'!E3","v":"1.1 - Internal Audit and Compliance"},null,null,null,0,null,0,0,null,{"$f":"Q7+V7","v":0},{"$f":"U7+W7","v":0},{"$f":"X7","v":0},null,null,null,null,{"$f":"SUM(N7:P7)","v":0},null,null,null,{"$f":"SUM(R7:T7)","v":0}]
[{"$f":"'Org structure'!E4","v":"1.2 - Office of the City Manager"},null,null,null,1039942.75,500000,150000,150000,null,{"$f":"Q8+V8","v":0},{"$f":"U8+W8","v":0},{"$f":"X8","v":0},null,null,null,null,{"$f":"SUM(N8:P8)","v":0},null,null,null,{"$f":"SUM(R8:T8)","v":0}]
[{"$f":"'Org structure'!E5","v":"1.3 - Political Support"},null,646307,null,573882.38,null,400000,400000,null,{"$f":"Q9+V9","v":0},{"$f":"U9+W9","v":0},0,null,null,null,null,0,null,null,null,0]
[{"$f":"'Org structure'!E6","v":"1.4 - Strategic Planning"},null,null,null,0,null,0,0,null,0,0,0,null,null,null,null,0,null,null,null,0]
[{"$f":"'Org structure'!E7","v":0},null,null,null,null,null,null,null,null,0,0,{"$f":"X11","v":0},null,null,null,null,0,null,null,null,0]
[{"$f":"'Org structure'!E8","v":0},null,null,null,null,null,null,null,null,0,0,0,null,null,null,null,0,null,null,null,0]
[{"$f":"'Org structure'!E9","v":0},null,null,null,null,null,null,null,null,0,0,0,null,null,null,null,0,null,null,null,0]
[{"$f":"'Org structure'!E10","v":0},null,null,null,null,null,null,null,null,0,0,0,null,null,null,null,0,null,null,null,0]
[{"$f":"'Org structure'!E11","v":0},null,null,null,null,null,null,null,null,0,0,0,null,null,null,null,0,null,null,null,0]
[{"$f":"'Org structure'!E12","v":0},null,null,null,null,null,null,null,null,0,0,0,null,null,null,null,0,null,null,null,0]
[{"$f":"'Org structure'!A3","v":"Vote 2 - City Finance"},null,{"$f":"SUM(C18:C27)","v":9184603},{"$f":"SUM(D18:D27)","v":1592912.04},4935541.4799999995,21288783,16128783,16128783,{"$f":"SUM(I18:I27)","v":0},30000000,30000000,30000000,null,{"$f":"SUM(N18:N27)","v":0},0,0,0,0,0,0,0,30000000,30000000,30000000]
[{"$f":"'Org structure'!E14","v":"2.1 - Asset Management"},null,null,null,0,50000,50000,50000,null,{"$f":"Q18+V18","v":0},{"$f":"U18+W18","v":0},{"$f":"X18","v":0},null,null,null,null,{"$f":"SUM(N18:P18)","v":0},null,null,null,0,0,0,0]
[{"$f":"'Org structure'!E15","v":"2.2 - Budget and Treasury Management"},null,9184603,1336280.74,1853747.0299999998,17072010,10672010,10672010,null,{"$f":"Q19+V19","v":30000000},{"$f":"U19+W19","v":30000000},30000000,null,null,null,null,0,null,null,null,0,30000000,30000000,30000000]
[{"$f":"'Org structure'!E16","v":"2.3 - Expenditure Management"},null,null,null,54550,0,0,0,null,0,0,0,null,null,null,null,0,null,null,null,0,0,0,0]
[{"$f":"'Org structure'!E17","v":"2.4 - Revenue Management"},null,null,null,2528200,2305000,3645000,3645000,null,0,{"$f":"U21+W21","v":0},0,null,null,null,null,0,null,null,null,0,0,0,0]
[{"$f":"'Org structure'!E18","v":"2.5 - Supply Chain Management"},null,null,256631.3,499044.45,1861773,1761773,1761773,null,0,0,0,null,null,null,null,0,null,null,null,0,0,0,0]
[{"$f":"'Org structure'!E19","v":0},null,null,null,null,null,null,null,null,0,0,0,null,null,null,null,0,null,null,null,0]
[{"$f":"'Org structure'!E20","v":0},null,null,null,null,null,null,null,null,0,0,0,null,null,null,null,0,null,null,null,0]
[{"$f":"'Org structure'!E21","v":0},null,null,null,null,null,null,null,null,0,0,0,null,null,null,null,0,null,null,null,0]
[{"$f":"'Org structure'!E22","v":0},null,null,null,null,null,null,null,null,0,0,0,null,null,null,null,0,null,null,null,0]
[{"$f":"'Org structure'!E23","v":0},null,null,null,null,null,null,null,null,0,0,0,null,null,null,null,0,null,null,null,0]
[{"$f":"'Org structure'!A4","v":"Vote 3 - Corporate Services"},null,{"$f":"SUM(C29:C37)","v":-6912874},971615.63000000012,2272710.48,5601500,1105279,1105279,0,10000000,10000000,10000000,null,{"$f":"SUM(N29:N37)","v":0},0,0,0,0,0,0,0,10000000,10000000,10000000]
[{"$f":"'Org structure'!E26","v":"Human Resources Management"},null,153990,null,1889731,367500,55000,55000,null,{"$f":"Q29+V29","v":0},{"$f":"U29+W29","v":0},{"$f":"X29","v":0},null,null,null,null,{"$f":"SUM(N29:P29)","v":0},null,null,null,0,0,0,0]
[{"$f":"'Org structure'!E27","v":"Information Technology"},null,-7251520,971615.63000000012,0,5000000,500000,500000,null,10000000,10000000,10000000,null,null,null,null,0,null,null,null,{"$f":"SUM(R30:T30)","v":0},10000000,10000000,10000000]
[{"$f":"'Org structure'!E28","v":"Legal Services"},null,0,null,382979.48,0,0,0,null,0,{"$f":"U31+W31","v":0},0,null,null,null,null,0,null,null,null,0,0,0,0]
[{"$f":"'Org structure'!E29","v":"Secretariat and Auxiliary Services"},null,184656,null,0,234000,550279,550279,null,{"$f":"Q32+V32","v":0},0,0,null,null,null,null,0,null,null,null,0,0,0,0]
[{"$f":"'Org structure'!E30","v":"General Manager: Corporate Service"},null,null,null,null,null,0,0,null,0,0,0,null,null,null,null,0,null,null,null,0,0,0,0]
[{"$f":"'Org structure'!E31","v":0},null,null,null,null,null,null,null,null,0,0,0,null,null,null,null,0,null,null,null,0]
[{"$f":"'Org structure'!E32","v":0},null,null,null,null,null,null,null,null,0,0,0,null,null,null,null,0,null,null,null,0]
[{"$f":"'Org structure'!E33","v":0},null,null,null,null,null,null,null,null,0,0,0,null,null,null,null,0,null,null,null,0]
[{"$f":"'Org structure'!E34","v":0},null,null,null,null,null,null,null,null,0,0,0,null,null,null,null,0,null,null,null,0]
[{"$f":"'Org structure'!A5","v":"Vote 4 - Community Services and Social Equity"},null,{"$f":"SUM(C39:C48)","v":12745198},{"$f":"SUM(D39:D48)","v":24381249.32},33154389.839999996,40401050,41471050,41471050,{"$f":"SUM(I39:I48)","v":0},24886499.049999952,17455350,26864880,null,{"$f":"SUM(N39:N48)","v":0},0,0,0,0,0,0,0,24886499.049999952,17455350,26864880]
[{"$f":"'Org structure'!E36","v":"4.1 - Area Based Management "},null,260083,null,790463.79,1900000,1520000,1520000,null,{"$f":"Q39+V39","v":0},{"$f":"U39+W39","v":0},{"$f":"X39","v":0},null,null,null,null,{"$f":"SUM(N39:P39)","v":0},null,null,null,0,0,0,0]
[{"$f":"'Org structure'!E37","v":"4.2 - Public Safety, Emergency Services and Enforcement"},null,1175649,null,0,4525000,3325000,3325000,null,0,0,0,null,null,null,null,0,null,null,null,0,0,0,0]
[{"$f":"'Org structure'!E38","v":"4.3 - Recreation and Facilities"},null,3374495,12466354.57,17408776.799999997,22876050,28526050,28526050,null,19886499.049999952,12455350,21864880,null,null,null,null,0,null,null,null,0,19886499.049999952,12455350,21864880]
[{"$f":"'Org structure'!E39","v":"4.4 - Waste Management"},null,7934971,11914894.75,14955149.25,11100000,8100000,8100000,null,5000000,5000000,5000000,null,null,null,null,0,null,null,null,0,5000000,5000000,5000000]
[{"$f":"'Org structure'!E40","v":0},null,null,null,null,null,0,null,null,0,0,0,null,null,null,null,0,null,null,null,0]
[{"$f":"'Org structure'!E41","v":0},null,null,null,null,null,null,null,null,0,0,0,null,null,null,null,0,null,null,null,0]
[{"$f":"'Org structure'!E42","v":0},null,null,null,null,null,null,null,null,0,0,0,null,null,null,null,0,null,null,null,0]
[{"$f":"'Org structure'!E43","v":0},null,null,null,null,null,null,null,null,0,0,0,null,null,null,null,0,null,null,null,0]
[{"$f":"'Org structure'!E44","v":0},null,null,null,null,null,null,null,null,0,0,0,null,null,null,null,0,null,null,null,0]
[{"$f":"'Org structure'!E45","v":0},null,null,null,null,null,null,null,null,0,0,0,null,null,null,null,0,null,null,null,0]
[{"$f":"'Org structure'!A6","v":"Vote 5 - Infrastructure Services"},null,{"$f":"SUM(C50:C59)","v":321091528.07999998},{"$f":"SUM(D50:D59)","v":404546366.09000003},308960388.29999995,580999200,211961757.60499999,211961757.60499999,{"$f":"SUM(I50:I59)","v":0},318102140,342432645,305181156.10000002,null,{"$f":"SUM(N50:N59)","v":0},0,0,0,0,0,0,0,318102140,342432645,305181156.10000002]
[{"$f":"'Org structure'!E47","v":"5.1 - Project Management Office"},null,null,null,12550,237904000,0,0,null,{"$f":"Q50+V50","v":0},{"$f":"U50+W50","v":0},{"$f":"X50","v":0},null,null,null,null,{"$f":"SUM(N50:P50)","v":0},null,null,null,0,0,0,0]
[{"$f":"'Org structure'!E48","v":"5.2 - Roads and Transportation"},null,297722791.07999998,250393319.96000001,196574214.69999999,0,52685301.044,52685301.044,null,63400000,91091846,103492336.09999999,null,null,null,null,0,null,null,null,0,63400000,91091846,103492336.09999999]
[{"$f":"'Org structure'!E49","v":"5.3 - Water and Sanitation"},null,23368737,154153046.13,112373623.59999998,52243160,159276456.56099999,159276456.56099999,null,254702140,251340799,201688820,null,null,null,null,0,null,null,null,0,254702140,251340799,201688820]
[{"$f":"'Org structure'!E50","v":"5.4 - General Manager: Infrastructure "},null,null,null,0,290852040,0,0,null,0,0,0,null,null,null,null,0,null,null,null,0,0,0,0]
[{"$f":"'Org structure'!E51","v":0},null,null,null,null,null,null,null,null,0,0,0,null,null,null,null,0,null,null,null,0]
[{"$f":"'Org structure'!E52","v":0},null,null,null,null,null,null,null,null,0,0,0,null,null,null,null,0,null,null,null,0]
[{"$f":"'Org structure'!E53","v":0},null,null,null,null,null,null,null,null,0,0,0,null,null,null,null,0,null,null,null,0]
[{"$f":"'Org structure'!E54","v":0},null,null,null,null,null,null,null,null,0,0,0,null,null,null,null,0,null,null,null,0]
[{"$f":"'Org structure'!E55","v":0},null,null,null,null,null,null,null,null,0,0,0,null,null,null,null,0,null,null,null,0]
[{"$f":"'Org structure'!E56","v":0},null,null,null,null,null,null,null,null,0,0,0,null,null,null,null,0,null,null,null,0]
[{"$f":"'Org structure'!A7","v":"Vote 6 - Sustainable Development and City Enterprises"},null,{"$f":"SUM(C61:C70)","v":109767844.09},{"$f":"SUM(D61:D70)","v":180965008.91},51772460.630000003,146855858.87,152823832.44,152823832.44,{"$f":"SUM(I61:I70)","v":0},144745414.94999999,6977496.2000000002,700000,null,{"$f":"SUM(N61:N70)","v":0},0,0,0,0,0,0,0,144745414.94999999,6977496.2000000002,700000]
[{"$f":"'Org structure'!E58","v":"6.1 - City Entities"},null,8711868.0899999999,2315510.77,15005502.890000001,5450000,4998771.28,4998771.28,null,{"$f":"Q61+V61","v":0},{"$f":"U61+W61","v":0},{"$f":"X61","v":0},null,null,null,null,{"$f":"SUM(N61:P61)","v":0},null,null,null,0,0,0,0]
[{"$f":"'Org structure'!E59","v":"6.2 - Development Services"},null,10337001,16004175.649999999,32992343.870000001,41400000,42340538,42340538,null,0,0,0,null,null,null,null,0,null,null,null,0,0,0,0]
[{"$f":"'Org structure'!E60","v":"6.3 - Human Settlement Development"},null,66874142,62960515.340000004,1067854.9000000001,98705858.870000005,10591441.560000002,10591441.560000002,null,144745414.94999999,6977496.2000000002,700000,null,null,null,null,0,null,null,null,0,144745414.94999999,6977496.2000000002,700000]
[{"$f":"'Org structure'!E61","v":"6.4 - Town Planning"},null,23844833,99684807.149999991,2706758.9699999997,1300000,94893081.599999994,94893081.599999994,null,0,0,0,null,null,null,null,0,null,null,null,0,0,0,0]
[{"$f":"'Org structure'!E62","v":"6.5 - General Manager: Sustainable Development and City Enterprises"},null,null,null,0,null,null,null,null,0,0,0,null,null,null,null,0,null,null,null,0,0,0,0]
[{"$f":"'Org structure'!E63","v":0},null,null,null,null,null,null,null,null,0,0,0,null,null,null,null,0,null,null,null,0]
[{"$f":"'Org structure'!E64","v":0},null,null,null,null,null,null,null,null,0,0,0,null,null,null,null,0,null,null,null,0]
[{"$f":"'Org structure'!E65","v":0},null,null,null,null,null,null,null,null,0,0,0,null,null,null,null,0,null,null,null,0]
[{"$f":"'Org structure'!E66","v":0},null,null,null,null,null,null,null,null,0,0,0,null,null,null,null,0,null,null,null,0]
[{"$f":"'Org structure'!E67","v":0},null,null,null,null,null,null,null,null,0,0,0,null,null,null,null,0,null,null,null,0]
[{"$f":"'Org structure'!A8","v":"Vote 7 - Electricity"},null,{"$f":"SUM(C72:C81)","v":33332616},46850530.93,98800431.880000204,1000000,76484471,76484471,0,175400000,128967852,29632523.899999999,null,{"$f":"SUM(N72:N81)","v":0},0,0,0,0,0,0,0,175400000,128967852,29632523.899999999]
[{"$f":"'Org structure'!E69","v":"7.1 Electricity planning"},null,33332616,46850530.93,98800431.880000204,1000000,68284471,68284471,null,{"$f":"Q72+V72","v":155400000},{"$f":"U72+W72","v":8967852},{"$f":"X72","v":14318523.9},null,null,null,null,{"$f":"SUM(N72:P72)","v":0},null,null,null,{"$f":"SUM(R72:T72)","v":0},155400000,8967852,14318523.9]
[{"$f":"'Org structure'!E70","v":"7.2 Methods and Standards"},null,null,null,null,null,0,0,null,0,0,0,null,null,null,null,0,null,null,null,0,0,0,0]
[{"$f":"'Org structure'!E71","v":"7.3 Operations and Maintenance"},null,null,null,null,null,0,0,null,0,0,0,null,null,null,null,0,null,null,null,0,0,0,0]
[{"$f":"'Org structure'!E72","v":"7.4 Revenue Management"},null,null,null,null,null,8200000,8200000,null,20000000,120000000,15314000,null,null,null,null,0,null,null,null,0,20000000,120000000,15314000]
[{"$f":"'Org structure'!E73","v":"7.5 General Manager Electricity"},null,null,null,null,0,0,null,null,0,0,0,null,null,null,null,0,null,null,null,0,0,0,0]
[{"$f":"'Org structure'!E74","v":0},null,null,null,null,null,null,null,null,0,0,0,null,null,null,null,0,null,null,null,0]
[{"$f":"'Org structure'!E75","v":0},null,null,null,null,null,null,null,null,0,0,0,null,null,null,null,0,null,null,null,0]
[{"$f":"'Org structure'!E76","v":0},null,null,null,null,null,null,null,null,0,0,0,null,null,null,null,0,null,null,null,0]
[{"$f":"'Org structure'!E77","v":0},null,null,null,null,null,null,null,null,0,0,0,null,null,null,null,0,null,null,null,0]
[{"$f":"'Org structure'!E78","v":0},null,null,null,null,null,null,null,null,0,0,0,null,null,null,null,0,null,null,null,0]
[{"$f":"'Org structure'!A9","v":"Vote 8 - [NAME OF VOTE 8]"},null,{"$f":"SUM(C83:C92)","v":0},0,0,0,0,0,0,0,0,0,null,{"$f":"SUM(N83:N92)","v":0},0,0,0,0,0,0,0,0,0,0]
[{"$f":"'Org structure'!E80","v":"8.1 - [Name of sub-vote]"},null,null,null,null,null,null,null,null,{"$f":"Q83+V83","v":0},{"$f":"U83+W83","v":0},{"$f":"X83","v":0},null,null,null,null,{"$f":"SUM(N83:P83)","v":0},null,null,null,0]
[{"$f":"'Org structure'!E81","v":0},null,null,null,null,null,null,null,null,0,0,0,null,null,null,null,0,null,null,null,0]
[{"$f":"'Org structure'!E82","v":0},null,null,null,null,null,null,null,null,0,0,0,null,null,null,null,0,null,null,null,0]
[{"$f":"'Org structure'!E83","v":0},null,null,null,null,null,null,null,null,0,0,0,null,null,null,null,0,null,null,null,0]
[{"$f":"'Org structure'!E84","v":0},null,null,null,null,null,null,null,null,0,0,0,null,null,null,null,0,null,null,null,0]
[{"$f":"'Org structure'!E85","v":0},null,null,null,null,null,null,null,null,0,0,0,null,null,null,null,0,null,null,null,0]
[{"$f":"'Org structure'!E86","v":0},null,null,null,null,null,null,null,null,0,0,0,null,null,null,null,0,null,null,null,0]
[{"$f":"'Org structure'!E87","v":0},null,null,null,null,null,null,null,null,0,0,0,null,null,null,null,0,null,null,null,0]
[{"$f":"'Org structure'!E88","v":0},null,null,null,null,null,null,null,null,0,0,0,null,null,null,null,0,null,null,null,0]
[{"$f":"'Org structure'!E89","v":0},null,null,null,null,null,null,null,null,0,0,0,null,null,null,null,0,null,null,null,0]
[{"$f":"'Org structure'!A10","v":"Vote 9 - [NAME OF VOTE 9]"},null,{"$f":"SUM(C94:C103)","v":0},{"$f":"SUM(D94:D103)","v":0},0,0,0,0,0,0,0,0,null,{"$f":"SUM(N94:N103)","v":0},0,0,0,0,0,0,0,0,0,0]
[{"$f":"'Org structure'!E91","v":"9.1 - [Name of sub-vote]"},null,null,null,null,null,null,null,null,{"$f":"Q94+V94","v":0},{"$f":"U94+W94","v":0},{"$f":"X94","v":0},null,null,null,null,{"$f":"SUM(N94:P94)","v":0},null,null,null,0]
[{"$f":"'Org structure'!E92","v":0},null,null,null,null,null,null,null,null,0,0,0,null,null,null,null,0,null,null,null,0]
[{"$f":"'Org structure'!E93","v":0},null,null,null,null,null,null,null,null,0,0,0,null,null,null,null,0,null,null,null,0]
[{"$f":"'Org structure'!E94","v":0},null,null,null,null,null,null,null,null,0,0,0,null,null,null,null,0,null,null,null,0]
[{"$f":"'Org structure'!E95","v":0},null,null,null,null,null,null,null,null,0,0,0,null,null,null,null,0,null,null,null,0]
[{"$f":"'Org structure'!E96","v":0},null,null,null,null,null,null,null,null,0,0,0,null,null,null,null,0,null,null,null,0]
[{"$f":"'Org structure'!E97","v":0},null,null,null,null,null,null,null,null,0,0,0,null,null,null,null,0,null,null,null,0]
[{"$f":"'Org structure'!E98","v":0},null,null,null,null,null,null,null,null,0,0,0,null,null,null,null,0,null,null,null,0]
[{"$f":"'Org structure'!E99","v":0},null,null,null,null,null,null,null,null,0,0,0,null,null,null,null,0,null,null,null,0]
[{"$f":"'Org structure'!E100","v":0},null,null,null,null,null,null,null,null,0,0,0,null,null,null,null,0,null,null,null,0]
[{"$f":"'Org structure'!A11","v":"Vote 10 - [NAME OF VOTE 10]"},null,{"$f":"SUM(C105:C114)","v":0},{"$f":"SUM(D105:D114)","v":0},0,0,0,0,0,0,0,0,null,{"$f":"SUM(N105:N114)","v":0},0,0,0,0,0,0,0,0,0,0]
[{"$f":"'Org structure'!E102","v":"10.1 - [Name of sub-vote]"},null,null,null,null,null,null,null,null,{"$f":"Q105+V105","v":0},{"$f":"U105+W105","v":0},{"$f":"X105","v":0},null,null,null,null,{"$f":"SUM(N105:P105)","v":0},null,null,null,0]
[{"$f":"'Org structure'!E103","v":0},null,null,null,null,null,null,null,null,0,0,0,null,null,null,null,0,null,null,null,0]
[{"$f":"'Org structure'!E104","v":0},null,null,null,null,null,null,null,null,0,0,0,null,null,null,null,0,null,null,null,0]
[{"$f":"'Org structure'!E105","v":0},null,null,null,null,null,null,null,null,0,0,0,null,null,null,null,0,null,null,null,0]
[{"$f":"'Org structure'!E106","v":0},null,null,null,null,null,null,null,null,0,0,0,null,null,null,null,0,null,null,null,0]
[{"$f":"'Org structure'!E107","v":0},null,null,null,null,null,null,null,null,0,0,0,null,null,null,null,0,null,null,null,0]
[{"$f":"'Org structure'!E108","v":0},null,null,null,null,null,null,null,null,0,0,0,null,null,null,null,0,null,null,null,0]
[{"$f":"'Org structure'!E109","v":0},null,null,null,null,null,null,null,null,0,0,0,null,null,null,null,0,null,null,null,0]
[{"$f":"'Org structure'!E110","v":0},null,null,null,null,null,null,null,null,0,0,0,null,null,null,null,0,null,null,null,0]
[{"$f":"'Org structure'!E111","v":0},null,null,null,null,null,null,null,null,0,0,0,null,null,null,null,0,null,null,null,0]
[{"$f":"'Org structure'!A12","v":"Vote 11 - [NAME OF VOTE 11]"},null,{"$f":"SUM(C116:C125)","v":0},0,0,0,0,0,0,0,0,0,null,{"$f":"SUM(N116:N125)","v":0},0,0,0,0,0,0,0,0,0,0]
[{"$f":"'Org structure'!E113","v":"11.1 - [Name of sub-vote]"},null,null,null,null,null,null,null,null,{"$f":"Q116+V116","v":0},{"$f":"U116+W116","v":0},{"$f":"X116","v":0},null,null,null,null,{"$f":"SUM(N116:P116)","v":0},null,null,null,0]
[{"$f":"'Org structure'!E114","v":0},null,null,null,null,null,null,null,null,0,0,0,null,null,null,null,0,null,null,null,0]
[{"$f":"'Org structure'!E115","v":0},null,null,null,null,null,null,null,null,0,0,0,null,null,null,null,0,null,null,null,0]
[{"$f":"'Org structure'!E116","v":0},null,null,null,null,null,null,null,null,0,0,0,null,null,null,null,0,null,null,null,0]
[{"$f":"'Org structure'!E117","v":0},null,null,null,null,null,null,null,null,0,0,0,null,null,null,null,0,null,null,null,0]
[{"$f":"'Org structure'!E118","v":0},null,null,null,null,null,null,null,null,0,0,0,null,null,null,null,0,null,null,null,0]
[{"$f":"'Org structure'!E119","v":0},null,null,null,null,null,null,null,null,0,0,0,null,null,null,null,0,null,null,null,0]
[{"$f":"'Org structure'!E120","v":0},null,null,null,null,null,null,null,null,0,0,0,null,null,null,null,0,null,null,null,0]
[{"$f":"'Org structure'!E121","v":0},null,null,null,null,null,null,null,null,0,0,0,null,null,null,null,0,null,null,null,0]
[{"$f":"'Org structure'!E122","v":0},null,null,null,null,null,null,null,null,0,0,0,null,null,null,null,0,null,null,null,0]
[{"$f":"'Org structure'!A13","v":"Vote 12 - [NAME OF VOTE 12]"},null,{"$f":"SUM(C127:C136)","v":0},0,0,0,0,0,0,0,0,0,null,{"$f":"SUM(N127:N136)","v":0},0,0,0,0,0,0,0,0,0,0]
[{"$f":"'Org structure'!E124","v":"12.1 - [Name of sub-vote]"},null,null,null,null,null,null,null,null,{"$f":"Q127+V127","v":0},{"$f":"U127+W127","v":0},{"$f":"X127","v":0},null,null,null,null,{"$f":"SUM(N127:P127)","v":0},null,null,null,0]
[{"$f":"'Org structure'!E125","v":0},null,null,null,null,null,null,null,null,0,0,0,null,null,null,null,0,null,null,null,0]
[{"$f":"'Org structure'!E126","v":0},null,null,null,null,null,null,null,null,0,0,0,null,null,null,null,0,null,null,null,0]
[{"$f":"'Org structure'!E127","v":0},null,null,null,null,null,null,null,null,0,0,0,null,null,null,null,0,null,null,null,0]
[{"$f":"'Org structure'!E128","v":0},null,null,null,null,null,null,null,null,0,0,0,null,null,null,null,0,null,null,null,0]
[{"$f":"'Org structure'!E129","v":0},null,null,null,null,null,null,null,null,{"$f":"Q132+V132","v":0},0,0,null,null,null,null,0,null,null,null,0]
[{"$f":"'Org structure'!E130","v":0},null,null,null,null,null,null,null,null,0,0,0,null,null,null,null,0,null,null,null,0]
[{"$f":"'Org structure'!E131","v":0},null,null,null,null,null,null,null,null,0,0,0,null,null,null,null,0,null,null,null,0]
[{"$f":"'Org structure'!E132","v":0},null,null,null,null,null,null,null,null,0,0,0,null,null,null,null,0,null,null,null,{"$f":"SUM(R135:T135)","v":0}]
[{"$f":"'Org structure'!E133","v":0},null,null,null,null,null,null,null,null,0,0,0,null,null,null,null,0,null,null,null,0]
[{"$f":"'Org structure'!A14","v":"Vote 13 - [NAME OF VOTE 13]"},null,{"$f":"SUM(C138:C147)","v":0},0,0,0,0,0,0,0,0,0,null,{"$f":"SUM(N138:N147)","v":0},0,0,0,0,0,0,0,0,0,0]
[{"$f":"'Org structure'!E135","v":"13.1 - [Name of sub-vote]"},null,null,null,null,null,null,null,null,{"$f":"Q138+V138","v":0},{"$f":"U138+W138","v":0},{"$f":"X138","v":0},null,null,null,null,{"$f":"SUM(N138:P138)","v":0},null,null,null,0]
[{"$f":"'Org structure'!E136","v":0},null,null,null,null,null,null,null,null,0,0,0,null,null,null,null,0,null,null,null,0]
[{"$f":"'Org structure'!E137","v":0},null,null,null,null,null,null,null,null,0,0,0,null,null,null,null,0,null,null,null,0]
[{"$f":"'Org structure'!E138","v":0},null,null,null,null,null,null,null,null,0,0,0,null,null,null,null,0,null,null,null,0]
[{"$f":"'Org structure'!E139","v":0},null,null,null,null,null,null,null,null,0,0,0,null,null,null,null,0,null,null,null,0]
[{"$f":"'Org structure'!E140","v":0},null,null,null,null,null,null,null,null,0,0,0,null,null,null,null,0,null,null,null,0]
[{"$f":"'Org structure'!E141","v":0},null,null,null,null,null,null,null,null,0,0,0,null,null,null,null,0,null,null,null,0]
[{"$f":"'Org structure'!E142","v":0},null,null,null,null,null,null,null,null,0,0,0,null,null,null,null,0,null,null,null,0]
[{"$f":"'Org structure'!E143","v":0},null,null,null,null,null,null,null,null,0,0,0,null,null,null,null,0,null,null,null,0]
[{"$f":"'Org structure'!E144","v":0},null,null,null,null,null,null,null,null,0,0,0,null,null,null,null,0,null,null,null,0]
[{"$f":"'Org structure'!A15","v":"Vote 14 - [NAME OF VOTE 14]"},null,{"$f":"SUM(C149:C158)","v":0},0,0,0,0,0,0,0,0,0,null,{"$f":"SUM(N149:N158)","v":0},0,0,0,0,0,0,0,0,0,0]
[{"$f":"'Org structure'!E146","v":"14.1 - [Name of sub-vote]"},null,null,null,null,null,null,null,null,{"$f":"Q149+V149","v":0},{"$f":"U149+W149","v":0},{"$f":"X149","v":0},null,null,null,null,{"$f":"SUM(N149:P149)","v":0},null,null,null,0]
[{"$f":"'Org structure'!E147","v":0},null,null,null,null,null,null,null,null,0,0,0,null,null,null,null,0,null,null,null,0]
[{"$f":"'Org structure'!E148","v":0},null,null,null,null,null,null,null,null,0,0,0,null,null,null,null,0,null,null,null,0]
[{"$f":"'Org structure'!E149","v":0},null,null,null,null,null,null,null,null,0,0,0,null,null,null,null,0,null,null,null,0]
[{"$f":"'Org structure'!E150","v":0},null,null,null,null,null,null,null,null,0,0,0,null,null,null,null,0,null,null,null,0]
[{"$f":"'Org structure'!E151","v":0},null,null,null,null,null,null,null,null,0,0,0,null,null,null,null,0,null,null,null,0]
[{"$f":"'Org structure'!E152","v":0},null,null,null,null,null,null,null,null,0,0,0,null,null,null,null,0,null,null,null,0]
[{"$f":"'Org structure'!E153","v":0},null,null,null,null,null,null,null,null,0,0,0,null,null,null,null,0,null,null,null,0]
[{"$f":"'Org structure'!E154","v":0},null,null,null,null,null,null,null,null,0,0,0,null,null,null,null,0,null,null,null,0]
[{"$f":"'Org structure'!E155","v":0},null,null,null,null,null,null,null,null,0,0,0,null,null,null,null,0,null,null,null,0]
[{"$f":"'Org structure'!A16","v":"Vote 15 - [NAME OF VOTE 15]"},null,{"$f":"SUM(C160:C169)","v":0},0,0,0,0,0,0,0,0,0,null,{"$f":"SUM(N160:N169)","v":0},0,0,0,0,0,0,0,0,0,0]
[{"$f":"'Org structure'!E157","v":"15.1 - [Name of sub-vote]"},null,null,null,null,null,null,null,null,{"$f":"Q160+V160","v":0},{"$f":"U160+W160","v":0},{"$f":"X160","v":0},null,null,null,null,{"$f":"SUM(N160:P160)","v":0},null,null,null,0]
[{"$f":"'Org structure'!E158","v":0},null,null,null,null,null,null,null,null,0,0,0,null,null,null,null,0,null,null,null,0]
[{"$f":"'Org structure'!E159","v":0},null,null,null,null,null,null,null,null,0,0,0,null,null,null,null,0,null,null,null,0]
[{"$f":"'Org structure'!E160","v":0},null,null,null,null,null,null,null,null,0,0,0,null,null,null,null,0,null,null,null,0]
[{"$f":"'Org structure'!E161","v":0},null,null,null,null,null,null,null,null,0,0,0,null,null,null,null,0,null,null,null,0]
[{"$f":"'Org structure'!E162","v":0},null,null,null,null,null,null,null,null,0,0,0,null,null,null,null,0,null,null,null,0]
[{"$f":"'Org structure'!E163","v":0},null,null,null,null,null,null,null,null,0,0,0,null,null,null,null,0,null,null,null,0]
[{"$f":"'Org structure'!E164","v":0},null,null,null,null,null,null,null,null,0,0,0,null,null,null,null,0,null,null,null,0]
[{"$f":"'Org structure'!E165","v":0},null,null,null,null,null,null,null,null,0,0,0,null,null,null,null,0,null,null,null,0]
[{"$f":"'Org structure'!E166","v":0},null,null,null,null,null,null,null,null,0,0,0,null,null,null,null,0,null,null,null,0]
["Capital multi-year expenditure sub-total",null,{"$f":"C6+C17+C28+C38+C49+C60+C71+C82+C93+C104+C115+C126+C137+C148+C159","v":479855222.16999996},659307682.91999996,501509747.74000013,796646391.87,500525173.04500002,500525173.04500002,0,703134054,535833343.19999999,402378560,null,{"$f":"N6+N17+N28+N38+N49+N60+N71+N82+N93+N104+N115+N126+N137+N148+N159","v":0},0,0,0,0,0,null,{"$f":"U6+U17+U28+U38+U49+U60+U71+U82+U93+U104+U115+U126+U137+U148+U159","v":0},{"$f":"V6+V17+V28+V38+V49+V60+V71+V82+V93+V104+V115+V126+V137+V148+V159","v":703134054},{"$f":"W6+W17+W28+W38+W49+W60+W71+W82+W93+W104+W115+W126+W137+W148+W159","v":535833343.19999999},{"$f":"X6+X17+X28+X38+X49+X60+X71+X82+X93+X104+X115+X126+X137+X148+X159","v":402378560}]
[]
["Capital expenditure - Municipal Vote"]
["Single-year expenditure appropriation",2]
[{"$f":"A6","v":"Vote 1 - City Manager"},null,{"$f":"SUM(C175:C184)","v":0},1409774.98,2151205.0099999998,3500000,1900000,1900000,0,5000000,0,0]
["1.1 - Internal Audit and Compliance",null,null,null,0,null,0,0,null,0,0,0]
["1.2 - Office of the City Manager",null,null,274174.98,71499.7,200000,200000,200000,null,1000000,0,0]
["1.3 - Political Support",null,null,1135600,1040623.62,2100000,1600000,1600000,null,0,0,0]
["1.4 - Strategic Planning",null,null,null,1039081.69,1200000,100000,100000,null,4000000,0,0]
[0]
[0]
[0]
[0]
[0]
[0]
["Vote 2 - City Finance",null,{"$f":"SUM(C186:C195)","v":0},6469188.79,6344857.3299999982,16565000,4785000,4785000,0,0,0,0]
["2.1 - Asset Management",null,null,5396998.2199999997,4381677.8999999994,15210000,3330000,3330000]
["2.2 - Budget and Treasury Management",null,null,1047881.32,622883.85,505000,505000,505000]
["2.3 - Expenditure Management",null,null,0,0,105000,105000,105000]
["2.4 - Revenue Management",null,null,0,1059984.98,645000,645000,645000]
["2.5 - Supply Chain Management",null,null,24309.25,280310.59999999998,100000,200000,200000]
[0]
[0]
[0]
[0]
[0]
["Vote 3 - Corporate Services",null,{"$f":"SUM(C197:C205)","v":0},132691.03,2270139.63,12326000,4042321,4042321,0,10000000,10000000,10000000]
["Human Resources Management",null,null,132691.03,2124468.4899999998,276000,77750,77750,null,0,0,0]
["Information Technology",null,null,null,15697.5,6050000,2697277,2697277,null,10000000,10000000,10000000]
["Legal Services",null,null,null,95276,1000000,0,0,null,0,0,0]
["Secretariat and Auxiliary Services",null,null,null,34697.64,5000000,1267294,1267294,null,0,0,0]
["General Manager: Corporate Service",null,null,null,null,null,null,null,null,0,0,0]
[0]
[0]
[0]
[0]
[{"$f":"A38","v":"Vote 4 - Community Services and Social Equity"},null,{"$f":"SUM(C207:C216)","v":0},13964306.879999999,3553157.0500000003,833000,9956000,9956000,0,4000000,0,0]
["4.1 - Area Based Management ",null,null,null,531570.77,44000,356000,356000]
["4.2 - Public Safety, Emergency Services and Enforcement",null,null,-299343.43,1747848.6,385000,4600000,4600000,null,4000000]
["4.3 - Recreation and Facilities",null,null,3926545.15,1226502.6800000002,0,0,0]
["4.4 - Waste Management",null,null,10337105.16,47235,404000,5000000,5000000]
[0]
[0]
[0]
[0]
[0]
[0]
["Vote 5 - Infrastructure Services",null,{"$f":"SUM(C218:C227)","v":0},0,3549110.5999999996,600000,2242500,2242500,0,5000000,5000000,5000000]
["5.1 - Project Management Office",null,null,null,0,600000,575000,575000,null,0,0,0]
["5.2 - Roads and Transportation",null,null,null,3549110.5999999996,null,1667500,1667500,null,5000000,5000000,5000000]
["5.3 - Water and Sanitation",null,null,null,0,null,null,null,null,0,0,0]
["5.4 - General Manager: Infrastructure ",null,null,null,0,null,null,null,null,0,0,0]
[0]
[0]
[0]
[0]
[0]
[0]
["Vote 6 - Sustainable Development and City Enterprises",null,{"$f":"SUM(C229:C238)","v":0},399547.54000000004,2059024.0899999999,2198073,3533999.9999999404,3533999.9999999404,0,38026000,30476000,30503000]
["6.1 - City Entities",null,null,null,446777.33999999997,50000,599000,599000,null,3420000,476000,503000]
["6.2 - Development Services",null,null,null,342251.8,300000,244300,244300,null,34606000,30000000,30000000]
["6.3 - Human Settlement Development",null,null,301811.89,718059.75,700000,2199999.9999999404,2199999.9999999404]
["6.4 - Town Planning",null,null,97735.65,551935.19999999995,1148073,490700,490700]
["6.5 - General Manager: Sustainable Development and City Enterprises",null,null,null,0]
[0]
[0]
[0]
[0]
[{"$f":"A70","v":0}]
["Vote 7 - Electricity",null,{"$f":"SUM(C240:C249)","v":0},4248077.95,0,3250000,0,0,0,3600000,0,0]
["7.1 Electricity planning",null,null,4248077.95,null,3250000,null,null,null,3600000,0,0]
["7.2 Methods and Standards",null,null,null,null,null,null,null,null,0,0,0]
["7.3 Operations and Maintenance",null,null,null,null,null,null,null,null,0,0,0]
["7.4 Revenue Management",null,null,null,null,null,null,null,null,0,0,0]
["7.5 General Manager Electricity",null,null,null,null,null,null,null,null,0,0,0]
[0]
[0]
[0]
[0]
[0]
["Vote 8 - [NAME OF VOTE 8]",null,{"$f":"SUM(C251:C260)","v":0},0,0,0,0,0,0,0,0,0]
["8.1 - [Name of sub-vote]"]
[0]
[0]
[0]
[0]
[0]
[0]
[0]
[0]
[0]
["Vote 9 - [NAME OF VOTE 9]",null,{"$f":"SUM(C262:C271)","v":0},0,0,0,0,0,0,0,0,0]
["9.1 - [Name of sub-vote]"]
[0]
[0]
[0]
[0]
[0]
[0]
[0]
[{"$f":"A102","v":0}]
[0]
["Vote 10 - [NAME OF VOTE 10]",null,{"$f":"SUM(C273:C282)","v":0},0,0,0,0,0,0,0,0,0]
["10.1 - [Name of sub-vote]"]
[0]
[0]
[0]
[0]
[0]
[0]
[0]
[0]
[0]
["Vote 11 - [NAME OF VOTE 11]",null,{"$f":"SUM(C284:C293)","v":0},0,0,0,0,0,0,0,0,0]
["11.1 - [Name of sub-vote]"]
[0]
[0]
[0]
[0]
[0]
[0]
[0]
[0]
[0]
["Vote 12 - [NAME OF VOTE 12]",null,{"$f":"SUM(C295:C304)","v":0},0,0,0,0,0,0,0,0,0]
["12.1 - [Name of sub-vote]"]
[0]
[0]
[0]
[0]
[0]
[0]
[{"$f":"A134","v":0}]
[0]
[0]
["Vote 13 - [NAME OF VOTE 13]",null,{"$f":"SUM(C306:C315)","v":0},0,0,0,0,0,0,0,0,0]
["13.1 - [Name of sub-vote]"]
[0]
[0]
[0]
[0]
[0]
[0]
[0]
[0]
[0]
["Vote 14 - [NAME OF VOTE 14]",null,{"$f":"SUM(C317:C326)","v":0},0,0,0,0,0,0,0,0,0]
["14.1 - [Name of sub-vote]"]
[0]
[0]
[0]
[0]
[0]
[0]
[0]
[0]
[0]
["Vote 15 - [NAME OF VOTE 15]",null,{"$f":"SUM(C328:C337)","v":0},0,0,0,0,0,0,0,0,0]
["15.1 - [Name of sub-vote]"]
[0]
[0]
[0]
[0]
[0]
[{"$f":"A166","v":0}]
[0]
[0]
[0]
["Capital single-year expenditure sub-total",null,{"$f":"C174+C185+C196+C206+C217+C228+C239+C250+C261+C272+C283+C294+C305+C316+C327","v":0},26623587.169999998,19927493.709999997,39272073,26459820.99999994,26459820.99999994,0,65626000,45476000,45503000]
["Total Capital Expenditure",null,{"$f":"C170+C338","v":479855222.16999996},685931270.08999991,521437241.45000011,835918464.87,526984994.04499996,526984994.04499996,0,768760054,581309343.20000005,447881560]

{"sheet":"A6-FinPos","index":14,"n_rows":62,"n_cols":12,"rows_kept":62,"cut":false,"hidden":false,"merged":[[1,9,1,11],[1,5,1,8]]}
[{"$f":"muni&\" - \"&Approve6","v":"0 - Table A6 Budgeted Financial Position"}]
[{"$f":"desc","v":"Description"},{"$f":"head27","v":"Ref"},{"$f":"head1b","v":"2019/20"},{"$f":"head1A","v":"2020/21"},{"$f":"Head1","v":"2021/22"},{"$f":"Head2","v":"Current Year 2022/23"},null,null,null,{"$f":"Head3","v":"2023/24 Medium Term Revenue & Expenditure Framework"}]
["R thousand",null,{"$f":"Head5","v":"Audited Outcome"},{"$f":"Head5","v":"Audited Outcome"},{"$f":"Head5","v":"Audited Outcome"},{"$f":"Head6","v":"Original Budget"},{"$f":"Head7","v":"Adjusted Budget"},{"$f":"Head8","v":"Full Year Forecast"},{"$f":"Head5b","v":"Pre-audit outcome"},{"$f":"Head9","v":"Budget Year 2023/24"},{"$f":"Head10","v":"Budget Year +1 2024/25"},{"$f":"Head11","v":"Budget Year +2 2025/26"}]
["ASSETS"]
["Current assets"]
["Cash and cash equivalents",null,518976967,361320731,290433199,134860115.36649746,357851718.42929155,357851718.42929155,null,603973549,913508506,1840248078]
["Trade and other receivables from exchange transactions",1,{"$f":"'SA3'!C19","v":531584562},{"$f":"'SA3'!D19","v":19681707},{"$f":"'SA3'!E19","v":21116337},{"$f":"'SA3'!F19","v":1781691206.1400003},{"$f":"'SA3'!G19","v":2421823373.5655332},{"$f":"'SA3'!H19","v":2421823373.5655332},{"$f":"'SA3'!I19","v":4204533611},{"$f":"'SA3'!P19","v":1296255145.0000019},{"$f":"'SA3'!Q19","v":1359771647.1050024},{"$f":"'SA3'!R19","v":790750688.53861189}]
["Receivables from non-exchange transactions",1,{"$f":"'SA3'!C28","v":1451868358},{"$f":"'SA3'!D28","v":545319677},{"$f":"'SA3'!E28","v":516960589},{"$f":"'SA3'!F28","v":0},{"$f":"'SA3'!G28","v":0},{"$f":"'SA3'!H28","v":0},{"$f":"'SA3'!I28","v":0},{"$f":"'SA3'!P28","v":668305596.63622999},{"$f":"'SA3'!Q28","v":450019571.35795921},{"$f":"'SA3'!R28","v":471181620.51879317}]
["Current portion of non-current receivables",null,null,1176104174,1315073345]
["Inventory",2,{"$f":"'SA3'!C123","v":-468077753},{"$f":"'SA3'!D123","v":353799869},{"$f":"'SA3'!E123","v":359494469},{"$f":"'SA3'!F123","v":173496047.05902398},{"$f":"'SA3'!G123","v":101717097.93401921},{"$f":"'SA3'!H123","v":101717097.93401921},{"$f":"'SA3'!I123","v":185998421.94097602},359494469,359494469,359494469]
["VAT"]
["Other current assets",null,18452302,32311434,32670009,null,48957643.550624371,48957643.550624371]
["Total current assets",null,{"$f":"SUM(C6:C12)","v":2052804436},2488537592,2535747948,2090047368.5655217,2930349833.4794683,2930349833.4794683,4390532032.9409761,2928028759.6362319,3082794193.4629617,3461674856.057405]
["Non current assets"]
["Investments"]
["Investment property",null,821671435,892583607,925219355,821671435,821671435,821671435,null,974255980.81499994,1021994523.8749349,1070028266.4970567]
["Property, plant and equipment",3,{"$f":"'SA3'!C129","v":6588894508},{"$f":"'SA3'!D129","v":6781651843},{"$f":"'SA3'!E129","v":6917056197},{"$f":"'SA3'!F129","v":7125684086},{"$f":"'SA3'!G129","v":6825684086},{"$f":"'SA3'!H129","v":6825684086},{"$f":"'SA3'!I129","v":0},{"$f":"'SA3'!P129","v":7930887847},{"$f":"'SA3'!Q129","v":7634417902},{"$f":"'SA3'!R129","v":6492186711}]
["Biological assets",null,null,null,null,null,null,null,null,84450600,88588679.399999991,92752347.331799984]
["Living and non-living resources",null,1070250,743574,696179,1070250,1070250,1070250,null,733076.48699999996,768997.23486299987,805140.10490156082]
["Heritage assets",null,null,272918984,273106020,null,null,null,null,287700639,301842090,316036679]
["Intangible assets",null,30700413,24463571,20954448,30700413,30700413,30700413,null,20954448,21981215.952,23014333.101744]
["Trade and other receivables from exchange transactions",null,null,null,null,null,null,null,null,0]
["Non-current receivables from non-exchange transactions",null,null,null,null,null,null,null,null,0]
["Other non-current assets",null,345024972,96300000,80200000,360375178.5,360375178.5,360375178.5,null,0]
["Total non current assets",null,{"$f":"SUM(C15:C24)","v":7787361578},{"$f":"SUM(D15:D24)","v":8068661579},8217232199,8339501362.5,8039501362.5,8039501362.5,0,9298982591.302,9069593408.4617977,7994823477.0355024]
["TOTAL ASSETS",null,{"$f":"C13+C25","v":9840166014},{"$f":"D13+D25","v":10557199171},{"$f":"E13+E25","v":10752980147},{"$f":"F13+F25","v":10429548731.065521},10969851195.979469,10969851195.979469,4390532032.9409761,12227011350.938232,12152387601.924759,11456498333.092907]
["LIABILITIES"]
["Current liabilities"]
["Bank overdraft"]
["Financial liabilities",null,{"$f":"'SA3'!C135","v":113418257.92},{"$f":"'SA3'!D135","v":81573484},{"$f":"'SA3'!E135","v":79162900},{"$f":"'SA3'!F135","v":101622094.59},{"$f":"'SA3'!G135","v":180784994.59},{"$f":"'SA3'!H135","v":180784994.59},{"$f":"'SA3'!I135","v":0},{"$f":"'SA3'!P135","v":83358533.699999988},{"$f":"'SA3'!Q135","v":87443101.851299986},{"$f":"'SA3'!R135","v":91552927.638311073}]
["Consumer deposits",null,113838915,128836470,132962378,114344430.65218705,132962378,132962378,null,140009384.03399998,146869843.85166597,153772726.51269427]
["Trade and other payables from exchange transactions",4,1624206606,1385627077,1922030381,1106988000,2180377561.6283035,2180377561.6283035,null,1186508059.1130674,1035483894.7126362,1023508062.0242609]
["Trade and other payables from non-exchange transactions",5,null,21715043,20091631,null,null,null,null,0,0,0]
["Provision",null,41864143,10129381,8304273,140397811.785,140397811.785,140397811.785,{"$f":"41526001+7591978","v":49117979},50151238.82,52598288.369999997,55062026.899999999]
["VAT",null,null,190638434,178523315,null,null,null,null,187551752.47916543,196741778.72274899,205988642.32271817]
["Other current liabilities",null,null,219225713,177613526]
["Total current liabilities",null,{"$f":"SUM(C29:C36)","v":1893327921.9200001},2037745602,2518688404,1463352337.0271871,2634522746.0033035,2634522746.0033035,49117979,1647578968.1462326,1519136907.5083511,1529884385.3979845]
["Non current liabilities"]
["Financial liabilities",6,{"$f":"'SA3'!C147","v":285317995.64999998},{"$f":"'SA3'!D147","v":203744512},{"$f":"'SA3'!E147","v":589320000},{"$f":"'SA3'!F147","v":499353485.44999999},{"$f":"'SA3'!G147","v":623935097.45000005},{"$f":"'SA3'!H147","v":623935097.45000005},{"$f":"'SA3'!I147","v":0},{"$f":"'SA3'!P147","v":131184437.43599999},{"$f":"'SA3'!Q147","v":137612474.87036398},{"$f":"'SA3'!R147","v":144080261.18927109}]
["Provision",7,{"$f":"'SA3'!C154","v":531179840},{"$f":"'SA3'!D154","v":55141588},{"$f":"'SA3'!E154","v":0},{"$f":"'SA3'!F154","v":809779414.93056619},{"$f":"'SA3'!G154","v":1460213122.9305663},{"$f":"'SA3'!H154","v":1460213122.9305663},{"$f":"'SA3'!I154","v":0},{"$f":"'SA3'!P154","v":75576254.600000009},{"$f":"'SA3'!Q154","v":631407144},{"$f":"'SA3'!R154","v":83005627.155943811}]
["Long term portion of trade payables"]
["Other non-current liabilities",null,null,555608000,185695320,null,null,null,null,648252000,680016348,711977116]
["Total non current liabilities",null,{"$f":"SUM(C39:C42)","v":816497835.64999998},814494100,775015320,1309132900.3805661,2084148220.3805664,2084148220.3805664,{"$f":"SUM(I41:I42)","v":0},{"$f":"SUM(J39:J42)","v":855012692.03600001},{"$f":"SUM(K39:K42)","v":1449035966.870364},{"$f":"SUM(L39:L42)","v":939063004.34521484}]
["TOTAL LIABILITIES",null,{"$f":"C37+C43","v":2709825757.5700002},{"$f":"D37+D43","v":2852239702},{"$f":"E37+E43","v":3293703724},{"$f":"F37+F43","v":2772485237.407753},4718670966.3838701,4718670966.3838701,49117979,2502591660.1822329,{"$f":"K37+K43","v":2968172874.378715},2468947389.7431993]
["NET ASSETS",null,{"$f":"C26-C44","v":7130340256.4300003},7704959469,7459276423,7657063493.6577682,6251180229.5955992,6251180229.5955992,4341414053.9409761,9724419690.7560005,9184214727.5460434,8987550943.3497086]
["COMMUNITY WEALTH/EQUITY"]
["Accumulated surplus/(deficit)",8,7748557372,7513887393,7265348361,7657063494.1364689,6049349178.0770531,6049349178.0770531,null,9511891593,8961272753,8754130696]
["Reserves and funds",9,{"$f":"'SA3'!C173","v":190847169},{"$f":"'SA3'!D173","v":190989022},{"$f":"'SA3'!E173","v":201831052},{"$f":"'SA3'!F173","v":0},{"$f":"'SA3'!G173","v":201831052},{"$f":"'SA3'!H173","v":201831052},{"$f":"'SA3'!I173","v":0},{"$f":"'SA3'!P173","v":212528097.75599998},{"$f":"'SA3'!Q173","v":222941974.54604396},{"$f":"'SA3'!R173","v":233420247.34970802}]
["Other"]
["TOTAL COMMUNITY WEALTH/EQUITY",10,{"$f":"SUM(C47:C49)","v":7939404541},{"$f":"SUM(D47:D49)","v":7704876415},7467179413,7657063494.1364689,6251180230.0770531,6251180230.0770531,0,9724419690.7560005,9184214727.5460434,8987550943.3497086]
[{"$f":"head27a","v":"References"}]
["1. Detail breakdown in Table SA3 for Trade receivables from Exchange and Non-exchange transactions"]
["2. Include completed low cost housing to be transferred to beneficiaries within 12 months detail provided in Table SA3"]
["3. Include 'Construction-work-in-progress' (disclosed separately in annual financial statements) detail in SA3"]
["4. Detail breakdown in Table SA3. "]
["5. Detail breakdown in Table SA3. "]
["6. Detail breakdown in Table SA3. "]
["7 Detail breakdown in Table SA3. "]
["8. Detail breakdown in Table SA3. "]
["9. Detail breakdown in Table SA3. Includes reserves to be funded by statute."]
["10. Net assets must balance with Total Community Wealth/Equity"]
["check balance",null,{"$f":"IF((C45-C50)=0,0,\"Unbalanced\")","v":"Unbalanced"},"Unbalanced","Unbalanced","Unbalanced","Unbalanced","Unbalanced","Unbalanced",0,0,0]

{"sheet":"A7-CFlow","index":15,"n_rows":50,"n_cols":12,"rows_kept":50,"cut":false,"hidden":false,"merged":[[1,9,1,11],[1,5,1,8]]}
[{"$f":"muni&\" - \"&Approve7","v":"0 - Table A7 Budgeted Cash Flows"}]
[{"$f":"desc","v":"Description"},{"$f":"head27","v":"Ref"},{"$f":"head1b","v":"2019/20"},{"$f":"head1A","v":"2020/21"},{"$f":"Head1","v":"2021/22"},{"$f":"Head2","v":"Current Year 2022/23"},null,null,null,{"$f":"Head3","v":"2023/24 Medium Term Revenue & Expenditure Framework"}]
["R thousand",null,{"$f":"Head5","v":"Audited Outcome"},{"$f":"Head5","v":"Audited Outcome"},{"$f":"Head5","v":"Audited Outcome"},{"$f":"Head6","v":"Original Budget"},{"$f":"Head7","v":"Adjusted Budget"},{"$f":"Head8","v":"Full Year Forecast"},{"$f":"Head5b","v":"Pre-audit outcome"},{"$f":"Head9","v":"Budget Year 2023/24"},{"$f":"Head10","v":"Budget Year +1 2024/25"},{"$f":"Head11","v":"Budget Year +2 2025/26"}]
["CASH FLOW FROM OPERATING ACTIVITIES"]
["Receipts"]
["Property rates",null,null,null,1149564108,1284379975,1341463530,1341463530,null,{"$f":"'SA30'!N5","v":1435365977},{"$f":"'SA30'!O5","v":1521716983},{"$f":"'SA30'!P5","v":1593237681}]
["Service charges",null,3893416276,4078704928,3166809930,3876294794,4048574562,4048574562,null,{"$f":"'SA30'!N6+'SA30'!N7+'SA30'!N8+'SA30'!N9","v":4467999174},{"$f":"'SA30'!O6+'SA30'!O7+'SA30'!O8+'SA30'!O9","v":6249508058},{"$f":"'SA30'!P6+'SA30'!P7+'SA30'!P8+'SA30'!P9","v":7188209903}]
["Other revenue",null,null,null,76009657,915670004,716654335,716654335,null,{"$f":"'SA30'!N11+'SA30'!N15+'SA30'!N16+'SA30'!N17+'SA30'!N19","v":1119062172},{"$f":"'SA30'!O11+'SA30'!O15+'SA30'!O17+'SA30'!O19","v":240994218},{"$f":"'SA30'!P11+'SA30'!P15+'SA30'!P17+'SA30'!P19","v":252354016}]
["Transfers and Subsidies - Operational",1,681737625,1254551714,686988866,855842084,800708694,800708694,null,{"$f":"'SA30'!N18","v":834106196},{"$f":"'SA30'!O18","v":906109405},{"$f":"'SA30'!P18","v":982491448}]
["Transfers and Subsidies - Capital",1,487770477,null,327896741,446431109,437597242,437597242,null,{"$f":"'SA30'!N23","v":452578009},{"$f":"'SA30'!O23","v":321309343},{"$f":"'SA30'!P23","v":327881560}]
["Interest",null,45593332,23017689,33578242,17030213,17030213,17030213,null,{"$f":"'SA30'!N12","v":18132025},{"$f":"'SA30'!O12","v":19305407},{"$f":"'SA30'!P12","v":20574284}]
["Dividends",null,null,null,null,0,0,0,null,0,0,0]
["Payments"]
["Suppliers and employees",null,-4385977162,-4731611067,-4853520047,-6605694262,-6603513808,-6603513808,null,{"$f":"-('SA30'!N35+'SA30'!N36+'SA30'!N38+'SA30'!N39+'SA30'!N41+'SA30'!N44+'SA30'!N50)","v":-7289158697},{"$f":"-('SA30'!O35+'SA30'!O36+'SA30'!O38+'SA30'!O39+'SA30'!O41+'SA30'!O44+'SA30'!O50)","v":-8107368464},{"$f":"-('SA30'!P35+'SA30'!P36+'SA30'!P38+'SA30'!P39+'SA30'!P41+'SA30'!P44+'SA30'!P50)","v":-8813781767}]
["Finance charges",null,null,-36203064,-27182033,-94217140,-52038519,-52038519,null,{"$f":"-'SA30'!N37","v":-40400878},{"$f":"-'SA30'!O37","v":-42218918},{"$f":"-'SA30'!P37","v":-44118769}]
["Transfers and Subsidies",1,-46314311,null,-25006849,-63469172,-38008157,-38008157,null,{"$f":"-'SA30'!N42","v":-51023536},{"$f":"-'SA30'!O42","v":-53395332},{"$f":"-'SA30'!P42","v":-55899094}]
["NET CASH FROM/(USED) OPERATING ACTIVITIES",null,{"$f":"SUM(C6:C12)+SUM(C14:C16)","v":676226237},588460200,535138615,632267605,668468092,668468092,0,946660442,{"$f":"SUM(K6:K12)+SUM(K14:K16)","v":1055960700},1450949262]
["CASH FLOWS FROM INVESTING ACTIVITIES"]
["Receipts"]
["Proceeds on disposal of PPE",null,-399050648,-600455908,5825155,null,3692592,3692592,null,{"$f":"'SA30'!N25","v":0},{"$f":"'SA30'!O25","v":0},{"$f":"'SA30'!P25","v":0}]
[]
["Decrease (increase) in non-current receivables",null,null,null,-358575,null,null,null,null,{"$f":"'SA30'!N30","v":0},{"$f":"'SA30'!O30","v":0},{"$f":"'SA30'!P30","v":0}]
["Decrease (increase) in non-current investments",null,17206644,-32242270,null,null,null,null,null,{"$f":"'SA30'!N31","v":0},{"$f":"'SA30'!O31","v":0},{"$f":"'SA30'!P31","v":0}]
["Payments"]
["Capital assets",null,null,null,-530398424,-835918464.87,-526984994.04499996,-526984994.04499996,null,{"$f":"-'SA30'!N48","v":-768501055},{"$f":"-'SA30'!O48","v":-668585745},{"$f":"-'SA30'!P48","v":-515147794}]
["NET CASH FROM/(USED) INVESTING ACTIVITIES",null,{"$f":"+C20+C22+C23+C25","v":-381844004},{"$f":"+D20+D22+D23+D25","v":-632698178},-524931844,-835918464.87,-523292402.04499996,-523292402.04499996,0,-768501055,{"$f":"+K20+K22+K23+K25","v":-668585745},{"$f":"+L20+L22+L23+L25","v":-515147794}]
[]
["CASH FLOWS FROM FINANCING ACTIVITIES"]
["Receipts"]
["Short term loans",null,null,null,null,null,null,null,null,{"$f":"'SA30'!N26","v":0},{"$f":"'SA30'!O26","v":0},{"$f":"'SA30'!P26","v":0}]
["Borrowing long term/refinancing",null,null,null,null,300000000,null,null,null,{"$f":"'SA30'!N27","v":200000000},{"$f":"'SA30'!O27","v":150000000},{"$f":"-'SA30'!P27","v":0}]
["Increase (decrease) in consumer deposits",null,null,null,null,null,null,null,null,{"$f":"'SA30'!N28","v":0},{"$f":"'SA30'!O28","v":0},{"$f":"'SA30'!P28","v":0}]
["Payments"]
["Repayment of borrowing",null,-83600511,-113418258,-81573483,-23606031.690000001,-23606031.690000001,-23606031.690000001,null,{"$f":"-('SA30'!N49)","v":-23000000},{"$f":"-('SA30'!O49)","v":-24000000},{"$f":"-('SA30'!P49)","v":-26000000}]
["NET CASH FROM/(USED) FINANCING ACTIVITIES",null,{"$f":"SUM(C30:C32)+C34","v":-83600511},{"$f":"SUM(D30:D32)+D34","v":-113418258},-81573483,276393968.31,-23606031.690000001,-23606031.690000001,0,177000000,{"$f":"SUM(K30:K32)+K34","v":126000000},-26000000]
[]
["NET INCREASE/ (DECREASE) IN CASH HELD",null,{"$f":"C17+C26+C35","v":210781722},-157656236,-71366712,72743108.439999998,121569658.26500005,121569658.26500005,0,{"$f":"J17+J26+J35","v":355159387},{"$f":"K17+K26+K35","v":513374955},909801468]
["Cash/cash equivalents at the year begin:",2,308195245,518976967,359519552,62117000,290433199,290433199,null,{"$f":"G39","v":412002857.26500005},{"$f":"J39","v":767162244.2650001},{"$f":"K39","v":1280537199.2650001}]
["Cash/cash equivalents at the year end:",2,{"$f":"C37+C38","v":518976967},{"$f":"D37+D38","v":361320731},{"$f":"E37+E38","v":288152840},{"$f":"F37+F38","v":134860108.44},412002857.26500005,412002857.26500005,0,{"$f":"J38+J37","v":767162244.2650001},{"$f":"K38+K37","v":1280537199.2650001},2190338667.2650003]
[{"$f":"head27a","v":"References"}]
["1. Local/District municipalities to include transfers from/to District/Local Municipalities"]
["2. Cash equivalents includes investments with maturities of 3 months or less"]
["3. The MTREF is populated directly from SA30."]
["Total receipts",null,{"$f":"SUM(C6:C12)+SUM(C20:C22)","v":4709467062},4755818423,5446314124,7395648179,7365721168,7365721168,0,8327243553,9258943414,10364748892]
["Total payments",null,{"$f":"SUM(C14:C16)+C25","v":-4432291473},-4767814131,-5436107353,-7599299038.8699999,-7220545478.0450001,-7220545478.0450001,0,-8149084166,-8871568459,-9428947424]
[null,null,{"$f":"C44+C45","v":277175589},{"$f":"D44+D45","v":-11995708},10206771,-203650859.86999989,145175689.95499992,145175689.95499992,0,178159387,387374955,935801468]
["Borrowings & investments & c.deposits",null,{"$f":"C23+C31+C32","v":17206644},{"$f":"D23+D31+D32","v":-32242270},0,300000000,0,0,0,200000000,150000000,0]
[{"$f":"A34","v":"Repayment of borrowing"},null,{"$f":"C34","v":-83600511},{"$f":"D34","v":-113418258},-81573483,-23606031.690000001,-23606031.690000001,-23606031.690000001,{"$f":"I34","v":0},-23000000,-24000000,-26000000]
[null,null,{"$f":"C46+C47+C48","v":210781722},{"$f":"D46+D47+D48","v":-157656236},-71366712,72743108.440000117,121569658.26499993,121569658.26499993,0,355159387,513374955,909801468]
[null,null,{"$f":"C37-C49","v":0},0,0,-1.1920928955078125E-7,1.1920928955078125E-7,1.1920928955078125E-7,0,0,0,0]

{"sheet":"A8-ResRecon","index":16,"n_rows":67,"n_cols":12,"rows_kept":67,"cut":false,"hidden":false,"merged":[[1,9,1,11],[1,5,1,8]]}
[{"$f":"muni&\" - \"&Approve8","v":"0 - Table A8 Cash backed reserves/accumulated surplus reconciliation"}]
[{"$f":"desc","v":"Description"},{"$f":"head27","v":"Ref"},{"$f":"head1b","v":"2019/20"},{"$f":"head1A","v":"2020/21"},{"$f":"Head1","v":"2021/22"},{"$f":"Head2","v":"Current Year 2022/23"},null,null,null,{"$f":"Head3","v":"2023/24 Medium Term Revenue & Expenditure Framework"}]
["R thousand",null,{"$f":"Head5","v":"Audited Outcome"},{"$f":"Head5","v":"Audited Outcome"},{"$f":"Head5","v":"Audited Outcome"},{"$f":"Head6","v":"Original Budget"},{"$f":"Head7","v":"Adjusted Budget"},{"$f":"Head8","v":"Full Year Forecast"},{"$f":"Head5b","v":"Pre-audit outcome"},{"$f":"Head9","v":"Budget Year 2023/24"},{"$f":"Head10","v":"Budget Year +1 2024/25"},{"$f":"Head11","v":"Budget Year +2 2025/26"}]
["Cash and investments available"]
[{"$f":"LEFT('A7-CFlow'!A39,37)","v":"Cash/cash equivalents at the year end"},1,{"$f":"'A7-CFlow'!C39","v":518976967},{"$f":"'A7-CFlow'!D39","v":361320731},{"$f":"'A7-CFlow'!E39","v":288152840},{"$f":"'A7-CFlow'!F39","v":134860108.44},{"$f":"'A7-CFlow'!G39","v":412002857.26500005},{"$f":"'A7-CFlow'!H39","v":412002857.26500005},{"$f":"'A7-CFlow'!I39","v":0},{"$f":"'A7-CFlow'!J39","v":767162244.2650001},{"$f":"'A7-CFlow'!K39","v":1280537199.2650001},{"$f":"'A7-CFlow'!L39","v":2190338667.2650003}]
["Other current investments  > 90 days",null,{"$f":"'A6-FinPos'!C6+'A6-FinPos'!C7-'A6-FinPos'!C29-'A8-ResRecon'!C5","v":531584562},{"$f":"'A6-FinPos'!D6+'A6-FinPos'!D7-'A6-FinPos'!D29-'A8-ResRecon'!D5","v":19681707},{"$f":"'A6-FinPos'!E6+'A6-FinPos'!E7-'A6-FinPos'!E29-'A8-ResRecon'!E5","v":23396696},{"$f":"'A6-FinPos'!F6+'A6-FinPos'!F7-'A6-FinPos'!F29-'A8-ResRecon'!F5","v":1781691213.0664978},{"$f":"'A6-FinPos'!G6+'A6-FinPos'!G7-'A6-FinPos'!G29-'A8-ResRecon'!G5","v":2367672234.729825},{"$f":"'A6-FinPos'!H6+'A6-FinPos'!H7-'A6-FinPos'!H29-'A8-ResRecon'!H5","v":2367672234.729825},{"$f":"'A6-FinPos'!I6+'A6-FinPos'!I7-'A6-FinPos'!I29-'A8-ResRecon'!I5","v":4204533611},{"$f":"'A6-FinPos'!J6+'A6-FinPos'!J7-'A6-FinPos'!J29-'A8-ResRecon'!J5","v":1133066449.7350018},{"$f":"'A6-FinPos'!K6+'A6-FinPos'!K7-'A6-FinPos'!K29-'A8-ResRecon'!K5","v":992742953.8400023},{"$f":"'A6-FinPos'!L6+'A6-FinPos'!L7-'A6-FinPos'!L29-'A8-ResRecon'!L5","v":440660099.27361155}]
[{"$f":"'A6-FinPos'!A15&\" - \"&'A6-FinPos'!A17","v":"Investments - Property, plant and equipment"},1,{"$f":"'A6-FinPos'!C17","v":6588894508},{"$f":"'A6-FinPos'!D17","v":6781651843},{"$f":"'A6-FinPos'!E17","v":6917056197},{"$f":"'A6-FinPos'!F17","v":7125684086},{"$f":"'A6-FinPos'!G17","v":6825684086},{"$f":"'A6-FinPos'!H17","v":6825684086},{"$f":"'A6-FinPos'!I17","v":0},{"$f":"'A6-FinPos'!J17","v":7930887847},{"$f":"'A6-FinPos'!K17","v":7634417902},{"$f":"'A6-FinPos'!L17","v":6492186711}]
["Cash and investments available:",null,{"$f":"SUM(C5:C7)","v":7639456037},{"$f":"SUM(D5:D7)","v":7162654281},7228605733,9042235407.5064983,9605359177.9948254,9605359177.9948254,4204533611,9831116541.0000019,9907698055.1050034,9123185477.5386124]
[]
["Application of cash and investments"]
[{"$f":"'SA3'!A141","v":"Trade payables from Non-exchange transactions: Other"},null,{"$f":"'SA3'!C141","v":0},{"$f":"'SA3'!D141","v":0},{"$f":"'SA3'!E141","v":0},{"$f":"'SA3'!F141","v":0},{"$f":"'SA3'!G141","v":0},{"$f":"'SA3'!H141","v":0},{"$f":"'SA3'!I141","v":0},{"$f":"'SA3'!P141","v":0},{"$f":"'SA3'!Q141","v":0},{"$f":"'SA3'!R141","v":0}]
["Unspent borrowing",null,{"$f":"'SA17'!C67","v":0},{"$f":"'SA17'!D67","v":0},{"$f":"'SA17'!E67","v":0},{"$f":"'SA17'!F67","v":0},{"$f":"'SA17'!G67","v":0},{"$f":"'SA17'!H67","v":0},null,{"$f":"'SA17'!I67","v":0},{"$f":"'SA17'!J67","v":0},{"$f":"'SA17'!K67","v":0}]
["Statutory requirements",2]
["Other working capital requirements",3,{"$f":"-C32","v":-643048000},{"$f":"-D32","v":-667763000},-691635000,{"$f":"-F32","v":680477000},-397725000,-397725000,0,837478675,950609880.07499981,965918919.43852472]
["Other provisions",null,null,null,null,140398000,140398000,140398000]
["Long term investments committed",4,{"$f":"C52","v":0},{"$f":"D52","v":0},0,0,0,0,0,0,0,0]
["Reserves to be backed by cash/investments",5,null,null,null,null,785902,785902]
[{"$f":"\"Total \"&A10&\":\"","v":"Total Application of cash and investments:"},null,{"$f":"SUM(C11:C17)","v":-643048000},{"$f":"SUM(D11:D17)","v":-667763000},-691635000,820875000,-256541098,-256541098,0,837478675,950609880.07499981,965918919.43852472]
["Surplus(shortfall)",null,{"$f":"C8-C18","v":8282504037},{"$f":"D8-D18","v":7830417281},7920240733,8221360407.5064983,9861900275.9948254,9861900275.9948254,4204533611,8993637866.0000019,8957088175.0300026,8157266558.1000881]
[{"$f":"head27a","v":"References"}]
["1. Must reconcile with Budgeted Cash Flows"]
["2. For example: VAT, taxation"]
["3. Council approval for policy required - include sufficient working capital (e.g. allowing for a % of current debtors > 90 days as uncollectable)"]
["4. For example: sinking fund requirements for borrowing"]
["5. Council approval required for each reserve created and basis of cash backing of reserves - Total Reserves to be backed by cash/investments excl Valuation reserve"]
[]
[]
["Other working capital requirements"]
["Debtors",null,{"$f":"IF(ISERROR(ROUND(C35*C36,-3)),0,(ROUND(C35*C36,-3)))","v":643048000},{"$f":"IF(ISERROR(ROUND(D35*D36,-3)),0,(ROUND(D35*D36,-3)))","v":667763000},691635000,426511000,397725000,397725000,0,917750000,890625000,961854000]
[]
["Creditors due",null,{"$f":"'SA3'!C138+'SA3'!C139","v":0},{"$f":"'SA3'!D138+'SA3'!D139","v":0},{"$f":"'SA3'!E138+'SA3'!E139","v":0},{"$f":"'SA3'!F138+'SA3'!F139","v":1106988000},{"$f":"'SA3'!G138+'SA3'!G139","v":0},{"$f":"'SA3'!H138+'SA3'!H139","v":0},{"$f":"'SA3'!I138+'SA3'!I139","v":0},{"$f":"'SA3'!P138+'SA3'!P139","v":1755228675},{"$f":"'SA3'!Q138+'SA3'!Q139","v":1841234880.0749998},{"$f":"'SA3'!R138+'SA3'!R139","v":1927772919.4385247}]
["Total",null,{"$f":"C29-C31","v":643048000},{"$f":"D29-D31","v":667763000},691635000,-680477000,397725000,397725000,0,-837478675,-950609880.07499981,-965918919.43852472]
[]
["Debtors collection assumptions"]
["Balance outstanding - debtors",null,{"$f":"'A6-FinPos'!C8+'A6-FinPos'!C10+'A6-FinPos'!C16","v":1805462040},{"$f":"'A6-FinPos'!D8+'A6-FinPos'!D10+'A6-FinPos'!D16","v":1791703153},{"$f":"'A6-FinPos'!E8+'A6-FinPos'!E10+'A6-FinPos'!E16","v":1801674413},{"$f":"'A6-FinPos'!F8+'A6-FinPos'!F10+'A6-FinPos'!F16","v":995167482.05902398},{"$f":"'A6-FinPos'!G8+'A6-FinPos'!G10+'A6-FinPos'!G16","v":923388532.93401921},{"$f":"'A6-FinPos'!H8+'A6-FinPos'!H10+'A6-FinPos'!H16","v":923388532.93401921},{"$f":"'A6-FinPos'!I8+'A6-FinPos'!I10+'A6-FinPos'!I16","v":185998421.94097602},{"$f":"'A6-FinPos'!J8+'A6-FinPos'!J10+'A6-FinPos'!J16","v":2002056046.45123},{"$f":"'A6-FinPos'!K8+'A6-FinPos'!K10+'A6-FinPos'!K16","v":1831508564.2328942},{"$f":"'A6-FinPos'!L8+'A6-FinPos'!L10+'A6-FinPos'!L16","v":1900704356.0158498}]
["Estimate of debtors collection rate",null,{"$f":"IF(ISERROR('SA10'!D10),0,('SA10'!D10))","v":0.3561682099583196},{"$f":"IF(ISERROR('SA10'!E10),0,('SA10'!E10))","v":0.37269746743182564},{"$f":"IF(ISERROR('SA10'!F10),0,('SA10'!F10))","v":0.38388454445338444},{"$f":"IF(ISERROR('SA10'!G10),0,('SA10'!G10))","v":0.4285825212231677},{"$f":"IF(ISERROR('SA10'!H10),0,('SA10'!H10))","v":0.43072303078120361},{"$f":"IF(ISERROR('SA10'!I10),0,('SA10'!I10))","v":0.43072303078120361},{"$f":"IF(ISERROR('SA10'!J10),0,('SA10'!J10))","v":0},{"$f":"IF(ISERROR('SA10'!K10),0,('SA10'!K10))","v":0.45840377565573576},{"$f":"IF(ISERROR('SA10'!L10),0,('SA10'!L10))","v":0.48627950470196907},{"$f":"IF(ISERROR('SA10'!M10),0,('SA10'!M10))","v":0.5060512479669842}]
[]
[]
[null,null,null,null,null,null,null,null,null,null,"`"]
[{"$f":"A16","v":"Long term investments committed"}]
["Balance (Insert description; eg sinking fund)"]
[]
[]
[]
[]
[]
[]
[]
[]
[]
[]
[null,null,{"$f":"SUM(C41:C51)","v":0},{"$f":"SUM(D41:D51)","v":0},0,0,0,0,0,0,0,0]
[{"$f":"A17","v":"Reserves to be backed by cash/investments"}]
[{"$f":"'SA3'!A168","v":"Housing Development Fund"},null,{"$f":"'SA3'!C168","v":0},{"$f":"'SA3'!D168","v":95126533},{"$f":"'SA3'!E168","v":105694250},{"$f":"'SA3'!F168","v":0},{"$f":"'SA3'!G168","v":0},{"$f":"'SA3'!H168","v":0},{"$f":"'SA3'!I168","v":0},{"$f":"'SA3'!P168","v":0},{"$f":"'SA3'!Q168","v":0},{"$f":"'SA3'!R168","v":0}]
[{"$f":"'SA3'!A169","v":"Capital replacement"}]
[{"$f":"'SA3'!A170","v":"Self-insurance"}]
["Compensation for Occupational Injuries and Diseases"]
["Employee Benefit"]
["Non-current Provisions"]
["Valuation"]
["Investment in associate account"]
["Capitalisation"]
[]
[]
[]
[]
[null,null,{"$f":"SUM(C54:C59)+SUM(C61:C65)","v":0},{"$f":"SUM(D54:D59)+SUM(D61:D65)","v":95126533},105694250,0,0,0,0,0,0,0]

{"sheet":"A9-Asset","index":17,"n_rows":235,"n_cols":12,"rows_kept":235,"cut":false,"hidden":false,"merged":[[1,5,1,7],[1,8,1,10]]}
[{"$f":"muni&\" - \"&Approve9","v":"0 - Table A9 Asset Management"}]
[{"$f":"desc","v":"Description"},{"$f":"head27","v":"Ref"},{"$f":"head1b","v":"2019/20"},{"$f":"head1A","v":"2020/21"},{"$f":"Head1","v":"2021/22"},{"$f":"Head2","v":"Current Year 2022/23"},null,null,{"$f":"Head3","v":"2023/24 Medium Term Revenue & Expenditure Framework"}]
["R thousand",null,{"$f":"Head5","v":"Audited Outcome"},{"$f":"Head5","v":"Audited Outcome"},{"$f":"Head5","v":"Audited Outcome"},{"$f":"Head6","v":"Original Budget"},{"$f":"Head7","v":"Adjusted Budget"},{"$f":"Head8","v":"Full Year Forecast"},{"$f":"Head9","v":"Budget Year 2023/24"},{"$f":"Head10","v":"Budget Year +1 2024/25"},{"$f":"Head11","v":"Budget Year +2 2025/26"}]
["CAPITAL EXPENDITURE"]
["Total New Assets",1,{"$f":"C15+C18+C19+C22+C25+C26+SUM(C29:C35)+C38","v":21108134.099999901},{"$f":"D15+D18+D19+D22+D25+D26+SUM(D29:D35)+D38","v":407942774.85999995},208015820.82000008,195913021,197484989.71500003,197484989.71500003,507939553.99999994,176246098.19999999,161493363.89999998]
["Roads Infrastructure",null,{"$f":"SA34a!C7","v":21108134.099999901},{"$f":"SA34a!D7","v":211423171.7899999},{"$f":"SA34a!E7","v":81647654.110000044},{"$f":"SA34a!F7","v":8500000},{"$f":"SA34a!G7","v":1124842.0439999998},{"$f":"SA34a!H7","v":1124842.0439999998},{"$f":"SA34a!I7","v":2250000},{"$f":"SA34a!J7","v":2250000},{"$f":"SA34a!K7","v":2250000}]
["Storm water Infrastructure",null,{"$f":"SA34a!C12","v":0},{"$f":"SA34a!D12","v":0},{"$f":"SA34a!E12","v":0},{"$f":"SA34a!F12","v":0},{"$f":"SA34a!G12","v":0},{"$f":"SA34a!H12","v":0},{"$f":"SA34a!I12","v":0},{"$f":"SA34a!J12","v":0},{"$f":"SA34a!K12","v":0}]
["Electrical Infrastructure",null,{"$f":"SA34a!C16","v":0},{"$f":"SA34a!D16","v":4653205.6400000006},{"$f":"SA34a!E16","v":5502776.8800000008},{"$f":"SA34a!F16","v":19015000},{"$f":"SA34a!G16","v":64484471},{"$f":"SA34a!H16","v":64484471},{"$f":"SA34a!I16","v":194000000},{"$f":"SA34a!J16","v":28967852},{"$f":"SA34a!K16","v":29632523.899999999}]
["Water Supply Infrastructure",null,{"$f":"SA34a!C26","v":0},{"$f":"SA34a!D26","v":74239163.400000006},{"$f":"SA34a!E26","v":22506108.560000002},{"$f":"SA34a!F26","v":5000000},{"$f":"SA34a!G26","v":8365970},{"$f":"SA34a!H26","v":8365970},{"$f":"SA34a!I26","v":29860000},{"$f":"SA34a!J26","v":19780000},{"$f":"SA34a!K26","v":29360000}]
["Sanitation Infrastructure",null,{"$f":"SA34a!C37","v":0},{"$f":"SA34a!D37","v":44898478.719999999},{"$f":"SA34a!E37","v":7231193.4299999997},{"$f":"SA34a!F37","v":0},{"$f":"SA34a!G37","v":32836338.981000002},{"$f":"SA34a!H37","v":32836338.981000002},{"$f":"SA34a!I37","v":65477640},{"$f":"SA34a!J37","v":65339400},{"$f":"SA34a!K37","v":37182960}]
["Solid Waste Infrastructure",null,{"$f":"SA34a!C44","v":0},{"$f":"SA34a!D44","v":0},{"$f":"SA34a!E44","v":0},{"$f":"SA34a!F44","v":10150000},{"$f":"SA34a!G44","v":0},{"$f":"SA34a!H44","v":0},{"$f":"SA34a!I44","v":0},{"$f":"SA34a!J44","v":0},{"$f":"SA34a!K44","v":0}]
["Rail Infrastructure",null,{"$f":"SA34a!C52","v":0},{"$f":"SA34a!D52","v":0},{"$f":"SA34a!E52","v":0},{"$f":"SA34a!F52","v":0},{"$f":"SA34a!G52","v":0},{"$f":"SA34a!H52","v":0},{"$f":"SA34a!I52","v":0},{"$f":"SA34a!J52","v":0},{"$f":"SA34a!K52","v":0}]
["Coastal Infrastructure",null,{"$f":"SA34a!C62","v":0},{"$f":"SA34a!D62","v":0},{"$f":"SA34a!E62","v":9690782.040000001},{"$f":"SA34a!F62","v":3000000},{"$f":"SA34a!G62","v":0},{"$f":"SA34a!H62","v":0},{"$f":"SA34a!I62","v":0},{"$f":"SA34a!J62","v":0},{"$f":"SA34a!K62","v":0}]
["Information and Communication Infrastructure",null,{"$f":"SA34a!C68","v":0},{"$f":"SA34a!D68","v":0},{"$f":"SA34a!E68","v":0},{"$f":"SA34a!F68","v":0},{"$f":"SA34a!G68","v":0},{"$f":"SA34a!H68","v":0},{"$f":"SA34a!I68","v":0},{"$f":"SA34a!J68","v":0},{"$f":"SA34a!K68","v":0}]
["Infrastructure",null,{"$f":"SUM(C6:C14)","v":21108134.099999901},{"$f":"SUM(D6:D14)","v":335214019.54999995},126578515.02000006,45665000,106811622.02500001,106811622.02500001,291587640,116337252,98425483.900000006]
["Community Facilities",null,{"$f":"SA34a!C75","v":0},{"$f":"SA34a!D75","v":10563092.959999999},{"$f":"SA34a!E75","v":8485737.6199999992},{"$f":"SA34a!F75","v":20726050},{"$f":"SA34a!G75","v":26418509},{"$f":"SA34a!H75","v":26418509},{"$f":"SA34a!I75","v":25607499.049999952},{"$f":"SA34a!J75","v":13770098.199999988},{"$f":"SA34a!K75","v":19929131.799999952}]
["Sport and Recreation Facilities",null,{"$f":"SA34a!C98","v":0},{"$f":"SA34a!D98","v":2595862.83},{"$f":"SA34a!E98","v":573882.38},{"$f":"SA34a!F98","v":0},{"$f":"SA34a!G98","v":511773},{"$f":"SA34a!H98","v":511773},{"$f":"SA34a!I98","v":0},{"$f":"SA34a!J98","v":0},{"$f":"SA34a!K98","v":0}]
["Community Assets",null,{"$f":"SUM(C16:C17)","v":0},{"$f":"SUM(D16:D17)","v":13158955.789999999},9059620,20726050,26930282,26930282,25607499.049999952,13770098.199999988,19929131.799999952]
["Heritage Assets",null,{"$f":"SA34a!C103","v":0},{"$f":"SA34a!D103","v":0},{"$f":"SA34a!E103","v":0},{"$f":"SA34a!F103","v":0},{"$f":"SA34a!G103","v":0},{"$f":"SA34a!H103","v":0},{"$f":"SA34a!I103","v":0},{"$f":"SA34a!J103","v":0},{"$f":"SA34a!K103","v":0}]
["Revenue Generating",null,{"$f":"SA34a!C111","v":0},{"$f":"SA34a!D111","v":0},{"$f":"SA34a!E111","v":0},{"$f":"SA34a!F111","v":0},{"$f":"SA34a!G111","v":0},{"$f":"SA34a!H111","v":0},{"$f":"SA34a!I111","v":0},{"$f":"SA34a!J111","v":0},{"$f":"SA34a!K111","v":0}]
["Non-revenue Generating",null,{"$f":"SA34a!C114","v":0},{"$f":"SA34a!D114","v":0},{"$f":"SA34a!E114","v":0},{"$f":"SA34a!F114","v":0},{"$f":"SA34a!G114","v":0},{"$f":"SA34a!H114","v":0},{"$f":"SA34a!I114","v":0},{"$f":"SA34a!J114","v":0},{"$f":"SA34a!K114","v":0}]
["Investment properties",null,{"$f":"SUM(C20:C21)","v":0},{"$f":"SUM(D20:D21)","v":0},0,0,0,0,0,0,0]
["Operational Buildings",null,{"$f":"SA34a!C119","v":0},{"$f":"SA34a!D119","v":0},{"$f":"SA34a!E119","v":295455.06},{"$f":"SA34a!F119","v":5075000},{"$f":"SA34a!G119","v":6375000},{"$f":"SA34a!H119","v":6375000},{"$f":"SA34a!I119","v":10000000},{"$f":"SA34a!J119","v":3138748},{"$f":"SA34a!K119","v":0}]
["Housing",null,{"$f":"SA34a!C131","v":0},{"$f":"SA34a!D131","v":59046781.330000006},{"$f":"SA34a!E131","v":11265797.460000001},{"$f":"SA34a!F131","v":0},{"$f":"SA34a!G131","v":5591441.5600000024},{"$f":"SA34a!H131","v":5591441.5600000024},{"$f":"SA34a!I131","v":135545414.94999999},{"$f":"SA34a!J131","v":3000000},{"$f":"SA34a!K131","v":3138748.2}]
["Other Assets",null,{"$f":"SUM(C23:C24)","v":0},{"$f":"SUM(D23:D24)","v":59046781.330000006},11561252.520000001,5075000,11966441.560000002,11966441.560000002,145545414.94999999,6138748,3138748.2]
["Biological or Cultivated Assets",null,{"$f":"SA34a!C136","v":0},{"$f":"SA34a!D136","v":0},{"$f":"SA34a!E136","v":0},{"$f":"SA34a!F136","v":0},{"$f":"SA34a!G136","v":9072010},{"$f":"SA34a!H136","v":9072010},{"$f":"SA34a!I136","v":0},{"$f":"SA34a!J136","v":0},{"$f":"SA34a!K136","v":0}]
["Servitudes",null,{"$f":"SA34a!C140","v":0},{"$f":"SA34a!D140","v":0},{"$f":"SA34a!E140","v":0},{"$f":"SA34a!F140","v":0},{"$f":"SA34a!G140","v":0},{"$f":"SA34a!H140","v":0},{"$f":"SA34a!I140","v":30000000},{"$f":"SA34a!J140","v":30000000},{"$f":"SA34a!K140","v":30000000}]
["Licences and Rights",null,{"$f":"SA34a!C141","v":0},{"$f":"SA34a!D141","v":523018.19},{"$f":"SA34a!E141","v":1040908.7},{"$f":"SA34a!F141","v":3750000},{"$f":"SA34a!G141","v":500000},{"$f":"SA34a!H141","v":500000},{"$f":"SA34a!I141","v":0},{"$f":"SA34a!J141","v":0},{"$f":"SA34a!K141","v":0}]
["Intangible Assets",null,{"$f":"SUM(C27:C28)","v":0},{"$f":"SUM(D27:D28)","v":523018.19},1040908.7,3750000,500000,500000,30000000,30000000,30000000]
["Computer Equipment",null,{"$f":"SA34a!C149","v":0},{"$f":"SA34a!D149","v":0},{"$f":"SA34a!E149","v":6492815.3499999996},{"$f":"SA34a!F149","v":5669000},{"$f":"SA34a!G149","v":0},{"$f":"SA34a!H149","v":0},{"$f":"SA34a!I149","v":0},{"$f":"SA34a!J149","v":0},{"$f":"SA34a!K149","v":0}]
["Furniture and Office Equipment",null,{"$f":"SA34a!C152","v":0},{"$f":"SA34a!D152","v":0},{"$f":"SA34a!E152","v":2333929.85},{"$f":"SA34a!F152","v":10556346},{"$f":"SA34a!G152","v":9857321},{"$f":"SA34a!H152","v":9857321},{"$f":"SA34a!I152","v":15000000},{"$f":"SA34a!J152","v":10000000},{"$f":"SA34a!K152","v":10000000}]
["Machinery and Equipment",null,{"$f":"SA34a!C155","v":0},{"$f":"SA34a!D155","v":0},{"$f":"SA34a!E155","v":41032224.439999998},{"$f":"SA34a!F155","v":62500000},{"$f":"SA34a!G155","v":20798971.230000004},{"$f":"SA34a!H155","v":20798971.230000004},{"$f":"SA34a!I155","v":199000},{"$f":"SA34a!J155","v":0},{"$f":"SA34a!K155","v":0}]
["Transport Assets",null,{"$f":"SA34a!C158","v":0},{"$f":"SA34a!D158","v":0},{"$f":"SA34a!E158","v":9916554.9400000274},{"$f":"SA34a!F158","v":41971625},{"$f":"SA34a!G158","v":11548341.900000036},{"$f":"SA34a!H158","v":11548341.900000036},{"$f":"SA34a!I158","v":0},{"$f":"SA34a!J158","v":0},{"$f":"SA34a!K158","v":0}]
["Land",null,{"$f":"SA34a!C161","v":0},{"$f":"SA34a!D161","v":0},{"$f":"SA34a!E161","v":0},{"$f":"SA34a!F161","v":0},{"$f":"SA34a!G161","v":0},{"$f":"SA34a!H161","v":0},{"$f":"SA34a!I161","v":0},{"$f":"SA34a!J161","v":0},{"$f":"SA34a!K161","v":0}]
["Zoo's, Marine and Non-biological Animals",null,{"$f":"SA34a!C164","v":0},{"$f":"SA34a!D164","v":0},{"$f":"SA34a!E164","v":0},{"$f":"SA34a!F164","v":0},{"$f":"SA34a!G164","v":0},{"$f":"SA34a!H164","v":0},{"$f":"SA34a!I164","v":0},{"$f":"SA34a!J164","v":0},{"$f":"SA34a!K164","v":0}]
["Mature"," ",{"$f":"SA34a!C168","v":0},{"$f":"SA34a!D168","v":0},{"$f":"SA34a!E168","v":0},{"$f":"SA34a!F168","v":0},{"$f":"SA34a!G168","v":0},{"$f":"SA34a!H168","v":0},{"$f":"SA34a!I168","v":0},{"$f":"SA34a!J168","v":0},{"$f":"SA34a!K168","v":0}]
["Immature"," ",{"$f":"SA34a!C171","v":0},{"$f":"SA34a!D171","v":0},{"$f":"SA34a!E171","v":0},{"$f":"SA34a!F171","v":0},{"$f":"SA34a!G171","v":0},{"$f":"SA34a!H171","v":0},{"$f":"SA34a!I171","v":0},{"$f":"SA34a!J171","v":0},{"$f":"SA34a!K171","v":0}]
["Living Resources","",{"$f":"SUM(C36:C37)","v":0},0,0,0,0,0,0,0,0]
[]
["Total Renewal of Existing Assets",2,{"$f":"C50+C53+C54+C57+C60+C61+SUM(C64:C70)+C73","v":203992313.85999998},{"$f":"D50+D53+D54+D57+D60+D61+SUM(D64:D70)+D73","v":72703927.450000092},208114465.96000004,151850735,174579.05,174579.05,55356000,60750000,70750000]
["Roads Infrastructure",null,{"$f":"SA34b!C7","v":0},{"$f":"SA34b!D7","v":50403832.500000089},{"$f":"SA34b!E7","v":118545061.60000005},{"$f":"SA34b!F7","v":38000000},{"$f":"SA34b!G7","v":0},{"$f":"SA34b!H7","v":0},{"$f":"SA34b!I7","v":33150000},{"$f":"SA34b!J7","v":45750000},{"$f":"SA34b!K7","v":54750000}]
["Storm water Infrastructure",null,{"$f":"SA34b!C12","v":0},{"$f":"SA34b!D12","v":0},{"$f":"SA34b!E12","v":0},{"$f":"SA34b!F12","v":0},{"$f":"SA34b!G12","v":0},{"$f":"SA34b!H12","v":0},{"$f":"SA34b!I12","v":0},{"$f":"SA34b!J12","v":0},{"$f":"SA34b!K12","v":0}]
["Electrical Infrastructure",null,{"$f":"SA34b!C16","v":0},{"$f":"SA34b!D16","v":0},{"$f":"SA34b!E16","v":1243673.75},{"$f":"SA34b!F16","v":0},{"$f":"SA34b!G16","v":0},{"$f":"SA34b!H16","v":0},{"$f":"SA34b!I16","v":0},{"$f":"SA34b!J16","v":0},{"$f":"SA34b!K16","v":0}]
["Water Supply Infrastructure",null,{"$f":"SA34b!C26","v":0},{"$f":"SA34b!D26","v":0},{"$f":"SA34b!E26","v":12311306.359999999},{"$f":"SA34b!F26","v":62426895},{"$f":"SA34b!G26","v":0},{"$f":"SA34b!H26","v":0},{"$f":"SA34b!I26","v":0},{"$f":"SA34b!J26","v":0},{"$f":"SA34b!K26","v":0}]
["Sanitation Infrastructure",null,{"$f":"SA34b!C37","v":0},{"$f":"SA34b!D37","v":15866227.889999997},{"$f":"SA34b!E37","v":67834392.629999995},{"$f":"SA34b!F37","v":46000000},{"$f":"SA34b!G37","v":0},{"$f":"SA34b!H37","v":0},{"$f":"SA34b!I37","v":0},{"$f":"SA34b!J37","v":0},{"$f":"SA34b!K37","v":0}]
["Solid Waste Infrastructure",null,{"$f":"SA34b!C44","v":0},{"$f":"SA34b!D44","v":0},{"$f":"SA34b!E44","v":0},{"$f":"SA34b!F44","v":0},{"$f":"SA34b!G44","v":0},{"$f":"SA34b!H44","v":0},{"$f":"SA34b!I44","v":0},{"$f":"SA34b!J44","v":0},{"$f":"SA34b!K44","v":0}]
["Rail Infrastructure",null,{"$f":"SA34b!C52","v":0},{"$f":"SA34b!D52","v":0},{"$f":"SA34b!E52","v":0},{"$f":"SA34b!F52","v":0},{"$f":"SA34b!G52","v":0},{"$f":"SA34b!H52","v":0},{"$f":"SA34b!I52","v":0},{"$f":"SA34b!J52","v":0},{"$f":"SA34b!K52","v":0}]
["Coastal Infrastructure",null,{"$f":"SA34b!C62","v":0},{"$f":"SA34b!D62","v":0},{"$f":"SA34b!E62","v":0},{"$f":"SA34b!F62","v":0},{"$f":"SA34b!G62","v":0},{"$f":"SA34b!H62","v":0},{"$f":"SA34b!I62","v":14206000},{"$f":"SA34b!J62","v":7500000},{"$f":"SA34b!K62","v":8000000}]
["Information and Communication Infrastructure",null,{"$f":"SA34b!C68","v":0},{"$f":"SA34b!D68","v":0},{"$f":"SA34b!E68","v":0},{"$f":"SA34b!F68","v":0},{"$f":"SA34b!G68","v":0},{"$f":"SA34b!H68","v":0},{"$f":"SA34b!I68","v":0},{"$f":"SA34b!J68","v":0},{"$f":"SA34b!K68","v":0}]
["Infrastructure",null,{"$f":"SUM(C41:C49)","v":0},{"$f":"SUM(D41:D49)","v":66270060.39000009},199934434.34000003,146426895,0,0,47356000,53250000,62750000]
["Community Facilities",null,{"$f":"SA34b!C75","v":0},{"$f":"SA34b!D75","v":1178169.95},{"$f":"SA34b!E75","v":740615.92},{"$f":"SA34b!F75","v":0},{"$f":"SA34b!G75","v":174579.05},{"$f":"SA34b!H75","v":174579.05},{"$f":"SA34b!I75","v":8000000},{"$f":"SA34b!J75","v":7500000},{"$f":"SA34b!K75","v":8000000}]
["Sport and Recreation Facilities",null,{"$f":"SA34b!C98","v":0},{"$f":"SA34b!D98","v":4067886.7199999997},{"$f":"SA34b!E98","v":140024.98000000001},{"$f":"SA34b!F98","v":0},{"$f":"SA34b!G98","v":0},{"$f":"SA34b!H98","v":0},{"$f":"SA34b!I98","v":0},{"$f":"SA34b!J98","v":0},{"$f":"SA34b!K98","v":0}]
["Community Assets",null,{"$f":"SUM(C51:C52)","v":0},{"$f":"SUM(D51:D52)","v":5246056.67},880640.9,0,174579.05,174579.05,8000000,7500000,8000000]
["Heritage Assets",null,{"$f":"SA34b!C103","v":208367675.97999999},{"$f":"SA34b!D103","v":0},{"$f":"SA34b!E103","v":0},{"$f":"SA34b!F103","v":0},{"$f":"SA34b!G103","v":0},{"$f":"SA34b!H103","v":0},{"$f":"SA34b!I103","v":0},{"$f":"SA34b!J103","v":0},{"$f":"SA34b!K103","v":0}]
["Revenue Generating",null,{"$f":"SA34b!C111","v":0},{"$f":"SA34b!D111","v":0},{"$f":"SA34b!E111","v":0},{"$f":"SA34b!F111","v":0},{"$f":"SA34b!G111","v":0},{"$f":"SA34b!H111","v":0},{"$f":"SA34b!I111","v":0},{"$f":"SA34b!J111","v":0},{"$f":"SA34b!K111","v":0}]
["Non-revenue Generating",null,{"$f":"SA34b!C114","v":0},{"$f":"SA34b!D114","v":0},{"$f":"SA34b!E114","v":0},{"$f":"SA34b!F114","v":0},{"$f":"SA34b!G114","v":0},{"$f":"SA34b!H114","v":0},{"$f":"SA34b!I114","v":0},{"$f":"SA34b!J114","v":0},{"$f":"SA34b!K114","v":0}]
["Investment properties",null,{"$f":"SUM(C55:C56)","v":0},{"$f":"SUM(D55:D56)","v":0},0,0,0,0,0,0,0]
["Operational Buildings",null,{"$f":"SA34b!C119","v":0},{"$f":"SA34b!D119","v":1187810.3899999999},{"$f":"SA34b!E119","v":4337398.38},{"$f":"SA34b!F119","v":515000},{"$f":"SA34b!G119","v":0},{"$f":"SA34b!H119","v":0},{"$f":"SA34b!I119","v":0},{"$f":"SA34b!J119","v":0},{"$f":"SA34b!K119","v":0}]
["Housing",null,{"$f":"SA34b!C131","v":0},{"$f":"SA34b!D131","v":0},{"$f":"SA34b!E131","v":0},{"$f":"SA34b!F131","v":4908840},{"$f":"SA34b!G131","v":0},{"$f":"SA34b!H131","v":0},{"$f":"SA34b!I131","v":0},{"$f":"SA34b!J131","v":0},{"$f":"SA34b!K131","v":0}]
["Other Assets",null,{"$f":"SUM(C58:C59)","v":0},{"$f":"SUM(D58:D59)","v":1187810.3899999999},4337398.38,5423840,0,0,0,0,0]
["Biological or Cultivated Assets",null,{"$f":"SA34b!C136","v":0},{"$f":"SA34b!D136","v":0},{"$f":"SA34b!E136","v":0},{"$f":"SA34b!F136","v":0},{"$f":"SA34b!G136","v":0},{"$f":"SA34b!H136","v":0},{"$f":"SA34b!I136","v":0},{"$f":"SA34b!J136","v":0},{"$f":"SA34b!K136","v":0}]
["Servitudes",null,{"$f":"SA34b!C140","v":0},{"$f":"SA34b!D140","v":0},{"$f":"SA34b!E140","v":0},{"$f":"SA34b!F140","v":0},{"$f":"SA34b!G140","v":0},{"$f":"SA34b!H140","v":0},{"$f":"SA34b!I140","v":0},{"$f":"SA34b!J140","v":0},{"$f":"SA34b!K140","v":0}]
["Licences and Rights",null,{"$f":"SA34b!C141","v":0},{"$f":"SA34b!D141","v":0},{"$f":"SA34b!E141","v":2961992.34},{"$f":"SA34b!F141","v":0},{"$f":"SA34b!G141","v":0},{"$f":"SA34b!H141","v":0},{"$f":"SA34b!I141","v":0},{"$f":"SA34b!J141","v":0},{"$f":"SA34b!K141","v":0}]
["Intangible Assets",null,{"$f":"SUM(C62:C63)","v":0},{"$f":"SUM(D62:D63)","v":0},2961992.34,0,0,0,0,0,0]
["Computer Equipment",null,{"$f":"SA34b!C149","v":0},{"$f":"SA34b!D149","v":0},{"$f":"SA34b!E149","v":0},{"$f":"SA34b!F149","v":0},{"$f":"SA34b!G149","v":0},{"$f":"SA34b!H149","v":0},{"$f":"SA34b!I149","v":0},{"$f":"SA34b!J149","v":0},{"$f":"SA34b!K149","v":0}]
["Furniture and Office Equipment",null,{"$f":"SA34b!C152","v":0},{"$f":"SA34b!D152","v":0},{"$f":"SA34b!E152","v":0},{"$f":"SA34b!F152","v":0},{"$f":"SA34b!G152","v":0},{"$f":"SA34b!H152","v":0},{"$f":"SA34b!I152","v":0},{"$f":"SA34b!J152","v":0},{"$f":"SA34b!K152","v":0}]
["Machinery and Equipment",null,{"$f":"SA34b!C155","v":0},{"$f":"SA34b!D155","v":0},{"$f":"SA34b!E155","v":0},{"$f":"SA34b!F155","v":0},{"$f":"SA34b!G155","v":0},{"$f":"SA34b!H155","v":0},{"$f":"SA34b!I155","v":0},{"$f":"SA34b!J155","v":0},{"$f":"SA34b!K155","v":0}]
["Transport Assets",null,{"$f":"SA34b!C158","v":-4375362.12},{"$f":"SA34b!D158","v":0},{"$f":"SA34b!E158","v":0},{"$f":"SA34b!F158","v":0},{"$f":"SA34b!G158","v":0},{"$f":"SA34b!H158","v":0},{"$f":"SA34b!I158","v":0},{"$f":"SA34b!J158","v":0},{"$f":"SA34b!K158","v":0}]
["Land",null,{"$f":"SA34b!C161","v":0},{"$f":"SA34b!D161","v":0},{"$f":"SA34b!E161","v":0},{"$f":"SA34b!F161","v":0},{"$f":"SA34b!G161","v":0},{"$f":"SA34b!H161","v":0},{"$f":"SA34b!I161","v":0},{"$f":"SA34b!J161","v":0},{"$f":"SA34b!K161","v":0}]
["Zoo's, Marine and Non-biological Animals",null,{"$f":"SA34b!C164","v":0},{"$f":"SA34b!D164","v":0},{"$f":"SA34b!E164","v":0},{"$f":"SA34b!F164","v":0},{"$f":"SA34b!G164","v":0},{"$f":"SA34b!H164","v":0},{"$f":"SA34b!I164","v":0},{"$f":"SA34b!J164","v":0},{"$f":"SA34b!K164","v":0}]
["Mature"," ",{"$f":"SA34b!C168","v":0},{"$f":"SA34b!D168","v":0},{"$f":"SA34b!E168","v":0},{"$f":"SA34b!F168","v":0},{"$f":"SA34b!G168","v":0},{"$f":"SA34b!H168","v":0},{"$f":"SA34b!I168","v":0},{"$f":"SA34b!J168","v":0},{"$f":"SA34b!K168","v":0}]
["Immature"," ",{"$f":"SA34b!C171","v":0},{"$f":"SA34b!D171","v":0},{"$f":"SA34b!E171","v":0},{"$f":"SA34b!F171","v":0},{"$f":"SA34b!G171","v":0},{"$f":"SA34b!H171","v":0},{"$f":"SA34b!I171","v":0},{"$f":"SA34b!J171","v":0},{"$f":"SA34b!K171","v":0}]
["Living Resources","",{"$f":"SUM(C71:C72)","v":0},0,0,0,0,0,0,0,0]
[]
["Total Upgrading of Existing Assets",6,{"$f":"C85+C88+C89+C92+C95+C96+SUM(C99:C105)+C108","v":254754774.21000001},{"$f":"D85+D88+D89+D92+D95+D96+SUM(D99:D105)+D108","v":205284567.77999997},105306954.67000002,488154708.87,329325425.27999991,329325425.27999991,205464500,344313245,215638196.09999999,{"$f":"I75+I40","v":260820500}]
["Roads Infrastructure",null,{"$f":"SA34e!C7","v":0},{"$f":"SA34e!D7","v":59061068.889999993},{"$f":"SA34e!E7","v":29784476.150000013},{"$f":"SA34e!F7","v":63118110},{"$f":"SA34e!G7","v":156664066.6999999},{"$f":"SA34e!H7","v":156664066.6999999},{"$f":"SA34e!I7","v":38400000},{"$f":"SA34e!J7","v":51091846},{"$f":"SA34e!K7","v":53492336.100000001}]
["Storm water Infrastructure",null,{"$f":"SA34e!C12","v":0},{"$f":"SA34e!D12","v":0},{"$f":"SA34e!E12","v":0},{"$f":"SA34e!F12","v":0},{"$f":"SA34e!G12","v":0},{"$f":"SA34e!H12","v":0},{"$f":"SA34e!I12","v":0},{"$f":"SA34e!J12","v":0},{"$f":"SA34e!K12","v":0}]
["Electrical Infrastructure",null,{"$f":"SA34e!C16","v":0},{"$f":"SA34e!D16","v":26990126.439999998},{"$f":"SA34e!E16","v":34905519.900000006},{"$f":"SA34e!F16","v":134414050},{"$f":"SA34e!G16","v":0},{"$f":"SA34e!H16","v":0},{"$f":"SA34e!I16","v":0},{"$f":"SA34e!J16","v":0},{"$f":"SA34e!K16","v":0}]
["Water Supply Infrastructure",null,{"$f":"SA34e!C26","v":0},{"$f":"SA34e!D26","v":15228935.02},{"$f":"SA34e!E26","v":0},{"$f":"SA34e!F26","v":109803325},{"$f":"SA34e!G26","v":74785305},{"$f":"SA34e!H26","v":74785305},{"$f":"SA34e!I26","v":106064500},{"$f":"SA34e!J26","v":213383235},{"$f":"SA34e!K26","v":77739423}]
["Sanitation Infrastructure",null,{"$f":"SA34e!C37","v":0},{"$f":"SA34e!D37","v":0},{"$f":"SA34e!E37","v":19787951.879999999},{"$f":"SA34e!F37","v":64550195},{"$f":"SA34e!G37","v":51439802.579999998},{"$f":"SA34e!H37","v":51439802.579999998},{"$f":"SA34e!I37","v":40300000},{"$f":"SA34e!J37","v":59838164},{"$f":"SA34e!K37","v":64406437}]
["Solid Waste Infrastructure",null,{"$f":"SA34e!C44","v":0},{"$f":"SA34e!D44","v":1933511.8199999998},{"$f":"SA34e!E44","v":3302474.25},{"$f":"SA34e!F44","v":0},{"$f":"SA34e!G44","v":7550000},{"$f":"SA34e!H44","v":7550000},{"$f":"SA34e!I44","v":5000000},{"$f":"SA34e!J44","v":5000000},{"$f":"SA34e!K44","v":5000000}]
["Rail Infrastructure",null,{"$f":"SA34e!C52","v":0},{"$f":"SA34e!D52","v":0},{"$f":"SA34e!E52","v":0},{"$f":"SA34e!F52","v":0},{"$f":"SA34e!G52","v":0},{"$f":"SA34e!H52","v":0},{"$f":"SA34e!I52","v":0},{"$f":"SA34e!J52","v":0},{"$f":"SA34e!K52","v":0}]
["Coastal Infrastructure",null,{"$f":"SA34e!C62","v":0},{"$f":"SA34e!D62","v":0},{"$f":"SA34e!E62","v":0},{"$f":"SA34e!F62","v":0},{"$f":"SA34e!G62","v":0},{"$f":"SA34e!H62","v":0},{"$f":"SA34e!I62","v":0},{"$f":"SA34e!J62","v":0},{"$f":"SA34e!K62","v":0}]
["Information and Communication Infrastructure",null,{"$f":"SA34e!C68","v":0},{"$f":"SA34e!D68","v":0},{"$f":"SA34e!E68","v":0},{"$f":"SA34e!F68","v":0},{"$f":"SA34e!G68","v":0},{"$f":"SA34e!H68","v":0},{"$f":"SA34e!I68","v":0},{"$f":"SA34e!J68","v":0},{"$f":"SA34e!K68","v":0}]
["Infrastructure",null,{"$f":"SUM(C76:C84)","v":0},103213642.16999997,87780422.180000022,371885680,290439174.27999991,290439174.27999991,189764500,329313245,200638196.09999999]
["Community Facilities",null,{"$f":"SA34e!C75","v":0},{"$f":"SA34e!D75","v":102070925.61},{"$f":"SA34e!E75","v":17526532.490000002},{"$f":"SA34e!F75","v":7600000},{"$f":"SA34e!G75","v":0},{"$f":"SA34e!H75","v":0},{"$f":"SA34e!I75","v":0},{"$f":"SA34e!J75","v":0},{"$f":"SA34e!K75","v":0}]
["Sport and Recreation Facilities",null,{"$f":"SA34e!C98","v":0},{"$f":"SA34e!D98","v":0},{"$f":"SA34e!E98","v":0},{"$f":"SA34e!F98","v":0},{"$f":"SA34e!G98","v":0},{"$f":"SA34e!H98","v":0},{"$f":"SA34e!I98","v":0},{"$f":"SA34e!J98","v":0},{"$f":"SA34e!K98","v":0}]
["Community Assets",null,{"$f":"SUM(C86:C87)","v":0},102070925.61,17526532.490000002,7600000,0,0,0,0,0]
["Heritage Assets",null,{"$f":"SA34e!C103","v":201733761.11000001},{"$f":"SA34e!D103","v":0},{"$f":"SA34e!E103","v":0},{"$f":"SA34e!F103","v":0},{"$f":"SA34e!G103","v":0},{"$f":"SA34e!H103","v":0},{"$f":"SA34e!I103","v":0},{"$f":"SA34e!J103","v":0},{"$f":"SA34e!K103","v":0}]
["Revenue Generating",null,{"$f":"SA34e!C111","v":0},{"$f":"SA34e!D111","v":0},{"$f":"SA34e!E111","v":0},{"$f":"SA34e!F111","v":0},{"$f":"SA34e!G111","v":0},{"$f":"SA34e!H111","v":0},{"$f":"SA34e!I111","v":0},{"$f":"SA34e!J111","v":0},{"$f":"SA34e!K111","v":0}]
["Non-revenue Generating",null,{"$f":"SA34e!C114","v":0},{"$f":"SA34e!D114","v":0},{"$f":"SA34e!E114","v":0},{"$f":"SA34e!F114","v":0},{"$f":"SA34e!G114","v":0},{"$f":"SA34e!H114","v":0},{"$f":"SA34e!I114","v":0},{"$f":"SA34e!J114","v":0},{"$f":"SA34e!K114","v":0}]
["Investment properties",null,{"$f":"SUM(C90:C91)","v":0},0,0,0,0,0,0,0,0]
["Operational Buildings",null,{"$f":"SA34e!C119","v":0},{"$f":"SA34e!D119","v":0},{"$f":"SA34e!E119","v":0},{"$f":"SA34e!F119","v":200000},{"$f":"SA34e!G119","v":38336251},{"$f":"SA34e!H119","v":38336251},{"$f":"SA34e!I119","v":10700000},{"$f":"SA34e!J119","v":10000000},{"$f":"SA34e!K119","v":10000000}]
["Housing",null,{"$f":"SA34e!C131","v":0},{"$f":"SA34e!D131","v":0},{"$f":"SA34e!E131","v":0},{"$f":"SA34e!F131","v":93797018.870000005},{"$f":"SA34e!G131","v":0},{"$f":"SA34e!H131","v":0},{"$f":"SA34e!I131","v":0},{"$f":"SA34e!J131","v":0},{"$f":"SA34e!K131","v":0}]
["Other Assets",null,{"$f":"SUM(C93:C94)","v":0},0,0,93997018.870000005,38336251,38336251,10700000,10000000,10000000]
["Biological or Cultivated Assets",null,{"$f":"SA34e!C136","v":0},{"$f":"SA34e!D136","v":0},{"$f":"SA34e!E136","v":0},{"$f":"SA34e!F136","v":0},{"$f":"SA34e!G136","v":0},{"$f":"SA34e!H136","v":0},{"$f":"SA34e!I136","v":0},{"$f":"SA34e!J136","v":0},{"$f":"SA34e!K136","v":0}]
["Servitudes",null,{"$f":"SA34e!C140","v":0},{"$f":"SA34e!D140","v":0},{"$f":"SA34e!E140","v":0},{"$f":"SA34e!F140","v":0},{"$f":"SA34e!G140","v":0},{"$f":"SA34e!H140","v":0},{"$f":"SA34e!I140","v":0},{"$f":"SA34e!J140","v":0},{"$f":"SA34e!K140","v":0}]
["Licences and Rights",null,{"$f":"SA34e!C141","v":0},{"$f":"SA34e!D141","v":0},{"$f":"SA34e!E141","v":0},{"$f":"SA34e!F141","v":14672010},{"$f":"SA34e!G141","v":0},{"$f":"SA34e!H141","v":0},{"$f":"SA34e!I141","v":0},{"$f":"SA34e!J141","v":0},{"$f":"SA34e!K141","v":0}]
["Intangible Assets",null,{"$f":"SUM(C97:C98)","v":0},0,0,14672010,0,0,0,0,0]
["Computer Equipment",null,{"$f":"SA34e!C149","v":0},{"$f":"SA34e!D149","v":0},{"$f":"SA34e!E149","v":0},{"$f":"SA34e!F149","v":0},{"$f":"SA34e!G149","v":0},{"$f":"SA34e!H149","v":0},{"$f":"SA34e!I149","v":0},{"$f":"SA34e!J149","v":0},{"$f":"SA34e!K149","v":0}]
["Furniture and Office Equipment",null,{"$f":"SA34e!C152","v":0},{"$f":"SA34e!D152","v":0},{"$f":"SA34e!E152","v":0},{"$f":"SA34e!F152","v":0},{"$f":"SA34e!G152","v":50000},{"$f":"SA34e!H152","v":50000},{"$f":"SA34e!I152","v":0},{"$f":"SA34e!J152","v":0},{"$f":"SA34e!K152","v":0}]
["Machinery and Equipment",null,{"$f":"SA34e!C155","v":15562.55},{"$f":"SA34e!D155","v":0},{"$f":"SA34e!E155","v":0},{"$f":"SA34e!F155","v":0},{"$f":"SA34e!G155","v":500000},{"$f":"SA34e!H155","v":500000},{"$f":"SA34e!I155","v":0},{"$f":"SA34e!J155","v":0},{"$f":"SA34e!K155","v":0}]
["Transport Assets",null,{"$f":"SA34e!C158","v":-6604571.5},{"$f":"SA34e!D158","v":0},{"$f":"SA34e!E158","v":0},{"$f":"SA34e!F158","v":0},{"$f":"SA34e!G158","v":0},{"$f":"SA34e!H158","v":0},{"$f":"SA34e!I158","v":5000000},{"$f":"SA34e!J158","v":5000000},{"$f":"SA34e!K158","v":5000000}]
["Land",null,{"$f":"SA34e!C161","v":0},{"$f":"SA34e!D161","v":0},{"$f":"SA34e!E161","v":0},{"$f":"SA34e!F161","v":0},{"$f":"SA34e!G161","v":0},{"$f":"SA34e!H161","v":0},{"$f":"SA34e!I161","v":0},{"$f":"SA34e!J161","v":0},{"$f":"SA34e!K161","v":0}]
["Zoo's, Marine and Non-biological Animals",null,{"$f":"SA34e!C164","v":59610022.049999997},{"$f":"SA34e!D164","v":0},{"$f":"SA34e!E164","v":0},{"$f":"SA34e!F164","v":0},{"$f":"SA34e!G164","v":0},{"$f":"SA34e!H164","v":0},{"$f":"SA34e!I164","v":0},{"$f":"SA34e!J164","v":0},{"$f":"SA34e!K164","v":0}]
["Mature"," ",{"$f":"SA34e!C168","v":0},{"$f":"SA34e!D168","v":0},{"$f":"SA34e!E168","v":0},{"$f":"SA34e!F168","v":0},{"$f":"SA34e!G168","v":0},{"$f":"SA34e!H168","v":0},{"$f":"SA34e!I168","v":0},{"$f":"SA34e!J168","v":0},{"$f":"SA34e!K168","v":0}]
["Immature"," ",{"$f":"SA34b!C171","v":0},{"$f":"SA34b!D171","v":0},{"$f":"SA34b!E171","v":0},{"$f":"SA34b!F171","v":0},{"$f":"SA34b!G171","v":0},{"$f":"SA34b!H171","v":0},{"$f":"SA34b!I171","v":0},{"$f":"SA34b!J171","v":0},{"$f":"SA34b!K171","v":0}]
["Living Resources","",{"$f":"SUM(C106:C107)","v":0},0,0,0,0,0,0,0,0]
[]
["Total Capital Expenditure",4,{"$f":"+C5+C40+C75","v":479855222.1699999},685931270.09000003,521437241.45000011,835918464.87,526984994.04499996,526984994.04499996,768760054,581309343.20000005,447881560]
["Roads Infrastructure",null,{"$f":"+C6+C41+C76","v":21108134.099999901},320888073.18000001,229977191.8600001,109618110,157788908.7439999,157788908.7439999,73800000,99091846,110492336.09999999]
["Storm water Infrastructure",null,{"$f":"+C7+C42+C77","v":0},0,0,0,0,0,0,0,0]
["Electrical Infrastructure",null,{"$f":"+C8+C43+C78","v":0},31643332.079999998,41651970.530000009,153429050,64484471,64484471,194000000,28967852,29632523.899999999]
["Water Supply Infrastructure",null,{"$f":"+C9+C44+C79","v":0},89468098.420000002,34817414.920000002,177230220,83151275,83151275,135924500,233163235,107099423]
["Sanitation Infrastructure",null,{"$f":"+C10+C45+C80","v":0},60764706.609999999,94853537.939999998,110550195,84276141.561000004,84276141.561000004,105777640,125177564,101589397]
["Solid Waste Infrastructure",null,{"$f":"+C11+C46+C81","v":0},1933511.8199999998,3302474.25,10150000,7550000,7550000,5000000,5000000,5000000]
["Rail Infrastructure",null,{"$f":"+C12+C47+C82","v":0},0,0,0,0,0,0,0,0]
["Coastal Infrastructure",null,{"$f":"+C13+C48+C83","v":0},0,9690782.040000001,3000000,0,0,14206000,7500000,8000000]
["Information and Communication Infrastructure",null,{"$f":"+C14+C49+C84","v":0},0,0,0,0,0,0,0,0]
["Infrastructure",null,{"$f":"SUM(C111:C119)","v":21108134.099999901},{"$f":"SUM(D111:D119)","v":504697722.11000001},414293371.54000014,563977575,397250796.30499989,397250796.30499989,528708140,498900497,361813680]
["Community Facilities",null,{"$f":"+C16+C51+C86","v":0},113812188.52,26752886.030000001,28326050,26593088.050000001,26593088.050000001,33607499.049999952,21270098.199999988,27929131.799999952]
["Sport and Recreation Facilities",null,{"$f":"+C17+C52+C87","v":0},6663749.5499999998,713907.36,0,511773,511773,0,0,0]
["Community Assets",null,{"$f":"SUM(C121:C122)","v":0},{"$f":"SUM(D121:D122)","v":120475938.06999999},27466793.390000001,28326050,27104861.050000001,27104861.050000001,33607499.049999952,21270098.199999988,27929131.799999952]
["Heritage Assets",null,{"$f":"+C19+C54+C89","v":410101437.09000003},0,0,0,0,0,0,0,0]
["Revenue Generating",null,{"$f":"+C20+C55+C90","v":0},0,0,0,0,0,0,0,0]
["Non-revenue Generating",null,{"$f":"+C21+C56+C91","v":0},0,0,0,0,0,0,0,0]
["Investment properties",null,{"$f":"SUM(C125:C126)","v":0},{"$f":"SUM(D125:D126)","v":0},0,0,0,0,0,0,0]
["Operational Buildings",null,{"$f":"+C23+C58+C93","v":0},1187810.3899999999,4632853.4399999995,5790000,44711251,44711251,20700000,13138748,10000000]
["Housing",null,{"$f":"+C24+C59+C94","v":0},59046781.330000006,11265797.460000001,98705858.870000005,5591441.5600000024,5591441.5600000024,135545414.94999999,3000000,3138748.2]
["Other Assets",null,{"$f":"SUM(C128:C129)","v":0},60234591.720000006,15898650.9,104495858.87,50302692.560000002,50302692.560000002,156245414.94999999,16138748,13138748.199999999]
["Biological or Cultivated Assets",null,{"$f":"+C26+C61+C96","v":0},0,0,0,9072010,9072010,0,0,0]
["Servitudes",null,{"$f":"+C27+C62+C97","v":0},0,0,0,0,0,30000000,30000000,30000000]
["Licences and Rights",null,{"$f":"+C28+C63+C98","v":0},523018.19,4002901.04,18422010,500000,500000,0,0,0]
["Intangible Assets",null,{"$f":"SUM(C132:C133)","v":0},{"$f":"SUM(D132:D133)","v":523018.19},4002901.04,18422010,500000,500000,30000000,30000000,30000000]
["Computer Equipment",null,{"$f":"+C30+C65+C100","v":0},0,6492815.3499999996,5669000,0,0,0,0,0]
["Furniture and Office Equipment",null,{"$f":"+C31+C66+C101","v":0},0,2333929.85,10556346,9907321,9907321,15000000,10000000,10000000]
["Machinery and Equipment",null,{"$f":"+C32+C67+C102","v":15562.55},0,41032224.439999998,62500000,21298971.230000004,21298971.230000004,199000,0,0]
["Transport Assets",null,{"$f":"+C33+C68+C103","v":-10979933.620000001},0,9916554.9400000274,41971625,11548341.900000036,11548341.900000036,5000000,5000000,5000000]
["Land",null,{"$f":"+C34+C69+C104","v":0},0,0,0,0,0,0,0,0]
["Zoo's, Marine and Non-biological Animals",null,{"$f":"+C35+C70+C105","v":59610022.049999997},0,0,0,0,0,0,0,0]
["Mature"," ",{"$f":"+C36+C71+C106","v":0},{"$f":"+D36+D71+D106","v":0},0,0,0,0,0,0,0]
["Immature"," ",{"$f":"+C37+C72+C107","v":0},{"$f":"+D37+D72+D107","v":0},0,0,0,0,0,0,0]
["Living Resources","",{"$f":"SUM(C141:C142)","v":0},0,0,0,0,0,0,0,0]
["TOTAL CAPITAL EXPENDITURE - Asset class",null,{"$f":"+C5+C40+C75","v":479855222.1699999},685931270.09000003,521437241.45000011,835918464.87,526984994.04499996,526984994.04499996,768760054,581309343.20000005,447881560]
[]
["ASSET REGISTER SUMMARY - PPE (WDV)",5,{"$f":"C156+C159+C160+C163+C166+C167+C170+C171+C172+C173+C174+C175+C176","v":8114943436.2600126},{"$f":"D156+D159+D160+D163+D166+D167+D170+D171+D172+D173+D174+D175+D176","v":7776759066.1600027},0,7195684086.4780006,6895684086.4780006,6895684086.4780006,7261155343.0613356,7616951954.8713388,7974948696.7502918]
["Roads Infrastructure",null,1863936672.8800082,1873107346.689996,null,1830420489.4157472,1830420489.4157472,1830420489.4157472,1927432775.3547816,2021876981.3471658,2116905199.4704826]
["Storm water Infrastructure",null,500215336.17000002,492666819.94000006,null,87082591.491774127,87082591.491774127,87082591.491774127,91697968.840838149,96191169.314039215,100712154.27179906]
["Electrical Infrastructure",null,1281576239.460001,1173269271.8500013,null,1018081786.5745274,818081786.57452738,818081786.57452738,861440121.26297724,903650687.20486307,946122269.50349152]
["Water Supply Infrastructure",null,729287605.39999914,732347420.8700012,null,1223186203.5050519,1123186203.5050519,1123186203.5050519,1182715072.2908196,1240668110.8330698,1298979512.0422239]
["Sanitation Infrastructure",null,491269683.66000134,489055780.68000197,null,600826029.7773633,600826029.7773633,600826029.7773633,632669809.35556352,663670630.01398611,694863149.62464345]
["Solid Waste Infrastructure",null,8203697.5599999987,7891309.9799999995,null,85470274.234990865,85470274.234990865,85470274.234990865,90000198.769445375,94410208.509148195,98847488.309078157]
["Rail Infrastructure",null,1133767.1600000011,1018136.52,null,1254005.070004645,1254005.070004645,1254005.070004645,1320467.3387148911,1385170.2383119208,1450273.2395125809]
["Coastal Infrastructure",null,null,null,null,4746879.1111735022,4746879.1111735022,4746879.1111735022,4998463.7040656973,5243388.4255649159,5489827.6815664666]
["Information and Communication Infrastructure",null,null,null,null,5182977.4838874768,5182977.4838874768,5182977.4838874768,5457675.2905335128,5725101.3797696549,5994181.1446188288]
["Infrastructure",null,{"$f":"SUM(C147:C155)","v":4875623002.2900105},{"$f":"SUM(D147:D155)","v":4769356086.5300007},0,4856251236.6645203,4556251236.6645203,4556251236.6645203,4797732552.2077389,5032821447.2659178,5269364055.2874155]
[]
[]
["Community Assets",null,448404541.28999984,439697111.09000015,null,79588443.187376842,79588443.187376842,79588443.187376842,83806630.676307812,87913155.579446897,92045073.891680896]
["Heritage Assets",null,272674005.80000001,271924972.02000004,null,206937599.69973743,206937599.69973743,206937599.69973743,217905292.48382351,228582651.81553084,239326036.45086077]
[null,null,null,null,null,null,null,null,0,0,0]
[null,null,null,null,null,null,null,null,0,0,0]
["Investment properties",null,702385000,821671444.09000003,null,668979166.51000571,668979166.51000571,668979166.51000571,704435062.33503592,738952380.38945258,773683142.26775682]
[null,null,null,null,null,668979166.51000571,null,null,0,0,0]
[null,null,null,null,null,null,null,null,0,0,0]
["Other Assets",null,275725261.60000002,269414591.80000001,null,617451810.2624588,617451810.2624588,617451810.2624588,650176756.20636904,682035417.26048112,714091081.87172365]
["Biological or Cultivated Assets",null,80648425,74170250,null,null,0,0,0,0,0]
[null,null,null,null,null,null,null,null,0,0,0]
[null,null,null,null,null,null,null,null,0,0,0]
["Intangible Assets",null,40783433.789999992,30700412.520000014,null,-1082617.5199999921,-1082617.5199999921,-1082617.5199999921,-1139996.2485599916,-1195856.064739431,-1252061.2997821842]
["Computer Equipment",null,35928080.920000218,28778537.849999428,null,-28779613.690381661,-28779613.690381661,-28779613.690381661,-30304933.215971887,-31789874.943554506,-33283999.065901566]
["Furniture and Office Equipment",null,17077132.760000002,16196882.25,null,17596432.566083871,17596432.566083871,17596432.566083871,18529043.492086314,19436966.623198543,20350504.054488871]
["Machinery and Equipment",null,53218069.010001563,53725800.870000064,null,568678244.59416997,568678244.59416997,568678244.59416997,598818191.55766094,628160282.9439863,657683816.24235356]
["Transport Assets",null,93488786.699999854,85286830.940000072,null,210063384.20403004,210063384.20403004,210063384.20403004,221196743.56684363,232035384.00161895,242941047.04969501]
["Land",null,1218987697.1000001,915836146.20000052,null,null,0,0]
["Zoo's, Marine and Non-biological Animals",null,null,null,null,null,0,0]
[]
[]
["Living Resources"]
["TOTAL ASSET REGISTER SUMMARY - PPE (WDV)",5,{"$f":"C156+C159+C160+C163+C166+C167+C170+C171+C172+C173+C174+C175+C176+C179","v":8114943436.2600126},7776759066.1600027,0,{"$f":"F156+F159+F160+F163+F166+F167+F170+F171+F172+F173+F174+F175+F176+F179","v":7195684086.4780006},{"$f":"G156+G159+G160+G163+G166+G167+G170+G171+G172+G173+G174+G175+G176+G179","v":6895684086.4780006},6895684086.4780006,7261155343.0613356,7616951954.8713388,7974948696.7502918]
[]
["EXPENDITURE OTHER ITEMS",null,{"$f":"SUM(C183:C184)","v":474775685},{"$f":"SUM(D183:D184)","v":483871602.78999996},605228600.13999999,947931298.63928044,688435525.29300022,688435525.29300022,1039978753.1867473,1092918906.9198875,1134143045.8073239]
["Depreciation",7,{"$f":"SA34d!C175","v":417614094},{"$f":"SA34d!D175","v":372532037},{"$f":"SA34d!E175","v":366625069},{"$f":"SA34d!F175","v":441964212.52200043},{"$f":"SA34d!G175","v":441737790.63000011},{"$f":"SA34d!H175","v":441737790.63000011},466692276.99818736,492331943.39808822,{"$f":"SA34d!K175","v":504096199}]
["Repairs and Maintenance by Asset Class",3,{"$f":"C194+C197+C198+C201+C204+C205+SUM(C208:C214)+C217","v":57161591},{"$f":"D194+D197+D198+D201+D204+D205+SUM(D208:D214)+D217","v":111339565.78999999},238603531.13999999,505967086.11728001,246697734.66300005,246697734.66300005,573286476.18856001,600586963.52179933,630046846.80732405]
["Roads Infrastructure",null,{"$f":"SA34c!C7","v":0},{"$f":"SA34c!D7","v":0},{"$f":"SA34c!E7","v":0},{"$f":"SA34c!F7","v":0},{"$f":"SA34c!G7","v":0},{"$f":"SA34c!H7","v":0},{"$f":"SA34c!I7","v":0},{"$f":"SA34c!J7","v":0},{"$f":"SA34c!K7","v":0}]
["Storm water Infrastructure",null,{"$f":"SA34c!C12","v":0},{"$f":"SA34c!D12","v":0},{"$f":"SA34c!E12","v":0},{"$f":"SA34c!F12","v":0},{"$f":"SA34c!G12","v":0},{"$f":"SA34c!H12","v":0},{"$f":"SA34c!I12","v":0},{"$f":"SA34c!J12","v":0},{"$f":"SA34c!K12","v":0}]
["Electrical Infrastructure",null,{"$f":"SA34c!C16","v":33758097.360000007},{"$f":"SA34c!D16","v":77522286.649999991},{"$f":"SA34c!E16","v":130183872.88},{"$f":"SA34c!F16","v":87166094.333333328},{"$f":"SA34c!G16","v":63500697.00000003},{"$f":"SA34c!H16","v":63500697.00000003},{"$f":"SA34c!I16","v":161182203.09999999},{"$f":"SA34c!J16","v":169080131.0519},{"$f":"SA34c!K16","v":177026897.21133929}]
["Water Supply Infrastructure",null,{"$f":"SA34c!C26","v":0},{"$f":"SA34c!D26","v":0},{"$f":"SA34c!E26","v":0},{"$f":"SA34c!F26","v":0},{"$f":"SA34c!G26","v":11399022.08},{"$f":"SA34c!H26","v":11399022.08},{"$f":"SA34c!I26","v":8680400},{"$f":"SA34c!J26","v":9105739.5999999996},{"$f":"SA34c!K26","v":9533709.3611999992}]
["Sanitation Infrastructure",null,{"$f":"SA34c!C37","v":0},{"$f":"SA34c!D37","v":0},{"$f":"SA34c!E37","v":0},{"$f":"SA34c!F37","v":0},{"$f":"SA34c!G37","v":0},{"$f":"SA34c!H37","v":0},{"$f":"SA34c!I37","v":0},{"$f":"SA34c!J37","v":0},{"$f":"SA34c!K37","v":0}]
["Solid Waste Infrastructure",null,{"$f":"SA34c!C44","v":0},{"$f":"SA34c!D44","v":0},{"$f":"SA34c!E44","v":0},{"$f":"SA34c!F44","v":33167008.333333332},{"$f":"SA34c!G44","v":0},{"$f":"SA34c!H44","v":0},{"$f":"SA34c!I44","v":0},{"$f":"SA34c!J44","v":0},{"$f":"SA34c!K44","v":0}]
["Rail Infrastructure",null,{"$f":"SA34c!C52","v":0},{"$f":"SA34c!D52","v":0},{"$f":"SA34c!E52","v":0},{"$f":"SA34c!F52","v":46650436},{"$f":"SA34c!G52","v":0},{"$f":"SA34c!H52","v":0},{"$f":"SA34c!I52","v":0},{"$f":"SA34c!J52","v":0},{"$f":"SA34c!K52","v":0}]
["Coastal Infrastructure",null,{"$f":"SA34c!C62","v":0},{"$f":"SA34c!D62","v":0},{"$f":"SA34c!E62","v":0},{"$f":"SA34c!F62","v":0},{"$f":"SA34c!G62","v":0},{"$f":"SA34c!H62","v":0},{"$f":"SA34c!I62","v":0},{"$f":"SA34c!J62","v":0},{"$f":"SA34c!K62","v":0}]
["Information and Communication Infrastructure",null,{"$f":"SA34c!C68","v":0},{"$f":"SA34c!D68","v":0},{"$f":"SA34c!E68","v":0},{"$f":"SA34c!F68","v":0},{"$f":"SA34c!G68","v":0},{"$f":"SA34c!H68","v":0},{"$f":"SA34c!I68","v":0},{"$f":"SA34c!J68","v":0},{"$f":"SA34c!K68","v":0}]
["Infrastructure",null,{"$f":"SUM(C185:C193)","v":33758097.360000007},{"$f":"SUM(D185:D193)","v":77522286.649999991},130183872.88,166983538.66666666,74899719.080000028,74899719.080000028,169862603.09999999,178185870.65189999,186560606.5725393]
["Community Facilities",null,{"$f":"SA34c!C75","v":0},{"$f":"SA34c!D75","v":0},{"$f":"SA34c!E75","v":0},{"$f":"SA34c!F75","v":33237008.333333332},{"$f":"SA34c!G75","v":14178.400000033527},{"$f":"SA34c!H75","v":14178.400000033527},{"$f":"SA34c!I75","v":15000},{"$f":"SA34c!J75","v":15734.999999999998},{"$f":"SA34c!K75","v":16474.544999999998}]
["Sport and Recreation Facilities",null,{"$f":"SA34c!C98","v":0},{"$f":"SA34c!D98","v":0},{"$f":"SA34c!E98","v":0},{"$f":"SA34c!F98","v":0},{"$f":"SA34c!G98","v":0},{"$f":"SA34c!H98","v":0},{"$f":"SA34c!I98","v":0},{"$f":"SA34c!J98","v":0},{"$f":"SA34c!K98","v":0}]
["Community Assets",null,{"$f":"SUM(C195:C196)","v":0},0,0,33237008.333333332,14178.400000033527,14178.400000033527,15000,15734.999999999998,16474.544999999998]
["Heritage Assets",null,{"$f":"SA34c!C103","v":0},{"$f":"SA34c!D103","v":0},{"$f":"SA34c!E103","v":0},{"$f":"SA34c!F103","v":0},{"$f":"SA34c!G103","v":0},{"$f":"SA34c!H103","v":0},{"$f":"SA34c!I103","v":0},{"$f":"SA34c!J103","v":0},{"$f":"SA34c!K103","v":0}]
["Revenue Generating",null,{"$f":"SA34c!C111","v":0},{"$f":"SA34c!D111","v":0},{"$f":"SA34c!E111","v":0},{"$f":"SA34c!F111","v":0},{"$f":"SA34c!G111","v":0},{"$f":"SA34c!H111","v":0},{"$f":"SA34c!I111","v":0},{"$f":"SA34c!J111","v":0},{"$f":"SA34c!K111","v":0}]
["Non-revenue Generating",null,{"$f":"SA34c!C114","v":0},{"$f":"SA34c!D114","v":0},{"$f":"SA34c!E114","v":0},{"$f":"SA34c!F114","v":0},{"$f":"SA34c!G114","v":0},{"$f":"SA34c!H114","v":0},{"$f":"SA34c!I114","v":0},{"$f":"SA34c!J114","v":0},{"$f":"SA34c!K114","v":0}]
["Investment properties",null,{"$f":"SUM(C199:C200)","v":0},0,0,0,0,0,0,0,0]
["Operational Buildings",null,{"$f":"SA34c!C119","v":14844653.409999987},{"$f":"SA34c!D119","v":14191124.890000004},{"$f":"SA34c!E119","v":70356137.469999999},{"$f":"SA34c!F119","v":181555729.07536},{"$f":"SA34c!G119","v":50586863.94600001},{"$f":"SA34c!H119","v":50586863.94600001},{"$f":"SA34c!I119","v":163462034.55919999},{"$f":"SA34c!J119","v":171463424.25260079},{"$f":"SA34c!K119","v":179530851.19247305}]
["Housing",null,{"$f":"SA34c!C131","v":0},{"$f":"SA34c!D131","v":0},{"$f":"SA34c!E131","v":0},{"$f":"SA34c!F131","v":0},{"$f":"SA34c!G131","v":0},{"$f":"SA34c!H131","v":0},{"$f":"SA34c!I131","v":0},{"$f":"SA34c!J131","v":0},{"$f":"SA34c!K131","v":0}]
["Other Assets",null,{"$f":"SUM(C202:C203)","v":14844653.409999987},14191124.890000004,70356137.469999999,181555729.07536,50586863.94600001,50586863.94600001,163462034.55919999,171463424.25260079,179530851.19247305]
["Biological or Cultivated Assets",null,{"$f":"SA34c!C136","v":0},{"$f":"SA34c!D136","v":0},{"$f":"SA34c!E136","v":0},{"$f":"SA34c!F136","v":0},{"$f":"SA34c!G136","v":0},{"$f":"SA34c!H136","v":0},{"$f":"SA34c!I136","v":0},{"$f":"SA34c!J136","v":0},{"$f":"SA34c!K136","v":0}]
["Servitudes",null,{"$f":"SA34c!C140","v":0},{"$f":"SA34c!D140","v":0},{"$f":"SA34c!E140","v":0},{"$f":"SA34c!F140","v":0},{"$f":"SA34c!G140","v":0},{"$f":"SA34c!H140","v":0},{"$f":"SA34c!I140","v":0},{"$f":"SA34c!J140","v":0},{"$f":"SA34c!K140","v":0}]
["Licences and Rights",null,{"$f":"SA34c!C141","v":0},{"$f":"SA34c!D141","v":0},{"$f":"SA34c!E141","v":0},{"$f":"SA34c!F141","v":0},{"$f":"SA34c!G141","v":0},{"$f":"SA34c!H141","v":0},{"$f":"SA34c!I141","v":0},{"$f":"SA34c!J141","v":0},{"$f":"SA34c!K141","v":0}]
["Intangible Assets",null,{"$f":"SUM(C206:C207)","v":0},0,0,0,0,0,0,0,0]
["Computer Equipment",null,{"$f":"SA34c!C149","v":0},{"$f":"SA34c!D149","v":0},{"$f":"SA34c!E149","v":0},{"$f":"SA34c!F149","v":0},{"$f":"SA34c!G149","v":0},{"$f":"SA34c!H149","v":0},{"$f":"SA34c!I149","v":0},{"$f":"SA34c!J149","v":0},{"$f":"SA34c!K149","v":0}]
["Furniture and Office Equipment",null,{"$f":"SA34c!C152","v":0},{"$f":"SA34c!D152","v":0},{"$f":"SA34c!E152","v":0},{"$f":"SA34c!F152","v":0},{"$f":"SA34c!G152","v":0},{"$f":"SA34c!H152","v":0},{"$f":"SA34c!I152","v":0},{"$f":"SA34c!J152","v":0},{"$f":"SA34c!K152","v":0}]
["Machinery and Equipment",null,{"$f":"SA34c!C155","v":8558840.2300000023},{"$f":"SA34c!D155","v":19626154.249999996},{"$f":"SA34c!E155","v":38063520.790000007},{"$f":"SA34c!F155","v":94231632.041920006},{"$f":"SA34c!G155","v":100701865.77899998},{"$f":"SA34c!H155","v":100701865.77899998},{"$f":"SA34c!I155","v":214841689.52936003},{"$f":"SA34c!J155","v":225368932.31629857},{"$f":"SA34c!K155","v":235961272.13516468}]
["Transport Assets",null,{"$f":"SA34c!C158","v":0},{"$f":"SA34c!D158","v":0},{"$f":"SA34c!E158","v":0},{"$f":"SA34c!F158","v":29959178},{"$f":"SA34c!G158","v":20495107.457999997},{"$f":"SA34c!H158","v":20495107.457999997},{"$f":"SA34c!I158","v":25105149},{"$f":"SA34c!J158","v":25553001.300999999},{"$f":"SA34c!K158","v":27977642.362146992}]
["Land",null,{"$f":"SA34c!C161","v":0},{"$f":"SA34c!D161","v":0},{"$f":"SA34c!E161","v":0},{"$f":"SA34c!F161","v":0},{"$f":"SA34c!G161","v":0},{"$f":"SA34c!H161","v":0},{"$f":"SA34c!I161","v":0},{"$f":"SA34c!J161","v":0},{"$f":"SA34c!K161","v":0}]
["Zoo's, Marine and Non-biological Animals",null,{"$f":"SA34c!C164","v":0},{"$f":"SA34c!D164","v":0},{"$f":"SA34c!E164","v":0},{"$f":"SA34c!F164","v":0},{"$f":"SA34c!G164","v":0},{"$f":"SA34c!H164","v":0},{"$f":"SA34c!I164","v":0},{"$f":"SA34c!J164","v":0},{"$f":"SA34c!K164","v":0}]
["Mature"," ",{"$f":"SA34c!C168","v":0},{"$f":"SA34c!D168","v":0},{"$f":"SA34c!E168","v":0},{"$f":"SA34c!F168","v":0},{"$f":"SA34c!G168","v":0},{"$f":"SA34c!H168","v":0},{"$f":"SA34c!I168","v":0},{"$f":"SA34c!J168","v":0},{"$f":"SA34c!K168","v":0}]
["Immature"," ",{"$f":"SA34c!C171","v":0},{"$f":"SA34c!D171","v":0},{"$f":"SA34c!E171","v":0},{"$f":"SA34c!F171","v":0},{"$f":"SA34c!G171","v":0},{"$f":"SA34c!H171","v":0},{"$f":"SA34c!I171","v":0},{"$f":"SA34c!J171","v":0},{"$f":"SA34c!K171","v":0}]
["Living Resources","",{"$f":"SUM(C215:C216)","v":0},0,0,0,0,0,0,0,0]
[]
["TOTAL EXPENDITURE OTHER ITEMS",null,{"$f":"SUM(C183:C184)","v":474775685},483871602.78999996,605228600.13999999,947931298.63928044,688435525.29300022,688435525.29300022,1039978753.1867473,1092918906.9198875,1134143045.8073239]
[]
["Renewal and upgrading of Existing Assets as % of total capex",null,{"$f":"IF(ISERROR((C40+C75)/C144),0,((C40+C75)/C144))","v":0.95601145277830935},{"$f":"IF(ISERROR((D40+D75)/D144),0,((D40+D75)/D144))","v":0.40527164652156128},0.60107218226002679,0.76563142311915799,0.62525500356441543,0.62525500356441543,0.33927426203130995,0.69681186056670275,0.63942841518190663]
["Renewal and upgrading of Existing Assets as % of deprecn",null,{"$f":"IF(ISERROR((C40+C75)/C183),0,((C40+C75)/C183))","v":1.098495224804362},{"$f":"IF(ISERROR((D40+D75)/D183),0,((D40+D75)/D183))","v":0.74621366116224808},0.85488267751270453,1.4480933653381298,0.74591762651792082,0.74591762651792082,0.55887040102232721,0.82274418800503313,0.56812210976421196]
["R&M as a % of PPE",null,{"$f":"IF(ISERROR(ROUND(C184/'A6-FinPos'!C17,3)),0,(ROUND(C184/'A6-FinPos'!C17,3)))","v":8.9999999999999993E-3},{"$f":"IF(ISERROR(ROUND(D184/'A6-FinPos'!D17,3)),0,(ROUND(D184/'A6-FinPos'!D17,3)))","v":1.6E-2},{"$f":"IF(ISERROR(ROUND(E184/'A6-FinPos'!E17,3)),0,(ROUND(E184/'A6-FinPos'!E17,3)))","v":3.4000000000000002E-2},{"$f":"IF(ISERROR(ROUND(F184/'A6-FinPos'!F17,3)),0,(ROUND(F184/'A6-FinPos'!F17,3)))","v":7.0999999999999994E-2},{"$f":"IF(ISERROR(ROUND(G184/'A6-FinPos'!G17,3)),0,(ROUND(G184/'A6-FinPos'!G17,3)))","v":3.5999999999999997E-2},{"$f":"IF(ISERROR(ROUND(H184/'A6-FinPos'!H17,3)),0,(ROUND(H184/'A6-FinPos'!H17,3)))","v":3.5999999999999997E-2},{"$f":"IF(ISERROR(ROUND(I184/'A6-FinPos'!I17,3)),0,(ROUND(I184/'A6-FinPos'!I17,3)))","v":0},{"$f":"IF(ISERROR(ROUND(J184/'A6-FinPos'!J17,3)),0,(ROUND(J184/'A6-FinPos'!J17,3)))","v":7.5999999999999998E-2},{"$f":"IF(ISERROR(ROUND(K184/'A6-FinPos'!K17,3)),0,(ROUND(K184/'A6-FinPos'!K17,3)))","v":8.3000000000000004E-2}]
["Renewal and upgrading and R&M as a % of PPE",null,{"$f":"IF(ISERROR(ROUND((C40+C75+C184)/C180,2)),0,(ROUND((C40+C75+C184)/C180,2)))","v":0.06},{"$f":"IF(ISERROR(ROUND((D40+D75+D184)/D180,2)),0,(ROUND((D40+D75+D184)/D180,2)))","v":0.05},0,0.16,0.08,0.08,0.11,0.13,0.11]
[]
[{"$f":"head27a","v":"References"}]
["1. Detail of new assets provided in Table SA34a"]
["2. Detail of renewal of existing assets provided in Table SA34b"]
["3. Detail of Repairs and Maintenance by Asset Class provided in Table SA34c"]
["4. Must reconcile to total capital expenditure on Budgeted Capital Expenditure"]
["5. Must reconcile to 'Budgeted Financial Position' (written down value)"]
["6. Detail of upgrading of existing assets provided in Table SA34e"]
["7. Detail of depreciation provided in Table SA34d"]
[]
["Check balance to A6",null,{"$f":"C180-'A6-FinPos'!D18-'A6-FinPos'!D20-'A6-FinPos'!D21-'A6-FinPos'!D22-'A6-FinPos'!D23-C160","v":7544886875.4600124},{"$f":"D180-'A6-FinPos'!E18-'A6-FinPos'!E20-'A6-FinPos'!E21-'A6-FinPos'!E22-'A6-FinPos'!E23-D160","v":7210773626.1400023},{"$f":"E180-'A6-FinPos'!F18-'A6-FinPos'!F20-'A6-FinPos'!F21-'A6-FinPos'!F22-'A6-FinPos'!F23-E160","v":-30700413},{"$f":"F180-'A6-FinPos'!G18-'A6-FinPos'!G20-'A6-FinPos'!G21-'A6-FinPos'!G22-'A6-FinPos'!G23-F160","v":6958046073.7782631},{"$f":"G180-'A6-FinPos'!H18-'A6-FinPos'!H20-'A6-FinPos'!H21-'A6-FinPos'!H22-'A6-FinPos'!H23-G160","v":6658046073.7782631},{"$f":"H180-'A6-FinPos'!I18-'A6-FinPos'!I20-'A6-FinPos'!I21-'A6-FinPos'!I22-'A6-FinPos'!I23-H160","v":6688746486.7782631},{"$f":"I180-'A6-FinPos'!J18-'A6-FinPos'!J20-'A6-FinPos'!J21-'A6-FinPos'!J22-'A6-FinPos'!J23-I160","v":6650144363.5775118},{"$f":"J180-'A6-FinPos'!K18-'A6-FinPos'!K20-'A6-FinPos'!K21-'A6-FinPos'!K22-'A6-FinPos'!K23-J160","v":6975957317.7038088},{"$f":"K180-'A6-FinPos'!L18-'A6-FinPos'!L20-'A6-FinPos'!L21-'A6-FinPos'!L22-'A6-FinPos'!L23-K160","v":7303819300.8658867}]

{"sheet":"A10-SerDel","index":18,"n_rows":89,"n_cols":11,"rows_kept":89,"cut":false,"hidden":false,"merged":[[1,5,1,7],[1,8,1,10],[1,0,2,0],[1,1,2,1]]}
[{"$f":"muni&\" - \"&Approve10","v":"0 - Table A10 Basic service delivery measurement"}]
[{"$f":"desc","v":"Description"},{"$f":"head27","v":"Ref"},{"$f":"head1b","v":"2019/20"},{"$f":"head1A","v":"2020/21"},{"$f":"Head1","v":"2021/22"},{"$f":"Head2","v":"Current Year 2022/23"},null,null,{"$f":"Head3","v":"2023/24 Medium Term Revenue & Expenditure Framework"}]
[null,null,{"$f":"Head5A","v":"Outcome"},{"$f":"Head5A","v":"Outcome"},{"$f":"Head5A","v":"Outcome"},{"$f":"Head6","v":"Original Budget"},{"$f":"Head7","v":"Adjusted Budget"},{"$f":"Head8","v":"Full Year Forecast"},{"$f":"Head9","v":"Budget Year 2023/24"},{"$f":"Head10","v":"Budget Year +1 2024/25"},{"$f":"Head11","v":"Budget Year +2 2025/26"}]
["Household service targets",1]
["Water:"]
["Piped water inside dwelling",null,{"$f":"'SA9'!E67","v":169564.39200000002},{"$f":"'SA9'!F67","v":169564.39200000002},{"$f":"'SA9'!G67","v":169564.39200000002},{"$f":"'SA9'!H67","v":84782.196000000011},{"$f":"'SA9'!I67","v":84782.196000000011},{"$f":"'SA9'!J67","v":84782.196000000011},{"$f":"'SA9'!K67","v":84782.196000000011},{"$f":"'SA9'!L67","v":84782.196000000011},{"$f":"'SA9'!M67","v":84782.196000000011}]
["Piped water inside yard (but not in dwelling)",null,{"$f":"'SA9'!E68","v":134961.0392},{"$f":"'SA9'!F68","v":134961.0392},{"$f":"'SA9'!G68","v":134961.0392},{"$f":"'SA9'!H68","v":67480.5196},{"$f":"'SA9'!I68","v":67480.5196},{"$f":"'SA9'!J68","v":67480.5196},{"$f":"'SA9'!K68","v":67480.5196},{"$f":"'SA9'!L68","v":67480.5196},{"$f":"'SA9'!M68","v":67480.5196}]
["Using public tap (at least min.service level)",2,{"$f":"'SA9'!E69","v":13308.7968},{"$f":"'SA9'!F69","v":13308.7968},{"$f":"'SA9'!G69","v":13308.7968},{"$f":"'SA9'!H69","v":6654.3984},{"$f":"'SA9'!I69","v":6654.3984},{"$f":"'SA9'!J69","v":6654.3984},{"$f":"'SA9'!K69","v":6654.3984},{"$f":"'SA9'!L69","v":6654.3984},{"$f":"'SA9'!M69","v":6654.3984}]
["Other water supply (at least min.service level)",4,{"$f":"'SA9'!E70","v":6392.2175999999999},{"$f":"'SA9'!F70","v":6392.2175999999999},{"$f":"'SA9'!G70","v":6392.2175999999999},{"$f":"'SA9'!H70","v":3196.1088},{"$f":"'SA9'!I70","v":3196.1088},{"$f":"'SA9'!J70","v":3196.1088},{"$f":"'SA9'!K70","v":3196.1088},{"$f":"'SA9'!L70","v":3196.1088},{"$f":"'SA9'!M70","v":3196.1088}]
["Minimum Service Level and Above sub-total",null,{"$f":"SUM(C6:C9)","v":324226.44559999998},{"$f":"SUM(D6:D9)","v":324226.44559999998},324226.44559999998,162113.22279999999,162113.22279999999,162113.22279999999,162113.22279999999,162113.22279999999,162113.22279999999]
["Using public tap (< min.service level)",3,{"$f":"'SA9'!E72","v":13308.7968},{"$f":"'SA9'!F72","v":13308.7968},{"$f":"'SA9'!G72","v":13308.7968},{"$f":"'SA9'!H72","v":6654.3984},{"$f":"'SA9'!I72","v":6654.3984},{"$f":"'SA9'!J72","v":6654.3984},{"$f":"'SA9'!K72","v":6654.3984},{"$f":"'SA9'!L72","v":6654.3984},{"$f":"'SA9'!M72","v":6654.3984}]
["Other water supply (< min.service level)",{"$f":"B9","v":4},{"$f":"'SA9'!E73","v":3701.3919999999998},{"$f":"'SA9'!F73","v":3701.3919999999998},{"$f":"'SA9'!G73","v":3701.3919999999998},{"$f":"'SA9'!H73","v":1850.6959999999999},{"$f":"'SA9'!I73","v":1850.6959999999999},{"$f":"'SA9'!J73","v":1850.6959999999999},{"$f":"'SA9'!K73","v":1850.6959999999999},{"$f":"'SA9'!L73","v":1850.6959999999999},{"$f":"'SA9'!M73","v":1850.6959999999999}]
["No water supply",null,{"$f":"'SA9'!E74","v":0},{"$f":"'SA9'!F74","v":0},{"$f":"'SA9'!G74","v":0},{"$f":"'SA9'!H74","v":0},{"$f":"'SA9'!I74","v":0},{"$f":"'SA9'!J74","v":0},{"$f":"'SA9'!K74","v":0},{"$f":"'SA9'!L74","v":0},{"$f":"'SA9'!M74","v":0}]
["Below Minimum Service Level sub-total",null,{"$f":"SUM(C11:C13)","v":17010.1888},{"$f":"SUM(D11:D13)","v":17010.1888},17010.1888,8505.0944,8505.0944,8505.0944,8505.0944,8505.0944,8505.0944]
["Total number of households",5,{"$f":"C10+C14","v":341236.63439999998},{"$f":"D10+D14","v":341236.63439999998},341236.63439999998,170618.31719999999,170618.31719999999,170618.31719999999,170618.31719999999,170618.31719999999,170618.31719999999]
["Sanitation/sewerage:"]
["Flush toilet (connected to sewerage)",null,{"$f":"'SA9'!E78","v":183178.0392},{"$f":"'SA9'!F78","v":183178.0392},{"$f":"'SA9'!G78","v":183178.0392},{"$f":"'SA9'!H78","v":91589.0196},{"$f":"'SA9'!I78","v":91589.0196},{"$f":"'SA9'!J78","v":91589.0196},{"$f":"'SA9'!K78","v":91589.0196},{"$f":"'SA9'!L78","v":91589.0196},{"$f":"'SA9'!M78","v":91589.0196}]
["Flush toilet (with septic tank)",null,{"$f":"'SA9'!E79","v":17310.175200000001},{"$f":"'SA9'!F79","v":17310.175200000001},{"$f":"'SA9'!G79","v":17310.175200000001},{"$f":"'SA9'!H79","v":8655.0876000000007},{"$f":"'SA9'!I79","v":8655.0876000000007},{"$f":"'SA9'!J79","v":8655.0876000000007},{"$f":"'SA9'!K79","v":8655.0876000000007},{"$f":"'SA9'!L79","v":8655.0876000000007},{"$f":"'SA9'!M79","v":8655.0876000000007}]
["Chemical toilet",null,{"$f":"'SA9'!E80","v":14723.740800000001},{"$f":"'SA9'!F80","v":14723.740800000001},{"$f":"'SA9'!G80","v":14723.740800000001},{"$f":"'SA9'!H80","v":7361.8704000000007},{"$f":"'SA9'!I80","v":7361.8704000000007},{"$f":"'SA9'!J80","v":7361.8704000000007},{"$f":"'SA9'!K80","v":7361.8704000000007},{"$f":"'SA9'!L80","v":7361.8704000000007},{"$f":"'SA9'!M80","v":7361.8704000000007}]
["Pit toilet (ventilated)",null,{"$f":"'SA9'!E81","v":123655.7016},{"$f":"'SA9'!F81","v":123655.7016},{"$f":"'SA9'!G81","v":123655.7016},{"$f":"'SA9'!H81","v":61827.8508},{"$f":"'SA9'!I81","v":61827.8508},{"$f":"'SA9'!J81","v":61827.8508},{"$f":"'SA9'!K81","v":61827.8508},{"$f":"'SA9'!L81","v":61827.8508},{"$f":"'SA9'!M81","v":61827.8508}]
["Other toilet provisions (> min.service level)",null,{"$f":"'SA9'!E82","v":0},{"$f":"'SA9'!F82","v":0},{"$f":"'SA9'!G82","v":0},{"$f":"'SA9'!H82","v":0},{"$f":"'SA9'!I82","v":0},{"$f":"'SA9'!J82","v":0},{"$f":"'SA9'!K82","v":0},{"$f":"'SA9'!L82","v":0},{"$f":"'SA9'!M82","v":0}]
[{"$f":"$A$10","v":"Minimum Service Level and Above sub-total"},null,{"$f":"SUM(C17:C21)","v":338867.6568},{"$f":"SUM(D17:D21)","v":338867.6568},338867.6568,169433.8284,169433.8284,169433.8284,169433.8284,169433.8284,169433.8284]
["Bucket toilet",null,{"$f":"'SA9'!E84","v":0},{"$f":"'SA9'!F84","v":0},{"$f":"'SA9'!G84","v":0},{"$f":"'SA9'!H84","v":0},{"$f":"'SA9'!I84","v":0},{"$f":"'SA9'!J84","v":0},{"$f":"'SA9'!K84","v":0},{"$f":"'SA9'!L84","v":0},{"$f":"'SA9'!M84","v":0}]
["Other toilet provisions (< min.service level)",null,{"$f":"'SA9'!E85","v":2368.9776000000002},{"$f":"'SA9'!F85","v":2368.9776000000002},{"$f":"'SA9'!G85","v":2368.9776000000002},{"$f":"'SA9'!H85","v":1184.4888000000001},{"$f":"'SA9'!I85","v":1184.4888000000001},{"$f":"'SA9'!J85","v":1184.4888000000001},{"$f":"'SA9'!K85","v":1184.4888000000001},{"$f":"'SA9'!L85","v":1184.4888000000001},{"$f":"'SA9'!M85","v":1184.4888000000001}]
["No toilet provisions",null,{"$f":"'SA9'!E86","v":0},{"$f":"'SA9'!F86","v":0},{"$f":"'SA9'!G86","v":0},{"$f":"'SA9'!H86","v":0},{"$f":"'SA9'!I86","v":0},{"$f":"'SA9'!J86","v":0},{"$f":"'SA9'!K86","v":0},{"$f":"'SA9'!L86","v":0},{"$f":"'SA9'!M86","v":0}]
[{"$f":"$A$14","v":"Below Minimum Service Level sub-total"},null,{"$f":"SUM(C23:C25)","v":2368.9776000000002},{"$f":"SUM(D23:D25)","v":2368.9776000000002},2368.9776000000002,1184.4888000000001,1184.4888000000001,1184.4888000000001,1184.4888000000001,1184.4888000000001,1184.4888000000001]
[{"$f":"$A$15","v":"Total number of households"},{"$f":"$B$15","v":5},{"$f":"C22+C26","v":341236.63439999998},{"$f":"D22+D26","v":341236.63439999998},341236.63439999998,170618.31719999999,170618.31719999999,170618.31719999999,170618.31719999999,170618.31719999999,170618.31719999999]
["Energy:"]
["Electricity (at least min.service level)",null,{"$f":"'SA9'!E90","v":270542.8064},{"$f":"'SA9'!F90","v":270542.8064},{"$f":"'SA9'!G90","v":270542.8064},{"$f":"'SA9'!H90","v":135271.4032},{"$f":"'SA9'!I90","v":135271.4032},{"$f":"'SA9'!J90","v":135271.4032},{"$f":"'SA9'!K90","v":135271.4032},{"$f":"'SA9'!L90","v":135271.4032},{"$f":"'SA9'!M90","v":135271.4032}]
["Electricity - prepaid (min.service level)",null,{"$f":"'SA9'!E91","v":54693.828000000001},{"$f":"'SA9'!F91","v":54693.828000000001},{"$f":"'SA9'!G91","v":54693.828000000001},{"$f":"'SA9'!H91","v":27346.914000000001},{"$f":"'SA9'!I91","v":27346.914000000001},{"$f":"'SA9'!J91","v":27346.914000000001},{"$f":"'SA9'!K91","v":27346.914000000001},{"$f":"'SA9'!L91","v":27346.914000000001},{"$f":"'SA9'!M91","v":27346.914000000001}]
[{"$f":"$A$10","v":"Minimum Service Level and Above sub-total"},null,{"$f":"SUM(C29:C30)","v":325236.63439999998},{"$f":"SUM(D29:D30)","v":325236.63439999998},325236.63439999998,162618.31719999999,162618.31719999999,162618.31719999999,162618.31719999999,162618.31719999999,162618.31719999999]
["Electricity (< min.service level)",null,{"$f":"'SA9'!E93","v":0},{"$f":"'SA9'!F93","v":0},{"$f":"'SA9'!G93","v":0},{"$f":"'SA9'!H93","v":0},{"$f":"'SA9'!I93","v":0},{"$f":"'SA9'!J93","v":0},{"$f":"'SA9'!K93","v":0},{"$f":"'SA9'!L93","v":0},{"$f":"'SA9'!M93","v":0}]
["Electricity - prepaid (< min. service level)",null,{"$f":"'SA9'!E94","v":0},{"$f":"'SA9'!F94","v":0},{"$f":"'SA9'!G94","v":0},{"$f":"'SA9'!H94","v":0},{"$f":"'SA9'!I94","v":0},{"$f":"'SA9'!J94","v":0},{"$f":"'SA9'!K94","v":0},{"$f":"'SA9'!L94","v":0},{"$f":"'SA9'!M94","v":0}]
["Other energy sources",null,{"$f":"'SA9'!E95","v":16000},{"$f":"'SA9'!F95","v":16000},{"$f":"'SA9'!G95","v":16000},{"$f":"'SA9'!H95","v":8000},{"$f":"'SA9'!I95","v":8000},{"$f":"'SA9'!J95","v":8000},{"$f":"'SA9'!K95","v":8000},{"$f":"'SA9'!L95","v":8000},{"$f":"'SA9'!M95","v":8000}]
[{"$f":"$A$14","v":"Below Minimum Service Level sub-total"},null,{"$f":"SUM(C32:C34)","v":16000},{"$f":"SUM(D32:D34)","v":16000},16000,8000,8000,8000,8000,8000,8000]
[{"$f":"$A$15","v":"Total number of households"},{"$f":"$B$15","v":5},{"$f":"C31+C35","v":341236.63439999998},{"$f":"D31+D35","v":341236.63439999998},341236.63439999998,170618.31719999999,170618.31719999999,170618.31719999999,170618.31719999999,170618.31719999999,170618.31719999999]
["Refuse:"]
["Removed at least once a week",null,{"$f":"'SA9'!E99","v":259696},{"$f":"'SA9'!F99","v":259696},{"$f":"'SA9'!G99","v":259696},{"$f":"'SA9'!H99","v":129848},{"$f":"'SA9'!I99","v":129848},{"$f":"'SA9'!J99","v":129848},{"$f":"'SA9'!K99","v":129848},{"$f":"'SA9'!L99","v":129848},{"$f":"'SA9'!M99","v":129848}]
[{"$f":"$A$10","v":"Minimum Service Level and Above sub-total"},null,{"$f":"SUM(C38)","v":259696},{"$f":"SUM(D38)","v":259696},259696,129848,129848,129848,129848,129848,129848]
["Removed less frequently than once a week",null,{"$f":"'SA9'!E101","v":81540.634399999995},{"$f":"'SA9'!F101","v":81540.634399999995},{"$f":"'SA9'!G101","v":81540.634399999995},{"$f":"'SA9'!H101","v":40770.317199999998},{"$f":"'SA9'!I101","v":40770.317199999998},{"$f":"'SA9'!J101","v":40770.317199999998},{"$f":"'SA9'!K101","v":40770.317199999998},{"$f":"'SA9'!L101","v":40770.317199999998},{"$f":"'SA9'!M101","v":40770.317199999998}]
["Using communal refuse dump",null,{"$f":"'SA9'!E102","v":0},{"$f":"'SA9'!F102","v":0},{"$f":"'SA9'!G102","v":0},{"$f":"'SA9'!H102","v":0},{"$f":"'SA9'!I102","v":0},{"$f":"'SA9'!J102","v":0},{"$f":"'SA9'!K102","v":0},{"$f":"'SA9'!L102","v":0},{"$f":"'SA9'!M102","v":0}]
["Using own refuse dump",null,{"$f":"'SA9'!E103","v":0},{"$f":"'SA9'!F103","v":0},{"$f":"'SA9'!G103","v":0},{"$f":"'SA9'!H103","v":0},{"$f":"'SA9'!I103","v":0},{"$f":"'SA9'!J103","v":0},{"$f":"'SA9'!K103","v":0},{"$f":"'SA9'!L103","v":0},{"$f":"'SA9'!M103","v":0}]
["Other rubbish disposal",null,{"$f":"'SA9'!E104","v":0},{"$f":"'SA9'!F104","v":0},{"$f":"'SA9'!G104","v":0},{"$f":"'SA9'!H104","v":0},{"$f":"'SA9'!I104","v":0},{"$f":"'SA9'!J104","v":0},{"$f":"'SA9'!K104","v":0},{"$f":"'SA9'!L104","v":0},{"$f":"'SA9'!M104","v":0}]
["No rubbish disposal",null,{"$f":"'SA9'!E105","v":0},{"$f":"'SA9'!F105","v":0},{"$f":"'SA9'!G105","v":0},{"$f":"'SA9'!H105","v":0},{"$f":"'SA9'!I105","v":0},{"$f":"'SA9'!J105","v":0},{"$f":"'SA9'!K105","v":0},{"$f":"'SA9'!L105","v":0},{"$f":"'SA9'!M105","v":0}]
[{"$f":"$A$14","v":"Below Minimum Service Level sub-total"},null,{"$f":"SUM(C40:C44)","v":81540.634399999995},81540.634399999995,81540.634399999995,40770.317199999998,40770.317199999998,40770.317199999998,40770.317199999998,40770.317199999998,40770.317199999998]
[{"$f":"$A$15","v":"Total number of households"},{"$f":"$B$15","v":5},{"$f":"C39+C45","v":341236.63439999998},{"$f":"D39+D45","v":341236.63439999998},341236.63439999998,170618.31719999999,170618.31719999999,170618.31719999999,170618.31719999999,170618.31719999999,170618.31719999999]
[]
["Households receiving Free Basic Service",7]
["Water (6 kilolitres per household per month)",null,{"$f":"'SA9'!E263","v":0},{"$f":"'SA9'!F263","v":0},{"$f":"'SA9'!G263","v":0},{"$f":"'SA9'!H263","v":0},{"$f":"'SA9'!I263","v":0},{"$f":"'SA9'!J263","v":0},{"$f":"'SA9'!K263","v":0},{"$f":"'SA9'!L263","v":0},{"$f":"'SA9'!M263","v":0}]
["Sanitation (free minimum level service)",null,{"$f":"'SA9'!E275","v":0},{"$f":"'SA9'!F275","v":0},{"$f":"'SA9'!G275","v":0},{"$f":"'SA9'!H275","v":0},{"$f":"'SA9'!I275","v":0},{"$f":"'SA9'!J275","v":0},{"$f":"'SA9'!K275","v":0},{"$f":"'SA9'!L275","v":0},{"$f":"'SA9'!M275","v":0}]
["Electricity/other energy (50kwh per household per month)",null,{"$f":"'SA9'!E251","v":0},{"$f":"'SA9'!F251","v":0},{"$f":"'SA9'!G251","v":0},{"$f":"'SA9'!H251","v":0},{"$f":"'SA9'!I251","v":0},{"$f":"'SA9'!J251","v":0},{"$f":"'SA9'!K251","v":0},{"$f":"'SA9'!L251","v":0},{"$f":"'SA9'!M251","v":0}]
["Refuse (removed at least once a week)",null,{"$f":"'SA9'!E287","v":0},{"$f":"'SA9'!F287","v":0},{"$f":"'SA9'!G287","v":0},{"$f":"'SA9'!H287","v":0},{"$f":"'SA9'!I287","v":0},{"$f":"'SA9'!J287","v":0},{"$f":"'SA9'!K287","v":0},{"$f":"'SA9'!L287","v":0},{"$f":"'SA9'!M287","v":0}]
["Informal Settlements",null,{"$f":"'SA9'!E253+'SA9'!E255+'SA9'!E257+'SA9'!E259+'SA9'!E265+'SA9'!E2267+'SA9'!E269+'SA9'!E271+'SA9'!E277+'SA9'!E279+'SA9'!E281+'SA9'!E283+'SA9'!E289+'SA9'!E291+'SA9'!E293+'SA9'!E295","v":0},{"$f":"'SA9'!F253+'SA9'!F255+'SA9'!F257+'SA9'!F259+'SA9'!F265+'SA9'!F2267+'SA9'!F269+'SA9'!F271+'SA9'!F277+'SA9'!F279+'SA9'!F281+'SA9'!F283+'SA9'!F289+'SA9'!F291+'SA9'!F293+'SA9'!F295","v":0},{"$f":"'SA9'!G253+'SA9'!G255+'SA9'!G257+'SA9'!G259+'SA9'!G265+'SA9'!G2267+'SA9'!G269+'SA9'!G271+'SA9'!G277+'SA9'!G279+'SA9'!G281+'SA9'!G283+'SA9'!G289+'SA9'!G291+'SA9'!G293+'SA9'!G295","v":0},{"$f":"'SA9'!H253+'SA9'!H255+'SA9'!H257+'SA9'!H259+'SA9'!H265+'SA9'!H2267+'SA9'!H269+'SA9'!H271+'SA9'!H277+'SA9'!H279+'SA9'!H281+'SA9'!H283+'SA9'!H289+'SA9'!H291+'SA9'!H293+'SA9'!H295","v":0},{"$f":"'SA9'!I253+'SA9'!I255+'SA9'!I257+'SA9'!I259+'SA9'!I265+'SA9'!I2267+'SA9'!I269+'SA9'!I271+'SA9'!I277+'SA9'!I279+'SA9'!I281+'SA9'!I283+'SA9'!I289+'SA9'!I291+'SA9'!I293+'SA9'!I295","v":0},{"$f":"'SA9'!J253+'SA9'!J255+'SA9'!J257+'SA9'!J259+'SA9'!J265+'SA9'!J2267+'SA9'!J269+'SA9'!J271+'SA9'!J277+'SA9'!J279+'SA9'!J281+'SA9'!J283+'SA9'!J289+'SA9'!J291+'SA9'!J293+'SA9'!J295","v":0},{"$f":"'SA9'!K253+'SA9'!K255+'SA9'!K257+'SA9'!K259+'SA9'!K265+'SA9'!K2267+'SA9'!K269+'SA9'!K271+'SA9'!K277+'SA9'!K279+'SA9'!K281+'SA9'!K283+'SA9'!K289+'SA9'!K291+'SA9'!K293+'SA9'!K295","v":0},{"$f":"'SA9'!L253+'SA9'!L255+'SA9'!L257+'SA9'!L259+'SA9'!L265+'SA9'!L2267+'SA9'!L269+'SA9'!L271+'SA9'!L277+'SA9'!L279+'SA9'!L281+'SA9'!L283+'SA9'!L289+'SA9'!L291+'SA9'!L293+'SA9'!L295","v":0},{"$f":"'SA9'!M253+'SA9'!M255+'SA9'!M257+'SA9'!M259+'SA9'!M265+'SA9'!M2267+'SA9'!M269+'SA9'!M271+'SA9'!M277+'SA9'!M279+'SA9'!M281+'SA9'!M283+'SA9'!M289+'SA9'!M291+'SA9'!M293+'SA9'!M295","v":0}]
["Cost of Free Basic Services provided - Formal Settlements (R'000)"]
["Water (6 kilolitres per indigent household per month)",null,{"$f":"'SA1'!C22","v":0},{"$f":"'SA1'!D22","v":0},{"$f":"'SA1'!E22","v":0},{"$f":"'SA1'!F22","v":0},{"$f":"'SA1'!G22","v":0},{"$f":"'SA1'!H22","v":0},{"$f":"'SA1'!J22","v":0},{"$f":"'SA1'!K22","v":0},{"$f":"'SA1'!L22","v":0}]
["Sanitation (free sanitation service to indigent households)",null,{"$f":"'SA1'!C28","v":0},{"$f":"'SA1'!D28","v":0},{"$f":"'SA1'!E28","v":0},{"$f":"'SA1'!F28","v":0},{"$f":"'SA1'!G28","v":0},{"$f":"'SA1'!H28","v":0},{"$f":"'SA1'!J28","v":0},{"$f":"'SA1'!K28","v":0},{"$f":"'SA1'!L28","v":0}]
["Electricity/other energy (50kwh per indigent household per month)",null,{"$f":"'SA1'!C16","v":0},{"$f":"'SA1'!D16","v":0},{"$f":"'SA1'!E16","v":0},{"$f":"'SA1'!F16","v":0},{"$f":"'SA1'!G16","v":0},{"$f":"'SA1'!H16","v":0},{"$f":"'SA1'!J16","v":0},{"$f":"'SA1'!K16","v":0},{"$f":"'SA1'!L16","v":0}]
["Refuse (removed once a week for indigent households)",null,{"$f":"'SA1'!C35","v":0},{"$f":"'SA1'!D35","v":0},{"$f":"'SA1'!E35","v":0},{"$f":"'SA1'!F35","v":0},{"$f":"'SA1'!G35","v":0},{"$f":"'SA1'!H35","v":0},{"$f":"'SA1'!J35","v":0},{"$f":"'SA1'!K35","v":0},{"$f":"'SA1'!L35","v":0}]
["Cost of Free Basic Services provided - Informal Formal Settlements (R'000)",null,{"$f":"'SA9'!E260+'SA9'!E272+'SA9'!E284+'SA9'!E296","v":0},{"$f":"'SA9'!F260+'SA9'!F272+'SA9'!F284+'SA9'!F296","v":0},{"$f":"'SA9'!G260+'SA9'!G272+'SA9'!G284+'SA9'!G296","v":0},{"$f":"'SA9'!H260+'SA9'!H272+'SA9'!H284+'SA9'!H296","v":228088786.13074759},{"$f":"'SA9'!I260+'SA9'!I272+'SA9'!I284+'SA9'!I296","v":0},{"$f":"'SA9'!J260+'SA9'!J272+'SA9'!J284+'SA9'!J296","v":0},{"$f":"'SA9'!K260+'SA9'!K272+'SA9'!K284+'SA9'!K296","v":242071343.66400835},{"$f":"'SA9'!L260+'SA9'!L272+'SA9'!L284+'SA9'!L296","v":256929502.14413583},{"$f":"'SA9'!M260+'SA9'!M272+'SA9'!M284+'SA9'!M296","v":0}]
["Total cost of FBS provided  ",8,{"$f":"SUM(C55:C59)","v":0},0,0,228088786.13074759,0,0,242071343.66400835,256929502.14413583,0]
[]
["Highest level of free service provided per household"]
["Property rates (R value threshold)",null,100000,null,null,120000,120000,120000,120000,120000,120000]
["Water (kilolitres per household per month)",null,6,null,null,6,6,6,6,6,6]
["Sanitation (kilolitres per household per month)",null,0,null,null,0,0,0,0,0,0]
["Sanitation (Rand per household per month)",null,153.35019999999997,null,null,162.55121199999999,162.55121199999999,162.55121199999999,162.55121199999999,162.55121199999999,162.55121199999999]
["Electricity (kwh per household per month)",null,70,null,null,70,70,70,70,70,70]
["Refuse (average litres per week)",null,200,null,null,200,200,200,200,200,200]
["Revenue  cost of subsidised services provided (R'000)",9]
["Property rates (tariff adjustment) ( impermissable values per section 17 of MPRA)"]
["Property rates  exemptions, reductions and rebates and impermissable values in excess of section 17 of MPRA)",null,{"$f":"'SA1'!C9","v":0},{"$f":"'SA1'!D9","v":42381917},{"$f":"'SA1'!E9","v":0},{"$f":"'SA1'!F9","v":109118805},{"$f":"'SA1'!G9","v":109118805},{"$f":"'SA1'!H9","v":109118805},{"$f":"'SA1'!J9","v":116757121.34999999},{"$f":"'SA1'!K9","v":124930119.84450001},{"$f":"'SA1'!L9","v":133675228.233615}]
["Water (in excess of 6 kilolitres per indigent household per month)",null,{"$f":"'SA1'!C21","v":0},{"$f":"'SA1'!D21","v":4643713},{"$f":"'SA1'!E21","v":0},{"$f":"'SA1'!F21","v":202356395.28541413},{"$f":"'SA1'!G21","v":202356395.28541413},{"$f":"'SA1'!H21","v":202356395.28541413},{"$f":"'SA1'!J21","v":222592034.81900001},{"$f":"'SA1'!K21","v":233499044.52513099},{"$f":"'SA1'!L21","v":244473499.61781201}]
["Sanitation (in excess of free sanitation service to indigent households)",null,{"$f":"'SA1'!C27","v":0},{"$f":"'SA1'!D27","v":18430498},{"$f":"'SA1'!E27","v":0},{"$f":"'SA1'!F27","v":14449010.069488764},{"$f":"'SA1'!G27","v":14449010.069488764},{"$f":"'SA1'!H27","v":14449010.069488764},{"$f":"'SA1'!J27","v":16760851.6812},{"$f":"'SA1'!K27","v":17582133.413578797},{"$f":"'SA1'!L27","v":18408493.684016999}]
["Electricity/other energy (in excess of 50 kwh per indigent household per month)",null,{"$f":"'SA1'!C15","v":0},{"$f":"'SA1'!D15","v":170276},{"$f":"'SA1'!E15","v":0},{"$f":"'SA1'!F15","v":4203840.5242321035},{"$f":"'SA1'!G15","v":4203840.5242321035},{"$f":"'SA1'!H15","v":4203840.5242321035},{"$f":"'SA1'!J15","v":4671015.4639999997},{"$f":"'SA1'!K15","v":5418377.93824},{"$f":"'SA1'!L15","v":6393685.9671232002}]
["Refuse (in excess of one removal a week for indigent households)",null,{"$f":"'SA1'!C34","v":0},{"$f":"'SA1'!D34","v":13905},{"$f":"'SA1'!E34","v":0},{"$f":"'SA1'!F34","v":15057780.060448527},{"$f":"'SA1'!G34","v":15057780.060448527},{"$f":"'SA1'!H34","v":15057780.060448527},{"$f":"'SA1'!J34","v":7899124.4188999999},{"$f":"'SA1'!K34","v":8286181.5154261002},{"$f":"'SA1'!L34","v":8692204.4096819796}]
["Municipal Housing - rental rebates"]
["Housing - top structure subsidies",6]
["Other"]
["Total revenue cost of subsidised services provided ",null,{"$f":"SUM(C70:C78)","v":0},{"$f":"SUM(D70:D78)","v":65640309},0,345185830.93958348,345185830.93958348,345185830.93958348,368680147.73310006,{"$f":"SUM(J70:J78)","v":389715857.23687589},{"$f":"SUM(K70:K78)","v":411643111.91224921}]
[{"$f":"head27a","v":"References"}]
["1. Include services provided by another entity; e.g. Eskom"]
["2. Stand distance <= 200m from dwelling"]
["3. Stand distance > 200m from dwelling"]
["4. Borehole, spring, rain-water tank etc."]
["5. Must agree to total number of households in municipal area (informal settlements receiving services must be included)"]
["6. Include value of subsidy provided by municipality above provincial subsidy level"]
["7. Show number of households receiving at least these levels of services completely free (informal settlements must be included)"]
["8. Must reflect the cost to the municipality of providing the Free Basic Service"]
["9. Reflect the cost of free or subsidised services in excess to the National policy that are not funded from the Free Basic Services component of the Equitable Share"]

{"sheet":"SA1","index":19,"n_rows":181,"n_cols":18,"rows_kept":181,"cut":false,"hidden":false,"merged":[[1,9,1,11],[1,5,1,8],[1,0,2,0],[1,1,2,1]]}
[{"$f":"muni&\" - \"&TableA1","v":"0 - Supporting Table SA1 Supportinging detail to 'Budgeted Financial Performance'"}]
[{"$f":"desc","v":"Description"},{"$f":"head27","v":"Ref"},{"$f":"head1b","v":"2019/20"},{"$f":"head1A","v":"2020/21"},{"$f":"Head1","v":"2021/22"},{"$f":"Head2","v":"Current Year 2022/23"},null,null,null,{"$f":"Head3","v":"2023/24 Medium Term Revenue & Expenditure Framework"}]
[null,null,{"$f":"Head5","v":"Audited Outcome"},{"$f":"Head5","v":"Audited Outcome"},{"$f":"Head5","v":"Audited Outcome"},{"$f":"Head6","v":"Original Budget"},{"$f":"Head7","v":"Adjusted Budget"},{"$f":"Head8","v":"Full Year Forecast"},{"$f":"Head5b","v":"Pre-audit outcome"},{"$f":"Head9","v":"Budget Year 2023/24"},{"$f":"Head10","v":"Budget Year +1 2024/25"},{"$f":"Head11","v":"Budget Year +2 2025/26"}]
["R thousand"]
["REVENUE ITEMS:"]
["Non-exchange revenue by source"]
[{"$f":"'A4-FinPerf RE'!A5","v":"Exchange Revenue"},6]
["Total Property Rates",null,1177107606,1274712222,1211348604,1536207666.3507991,1536207666.3507991,1536207666.3507991,null,1643742202.9837999,1726737470.4783602,1810767524.347265]
["Less Revenue Foregone (exemptions, reductions and rebates and impermissable values in excess of section 17 of MPRA)",null,null,42381917,null,109118805,109118805,109118805,null,116757121.34999999,124930119.84450001,133675228.233615]
["Net Property Rates",null,{"$f":"C8-C9","v":1177107606},{"$f":"D8-D9","v":1232330305},1211348604,1427088861.3507991,1427088861.3507991,1427088861.3507991,0,1526985081.6338,1601807350.6338601,1677092296.1136501]
[]
["Exchange revenue service charges"]
[{"$f":"'A4-FinPerf RE'!A6","v":"Service charges - Electricity"},6]
[{"$f":"\"Total \"&A13","v":"Total Service charges - Electricity"},null,2159757821,2152953446,2549652864,3187353542.8632765,3187353542.8632765,3187353542.8632765,null,3897489111.1247997,4521087368.904767,5334883095.3076248]
["Less Revenue Foregone (in excess of 50 kwh per indigent household per month)",null,null,170276,null,4203840.5242321035,4203840.5242321035,4203840.5242321035,null,4671015.4639999997,5418377.93824,6393685.9671232002]
["Less Cost of Free Basis Services (50 kwh per indigent household per month)",null,{"$f":"'SA9'!E250","v":0},{"$f":"'SA9'!F250","v":0},{"$f":"'SA9'!G250","v":0},{"$f":"'SA9'!H250","v":0},{"$f":"'SA9'!I250","v":0},{"$f":"'SA9'!J250","v":0},null,{"$f":"'SA9'!K250","v":0},{"$f":"'SA9'!L250","v":0},{"$f":"'SA9'!M250","v":0}]
[{"$f":"\"Net \"& A13","v":"Net Service charges - Electricity"},null,{"$f":"C14-C15-C16","v":2159757821},{"$f":"D14-D15-D16","v":2152783170},2549652864,3183149702.3390446,3183149702.3390446,3183149702.3390446,0,3892818095.6607995,4515668990.966527,5328489409.3405018]
[]
[{"$f":"'A4-FinPerf RE'!A7","v":"Service charges - Water"},6]
[{"$f":"\"Total \"&A19","v":"Total Service charges - Water"},null,662849315,777813086,773657197,1021966851.4343415,1021966851.4343415,1021966851.4343415,null,1124163536.5840001,1179247549.8766201,1234672184.72082]
["Less Revenue Foregone (in excess of 6 kilolitres per indigent household per month)",null,null,4643713,null,202356395.28541413,202356395.28541413,202356395.28541413,null,222592034.81900001,233499044.52513099,244473499.61781201]
["Less Cost of Free Basis Services (6 kilolitres per indigent household per month)",null,{"$f":"'SA9'!E262","v":0},{"$f":"'SA9'!F262","v":0},{"$f":"'SA9'!G262","v":0},{"$f":"'SA9'!H262","v":0},{"$f":"'SA9'!I262","v":0},{"$f":"'SA9'!J262","v":0},null,{"$f":"'SA9'!K262","v":0},{"$f":"'SA9'!L262","v":0},{"$f":"'SA9'!M262","v":0}]
[{"$f":"\"Net \"& A19","v":"Net Service charges - Water"},null,{"$f":"C20-C21-C22","v":662849315},{"$f":"D20-D21-D22","v":773169373},773657197,819610456.14892745,819610456.14892745,819610456.14892745,0,901571501.7650001,945748505.35148907,990198685.10300791]
[]
[{"$f":"'A4-FinPerf RE'!A8","v":"Service charges - Waste Water Management"}]
[{"$f":"\"Total \"&A25","v":"Total Service charges - Waste Water Management"},null,172220502,185532982,182241050,189017865.18948877,189017865.18948877,189017865.18948877,null,219260723.62040001,230004499.0777998,240814710.53445601]
["Less Revenue Foregone (in excess of free sanitation service to indigent households)",null,null,18430498,null,14449010.069488764,14449010.069488764,14449010.069488764,null,16760851.6812,17582133.413578797,18408493.684016999]
["Less Cost of Free Basis Services (free sanitation service to indigent households)",null,{"$f":"'SA9'!E274","v":0},{"$f":"'SA9'!F274","v":0},{"$f":"'SA9'!G274","v":0},{"$f":"'SA9'!H274","v":0},{"$f":"'SA9'!I274","v":0},{"$f":"'SA9'!J274","v":0},null,{"$f":"'SA9'!K274","v":0},{"$f":"'SA9'!L274","v":0},{"$f":"'SA9'!M274","v":0}]
[{"$f":"\"Net \"& A25","v":"Net Service charges - Waste Water Management"},null,{"$f":"C26-C27-C28","v":172220502},{"$f":"D26-D27-D28","v":167102484},182241050,174568855.12,174568855.12,174568855.12,0,202499871.93920001,212422365.66422099,222406216.85043901]
[]
[{"$f":"'A4-FinPerf RE'!A9","v":"Service charges - Waste Management"},6]
["Total refuse removal revenue",null,109639121,113710541,114118706,144722981.10963368,144722981.10963368,144722981.10963368,null,146640889.5424,153826293.12997711,161072701.27011698]
["Total landfill revenue",null,null,null,null,null,0,0]
["Less Revenue Foregone (in excess of one removal a week to indigent households)",null,null,13905,null,15057780.060448527,15057780.060448527,15057780.060448527,null,7899124.4188999999,8286181.5154261002,8692204.4096819796]
["Less Cost of Free Basis Services  (removed once a week to indigent households)",null,{"$f":"'SA9'!E286","v":0},{"$f":"'SA9'!F286","v":0},{"$f":"'SA9'!G286","v":0},{"$f":"'SA9'!H286","v":0},{"$f":"'SA9'!I286","v":0},{"$f":"'SA9'!J286","v":0},null,{"$f":"'SA9'!K286","v":0},{"$f":"'SA9'!L286","v":0},{"$f":"'SA9'!M286","v":0}]
[{"$f":"\"Net \"& A31","v":"Net Service charges - Waste Management"},null,{"$f":"SUM(C32:C33)-C34-C35","v":109639121},{"$f":"SUM(D32:D33)-D34-D35","v":113696636},114118706,129665201.04918516,129665201.04918516,129665201.04918516,0,138741765.12349999,145540111.61455101,152380496.86043501]
[]
[]
[]
[]
[]
[]
[]
[]
[]
[]
[]
[]
[]
[]
["EXPENDITURE ITEMS:"]
[{"$f":"'A4-FinPerf RE'!A34","v":"Employee related costs"}]
["Basic Salaries and Wages",2,752864301,814382226,854780140,1063420369.5845284,1104969564.3895288,1104969564.3895288,null,951834218.19155037,977511336.0351696,1009011136.5717524]
["Pension and UIF Contributions",null,154503125,165889187,168589937,198257143.40591997,198257143.40591997,198257143.40591997,null,292040838.57959986,305182676.31568182,318915896.7498877]
["Medical Aid Contributions",null,60324132,64595282,66757456,99220988.740800261,99220988.740800261,99220988.740800261,null,182386765.12274992,190594169.55327374,199170907.18317097]
["Overtime",null,110825234,98511880,111164496,118566446.34599987,118566446.34599987,118566446.34599987,null,101319919.92825001,105879316.32502124,110643885.55964722]
["13th cheque",null,61359735,64975282,67213811,null,0,0,null,87902301.744450003,91857905.322950244,95991511.062482953]
["Motor Vehicle Allowance",null,26958168,28395386,28808315,31525437.173350025,31525437.173350025,31525437.173350025,null,39130534.922499992,40892648.994012497,42733468.578743063]
["Cellphone Allowance",null,7624060,8020656,19407716,4756700.5283999955,4756700.5283999955,4756700.5283999955,null,5311674.2833499992,5550699.6261007488,5800481.1092752842]
["Housing Allowances",null,4128372,4340295,4244809,4756700.5283999955,4756700.5283999955,4756700.5283999955,null,74941667.957649991,78314043.015744254,81838174.951452732]
["Other benefits and allowances",null,40028579,35661229,38153073,39671099.252399698,39671099.252399698,39671099.252399698,null,39950483.127450019,41748254.868185237,43626926.337253593]
["Payments in lieu of leave",null,18610702,25686752,19775085,3368865.3725999999,3368865.3725999999,3368865.3725999999,null,0,0,0]
["Long service awards",null,27903119,27310468,27794892,16155427.392600019,16155427.392600019,16155427.392600019,null,18329951.142449994,19154798.943860244,20016764.896333955]
["Post-retirement benefit obligations",4,60780815,56899000,62450000,null,0,null,null,0,0,0]
["Entertainment"]
["Scarcity",null,6244215,7132745,7385411]
["Acting and post related allowance",null,13332428,16625381,17961606]
["In kind benefits"]
["sub-total",5,{"$f":"SUM(C53:C68)","v":1345486985},{"$f":"SUM(D53:D68)","v":1418425769},1494486747,1579699178.3249986,1621248373.1299989,1621248373.1299989,0,1793148355,1856685849,1927749152.9999998]
["Less: Employees costs capitalised to PPE"]
[{"$f":"\"Total \"&A52","v":"Total Employee related costs"},1,{"$f":"C69-C70","v":1345486985},{"$f":"D69-D70","v":1418425769},1494486747,1579699178.3249986,1621248373.1299989,1621248373.1299989,0,1793148355,1856685849,1927749152.9999998]
[]
[]
[]
[]
[]
[]
[{"$f":"'A4-FinPerf RE'!A39","v":"Depreciation and amortisation"}]
["Depreciation of Property, Plant & Equipment",null,417614094,372532037,366625069,441964212.52200043,441737790.63000011,441737790.63000011,null,461615984,482388711,504096199]
["Lease amortisation",null,null,null,null,null,0,0]
["Capital asset impairment",null,null,null,null,null,0,0]
[]
[{"$f":"\"Total \"&LEFT(A78,35)","v":"Total Depreciation and amortisation"},1,{"$f":"SUM(C79:C81)","v":417614094},{"$f":"SUM(D79:D81)","v":372532037},366625069,441964212.52200043,441737790.63000011,441737790.63000011,0,461615984,482388711,504096199]
[]
["Bulk purchases - electricity"]
["Electricity bulk purchases",null,2491126597,2659404299,2950207305,2200000000,2300000000,2300000000,null,2514000000,3066819999.9999995,3526842999.999999]
[]
["Total bulk purchases",1,{"$f":"SUM(C86:C87)","v":2491126597},{"$f":"SUM(D86:D87)","v":2659404299},2950207305,2200000000,2300000000,2300000000,0,2514000000,3066819999.9999995,3526842999.999999]
[]
["Transfers and grants"]
["Cash transfers and grants",null,{"$f":"'SA21'!C32","v":25306678},{"$f":"'SA21'!D32","v":16870305},{"$f":"'SA21'!E32","v":19995785},{"$f":"'SA21'!F32","v":63469171.499117002},{"$f":"'SA21'!G32","v":53651931.489999987},{"$f":"'SA21'!H32","v":53651931.489999987},{"$f":"'SA21'!I32","v":0},{"$f":"'SA21'!J32","v":51023535.286639996},{"$f":"'SA21'!K32","v":53395331.347425342},{"$f":"'SA21'!L32","v":55899093.667858809}]
["Non-cash transfers and grants",null,{"$f":"'SA21'!C63","v":0},{"$f":"'SA21'!D63","v":0},{"$f":"'SA21'!E63","v":0},{"$f":"'SA21'!F63","v":0},{"$f":"'SA21'!G63","v":0},{"$f":"'SA21'!H63","v":0},{"$f":"'SA21'!I63","v":0},{"$f":"'SA21'!J63","v":0},{"$f":"'SA21'!K63","v":0},{"$f":"'SA21'!L63","v":0}]
["Total transfers and grants",1,{"$f":"SUM(C91:C92)","v":25306678},{"$f":"SUM(D91:D92)","v":16870305},19995785,63469171.499117002,53651931.489999987,53651931.489999987,0,51023535.286639996,53395331.347425342,55899093.667858809]
[]
["Contracted Services"]
["Outsourced Services",null,23049402,26036599,29180975,664656776.77958131,755248230.55400014,755248230.55400014,null,994887837,1049323573,1097750641]
["Consultants and Professional Services"]
["Contractors",null,472440581.99999905,549627353,693572911]
[]
[]
[]
[]
[]
[]
[]
[]
[]
[]
[]
[]
[]
[]
[]
[]
[]
[]
[]
[]
[]
[]
[]
[]
[]
[]
[]
[]
["Total contracted services",null,{"$f":"SUM(C96:C98)","v":495489983.99999905},{"$f":"SUM(D96:D98)","v":575663952},722753886,664656776.77958131,755248230.55400014,755248230.55400014,0,994887837,1049323573,1097750641]
[]
["Operational Costs"]
["Collection costs"]
["Contributions to 'other' provisions"]
[]
["Audit fees"]
[]
[]
["Other Operational Costs",null,136748409,128891893,121311526,179999999.94215006,197272996.85649997,197272996.85649997,null,215382233,225684860,236252431]
[]
[]
[]
[]
[]
[]
[]
[]
[]
[]
[]
[]
[]
[]
[]
[]
[]
[]
[]
[]
["Total Operational Costs",1,{"$f":"+C130+C131+C133+C136","v":136748409},{"$f":"+D130+D131+D133+D136","v":128891893},121311526,179999999.94215006,197272996.85649997,197272996.85649997,0,215382233,225684860,236252431]
[]
["Repairs and Maintenance by Expenditure Item",8]
["Employee related costs",null,null,null,null,215000000,215000000,215000000]
["Inventory Consumed (Project Maintenance)",null,null,null,null,null,37797496.788000003,37797496.788000003,null,100689568.69751999,92595693.847800955,102645746.94257542]
["Contracted Services",null,null,null,null,226784824,197998604.93900001,197998604.93900001,null,464042757.49103999,445738053.64081228,489851883.76180941]
["Other Expenditure",null,null,null,null,64182000,10901632.936000004,10901632.936000004,null,11004150,12490435.272,14183260.184255999]
["Total Repairs and Maintenance Expenditure",9,{"$f":"SUM(C160:C163)","v":0},{"$f":"SUM(D160:D163)","v":0},0,505966824,461697734.66299999,461697734.66299999,0,575736476.18856001,550824182.7606132,606680890.88864076]
[]
[" Inventory Consumed"]
["Inventory Consumed - Water",null,{"$f":"-'SA3'!C37","v":-37756},{"$f":"-'SA3'!D37","v":-1883024},{"$f":"-'SA3'!E37","v":0},{"$f":"-'SA3'!F37","v":770802248.73249531},{"$f":"-'SA3'!G37","v":0},{"$f":"-'SA3'!H37","v":0},{"$f":"-'SA3'!I37","v":0},{"$f":"-'SA3'!P37","v":807480597.01989996},{"$f":"-'SA3'!Q37","v":847047146.273875},{"$f":"-'SA3'!R37","v":886858362.14874697},null,null,null,970434015.44253993,1017985282.199224,1065830590.462588]
["Inventory Consumed - Other",null,{"$f":"-'SA3'!C66-'SA3'!C75-'SA3'!C82-'SA3'!C90-'SA3'!C98","v":57199347},{"$f":"-'SA3'!D66-'SA3'!D75-'SA3'!D82-'SA3'!D90-'SA3'!D98","v":60041345},{"$f":"-'SA3'!E66-'SA3'!E75-'SA3'!E82-'SA3'!E90-'SA3'!E98","v":84353466},{"$f":"-'SA3'!F66-'SA3'!F75-'SA3'!F82-'SA3'!F90-'SA3'!F98","v":-100706948.4821659},{"$f":"-'SA3'!G66-'SA3'!G75-'SA3'!G82-'SA3'!G90-'SA3'!G98","v":0},{"$f":"-'SA3'!H66-'SA3'!H75-'SA3'!H82-'SA3'!H90-'SA3'!H98","v":0},{"$f":"-'SA3'!I66-'SA3'!I75-'SA3'!I82-'SA3'!I90-'SA3'!I98","v":0},{"$f":"-'SA3'!P66-'SA3'!P75-'SA3'!P82-'SA3'!P90-'SA3'!P98","v":163148438.98010007},{"$f":"-'SA3'!Q66-'SA3'!Q75-'SA3'!Q82-'SA3'!Q90-'SA3'!Q98","v":171142719.726125},{"$f":"-'SA3'!R66-'SA3'!R75-'SA3'!R82-'SA3'!R90-'SA3'!R98","v":179186417.85125303},null,null,null,970629036,1018189866,1066044780]
["Total Inventory Consumed & Other Material",null,{"$f":"SUM(C167:C168)","v":57161591},58158321,84353466,670095300.25032938,0,0,0,{"$f":"SUM(J167:J168)","v":970629036},1018189866,1066044780]
[null,null,null,null,null,null,null,null,null,null,null,null,null,null,null,{"$f":"P168-P167","v":195020.55746006966},{"$f":"Q168-Q167","v":204583.80077600479},214189.53741204739]
["check",null,{"$f":"C164-SA34c!C175","v":-57161591},{"$f":"D164-SA34c!D175","v":-111339565.78999999},{"$f":"E164-SA34c!E175","v":-238603531.13999999},{"$f":"F164-SA34c!F175","v":-262.11728000640869},{"$f":"G164-SA34c!G175","v":214999999.99999994},{"$f":"H164-SA34c!H175","v":214999999.99999994},null,{"$f":"J164-SA34c!I175","v":2450000},{"$f":"K164-SA34c!J175","v":-49762780.761186123},{"$f":"L164-SA34c!K175","v":-23365955.91868329}]
[{"$f":"head27a","v":"References"}]
["1. Must reconcile with 'Budgeted Financial Performance (Revenue and Expenditure)"]
["2. Must reconcile to supporting documentation on staff salaries"]
[]
["4. Expenditure to meet any 'unfunded obligations'"]
["5 This sub-total must agree with the total on SA22, but excluding councillor and board member items"]
["6. Include a note for each revenue item that is affected by 'revenue foregone'"]
[]
["8. Repairs and Maintenance is not a GRAP item. However to facilitate transparency, municipalities must provide a breakdown of the amounts included in the relevant GRAP items that will be spent on Repairs and Maintenance."]
["9. Must reconcile with Repairs and Maintenance by Asset Class (Total Repairs and Maintenance) on Table SA34c."]

{"sheet":"SA2","index":20,"n_rows":54,"n_cols":18,"rows_kept":54,"cut":false,"hidden":false,"merged":[[1,16,2,16],[1,17,2,17],[1,8,2,8],[1,9,2,9],[1,10,2,10],[1,11,2,11],[1,12,2,12],[1,13,2,13],[1,14,2,14],[1,15,2,15],[1,6,2,6],[1,7,2,7],[1,2,2,2],[1,3,2,3],[1,4,2,4],[1,5,2,5]]}
[{"$f":"muni&\" - \"&TableA2","v":"0 - Supporting Table SA2 Matrix Financial Performance Budget (revenue source/expenditure type and dept.)"}]
[{"$f":"desc","v":"Description"},{"$f":"head27","v":"Ref"},{"$f":"'A3-FinPerf V'!A5","v":"Vote 1 - City Manager"},{"$f":"'A3-FinPerf V'!A6","v":"Vote 2 - City Finance"},{"$f":"'A3-FinPerf V'!A7","v":"Vote 3 - Corporate Services"},{"$f":"'A3-FinPerf V'!A8","v":"Vote 4 - Community Services and Social Equity"},{"$f":"'A3-FinPerf V'!A9","v":"Vote 5 - Infrastructure Services"},{"$f":"'A3-FinPerf V'!A10","v":"Vote 6 - Sustainable Development and City Enterprises"},{"$f":"'A3-FinPerf V'!A11","v":"Vote 7 - Electricity"},{"$f":"'A3-FinPerf V'!A12","v":"Vote 8 - [NAME OF VOTE 8]"},{"$f":"'A3-FinPerf V'!A13","v":"Vote 9 - [NAME OF VOTE 9]"},{"$f":"'A3-FinPerf V'!A14","v":"Vote 10 - [NAME OF VOTE 10]"},{"$f":"'A3-FinPerf V'!A15","v":"Vote 11 - [NAME OF VOTE 11]"},{"$f":"'A3-FinPerf V'!A16","v":"Vote 12 - [NAME OF VOTE 12]"},{"$f":"'A3-FinPerf V'!A17","v":"Vote 13 - [NAME OF VOTE 13]"},{"$f":"'A3-FinPerf V'!A18","v":"Vote 14 - [NAME OF VOTE 14]"},{"$f":"'A3-FinPerf V'!A19","v":"Vote 15 - [NAME OF VOTE 15]"},"Total"]
["R thousand",1,"R'000","R'000","R'000","R'000","R'000","R'000",null,null,null,null,null,null,null,null,"R'000","R'000"]
["Revenue"]
["Exchange Revenue"]
["Service charges - Electricity",null,null,null,null,null,null,null,null,null,null,null,null,null,null,null,null,{"$f":"SUM(C6:Q6)","v":0}]
["Service charges - Water",null,null,null,null,null,null,null,null,null,null,null,null,null,null,null,null,0]
["Service charges - Waste Water Management",null,null,null,null,null,null,null,null,null,null,null,null,null,null,null,null,0]
["Service charges - Waste Management",null,null,null,null,null,null,null,null,null,null,null,null,null,null,null,null,0]
["Sale of Goods and Rendering of Services",null,null,null,null,null,null,null,null,null,null,null,null,null,null,null,null,0]
["Agency services",null,null,null,null,null,null,null,null,null,null,null,null,null,null,null,null,0]
["Interest",null,null,null,null,null,null,null,null,null,null,null,null,null,null,null,null,0]
["Interest earned from Receivables",null,null,null,null,null,null,null,null,null,null,null,null,null,null,null,null,0]
["Interest earned from Current and Non Current Assets",null,null,null,null,null,null,null,null,null,null,null,null,null,null,null,null,0]
["Dividends",null,null,null,null,null,null,null,null,null,null,null,null,null,null,null,null,0]
["Rent on Land",null,null,null,null,null,null,null,null,null,null,null,null,null,null,null,null,0]
["Rental from Fixed Assets",null,null,null,null,null,null,null,null,null,null,null,null,null,null,null,null,0]
["Licence and permits",null,null,null,null,null,null,null,null,null,null,null,null,null,null,null,null,0]
["Operational Revenue",null,null,null,null,null,null,null,null,null,null,null,null,null,null,null,null,0]
["Non-Exchange Revenue"]
["Property rates",null,null,null,null,null,null,null,null,null,null,null,null,null,null,null,null,{"$f":"SUM(C21:Q21)","v":0}]
["Surcharges and Taxes",null,null,null,null,null,null,null,null,null,null,null,null,null,null,null,null,0]
["Fines, penalties and forfeits",null,null,null,null,null,null,null,null,null,null,null,null,null,null,null,null,0]
["Licences or permits",null,null,null,null,null,null,null,null,null,null,null,null,null,null,null,null,0]
["Transfer and subsidies - Operational",null,null,null,null,null,null,null,null,null,null,null,null,null,null,null,null,0]
["Interest",null,null,null,null,null,null,null,null,null,null,null,null,null,null,null,null,0]
["Fuel Levy",null,null,null,null,null,null,null,null,null,null,null,null,null,null,null,null,0]
["Operational Revenue",null,null,null,null,null,null,null,null,null,null,null,null,null,null,null,null,0]
["Gains on disposal of Assets",null,null,null,null,null,null,null,null,null,null,null,null,null,null,null,null,0]
["Other Gains",null,null,null,null,null,null,null,null,null,null,null,null,null,null,null,null,0]
["Discontinued Operations",null,null,null,null,null,null,null,null,null,null,null,null,null,null,null,null,0]
["Total Revenue (excluding capital transfers and contributions)",null,{"$f":"SUM(C6:C19)+SUM(C21:C31)","v":0},{"$f":"SUM(D6:D19)+SUM(D21:D31)","v":0},0,0,0,0,0,0,0,0,0,0,0,0,0,0]
["Expenditure"]
["Employee related costs",null,null,null,null,null,null,null,null,null,null,null,null,null,null,null,null,{"$f":"SUM(C34:Q34)","v":0}]
["Remuneration of councillors",null,null,null,null,null,null,null,null,null,null,null,null,null,null,null,null,0]
["Bulk purchases - electricity",null,null,null,null,null,null,null,null,null,null,null,null,null,null,null,null,0]
["Inventory consumed",null,null,null,null,null,null,null,null,null,null,null,null,null,null,null,null,0]
["Debt impairment",null,null,null,null,null,null,null,null,null,null,null,null,null,null,null,null,0]
["Depreciation and amortisation",null,null,null,null,null,null,null,null,null,null,null,null,null,null,null,null,0]
["Interest",null,null,null,null,null,null,null,null,null,null,null,null,null,null,null,null,0]
["Contracted services",null,null,null,null,null,null,null,null,null,null,null,null,null,null,null,null,0]
["Transfers and subsidies",null,null,null,null,null,null,null,null,null,null,null,null,null,null,null,null,0]
["Irrecoverable debts written off",null,null,null,null,null,null,null,null,null,null,null,null,null,null,null,null,0]
["Operational costs",null,null,null,null,null,null,null,null,null,null,null,null,null,null,null,null,0]
["Losses on disposal of Assets",null,null,null,null,null,null,null,null,null,null,null,null,null,null,null,null,0]
["Other Losses",null,null,null,null,null,null,null,null,null,null,null,null,null,null,null,null,0]
["Total Expenditure",null,{"$f":"SUM(C34:C46)","v":0},{"$f":"SUM(D34:D46)","v":0},0,0,0,0,0,0,0,0,0,0,0,0,0,0]
["Surplus/(Deficit)",null,{"$f":"+C32-C47","v":0},{"$f":"+D32-D47","v":0},0,0,0,0,0,0,0,0,0,0,0,0,0,0]
["Transfers and subsidies - capital (monetary allocations)",null,null,null,null,null,null,null,null,null,null,null,null,null,null,null,null,{"$f":"SUM(C49:Q49)","v":0}]
["Transfers and subsidies - capital (in-kind)",null,null,null,null,null,null,null,null,null,null,null,null,null,null,null,null,{"$f":"SUM(C50:Q50)","v":0}]
["Surplus/(Deficit) after capital transfers & contributions",null,{"$f":"SUM(C48:C50)","v":0},{"$f":"SUM(D48:D50)","v":0},0,0,0,0,0,0,0,0,0,0,0,0,0,0]
[{"$f":"head27a","v":"References"}]
["1. Departmental columns to be based on municipal organisation structure"]
["check balance",null,null,null,null,null,null,null,null,null,null,null,null,null,null,null,null,{"$f":"'A4-FinPerf RE'!J51-'SA2'!#REF!","v":{"$error":"#REF!"}}]

{"sheet":"SA3","index":21,"n_rows":187,"n_cols":21,"rows_kept":187,"cut":false,"hidden":false,"merged":[[1,0,2,0],[1,1,2,1],[1,15,1,17],[1,5,1,8]]}
[{"$f":"muni&\" - \"&TableA3","v":"0 - Supporting Table SA3 Supportinging detail to 'Budgeted Financial Position'"}]
[{"$f":"desc","v":"Description"},{"$f":"head27","v":"Ref"},{"$f":"head1b","v":"2019/20"},{"$f":"head1A","v":"2020/21"},{"$f":"Head1","v":"2021/22"},{"$f":"Head2","v":"Current Year 2022/23"},null,null,null,null,null,null,null,null,null,{"$f":"Head3","v":"2023/24 Medium Term Revenue & Expenditure Framework"}]
[null,null,{"$f":"Head5","v":"Audited Outcome"},{"$f":"Head5","v":"Audited Outcome"},{"$f":"Head5","v":"Audited Outcome"},{"$f":"Head6","v":"Original Budget"},{"$f":"Head7","v":"Adjusted Budget"},{"$f":"Head8","v":"Full Year Forecast"},{"$f":"Head5b","v":"Pre-audit outcome"},null,null,null,null,null,null,{"$f":"Head9","v":"Budget Year 2023/24"},{"$f":"Head10","v":"Budget Year +1 2024/25"},{"$f":"Head11","v":"Budget Year +2 2025/26"}]
["R thousand"]
["ASSETS"]
["Trade and other receivables from exchange transactions"," "]
["Electricity"," ",null,null,null,null,null,null,662250977,{"$f":"'A4-FinPerf RE'!G6","v":3183149702.3390446},{"$f":"'A4-FinPerf RE'!J6","v":3892818095.6607995},{"$f":"J7*95%","v":3023992217.2220922},{"$f":"K7*95%","v":3698177190.8777595},{"$f":"I7+J7+K7-L7-M7","v":1016049366.8999925},null,1016049366.8999922,1065835785.8780918,1115930063]
["Water"," ",null,null,null,null,null,null,2593343941,{"$f":"'A4-FinPerf RE'!G7","v":819610456.14892745},{"$f":"'A4-FinPerf RE'!J7","v":901571501.7650001},{"$f":"J8*95%","v":778629933.34148109},856492926.67675006,{"$f":"I8+J8+K8-L8-M8","v":2679403038.8956966},null,2689648169.5975714,2821440929.9078522,2954048654]
["Waste"," ",null,null,null,null,null,null,231938465,{"$f":"'A4-FinPerf RE'!G9","v":129665201.04918516},{"$f":"'A4-FinPerf RE'!J9","v":138741765.12349999},123181940.99672589,131804676.86732498,245358813.30863425,null,246473305.30863425,258550497.26875731,270702371]
["Waste Water"," ",null,null,null,null,null,null,420568791,{"$f":"'A4-FinPerf RE'!G8","v":174568855.12},{"$f":"'A4-FinPerf RE'!J8","v":202499871.93920001},165840412.36399999,192374878.34224001,439422227.35296011,null,439422227.35295999,460953916.49325502,-829923788]
["Other trade receivables from exchange transactions"," ",531584562,128584600,21116337,5386316513.8581543,null,null,{"$f":"296431437","v":296431437},null,null,null,null,null,null,296431437,310956577.41299999,850203328]
["Gross: Trade and other receivables from exchange transactions"," ",{"$f":"SUM(C7:C11)","v":531584562},{"$f":"SUM(D7:D11)","v":128584600},21116337,5386316513.8581543,0,0,4204533611,null,null,null,null,null,null,4688024506.1591578,4917737706.9609566,4360960628]
["Less: Impairment for debt"," ",{"$f":"SUM(C14:C18)","v":0},{"$f":"SUM(D14:D18)","v":-108902893},0,-3604625307.718154,2421823373.5655332,2421823373.5655332,0,null,null,null,null,null,null,-3391769361.1591558,-3557966059.8559542,-3570209939.4613881]
["Impairment for Electricity"," ",null,null,null,null,null,null,null,268123516,{"$f":"J7*5%","v":159157485.11695224},{"$f":"K7*5%","v":194640904.78303999},{"$f":"J14+K14+L14","v":621921905.89999223},null,null,-621921905.89999199,-652396079.28909159,-683058695.01567888]
["Impairment for Water"," ",null,null,null,null,null,null,null,1956995417,{"$f":"J8*5%","v":40980522.807446375},45078575.088250011,{"$f":"J15+K15+L15","v":2043054514.8956964},null,null,-2053299645.5975699,-2153911328.2318506,-2255145160.6587477]
["Impairment for Waste"," ",null,null,null,null,null,null,null,166177986,6483260.0524592586,6937088.2561750002,179598334.30863428,null,null,-179598334.30863401,-188398652.68975708,-197253389.36617565]
["Impairment for Waste Water"," ",null,null,null,null,null,null,null,301853977,8728442.756000001,10124993.596960001,320707413.35295999,null,null,-320707413.35295999,-336422076.60725498,-197253389]
["Impairment for other trade receivalbes from exchange transactions"," ",null,-108902893,null,-3604625307.718154,2421823373.5655332,2421823373.5655332,null,null,null,null,null,null,null,-216242062,-226837923.03799999,-237499305.42078596]
["Total net Trade and other receivables from Exchange Transactions"," ",{"$f":"+C12+C13","v":531584562},{"$f":"+D12+D13","v":19681707},21116337,1781691206.1400003,2421823373.5655332,2421823373.5655332,4204533611,null,null,null,null,null,null,1296255145.0000019,1359771647.1050024,790750688.53861189]
[" "," "]
["Receivables from non-exchange transactions"," "]
["Property rates"," ",1451868358,1224045893,null,null,null,null,null,null,null,null,null,null,null,1501815101.14923,1575404041.1055422,1649448031.0375025]
["Less: Impairment of Property rates"," ",null,-681266285,null,null,null,null,null,null,null,null,null,null,null,-839690884,-880835737.31599998,-922235016.96985197]
["Net Property rates"," ",{"$f":"+C22+C23","v":1451868358},{"$f":"+D22+D23","v":542779608},0,0,0,0,0,null,null,null,null,null,null,662124217.14923,694568303.7895422,727213014.06765056]
["Other receivables from non-exchange transactions"," ",null,93829368,516960589,null,null,null,null,null,null,null,null,null,null,112403546.42399999,-133152936,-139411124]
["Impairment for other receivalbes from non-exchange transactions"," ",null,-91289299,null,null,null,null,null,null,null,null,null,null,null,-106222166.93699999,-111395796.43158299,-116620269.54885738]
["Net other receivables from non-exchange transactions"," ",{"$f":"+C25+C26","v":0},{"$f":"+D25+D26","v":2540069},516960589,0,0,0,0,null,null,null,null,null,null,6181379.4870000035,-244548732.43158299,-256031393.54885739]
["Total net Receivables from non-exchange transactions"," ",{"$f":"+C24+C27","v":1451868358},{"$f":"+D24+D27","v":545319677},516960589,0,0,0,0,null,null,null,null,null,null,668305596.63622999,450019571.35795921,471181620.51879317]
[" "," "]
["Inventory"]
["Water"]
["  Opening Balance",null,null,{"$f":"C61","v":-410878406},{"$f":"D61","v":-55278567},{"$f":"E61","v":34769499},{"$f":"E61","v":34769499},{"$f":"E61","v":34769499},{"$f":"E61","v":34769499},null,null,null,null,null,null,{"$f":"G61","v":34769499},{"$f":"P61","v":-772711098.01989996},{"$f":"Q61","v":-1619758244.2937751}]
["  System Input Volume",null,{"$f":"(SUM(C34:C36))","v":-410916162},{"$f":"(SUM(D34:D36))","v":353716815},90048066,871509197.21466136,0,0,0,null,null,null,null,null,null,0,0,0]
["      Water Treatment Works"]
["      Bulk Purchases",null,null,null,90048066]
["      Natural Sources",null,-410916162,353716815,null,871509197.21466136]
["  Authorised Consumption",6,{"$f":"C38+C47","v":37756},{"$f":"D38+D47","v":1883024},0,-770802248.73249531,0,0,0,null,null,null,null,null,null,-807480597.01989996,-847047146.273875,-886858362.14874697]
["      Billed Authorised Consumption",null,{"$f":"C43+C39","v":37756},{"$f":"D43+D39","v":1883024},0,-770802248.73249531,0,0,0,null,null,null,null,null,null,-807480597.01989996,-847047146.273875,-886858362.14874697]
["         Billed Metered Consumption",null,{"$f":"SUM(C40:C42)","v":37756},{"$f":"SUM(D40:D42)","v":1883024},0,-770802248.73249531,0,0,0,null,null,null,null,null,null,0,0,0]
["          Free Basic Water",null,37756,1883024,null,-871509197.21466136]
["          Subsidised Water",null,null,null,null,100706948.48216601]
["          Revenue Water"]
["         Billed Unmetered Consumption",null,{"$f":"SUM(C44:C46)","v":0},{"$f":"SUM(D44:D46)","v":0},0,0,0,0,0,null,null,null,null,null,null,-807480597.01989996,-847047146.273875,-886858362.14874697]
["          Free Basic Water"]
["          Subsidised Water"]
["          Revenue Water",null,null,null,null,null,null,null,null,null,null,null,null,null,null,-807480597.01989996,-847047146.273875,-886858362.14874697]
["     UnBilled Authorised Consumption",null,{"$f":"SUM(C48:C49)","v":0},{"$f":"SUM(D48:D49)","v":0},0,0,0,0,0,null,null,null,null,null,null,0,0,0]
["          Unbilled Metered Consumption"]
["          Unbilled Unmetered Consumption"]
["     Water Losses",null,{"$f":"C51+C54","v":0},{"$f":"D51+D54","v":0},0,0,0,0,0,null,null,null,null,null,null,0,0,0]
["         Apparent losses",null,{"$f":"SUM(C52:C53)","v":0},{"$f":"SUM(D52:D53)","v":0},0,0,0,0,0,null,null,null,null,null,null,0,0,0]
["           Unauthorised Consumption"]
["           Customer Meter Inaccuracies"]
["         Real losses",null,{"$f":"SUM(C55:C59)","v":0},{"$f":"SUM(D55:D59)","v":0},0,0,0,0,0,null,null,null,null,null,null,0,0,0]
["           Leakage on Transmission and Distribution Mains"]
["           Leakage and Overflows at Storage Tanks/Reservoirs"]
["           Leakage on Service Connections up to the point of Customer Meter"]
["           Data Transfer and Management Errors"]
["           Unavoidable Annual Real Losses"]
["  Non-revenue Water",null,{"$f":"C47+C50","v":0},{"$f":"D47+D50","v":0},0,0,0,0,0,null,null,null,null,null,null,0,0,0]
["  Closing Balance Water",null,{"$f":"C32+C33+C37+C50","v":-410878406},{"$f":"D32+D33+D37+D50","v":-55278567},34769499,135476447.48216605,34769499,34769499,34769499,null,null,null,null,null,null,-772711098.01989996,-1619758244.2937751,-2506616606.442522]
[]
["Agricultural"]
["  Opening Balance",null,null,{"$f":"C69","v":0},{"$f":"D69","v":0},{"$f":"E69","v":0},{"$f":"E69","v":0},{"$f":"E69","v":0},{"$f":"E69","v":0},null,null,null,null,null,null,{"$f":"G69","v":0},{"$f":"P69","v":0},{"$f":"Q69","v":0}]
["      Acquisitions"]
["      Issues",7]
["      Adjustments",8]
["      Write-offs",9]
["  Closing balance - Agricultural",null,{"$f":"SUM(C64:C68)","v":0},0,0,0,0,0,0,null,null,null,null,null,null,0,0,0]
[]
["Consumables"]
["Standard Rated"]
["  Opening Balance",null,null,{"$f":"C78","v":0},{"$f":"D78","v":0},{"$f":"E78","v":-84353466},{"$f":"E78","v":-84353466},{"$f":"E78","v":-84353466},{"$f":"E78","v":-84353466},null,null,null,null,null,null,{"$f":"G78","v":-84353466},{"$f":"P78","v":-84353466},{"$f":"Q78","v":-84353466}]
["      Acquisitions",null,null,null,null,66097558.006963424]
["      Issues",7,null,null,-84353466]
["      Adjustments",8]
["      Write-offs",9]
["  Closing balance - Consumables Standard Rated",null,{"$f":"SUM(C73:C77)","v":0},{"$f":"SUM(D73:D77)","v":0},-84353466,-18255907.993036576,-84353466,-84353466,-84353466,null,null,null,null,null,null,-84353466,-84353466,-84353466]
["Zero Rated"]
["  Opening Balance",null,null,{"$f":"C85","v":-398185879},{"$f":"D85","v":-425438614},{"$f":"E85","v":-425438614},{"$f":"E85","v":-425438614},{"$f":"E85","v":-425438614},{"$f":"E85","v":-425438614},null,null,null,null,null,null,{"$f":"G85","v":-425438614},{"$f":"P85","v":-425438614},{"$f":"Q85","v":-425438614}]
["      Acquisitions",null,null,32788610]
["      Issues",7,-398185879,-60041345]
["      Adjustments",8]
["      Write-offs",9]
["  Closing balance - Consumables Zero Rated",null,{"$f":"SUM(C80:C84)","v":-398185879},{"$f":"SUM(D80:D84)","v":-425438614},-425438614,-425438614,-425438614,-425438614,-425438614,null,null,null,null,null,null,-425438614,-425438614,-425438614]
[]
["Finished Goods"]
["  Opening Balance",null,null,{"$f":"C93","v":340986532},{"$f":"D93","v":340986532},{"$f":"E93","v":340986532},{"$f":"E93","v":340986532},{"$f":"E93","v":340986532},{"$f":"E93","v":340986532},null,null,null,null,null,null,{"$f":"G93","v":340986532},{"$f":"P93","v":340986532},{"$f":"Q93","v":340986532}]
["      Acquisitions",null,null,null,null,542286844.54680228]
["      Issues",7,340986532]
["      Adjustments",8]
["      Write-offs",9,null,null,null,-608384402.55376601]
["  Closing balance - Finished Goods",null,{"$f":"SUM(C88:C92)","v":340986532},{"$f":"SUM(D88:D92)","v":340986532},340986532,274888973.99303627,340986532,340986532,340986532,null,null,null,null,null,null,340986532,340986532,340986532]
[]
["Materials and Supplies"]
["  Opening Balance",null,null,{"$f":"C101","v":0},{"$f":"D101","v":33401053},{"$f":"E101","v":33401053},{"$f":"E101","v":33401053},{"$f":"E101","v":33401053},{"$f":"E101","v":33401053},null,null,null,null,null,null,{"$f":"G101","v":33401053},{"$f":"P101","v":-129747385.98010007},{"$f":"Q101","v":-300890105.70622504}]
["      Acquisitions",null,null,33401053]
["      Issues",7,null,null,null,100706948.4821659,null,null,null,null,null,null,null,null,null,-163148438.98010007,-171142719.726125,-179186417.85125303]
["      Adjustments",8,null,null,null,-100706948.48216601]
["      Write-offs",9]
["  Closing balance - Materials and Supplies",null,{"$f":"SUM(C96:C100)","v":0},{"$f":"SUM(D96:D100)","v":33401053},33401053,33401052.999999896,33401053,33401053,33401053,null,null,null,null,null,null,-129747385.98010007,-300890105.70622504,-480076523.55747807]
[]
["Work-in-progress"]
["  Opening Balance",null,null,{"$f":"C107","v":0},{"$f":"D107","v":460129465},{"$f":"E107","v":460129465},{"$f":"E107","v":460129465},{"$f":"E107","v":460129465},{"$f":"E107","v":460129465},null,null,null,null,null,null,{"$f":"G107","v":460129465},{"$f":"P107","v":460129465},{"$f":"Q107","v":460129465}]
["      Materials",null,null,460129465]
["      Transfers"]
["  Closing balance - Work-in-progress",null,{"$f":"SUM(C104:C106)","v":0},{"$f":"SUM(D104:D106)","v":460129465},460129465,460129465,460129465,460129465,460129465,null,null,null,null,null,null,460129465,460129465,460129465]
[]
["Housing Stock"]
["  Opening Balance",null,null,{"$f":"C114","v":0},{"$f":"D114","v":0},{"$f":"E114","v":0},{"$f":"E114","v":0},{"$f":"E114","v":0},{"$f":"E114","v":0},null,null,null,null,null,null,{"$f":"G114","v":0},{"$f":"P114","v":0},{"$f":"Q114","v":0}]
["      Acquisitions"]
["      Transfers"]
["      Sales",null,null,null,null,null,null,null,{"$f":"I112-F123","v":-173496047.05902398}]
["  Closing Balance - Housing Stock",null,{"$f":"+SUM(C110:C113)","v":0},{"$f":"+SUM(D110:D113)","v":0},0,0,0,0,-173496047.05902398,null,null,null,null,null,null,0,0,0]
[]
["Land"]
["  Opening Balance",null,null,{"$f":"C122","v":0},{"$f":"D122","v":0},{"$f":"E122","v":0},{"$f":"E122","v":0},{"$f":"E122","v":0},{"$f":"E122","v":0},null,null,null,null,null,null,{"$f":"G122","v":-257777371.06598079},{"$f":"P122","v":-257777371.06598079},{"$f":"Q122","v":-257777371.06598079}]
["      Acquisitions"]
["      Sales"]
["      Adjustments",null,null,null,null,-286705370.42314166,-257777371.06598079,-257777371.06598079]
["     Correction of  Prior period errors"]
["  Closing Balance - Land",null,{"$f":"SUM(C117:C121)","v":0},{"$f":"SUM(D117:D121)","v":0},0,-286705370.42314166,-257777371.06598079,-257777371.06598079,0,null,null,null,null,null,null,-257777371.06598079,-257777371.06598079,-257777371.06598079]
["Closing Balance - Inventory & Consumables",null,{"$f":"C61+C69+C78+C85+C93+C101+C107+C114+C122","v":-468077753},{"$f":"D61+D69+D78+D85+D93+D101+D107+D114+D122","v":353799869},359494469,173496047.05902398,101717097.93401921,101717097.93401921,185998421.94097602,null,null,null,null,null,null,-868911938.06598067,-1887101804.0659809,-2953146584.0659809]
[]
["Property, plant and equipment (PPE)"]
["PPE at cost/valuation (excl. finance leases)",null,11135339557,11702088444,7292398749,9948298286,6825684086,6825684086,null,null,{"$f":"'A5-Capex'!G74+'A5-Capex'!G74+'A5-Capex'!J74+12380001578","v":14202731620.09},null,null,null,null,13327507066.045,14182448256.045,15076811376.045]
["Leases recognised as PPE",3,null,null,null,0,null,null,null,null,{"$f":"5439566567+'A4-FinPerf RE'!G39+'A4-FinPerf RE'!J39","v":6342920341.6300001},null,null,null,null,null,null,null,null,null,{"$f":"R129-U128","v":6492186711}]
["Less: Accumulated depreciation",null,4546445049,-4920436601,-375342552,2822614200,null,null,null,null,{"$f":"K126-K127","v":7859811278.46},null,null,null,null,5396619219.0450001,6548030354.0450001,8584624665.0450001]
[{"$f":"\"Total \"&A125","v":"Total Property, plant and equipment (PPE)"},2,{"$f":"SUM(C126:C127)-C128","v":6588894508},{"$f":"SUM(D126:D128)","v":6781651843},{"$f":"SUM(E126:E128)","v":6917056197},{"$f":"SUM(F126:F127)-F128","v":7125684086},6825684086,6825684086,0,null,null,null,null,null,null,7930887847,7634417902,6492186711]
[]
["LIABILITIES"]
[{"$f":"'A6-FinPos'!A28&\" - \"&'A6-FinPos'!A30","v":"Current liabilities - Financial liabilities"}]
["Short term loans (other than bank overdraft)",null,113418257.92,81573484,79162900,101622094.59,180784994.59,180784994.59,null,null,null,null,null,null,null,0]
["Current portion of long-term liabilities",null,null,null,null,null,null,null,null,79162900,{"$f":"J134*1.053","v":83358533.699999988},null,null,null,null,83358533.699999988,87443101.851299986,91552927.638311073]
[{"$f":"\"Total \"&A132","v":"Total Current liabilities - Financial liabilities"},null,{"$f":"SUM(C133:C134)","v":113418257.92},{"$f":"SUM(D133:D134)","v":81573484},79162900,101622094.59,180784994.59,180784994.59,0,null,null,null,null,null,null,83358533.699999988,87443101.851299986,91552927.638311073]
[]
[{"$f":"'A6-FinPos'!A32","v":"Trade and other payables from exchange transactions"}]
["Trade and other payables from exchange transactions",5,null,null,null,1106988000,null,null,null,1924176947,null,null,null,null,null,1755228675,1841234880.0749998,1927772919.4385247]
["Other trade payables from exchange transactions"]
["Trade payables from Non-exchange transactions: Unspent conditional Grants",null,null,null,null,null,null,null,null,136087525]
["Trade payables from Non-exchange transactions: Other",null,null,null,null,null,null,null,null,20091631]
["VAT",null,null,null,null,null,null,null,null,177972445]
[{"$f":"\"Total \"&A137","v":"Total Trade and other payables from exchange transactions"},2,{"$f":"SUM(C138:C142)","v":0},0,0,1106988000,0,0,0,null,null,null,null,null,null,1755228675,1841234880.0749998,{"$f":"SUM(R138:R142)","v":1927772919.4385247}]
["Non current liabilities - Financial liabilities"]
["Borrowing",4,285317995.64999998,null,null,null,null,null,null,null,null,null,null,null,null,131184437.43599999,137612474.87036398,144080261.18927109]
["Other financial liabilities",null,null,203744512,589320000,499353485.44999999,623935097.45000005,623935097.45000005]
["Total Non current liabilities - Financial liabilities",null,{"$f":"SUM(C145:C146)","v":285317995.64999998},{"$f":"SUM(D145:D146)","v":203744512},589320000,499353485.44999999,623935097.45000005,623935097.45000005,0,null,null,null,null,null,null,131184437.43599999,137612474.87036398,144080261.18927109]
[]
["Provisions"]
["Retirement benefits"]
[]
["Refuse landfill site rehabilitation",null,null,55141588,null,null,null,null,null,null,null,null,null,null,null,75576254.600000009,631407144,83005627.155943811]
["Other",null,531179840,null,null,809779414.93056619,1460213122.9305663,1460213122.9305663]
[{"$f":"\"Total \"&A149","v":"Total Provisions"},null,{"$f":"+C150+C152+C153","v":531179840},55141588,0,809779414.93056619,1460213122.9305663,1460213122.9305663,{"$f":"+I150+I152+I153","v":0},null,null,null,null,null,null,{"$f":"+P150+P152+P153","v":75576254.600000009},631407144,83005627.155943811]
[]
["CHANGES IN NET ASSETS"]
[{"$f":"'A6-FinPos'!A47","v":"Accumulated surplus/(deficit)"}]
[{"$f":"A157&\" - opening balance\"","v":"Accumulated surplus/(deficit) - opening balance"},null,null,null,null,8355801662.9129982,6049349178.0770531,null,null,null,null,null,null,null,null,7850359014.849,8235026606.5766001,8622072857.0856991]
["GRAP adjustments",null,null,null,null,null,201831052]
["Restated balance",null,{"$f":"SUM(C158:C159)","v":0},{"$f":"SUM(D158:D159)","v":0},{"$f":"SUM(E158:E159)","v":0},{"$f":"SUM(F158:F159)","v":8355801662.9129982},6251180230.0770531,0,0,null,null,null,null,null,null,7850359014.849,8235026606.5766001,8622072857.0856991]
[{"$f":"'A4-FinPerf RE'!A48","v":"Surplus/(Deficit)"},null,{"$f":"'A4-FinPerf RE'!C56","v":223780153.00000095},{"$f":"'A4-FinPerf RE'!D56","v":54956400},{"$f":"'A4-FinPerf RE'!E56","v":-726982180},{"$f":"'A4-FinPerf RE'!F56","v":1042254477.0861617},{"$f":"'A4-FinPerf RE'!G56","v":810023855.25787044},{"$f":"'A4-FinPerf RE'!H56","v":810023855.25787044},{"$f":"'A4-FinPerf RE'!I56","v":0},null,null,null,null,null,null,{"$f":"'A4-FinPerf RE'!J56","v":865638385.21045899},{"$f":"'A4-FinPerf RE'!K56","v":815666605.19718862},{"$f":"'A4-FinPerf RE'!L56","v":1182647460.014183}]
[]
["Transfers to/from Reserves"]
["Depreciation offsets"]
["Other adjustments",null,7524777219,7458930993,7992330541,-1740992645.8599377,-1011854907.25787,5239325322.8191795,null,null,null,null,null,null,null,-2699333.0908393902,-6710949.0542964898,14311972.1485519]
["Accumulated Surplus/(Deficit)",1,{"$f":"SUM(C160:C165)","v":7748557372.000001},{"$f":"SUM(D160:D165)","v":7513887393},{"$f":"SUM(E160:E165)","v":7265348361},7657063494.1392231,6049349178.077054,6049349178.0770502,0,null,null,null,null,null,null,8713298066.9686203,9043982262.719492,9819032289.2484341]
["Reserves"]
["Housing Development Fund",null,null,95126533,105694250]
["Capital replacement",null,190847169,724892,785902]
["Self-insurance"]
["Other reserves",null,null,95137597]
["Revaluation",null,null,null,95350900,null,201831052,201831052,null,null,null,null,null,null,null,212528097.75599998,222941974.54604396,233420247.34970802]
["Total Reserves",2,{"$f":"SUM(C168:C172)","v":190847169},190989022,201831052,0,201831052,201831052,0,null,null,null,null,null,null,212528097.75599998,222941974.54604396,233420247.34970802]
[{"$f":"'A6-FinPos'!A50","v":"TOTAL COMMUNITY WEALTH/EQUITY"},2,{"$f":"C166+C173","v":7939404541.000001},7704876415,7467179413,7657063494.1392231,6251180230.077054,6251180230.0770502,0,null,null,null,null,null,null,8925826164.7246208,9266924237.2655354,10052452536.598143]
[]
[{"$f":"head27a","v":"References"}]
[{"$f":"\"1. Must reconcile with \"&'Template names'!F103","v":"1. Must reconcile with Table A4 Budgeted Financial Performance (revenue and expenditure)"}]
[{"$f":"\"2. Must reconcile with \"&'Template names'!F105","v":"2. Must reconcile with Table A6 Budgeted Financial Position"}]
["3. Leases treated as assets to be depreciated as the same as purchased/constructed assets.  Includes PPP asset element accounted for as finance leases"]
["4. Borrowing must reconcile to Table A17"]
["5. Trade Payable should only include Trade Payables from Exchance Transactions (\"True Creditors\")"]
["6. Inventory Consumed - Water - included under \"Inventory Consumed\" on Table A4 - Detail to be submitted on Table SA1"]
["7. Inventry Consumed Other - included under \"Inventory Consumed\" on Table A4 - Detail to be submitted on Table SA1"]
["8. Inventory Transfers/Adjustments (Include under gains/losses on Table A4)"]
["9. Inventory Write-offs (Include under losses on Table A4)"]
[]
["check",null,{"$f":"C174-'A6-FinPos'!C50","v":0},{"$f":"D174-'A6-FinPos'!D50","v":0},{"$f":"E174-'A6-FinPos'!E50","v":0},{"$f":"F174-'A6-FinPos'!F50","v":2.75421142578125E-3},{"$f":"G174-'A6-FinPos'!G50","v":0},{"$f":"H174-'A6-FinPos'!H50","v":0},{"$f":"I174-'A6-FinPos'!I50","v":0},null,null,null,null,null,null,{"$f":"P174-'A6-FinPos'!J50","v":-798593526.0313797},{"$f":"Q174-'A6-FinPos'!K50","v":82709509.719491959},{"$f":"R174-'A6-FinPos'!L50","v":1064901593.2484341}]

{"sheet":"SA4","index":22,"n_rows":26,"n_cols":13,"rows_kept":26,"cut":false,"hidden":false,"merged":[[1,7,1,9],[1,10,1,12],[1,3,2,3]]}
[{"$f":"muni&\" - \"&TableA4","v":"0 - Supporting Table SA4 Reconciliation of IDP strategic objectives and budget (revenue)"}]
["Strategic Objective","Goal","Goal\nCode",{"$f":"head27","v":"Ref"},{"$f":"head1b","v":"2019/20"},{"$f":"head1A","v":"2020/21"},{"$f":"Head1","v":"2021/22"},{"$f":"Head2","v":"Current Year 2022/23"},null,null,{"$f":"Head3","v":"2023/24 Medium Term Revenue & Expenditure Framework"}]
["R thousand",null,null,null,{"$f":"Head5","v":"Audited Outcome"},{"$f":"Head5","v":"Audited Outcome"},{"$f":"Head5","v":"Audited Outcome"},{"$f":"Head6","v":"Original Budget"},{"$f":"Head7","v":"Adjusted Budget"},{"$f":"Head8","v":"Full Year Forecast"},{"$f":"Head9","v":"Budget Year 2023/24"},{"$f":"Head10","v":"Budget Year +1 2024/25"},{"$f":"Head11","v":"Budget Year +2 2025/26"}]
["Financial Viability and Management","Financially viable and well governed City ",null,null,1568361363.6850441,1733326540.558476,null,1917566487.3372741,1917566487.3372741,1917566487.3372741]
["Basic Service Delivery","Improved the state of municipal infrastructure ",null,null,3695954283.8546028,4278003770.4173894,null,4509054916.1888828,4509054916.1888828,4509054916.1888828]
["Local Economic Development","An economically prosperous city ",null,null,25585302.057215549,28276444.530472964,null,31612979.833012529,31612979.833012529,31612979.833012529]
["Good governance and Public Participation","To develop strong welcoming, caring & diverse communities living in a variety of friendly.",null,null,326136866.45986754,360440966.97283018,null,402971915.63896465,402971915.63896465,402971915.63896465]
["Gross Cutting Issues","Reduce housing backlogs and eliminate spatial separation by racial categories.",null,null,246271895.52758753,-484956848.21265012,null,592272950.24008846,592272950.24008846,592272950.24008846]
["Municipal Transformation and Institutional Development","Improved customer experience & public participation  ",null,null,87298638.525681123,93028412.073482588,null,104005484.55117223,104005484.55117223,104005484.55117223]
[]
[]
[]
[]
[]
[]
[]
[]
[]
[]
[]
["Allocations to other priorities",null,null,2]
[{"$f":"'A4-FinPerf RE'!A32","v":"Total Revenue (excluding capital transfers and contributions)"},null,null,1,{"$f":"SUM(E4:E21)","v":5949608350.1099997},6008119286.3400002,0,7557484733.7893953,7557484733.7893953,7557484733.7893953,0,0,0]
[{"$f":"head27a","v":"References"}]
[{"$f":"\"1. Total revenue must reconcile to \"&'Template names'!F103","v":"1. Total revenue must reconcile to Table A4 Budgeted Financial Performance (revenue and expenditure)"}]
["2. Balance of allocations not directly linked to an IDP strategic objective"]
["check op revenue balance",null,null,null,{"$f":"E22-'A4-FinPerf RE'!C32","v":462494772.10999966},{"$f":"F22-'A4-FinPerf RE'!D32","v":467763643.34000015},{"$f":"G22-'A4-FinPerf RE'!E32","v":-5853712620},{"$f":"H22-'A4-FinPerf RE'!F32","v":506714472.33452511},{"$f":"I22-'A4-FinPerf RE'!G32","v":561847863.13452625},{"$f":"J22-'A4-FinPerf RE'!H32","v":561847863.13452625},{"$f":"K22-'A4-FinPerf RE'!I32","v":0},{"$f":"L22-'A4-FinPerf RE'!J32","v":-8120726125.2604589},{"$f":"M22-'A4-FinPerf RE'!K32","v":-8981585804.9971886}]

{"sheet":"SA5","index":23,"n_rows":27,"n_cols":13,"rows_kept":27,"cut":false,"hidden":false,"merged":[[1,7,1,9],[1,10,1,12],[1,3,2,3]]}
[{"$f":"muni&\" - \"&TableA5","v":"0 - Supporting Table SA5 Reconciliation of IDP strategic objectives and budget (operating expenditure)"}]
["Strategic Objective","Goal","Goal\nCode",{"$f":"head27","v":"Ref"},{"$f":"head1b","v":"2019/20"},{"$f":"head1A","v":"2020/21"},{"$f":"Head1","v":"2021/22"},{"$f":"Head2","v":"Current Year 2022/23"},null,null,{"$f":"Head3","v":"2023/24 Medium Term Revenue & Expenditure Framework"}]
["R thousand",null,null,null,{"$f":"Head5","v":"Audited Outcome"},{"$f":"Head5","v":"Audited Outcome"},{"$f":"Head5","v":"Audited Outcome"},{"$f":"Head6","v":"Original Budget"},{"$f":"Head7","v":"Adjusted Budget"},{"$f":"Head8","v":"Full Year Forecast"},{"$f":"Head9","v":"Budget Year 2023/24"},{"$f":"Head10","v":"Budget Year +1 2024/25"},{"$f":"Head11","v":"Budget Year +2 2025/26"}]
["Financial Viability and Management","Financially viable and well governed City ",null,null,526628472.77761632,601730025.62791312,null,651385498.43029404,651385498.43029404,651385498.43029404]
["Basic Service Delivery","Improved the state of municipal infrastructure ",null,null,1242698679.9342375,1419917735.5159242,null,1537091025.0222185,1537091025.0222185,1537091025.0222185]
["Local Economic Development","An economically prosperous city ",null,null,492897446.03773451,563188676.96593928,null,609663672.13093686,609663672.13093686,609663672.13093686]
["Good governance and Public Participation","To develop strong welcoming, caring & diverse communities living in a variety of friendly.",null,null,152526995.96322477,174278600.44448557,null,188660276.50490439,188660276.50490439,188660276.50490439]
["Gross Cutting Issues","Reduce housing backlogs and eliminate spatial separation by racial categories.",null,null,3299253564.2296128,3629446429.5101948,null,3974249099.0657892,3974249099.0657892,3974249099.0657892]
["Municipal Transformation and Institutional Development","Improved customer experience & public participation  ",null,null,12753289.517574305,14572013.525540538,null,15774513.301978219,15774513.301978219,15774513.301978219]
[]
[]
[]
[]
[]
[]
[]
[]
[]
[]
[]
[]
["Allocations to other priorities"]
[{"$f":"'A4-FinPerf RE'!A47","v":"Total Expenditure"},null,null,1,{"$f":"SUM(E4:E22)","v":5726758448.46},6403133481.5899973,0,6976824084.4561205,6976824084.4561205,6976824084.4561205,0,0,0]
[{"$f":"head27a","v":"References"}]
[{"$f":"\"1. Total expenditure must reconcile to \"&'Template names'!F103","v":"1. Total expenditure must reconcile to Table A4 Budgeted Financial Performance (revenue and expenditure)"}]
["2. Balance of allocations not directly linked to an IDP strategic objective"]
["check op expenditure balance",null,null,null,{"$f":"E23-'A4-FinPerf RE'!C47","v":33311274.460000992},{"$f":"F23-'A4-FinPerf RE'!D47","v":419130821.58999729},{"$f":"G23-'A4-FinPerf RE'!E47","v":-6949419417},{"$f":"H23-'A4-FinPerf RE'!F47","v":521877191.21741199},{"$f":"I23-'A4-FinPerf RE'!G47","v":353613827.10812187},{"$f":"J23-'A4-FinPerf RE'!H47","v":353613827.10812187},{"$f":"K23-'A4-FinPerf RE'!J47","v":-7703787795},{"$f":"L23-'A4-FinPerf RE'!K47","v":-8487228543},{"$f":"M23-'A4-FinPerf RE'!L47","v":-9183692958}]

{"sheet":"SA6","index":24,"n_rows":26,"n_cols":13,"rows_kept":26,"cut":false,"hidden":false,"merged":[[1,7,1,9],[1,10,1,12],[1,3,2,3]]}
[{"$f":"muni&\" - \"&TableA6","v":"0 - Supporting Table SA6 Reconciliation of IDP strategic objectives and budget (capital expenditure)"}]
["Strategic Objective","Goal","Goal Code",{"$f":"head27","v":"Ref"},{"$f":"head1b","v":"2019/20"},{"$f":"head1A","v":"2020/21"},{"$f":"Head1","v":"2021/22"},{"$f":"Head2","v":"Current Year 2022/23"},null,null,{"$f":"Head3","v":"2023/24 Medium Term Revenue & Expenditure Framework"}]
["R thousand",null,null,null,{"$f":"Head5","v":"Audited Outcome"},{"$f":"Head5","v":"Audited Outcome"},{"$f":"Head5","v":"Audited Outcome"},{"$f":"Head6","v":"Original Budget"},{"$f":"Head7","v":"Adjusted Budget"},{"$f":"Head8","v":"Full Year Forecast"},{"$f":"Head9","v":"Budget Year 2023/24"},{"$f":"Head10","v":"Budget Year +1 2024/25"},{"$f":"Head11","v":"Budget Year +2 2025/26"}]
["Financial Viability and Management","Financially viable and well governed City ","A",null,null,null,null,122777980.66907495,122777980.66907495,122777980.66907495]
["Basic Service Delivery","Improved the state of municipal infrastructure ","B",null,1568361363.6850441,1765095862.941958,null,2518315494.3232508,2518315494.3232508,2518315494.3232508]
["Local Economic Development","An economically prosperous city ","C",null,-1611110682.4853973,-1563709909.6746707,null,-2280663561.163991,-2280663561.163991,-2280663561.163991]
["Good governance and Public Participation","To develop strong welcoming, caring & diverse communities living in a variety of friendly.","D",null,25585302.057215549,28276444.530472964,null,31612979.833012529,31612979.833012529,31612979.833012529]
["Gross Cutting Issues","Reduce housing backlogs and eliminate spatial separation by racial categories.","E",null,326136866.45986754,360440966.97283018,null,402971915.63896465,402971915.63896465,402971915.63896465]
["Municipal Transformation and Institutional Development","Improved customer experience & public participation  ","F",null,86707715.337587968,95827905.319409549,null,102635309.56968786,102635309.56968786,102635309.56968786]
[null,null,"G"]
[null,null,"H"]
[null,null,"I"]
[null,null,"J"]
[null,null,"K"]
[null,null,"L"]
[null,null,"M"]
[null,null,"N"]
[null,null,"O"]
[null,null,"P"]
["Allocations to other priorities",null,null,3]
["Total Capital Expenditure",null,null,1,{"$f":"SUM(E4:E20)","v":395680565.05431777},685931270.08999991,0,897650118.86999989,897650118.86999989,897650118.86999989,0,0,0]
[{"$f":"head27a","v":"References"}]
["1. Total capital expenditure must reconcile to Budgeted Capital Expenditure"]
["2. Goal code must be used on Table SA36"]
["3. Balance of allocations not directly linked to an IDP strategic objective"]
["check capital balance",null,null,null,{"$f":"E21-'A5-Capex'!C40","v":-84174657.115682185},{"$f":"F21-'A5-Capex'!D40","v":0},{"$f":"G21-'A5-Capex'!E40","v":-521437241.45000011},{"$f":"H21-'A5-Capex'!F40","v":61731653.999999881},{"$f":"I21-'A5-Capex'!G40","v":370665124.82499993},{"$f":"J21-'A5-Capex'!H40","v":370665124.82499993},{"$f":"K21-'A5-Capex'!J40","v":-768760054},{"$f":"L21-'A5-Capex'!K40","v":-581309343.20000005},{"$f":"M21-'A5-Capex'!L40","v":-447881560}]

{"sheet":"SA7","index":25,"n_rows":89,"n_cols":11,"rows_kept":89,"cut":false,"hidden":false,"merged":[[1,1,2,1],[1,0,2,0],[1,5,1,7],[1,8,1,10],[87,0,87,10],[67,0,67,10],[72,0,73,0],[72,1,73,1],[72,5,72,7],[72,8,72,10]]}
[{"$f":"muni&\" - \"&TableA7","v":"0 - Supporting Table SA7 Measureable performance objectives"}]
["Description","Unit of measurement",{"$f":"head1b","v":"2019/20"},{"$f":"head1A","v":"2020/21"},{"$f":"Head1","v":"2021/22"},{"$f":"Head2","v":"Current Year 2022/23"},null,null,{"$f":"Head3","v":"2023/24 Medium Term Revenue & Expenditure Framework"}]
[null,null,{"$f":"Head5","v":"Audited Outcome"},{"$f":"Head5","v":"Audited Outcome"},{"$f":"Head5","v":"Audited Outcome"},{"$f":"Head6","v":"Original Budget"},{"$f":"Head7","v":"Adjusted Budget"},{"$f":"Head8","v":"Full Year Forecast"},{"$f":"Head9","v":"Budget Year 2023/24"},{"$f":"Head10","v":"Budget Year +1 2024/25"},{"$f":"Head11","v":"Budget Year +2 2025/26"}]
["Vote 1 - vote name"]
["Function 1 - (name)"]
["Sub-function 1 - (name)"]
["Insert measure/s description"]
[]
["Sub-function 2 - (name)"]
["Insert measure/s description"]
[]
["Sub-function 3 - (name)"]
["Insert measure/s description"]
[]
["Function 2 - (name)"]
["Sub-function 1 - (name)"]
["Insert measure/s description"]
[]
["Sub-function 2 - (name)"]
["Insert measure/s description"]
[]
["Sub-function 3 - (name)"]
["Insert measure/s description"]
[]
["Vote 2 - vote name"]
["Function 1 - (name)"]
["Sub-function 1 - (name)"]
["Insert measure/s description"]
[]
["Sub-function 2 - (name)"]
["Insert measure/s description"]
[]
["Sub-function 3 - (name)"]
["Insert measure/s description"]
[]
["Function 2 - (name)"]
["Sub-function 1 - (name)"]
["Insert measure/s description"]
[]
["Sub-function 2 - (name)"]
["Insert measure/s description"]
[]
["Sub-function 3 - (name)"]
["Insert measure/s description"]
[]
["Vote 3 - vote name"]
["Function 1 - (name)"]
["Sub-function 1 - (name)"]
["Insert measure/s description"]
[]
["Sub-function 2 - (name)"]
["Insert measure/s description"]
[]
["Sub-function 3 - (name)"]
["Insert measure/s description"]
[]
["Function 2 - (name)"]
["Sub-function 1 - (name)"]
["Insert measure/s description"]
[]
["Sub-function 2 - (name)"]
["Insert measure/s description"]
[]
["Sub-function 3 - (name)"]
["Insert measure/s description"]
[]
["And so on for the rest of the Votes"]
["1. Include a measurable performance objective for each revenue source (within a relevant function) and each vote (MFMA s17(3)(b))"]
["2. Include all Basic Services performance targets from 'Basic Service Delivery' to ensure Table SA7 represents all strategic responsibilities"]
["3. Only include prior year comparative information for individual measures where relevant activity occurred in that year/s"]
[]
[{"$f":"muni&\" - \"&\"Entities measureable performance objectives\"","v":"0 - Entities measureable performance objectives"}]
[{"$f":"A2","v":"Description"},"Unit of measurement",{"$f":"head1b","v":"2019/20"},{"$f":"head1A","v":"2020/21"},{"$f":"Head1","v":"2021/22"},{"$f":"Head2","v":"Current Year 2022/23"},null,null,{"$f":"Head3","v":"2023/24 Medium Term Revenue & Expenditure Framework"}]
[null,null,{"$f":"Head5","v":"Audited Outcome"},{"$f":"Head5","v":"Audited Outcome"},{"$f":"Head5","v":"Audited Outcome"},{"$f":"Head6","v":"Original Budget"},{"$f":"Head7","v":"Adjusted Budget"},{"$f":"Head8","v":"Full Year Forecast"},{"$f":"Head9","v":"Budget Year 2023/24"},{"$f":"Head10","v":"Budget Year +1 2024/25"},{"$f":"Head11","v":"Budget Year +2 2025/26"}]
["Entity 1 - (name of entity)"]
["Insert measure/s description"]
[]
[]
["Entity 2 - (name of entity)"]
[{"$f":"$A$10","v":"Insert measure/s description"}]
[]
[]
["Entity 3 - (name of entity)"]
[{"$f":"$A$10","v":"Insert measure/s description"}]
[]
[]
["And so on for the rest of the Entities"]
["1. Include a measurable performance objective as agreed with the parent municipality (MFMA s87(5)(d))"]
["2. Only include prior year comparative information for individual measures where relevant activity occurred in that year/s"]

{"sheet":"SA8","index":26,"n_rows":53,"n_cols":12,"rows_kept":53,"cut":false,"hidden":false,"merged":[[32,0,34,0],[1,0,2,0],[1,9,1,11],[1,1,2,1],[1,5,1,8],[25,0,28,0],[29,0,31,0]]}
[{"$f":"muni&\" - \"&TableA8","v":"0 - Supporting Table SA8 Performance indicators and benchmarks"}]
["Description of financial indicator","Basis of calculation",{"$f":"head1b","v":"2019/20"},{"$f":"head1A","v":"2020/21"},{"$f":"Head1","v":"2021/22"},{"$f":"Head2","v":"Current Year 2022/23"},null,null,null,{"$f":"Head3","v":"2023/24 Medium Term Revenue & Expenditure Framework"}]
[null,null,{"$f":"Head5","v":"Audited Outcome"},{"$f":"Head5","v":"Audited Outcome"},{"$f":"Head5","v":"Audited Outcome"},{"$f":"Head6","v":"Original Budget"},{"$f":"Head7","v":"Adjusted Budget"},{"$f":"Head8","v":"Full Year Forecast"},{"$f":"Head5b","v":"Pre-audit outcome"},{"$f":"Head9","v":"Budget Year 2023/24"},{"$f":"Head10","v":"Budget Year +1 2024/25"},{"$f":"Head11","v":"Budget Year +2 2025/26"}]
["Borrowing Management"]
[]
["Credit Rating"]
["Capital Charges to Operating Expenditure","Interest & Principal Paid /Operating Expenditure",{"$f":"IF(ISERROR(('A4-FinPerf RE'!C40-'A7-CFlow'!C34)/'A4-FinPerf RE'!C47),0,(('A4-FinPerf RE'!C40-'A7-CFlow'!C34)/'A4-FinPerf RE'!C47))","v":2.2362108070733463E-2},{"$f":"IF(ISERROR(('A4-FinPerf RE'!D40-'A7-CFlow'!D34)/'A4-FinPerf RE'!D47),0,(('A4-FinPerf RE'!D40-'A7-CFlow'!D34)/'A4-FinPerf RE'!D47))","v":2.4945554586367782E-2},{"$f":"IF(ISERROR(('A4-FinPerf RE'!E40-'A7-CFlow'!E34)/'A4-FinPerf RE'!E47),0,(('A4-FinPerf RE'!E40-'A7-CFlow'!E34)/'A4-FinPerf RE'!E47))","v":1.5611234621212963E-2},{"$f":"IF(ISERROR(('A4-FinPerf RE'!F40-'A7-CFlow'!F34)/'A4-FinPerf RE'!F47),0,(('A4-FinPerf RE'!F40-'A7-CFlow'!F34)/'A4-FinPerf RE'!F47))","v":1.8253158802842347E-2},{"$f":"IF(ISERROR(('A4-FinPerf RE'!G40-'A7-CFlow'!G34)/'A4-FinPerf RE'!G47),0,(('A4-FinPerf RE'!G40-'A7-CFlow'!G34)/'A4-FinPerf RE'!G47))","v":1.1421130787155299E-2},{"$f":"IF(ISERROR(('A4-FinPerf RE'!H40-'A7-CFlow'!H34)/'A4-FinPerf RE'!H47),0,(('A4-FinPerf RE'!H40-'A7-CFlow'!H34)/'A4-FinPerf RE'!H47))","v":1.1421130787155299E-2},{"$f":"IF(ISERROR(('A4-FinPerf RE'!I40-'A7-CFlow'!I34)/'A4-FinPerf RE'!I47),0,(('A4-FinPerf RE'!I40-'A7-CFlow'!I34)/'A4-FinPerf RE'!I47))","v":0},{"$f":"IF(ISERROR(('A4-FinPerf RE'!J40-'A7-CFlow'!J34)/'A4-FinPerf RE'!J47),0,(('A4-FinPerf RE'!J40-'A7-CFlow'!J34)/'A4-FinPerf RE'!J47))","v":8.2298320528129167E-3},{"$f":"IF(ISERROR(('A4-FinPerf RE'!K40-'A7-CFlow'!K34)/'A4-FinPerf RE'!K47),0,(('A4-FinPerf RE'!K40-'A7-CFlow'!K34)/'A4-FinPerf RE'!K47))","v":7.8021842174428591E-3},{"$f":"IF(ISERROR(('A4-FinPerf RE'!L40-'A7-CFlow'!L34)/'A4-FinPerf RE'!L47),0,(('A4-FinPerf RE'!L40-'A7-CFlow'!L34)/'A4-FinPerf RE'!L47))","v":7.6351380806571664E-3}]
["Capital Charges to Own Revenue","Finance charges & Repayment of borrowing /Own Revenue",{"$f":"IF(ISERROR(('A4-FinPerf RE'!C40-'A7-CFlow'!C34)/('A4-FinPerf RE'!C32-'A4-FinPerf RE'!C29)),0,(('A4-FinPerf RE'!C40-'A7-CFlow'!C34)/('A4-FinPerf RE'!C32-'A4-FinPerf RE'!C29)))","v":2.3769228386372906E-2},{"$f":"IF(ISERROR(('A4-FinPerf RE'!D40-'A7-CFlow'!D34)/('A4-FinPerf RE'!D32-'A4-FinPerf RE'!D29)),0,(('A4-FinPerf RE'!D40-'A7-CFlow'!D34)/('A4-FinPerf RE'!D32-'A4-FinPerf RE'!D29)))","v":2.6943083552515547E-2},{"$f":"IF(ISERROR(('A4-FinPerf RE'!E40-'A7-CFlow'!E34)/('A4-FinPerf RE'!E32-'A4-FinPerf RE'!E29)),0,(('A4-FinPerf RE'!E40-'A7-CFlow'!E34)/('A4-FinPerf RE'!E32-'A4-FinPerf RE'!E29)))","v":1.8546610154130311E-2},{"$f":"IF(ISERROR(('A4-FinPerf RE'!F40-'A7-CFlow'!F34)/('A4-FinPerf RE'!F32-'A4-FinPerf RE'!F29)),0,(('A4-FinPerf RE'!F40-'A7-CFlow'!F34)/('A4-FinPerf RE'!F32-'A4-FinPerf RE'!F29)))","v":1.6710680725241518E-2},{"$f":"IF(ISERROR(('A4-FinPerf RE'!G40-'A7-CFlow'!G34)/('A4-FinPerf RE'!G32-'A4-FinPerf RE'!G29)),0,(('A4-FinPerf RE'!G40-'A7-CFlow'!G34)/('A4-FinPerf RE'!G32-'A4-FinPerf RE'!G29)))","v":1.0813104221763133E-2},{"$f":"IF(ISERROR(('A4-FinPerf RE'!H40-'A7-CFlow'!H34)/('A4-FinPerf RE'!H32-'A4-FinPerf RE'!H29)),0,(('A4-FinPerf RE'!H40-'A7-CFlow'!H34)/('A4-FinPerf RE'!H32-'A4-FinPerf RE'!H29)))","v":1.0813104221763133E-2},{"$f":"IF(ISERROR(('A4-FinPerf RE'!I40-'A7-CFlow'!I34)/('A4-FinPerf RE'!I32-'A4-FinPerf RE'!I29)),0,(('A4-FinPerf RE'!I40-'A7-CFlow'!I34)/('A4-FinPerf RE'!I32-'A4-FinPerf RE'!I29)))","v":0},{"$f":"IF(ISERROR(('A4-FinPerf RE'!J40-'A7-CFlow'!J34)/('A4-FinPerf RE'!J32-'A4-FinPerf RE'!J29)),0,(('A4-FinPerf RE'!J40-'A7-CFlow'!J34)/('A4-FinPerf RE'!J32-'A4-FinPerf RE'!J29)))","v":7.807291952149964E-3},{"$f":"IF(ISERROR(('A4-FinPerf RE'!K40-'A7-CFlow'!K34)/('A4-FinPerf RE'!K32-'A4-FinPerf RE'!K29)),0,(('A4-FinPerf RE'!K40-'A7-CFlow'!K34)/('A4-FinPerf RE'!K32-'A4-FinPerf RE'!K29)))","v":7.3727426342887203E-3},{"$f":"IF(ISERROR(('A4-FinPerf RE'!L40-'A7-CFlow'!L34)/('A4-FinPerf RE'!L32-'A4-FinPerf RE'!L29)),0,(('A4-FinPerf RE'!L40-'A7-CFlow'!L34)/('A4-FinPerf RE'!L32-'A4-FinPerf RE'!L29)))","v":6.9850128208384975E-3}]
["Borrowed funding of 'own' capital expenditure","Borrowing/Capital expenditure excl. transfers and grants and contributions",{"$f":"IF(ISERROR(C53/C52),0,(C53/C52))","v":0},{"$f":"IF(ISERROR(D53/D52),0,(D53/D52))","v":0},{"$f":"IF(ISERROR(E53/E52),0,(E53/E52))","v":0},0.76931488888236277,0,0,0,0.62488283632331032,0.57692307692307676,0]
["Safety of Capital"]
["Gearing","Long Term Borrowing/ Funds & Reserves",{"$f":"IF(ISERROR(('A6-FinPos'!C41/'A6-FinPos'!C48)),0,(('A6-FinPos'!C41/'A6-FinPos'!C48)))","v":0},{"$f":"IF(ISERROR(('A6-FinPos'!D41/'A6-FinPos'!D48)),0,(('A6-FinPos'!D41/'A6-FinPos'!D48)))","v":0},{"$f":"IF(ISERROR(('A6-FinPos'!E41/'A6-FinPos'!E48)),0,(('A6-FinPos'!E41/'A6-FinPos'!E48)))","v":0},{"$f":"IF(ISERROR(('A6-FinPos'!F41/'A6-FinPos'!F48)),0,(('A6-FinPos'!F41/'A6-FinPos'!F48)))","v":0},{"$f":"IF(ISERROR(('A6-FinPos'!G41/'A6-FinPos'!G48)),0,(('A6-FinPos'!G41/'A6-FinPos'!G48)))","v":0},{"$f":"IF(ISERROR(('A6-FinPos'!H41/'A6-FinPos'!H48)),0,(('A6-FinPos'!H41/'A6-FinPos'!H48)))","v":0},{"$f":"IF(ISERROR(('A6-FinPos'!I41/'A6-FinPos'!I48)),0,(('A6-FinPos'!I41/'A6-FinPos'!I48)))","v":0},{"$f":"IF(ISERROR(('A6-FinPos'!J41/'A6-FinPos'!J48)),0,(('A6-FinPos'!J41/'A6-FinPos'!J48)))","v":0},{"$f":"IF(ISERROR(('A6-FinPos'!K41/'A6-FinPos'!K48)),0,(('A6-FinPos'!K41/'A6-FinPos'!K48)))","v":0},{"$f":"IF(ISERROR(('A6-FinPos'!L41/'A6-FinPos'!L48)),0,(('A6-FinPos'!L41/'A6-FinPos'!L48)))","v":0}]
["Liquidity"]
["Current Ratio","Current assets/current liabilities",{"$f":"IF(ISERROR('A6-FinPos'!C13/'A6-FinPos'!C37),0,('A6-FinPos'!C13/'A6-FinPos'!C37))","v":1.0842307939547402},{"$f":"IF(ISERROR('A6-FinPos'!D13/'A6-FinPos'!D37),0,('A6-FinPos'!D13/'A6-FinPos'!D37))","v":1.2212209362923214},{"$f":"IF(ISERROR('A6-FinPos'!E13/'A6-FinPos'!E37),0,('A6-FinPos'!E13/'A6-FinPos'!E37))","v":1.0067731855885418},{"$f":"IF(ISERROR('A6-FinPos'!F13/'A6-FinPos'!F37),0,('A6-FinPos'!F13/'A6-FinPos'!F37))","v":1.4282598357764411},{"$f":"IF(ISERROR('A6-FinPos'!G13/'A6-FinPos'!G37),0,('A6-FinPos'!G13/'A6-FinPos'!G37))","v":1.1122886822385378},{"$f":"IF(ISERROR('A6-FinPos'!H13/'A6-FinPos'!H37),0,('A6-FinPos'!H13/'A6-FinPos'!H37))","v":1.1122886822385378},{"$f":"IF(ISERROR('A6-FinPos'!I13/'A6-FinPos'!I37),0,('A6-FinPos'!I13/'A6-FinPos'!I37))","v":89.387473229323547},{"$f":"IF(ISERROR('A6-FinPos'!J13/'A6-FinPos'!J37),0,('A6-FinPos'!J13/'A6-FinPos'!J37))","v":1.7771705127619422},{"$f":"IF(ISERROR('A6-FinPos'!K13/'A6-FinPos'!K37),0,('A6-FinPos'!K13/'A6-FinPos'!K37))","v":2.029306363518796},{"$f":"IF(ISERROR('A6-FinPos'!L13/'A6-FinPos'!L37),0,('A6-FinPos'!L13/'A6-FinPos'!L37))","v":2.2627035670782951}]
["Current Ratio adjusted for aged debtors","Current assets less debtors > 90 days/current liabilities",{"$f":"IF(ISERROR(('A6-FinPos'!C13-'SA8'!C49)/'A6-FinPos'!C37),0,(('A6-FinPos'!C13-'SA8'!C49)/'A6-FinPos'!C37))","v":1.0842307939547402},{"$f":"IF(ISERROR(('A6-FinPos'!D13-'SA8'!D49)/'A6-FinPos'!D37),0,(('A6-FinPos'!D13-'SA8'!D49)/'A6-FinPos'!D37))","v":1.2212209362923214},{"$f":"IF(ISERROR(('A6-FinPos'!E13-'SA8'!E49)/'A6-FinPos'!E37),0,(('A6-FinPos'!E13-'SA8'!E49)/'A6-FinPos'!E37))","v":1.0067731855885418},{"$f":"IF(ISERROR(('A6-FinPos'!F13-'SA8'!F49)/'A6-FinPos'!F37),0,(('A6-FinPos'!F13-'SA8'!F49)/'A6-FinPos'!F37))","v":1.4282598357764411},{"$f":"IF(ISERROR(('A6-FinPos'!G13-'SA8'!G49)/'A6-FinPos'!G37),0,(('A6-FinPos'!G13-'SA8'!G49)/'A6-FinPos'!G37))","v":1.1122886822385378},{"$f":"IF(ISERROR(('A6-FinPos'!H13-'SA8'!H49)/'A6-FinPos'!H37),0,(('A6-FinPos'!H13-'SA8'!H49)/'A6-FinPos'!H37))","v":1.1122886822385378},{"$f":"IF(ISERROR(('A6-FinPos'!I13-'SA8'!I49)/'A6-FinPos'!I37),0,(('A6-FinPos'!I13-'SA8'!I49)/'A6-FinPos'!I37))","v":89.387473229323547},{"$f":"IF(ISERROR(('A6-FinPos'!J13-'SA8'!J49)/'A6-FinPos'!J37),0,(('A6-FinPos'!J13-'SA8'!J49)/'A6-FinPos'!J37))","v":1.7771705127619422},{"$f":"IF(ISERROR(('A6-FinPos'!K13-'SA8'!K49)/'A6-FinPos'!K37),0,(('A6-FinPos'!K13-'SA8'!K49)/'A6-FinPos'!K37))","v":2.029306363518796},{"$f":"IF(ISERROR(('A6-FinPos'!L13-'SA8'!L49)/'A6-FinPos'!L37),0,(('A6-FinPos'!L13-'SA8'!L49)/'A6-FinPos'!L37))","v":2.2627035670782951}]
["Liquidity Ratio","Monetary Assets/Current Liabilities",{"$f":"IF(ISERROR(('A6-FinPos'!C6+'A6-FinPos'!C7)/'A6-FinPos'!C37),0,(('A6-FinPos'!C6+'A6-FinPos'!C7)/'A6-FinPos'!C37))","v":0.55487563291975261},{"$f":"IF(ISERROR(('A6-FinPos'!D6+'A6-FinPos'!D7)/'A6-FinPos'!D37),0,(('A6-FinPos'!D6+'A6-FinPos'!D7)/'A6-FinPos'!D37))","v":0.18697252376648732},{"$f":"IF(ISERROR(('A6-FinPos'!E6+'A6-FinPos'!E7)/'A6-FinPos'!E37),0,(('A6-FinPos'!E6+'A6-FinPos'!E7)/'A6-FinPos'!E37))","v":0.12369514843726577},{"$f":"IF(ISERROR(('A6-FinPos'!F6+'A6-FinPos'!F7)/'A6-FinPos'!F37),0,(('A6-FinPos'!F6+'A6-FinPos'!F7)/'A6-FinPos'!F37))","v":1.3096991565271208},{"$f":"IF(ISERROR(('A6-FinPos'!G6+'A6-FinPos'!G7)/'A6-FinPos'!G37),0,(('A6-FinPos'!G6+'A6-FinPos'!G7)/'A6-FinPos'!G37))","v":1.0550962584064703},{"$f":"IF(ISERROR(('A6-FinPos'!H6+'A6-FinPos'!H7)/'A6-FinPos'!H37),0,(('A6-FinPos'!H6+'A6-FinPos'!H7)/'A6-FinPos'!H37))","v":1.0550962584064703},{"$f":"IF(ISERROR(('A6-FinPos'!I6+'A6-FinPos'!I7)/'A6-FinPos'!I37),0,(('A6-FinPos'!I6+'A6-FinPos'!I7)/'A6-FinPos'!I37))","v":85.600704601465793},{"$f":"IF(ISERROR(('A6-FinPos'!J6+'A6-FinPos'!J7)/'A6-FinPos'!J37),0,(('A6-FinPos'!J6+'A6-FinPos'!J7)/'A6-FinPos'!J37))","v":1.153346049408507},{"$f":"IF(ISERROR(('A6-FinPos'!K6+'A6-FinPos'!K7)/'A6-FinPos'!K37),0,(('A6-FinPos'!K6+'A6-FinPos'!K7)/'A6-FinPos'!K37))","v":1.4964287562689642},{"$f":"IF(ISERROR(('A6-FinPos'!L6+'A6-FinPos'!L7)/'A6-FinPos'!L37),0,(('A6-FinPos'!L6+'A6-FinPos'!L7)/'A6-FinPos'!L37))","v":1.7197369890497858}]
["Revenue Management"]
["Annual Debtors Collection Rate (Payment Level %)","Last 12 Mths Receipts/Last 12 Mths Billing",null,{"$f":"IF(ISERROR(('A7-CFlow'!C6+'A7-CFlow'!C7+'A7-CFlow'!C21+'A7-CFlow'!C22)/SUM('A4-FinPerf RE'!C5:C10)),0,('A7-CFlow'!C6+'A7-CFlow'!C7+'A7-CFlow'!C21+'A7-CFlow'!C22)/(SUM('A4-FinPerf RE'!C5:C10)))","v":1.2446639053595485},{"$f":"IF(ISERROR(('A7-CFlow'!D6+'A7-CFlow'!D7+'A7-CFlow'!D21+'A7-CFlow'!D22)/SUM('A4-FinPerf RE'!D5:D10)),0,('A7-CFlow'!D6+'A7-CFlow'!D7+'A7-CFlow'!D21+'A7-CFlow'!D22)/(SUM('A4-FinPerf RE'!D5:D10)))","v":1.2682255719762012},{"$f":"IF(ISERROR(('A7-CFlow'!E6+'A7-CFlow'!E7+'A7-CFlow'!E21+'A7-CFlow'!E22)/SUM('A4-FinPerf RE'!E5:E10)),0,('A7-CFlow'!E6+'A7-CFlow'!E7+'A7-CFlow'!E21+'A7-CFlow'!E22)/(SUM('A4-FinPerf RE'!E5:E10)))","v":1.1886104304790148},{"$f":"IF(ISERROR(('A7-CFlow'!F6+'A7-CFlow'!F7+'A7-CFlow'!F21+'A7-CFlow'!F22)/SUM('A4-FinPerf RE'!F5:F10)),0,('A7-CFlow'!F6+'A7-CFlow'!F7+'A7-CFlow'!F21+'A7-CFlow'!F22)/(SUM('A4-FinPerf RE'!F5:F10)))","v":1.1982079640222589},{"$f":"IF(ISERROR(('A7-CFlow'!G6+'A7-CFlow'!G7+'A7-CFlow'!G21+'A7-CFlow'!G22)/SUM('A4-FinPerf RE'!G5:G10)),0,('A7-CFlow'!G6+'A7-CFlow'!G7+'A7-CFlow'!G21+'A7-CFlow'!G22)/(SUM('A4-FinPerf RE'!G5:G10)))","v":1.2514616512966583},{"$f":"IF(ISERROR(('A7-CFlow'!H6+'A7-CFlow'!H7+'A7-CFlow'!H21+'A7-CFlow'!H22)/SUM('A4-FinPerf RE'!H5:H10)),0,('A7-CFlow'!H6+'A7-CFlow'!H7+'A7-CFlow'!H21+'A7-CFlow'!H22)/(SUM('A4-FinPerf RE'!H5:H10)))","v":1.2514616512966583},{"$f":"IF(ISERROR(('A7-CFlow'!I6+'A7-CFlow'!I7+'A7-CFlow'!I21+'A7-CFlow'!I22)/SUM('A4-FinPerf RE'!I5:I10)),0,('A7-CFlow'!I6+'A7-CFlow'!I7+'A7-CFlow'!I21+'A7-CFlow'!I22)/(SUM('A4-FinPerf RE'!I5:I10)))","v":0},{"$f":"IF(ISERROR(('A7-CFlow'!J6+'A7-CFlow'!J7+'A7-CFlow'!J21+'A7-CFlow'!J22)/SUM('A4-FinPerf RE'!J5:J10)),0,('A7-CFlow'!J6+'A7-CFlow'!J7+'A7-CFlow'!J21+'A7-CFlow'!J22)/(SUM('A4-FinPerf RE'!J5:J10)))","v":1.1494916362677596},{"$f":"IF(ISERROR(('A7-CFlow'!K6+'A7-CFlow'!K7+'A7-CFlow'!K21+'A7-CFlow'!K22)/SUM('A4-FinPerf RE'!K5:K10)),0,('A7-CFlow'!K6+'A7-CFlow'!K7+'A7-CFlow'!K21+'A7-CFlow'!K22)/(SUM('A4-FinPerf RE'!K5:K10)))","v":1.3354043001589453}]
["Current Debtors Collection Rate (Cash receipts % of Ratepayer & Other revenue)",null,{"$f":"IF(ISERROR(('A7-CFlow'!C6+'A7-CFlow'!C7)/SUM('A4-FinPerf RE'!C5:C10)),0,(('A7-CFlow'!C6+'A7-CFlow'!C7)/SUM('A4-FinPerf RE'!C5:C10)))","v":1.2446639053595485},{"$f":"IF(ISERROR(('A7-CFlow'!D6+'A7-CFlow'!D7)/SUM('A4-FinPerf RE'!D5:D10)),0,(('A7-CFlow'!D6+'A7-CFlow'!D7)/SUM('A4-FinPerf RE'!D5:D10)))","v":1.2682255719762012},{"$f":"IF(ISERROR(('A7-CFlow'!E6+'A7-CFlow'!E7)/SUM('A4-FinPerf RE'!E5:E10)),0,(('A7-CFlow'!E6+'A7-CFlow'!E7)/SUM('A4-FinPerf RE'!E5:E10)))","v":1.188709180353468},{"$f":"IF(ISERROR(('A7-CFlow'!F6+'A7-CFlow'!F7)/SUM('A4-FinPerf RE'!F5:F10)),0,(('A7-CFlow'!F6+'A7-CFlow'!F7)/SUM('A4-FinPerf RE'!F5:F10)))","v":1.1982079640222589},{"$f":"IF(ISERROR(('A7-CFlow'!G6+'A7-CFlow'!G7)/SUM('A4-FinPerf RE'!G5:G10)),0,(('A7-CFlow'!G6+'A7-CFlow'!G7)/SUM('A4-FinPerf RE'!G5:G10)))","v":1.2514616512966583},{"$f":"IF(ISERROR(('A7-CFlow'!H6+'A7-CFlow'!H7)/SUM('A4-FinPerf RE'!H5:H10)),0,(('A7-CFlow'!H6+'A7-CFlow'!H7)/SUM('A4-FinPerf RE'!H5:H10)))","v":1.2514616512966583},{"$f":"IF(ISERROR(('A7-CFlow'!I6+'A7-CFlow'!I7)/SUM('A4-FinPerf RE'!I5:I10)),0,(('A7-CFlow'!I6+'A7-CFlow'!I7)/SUM('A4-FinPerf RE'!I5:I10)))","v":0},{"$f":"IF(ISERROR(('A7-CFlow'!J6+'A7-CFlow'!J7)/SUM('A4-FinPerf RE'!J5:J10)),0,(('A7-CFlow'!J6+'A7-CFlow'!J7)/SUM('A4-FinPerf RE'!J5:J10)))","v":1.1494916362677596},{"$f":"IF(ISERROR(('A7-CFlow'!K6+'A7-CFlow'!K7)/SUM('A4-FinPerf RE'!K5:K10)),0,(('A7-CFlow'!K6+'A7-CFlow'!K7)/SUM('A4-FinPerf RE'!K5:K10)))","v":1.3354043001589453},{"$f":"IF(ISERROR(('A7-CFlow'!L6+'A7-CFlow'!L7)/SUM('A4-FinPerf RE'!L5:L10)),0,(('A7-CFlow'!L6+'A7-CFlow'!L7)/SUM('A4-FinPerf RE'!L5:L10)))","v":1.3119415304741155}]
["Outstanding Debtors to Revenue","Total Outstanding Debtors to Annual Revenue",{"$f":"IF(ISERROR(('A6-FinPos'!C8+'A6-FinPos'!C10+'A6-FinPos'!C11+'A6-FinPos'!C16)/'A4-FinPerf RE'!C32),0,(('A6-FinPos'!C8+'A6-FinPos'!C10+'A6-FinPos'!C11+'A6-FinPos'!C16)/'A4-FinPerf RE'!C32))","v":0.32903675390259984},{"$f":"IF(ISERROR(('A6-FinPos'!D8+'A6-FinPos'!D10+'A6-FinPos'!D11+'A6-FinPos'!D16)/'A4-FinPerf RE'!D32),0,(('A6-FinPos'!D8+'A6-FinPos'!D10+'A6-FinPos'!D11+'A6-FinPos'!D16)/'A4-FinPerf RE'!D32))","v":0.32339136121410178},{"$f":"IF(ISERROR(('A6-FinPos'!E8+'A6-FinPos'!E10+'A6-FinPos'!E11+'A6-FinPos'!E16)/'A4-FinPerf RE'!E32),0,(('A6-FinPos'!E8+'A6-FinPos'!E10+'A6-FinPos'!E11+'A6-FinPos'!E16)/'A4-FinPerf RE'!E32))","v":0.30778320186821878},{"$f":"IF(ISERROR(('A6-FinPos'!F8+'A6-FinPos'!F10+'A6-FinPos'!F11+'A6-FinPos'!F16)/'A4-FinPerf RE'!F32),0,(('A6-FinPos'!F8+'A6-FinPos'!F10+'A6-FinPos'!F11+'A6-FinPos'!F16)/'A4-FinPerf RE'!F32))","v":0.14114308723110758},{"$f":"IF(ISERROR(('A6-FinPos'!G8+'A6-FinPos'!G10+'A6-FinPos'!G11+'A6-FinPos'!G16)/'A4-FinPerf RE'!G32),0,(('A6-FinPos'!G8+'A6-FinPos'!G10+'A6-FinPos'!G11+'A6-FinPos'!G16)/'A4-FinPerf RE'!G32))","v":0.13199492054932518},{"$f":"IF(ISERROR(('A6-FinPos'!H8+'A6-FinPos'!H10+'A6-FinPos'!H11+'A6-FinPos'!H16)/'A4-FinPerf RE'!H32),0,(('A6-FinPos'!H8+'A6-FinPos'!H10+'A6-FinPos'!H11+'A6-FinPos'!H16)/'A4-FinPerf RE'!H32))","v":0.13199492054932518},{"$f":"IF(ISERROR(('A6-FinPos'!I8+'A6-FinPos'!I10+'A6-FinPos'!I11+'A6-FinPos'!I16)/'A4-FinPerf RE'!I32),0,(('A6-FinPos'!I8+'A6-FinPos'!I10+'A6-FinPos'!I11+'A6-FinPos'!I16)/'A4-FinPerf RE'!I32))","v":0},{"$f":"IF(ISERROR(('A6-FinPos'!J8+'A6-FinPos'!J10+'A6-FinPos'!J11+'A6-FinPos'!J16)/'A4-FinPerf RE'!J32),0,(('A6-FinPos'!J8+'A6-FinPos'!J10+'A6-FinPos'!J11+'A6-FinPos'!J16)/'A4-FinPerf RE'!J32))","v":0.24653658005084089},{"$f":"IF(ISERROR(('A6-FinPos'!K8+'A6-FinPos'!K10+'A6-FinPos'!K11+'A6-FinPos'!K16)/'A4-FinPerf RE'!K32),0,(('A6-FinPos'!K8+'A6-FinPos'!K10+'A6-FinPos'!K11+'A6-FinPos'!K16)/'A4-FinPerf RE'!K32))","v":0.20391817258082381},{"$f":"IF(ISERROR(('A6-FinPos'!L8+'A6-FinPos'!L10+'A6-FinPos'!L11+'A6-FinPos'!L16)/'A4-FinPerf RE'!L32),0,(('A6-FinPos'!L8+'A6-FinPos'!L10+'A6-FinPos'!L11+'A6-FinPos'!L16)/'A4-FinPerf RE'!L32))","v":0.18934224694246032}]
["Longstanding Debtors Recovered","Debtors > 12 Mths Recovered/Total Debtors > 12 Months Old"]
["Creditors Management"]
["Creditors System Efficiency","% of Creditors Paid Within Terms (within`MFMA' s 65(e))"]
["Creditors to Cash and Investments",null,{"$f":"IF(ISERROR('SA3'!C138/'A7-CFlow'!C39),0,('SA3'!C138/'A7-CFlow'!C39))","v":0},{"$f":"IF(ISERROR('SA3'!D138/'A7-CFlow'!D39),0,('SA3'!D138/'A7-CFlow'!D39))","v":0},{"$f":"IF(ISERROR('SA3'!E138/'A7-CFlow'!E39),0,('SA3'!E138/'A7-CFlow'!E39))","v":0},{"$f":"IF(ISERROR('SA3'!F138/'A7-CFlow'!F39),0,('SA3'!F138/'A7-CFlow'!F39))","v":8.2084169500168027},{"$f":"IF(ISERROR('SA3'!G138/'A7-CFlow'!G39),0,('SA3'!G138/'A7-CFlow'!G39))","v":0},{"$f":"IF(ISERROR('SA3'!H138/'A7-CFlow'!H39),0,('SA3'!H138/'A7-CFlow'!H39))","v":0},{"$f":"IF(ISERROR('SA3'!I138/'A7-CFlow'!I39),0,('SA3'!I138/'A7-CFlow'!I39))","v":0},{"$f":"IF(ISERROR('SA3'!P138/'A7-CFlow'!J39),0,('SA3'!P138/'A7-CFlow'!J39))","v":2.2879497630669285},{"$f":"IF(ISERROR('SA3'!Q138/'A7-CFlow'!K39),0,('SA3'!Q138/'A7-CFlow'!K39))","v":1.4378612984705386},{"$f":"IF(ISERROR('SA3'!R138/'A7-CFlow'!L39),0,('SA3'!R138/'A7-CFlow'!L39))","v":0.880125502165228}]
[]
["Other Indicators"]
["Electricity Distribution Losses (2)","Total Volume Losses (kW) technical"]
[null,"Total Volume Losses (kW) non technical"]
[null,"Total Cost of Losses (Rand '000)"]
[null,"% Volume (units purchased and generated less units sold)/units purchased and generated"]
["Water Volumes :System input","Bulk Purchase"]
[null,"Water treatment works"]
[null,"Natural sources"]
["Water Distribution Losses (2)","Total Volume Losses (kℓ)"]
[null,"Total Cost of Losses (Rand '000)"]
[null,"% Volume (units purchased and generated less units sold)/units purchased and generated"]
["Employee costs","Employee costs/(Total Revenue - capital revenue)",{"$f":"IF(ISERROR('A4-FinPerf RE'!C34/'A4-FinPerf RE'!C32),0,('A4-FinPerf RE'!C34/'A4-FinPerf RE'!C32))","v":0.24520851735137894},{"$f":"IF(ISERROR('A4-FinPerf RE'!D34/'A4-FinPerf RE'!D32),0,('A4-FinPerf RE'!D34/'A4-FinPerf RE'!D32))","v":0.25601709716814292},{"$f":"IF(ISERROR('A4-FinPerf RE'!E34/'A4-FinPerf RE'!E32),0,('A4-FinPerf RE'!E34/'A4-FinPerf RE'!E32))","v":0.25530579377844481},{"$f":"IF(ISERROR('A4-FinPerf RE'!F34/'A4-FinPerf RE'!F32),0,('A4-FinPerf RE'!F34/'A4-FinPerf RE'!F32))","v":0.22404632681919781},{"$f":"IF(ISERROR('A4-FinPerf RE'!G34/'A4-FinPerf RE'!G32),0,('A4-FinPerf RE'!G34/'A4-FinPerf RE'!G32))","v":0.23175136204264304},{"$f":"IF(ISERROR('A4-FinPerf RE'!H34/'A4-FinPerf RE'!H32),0,('A4-FinPerf RE'!H34/'A4-FinPerf RE'!H32))","v":0.23175136204264304},{"$f":"IF(ISERROR('A4-FinPerf RE'!I34/'A4-FinPerf RE'!I32),0,('A4-FinPerf RE'!I34/'A4-FinPerf RE'!I32))","v":0},{"$f":"IF(ISERROR('A4-FinPerf RE'!J34/'A4-FinPerf RE'!J32),0,('A4-FinPerf RE'!J34/'A4-FinPerf RE'!J32))","v":0.22081133230465738},{"$f":"IF(ISERROR('A4-FinPerf RE'!K34/'A4-FinPerf RE'!K32),0,('A4-FinPerf RE'!K34/'A4-FinPerf RE'!K32))","v":0.20672138409755816},{"$f":"IF(ISERROR('A4-FinPerf RE'!L34/'A4-FinPerf RE'!L32),0,('A4-FinPerf RE'!L34/'A4-FinPerf RE'!L32))","v":0.19203636536907109}]
["Remuneration","Total remuneration/(Total Revenue - capital revenue)",{"$f":"IF(ISERROR('SA22'!C122/'A4-FinPerf RE'!C32),0,('SA22'!C122/'A4-FinPerf RE'!C32))","v":0.25476151778682937},{"$f":"IF(ISERROR('SA22'!D122/'A4-FinPerf RE'!D32),0,('SA22'!D122/'A4-FinPerf RE'!D32))","v":0.26691694262234206},{"$f":"IF(ISERROR('SA22'!E122/'A4-FinPerf RE'!E32),0,('SA22'!E122/'A4-FinPerf RE'!E32))","v":0.26380668091116499},{"$f":"IF(ISERROR('SA22'!F122/'A4-FinPerf RE'!F32),0,('SA22'!F122/'A4-FinPerf RE'!F32))","v":0.22574893861831249},{"$f":"IF(ISERROR('SA22'!G122/'A4-FinPerf RE'!G32),0,('SA22'!G122/'A4-FinPerf RE'!G32))","v":0.24369161405463499},{"$f":"IF(ISERROR('SA22'!H122/'A4-FinPerf RE'!H32),0,('SA22'!H122/'A4-FinPerf RE'!H32))","v":0.24322137738343222},null,{"$f":"IF(ISERROR('SA22'!I122/'A4-FinPerf RE'!J32),0,('SA22'!I122/'A4-FinPerf RE'!J32))","v":0.22988791165890027},{"$f":"IF(ISERROR('SA22'!J122/'A4-FinPerf RE'!K32),0,('SA22'!J122/'A4-FinPerf RE'!K32))","v":0.21530342393418303},{"$f":"IF(ISERROR('SA22'!K122/'A4-FinPerf RE'!L32),0,('SA22'!K122/'A4-FinPerf RE'!L32))","v":0.2000661582852519}]
["Repairs & Maintenance","R&M/(Total Revenue excluding capital revenue)",{"$f":"IF(ISERROR('A9-Asset'!C184/'A4-FinPerf RE'!C32),0,('A9-Asset'!C184/'A4-FinPerf RE'!C32))","v":1.0417424423139943E-2},{"$f":"IF(ISERROR('A9-Asset'!D184/'A4-FinPerf RE'!D32),0,('A9-Asset'!D184/'A4-FinPerf RE'!D32))","v":2.0096104467710971E-2},{"$f":"IF(ISERROR('A9-Asset'!E184/'A4-FinPerf RE'!E32),0,('A9-Asset'!E184/'A4-FinPerf RE'!E32))","v":4.0761059968126685E-2},{"$f":"IF(ISERROR('A9-Asset'!F184/'A4-FinPerf RE'!F32),0,('A9-Asset'!F184/'A4-FinPerf RE'!F32))","v":7.1760540672172995E-2},{"$f":"IF(ISERROR('A9-Asset'!G184/'A4-FinPerf RE'!G32),0,('A9-Asset'!G184/'A4-FinPerf RE'!G32))","v":3.5264514042723093E-2},{"$f":"IF(ISERROR('A9-Asset'!H184/'A4-FinPerf RE'!H32),0,('A9-Asset'!H184/'A4-FinPerf RE'!H32))","v":3.5264514042723093E-2},null,{"$f":"IF(ISERROR('A9-Asset'!I184/'A4-FinPerf RE'!J32),0,('A9-Asset'!I184/'A4-FinPerf RE'!J32))","v":7.0595469831852359E-2},{"$f":"IF(ISERROR('A9-Asset'!J184/'A4-FinPerf RE'!K32),0,('A9-Asset'!J184/'A4-FinPerf RE'!K32))","v":6.6868699644069968E-2},{"$f":"IF(ISERROR('A9-Asset'!K184/'A4-FinPerf RE'!L32),0,('A9-Asset'!K184/'A4-FinPerf RE'!L32))","v":6.2763304180335155E-2}]
["Finance charges & Depreciation","FC&D/(Total Revenue - capital revenue)",{"$f":"IF(ISERROR(('A4-FinPerf RE'!C40+'A4-FinPerf RE'!C39)/'A4-FinPerf RE'!C32),0,(('A4-FinPerf RE'!C40+'A4-FinPerf RE'!C39)/'A4-FinPerf RE'!C32))","v":8.4075362655086638E-2},{"$f":"IF(ISERROR(('A4-FinPerf RE'!D40+'A4-FinPerf RE'!D39)/'A4-FinPerf RE'!D32),0,(('A4-FinPerf RE'!D40+'A4-FinPerf RE'!D39)/'A4-FinPerf RE'!D32))","v":7.3711521482556927E-2},{"$f":"IF(ISERROR(('A4-FinPerf RE'!E40+'A4-FinPerf RE'!E39)/'A4-FinPerf RE'!E32),0,(('A4-FinPerf RE'!E40+'A4-FinPerf RE'!E39)/'A4-FinPerf RE'!E32))","v":6.7229231864819494E-2},{"$f":"IF(ISERROR(('A4-FinPerf RE'!F40+'A4-FinPerf RE'!F39)/'A4-FinPerf RE'!F32),0,(('A4-FinPerf RE'!F40+'A4-FinPerf RE'!F39)/'A4-FinPerf RE'!F32))","v":7.6045783886818014E-2},{"$f":"IF(ISERROR(('A4-FinPerf RE'!G40+'A4-FinPerf RE'!G39)/'A4-FinPerf RE'!G32),0,(('A4-FinPerf RE'!G40+'A4-FinPerf RE'!G39)/'A4-FinPerf RE'!G32))","v":7.058346775992351E-2},{"$f":"IF(ISERROR(('A4-FinPerf RE'!H40+'A4-FinPerf RE'!H39)/'A4-FinPerf RE'!H32),0,(('A4-FinPerf RE'!H40+'A4-FinPerf RE'!H39)/'A4-FinPerf RE'!H32))","v":7.058346775992351E-2},{"$f":"IF(ISERROR(('A4-FinPerf RE'!I40+'A4-FinPerf RE'!I39)/'A4-FinPerf RE'!I32),0,(('A4-FinPerf RE'!I40+'A4-FinPerf RE'!I39)/'A4-FinPerf RE'!I32))","v":0},{"$f":"IF(ISERROR(('A4-FinPerf RE'!J40+'A4-FinPerf RE'!J39)/'A4-FinPerf RE'!J32),0,(('A4-FinPerf RE'!J40+'A4-FinPerf RE'!J39)/'A4-FinPerf RE'!J32))","v":6.181920877269563E-2},{"$f":"IF(ISERROR(('A4-FinPerf RE'!K40+'A4-FinPerf RE'!K39)/'A4-FinPerf RE'!K32),0,(('A4-FinPerf RE'!K40+'A4-FinPerf RE'!K39)/'A4-FinPerf RE'!K32))","v":5.8409243420704519E-2},{"$f":"IF(ISERROR(('A4-FinPerf RE'!L40+'A4-FinPerf RE'!L39)/'A4-FinPerf RE'!L32),0,(('A4-FinPerf RE'!L40+'A4-FinPerf RE'!L39)/'A4-FinPerf RE'!L32))","v":5.46114668176403E-2}]
["IDP regulation financial viability indicators"]
["i. Debt coverage","(Total Operating Revenue - Operating Grants)/Debt service payments due within financial year)",{"$f":"IF(ISERROR(('A4-FinPerf RE'!C32-'A4-FinPerf RE'!C29)/('A7-CFlow'!D11-'A7-CFlow'!D34)),0,(('A4-FinPerf RE'!C32-'A4-FinPerf RE'!C29)/('A7-CFlow'!D11-'A7-CFlow'!D34)))","v":39.259443949914463},{"$f":"IF(ISERROR(('A4-FinPerf RE'!D32-'A4-FinPerf RE'!D29)/('A7-CFlow'!E11-'A7-CFlow'!E34)),0,(('A4-FinPerf RE'!D32-'A4-FinPerf RE'!D29)/('A7-CFlow'!E11-'A7-CFlow'!E34)))","v":48.113527113901249},{"$f":"IF(ISERROR(('A4-FinPerf RE'!E32-'A4-FinPerf RE'!E29)/('A7-CFlow'!F11-'A7-CFlow'!F34)),0,(('A4-FinPerf RE'!E32-'A4-FinPerf RE'!E29)/('A7-CFlow'!F11-'A7-CFlow'!F34)))","v":143.94867248743304},{"$f":"IF(ISERROR(('A4-FinPerf RE'!F32-'A4-FinPerf RE'!F29)/('A7-CFlow'!G11-'A7-CFlow'!G34)),0,(('A4-FinPerf RE'!F32-'A4-FinPerf RE'!F29)/('A7-CFlow'!G11-'A7-CFlow'!G34)))","v":173.50939574369588},{"$f":"F41","v":173.50939574369588},{"$f":"G41","v":173.50939574369588},{"$f":"IF(ISERROR(('A4-FinPerf RE'!I32-'A4-FinPerf RE'!I29)/('A7-CFlow'!J11-'A7-CFlow'!J34)),0,(('A4-FinPerf RE'!I32-'A4-FinPerf RE'!I29)/('A7-CFlow'!J11-'A7-CFlow'!J34)))","v":0},{"$f":"IF(ISERROR(('A4-FinPerf RE'!J32-'A4-FinPerf RE'!J29)/('A7-CFlow'!K11-'A7-CFlow'!K34)),0,(('A4-FinPerf RE'!J32-'A4-FinPerf RE'!J29)/('A7-CFlow'!K11-'A7-CFlow'!K34)))","v":187.52222153830488},{"$f":"IF(ISERROR(('A4-FinPerf RE'!K32-'A4-FinPerf RE'!K29)/('A7-CFlow'!L11-'A7-CFlow'!L34)),0,(('A4-FinPerf RE'!K32-'A4-FinPerf RE'!K29)/('A7-CFlow'!L11-'A7-CFlow'!L34)))","v":192.8443130762287},{"$f":"IF(ISERROR(('A4-FinPerf RE'!L32-'A4-FinPerf RE'!L29)/('A7-CFlow'!L11-'A7-CFlow'!L34)),0,(('A4-FinPerf RE'!L32-'A4-FinPerf RE'!L29)/('A7-CFlow'!L11-'A7-CFlow'!L34)))","v":215.53651491484405}]
["ii.O/S Service Debtors to Revenue","Total outstanding service debtors/annual revenue received for services",{"$f":"IF(ISERROR(('A6-FinPos'!C8+'A6-FinPos'!C10+'A6-FinPos'!C11)/SUM('A4-FinPerf RE'!C5:C11)),0,(('A6-FinPos'!C8+'A6-FinPos'!C10+'A6-FinPos'!C11)/SUM('A4-FinPerf RE'!C5:C11)))","v":0.31439278324830866},{"$f":"IF(ISERROR(('A6-FinPos'!D8+'A6-FinPos'!D10+'A6-FinPos'!D11)/SUM('A4-FinPerf RE'!D5:D11)),0,(('A6-FinPos'!D8+'A6-FinPos'!D10+'A6-FinPos'!D11)/SUM('A4-FinPerf RE'!D5:D11)))","v":0.27940290932950784},{"$f":"IF(ISERROR(('A6-FinPos'!E8+'A6-FinPos'!E10+'A6-FinPos'!E11)/SUM('A4-FinPerf RE'!E5:E11)),0,(('A6-FinPos'!E8+'A6-FinPos'!E10+'A6-FinPos'!E11)/SUM('A4-FinPerf RE'!E5:E11)))","v":0.24122948198144106},{"$f":"IF(ISERROR(('A6-FinPos'!F8+'A6-FinPos'!F10+'A6-FinPos'!F11)/SUM('A4-FinPerf RE'!F5:F11)),0,(('A6-FinPos'!F8+'A6-FinPos'!F10+'A6-FinPos'!F11)/SUM('A4-FinPerf RE'!F5:F11)))","v":4.0276149166801126E-2},{"$f":"IF(ISERROR(('A6-FinPos'!G8+'A6-FinPos'!G10+'A6-FinPos'!G11)/SUM('A4-FinPerf RE'!G5:G11)),0,(('A6-FinPos'!G8+'A6-FinPos'!G10+'A6-FinPos'!G11)/SUM('A4-FinPerf RE'!G5:G11)))","v":2.3613062537447549E-2},{"$f":"IF(ISERROR(('A6-FinPos'!H8+'A6-FinPos'!H10+'A6-FinPos'!H11)/SUM('A4-FinPerf RE'!H5:H11)),0,(('A6-FinPos'!H8+'A6-FinPos'!H10+'A6-FinPos'!H11)/SUM('A4-FinPerf RE'!H5:H11)))","v":2.3613062537447549E-2},{"$f":"IF(ISERROR(('A6-FinPos'!I8+'A6-FinPos'!I10+'A6-FinPos'!I11)/SUM('A4-FinPerf RE'!I5:I11)),0,(('A6-FinPos'!I8+'A6-FinPos'!I10+'A6-FinPos'!I11)/SUM('A4-FinPerf RE'!I5:I11)))","v":0},{"$f":"IF(ISERROR(('A6-FinPos'!J8+'A6-FinPos'!J10+'A6-FinPos'!J11)/SUM('A4-FinPerf RE'!J5:J11)),0,(('A6-FinPos'!J8+'A6-FinPos'!J10+'A6-FinPos'!J11)/SUM('A4-FinPerf RE'!J5:J11)))","v":0.20010335375989188},{"$f":"IF(ISERROR(('A6-FinPos'!K8+'A6-FinPos'!K10+'A6-FinPos'!K11)/SUM('A4-FinPerf RE'!K5:K11)),0,(('A6-FinPos'!K8+'A6-FinPos'!K10+'A6-FinPos'!K11)/SUM('A4-FinPerf RE'!K5:K11)))","v":0.13908865777136256},{"$f":"IF(ISERROR(('A6-FinPos'!L8+'A6-FinPos'!L10+'A6-FinPos'!L11)/SUM('A4-FinPerf RE'!L5:L11)),0,(('A6-FinPos'!L8+'A6-FinPos'!L10+'A6-FinPos'!L11)/SUM('A4-FinPerf RE'!L5:L11)))","v":0.12408781647729242}]
["iii. Cost coverage","(Available cash + Investments)/monthly fixed operational expenditure",{"$f":"IF(ISERROR('A7-CFlow'!C39/'SA8'!C50),0,('A7-CFlow'!C39/'SA8'!C50))","v":1.2438608807022595},{"$f":"IF(ISERROR('A7-CFlow'!D39/'SA8'!D50),0,('A7-CFlow'!D39/'SA8'!D50))","v":0.87492732983732246},{"$f":"IF(ISERROR('A7-CFlow'!E39/'SA8'!E50),0,('A7-CFlow'!E39/'SA8'!E50))","v":0.55163438612380256},{"$f":"IF(ISERROR('A7-CFlow'!F39/'SA8'!F50),0,('A7-CFlow'!F39/'SA8'!F50))","v":0.30201176077974684},{"$f":"IF(ISERROR('A7-CFlow'!G39/'SA8'!G50),0,('A7-CFlow'!G39/'SA8'!G50))","v":0.89339997409817218},{"$f":"IF(ISERROR('A7-CFlow'!H39/'SA8'!H50),0,('A7-CFlow'!H39/'SA8'!H50))","v":0.89339997409817218},{"$f":"IF(ISERROR('A7-CFlow'!I39/'SA8'!I50),0,('A7-CFlow'!I39/'SA8'!I50))","v":0},{"$f":"IF(ISERROR('A7-CFlow'!J39/'SA8'!J50),0,('A7-CFlow'!J39/'SA8'!J50))","v":1.4146530785344762},{"$f":"IF(ISERROR('A7-CFlow'!K39/'SA8'!K50),0,('A7-CFlow'!K39/'SA8'!K50))","v":2.1240465185056041},{"$f":"IF(ISERROR('A7-CFlow'!L39/'SA8'!L50),0,('A7-CFlow'!L39/'SA8'!L50))","v":3.3388382490762254}]
[{"$f":"head27a","v":"References"}]
["1. Consumer debtors > 12 months old are excluded from current assets"]
["2. Only include if services provided by the municipality"]
[]
["Calculation data"]
["Debtors > 90 days"]
["Monthly fixed operational expenditure",null,{"$f":"(('A4-FinPerf RE'!C34+'A4-FinPerf RE'!C35+'A4-FinPerf RE'!C38+'A4-FinPerf RE'!C40+'A4-FinPerf RE'!C36+'A4-FinPerf RE'!C41+'SA1'!C91+'A7-CFlow'!C34)+(('A4-FinPerf RE'!C37+'A4-FinPerf RE'!C44)*'SA8'!C51))/12","v":417230716.91666657},{"$f":"(('A4-FinPerf RE'!D34+'A4-FinPerf RE'!D35+'A4-FinPerf RE'!D38+'A4-FinPerf RE'!D40+'A4-FinPerf RE'!D36+'A4-FinPerf RE'!D41+'SA1'!D91+'A7-CFlow'!D34)+(('A4-FinPerf RE'!D37+'A4-FinPerf RE'!D44)*'SA8'!D51))/12","v":412972276.30000001},{"$f":"(('A4-FinPerf RE'!E34+'A4-FinPerf RE'!E35+'A4-FinPerf RE'!E38+'A4-FinPerf RE'!E40+'A4-FinPerf RE'!E36+'A4-FinPerf RE'!E41+'SA1'!E91+'A7-CFlow'!E34)+(('A4-FinPerf RE'!E37+'A4-FinPerf RE'!E44)*'SA8'!E51))/12","v":522361997.81666666},{"$f":"(('A4-FinPerf RE'!F34+'A4-FinPerf RE'!F35+'A4-FinPerf RE'!F38+'A4-FinPerf RE'!F40+'A4-FinPerf RE'!F36+'A4-FinPerf RE'!F41+'SA1'!F91+'A7-CFlow'!F34)+(('A4-FinPerf RE'!F37+'A4-FinPerf RE'!F44)*'SA8'!F51))/12","v":446539260.8943851},{"$f":"(('A4-FinPerf RE'!G34+'A4-FinPerf RE'!G35+'A4-FinPerf RE'!G38+'A4-FinPerf RE'!G40+'A4-FinPerf RE'!G36+'A4-FinPerf RE'!G41+'SA1'!G91+'A7-CFlow'!G34)+(('A4-FinPerf RE'!G37+'A4-FinPerf RE'!G44)*'SA8'!G51))/12","v":461162826.51663327},{"$f":"(('A4-FinPerf RE'!H34+'A4-FinPerf RE'!H35+'A4-FinPerf RE'!H38+'A4-FinPerf RE'!H40+'A4-FinPerf RE'!H36+'A4-FinPerf RE'!H41+'SA1'!H91+'A7-CFlow'!H34)+(('A4-FinPerf RE'!H37+'A4-FinPerf RE'!H44)*'SA8'!H51))/12","v":461162826.51663327},{"$f":"(('A4-FinPerf RE'!I34+'A4-FinPerf RE'!I35+'A4-FinPerf RE'!I38+'A4-FinPerf RE'!I40+'A4-FinPerf RE'!I36+'A4-FinPerf RE'!I41+'SA1'!I91+'A7-CFlow'!I34)+(('A4-FinPerf RE'!I37+'A4-FinPerf RE'!I44)*'SA8'!I51))/12","v":0},{"$f":"(('A4-FinPerf RE'!J34+'A4-FinPerf RE'!J35+'A4-FinPerf RE'!J38+'A4-FinPerf RE'!J40+'A4-FinPerf RE'!J36+'A4-FinPerf RE'!J41+'SA1'!J91+'A7-CFlow'!J34)+(('A4-FinPerf RE'!J37+'A4-FinPerf RE'!J44)*'SA8'!J51))/12","v":542297087.4666667},{"$f":"(('A4-FinPerf RE'!K34+'A4-FinPerf RE'!K35+'A4-FinPerf RE'!K38+'A4-FinPerf RE'!K40+'A4-FinPerf RE'!K36+'A4-FinPerf RE'!K41+'SA1'!K91+'A7-CFlow'!K34)+(('A4-FinPerf RE'!K37+'A4-FinPerf RE'!K44)*'SA8'!K51))/12","v":602876249.69999993},{"$f":"(('A4-FinPerf RE'!L34+'A4-FinPerf RE'!L35+'A4-FinPerf RE'!L38+'A4-FinPerf RE'!L40+'A4-FinPerf RE'!L36+'A4-FinPerf RE'!L41+'SA1'!L91+'A7-CFlow'!L34)+(('A4-FinPerf RE'!L37+'A4-FinPerf RE'!L44)*'SA8'!L51))/12","v":656018202.70000005}]
["Fixed operational expenditure % assumption",null,0.4,{"$f":"$C$51","v":0.4},{"$f":"$C$51","v":0.4},0.4,0.4,0.4,0.4,0.4,0.4,0.4]
["Own capex",null,{"$f":"'A5-Capex'!C40-'A5-Capex'!C70-'A5-Capex'!C71","v":90723097.169999957},{"$f":"'A5-Capex'!D40-'A5-Capex'!D70-'A5-Capex'!D71","v":121936150.37999988},{"$f":"'A5-Capex'!E40-'A5-Capex'!E70-'A5-Capex'!E71","v":208716094.13000005},{"$f":"'A5-Capex'!F40-'A5-Capex'!F70-'A5-Capex'!F71","v":389957356},{"$f":"'A5-Capex'!G40-'A5-Capex'!G70-'A5-Capex'!G71","v":89387752.093999982},{"$f":"'A5-Capex'!H40-'A5-Capex'!H70-'A5-Capex'!H71","v":89387752.093999982},{"$f":"'A5-Capex'!I40-'A5-Capex'!I70-'A5-Capex'!I71","v":0},{"$f":"'A5-Capex'!J40-'A5-Capex'!J70-'A5-Capex'!J71","v":320059999.05000001},{"$f":"'A5-Capex'!K40-'A5-Capex'!K70-'A5-Capex'!K71","v":260000000.00000006},{"$f":"'A5-Capex'!L40-'A5-Capex'!L70-'A5-Capex'!L71","v":120000000}]
["Borrowing",null,{"$f":"'A7-CFlow'!C30+'A7-CFlow'!C31","v":0},{"$f":"'A7-CFlow'!D30+'A7-CFlow'!D31","v":0},{"$f":"'A7-CFlow'!E30+'A7-CFlow'!E31","v":0},{"$f":"'A7-CFlow'!F30+'A7-CFlow'!F31","v":300000000},{"$f":"'A7-CFlow'!G30+'A7-CFlow'!G31","v":0},{"$f":"'A7-CFlow'!H30+'A7-CFlow'!H31","v":0},{"$f":"'A7-CFlow'!I30+'A7-CFlow'!I31","v":0},{"$f":"'A7-CFlow'!J30+'A7-CFlow'!J31","v":200000000},{"$f":"'A7-CFlow'!K30+'A7-CFlow'!K31","v":150000000},{"$f":"'A7-CFlow'!L30+'A7-CFlow'!L31","v":0}]

{"sheet":"SA9","index":27,"n_rows":310,"n_cols":13,"rows_kept":310,"cut":false,"hidden":false,"merged":[[246,7,246,9],[246,10,246,12],[246,0,247,0],[154,0,155,0],[154,7,154,9],[200,7,200,9],[200,10,200,12],[154,10,154,12],[200,0,201,0],[108,10,108,12],[1,5,2,5],[62,7,62,9],[62,10,62,12],[108,0,109,0],[108,7,108,9],[1,0,2,0],[62,0,63,0],[1,3,2,3],[1,4,2,4],[1,10,1,12],[1,1,2,1],[1,2,2,2]]}
[{"$f":"muni&\" - \"&TableA9","v":"0 - Supporting Table SA9 Social, economic and demographic statistics and assumptions"}]
["Description of economic indicator","Ref.","Basis of calculation",{"$f":"Head44","v":"2001 Census"},"2007 Survey",{"$f":"Head45","v":"2011 Census"},{"$f":"head1b","v":"2019/20"},{"$f":"head1A","v":"2020/21"},{"$f":"Head1","v":"2021/22"},{"$f":"Head2","v":"Current Year 2022/23"},{"$f":"Head3","v":"2023/24 Medium Term Revenue & Expenditure Framework"}]
[null,null,null,null,null,null,{"$f":"Head5A","v":"Outcome"},"Outcome","Outcome",{"$f":"Head6","v":"Original Budget"},"Outcome","Outcome","Outcome"]
["Demographics"]
["Population",null,"Census Count/Estimate",null,"552 837",null,686422.73360699986,686422.73360699986,null,686422.73360699986]
["Females aged 5 - 14",null,"Census Count/Estimate",null,null,null,61522.485110999987,61522.485110999987,null,61522.485110999987]
["Males aged 5 - 14",null,"Census Count/Estimate",null,null,null,63399.099266999983,63399.099266999983,null,63399.099266999983]
["Females aged 15 - 34",null,"Census Count/Estimate",null,null,null,124574.06323799997,124574.06323799997,null,124574.06323799997]
["Males aged 15 - 34",null,"Census Count/Estimate",null,null,null,125607.42756899996,125607.42756899996,null,125607.42756899996]
["Unemployment",null,"Census Count/Estimate",null,null,null,99979.787735999984,99979.787735999984,null,99979.787735999984]
[]
["Monthly household income (no. of households)","1, 12"]
["No income",null,null,null,null,null,124821.43846400001,124821.43846400001,null,124821.43846400001]
["R1 - R1 600",null,null,null,null,null,81035.001856000003,81035.001856000003,null,81035.001856000003]
["R1 601 - R3 200",null,null,null,null,null,30326.915072,30326.915072,null,30326.915072]
["R3 201 - R6 400",null,null,null,null,null,23962.058752000001,23962.058752000001,null,23962.058752000001]
["R6 401 - R12 800",null,null,null,null,null,6257.9015680000002,6257.9015680000002,null,6257.9015680000002]
["R12 801 - R25 600",null,null,null,null,null,3235.9055359999998,3235.9055359999998,null,3235.9055359999998]
["R25 601 - R51 200",null,null,null,null,null,483.39353600000004,483.39353600000004,null,483.39353600000004]
["R52 201 - R102 400",null,null,null,null,null,609.22265599999992,609.22265599999992,null,609.22265599999992]
["R102 401 - R204 800"]
["R204 801 - R409 600"]
["R409 601 - R819 200"]
[" > R819 200"]
[]
[]
["Poverty profiles (no. of households)"]
["< R2 060 per household per month",13]
["Insert description",2]
[]
["Household/demographics (000)"]
["Number of people in municipal area",null,null,null,null,null,678954.23699999996,686422.73360699986,null,686422.73360699986]
["Number of poor people in municipal area",null,null,null,null,null,"No Data"]
["Number of households in municipal area",null,null,null,null,null,135868.28999999998,137362.84118999998,null,137362.84118999998]
["Number of poor households in municipal area"]
["Definition of poor household (R per month)",null,null,null,null,null,"No Data"]
[]
["Housing statistics",3]
["Formal",null,null,null,null,null,68645.888999999996,69400.993778999982,69400.993778999982,69400.993778999982]
["Informal",null,null,null,null,null,10483.058999999999,10598.372648999999,10598.372648999999,10598.372648999999]
["Total number of households",null,null,{"$f":"SUM(D39:D40)","v":0},{"$f":"SUM(E39:E40)","v":0},0,79128.947999999989,79999.366427999979,79999.366427999979,79999.366427999979,0,0,0]
["Dwellings provided by municipality",4,null,null,null,null,135868.28999999998,137362.84118999998,137362.84118999998,137362.84118999998]
["Dwellings provided by province/s",null,null,null,null,null,2178857.6609999998,2202825.0952709997,2202825.0952709997,2202825.0952709997]
["Dwellings provided by private sector",5]
["Total new housing dwellings",null,null,{"$f":"SUM(D42:D44)","v":0},{"$f":"SUM(E42:E44)","v":0},0,2314725.9509999999,2340187.9364609998,2340187.9364609998,2340187.9364609998,0,0,0]
[]
["Economic",6]
["Inflation/inflation outlook (CPIX)",null,null,null,null,null,4.4999999999999998E-2,4.4999999999999998E-2]
["Interest rate - borrowing",null,null,null,null,null,0.1008,0.1159]
["Interest rate - investment",null,null,null,null,null,0.05,0.05]
["Remuneration increases",null,null,null,null,null,7.0000000000000007E-2,7.0000000000000007E-2]
["Consumption growth (electricity)",null,null,null,null,null,0.08,0.08]
["Consumption growth (water)",null,null,null,null,null,0.08,0.08]
[]
["Collection rates",7]
["Property tax/service charges",null,null,null,null,null,0.89500000000000002,0.89500000000000002]
["Rental of facilities & equipment",null,null,null,null,null,1,1]
["Interest - external investments",null,null,null,null,null,1,1]
["Interest - debtors",null,null,null,null,null,0.89500000000000002,0.89500000000000002]
["Revenue from agency services",null,null,null,null,null,"%"]
[]
["Detail on the provision of municipal services for A10"]
["Total municipal services",null,null,null,{"$f":"head1b","v":"2019/20"},{"$f":"head1A","v":"2020/21"},{"$f":"Head1","v":"2021/22"},{"$f":"Head2","v":"Current Year 2022/23"},null,null,{"$f":"Head3","v":"2023/24 Medium Term Revenue & Expenditure Framework"}]
[null,"Ref.",null,null,{"$f":"Head5A","v":"Outcome"},{"$f":"Head5A","v":"Outcome"},{"$f":"Head5A","v":"Outcome"},{"$f":"Head6","v":"Original Budget"},{"$f":"Head7","v":"Adjusted Budget"},{"$f":"Head8","v":"Full Year Forecast"},{"$f":"Head9","v":"Budget Year 2023/24"},{"$f":"Head10","v":"Budget Year +1 2024/25"},{"$f":"Head11","v":"Budget Year +2 2025/26"}]
[null,null,"Household service targets (000)"]
[null,null,"Water:"]
[null,null,"Piped water inside dwelling",null,{"$f":"E113+E159+E205","v":169564.39200000002},{"$f":"F113+F159+F205","v":169564.39200000002},169564.39200000002,84782.196000000011,84782.196000000011,84782.196000000011,84782.196000000011,84782.196000000011,84782.196000000011]
[null,null,"Piped water inside yard (but not in dwelling)",null,{"$f":"E114+E160+E206","v":134961.0392},134961.0392,134961.0392,67480.5196,67480.5196,67480.5196,67480.5196,67480.5196,67480.5196]
[null,8,"Using public tap (at least min.service level)",null,13308.7968,13308.7968,13308.7968,6654.3984,6654.3984,6654.3984,6654.3984,6654.3984,6654.3984]
[null,10,"Other water supply (at least min.service level)",null,6392.2175999999999,6392.2175999999999,6392.2175999999999,3196.1088,3196.1088,3196.1088,3196.1088,3196.1088,3196.1088]
[null,null,"Minimum Service Level and Above sub-total",null,{"$f":"SUM(E67:E70)","v":324226.44559999998},{"$f":"SUM(F67:F70)","v":324226.44559999998},324226.44559999998,162113.22279999999,162113.22279999999,162113.22279999999,162113.22279999999,162113.22279999999,162113.22279999999]
[null,9,"Using public tap (< min.service level)",null,{"$f":"E118+E164+E210","v":13308.7968},13308.7968,13308.7968,6654.3984,6654.3984,6654.3984,6654.3984,6654.3984,6654.3984]
[null,10,"Other water supply (< min.service level)",null,3701.3919999999998,3701.3919999999998,3701.3919999999998,1850.6959999999999,1850.6959999999999,1850.6959999999999,1850.6959999999999,1850.6959999999999,1850.6959999999999]
[null,null,"No water supply",null,0,0,0,0,0,0,0,0,0]
[null,null,"Below Minimum Service Level sub-total",null,{"$f":"SUM(E72:E74)","v":17010.1888},{"$f":"SUM(F72:F74)","v":17010.1888},17010.1888,8505.0944,8505.0944,8505.0944,8505.0944,8505.0944,8505.0944]
[null,null,"Total number of households",null,{"$f":"E71+E75","v":341236.63439999998},{"$f":"F71+F75","v":341236.63439999998},341236.63439999998,170618.31719999999,170618.31719999999,170618.31719999999,170618.31719999999,170618.31719999999,170618.31719999999]
[null,null,"Sanitation/sewerage:"]
[null,null,"Flush toilet (connected to sewerage)",null,{"$f":"E124+E170+E216","v":183178.0392},183178.0392,183178.0392,91589.0196,91589.0196,91589.0196,91589.0196,91589.0196,91589.0196]
[null,null,"Flush toilet (with septic tank)",null,{"$f":"E125+E171+E217","v":17310.175200000001},17310.175200000001,17310.175200000001,8655.0876000000007,8655.0876000000007,8655.0876000000007,8655.0876000000007,8655.0876000000007,8655.0876000000007]
[null,null,"Chemical toilet",null,{"$f":"E126+E172+E218","v":14723.740800000001},14723.740800000001,14723.740800000001,7361.8704000000007,7361.8704000000007,7361.8704000000007,7361.8704000000007,7361.8704000000007,7361.8704000000007]
[null,null,"Pit toilet (ventilated)",null,{"$f":"E127+E173+E219","v":123655.7016},123655.7016,123655.7016,61827.8508,61827.8508,61827.8508,61827.8508,61827.8508,61827.8508]
[null,null,"Other toilet provisions (> min.service level)",null,{"$f":"E128+E174+E220","v":0},0,0,0,0,0,0,0,0]
[null,null,"Minimum Service Level and Above sub-total",null,{"$f":"SUM(E78:E82)","v":338867.6568},{"$f":"SUM(F78:F82)","v":338867.6568},338867.6568,169433.8284,169433.8284,169433.8284,169433.8284,169433.8284,169433.8284]
[null,null,"Bucket toilet",null,{"$f":"E130+E176+E222","v":0},0,0,0,0,0,0,0,0]
[null,null,"Other toilet provisions (< min.service level)",null,{"$f":"E131+E177+E223","v":2368.9776000000002},2368.9776000000002,2368.9776000000002,1184.4888000000001,1184.4888000000001,1184.4888000000001,1184.4888000000001,1184.4888000000001,1184.4888000000001]
[null,null,"No toilet provisions",null,{"$f":"E132+E178+E224","v":0},0,0,0,0,0,0,0,0]
[null,null,"Below Minimum Service Level sub-total",null,{"$f":"SUM(E84:E86)","v":2368.9776000000002},{"$f":"SUM(F84:F86)","v":2368.9776000000002},2368.9776000000002,1184.4888000000001,1184.4888000000001,1184.4888000000001,1184.4888000000001,1184.4888000000001,1184.4888000000001]
[null,null,"Total number of households",null,{"$f":"E83+E87","v":341236.63439999998},{"$f":"F83+F87","v":341236.63439999998},341236.63439999998,170618.31719999999,170618.31719999999,170618.31719999999,170618.31719999999,170618.31719999999,170618.31719999999]
[null,null,"Energy:"]
[null,null,"Electricity (at least min.service level)",null,{"$f":"E136+E182+E228","v":270542.8064},270542.8064,270542.8064,135271.4032,135271.4032,135271.4032,135271.4032,135271.4032,135271.4032]
[null,null,"Electricity - prepaid (min.service level)",null,{"$f":"E137+E183+E229","v":54693.828000000001},54693.828000000001,54693.828000000001,27346.914000000001,27346.914000000001,27346.914000000001,27346.914000000001,27346.914000000001,27346.914000000001]
[null,null,"Minimum Service Level and Above sub-total",null,{"$f":"SUM(E90:E91)","v":325236.63439999998},{"$f":"SUM(F90:F91)","v":325236.63439999998},325236.63439999998,162618.31719999999,162618.31719999999,162618.31719999999,162618.31719999999,162618.31719999999,162618.31719999999]
[null,null,"Electricity (< min.service level)",null,{"$f":"E139+E185+E231","v":0},0,0,0,0,0,0,0,0]
[null,null,"Electricity - prepaid (< min. service level)",null,{"$f":"E140+E186+E232","v":0},0,0,0,0,0,0,0,0]
[null,null,"Other energy sources",null,{"$f":"E141+E187+E233","v":16000},16000,16000,8000,8000,8000,8000,8000,8000]
[null,null,"Below Minimum Service Level sub-total",null,{"$f":"SUM(E93:E95)","v":16000},{"$f":"SUM(F93:F95)","v":16000},16000,8000,8000,8000,8000,8000,8000]
[null,null,"Total number of households",null,{"$f":"E92+E96","v":341236.63439999998},{"$f":"F92+F96","v":341236.63439999998},341236.63439999998,170618.31719999999,170618.31719999999,170618.31719999999,170618.31719999999,170618.31719999999,170618.31719999999]
[null,null,"Refuse:"]
[null,null,"Removed at least once a week",null,{"$f":"E145+E191+E237","v":259696},259696,259696,129848,129848,129848,129848,129848,129848]
[null,null,"Minimum Service Level and Above sub-total",null,{"$f":"SUM(E99)","v":259696},{"$f":"SUM(F99)","v":259696},259696,129848,129848,129848,129848,129848,129848]
[null,null,"Removed less frequently than once a week",null,{"$f":"E147+E193+E239","v":81540.634399999995},81540.634399999995,81540.634399999995,40770.317199999998,40770.317199999998,40770.317199999998,40770.317199999998,40770.317199999998,40770.317199999998]
[null,null,"Using communal refuse dump",null,{"$f":"E148+E194+E240","v":0},0,0,0,0,0,0,0,0]
[null,null,"Using own refuse dump",null,{"$f":"E149+E195+E241","v":0},0,0,0,0,0,0,0,0]
[null,null,"Other rubbish disposal",null,{"$f":"E150+E196+E242","v":0},0,0,0,0,0,0,0,0]
[null,null,"No rubbish disposal",null,{"$f":"E151+E197+E243","v":0},0,0,0,0,0,0,0,0]
[null,null,"Below Minimum Service Level sub-total",null,{"$f":"SUM(E101:E105)","v":81540.634399999995},81540.634399999995,81540.634399999995,40770.317199999998,40770.317199999998,40770.317199999998,40770.317199999998,40770.317199999998,40770.317199999998]
[null,null,"Total number of households",null,{"$f":"E100+E106","v":341236.63439999998},{"$f":"F100+F106","v":341236.63439999998},341236.63439999998,170618.31719999999,170618.31719999999,170618.31719999999,170618.31719999999,170618.31719999999,170618.31719999999]
[]
["Municipal in-house services",null,null,null,{"$f":"head1b","v":"2019/20"},{"$f":"head1A","v":"2020/21"},{"$f":"Head1","v":"2021/22"},{"$f":"Head2","v":"Current Year 2022/23"},null,null,{"$f":"Head3","v":"2023/24 Medium Term Revenue & Expenditure Framework"}]
[null,"Ref.",null,null,{"$f":"Head5A","v":"Outcome"},{"$f":"Head5A","v":"Outcome"},{"$f":"Head5A","v":"Outcome"},{"$f":"Head6","v":"Original Budget"},{"$f":"Head7","v":"Adjusted Budget"},{"$f":"Head8","v":"Full Year Forecast"},{"$f":"Head9","v":"Budget Year 2023/24"},{"$f":"Head10","v":"Budget Year +1 2024/25"},{"$f":"Head11","v":"Budget Year +2 2025/26"}]
[null,null,"Household service targets (000)"]
[null,null,"Water:"]
[null,null,"Piped water inside dwelling",null,84782.196000000011,84782.196000000011,84782.196000000011,84782.196000000011,84782.196000000011,84782.196000000011]
[null,null,"Piped water inside yard (but not in dwelling)",null,67480.5196,67480.5196,67480.5196,67480.5196,67480.5196,67480.5196]
[null,8,"Using public tap (at least min.service level)",null,6654.3984,6654.3984,6654.3984,6654.3984,6654.3984,6654.3984]
[null,10,"Other water supply (at least min.service level)",null,3196.1088,3196.1088,3196.1088,3196.1088,3196.1088,3196.1088]
[null,null,"Minimum Service Level and Above sub-total",null,{"$f":"SUM(E113:E116)","v":162113.22279999999},{"$f":"SUM(F113:F116)","v":162113.22279999999},162113.22279999999,162113.22279999999,162113.22279999999,162113.22279999999,0,0,0]
[null,9,"Using public tap (< min.service level)",null,6654.3984,6654.3984,6654.3984,6654.3984,6654.3984,6654.3984]
[null,10,"Other water supply (< min.service level)",null,1850.6959999999999,1850.6959999999999,1850.6959999999999,1850.6959999999999,1850.6959999999999,1850.6959999999999]
[null,null,"No water supply",null,0,0,null,0,0,0]
[null,null,"Below Minimum Service Level sub-total",null,{"$f":"SUM(E118:E120)","v":8505.0944},{"$f":"SUM(F118:F120)","v":8505.0944},8505.0944,8505.0944,8505.0944,8505.0944,0,0,0]
[null,null,"Total number of households",null,{"$f":"E117+E121","v":170618.31719999999},{"$f":"F117+F121","v":170618.31719999999},170618.31719999999,170618.31719999999,170618.31719999999,170618.31719999999,0,0,0]
[null,null,"Sanitation/sewerage:"]
[null,null,"Flush toilet (connected to sewerage)",null,91589.0196,91589.0196,91589.0196,91589.0196,91589.0196,91589.0196]
[null,null,"Flush toilet (with septic tank)",null,8655.0876000000007,8655.0876000000007,8655.0876000000007,8655.0876000000007,8655.0876000000007,8655.0876000000007]
[null,null,"Chemical toilet",null,7361.8704000000007,7361.8704000000007,7361.8704000000007,7361.8704000000007,7361.8704000000007,7361.8704000000007]
[null,null,"Pit toilet (ventilated)",null,61827.8508,61827.8508,61827.8508,61827.8508,61827.8508,61827.8508]
[null,null,"Other toilet provisions (> min.service level)",null,0,0,null,0,0,0]
[null,null,"Minimum Service Level and Above sub-total",null,{"$f":"SUM(E124:E128)","v":169433.8284},{"$f":"SUM(F124:F128)","v":169433.8284},169433.8284,169433.8284,169433.8284,169433.8284,0,0,0]
[null,null,"Bucket toilet"]
[null,null,"Other toilet provisions (< min.service level)",null,1184.4888000000001,1184.4888000000001,1184.4888000000001,1184.4888000000001,1184.4888000000001,1184.4888000000001]
[null,null,"No toilet provisions"]
[null,null,"Below Minimum Service Level sub-total",null,{"$f":"SUM(E130:E132)","v":1184.4888000000001},{"$f":"SUM(F130:F132)","v":1184.4888000000001},1184.4888000000001,1184.4888000000001,1184.4888000000001,1184.4888000000001,0,0,0]
[null,null,"Total number of households",null,{"$f":"E129+E133","v":170618.31719999999},{"$f":"F129+F133","v":170618.31719999999},170618.31719999999,170618.31719999999,170618.31719999999,170618.31719999999,0,0,0]
[null,null,"Energy:"]
[null,null,"Electricity (at least min.service level)",null,135271.4032,135271.4032,135271.4032,135271.4032,135271.4032,135271.4032]
[null,null,"Electricity - prepaid (min.service level)",null,27346.914000000001,27346.914000000001,27346.914000000001,27346.914000000001,27346.914000000001,27346.914000000001]
[null,null,"Minimum Service Level and Above sub-total",null,{"$f":"SUM(E136:E137)","v":162618.31719999999},{"$f":"SUM(F136:F137)","v":162618.31719999999},162618.31719999999,162618.31719999999,162618.31719999999,162618.31719999999,0,0,0]
[null,null,"Electricity (< min.service level)"]
[null,null,"Electricity - prepaid (< min. service level)"]
[null,null,"Other energy sources",null,8000,8000,8000,8000,8000,8000]
[null,null,"Below Minimum Service Level sub-total",null,{"$f":"SUM(E139:E141)","v":8000},{"$f":"SUM(F139:F141)","v":8000},8000,8000,8000,8000,0,0,0]
[null,null,"Total number of households",null,{"$f":"E138+E142","v":170618.31719999999},{"$f":"F138+F142","v":170618.31719999999},170618.31719999999,170618.31719999999,170618.31719999999,170618.31719999999,0,0,0]
[null,null,"Refuse:"]
[null,null,"Removed at least once a week",null,129848,129848,129848,129848,129848,129848]
[null,null,"Minimum Service Level and Above sub-total",null,{"$f":"SUM(E145)","v":129848},{"$f":"SUM(F145)","v":129848},129848,129848,129848,129848,0,0,0]
[null,null,"Removed less frequently than once a week",null,40770.317199999998,40770.317199999998,40770.317199999998,40770.317199999998,40770.317199999998,40770.317199999998]
[null,null,"Using communal refuse dump"]
[null,null,"Using own refuse dump"]
[null,null,"Other rubbish disposal"]
[null,null,"No rubbish disposal"]
[null,null,"Below Minimum Service Level sub-total",null,{"$f":"SUM(E147:E151)","v":40770.317199999998},40770.317199999998,40770.317199999998,40770.317199999998,40770.317199999998,40770.317199999998,0,0,0]
[null,null,"Total number of households",null,{"$f":"E146+E152","v":170618.31719999999},{"$f":"F146+F152","v":170618.31719999999},170618.31719999999,170618.31719999999,170618.31719999999,170618.31719999999,0,0,0]
[]
["Municipal entity services",null,null,null,{"$f":"head1b","v":"2019/20"},{"$f":"head1A","v":"2020/21"},{"$f":"Head1","v":"2021/22"},{"$f":"Head2","v":"Current Year 2022/23"},null,null,{"$f":"Head3","v":"2023/24 Medium Term Revenue & Expenditure Framework"}]
[null,"Ref.",null,null,{"$f":"Head5A","v":"Outcome"},{"$f":"Head5A","v":"Outcome"},{"$f":"Head5A","v":"Outcome"},{"$f":"Head6","v":"Original Budget"},{"$f":"Head7","v":"Adjusted Budget"},{"$f":"Head8","v":"Full Year Forecast"},{"$f":"Head9","v":"Budget Year 2023/24"},{"$f":"Head10","v":"Budget Year +1 2024/25"},{"$f":"Head11","v":"Budget Year +2 2025/26"}]
[null,null,"Household service targets (000)"]
["Name of municipal entity",null,"Water:"]
[null,null,"Piped water inside dwelling",null,84782.196000000011,84782.196000000011,84782.196000000011,null,null,null,84782.196000000011,84782.196000000011,84782.196000000011]
[null,null,"Piped water inside yard (but not in dwelling)",null,67480.5196,67480.5196,67480.5196,null,null,null,67480.5196,67480.5196,67480.5196]
[null,8,"Using public tap (at least min.service level)",null,6654.3984,6654.3984,6654.3984,null,null,null,6654.3984,6654.3984,6654.3984]
[null,10,"Other water supply (at least min.service level)",null,3196.1088,3196.1088,3196.1088,null,null,null,3196.1088,3196.1088,3196.1088]
[null,null,"Minimum Service Level and Above sub-total",null,{"$f":"SUM(E159:E162)","v":162113.22279999999},{"$f":"SUM(F159:F162)","v":162113.22279999999},162113.22279999999,0,0,0,162113.22279999999,162113.22279999999,162113.22279999999]
[null,9,"Using public tap (< min.service level)",null,6654.3984,6654.3984,6654.3984,null,null,null,6654.3984,6654.3984,6654.3984]
[null,10,"Other water supply (< min.service level)",null,1850.6959999999999,1850.6959999999999,1850.6959999999999,null,null,null,1850.6959999999999,1850.6959999999999,1850.6959999999999]
[null,null,"No water supply",null,0,0,null,null,null,null,0,0,0]
[null,null,"Below Minimum Service Level sub-total",null,{"$f":"SUM(E164:E166)","v":8505.0944},{"$f":"SUM(F164:F166)","v":8505.0944},8505.0944,0,0,0,8505.0944,8505.0944,8505.0944]
[null,null,"Total number of households",null,{"$f":"E163+E167","v":170618.31719999999},{"$f":"F163+F167","v":170618.31719999999},170618.31719999999,0,0,0,170618.31719999999,170618.31719999999,170618.31719999999]
["Name of municipal entity",null,"Sanitation/sewerage:"]
[null,null,"Flush toilet (connected to sewerage)",null,91589.0196,91589.0196,91589.0196,null,null,null,91589.0196,91589.0196,91589.0196]
[null,null,"Flush toilet (with septic tank)",null,8655.0876000000007,8655.0876000000007,8655.0876000000007,null,null,null,8655.0876000000007,8655.0876000000007,8655.0876000000007]
[null,null,"Chemical toilet",null,7361.8704000000007,7361.8704000000007,7361.8704000000007,null,null,null,7361.8704000000007,7361.8704000000007,7361.8704000000007]
[null,null,"Pit toilet (ventilated)",null,61827.8508,61827.8508,61827.8508,null,null,null,61827.8508,61827.8508,61827.8508]
[null,null,"Other toilet provisions (> min.service level)",null,null,null,null,null,null,null,0,0]
[null,null,"Minimum Service Level and Above sub-total",null,{"$f":"SUM(E170:E174)","v":169433.8284},{"$f":"SUM(F170:F174)","v":169433.8284},169433.8284,0,0,0,169433.8284,169433.8284,169433.8284]
[null,null,"Bucket toilet"]
[null,null,"Other toilet provisions (< min.service level)",null,1184.4888000000001,1184.4888000000001,1184.4888000000001,null,null,null,1184.4888000000001,1184.4888000000001,1184.4888000000001]
[null,null,"No toilet provisions"]
[null,null,"Below Minimum Service Level sub-total",null,{"$f":"SUM(E176:E178)","v":1184.4888000000001},{"$f":"SUM(F176:F178)","v":1184.4888000000001},1184.4888000000001,0,0,0,1184.4888000000001,1184.4888000000001,1184.4888000000001]
[null,null,"Total number of households",null,{"$f":"E175+E179","v":170618.31719999999},{"$f":"F175+F179","v":170618.31719999999},170618.31719999999,0,0,0,170618.31719999999,170618.31719999999,170618.31719999999]
["Name of municipal entity",null,"Energy:"]
[null,null,"Electricity (at least min.service level)",null,135271.4032,135271.4032,135271.4032,null,null,null,135271.4032,135271.4032,135271.4032]
[null,null,"Electricity - prepaid (min.service level)",null,27346.914000000001,27346.914000000001,27346.914000000001,null,null,null,27346.914000000001,27346.914000000001,27346.914000000001]
[null,null,"Minimum Service Level and Above sub-total",null,{"$f":"SUM(E182:E183)","v":162618.31719999999},{"$f":"SUM(F182:F183)","v":162618.31719999999},162618.31719999999,0,0,0,162618.31719999999,162618.31719999999,162618.31719999999]
[null,null,"Electricity (< min.service level)"]
[null,null,"Electricity - prepaid (< min. service level)"]
[null,null,"Other energy sources",null,8000,8000,8000,null,null,null,8000,8000,8000]
[null,null,"Below Minimum Service Level sub-total",null,{"$f":"SUM(E185:E187)","v":8000},{"$f":"SUM(F185:F187)","v":8000},8000,0,0,0,8000,8000,8000]
[null,null,"Total number of households",null,{"$f":"E184+E188","v":170618.31719999999},{"$f":"F184+F188","v":170618.31719999999},170618.31719999999,0,0,0,170618.31719999999,170618.31719999999,170618.31719999999]
["Name of municipal entity",null,"Refuse:"]
[null,null,"Removed at least once a week",null,129848,129848,129848,null,null,null,129848,129848,129848]
[null,null,"Minimum Service Level and Above sub-total",null,{"$f":"SUM(E191)","v":129848},{"$f":"SUM(F191)","v":129848},129848,0,0,0,129848,129848,129848]
[null,null,"Removed less frequently than once a week",null,40770.317199999998,40770.317199999998,40770.317199999998,null,null,null,40770.317199999998,40770.317199999998,40770.317199999998]
[null,null,"Using communal refuse dump"]
[null,null,"Using own refuse dump"]
[null,null,"Other rubbish disposal"]
[null,null,"No rubbish disposal"]
[null,null,"Below Minimum Service Level sub-total",null,{"$f":"SUM(E193:E197)","v":40770.317199999998},40770.317199999998,40770.317199999998,0,0,0,40770.317199999998,40770.317199999998,40770.317199999998]
[null,null,"Total number of households",null,{"$f":"E192+E198","v":170618.31719999999},{"$f":"F192+F198","v":170618.31719999999},170618.31719999999,0,0,0,170618.31719999999,170618.31719999999,170618.31719999999]
[]
["Services provided by 'external mechanisms'",null,null,null,{"$f":"head1b","v":"2019/20"},{"$f":"head1A","v":"2020/21"},{"$f":"Head1","v":"2021/22"},{"$f":"Head2","v":"Current Year 2022/23"},null,null,{"$f":"Head3","v":"2023/24 Medium Term Revenue & Expenditure Framework"}]
[null,"Ref.",null,null,{"$f":"Head5A","v":"Outcome"},{"$f":"Head5A","v":"Outcome"},{"$f":"Head5A","v":"Outcome"},{"$f":"Head6","v":"Original Budget"},{"$f":"Head7","v":"Adjusted Budget"},{"$f":"Head8","v":"Full Year Forecast"},{"$f":"Head9","v":"Budget Year 2023/24"},{"$f":"Head10","v":"Budget Year +1 2024/25"},{"$f":"Head11","v":"Budget Year +2 2025/26"}]
["Names of service providers",null,"Household service targets (000)"]
[null,null,"Water:"]
[null,null,"Piped water inside dwelling"]
[null,null,"Piped water inside yard (but not in dwelling)"]
[null,8,"Using public tap (at least min.service level)"]
[null,10,"Other water supply (at least min.service level)"]
[null,null,"Minimum Service Level and Above sub-total",null,{"$f":"SUM(E205:E208)","v":0},{"$f":"SUM(F205:F208)","v":0},0,0,0,0,0,0,0]
[null,9,"Using public tap (< min.service level)"]
[null,10,"Other water supply (< min.service level)"]
[null,null,"No water supply"]
[null,null,"Below Minimum Service Level sub-total",null,{"$f":"SUM(E210:E212)","v":0},{"$f":"SUM(F210:F212)","v":0},0,0,0,0,0,0,0]
[null,null,"Total number of households",null,{"$f":"E209+E213","v":0},{"$f":"F209+F213","v":0},0,0,0,0,0,0,0]
["Names of service providers",null,"Sanitation/sewerage:"]
[null,null,"Flush toilet (connected to sewerage)"]
[null,null,"Flush toilet (with septic tank)"]
[null,null,"Chemical toilet"]
[null,null,"Pit toilet (ventilated)"]
[null,null,"Other toilet provisions (> min.service level)"]
[null,null,"Minimum Service Level and Above sub-total",null,{"$f":"SUM(E216:E220)","v":0},{"$f":"SUM(F216:F220)","v":0},0,0,0,0,0,0,0]
[null,null,"Bucket toilet"]
[null,null,"Other toilet provisions (< min.service level)"]
[null,null,"No toilet provisions"]
[null,null,"Below Minimum Service Level sub-total",null,{"$f":"SUM(E222:E224)","v":0},{"$f":"SUM(F222:F224)","v":0},0,0,0,0,0,0,0]
[null,null,"Total number of households",null,{"$f":"E221+E225","v":0},{"$f":"F221+F225","v":0},0,0,0,0,0,0,0]
["Names of service providers",null,"Energy:"]
[null,null,"Electricity (at least min.service level)"]
[null,null,"Electricity - prepaid (min.service level)"]
[null,null,"Minimum Service Level and Above sub-total",null,{"$f":"SUM(E228:E229)","v":0},{"$f":"SUM(F228:F229)","v":0},0,0,0,0,0,0,0]
[null,null,"Electricity (< min.service level)"]
[null,null,"Electricity - prepaid (< min. service level)"]
[null,null,"Other energy sources"]
[null,null,"Below Minimum Service Level sub-total",null,{"$f":"SUM(E231:E233)","v":0},{"$f":"SUM(F231:F233)","v":0},0,0,0,0,0,0,0]
[null,null,"Total number of households",null,{"$f":"E230+E234","v":0},{"$f":"F230+F234","v":0},0,0,0,0,0,0,0]
["Names of service providers",null,"Refuse:"]
[null,null,"Removed at least once a week"]
[null,null,"Minimum Service Level and Above sub-total",null,{"$f":"SUM(E237)","v":0},{"$f":"SUM(F237)","v":0},0,0,0,0,0,0,0]
[null,null,"Removed less frequently than once a week"]
[null,null,"Using communal refuse dump"]
[null,null,"Using own refuse dump"]
[null,null,"Other rubbish disposal"]
[null,null,"No rubbish disposal"]
[null,null,"Below Minimum Service Level sub-total",null,{"$f":"SUM(E239:E243)","v":0},0,0,0,0,0,0,0,0]
[null,null,"Total number of households",null,{"$f":"E238+E244","v":0},{"$f":"F238+F244","v":0},0,0,0,0,0,0,0]
[]
["Detail of Free Basic Services (FBS) provided",null,null,null,{"$f":"head1b","v":"2019/20"},{"$f":"head1A","v":"2020/21"},{"$f":"Head1","v":"2021/22"},{"$f":"Head2","v":"Current Year 2022/23"},null,null,{"$f":"Head3","v":"2023/24 Medium Term Revenue & Expenditure Framework"}]
[null,null,null,null,{"$f":"Head5A","v":"Outcome"},{"$f":"Head5A","v":"Outcome"},{"$f":"Head5A","v":"Outcome"},{"$f":"Head6","v":"Original Budget"},{"$f":"Head7","v":"Adjusted Budget"},{"$f":"Head8","v":"Full Year Forecast"},{"$f":"Head9","v":"Budget Year 2023/24"},{"$f":"Head10","v":"Budget Year +1 2024/25"},{"$f":"Head11","v":"Budget Year +2 2025/26"}]
["Electricity","Ref.","Location of households for each type of FBS"]
["List type of FBS service",null,"Formal settlements -  (50 kwh per indigent household per month Rands)"]
[null,null,"Number of HH receiving this type of FBS"]
[null,null,"Informal settlements (Rands)",null,null,null,null,3901021.5034187702,null,null,4072666.4495692002,4255936.4397998098]
[null,null,"Number of HH receiving this type of FBS"]
[null,null,"Informal settlements targeted for upgrading (Rands)"]
[null,null,"Number of HH receiving this type of FBS"]
[null,null,"Living in informal backyard rental agreement (Rands)"]
[null,null,"Number of HH receiving this type of FBS"]
[null,null,"Other (Rands)"]
[null,null,"Number of HH receiving this type of FBS"]
[null,null,"Total cost of FBS - Electricity for informal settlements",null,{"$f":"E252+E254+E256+E258","v":0},{"$f":"F252+F254+F256+F258","v":0},0,3901021.5034187702,0,0,4072666.4495692002,4255936.4397998098,0]
["Water","Ref.","Location of households for each type of FBS"]
["List type of FBS service",null,"Formal settlements -  (6 kilolitre per indigent household per month Rands)"]
[null,null,"Number of HH receiving this type of FBS"]
[null,null,"Informal settlements (Rands)",null,null,null,null,202356395.28541401,null,null,214497779.00253901,227367645.74269101]
[null,null,"Number of HH receiving this type of FBS"]
[null,null,"Informal settlements targeted for upgrading (Rands)"]
[null,null,"Number of HH receiving this type of FBS"]
[null,null,"Living in informal backyard rental agreement (Rands)"]
[null,null,"Number of HH receiving this type of FBS"]
[null,null,"Other (Rands)"]
[null,null,"Number of HH receiving this type of FBS"]
[null,null,"Total cost of FBS - Water  for informal settlements",null,{"$f":"E264+E266+E268+E270","v":0},{"$f":"F264+F266+F268+F270","v":0},0,202356395.28541401,0,0,214497779.00253901,227367645.74269101,0]
["Sanitation","Ref.","Location of households for each type of FBS"]
["List type of FBS service",null,"Formal settlements -  (free sanitation service to indigent households)"]
[null,null,"Number of HH receiving this type of FBS"]
[null,null,"Informal settlements (Rands)",null,null,null,null,14449010.072241699,null,null,15749420.9787434,17166868.866830401]
[null,null,"Number of HH receiving this type of FBS"]
[null,null,"Informal settlements targeted for upgrading (Rands)"]
[null,null,"Number of HH receiving this type of FBS"]
[null,null,"Living in informal backyard rental agreement (Rands)"]
[null,null,"Number of HH receiving this type of FBS"]
[null,null,"Other (Rands)"]
[null,null,"Number of HH receiving this type of FBS"]
[null,null,"Total cost of FBS - Sanitation for informal settlements",null,{"$f":"E276+E278+E280+E282","v":0},{"$f":"F276+F278+F280+F282","v":0},0,14449010.072241699,0,0,15749420.9787434,17166868.866830401,0]
["Refuse Removal","Ref.","Location of households for each type of FBS"]
["List type of FBS service",null,"Formal settlements -  (removed once a week to indigent households)"]
[null,null,"Number of HH receiving this type of FBS"]
[null,null,"Informal settlements (Rands)",null,null,null,null,7382359.2696730997,null,null,7751477.23315675,8139051.0948145902]
[null,null,"Number of HH receiving this type of FBS"]
[null,null,"Informal settlements targeted for upgrading (Rands)"]
[null,null,"Number of HH receiving this type of FBS"]
[null,null,"Living in informal backyard rental agreement (Rands)"]
[null,null,"Number of HH receiving this type of FBS"]
[null,null,"Other (Rands)"]
[null,null,"Number of HH receiving this type of FBS"]
[null,null,"Total cost of FBS - Refuse Removal for informal settlements",null,{"$f":"E288+E290+E292+E294","v":0},{"$f":"F288+F290+F292+F294","v":0},0,7382359.2696730997,0,0,7751477.23315675,8139051.0948145902,0]
[{"$f":"head27a","v":"References"}]
["1. Monthly household income threshold. Should include all sources of income."]
["2. Show the poverty analysis the municipality uses to determine its indigents policy and the provision of services"]
["3. Include total of all housing units within the municipality"]
["4. Number of subsidised dwellings to be constructed by the municipality under agency agreement with province"]
["5. Provide estimate based on building approval information. Include any non-subsidised dwellings constructed by the municipality"]
["6. Insert actual or estimated % increases assumed as a basis for budget calculations"]
["7. Insert actual or estimated % collection rate assumed as a basis for budget calculations for each revenue group"]
["8. Stand distance <= 200m from dwelling"]
["9. Stand distance > 200m from dwelling"]
["10. Borehole, spring, rain-water tank etc."]
["11. Must agree to total number of households in municipal area"]
["12. Household income categories assume an average 4 person household. Stats SA - Census 2011 Questionnaire"]
["13. Based on National poverty line of R515 per capita per month (2008 prices), assuming an average household size of 4 persons"]

{"sheet":"SA10","index":28,"n_rows":138,"n_cols":13,"rows_kept":138,"cut":false,"hidden":false,"merged":[[1,0,2,0],[1,10,1,12],[1,1,2,1],[1,2,2,2],[1,6,1,9]]}
[{"$f":"muni &\" \" & TableA10","v":"0 Supporting Table SA10 Funding measurement"}]
[{"$f":"desc","v":"Description"},"MFMA section",{"$f":"head27","v":"Ref"},{"$f":"head1b","v":"2019/20"},{"$f":"head1A","v":"2020/21"},{"$f":"Head1","v":"2021/22"},{"$f":"Head2","v":"Current Year 2022/23"},null,null,null,{"$f":"Head3","v":"2023/24 Medium Term Revenue & Expenditure Framework"}]
[null,null,null,{"$f":"Head5","v":"Audited Outcome"},{"$f":"Head5","v":"Audited Outcome"},{"$f":"Head5","v":"Audited Outcome"},{"$f":"Head6","v":"Original Budget"},{"$f":"Head7","v":"Adjusted Budget"},{"$f":"Head8","v":"Full Year Forecast"},{"$f":"Head5b","v":"Pre-audit outcome"},{"$f":"Head9","v":"Budget Year 2023/24"},{"$f":"Head10","v":"Budget Year +1 2024/25"},{"$f":"Head11","v":"Budget Year +2 2025/26"}]
["Funding measures"]
[{"$f":"LEFT('A7-CFlow'!A39,37)&\" - R'000\"","v":"Cash/cash equivalents at the year end - R'000"},"18(1)b",1,{"$f":"'A7-CFlow'!C39","v":518976967},{"$f":"'A7-CFlow'!D39","v":361320731},{"$f":"'A7-CFlow'!E39","v":288152840},{"$f":"'A7-CFlow'!F39","v":134860108.44},{"$f":"'A7-CFlow'!G39","v":412002857.26500005},{"$f":"'A7-CFlow'!H39","v":412002857.26500005},{"$f":"'A7-CFlow'!I39","v":0},{"$f":"'A7-CFlow'!J39","v":767162244.2650001},{"$f":"'A7-CFlow'!K39","v":1280537199.2650001},{"$f":"'A7-CFlow'!L39","v":2190338667.2650003}]
["Cash + investments at the yr end less applications - R'000","18(1)b",2,{"$f":"'A8-ResRecon'!C8-'A8-ResRecon'!C18","v":8282504037},{"$f":"'A8-ResRecon'!D8-'A8-ResRecon'!D18","v":7830417281},{"$f":"'A8-ResRecon'!E8-'A8-ResRecon'!E18","v":7920240733},{"$f":"'A8-ResRecon'!F8-'A8-ResRecon'!F18","v":8221360407.5064983},{"$f":"'A8-ResRecon'!G8-'A8-ResRecon'!G18","v":9861900275.9948254},{"$f":"'A8-ResRecon'!H8-'A8-ResRecon'!H18","v":9861900275.9948254},{"$f":"'A8-ResRecon'!I8-'A8-ResRecon'!I18","v":4204533611},{"$f":"'A8-ResRecon'!J8-'A8-ResRecon'!J18","v":8993637866.0000019},{"$f":"'A8-ResRecon'!K8-'A8-ResRecon'!K18","v":8957088175.0300026},{"$f":"'A8-ResRecon'!L8-'A8-ResRecon'!L18","v":8157266558.1000881}]
["Cash year end/monthly employee/supplier payments","18(1)b",3,{"$f":"IF(ISERROR('SA8'!C43),0,('SA8'!C43))","v":1.2438608807022595},{"$f":"IF(ISERROR('SA8'!D43),0,('SA8'!D43))","v":0.87492732983732246},{"$f":"IF(ISERROR('SA8'!E43),0,('SA8'!E43))","v":0.55163438612380256},{"$f":"IF(ISERROR('SA8'!F43),0,('SA8'!F43))","v":0.30201176077974684},{"$f":"IF(ISERROR('SA8'!G43),0,('SA8'!G43))","v":0.89339997409817218},{"$f":"IF(ISERROR('SA8'!H43),0,('SA8'!H43))","v":0.89339997409817218},{"$f":"IF(ISERROR('SA8'!I43),0,('SA8'!I43))","v":0},{"$f":"IF(ISERROR('SA8'!J43),0,('SA8'!J43))","v":1.4146530785344762},{"$f":"IF(ISERROR('SA8'!K43),0,('SA8'!K43))","v":2.1240465185056041},{"$f":"IF(ISERROR('SA8'!L43),0,('SA8'!L43))","v":3.3388382490762254}]
["Surplus/(Deficit) excluding depreciation offsets: R'000","18(1)",4,{"$f":"'A4-FinPerf RE'!C51+'SA3'!C164","v":223780153.00000095},{"$f":"'A4-FinPerf RE'!D51+'SA3'!D164","v":54956400},{"$f":"'A4-FinPerf RE'!E51+'SA3'!E164","v":-726982180},{"$f":"'A4-FinPerf RE'!F51+'SA3'!F164","v":1042254477.0861617},{"$f":"'A4-FinPerf RE'!G51+'SA3'!G164","v":810023855.25787044},{"$f":"'A4-FinPerf RE'!H51+'SA3'!H164","v":810023855.25787044},{"$f":"'A4-FinPerf RE'!I51+'SA3'!I164","v":0},{"$f":"'A4-FinPerf RE'!J51+'SA3'!P164","v":865638385.21045899},{"$f":"'A4-FinPerf RE'!K51+'SA3'!Q164","v":815666605.19718862},{"$f":"'A4-FinPerf RE'!L51+'SA3'!R164","v":1182647460.014183}]
["Service charge rev % change - macro CPIX target exclusive","18(1)a,(2)",5,"N.A.",{"$f":"IF(ISERROR(E36-E61),0,(E36-E61))","v":-2.3212690105874179E-2},{"$f":"IF(ISERROR(F36-F61),0,(F36-F61))","v":2.8292231552683955E-2},0.1269304929748179,-0.06,-0.06,-1.06,{"$f":"IF(ISERROR(K36-K61),0,(K36-K61))","v":0.10193229637697959},5.3854824008512436E-2,6.792828674969581E-2]
["Cash receipts % of Ratepayer & Other revenue","18(1)a,(2)",6,{"$f":"IF(ISERROR(D53/D54),0,(D53/D54))","v":0.3561682099583196},{"$f":"IF(ISERROR(E53/E54),0,(E53/E54))","v":0.37269746743182564},0.38388454445338444,0.4285825212231677,0.43072303078120361,0.43072303078120361,0,0.45840377565573576,0.48627950470196907,0.5060512479669842]
["Debt impairment expense as a % of total billable revenue","18(1)a,(2)",7,null,{"$f":"IF(ISERROR('A4-FinPerf RE'!D38/'SA10'!E43),0,('A4-FinPerf RE'!D38/'SA10'!E43))","v":5.3255135116712045E-2},{"$f":"IF(ISERROR('A4-FinPerf RE'!E38/'SA10'!F43),0,('A4-FinPerf RE'!E38/'SA10'!F43))","v":0.20777456625640964},{"$f":"IF(ISERROR('A4-FinPerf RE'!F38/'SA10'!G43),0,('A4-FinPerf RE'!F38/'SA10'!G43))","v":5.2318739722351335E-2},{"$f":"IF(ISERROR('A4-FinPerf RE'!G38/'SA10'!H43),0,('A4-FinPerf RE'!G38/'SA10'!H43))","v":5.2318739722351335E-2},{"$f":"IF(ISERROR('A4-FinPerf RE'!H38/'SA10'!I43),0,('A4-FinPerf RE'!H38/'SA10'!I43))","v":5.2318739722351335E-2},{"$f":"IF(ISERROR('A4-FinPerf RE'!I38/'SA10'!J43),0,('A4-FinPerf RE'!I38/'SA10'!J43))","v":0},{"$f":"IF(ISERROR('A4-FinPerf RE'!J38/'SA10'!K43),0,('A4-FinPerf RE'!J38/'SA10'!K43))","v":9.0054712973357168E-2},{"$f":"IF(ISERROR('A4-FinPerf RE'!K38/'SA10'!L43),0,('A4-FinPerf RE'!K38/'SA10'!L43))","v":8.4487828241823937E-2},{"$f":"IF(ISERROR('A4-FinPerf RE'!L38/'SA10'!M43),0,('A4-FinPerf RE'!L38/'SA10'!M43))","v":7.8425869098555548E-2}]
["Capital payments % of capital expenditure","18(1)c;19",8,{"$f":"IF(ISERROR(-'A7-CFlow'!C25/'A5-Capex'!C63),0,(-'A7-CFlow'!C25/'A5-Capex'!C63))","v":0},0,0,0,0,0,0,0,0,0]
["Borrowing receipts % of capital expenditure (excl. transfers)","18(1)c",9,{"$f":"IF(ISERROR('A7-CFlow'!C31/'SA10'!D52),0,('A7-CFlow'!C31/'SA10'!D52))","v":0},{"$f":"IF(ISERROR('A7-CFlow'!D31/'SA10'!E52),0,('A7-CFlow'!D31/'SA10'!E52))","v":0},{"$f":"IF(ISERROR('A7-CFlow'!E31/'SA10'!F52),0,('A7-CFlow'!E31/'SA10'!F52))","v":0},{"$f":"IF(ISERROR('A7-CFlow'!F31/'SA10'!G52),0,('A7-CFlow'!F31/'SA10'!G52))","v":0.76931488888236277},{"$f":"IF(ISERROR('A7-CFlow'!G31/'SA10'!H52),0,('A7-CFlow'!G31/'SA10'!H52))","v":0},{"$f":"IF(ISERROR('A7-CFlow'!H31/'SA10'!I52),0,('A7-CFlow'!H31/'SA10'!I52))","v":0},{"$f":"IF(ISERROR('A7-CFlow'!I31/'SA10'!J52),0,('A7-CFlow'!I31/'SA10'!J52))","v":0},{"$f":"IF(ISERROR('A7-CFlow'!J31/'SA10'!K52),0,('A7-CFlow'!J31/'SA10'!K52))","v":0.62488283632331032},{"$f":"IF(ISERROR('A7-CFlow'!K31/'SA10'!L52),0,('A7-CFlow'!K31/'SA10'!L52))","v":0.57692307692307676},{"$f":"IF(ISERROR('A7-CFlow'!L31/'SA10'!M52),0,('A7-CFlow'!L31/'SA10'!M52))","v":0}]
["Grants % of Govt. legislated/gazetted allocations","18(1)a",10,null,null,null,null,null,null,null,{"$f":"IF(ISERROR(K56/K68),0,(K56/K68))","v":0},{"$f":"IF(ISERROR(L56/L68),0,(L56/L68))","v":0},{"$f":"IF(ISERROR(M56/M68),0,(M56/M68))","v":0}]
["Current consumer debtors % change - incr(decr)","18(1)a",11,"N.A.",{"$f":"IF(ISERROR(ROUND((SUM('A6-FinPos'!D7:D9)-SUM('A6-FinPos'!C7:C9))/SUM('A6-FinPos'!C7:C9),3)),0,(ROUND((SUM('A6-FinPos'!D7:D9)-SUM('A6-FinPos'!C7:C9))/SUM('A6-FinPos'!C7:C9),3)))","v":-0.122},{"$f":"IF(ISERROR(ROUND((SUM('A6-FinPos'!E7:E9)-SUM('A6-FinPos'!D7:D9))/SUM('A6-FinPos'!D7:D9),3)),0,(ROUND((SUM('A6-FinPos'!E7:E9)-SUM('A6-FinPos'!D7:D9))/SUM('A6-FinPos'!D7:D9),3)))","v":6.4000000000000001E-2},{"$f":"IF(ISERROR(ROUND((SUM('A6-FinPos'!F7:F9)-SUM('A6-FinPos'!E7:E9))/SUM('A6-FinPos'!E7:E9),3)),0,(ROUND((SUM('A6-FinPos'!F7:F9)-SUM('A6-FinPos'!E7:E9))/SUM('A6-FinPos'!E7:E9),3)))","v":-3.9E-2},{"$f":"IF(ISERROR(ROUND((SUM('A6-FinPos'!G7:G9)-SUM('A6-FinPos'!F7:F9))/SUM('A6-FinPos'!F7:F9),3)),0,(ROUND((SUM('A6-FinPos'!G7:G9)-SUM('A6-FinPos'!F7:F9))/SUM('A6-FinPos'!F7:F9),3)))","v":0.35899999999999999},{"$f":"IF(ISERROR(ROUND((SUM('A6-FinPos'!H7:H9)-SUM('A6-FinPos'!G7:G9))/SUM('A6-FinPos'!G7:G9),3)),0,(ROUND((SUM('A6-FinPos'!H7:H9)-SUM('A6-FinPos'!G7:G9))/SUM('A6-FinPos'!G7:G9),3)))","v":0},{"$f":"IF(ISERROR(ROUND((SUM('A6-FinPos'!I7:I9)-SUM('A6-FinPos'!H7:H9))/SUM('A6-FinPos'!H7:H9),3)),0,(ROUND((SUM('A6-FinPos'!I7:I9)-SUM('A6-FinPos'!H7:H9))/SUM('A6-FinPos'!H7:H9),3)))","v":0.73599999999999999},{"$f":"IF(ISERROR(ROUND((SUM('A6-FinPos'!J7:J9)-SUM('A6-FinPos'!I7:I9))/SUM('A6-FinPos'!I7:I9),3)),0,(ROUND((SUM('A6-FinPos'!J7:J9)-SUM('A6-FinPos'!I7:I9))/SUM('A6-FinPos'!I7:I9),3)))","v":-0.53300000000000003},{"$f":"IF(ISERROR(ROUND((SUM('A6-FinPos'!K7:K9)-SUM('A6-FinPos'!J7:J9))/SUM('A6-FinPos'!J7:J9),3)),0,(ROUND((SUM('A6-FinPos'!K7:K9)-SUM('A6-FinPos'!J7:J9))/SUM('A6-FinPos'!J7:J9),3)))","v":-7.9000000000000001E-2},{"$f":"IF(ISERROR(ROUND((SUM('A6-FinPos'!L7:L9)-SUM('A6-FinPos'!K7:K9))/SUM('A6-FinPos'!K7:K9),3)),0,(ROUND((SUM('A6-FinPos'!L7:L9)-SUM('A6-FinPos'!K7:K9))/SUM('A6-FinPos'!K7:K9),3)))","v":-0.30299999999999999}]
["Long term receivables % change - incr(decr)","18(1)a",12,"N.A.",{"$f":"IF(ISERROR(ROUND((SUM('A6-FinPos'!D22:D23)-SUM('A6-FinPos'!C22:C23))/SUM('A6-FinPos'!C22:C23),3)),0,(ROUND((SUM('A6-FinPos'!D22:D23)-SUM('A6-FinPos'!C22:C23))/SUM('A6-FinPos'!C22:C23),3)))","v":0},{"$f":"IF(ISERROR(ROUND((SUM('A6-FinPos'!E22:E23)-SUM('A6-FinPos'!D22:D23))/SUM('A6-FinPos'!D22:D23),3)),0,(ROUND((SUM('A6-FinPos'!E22:E23)-SUM('A6-FinPos'!D22:D23))/SUM('A6-FinPos'!D22:D23),3)))","v":0},{"$f":"IF(ISERROR(ROUND((SUM('A6-FinPos'!F22:F23)-SUM('A6-FinPos'!E22:E23))/SUM('A6-FinPos'!E22:E23),3)),0,(ROUND((SUM('A6-FinPos'!F22:F23)-SUM('A6-FinPos'!E22:E23))/SUM('A6-FinPos'!E22:E23),3)))","v":0},{"$f":"IF(ISERROR(ROUND((SUM('A6-FinPos'!G22:G23)-SUM('A6-FinPos'!F22:F23))/SUM('A6-FinPos'!F22:F23),3)),0,(ROUND((SUM('A6-FinPos'!G22:G23)-SUM('A6-FinPos'!F22:F23))/SUM('A6-FinPos'!F22:F23),3)))","v":0},{"$f":"IF(ISERROR(ROUND((SUM('A6-FinPos'!H22:H23)-SUM('A6-FinPos'!G22:G23))/SUM('A6-FinPos'!G22:G23),3)),0,(ROUND((SUM('A6-FinPos'!H22:H23)-SUM('A6-FinPos'!G22:G23))/SUM('A6-FinPos'!G22:G23),3)))","v":0},{"$f":"IF(ISERROR(ROUND((SUM('A6-FinPos'!I22:I23)-SUM('A6-FinPos'!H22:H23))/SUM('A6-FinPos'!H22:H23),3)),0,(ROUND((SUM('A6-FinPos'!I22:I23)-SUM('A6-FinPos'!H22:H23))/SUM('A6-FinPos'!H22:H23),3)))","v":0},{"$f":"IF(ISERROR(ROUND((SUM('A6-FinPos'!J22:J23)-SUM('A6-FinPos'!I22:I23))/SUM('A6-FinPos'!I22:I23),3)),0,(ROUND((SUM('A6-FinPos'!J22:J23)-SUM('A6-FinPos'!I22:I23))/SUM('A6-FinPos'!I22:I23),3)))","v":0},{"$f":"IF(ISERROR(ROUND((SUM('A6-FinPos'!K22:K23)-SUM('A6-FinPos'!J22:J23))/SUM('A6-FinPos'!J22:J23),3)),0,(ROUND((SUM('A6-FinPos'!K22:K23)-SUM('A6-FinPos'!J22:J23))/SUM('A6-FinPos'!J22:J23),3)))","v":0},{"$f":"IF(ISERROR(ROUND((SUM('A6-FinPos'!L22:L23)-SUM('A6-FinPos'!K22:K23))/SUM('A6-FinPos'!K22:K23),3)),0,(ROUND((SUM('A6-FinPos'!L22:L23)-SUM('A6-FinPos'!K22:K23))/SUM('A6-FinPos'!K22:K23),3)))","v":0}]
["R&M % of Property Plant & Equipment","20(1)(vi)",13,{"$f":"'A9-Asset'!C223","v":8.9999999999999993E-3},{"$f":"'A9-Asset'!D223","v":1.6E-2},{"$f":"'A9-Asset'!E223","v":3.4000000000000002E-2},{"$f":"'A9-Asset'!F223","v":7.0999999999999994E-2},{"$f":"'A9-Asset'!G223","v":3.5999999999999997E-2},{"$f":"'A9-Asset'!H223","v":3.5999999999999997E-2},{"$f":"'A9-Asset'!I223","v":0},{"$f":"'A9-Asset'!J223","v":7.5999999999999998E-2},{"$f":"'A9-Asset'!K223","v":8.3000000000000004E-2},{"$f":"'A9-Asset'!L223","v":0}]
["Asset renewal % of capital budget",{"$f":"B17","v":"20(1)(vi)"},14,{"$f":"IF(ISERROR(D58/D57),0,(D58/D57))","v":0.42511247855318335},0.10599302090493809,0.39881908404753152,0.18165735221989079,3.3127897752832874E-4,3.3127897752832874E-4,0,7.200686314536317E-2,0.10450545946084837,{"$f":"IF(ISERROR(M58/M57),0,((M58/M57)))","v":0.15796586936957172}]
[]
[{"$f":"head27a","v":"References"}]
["1. Positive cash balances indicative of minimum compliance - subject to 2"]
["2. Deduct cash and investment applications (defined) from cash balances"]
["3. Indicative of sufficient liquidity to meet average monthly operating payments"]
["4. Indicative of funded operational requirements"]
["5. Indicative of adherence to macro-economic targets (prior to 2003/04 revenue not available for high capacity municipalities and later for other capacity classifications)"]
["6. Realistic average cash collection forecasts as % of annual billed revenue"]
["7. Realistic average increase in debt impairment (doubtful debt) provision"]
["8. Indicative of planned capital expenditure level & cash payment timing"]
["9. Indicative of compliance with borrowing 'only' for the capital budget - should not exceed 100% unless refinancing"]
["10. Substantiation of National/Province allocations included in budget"]
["11. Indicative of realistic current arrear debtor collection targets (prior to 2003/04 revenue not available for high capacity municipalities and later for other capacity classifications)"]
["12. Indicative of realistic long term arrear debtor collection targets (prior to 2003/04 revenue not available for high capacity municipalities and later for other capacity classifications)"]
["13. Indicative of a credible allowance for repairs & maintenance of assets - functioning assets revenue protection"]
["14. Indicative of a credible allowance for asset renewal (requires analysis of asset renewal projects as % of total capital projects - detailed capital plan) - functioning assets revenue protection"]
["Supporting indicators"]
["% incr total service charges (incl prop rates)","18(1)a",null,null,{"$f":"IF(ISERROR((E44/D44)-1),0,((E44/D44)-1))","v":3.6787309894125819E-2},{"$f":"IF(ISERROR((F44/E44)-1),0,((F44/E44)-1))","v":8.8292231552683953E-2},{"$f":"IF(ISERROR((G44/F44)-1),0,((G44/F44)-1))","v":0.1869304929748179},{"$f":"IF(ISERROR((H44/G44)-1),0,((H44/G44)-1))","v":0},{"$f":"IF(ISERROR((I44/H44)-1),0,((I44/H44)-1))","v":0},{"$f":"IF(ISERROR((J44/I44)-1),0,((J44/I44)-1))","v":-1},{"$f":"IF(ISERROR((K44/H44)-1),0,((K44/H44)-1))","v":0.16193229637697959},{"$f":"IF(ISERROR((L44/K44)-1),0,((L44/K44)-1))","v":0.11385482400851243},{"$f":"IF(ISERROR((M44/L44)-1),0,((M44/L44)-1))","v":0.12792828674969581}]
["% incr Property Tax","18(1)a",null,null,4.6913891914822869E-2,{"$f":"IF(ISERROR((F45/E45)-1),0,((F45/E45)-1))","v":-1.7026036700444558E-2},0.17809923306833575,0,0,-1,{"$f":"IF(ISERROR((K45/H45)-1),0,((K45/H45)-1))","v":6.9999999991903206E-2},4.9000000000002597E-2,4.6999999999999043E-2]
[{"$f":"\"% incr \"&'A4-FinPerf RE'!A6","v":"% incr Service charges - Electricity"},"18(1)a",null,null,-3.2293671689405112E-3,0.18435191222718439,0.2484639565188449,0,0,-1,0.22294534020824597,0.15999999999999992,{"$f":"IF(ISERROR((M46/L46)-1),0,((M46/L46)-1))","v":0.17999999999999994}]
[{"$f":"\"% incr \"&'A4-FinPerf RE'!A7","v":"% incr Service charges - Water"},"18(1)a",null,null,0.16643308743556595,6.3094066712343633E-4,5.9397442855982918E-2,0,0,-1,0.1000000000014396,4.9000000000004373E-2,4.699999999999882E-2]
[{"$f":"\"% incr \"&'A4-FinPerf RE'!A8","v":"% incr Service charges - Waste Water Management"},"18(1)a",null,null,-2.971782070406459E-2,9.0594500079364426E-2,-4.2099158669245962E-2,0,0,-1,0.16000000000000014,4.9000000000000821E-2,4.6999999999998376E-2]
[{"$f":"\"% incr \"&'A4-FinPerf RE'!A9","v":"% incr Service charges - Waste Management"},"18(1)a",null,null,3.7007912531513254E-2,3.7122470360513304E-3,0.13623090897284751,0,0,-1,7.0000000006724017E-2,4.8999999999996602E-2,4.7000000000000819E-2]
[{"$f":"\"% incr in \"&'A4-FinPerf RE'!A10","v":"% incr in Sale of Goods and Rendering of Services"},"18(1)a",null,null,0,0,0,0,{"$f":"IF(ISERROR((I50/H50)-1),0,((I50/H50)-1))","v":0},0,0,{"$f":"IF(ISERROR((L50/K50)-1),0,((L50/K50)-1))","v":0},0]
["Total billable revenue","18(1)a",null,{"$f":"SUM(D45:D50)","v":4281574365},{"$f":"SUM(E45:E50)","v":4439081968},4831018421,5734083076.0079565,5734083076.0079565,5734083076.0079565,0,6662616316.1223001,7421187324.230648,8370567104.268034]
["Service charges",null,null,{"$f":"SUM(D45:D50)","v":4281574365},{"$f":"SUM(E45:E50)","v":4439081968},4831018421,5734083076.0079565,5734083076.0079565,5734083076.0079565,{"$f":"SUM(J45:J50)","v":0},6662616316.1223001,7421187324.230648,8370567104.268034]
["Property rates",null,null,{"$f":"'A4-FinPerf RE'!C21","v":1177107606},{"$f":"'A4-FinPerf RE'!D21","v":1232330305},{"$f":"'A4-FinPerf RE'!E21","v":1211348604},{"$f":"'A4-FinPerf RE'!F21","v":1427088861.3507991},{"$f":"'A4-FinPerf RE'!G21","v":1427088861.3507991},{"$f":"'A4-FinPerf RE'!H21","v":1427088861.3507991},{"$f":"'A4-FinPerf RE'!I21","v":0},{"$f":"'A4-FinPerf RE'!J21","v":1526985081.6338},{"$f":"'A4-FinPerf RE'!K21","v":1601807350.6338601},{"$f":"'A4-FinPerf RE'!L21","v":1677092296.1136501}]
["Service charges - electricity revenue",null,null,{"$f":"'A4-FinPerf RE'!C6","v":2159757821},{"$f":"'A4-FinPerf RE'!D6","v":2152783170},{"$f":"'A4-FinPerf RE'!E6","v":2549652864},{"$f":"'A4-FinPerf RE'!F6","v":3183149702.3390446},{"$f":"'A4-FinPerf RE'!G6","v":3183149702.3390446},{"$f":"'A4-FinPerf RE'!H6","v":3183149702.3390446},{"$f":"'A4-FinPerf RE'!I6","v":0},{"$f":"'A4-FinPerf RE'!J6","v":3892818095.6607995},{"$f":"'A4-FinPerf RE'!K6","v":4515668990.966527},{"$f":"'A4-FinPerf RE'!L6","v":5328489409.3405018}]
["Service charges - water revenue",null,null,{"$f":"'A4-FinPerf RE'!C7","v":662849315},{"$f":"'A4-FinPerf RE'!D7","v":773169373},{"$f":"'A4-FinPerf RE'!E7","v":773657197},{"$f":"'A4-FinPerf RE'!F7","v":819610456.14892745},{"$f":"'A4-FinPerf RE'!G7","v":819610456.14892745},{"$f":"'A4-FinPerf RE'!H7","v":819610456.14892745},{"$f":"'A4-FinPerf RE'!I7","v":0},{"$f":"'A4-FinPerf RE'!J7","v":901571501.7650001},{"$f":"'A4-FinPerf RE'!K7","v":945748505.35148907},{"$f":"'A4-FinPerf RE'!L7","v":990198685.10300791}]
["Service charges - sanitation revenue",null,null,{"$f":"'A4-FinPerf RE'!C8","v":172220502},{"$f":"'A4-FinPerf RE'!D8","v":167102484},{"$f":"'A4-FinPerf RE'!E8","v":182241050},{"$f":"'A4-FinPerf RE'!F8","v":174568855.12},{"$f":"'A4-FinPerf RE'!G8","v":174568855.12},{"$f":"'A4-FinPerf RE'!H8","v":174568855.12},{"$f":"'A4-FinPerf RE'!I8","v":0},{"$f":"'A4-FinPerf RE'!J8","v":202499871.93920001},{"$f":"'A4-FinPerf RE'!K8","v":212422365.66422099},{"$f":"'A4-FinPerf RE'!L8","v":222406216.85043901}]
["Service charges - refuse removal",null,null,{"$f":"'A4-FinPerf RE'!C9","v":109639121},{"$f":"'A4-FinPerf RE'!D9","v":113696636},{"$f":"'A4-FinPerf RE'!E9","v":114118706},{"$f":"'A4-FinPerf RE'!F9","v":129665201.04918516},{"$f":"'A4-FinPerf RE'!G9","v":129665201.04918516},{"$f":"'A4-FinPerf RE'!H9","v":129665201.04918516},{"$f":"'A4-FinPerf RE'!I9","v":0},{"$f":"'A4-FinPerf RE'!J9","v":138741765.12349999},{"$f":"'A4-FinPerf RE'!K9","v":145540111.61455101},{"$f":"'A4-FinPerf RE'!L9","v":152380496.86043501}]
[]
[{"$f":"'A4-FinPerf RE'!A11","v":"Agency services"},null,null,{"$f":"'A4-FinPerf RE'!C11","v":1090372},{"$f":"'A4-FinPerf RE'!D11","v":1931382},{"$f":"'A4-FinPerf RE'!E11","v":2139483},{"$f":"'A4-FinPerf RE'!F11","v":668028.33685591863},{"$f":"'A4-FinPerf RE'!G11","v":668028.33685591863},{"$f":"'A4-FinPerf RE'!H11","v":668028.33685591863},{"$f":"'A4-FinPerf RE'!I11","v":0},{"$f":"'A4-FinPerf RE'!J11","v":714790.32380000001},{"$f":"'A4-FinPerf RE'!K11","v":749815.04966619995},{"$f":"'A4-FinPerf RE'!L11","v":785056.35700051126}]
["Capital expenditure excluding capital grant funding",null,null,{"$f":"'A5-Capex'!C63-'A5-Capex'!C70","v":90722793.759999871},{"$f":"'A5-Capex'!D63-'A5-Capex'!D70","v":121936150.37999988},{"$f":"'A5-Capex'!E63-'A5-Capex'!E70","v":209105601.41000009},{"$f":"'A5-Capex'!F63-'A5-Capex'!F70","v":389957356},{"$f":"'A5-Capex'!G63-'A5-Capex'!G70","v":89387752.093999982},{"$f":"'A5-Capex'!H63-'A5-Capex'!H70","v":89387752.093999982},{"$f":"'A5-Capex'!I63-'A5-Capex'!I70","v":0},{"$f":"'A5-Capex'!J63-'A5-Capex'!J70","v":320059999.05000001},{"$f":"'A5-Capex'!K63-'A5-Capex'!K70","v":260000000.00000006},{"$f":"'A5-Capex'!L63-'A5-Capex'!L70","v":120000000}]
["Cash receipts from ratepayers","18(1)a",null,{"$f":"'A7-CFlow'!C6+'A7-CFlow'!C7+'A7-CFlow'!C8","v":3893416276},{"$f":"'A7-CFlow'!D6+'A7-CFlow'!D7+'A7-CFlow'!D8","v":4078704928},{"$f":"'A7-CFlow'!E6+'A7-CFlow'!E7+'A7-CFlow'!E8","v":4392383695},{"$f":"'A7-CFlow'!F6+'A7-CFlow'!F7+'A7-CFlow'!F8","v":6076344773},{"$f":"'A7-CFlow'!G6+'A7-CFlow'!G7+'A7-CFlow'!G8","v":6106692427},{"$f":"'A7-CFlow'!H6+'A7-CFlow'!H7+'A7-CFlow'!H8","v":6106692427},{"$f":"'A7-CFlow'!I6+'A7-CFlow'!I7+'A7-CFlow'!I8","v":0},{"$f":"'A7-CFlow'!J6+'A7-CFlow'!J7+'A7-CFlow'!J8","v":7022427323},{"$f":"'A7-CFlow'!K6+'A7-CFlow'!K7+'A7-CFlow'!K8","v":8012219259},{"$f":"'A7-CFlow'!L6+'A7-CFlow'!L7+'A7-CFlow'!L8","v":9033801600}]
["Ratepayer & Other revenue","18(1)a",null,{"$f":"SUM('A4-FinPerf RE'!C6:C11+'A4-FinPerf RE'!C17+SUM('A4-FinPerf RE'!C21:C24)+'A4-FinPerf RE'!C26+'A4-FinPerf RE'!C28)","v":10931397489},{"$f":"SUM('A4-FinPerf RE'!D6:D11+'A4-FinPerf RE'!D17+SUM('A4-FinPerf RE'!D21:D24)+'A4-FinPerf RE'!D26+'A4-FinPerf RE'!D28)","v":10943742001},{"$f":"SUM('A4-FinPerf RE'!E6:E11+'A4-FinPerf RE'!E17+SUM('A4-FinPerf RE'!E21:E24)+'A4-FinPerf RE'!E26+'A4-FinPerf RE'!E28)","v":11441939402},{"$f":"SUM('A4-FinPerf RE'!F6:F11+'A4-FinPerf RE'!F17+SUM('A4-FinPerf RE'!F21:F24)+'A4-FinPerf RE'!F26+'A4-FinPerf RE'!F28)","v":14177770842.493084},{"$f":"SUM('A4-FinPerf RE'!G6:G11+'A4-FinPerf RE'!G17+SUM('A4-FinPerf RE'!G21:G24)+'A4-FinPerf RE'!G26+'A4-FinPerf RE'!G28)","v":14177770842.493084},{"$f":"SUM('A4-FinPerf RE'!H6:H11+'A4-FinPerf RE'!H17+SUM('A4-FinPerf RE'!H21:H24)+'A4-FinPerf RE'!H26+'A4-FinPerf RE'!H28)","v":14177770842.493084},{"$f":"SUM('A4-FinPerf RE'!I6:I11+'A4-FinPerf RE'!I17+SUM('A4-FinPerf RE'!I21:I24)+'A4-FinPerf RE'!I26+'A4-FinPerf RE'!I28)","v":0},{"$f":"SUM('A4-FinPerf RE'!J6:J11+'A4-FinPerf RE'!J17+SUM('A4-FinPerf RE'!J21:J24)+'A4-FinPerf RE'!J26+'A4-FinPerf RE'!J28)","v":15319305153.965157},{"$f":"SUM('A4-FinPerf RE'!K6:K11+'A4-FinPerf RE'!K17+SUM('A4-FinPerf RE'!K21:K24)+'A4-FinPerf RE'!K26+'A4-FinPerf RE'!K28)","v":16476571974.610626},{"$f":"SUM('A4-FinPerf RE'!L6:L11+'A4-FinPerf RE'!L17+SUM('A4-FinPerf RE'!L21:L24)+'A4-FinPerf RE'!L26+'A4-FinPerf RE'!L28)","v":17851554830.251862}]
["Change in consumer debtors (current and non-current)",null,null,"N/A",{"$f":"SUM('A6-FinPos'!D7:D9)+SUM('A6-FinPos'!D22:D23)-(SUM('A6-FinPos'!C7:C9)+SUM('A6-FinPos'!C22:C23))","v":-242347362},{"$f":"SUM('A6-FinPos'!E7:E9)+SUM('A6-FinPos'!E22:E23)-(SUM('A6-FinPos'!D7:D9)+SUM('A6-FinPos'!D22:D23))","v":112044713},{"$f":"SUM('A6-FinPos'!F7:F9)+SUM('A6-FinPos'!F22:F23)-(SUM('A6-FinPos'!E7:E9)+SUM('A6-FinPos'!E22:E23))","v":-71459064.859999657},{"$f":"SUM('A6-FinPos'!G7:G9)+SUM('A6-FinPos'!G22:G23)-(SUM('A6-FinPos'!F7:F9)+SUM('A6-FinPos'!F22:F23))","v":640132167.42553282},{"$f":"SUM('A6-FinPos'!H7:H9)+SUM('A6-FinPos'!H22:H23)-(SUM('A6-FinPos'!G7:G9)+SUM('A6-FinPos'!G22:G23))","v":0},{"$f":"SUM('A6-FinPos'!I7:I9)+SUM('A6-FinPos'!I22:I23)-(SUM('A6-FinPos'!H7:H9)+SUM('A6-FinPos'!H22:H23))","v":1782710237.4344668},{"$f":"SUM('A6-FinPos'!J7:J9)+SUM('A6-FinPos'!J22:J23)-(SUM('A6-FinPos'!I7:I9)+SUM('A6-FinPos'!I22:I23))","v":-2239972869.3637681},{"$f":"SUM('A6-FinPos'!K7:K9)+SUM('A6-FinPos'!K22:K23)-(SUM('A6-FinPos'!J7:J9)+SUM('A6-FinPos'!J22:J23))","v":-154769523.17327023},{"$f":"SUM('A6-FinPos'!L7:L9)+SUM('A6-FinPos'!L22:L23)-(SUM('A6-FinPos'!K7:K9)+SUM('A6-FinPos'!K22:K23))","v":-547858909.40555668}]
["Operating and Capital Grant Revenue","18(1)a",null,{"$f":"'A4-FinPerf RE'!C25+'A4-FinPerf RE'!C49","v":1067241793},{"$f":"'A4-FinPerf RE'!D25+'A4-FinPerf RE'!D49","v":1256029137},{"$f":"'A4-FinPerf RE'!E25+'A4-FinPerf RE'!E49","v":1050462242},{"$f":"'A4-FinPerf RE'!F25+'A4-FinPerf RE'!F49","v":1302273193.5900002},{"$f":"'A4-FinPerf RE'!G25+'A4-FinPerf RE'!G49","v":1238305935.8710001},{"$f":"'A4-FinPerf RE'!H25+'A4-FinPerf RE'!H49","v":1238305935.8710001},{"$f":"'A4-FinPerf RE'!I25+'A4-FinPerf RE'!I49","v":0},{"$f":"'A4-FinPerf RE'!J25+'A4-FinPerf RE'!J49","v":1286835204.95},{"$f":"'A4-FinPerf RE'!K25+'A4-FinPerf RE'!K49","v":1227538748.2},{"$f":"'A4-FinPerf RE'!L25+'A4-FinPerf RE'!L49","v":1310493008}]
["Capital expenditure - total",{"$f":"B17","v":"20(1)(vi)"},null,{"$f":"'A5-Capex'!C63","v":479854918.75999987},{"$f":"'A5-Capex'!D63","v":685931270.08999991},{"$f":"'A5-Capex'!E63","v":521826748.73000014},{"$f":"'A5-Capex'!F63","v":835918464.87},{"$f":"'A5-Capex'!G63","v":526984994.04499996},{"$f":"'A5-Capex'!H63","v":526984994.04499996},{"$f":"'A5-Capex'!I63","v":0},{"$f":"'A5-Capex'!J63","v":768760054},{"$f":"'A5-Capex'!K63","v":581309343.20000005},{"$f":"'A5-Capex'!L63","v":447881560}]
["Capital expenditure - renewal",{"$f":"B18","v":"20(1)(vi)"},null,{"$f":"'A9-Asset'!C40","v":203992313.85999998},{"$f":"'A9-Asset'!D40","v":72703927.450000092},{"$f":"'A9-Asset'!E40","v":208114465.96000004},{"$f":"'A9-Asset'!F40","v":151850735},{"$f":"'A9-Asset'!G40","v":174579.05},{"$f":"'A9-Asset'!H40","v":174579.05},null,{"$f":"'A9-Asset'!I40","v":55356000},{"$f":"'A9-Asset'!J40","v":60750000},{"$f":"'A9-Asset'!K40","v":70750000}]
[]
["Supporting benchmarks"]
["Growth guideline maximum",null,null,0.06,0.06,0.06,0.06,0.06,0.06,0.06,0.06,0.06,0.06]
["CPI guideline",null,null,4.2999999999999997E-2,3.9E-2,4.5999999999999999E-2,0.05,0.05,0.05,0.05,5.3999999999999999E-2,5.6000000000000001E-2,5.3999999999999999E-2]
["DoRA operating grants total MFY"]
["DoRA capital grants total MFY"]
["Provincial operating grants"]
["Provincial capital grants"]
["District Municipality grants"]
["Total gazetted/advised national, provincial and district grants",null,null,null,null,null,null,null,null,null,{"$f":"SUM(K63:K67)","v":0},{"$f":"SUM(L63:L67)","v":0},{"$f":"SUM(M63:M67)","v":0}]
["Average annual collection rate (arrears inclusive)"]
[]
["DoRA operating"]
["List operating grants"]
[]
[]
[]
[null,null,null,null,null,null,null,null,null,null,{"$f":"SUM(K72:K75)","v":0},{"$f":"SUM(L72:L75)","v":0},{"$f":"SUM(M72:M75)","v":0}]
["DoRA capital"]
["List capital grants"]
[]
[]
[]
[null,null,null,null,null,null,null,null,null,null,{"$f":"SUM(K78:K81)","v":0},{"$f":"SUM(L78:L81)","v":0},{"$f":"SUM(M78:M81)","v":0}]
["Trend"]
[{"$f":"A55","v":"Change in consumer debtors (current and non-current)"},null,null,{"$f":"D55","v":"N/A"},{"$f":"E55","v":-242347362},{"$f":"F55","v":112044713},{"$f":"G55","v":-71459064.859999657},640132167.42553282,0,1782710237.4344668,-2239972869.3637681,-154769523.17327023,-547858909.40555668]
[]
["Total Operating Revenue",null,null,{"$f":"'A1-Sum'!B10","v":5487113578},{"$f":"'A1-Sum'!C10","v":5540355643},{"$f":"'A1-Sum'!D10","v":5853712620},{"$f":"'A1-Sum'!E10","v":7050770261.4548702},{"$f":"'A1-Sum'!F10","v":6995636870.6548691},{"$f":"'A1-Sum'!G10","v":6995636870.6548691},{"$f":"'A1-Sum'!H10","v":0},{"$f":"'A1-Sum'!I10","v":8120726125.2604589},{"$f":"'A1-Sum'!J10","v":8981585804.9971886},{"$f":"'A1-Sum'!K10","v":10038458858.014183}]
["Total Operating Expenditure",null,null,{"$f":"'A1-Sum'!B18","v":5693447173.999999},{"$f":"'A1-Sum'!C18","v":5984002660},{"$f":"'A1-Sum'!D18","v":6949419417},{"$f":"'A1-Sum'!E18","v":6454946893.2387085},{"$f":"'A1-Sum'!F18","v":6623210257.3479986},{"$f":"'A1-Sum'!G18","v":6623210257.3479986},{"$f":"'A1-Sum'!H18","v":0},{"$f":"'A1-Sum'!I18","v":7703787795},{"$f":"'A1-Sum'!J18","v":8487228543},{"$f":"'A1-Sum'!K18","v":9183692958}]
["Operating Performance Surplus/(Deficit)",null,null,{"$f":"D86-D87","v":-206333595.99999905},{"$f":"E86-E87","v":-443647017},-1095706797,595823368.21616173,372426613.30687046,372426613.30687046,0,{"$f":"K86-K87","v":416938330.26045895},494357261.99718857,854765900.01418304]
["Cash and Cash Equivalents (30 June 2012)",null,null,null,null,null,null,null,null,null,{"$f":"'A7-CFlow'!J39","v":767162244.2650001}]
["Revenue"]
["% Increase in Total Operating Revenue",null,null,null,{"$f":"IF(ISERROR(('A1-Sum'!C10-'A1-Sum'!B10)/'A1-Sum'!B10),0,(('A1-Sum'!C10-'A1-Sum'!B10)/'A1-Sum'!B10))","v":9.7031097029717794E-3},{"$f":"IF(ISERROR(('A1-Sum'!D10-'A1-Sum'!C10)/'A1-Sum'!C10),0,(('A1-Sum'!D10-'A1-Sum'!C10)/'A1-Sum'!C10))","v":5.6559000394841623E-2},{"$f":"IF(ISERROR(('A1-Sum'!E10-'A1-Sum'!D10)/'A1-Sum'!D10),0,(('A1-Sum'!E10-'A1-Sum'!D10)/'A1-Sum'!D10))","v":0.20449545769721614},{"$f":"IF(ISERROR(('A1-Sum'!F10-'A1-Sum'!E10)/'A1-Sum'!E10),0,(('A1-Sum'!F10-'A1-Sum'!E10)/'A1-Sum'!E10))","v":-7.8194847875563619E-3},{"$f":"IF(ISERROR(('A1-Sum'!G10-'A1-Sum'!F10)/'A1-Sum'!F10),0,(('A1-Sum'!G10-'A1-Sum'!F10)/'A1-Sum'!F10))","v":0},{"$f":"IF(ISERROR(('A1-Sum'!H10-'A1-Sum'!G10)/'A1-Sum'!G10),0,(('A1-Sum'!H10-'A1-Sum'!G10)/'A1-Sum'!G10))","v":-1},{"$f":"IF(ISERROR(('A1-Sum'!I10-'A1-Sum'!F10)/'A1-Sum'!F10),0,(('A1-Sum'!I10-'A1-Sum'!F10)/'A1-Sum'!F10))","v":0.16082728069049546},{"$f":"IF(ISERROR(('A1-Sum'!J10-'A1-Sum'!I10)/'A1-Sum'!I10),0,(('A1-Sum'!J10-'A1-Sum'!I10)/'A1-Sum'!I10))","v":0.10600772227238718},{"$f":"IF(ISERROR(('A1-Sum'!K10-'A1-Sum'!J10)/'A1-Sum'!J10),0,(('A1-Sum'!K10-'A1-Sum'!J10)/'A1-Sum'!J10))","v":0.11767109683781786}]
["% Increase in Property Rates Revenue",null,null,null,{"$f":"IF(ISERROR(('A4-FinPerf RE'!D21-'A4-FinPerf RE'!C21)/'A4-FinPerf RE'!C21),0,(('A4-FinPerf RE'!D21-'A4-FinPerf RE'!C21)/'A4-FinPerf RE'!C21))","v":4.6913891914822953E-2},{"$f":"IF(ISERROR(('A4-FinPerf RE'!E21-'A4-FinPerf RE'!D21)/'A4-FinPerf RE'!D21),0,(('A4-FinPerf RE'!E21-'A4-FinPerf RE'!D21)/'A4-FinPerf RE'!D21))","v":-1.702603670044453E-2},{"$f":"IF(ISERROR(('A4-FinPerf RE'!F21-'A4-FinPerf RE'!E21)/'A4-FinPerf RE'!E21),0,(('A4-FinPerf RE'!F21-'A4-FinPerf RE'!E21)/'A4-FinPerf RE'!E21))","v":0.17809923306833569},{"$f":"IF(ISERROR(('A4-FinPerf RE'!G21-'A4-FinPerf RE'!F21)/'A4-FinPerf RE'!F21),0,(('A4-FinPerf RE'!G21-'A4-FinPerf RE'!F21)/'A4-FinPerf RE'!F21))","v":0},{"$f":"IF(ISERROR(('A4-FinPerf RE'!H21-'A4-FinPerf RE'!G21)/'A4-FinPerf RE'!G21),0,(('A4-FinPerf RE'!H21-'A4-FinPerf RE'!G21)/'A4-FinPerf RE'!G21))","v":0},{"$f":"IF(ISERROR(('A4-FinPerf RE'!I21-'A4-FinPerf RE'!H21)/'A4-FinPerf RE'!H21),0,(('A4-FinPerf RE'!I21-'A4-FinPerf RE'!H21)/'A4-FinPerf RE'!H21))","v":-1},{"$f":"IF(ISERROR(('A4-FinPerf RE'!J21-'A4-FinPerf RE'!I21)/'A4-FinPerf RE'!I21),0,(('A4-FinPerf RE'!J21-'A4-FinPerf RE'!I21)/'A4-FinPerf RE'!I21))","v":0},{"$f":"IF(ISERROR(('A4-FinPerf RE'!K21-'A4-FinPerf RE'!J21)/'A4-FinPerf RE'!J21),0,(('A4-FinPerf RE'!K21-'A4-FinPerf RE'!J21)/'A4-FinPerf RE'!J21))","v":4.9000000000002542E-2},{"$f":"IF(ISERROR(('A4-FinPerf RE'!L21-'A4-FinPerf RE'!K21)/'A4-FinPerf RE'!K21),0,(('A4-FinPerf RE'!L21-'A4-FinPerf RE'!K21)/'A4-FinPerf RE'!K21))","v":4.6999999999999091E-2}]
["% Increase in Electricity Revenue",null,null,null,{"$f":"IF(ISERROR(('A4-FinPerf RE'!D6-'A4-FinPerf RE'!C6)/'A4-FinPerf RE'!C6),0,(('A4-FinPerf RE'!D6-'A4-FinPerf RE'!C6)/'A4-FinPerf RE'!C6))","v":-3.2293671689405589E-3},{"$f":"IF(ISERROR(('A4-FinPerf RE'!E6-'A4-FinPerf RE'!D6)/'A4-FinPerf RE'!D6),0,(('A4-FinPerf RE'!E6-'A4-FinPerf RE'!D6)/'A4-FinPerf RE'!D6))","v":0.1843519122271845},{"$f":"IF(ISERROR(('A4-FinPerf RE'!F6-'A4-FinPerf RE'!E6)/'A4-FinPerf RE'!E6),0,(('A4-FinPerf RE'!F6-'A4-FinPerf RE'!E6)/'A4-FinPerf RE'!E6))","v":0.24846395651884498},{"$f":"IF(ISERROR(('A4-FinPerf RE'!G6-'A4-FinPerf RE'!F6)/'A4-FinPerf RE'!F6),0,(('A4-FinPerf RE'!G6-'A4-FinPerf RE'!F6)/'A4-FinPerf RE'!F6))","v":0},{"$f":"IF(ISERROR(('A4-FinPerf RE'!H6-'A4-FinPerf RE'!G6)/'A4-FinPerf RE'!G6),0,(('A4-FinPerf RE'!H6-'A4-FinPerf RE'!G6)/'A4-FinPerf RE'!G6))","v":0},{"$f":"IF(ISERROR(('A4-FinPerf RE'!I6-'A4-FinPerf RE'!H6)/'A4-FinPerf RE'!H6),0,(('A4-FinPerf RE'!I6-'A4-FinPerf RE'!H6)/'A4-FinPerf RE'!H6))","v":-1},{"$f":"IF(ISERROR(('A4-FinPerf RE'!J6-'A4-FinPerf RE'!G6)/'A4-FinPerf RE'!G6),0,(('A4-FinPerf RE'!J6-'A4-FinPerf RE'!G6)/'A4-FinPerf RE'!G6))","v":0.22294534020824588},{"$f":"IF(ISERROR(('A4-FinPerf RE'!K6-'A4-FinPerf RE'!J6)/'A4-FinPerf RE'!J6),0,(('A4-FinPerf RE'!K6-'A4-FinPerf RE'!J6)/'A4-FinPerf RE'!J6))","v":0.15999999999999989},{"$f":"IF(ISERROR(('A4-FinPerf RE'!L6-'A4-FinPerf RE'!K6)/'A4-FinPerf RE'!K6),0,(('A4-FinPerf RE'!L6-'A4-FinPerf RE'!K6)/'A4-FinPerf RE'!K6))","v":0.18}]
["% Increase in Property Rates & Services Charges",null,null,null,{"$f":"IF(ISERROR((('A1-Sum'!C5+'A1-Sum'!C6)-('A1-Sum'!B5+'A1-Sum'!B6))/('A1-Sum'!B5+'A1-Sum'!B6)),0,((('A1-Sum'!C5+'A1-Sum'!C6)-('A1-Sum'!B5+'A1-Sum'!B6))/('A1-Sum'!B5+'A1-Sum'!B6)))","v":3.6787309894125826E-2},{"$f":"IF(ISERROR((('A1-Sum'!D5+'A1-Sum'!D6)-('A1-Sum'!C5+'A1-Sum'!C6))/('A1-Sum'!C5+'A1-Sum'!C6)),0,((('A1-Sum'!D5+'A1-Sum'!D6)-('A1-Sum'!C5+'A1-Sum'!C6))/('A1-Sum'!C5+'A1-Sum'!C6)))","v":8.8292231552683953E-2},{"$f":"IF(ISERROR((('A1-Sum'!E5+'A1-Sum'!E6)-('A1-Sum'!D5+'A1-Sum'!D6))/('A1-Sum'!D5+'A1-Sum'!D6)),0,((('A1-Sum'!E5+'A1-Sum'!E6)-('A1-Sum'!D5+'A1-Sum'!D6))/('A1-Sum'!D5+'A1-Sum'!D6)))","v":0.18693049297481773},{"$f":"IF(ISERROR((('A1-Sum'!F5+'A1-Sum'!F6)-('A1-Sum'!E5+'A1-Sum'!E6))/('A1-Sum'!E5+'A1-Sum'!E6)),0,((('A1-Sum'!F5+'A1-Sum'!F6)-('A1-Sum'!E5+'A1-Sum'!E6))/('A1-Sum'!E5+'A1-Sum'!E6)))","v":0},{"$f":"IF(ISERROR((('A1-Sum'!G5+'A1-Sum'!G6)-('A1-Sum'!F5+'A1-Sum'!F6))/('A1-Sum'!F5+'A1-Sum'!F6)),0,((('A1-Sum'!G5+'A1-Sum'!G6)-('A1-Sum'!F5+'A1-Sum'!F6))/('A1-Sum'!F5+'A1-Sum'!F6)))","v":0},{"$f":"IF(ISERROR((('A1-Sum'!H5+'A1-Sum'!H6)-('A1-Sum'!G5+'A1-Sum'!G6))/('A1-Sum'!G5+'A1-Sum'!G6)),0,((('A1-Sum'!H5+'A1-Sum'!H6)-('A1-Sum'!G5+'A1-Sum'!G6))/('A1-Sum'!G5+'A1-Sum'!G6)))","v":-1},{"$f":"IF(ISERROR((('A1-Sum'!I5+'A1-Sum'!I6)-('A1-Sum'!F5+'A1-Sum'!F6))/('A1-Sum'!F5+'A1-Sum'!F6)),0,((('A1-Sum'!I5+'A1-Sum'!I6)-('A1-Sum'!F5+'A1-Sum'!F6))/('A1-Sum'!F5+'A1-Sum'!F6)))","v":0.1619322963769797},{"$f":"IF(ISERROR((('A1-Sum'!J5+'A1-Sum'!J6)-('A1-Sum'!I5+'A1-Sum'!I6))/('A1-Sum'!I5+'A1-Sum'!I6)),0,((('A1-Sum'!J5+'A1-Sum'!J6)-('A1-Sum'!I5+'A1-Sum'!I6))/('A1-Sum'!I5+'A1-Sum'!I6)))","v":0.11385482400851259},{"$f":"IF(ISERROR((('A1-Sum'!K5+'A1-Sum'!K6)-('A1-Sum'!J5+'A1-Sum'!J6))/('A1-Sum'!J5+'A1-Sum'!J6)),0,((('A1-Sum'!K5+'A1-Sum'!K6)-('A1-Sum'!J5+'A1-Sum'!J6))/('A1-Sum'!J5+'A1-Sum'!J6)))","v":0.12792828674969592}]
["Expenditure"]
["% Increase in Total Operating Expenditure",null,null,null,{"$f":"IF(ISERROR(('A1-Sum'!C18-'A1-Sum'!B18)/'A1-Sum'!B18),0,(('A1-Sum'!C18-'A1-Sum'!B18)/'A1-Sum'!B18))","v":5.1033315515223748E-2},{"$f":"IF(ISERROR(('A1-Sum'!D18-'A1-Sum'!C18)/'A1-Sum'!C18),0,(('A1-Sum'!D18-'A1-Sum'!C18)/'A1-Sum'!C18))","v":0.1613329424890329},{"$f":"IF(ISERROR(('A1-Sum'!E18-'A1-Sum'!D18)/'A1-Sum'!D18),0,(('A1-Sum'!E18-'A1-Sum'!D18)/'A1-Sum'!D18))","v":-7.1153069643730138E-2},{"$f":"IF(ISERROR(('A1-Sum'!F18-'A1-Sum'!E18)/'A1-Sum'!E18),0,(('A1-Sum'!F18-'A1-Sum'!E18)/'A1-Sum'!E18))","v":2.6067350652495543E-2},{"$f":"IF(ISERROR(('A1-Sum'!G18-'A1-Sum'!F18)/'A1-Sum'!F18),0,(('A1-Sum'!G18-'A1-Sum'!F18)/'A1-Sum'!F18))","v":0},{"$f":"IF(ISERROR(('A1-Sum'!H18-'A1-Sum'!G18)/'A1-Sum'!G18),0,(('A1-Sum'!H18-'A1-Sum'!G18)/'A1-Sum'!G18))","v":-1},{"$f":"IF(ISERROR(('A1-Sum'!I18-'A1-Sum'!F18)/'A1-Sum'!F18),0,(('A1-Sum'!I18-'A1-Sum'!F18)/'A1-Sum'!F18))","v":0.16315011839661508},{"$f":"IF(ISERROR(('A1-Sum'!J18-'A1-Sum'!I18)/'A1-Sum'!I18),0,(('A1-Sum'!J18-'A1-Sum'!I18)/'A1-Sum'!I18))","v":0.10169552548013817},{"$f":"IF(ISERROR(('A1-Sum'!K18-'A1-Sum'!J18)/'A1-Sum'!J18),0,(('A1-Sum'!K18-'A1-Sum'!J18)/'A1-Sum'!J18))","v":8.2060287580499061E-2}]
["% Increase in Employee Costs",null,null,null,{"$f":"IF(ISERROR(('A1-Sum'!C11-'A1-Sum'!B11)/'A1-Sum'!B11),0,(('A1-Sum'!C11-'A1-Sum'!B11)/'A1-Sum'!B11))","v":5.4209951350811469E-2},{"$f":"IF(ISERROR(('A1-Sum'!D11-'A1-Sum'!C11)/'A1-Sum'!C11),0,(('A1-Sum'!D11-'A1-Sum'!C11)/'A1-Sum'!C11))","v":5.3623516762264914E-2},{"$f":"IF(ISERROR(('A1-Sum'!E11-'A1-Sum'!D11)/'A1-Sum'!D11),0,(('A1-Sum'!E11-'A1-Sum'!D11)/'A1-Sum'!D11))","v":5.7017856796691031E-2},{"$f":"IF(ISERROR(('A1-Sum'!F11-'A1-Sum'!E11)/'A1-Sum'!E11),0,(('A1-Sum'!F11-'A1-Sum'!E11)/'A1-Sum'!E11))","v":2.6301966459877594E-2},{"$f":"IF(ISERROR(('A1-Sum'!G11-'A1-Sum'!F11)/'A1-Sum'!F11),0,(('A1-Sum'!G11-'A1-Sum'!F11)/'A1-Sum'!F11))","v":0},{"$f":"IF(ISERROR(('A1-Sum'!H11-'A1-Sum'!G11)/'A1-Sum'!G11),0,(('A1-Sum'!H11-'A1-Sum'!G11)/'A1-Sum'!G11))","v":-1},{"$f":"IF(ISERROR(('A1-Sum'!I11-'A1-Sum'!F11)/'A1-Sum'!F11),0,(('A1-Sum'!I11-'A1-Sum'!F11)/'A1-Sum'!F11))","v":0.10602939359509067},{"$f":"IF(ISERROR(('A1-Sum'!J11-'A1-Sum'!I11)/'A1-Sum'!I11),0,(('A1-Sum'!J11-'A1-Sum'!I11)/'A1-Sum'!I11))","v":3.5433484252896635E-2},{"$f":"IF(ISERROR(('A1-Sum'!K11-'A1-Sum'!J11)/'A1-Sum'!J11),0,(('A1-Sum'!K11-'A1-Sum'!J11)/'A1-Sum'!J11))","v":3.8274274583540366E-2}]
["% Increase in Electricity Bulk Purchases",null,null,null,{"$f":"IF(ISERROR(('SA1'!D86-'SA1'!C86)/'SA1'!C86),0,(('SA1'!D86-'SA1'!C86)/'SA1'!C86))","v":6.7550843141674338E-2},{"$f":"IF(ISERROR(('SA1'!E86-'SA1'!D86)/'SA1'!D86),0,(('SA1'!E86-'SA1'!D86)/'SA1'!D86))","v":0.10934892679136787},{"$f":"IF(ISERROR(('SA1'!F86-'SA1'!E86)/'SA1'!E86),0,(('SA1'!F86-'SA1'!E86)/'SA1'!E86))","v":-0.25428969134763907},{"$f":"IF(ISERROR(('SA1'!G86-'SA1'!F86)/'SA1'!F86),0,(('SA1'!G86-'SA1'!F86)/'SA1'!F86))","v":4.5454545454545456E-2},{"$f":"IF(ISERROR(('SA1'!H86-'SA1'!G86)/'SA1'!G86),0,(('SA1'!H86-'SA1'!G86)/'SA1'!G86))","v":0},{"$f":"IF(ISERROR(('SA1'!I86-'SA1'!H86)/'SA1'!H86),0,(('SA1'!I86-'SA1'!H86)/'SA1'!H86))","v":-1},{"$f":"IF(ISERROR(('SA1'!J86-'SA1'!G86)/'SA1'!G86),0,(('SA1'!J86-'SA1'!G86)/'SA1'!G86))","v":9.3043478260869561E-2},{"$f":"IF(ISERROR(('SA1'!K86-'SA1'!J86)/'SA1'!J86),0,(('SA1'!K86-'SA1'!J86)/'SA1'!J86))","v":0.21989657915672217},{"$f":"IF(ISERROR(('SA1'!L86-'SA1'!K86)/'SA1'!K86),0,(('SA1'!L86-'SA1'!K86)/'SA1'!K86))","v":0.14999999999999986}]
["Average Cost Per Budgeted Employee Position (Remuneration)",null,null,null,null,{"$f":"IF(ISERROR('A1-Sum'!D11/('SA24'!D36+'SA24'!E36-'SA24'!C5)),0,('A1-Sum'!D11/('SA24'!D36+'SA24'!E36-'SA24'!C5)))","v":462403.07766089111},{"$f":"IF(ISERROR('A1-Sum'!E11/('SA24'!F36-'SA24'!F5)),0,('A1-Sum'!E11/('SA24'!F36-'SA24'!F5)))","v":268564.9742137026},null,null,null,{"$f":"IF(ISERROR('A1-Sum'!I11/('SA24'!I36-'SA24'!I5)),0,('A1-Sum'!I11/('SA24'!I36-'SA24'!I5)))","v":448623.556417313}]
["Average Cost Per Councillor (Remuneration)",null,null,null,null,{"$f":"IF(ISERROR('A1-Sum'!D12/'SA24'!C5),0,('A1-Sum'!D12/'SA24'!C5))","v":611474.64197530865},{"$f":"IF(ISERROR('A1-Sum'!E12/'SA24'!F5),0,('A1-Sum'!E12/'SA24'!F5))","v":733718.74},null,null,null,{"$f":"IF(ISERROR('A1-Sum'!I12/'SA24'!I5),0,('A1-Sum'!I12/'SA24'!I5))","v":10449989.164999999}]
["R&M % of PPE",null,null,{"$f":"'A9-Asset'!C223","v":8.9999999999999993E-3},{"$f":"'A9-Asset'!D223","v":1.6E-2},{"$f":"'A9-Asset'!E223","v":3.4000000000000002E-2},{"$f":"'A9-Asset'!F223","v":7.0999999999999994E-2},{"$f":"'A9-Asset'!G223","v":3.5999999999999997E-2},{"$f":"'A9-Asset'!H223","v":3.5999999999999997E-2},null,{"$f":"'A9-Asset'!I223","v":0},{"$f":"'A9-Asset'!J223","v":7.5999999999999998E-2},{"$f":"'A9-Asset'!K223","v":8.3000000000000004E-2}]
["Asset Renewal and R&M as a % of PPE",null,null,{"$f":"'A9-Asset'!C224","v":0.06},{"$f":"'A9-Asset'!D224","v":0.05},{"$f":"'A9-Asset'!E224","v":0},{"$f":"'A9-Asset'!F224","v":0.16},{"$f":"'A9-Asset'!G224","v":0.08},{"$f":"'A9-Asset'!H224","v":0.08},null,{"$f":"'A9-Asset'!I224","v":0.11},{"$f":"'A9-Asset'!J224","v":0.13},{"$f":"'A9-Asset'!K224","v":0.11}]
["Debt Impairment % of Total Billable Revenue",null,null,{"$f":"'SA10'!D11","v":0},{"$f":"'SA10'!E11","v":5.3255135116712045E-2},{"$f":"'SA10'!F11","v":0.20777456625640964},{"$f":"'SA10'!G11","v":5.2318739722351335E-2},{"$f":"'SA10'!H11","v":5.2318739722351335E-2},{"$f":"'SA10'!I11","v":5.2318739722351335E-2},{"$f":"'SA10'!J11","v":0},{"$f":"'SA10'!K11","v":9.0054712973357168E-2},{"$f":"'SA10'!L11","v":8.4487828241823937E-2},{"$f":"'SA10'!M11","v":7.8425869098555548E-2}]
["Capital Revenue"]
["Internally Funded & Other (R'000)",null,null,{"$f":"'A1-Sum'!B30","v":86493279},{"$f":"'A1-Sum'!C30","v":121936150.38000003},{"$f":"'A1-Sum'!D30","v":159705059.64000008},{"$f":"'A1-Sum'!E30","v":89957356},{"$f":"'A1-Sum'!F30","v":89387752.093999997},{"$f":"'A1-Sum'!G30","v":89387752.093999997},{"$f":"'A1-Sum'!H30","v":0},{"$f":"'A1-Sum'!I30","v":120059999.04999995},{"$f":"'A1-Sum'!J30","v":110000000},{"$f":"'A1-Sum'!K30","v":120000000}]
["Borrowing (R'000)",null,null,{"$f":"'A1-Sum'!B29","v":4229818.17},{"$f":"'A1-Sum'!C29","v":0},{"$f":"'A1-Sum'!D29","v":49400541.770000003},{"$f":"'A1-Sum'!E29","v":300000000},{"$f":"'A1-Sum'!F29","v":0},{"$f":"'A1-Sum'!G29","v":0},{"$f":"'A1-Sum'!H29","v":0},{"$f":"'A1-Sum'!I29","v":200000000},{"$f":"'A1-Sum'!J29","v":150000000},{"$f":"'A1-Sum'!K29","v":0}]
["Grant Funding and Other (R'000)",null,null,{"$f":"'A1-Sum'!B27","v":389132125},{"$f":"'A1-Sum'!C27","v":563995119.71000004},{"$f":"'A1-Sum'!D27","v":312721147.32000005},{"$f":"'A1-Sum'!E27","v":445961108.87},{"$f":"'A1-Sum'!F27","v":437597241.95099998},{"$f":"'A1-Sum'!G27","v":437597241.95099998},{"$f":"'A1-Sum'!H27","v":0},{"$f":"'A1-Sum'!I27","v":448700054.94999999},{"$f":"'A1-Sum'!J27","v":321309343.19999999},{"$f":"'A1-Sum'!K27","v":327881560}]
["Internally Generated funds % of Non Grant Funding",null,null,{"$f":"IF(ISERROR(('A1-Sum'!B28+'A1-Sum'!B30)/('A1-Sum'!B31-'A1-Sum'!B27)),0,(('A1-Sum'!B28+'A1-Sum'!B30)/('A1-Sum'!B31-'A1-Sum'!B27)))","v":0.95337661188887723},{"$f":"IF(ISERROR(('A1-Sum'!C28+'A1-Sum'!C30)/('A1-Sum'!C31-'A1-Sum'!C27)),0,(('A1-Sum'!C28+'A1-Sum'!C30)/('A1-Sum'!C31-'A1-Sum'!C27)))","v":1.0000000000000002},{"$f":"IF(ISERROR(('A1-Sum'!D28+'A1-Sum'!D30)/('A1-Sum'!D31-'A1-Sum'!D27)),0,(('A1-Sum'!D28+'A1-Sum'!D30)/('A1-Sum'!D31-'A1-Sum'!D27)))","v":0.76375313986382043},{"$f":"IF(ISERROR(('A1-Sum'!E28+'A1-Sum'!E30)/('A1-Sum'!E31-'A1-Sum'!E27)),0,(('A1-Sum'!E28+'A1-Sum'!E30)/('A1-Sum'!E31-'A1-Sum'!E27)))","v":0.23068511111763718},{"$f":"IF(ISERROR(('A1-Sum'!F28+'A1-Sum'!F30)/('A1-Sum'!F31-'A1-Sum'!F27)),0,(('A1-Sum'!F28+'A1-Sum'!F30)/('A1-Sum'!F31-'A1-Sum'!F27)))","v":1.0000000000000002},{"$f":"IF(ISERROR(('A1-Sum'!G28+'A1-Sum'!G30)/('A1-Sum'!G31-'A1-Sum'!G27)),0,(('A1-Sum'!G28+'A1-Sum'!G30)/('A1-Sum'!G31-'A1-Sum'!G27)))","v":1.0000000000000002},{"$f":"IF(ISERROR(('A1-Sum'!H28+'A1-Sum'!H30)/('A1-Sum'!H31-'A1-Sum'!H27)),0,(('A1-Sum'!H28+'A1-Sum'!H30)/('A1-Sum'!H31-'A1-Sum'!H27)))","v":0},{"$f":"IF(ISERROR(('A1-Sum'!I28+'A1-Sum'!I30)/('A1-Sum'!I31-'A1-Sum'!I27)),0,(('A1-Sum'!I28+'A1-Sum'!I30)/('A1-Sum'!I31-'A1-Sum'!I27)))","v":0.37511716367668951},{"$f":"IF(ISERROR(('A1-Sum'!J28+'A1-Sum'!J30)/('A1-Sum'!J31-'A1-Sum'!J27)),0,(('A1-Sum'!J28+'A1-Sum'!J30)/('A1-Sum'!J31-'A1-Sum'!J27)))","v":0.42307692307692296},{"$f":"IF(ISERROR(('A1-Sum'!K28+'A1-Sum'!K30)/('A1-Sum'!K31-'A1-Sum'!K27)),0,(('A1-Sum'!K28+'A1-Sum'!K30)/('A1-Sum'!K31-'A1-Sum'!K27)))","v":1}]
["Borrowing % of Non Grant Funding",null,null,{"$f":"IF(ISERROR('A1-Sum'!B29/('A1-Sum'!B31-'A1-Sum'!B27)),0,('A1-Sum'!B29/('A1-Sum'!B31-'A1-Sum'!B27)))","v":4.6623388111122606E-2},{"$f":"IF(ISERROR('A1-Sum'!C29/('A1-Sum'!C31-'A1-Sum'!C27)),0,('A1-Sum'!C29/('A1-Sum'!C31-'A1-Sum'!C27)))","v":0},{"$f":"IF(ISERROR('A1-Sum'!D29/('A1-Sum'!D31-'A1-Sum'!D27)),0,('A1-Sum'!D29/('A1-Sum'!D31-'A1-Sum'!D27)))","v":0.23624686013617957},{"$f":"IF(ISERROR('A1-Sum'!E29/('A1-Sum'!E31-'A1-Sum'!E27)),0,('A1-Sum'!E29/('A1-Sum'!E31-'A1-Sum'!E27)))","v":0.76931488888236277},{"$f":"IF(ISERROR('A1-Sum'!F29/('A1-Sum'!F31-'A1-Sum'!F27)),0,('A1-Sum'!F29/('A1-Sum'!F31-'A1-Sum'!F27)))","v":0},{"$f":"IF(ISERROR('A1-Sum'!G29/('A1-Sum'!G31-'A1-Sum'!G27)),0,('A1-Sum'!G29/('A1-Sum'!G31-'A1-Sum'!G27)))","v":0},{"$f":"IF(ISERROR('A1-Sum'!H29/('A1-Sum'!H31-'A1-Sum'!H27)),0,('A1-Sum'!H29/('A1-Sum'!H31-'A1-Sum'!H27)))","v":0},{"$f":"IF(ISERROR('A1-Sum'!I29/('A1-Sum'!I31-'A1-Sum'!I27)),0,('A1-Sum'!I29/('A1-Sum'!I31-'A1-Sum'!I27)))","v":0.62488283632331032},{"$f":"IF(ISERROR('A1-Sum'!J29/('A1-Sum'!J31-'A1-Sum'!J27)),0,('A1-Sum'!J29/('A1-Sum'!J31-'A1-Sum'!J27)))","v":0.57692307692307676},{"$f":"IF(ISERROR('A1-Sum'!K29/('A1-Sum'!K31-'A1-Sum'!K27)),0,('A1-Sum'!K29/('A1-Sum'!K31-'A1-Sum'!K27)))","v":0}]
["Grant Funding % of Total Funding",null,null,{"$f":"IF(ISERROR('A1-Sum'!B27/'A1-Sum'!B31),0,('A1-Sum'!B27/'A1-Sum'!B31))","v":0.81093652214571665},{"$f":"IF(ISERROR('A1-Sum'!C27/'A1-Sum'!C31),0,('A1-Sum'!C27/'A1-Sum'!C31))","v":0.82223269925571274},{"$f":"IF(ISERROR('A1-Sum'!D27/'A1-Sum'!D31),0,('A1-Sum'!D27/'A1-Sum'!D31))","v":0.59928155864199673},{"$f":"IF(ISERROR('A1-Sum'!E27/'A1-Sum'!E31),0,('A1-Sum'!E27/'A1-Sum'!E31))","v":0.53349833460055796},{"$f":"IF(ISERROR('A1-Sum'!F27/'A1-Sum'!F31),0,('A1-Sum'!F27/'A1-Sum'!F31))","v":0.83037894227711717},{"$f":"IF(ISERROR('A1-Sum'!G27/'A1-Sum'!G31),0,('A1-Sum'!G27/'A1-Sum'!G31))","v":0.83037894227711717},{"$f":"IF(ISERROR('A1-Sum'!H27/'A1-Sum'!H31),0,('A1-Sum'!H27/'A1-Sum'!H31))","v":0},{"$f":"IF(ISERROR('A1-Sum'!I27/'A1-Sum'!I31),0,('A1-Sum'!I27/'A1-Sum'!I31))","v":0.58366723480926341},{"$f":"IF(ISERROR('A1-Sum'!J27/'A1-Sum'!J31),0,('A1-Sum'!J27/'A1-Sum'!J31))","v":0.55273383605233606},{"$f":"IF(ISERROR('A1-Sum'!K27/'A1-Sum'!K31),0,('A1-Sum'!K27/'A1-Sum'!K31))","v":0.73207202368411861}]
["Capital Expenditure"]
["Total Capital Programme (R'000)",null,null,{"$f":"'A1-Sum'!B26","v":479854918.75999987},{"$f":"'A1-Sum'!C26","v":685931270.08999991},{"$f":"'A1-Sum'!D26","v":521826748.73000014},{"$f":"'A1-Sum'!E26","v":835918464.87},{"$f":"'A1-Sum'!F26","v":526984994.04499996},{"$f":"'A1-Sum'!G26","v":526984994.04499996},{"$f":"'A1-Sum'!H26","v":0},{"$f":"'A1-Sum'!I26","v":768760054},{"$f":"'A1-Sum'!J26","v":581309343.20000005},{"$f":"'A1-Sum'!K26","v":447881560}]
["Asset Renewal",null,null,{"$f":"'A1-Sum'!B51","v":458747088.06999999},{"$f":"'A1-Sum'!C51","v":277988495.23000008},{"$f":"'A1-Sum'!D51","v":313421420.63000005},{"$f":"'A1-Sum'!E51","v":640005443.87},{"$f":"'A1-Sum'!F51","v":329500004.32999992},{"$f":"'A1-Sum'!G51","v":329500004.32999992},{"$f":"'A1-Sum'!H51","v":260820500},{"$f":"'A1-Sum'!I51","v":405063245},{"$f":"'A1-Sum'!J51","v":286388196.10000002},{"$f":"'A1-Sum'!K51","v":260820500}]
["Asset Renewal % of Total Capital Expenditure",null,null,{"$f":"IF(ISERROR('A1-Sum'!B51/'A1-Sum'!B31),0,('A1-Sum'!B51/'A1-Sum'!B31))","v":0.95601145277830912},{"$f":"IF(ISERROR('A1-Sum'!C51/'A1-Sum'!C31),0,('A1-Sum'!C51/'A1-Sum'!C31))","v":0.40527164652156128},{"$f":"IF(ISERROR('A1-Sum'!D51/'A1-Sum'!D31),0,('A1-Sum'!D51/'A1-Sum'!D31))","v":0.60062352378982453},{"$f":"IF(ISERROR('A1-Sum'!E51/'A1-Sum'!E31),0,('A1-Sum'!E51/'A1-Sum'!E31))","v":0.76563142311915799},{"$f":"IF(ISERROR('A1-Sum'!F51/'A1-Sum'!F31),0,('A1-Sum'!F51/'A1-Sum'!F31))","v":0.62525500356441543},{"$f":"IF(ISERROR('A1-Sum'!G51/'A1-Sum'!G31),0,('A1-Sum'!G51/'A1-Sum'!G31))","v":0.62525500356441543},{"$f":"IF(ISERROR('A1-Sum'!H51/'A1-Sum'!H31),0,('A1-Sum'!H51/'A1-Sum'!H31))","v":0},{"$f":"IF(ISERROR('A1-Sum'!I51/'A1-Sum'!I31),0,('A1-Sum'!I51/'A1-Sum'!I31))","v":0.5269046471553529},{"$f":"IF(ISERROR('A1-Sum'!J51/'A1-Sum'!J31),0,('A1-Sum'!J51/'A1-Sum'!J31))","v":0.49266057642130118},{"$f":"IF(ISERROR('A1-Sum'!K51/'A1-Sum'!K31),0,('A1-Sum'!K51/'A1-Sum'!K31))","v":0.58234257288913616}]
["Cash"]
["Cash Receipts % of Rate Payer & Other",null,null,{"$f":"'SA10'!D10","v":0.3561682099583196},{"$f":"'SA10'!E10","v":0.37269746743182564},{"$f":"'SA10'!F10","v":0.38388454445338444},{"$f":"'SA10'!G10","v":0.4285825212231677},{"$f":"'SA10'!H10","v":0.43072303078120361},{"$f":"'SA10'!I10","v":0.43072303078120361},{"$f":"'SA10'!J10","v":0},{"$f":"'SA10'!K10","v":0.45840377565573576},{"$f":"'SA10'!L10","v":0.48627950470196907},{"$f":"'SA10'!M10","v":0.5060512479669842}]
["Cash Coverage Ratio",null,null,{"$f":"'SA10'!D7","v":1.2438608807022595},{"$f":"'SA10'!E7","v":0.87492732983732246},{"$f":"'SA10'!F7","v":0.55163438612380256},{"$f":"'SA10'!G7","v":0.30201176077974684},{"$f":"'SA10'!H7","v":0.89339997409817218},{"$f":"'SA10'!I7","v":0.89339997409817218},{"$f":"'SA10'!J7","v":0},{"$f":"'SA10'!K7","v":1.4146530785344762},{"$f":"'SA10'!L7","v":2.1240465185056041},{"$f":"'SA10'!M7","v":3.3388382490762254}]
["Borrowing"]
[]
["Most recent Credit Rating ",null,null,null,null,null,null,null,null,null,{"$f":"'SA8'!F6","v":0}]
["Capital Charges to Operating",null,null,{"$f":"'SA8'!C7","v":2.2362108070733463E-2},{"$f":"'SA8'!D7","v":2.4945554586367782E-2},{"$f":"'SA8'!E7","v":1.5611234621212963E-2},{"$f":"'SA8'!F7","v":1.8253158802842347E-2},{"$f":"'SA8'!G7","v":1.1421130787155299E-2},{"$f":"'SA8'!H7","v":1.1421130787155299E-2},{"$f":"'SA8'!I7","v":0},{"$f":"'SA8'!J7","v":8.2298320528129167E-3},{"$f":"'SA8'!K7","v":7.8021842174428591E-3},{"$f":"'SA8'!L7","v":7.6351380806571664E-3}]
["Borrowing Receipts % of Capital Expenditure",null,null,{"$f":"'SA10'!D13","v":0},{"$f":"'SA10'!E13","v":0},{"$f":"'SA10'!F13","v":0},{"$f":"'SA10'!G13","v":0.76931488888236277},{"$f":"'SA10'!H13","v":0},{"$f":"'SA10'!I13","v":0},{"$f":"'SA10'!J13","v":0},{"$f":"'SA10'!K13","v":0.62488283632331032},{"$f":"'SA10'!L13","v":0.57692307692307676},{"$f":"'SA10'!M13","v":0}]
["Reserves"]
["Uncommitted reserves after application of cash and investments",null,null,{"$f":"'A8-ResRecon'!C19","v":8282504037},{"$f":"'A8-ResRecon'!D19","v":7830417281},{"$f":"'A8-ResRecon'!E19","v":7920240733},{"$f":"'A8-ResRecon'!F19","v":8221360407.5064983},{"$f":"'A8-ResRecon'!G19","v":9861900275.9948254},{"$f":"'A8-ResRecon'!H19","v":9861900275.9948254},{"$f":"'A8-ResRecon'!I19","v":4204533611},{"$f":"'A8-ResRecon'!J19","v":8993637866.0000019},{"$f":"'A8-ResRecon'!K19","v":8957088175.0300026},{"$f":"'A8-ResRecon'!L19","v":8157266558.1000881}]
["Free Services"]
["Free Basic Services as a % of Equitable Share",null,null,{"$f":"IF(ISERROR('A10-SerDel'!C60/'SA18'!C8),0,('A10-SerDel'!C60/'SA18'!C8))","v":0},{"$f":"IF(ISERROR('A10-SerDel'!D60/'SA18'!D8),0,('A10-SerDel'!D60/'SA18'!D8))","v":0},{"$f":"IF(ISERROR('A10-SerDel'!E60/'SA18'!E8),0,('A10-SerDel'!E60/'SA18'!E8))","v":0},{"$f":"IF(ISERROR('A10-SerDel'!F60/'SA18'!F8),0,('A10-SerDel'!F60/'SA18'!F8))","v":0.3276874075275904},{"$f":"IF(ISERROR('A10-SerDel'!G60/'SA18'!G8),0,('A10-SerDel'!G60/'SA18'!G8))","v":0},{"$f":"IF(ISERROR('A10-SerDel'!H60/'SA18'!H8),0,('A10-SerDel'!H60/'SA18'!H8))","v":0},null,{"$f":"IF(ISERROR('A10-SerDel'!I60/'SA18'!I8),0,('A10-SerDel'!I60/'SA18'!I8))","v":0.31551668703974645},{"$f":"IF(ISERROR('A10-SerDel'!J60/'SA18'!J8),0,('A10-SerDel'!J60/'SA18'!J8))","v":0.30708803312218025},{"$f":"IF(ISERROR('A10-SerDel'!K60/'SA18'!K8),0,('A10-SerDel'!K60/'SA18'!K8))","v":0}]
["Free Services as a % of Operating Revenue \n(excl operational transfers)",null,null,{"$f":"IF(ISERROR('A10-SerDel'!C79/('A1-Sum'!B10-'A1-Sum'!B8)),0,('A10-SerDel'!C79/('A1-Sum'!B10-'A1-Sum'!B8)))","v":0},{"$f":"IF(ISERROR('A10-SerDel'!D79/('A1-Sum'!C10-'A1-Sum'!C8)),0,('A10-SerDel'!D79/('A1-Sum'!C10-'A1-Sum'!C8)))","v":1.3723870108226129E-2},{"$f":"IF(ISERROR('A10-SerDel'!E79/('A1-Sum'!D10-'A1-Sum'!D8)),0,('A10-SerDel'!E79/('A1-Sum'!D10-'A1-Sum'!D8)))","v":0},{"$f":"IF(ISERROR('A10-SerDel'!F79/('A1-Sum'!E10-'A1-Sum'!E8)),0,('A10-SerDel'!F79/('A1-Sum'!E10-'A1-Sum'!E8)))","v":5.5720715574384412E-2},{"$f":"IF(ISERROR('A10-SerDel'!G79/('A1-Sum'!F10-'A1-Sum'!F8)),0,('A10-SerDel'!G79/('A1-Sum'!F10-'A1-Sum'!F8)))","v":5.5720715574384419E-2},{"$f":"IF(ISERROR('A10-SerDel'!H79/('A1-Sum'!G10-'A1-Sum'!G8)),0,('A10-SerDel'!H79/('A1-Sum'!G10-'A1-Sum'!G8)))","v":5.5720715574384419E-2},null,{"$f":"IF(ISERROR('A10-SerDel'!I79/('A1-Sum'!I10-'A1-Sum'!I8)),0,('A10-SerDel'!I79/('A1-Sum'!I10-'A1-Sum'!I8)))","v":5.0624859886479391E-2},{"$f":"IF(ISERROR('A10-SerDel'!J79/('A1-Sum'!J10-'A1-Sum'!J8)),0,('A10-SerDel'!J79/('A1-Sum'!J10-'A1-Sum'!J8)))","v":4.8259895654513968E-2},{"$f":"IF(ISERROR('A10-SerDel'!K79/('A1-Sum'!K10-'A1-Sum'!K8)),0,('A10-SerDel'!K79/('A1-Sum'!K10-'A1-Sum'!K8)))","v":4.5456056542764176E-2}]
[]
["High Level Outcome of Funding Compliance"]
["Total Operating Revenue",null,null,{"$f":"D86","v":5487113578},{"$f":"E86","v":5540355643},5853712620,7050770261.4548702,6995636870.6548691,6995636870.6548691,{"$f":"J86","v":0},8120726125.2604589,8981585804.9971886,10038458858.014183]
["Total Operating Expenditure",null,null,{"$f":"D87","v":5693447173.999999},5984002660,6949419417,6454946893.2387085,6623210257.3479986,6623210257.3479986,0,7703787795,8487228543,9183692958]
["Surplus/(Deficit) Budgeted Operating Statement",null,null,-206333595.99999905,-443647017,-1095706797,595823368.21616173,372426613.30687046,372426613.30687046,0,416938330.26045895,494357261.99718857,854765900.01418304]
["Surplus/(Deficit) Considering Reserves and Cash Backing",null,null,{"$f":"'A8-ResRecon'!C19","v":8282504037},{"$f":"'A8-ResRecon'!D19","v":7830417281},{"$f":"'A8-ResRecon'!E19","v":7920240733},{"$f":"'A8-ResRecon'!F19","v":8221360407.5064983},{"$f":"'A8-ResRecon'!G19","v":9861900275.9948254},{"$f":"'A8-ResRecon'!H19","v":9861900275.9948254},{"$f":"'A8-ResRecon'!I19","v":4204533611},{"$f":"'A8-ResRecon'!J19","v":8993637866.0000019},{"$f":"'A8-ResRecon'!K19","v":8957088175.0300026},{"$f":"'A8-ResRecon'!L19","v":8157266558.1000881}]
["MTREF Funded (1) / Unfunded (0)",null,15,{"$f":"IF(D133>=0,1,0)","v":1},{"$f":"IF(E133>=0,1,0)","v":1},1,1,1,1,1,1,1,1]
["MTREF Funded ü / Unfunded û",null,15,{"$f":"IF(D134=1,\"ü\",\"û\")","v":"ü"},{"$f":"IF(E134=1,\"ü\",\"û\")","v":"ü"},"ü","ü","ü","ü","ü","ü","ü","ü"]
[]
[{"$f":"head27a","v":"References"}]
["15. Subject to figures provided in Schedule."]

{"sheet":"SA11","index":29,"n_rows":73,"n_cols":11,"rows_kept":73,"cut":false,"hidden":false,"merged":[[1,5,1,7],[1,8,1,10],[1,1,3,1],[1,0,2,0]]}
[{"$f":"muni&\" - \"&TableA11","v":"0 - Supporting Table SA11 Property rates summary"}]
[{"$f":"desc","v":"Description"},{"$f":"head27","v":"Ref"},{"$f":"head1b","v":"2019/20"},{"$f":"head1A","v":"2020/21"},{"$f":"Head1","v":"2021/22"},{"$f":"Head2","v":"Current Year 2022/23"},null,null,{"$f":"Head3","v":"2023/24 Medium Term Revenue & Expenditure Framework"}]
[null,null,{"$f":"Head5","v":"Audited Outcome"},{"$f":"Head5","v":"Audited Outcome"},{"$f":"Head5","v":"Audited Outcome"},{"$f":"Head6","v":"Original Budget"},{"$f":"Head7","v":"Adjusted Budget"},{"$f":"Head8","v":"Full Year Forecast"},{"$f":"Head9","v":"Budget Year 2023/24"},{"$f":"Head10","v":"Budget Year +1 2024/25"},{"$f":"Head11","v":"Budget Year +2 2025/26"}]
[]
["Valuation:",1]
["Date of valuation:",null,"2013-07-01","2013-07-01","2013-07-01","2013-07-01"]
["Financial year valuation used"]
["Municipal by-laws s6 in place? (Y/N)","2"]
["Municipal/assistant valuer appointed? (Y/N)"]
["Municipal partnership s38 used? (Y/N)"]
["No. of assistant valuers (FTE)",3]
["No. of data collectors (FTE)",3]
["No. of internal valuers (FTE)",3]
["No. of external valuers (FTE)",3]
["No. of additional valuers (FTE)",4]
["Valuation appeal board established? (Y/N)"]
["Implementation time of new valuation roll (mths)"]
["No. of properties",5]
["No. of sectional title values",5]
["No. of unreasonably difficult properties s7(2)"]
["No. of supplementary valuations"]
["No. of valuation roll amendments"]
["No. of objections by rate payers"]
["No. of appeals by rate payers"]
["No. of successful objections",8]
["No. of successful objections > 10%",8]
["Supplementary valuation"]
["Public service infrastructure value (Rm)",5]
["Municipality owned property value (Rm)"]
["Valuation reductions:"]
["Valuation reductions-public infrastructure (Rm)"]
["Valuation reductions-nature reserves/park (Rm)"]
["Valuation reductions-mineral rights (Rm)"]
["Valuation reductions-R15,000 threshold (Rm)"]
["Valuation reductions-public worship (Rm)"]
["Valuation reductions-other (Rm)"]
["Total valuation reductions:",null,{"$f":"SUM(C31:C36)","v":0},{"$f":"SUM(D31:D36)","v":0},0,0,0,0,0,0,0]
["Total value used for rating (Rm)",5]
["Total land value (Rm)",5]
["Total value of improvements (Rm)",5]
["Total market value (Rm)",5]
[]
["Rating:"]
["Residential rate used to determine rate for other categories? (Y/N)"]
["Differential rates used? (Y/N)",5]
["Limit on annual rate increase (s20)? (Y/N)"]
["Special rating area used? (Y/N)"]
["Phasing-in properties s21 (number)"]
["Rates policy accompanying budget? (Y/N)"]
["Fixed amount minimum value (R'000)"]
["Non-residential prescribed ratio s19? (%)"]
[]
["Rate revenue:"]
["Rate revenue budget (R '000)",6]
["Rate revenue expected to collect (R'000)",6]
["Expected cash collection rate (%)"]
["Special rating areas (R'000)",7]
["Rebates, exemptions - indigent (R'000)"]
["Rebates, exemptions - pensioners (R'000)"]
["Rebates, exemptions - bona fide farm. (R'000)"]
["Rebates, exemptions - other (R'000)"]
["Phase-in reductions/discounts (R'000)"]
["Total rebates,exemptns,reductns,discs (R'000)",null,{"$f":"SUM(C58:C62)","v":0},{"$f":"SUM(D58:D62)","v":0},0,0,0,0,0,0,0]
[]
[{"$f":"head27a","v":"References"}]
["1. All numbers to be expressed as whole numbers except FTEs and Rates in the Rand"]
["2. To give effect to rates policy"]
["3. Full Time Equivalent (FTE)  should be expressed to one decimal place and takes into account full time and part time staff"]
["4. Required to implement new system (FTE)"]
["5. Provide relevant information for historical comparisons. Must reconcile to the total of Table SA12"]
[{"$f":"\"6. Current and budget year must reconcile to \"&'Template names'!F103","v":"6. Current and budget year must reconcile to Table A4 Budgeted Financial Performance (revenue and expenditure)"}]
["7. Included in rate revenue budget"]
["8. In favour of the rate-payer"]

{"sheet":"SA12a","index":30,"n_rows":56,"n_cols":13,"rows_kept":56,"cut":false,"hidden":false,"merged":[]}
[{"$f":"muni&\" - \"&TableA12a","v":"0 - Supporting Table SA12a Property rates by category (current year)"}]
[{"$f":"desc","v":"Description"},{"$f":"head27","v":"Ref"},"Business and commercial properties","Industrial properties","Mining properties","Residential properties","Agricultural properties","Public benefit organisations","Public service purpose properties","Public service infrastructure properties","Vacant land","Sport Clubs and Fields (Bitou only)","Sectional Title Garages (Drakenstein only)"]
[{"$f":"Head2","v":"Current Year 2022/23"}]
["Valuation:"]
["No. of properties"]
["No. of sectional title property values"]
["No. of unreasonably difficult properties s7(2)"]
["No. of supplementary valuations"]
["Supplementary valuation (Rm)"]
["No. of valuation roll amendments"]
["No. of objections by rate-payers"]
["No. of appeals by rate-payers"]
["No. of appeals by rate-payers finalised"]
["No. of successful objections",5]
["No. of successful objections > 10%",5]
["Estimated no. of properties not valued"]
["Years since last valuation (select)"]
["Frequency of valuation (select)"]
["Method of valuation used (select)"]
["Base of valuation (select)"]
["Phasing-in properties s21 (number)"]
["Combination of rating types used? (Y/N)"]
["Flat rate used? (Y/N)"]
["Is balance rated by uniform rate/variable rate?"]
["Valuation reductions:"]
["Valuation reductions-public infrastructure (Rm)"]
["Valuation reductions-nature reserves/park (Rm)"]
["Valuation reductions-mineral rights (Rm)"]
["Valuation reductions-R15,000 threshold (Rm)"]
["Valuation reductions-public worship (Rm)"]
["Valuation reductions-other (Rm)",2]
["Total valuation reductions:"]
["Total value used for rating (Rm)",6]
["Total land value (Rm)",6]
["Total value of improvements (Rm)",6]
["Total market value (Rm)",6]
["Rating:"]
["Average rate",3]
["Rate revenue budget (R '000)"]
["Rate revenue expected to collect (R'000)"]
["Expected cash collection rate (%)",4]
["Special rating areas (R'000)"]
["Rebates, exemptions - indigent (R'000)"]
["Rebates, exemptions - pensioners (R'000)"]
["Rebates, exemptions - bona fide farm. (R'000)"]
["Rebates, exemptions - other (R'000)"]
["Phase-in reductions/discounts (R'000)"]
["Total rebates,exemptns,reductns,discs (R'000)"]
[]
[{"$f":"head27a","v":"References"}]
["1. Land & Assistance Act, Restitution of Land Rights, Communual Property Associations"]
["2. Include value of additional reductions is 'free' value greater than MPRA minimum."]
["3. Average rate - cents in  the Rand. Eg 10.26 cents in the Rand is 0.1026, expressed to 6 decimal places maximum"]
["4. Include arrears collections"]
["5. In favour of the rate-payer"]
["6. Provide relevant information for historical comparisons."]

{"sheet":"SA12b","index":31,"n_rows":56,"n_cols":13,"rows_kept":56,"cut":false,"hidden":false,"merged":[]}
[{"$f":"muni&\" - \"&TableA12b","v":"0 - Supporting Table SA12b Property rates by category (budget year)"}]
[{"$f":"desc","v":"Description"},{"$f":"head27","v":"Ref"},"Business and commercial properties","Industrial properties","Mining properties","Residential properties","Agricultural properties","Public benefit organisations","Public service purpose properties","Public service infrastructure properties","Vacant land","Sport Clubs and Fields (Bitou only)","Sectional Title Garages (Drakenstein only)"]
[{"$f":"Head9","v":"Budget Year 2023/24"}]
["Valuation:"]
["No. of properties"]
["No. of sectional title property values"]
["No. of unreasonably difficult properties s7(2)"]
["No. of supplementary valuations"]
["Supplementary valuation (Rm)"]
["No. of valuation roll amendments"]
["No. of objections by rate-payers"]
["No. of appeals by rate-payers"]
["No. of appeals by rate-payers finalised"]
["No. of successful objections",5]
["No. of successful objections > 10%",5]
["Estimated no. of properties not valued"]
["Years since last valuation (select)"]
["Frequency of valuation (select)"]
["Method of valuation used (select)"]
["Base of valuation (select)"]
["Phasing-in properties s21 (number)"]
["Combination of rating types used? (Y/N)"]
["Flat rate used? (Y/N)"]
["Is balance rated by uniform rate/variable rate?"]
["Valuation reductions:"]
["Valuation reductions-public infrastructure (Rm)"]
["Valuation reductions-nature reserves/park (Rm)"]
["Valuation reductions-mineral rights (Rm)"]
["Valuation reductions-R15,000 threshold (Rm)"]
["Valuation reductions-public worship (Rm)"]
["Valuation reductions-other (Rm)",2]
["Total valuation reductions:"]
["Total value used for rating (Rm)",6]
["Total land value (Rm)",6]
["Total value of improvements (Rm)",6]
["Total market value (Rm)",6]
["Rating:"]
["Average rate",3]
["Rate revenue budget (R '000)"]
["Rate revenue expected to collect (R'000)"]
["Expected cash collection rate (%)",4]
["Special rating areas (R'000)"]
["Rebates, exemptions - indigent (R'000)"]
["Rebates, exemptions - pensioners (R'000)"]
["Rebates, exemptions - bona fide farm. (R'000)"]
["Rebates, exemptions - other (R'000)"]
["Phase-in reductions/discounts (R'000)"]
["Total rebates,exemptns,reductns,discs (R'000)"]
[]
[{"$f":"head27a","v":"References"}]
["1. Land & Assistance Act, Restitution of Land Rights, Communual Property Associations"]
["2. Include value of additional reductions is 'free' value greater than MPRA minimum."]
["3. Average rate - cents in  the Rand. Eg 10.26 cents in the Rand is 0.1026, expressed to 6 decimal places maximum"]
["4. Include arrears collections"]
["5. In favour of the rate-payer"]
["6. Provide relevant information for historical comparisons."]

{"sheet":"SA13a","index":32,"n_rows":104,"n_cols":19,"rows_kept":104,"cut":false,"hidden":false,"merged":[[1,6,2,6],[1,0,2,0],[1,1,2,1],[1,2,2,2],[1,3,2,3],[1,4,2,4],[1,5,2,5],[107,6,108,6],[107,0,108,0],[107,1,108,1],[107,2,108,2],[107,3,108,3],[107,4,108,4],[107,5,108,5]]}
[{"$f":"muni&\" - \"&TableA13a","v":"0 - Supporting Table SA13a Service Tariffs by category"}]
[{"$f":"desc","v":"Description"},{"$f":"head27","v":"Ref"},"Provide description of tariff structure where appropriate",{"$f":"head1b","v":"2019/20"},{"$f":"head1A","v":"2020/21"},{"$f":"Head1","v":"2021/22"},{"$f":"Head2","v":"Current Year 2022/23"},{"$f":"Head3","v":"2023/24 Medium Term Revenue & Expenditure Framework"}]
[null,null,null,null,null,null,null,{"$f":"Head9","v":"Budget Year 2023/24"},{"$f":"Head10","v":"Budget Year +1 2024/25"},{"$f":"Head11","v":"Budget Year +2 2025/26"}]
["Property rates (rate in the Rand)",1]
["Residential properties",null,null,1.24E-2,1.24E-2,null,1.3392000000000001E-2]
["Residential properties - vacant land",null,null,2.0400000000000001E-2,2.0400000000000001E-2,null,2.2032000000000003E-2]
["Formal/informal settlements"]
["Small holdings"]
["Farm properties - used",null,null,2.8E-3,2.8E-3,null,3.0240000000000002E-3]
["Farm properties - not used"]
["Industrial properties"]
["Business and commercial properties",null,null,1.9699999999999999E-2,1.9699999999999999E-2,null,2.1276E-2]
["Communal land - residential",null,null,1.5299999999999999E-2,1.5299999999999999E-2,null,1.6524E-2]
["Communal land - small holdings",null,null,1.5299999999999999E-2,1.5299999999999999E-2,null,1.6524E-2]
["Communal land - farm property",null,null,1.5299999999999999E-2,1.5299999999999999E-2,null,1.6524E-2]
["Communal land - business and commercial",null,null,1.5299999999999999E-2,1.5299999999999999E-2,null,1.6524E-2]
["Communal land - other",null,null,1.5299999999999999E-2,1.5299999999999999E-2,null,1.6524E-2]
["State-owned properties"]
["Municipal properties"]
["Public service infrastructure",null,null,2.8E-3,2.8E-3,null,3.0240000000000002E-3]
["Privately owned towns serviced by the owner"]
["State trust land"]
["Restitution and redistribution properties"]
["Protected areas"]
["National monuments properties"]
["Property rates by usage"]
["Business and commercial properties"]
["Industrial properties"]
["Mining properties"]
["Residential properties"]
["Agricultural properties"]
["Public benefit organisations"]
["Public service purpose properties"]
["Public service infrastructure properties"]
["Vacant land"]
["Sport Clubs and Fields (Bitou only)"]
["Sectional Title Garages (Drakenstein only)"]
[]
["Exemptions, reductions and rebates (Rands)"]
["Residential properties"]
["R15 000 threshhold rebate",null,null,15000,15000,15000,15000,15000,15000,15000]
["General residential rebate",null,null,85000,85000,null,91800,97308,103146.48000000001]
["Indigent rebate or exemption",null,null,85000,85000,null,91800,97308,103146.48000000001]
["Pensioners/social grants rebate or exemption ",null,null,"33%-40%","33%-40%",null,"33%-40%","33%-40%","33%-40%"]
["Temporary relief rebate or exemption"]
[" Bona fide farmers rebate or exemption"]
["Other rebates or exemptions",2]
[]
["Water tariffs"]
["Domestic"]
["Basic charge/fixed fee (Rands/month)",null,null,null,null,null,null,null,null,null,null,null,null,null,null,null,null,null,{"$f":"SUM(C51:R51)","v":0}]
["Service point - vacant land (Rands/month)",null,null,null,null,null,null,null,null,null,null,null,null,null,null,null,null,null,{"$f":"SUM(C52:R52)","v":0}]
["Water usage - flat rate tariff (c/kl)"]
["Water usage - life line tariff",null,"(describe structure)"]
["Water usage - Block 1 (c/kl)",null," (fill in thresholds)"]
["Water usage - Block 2 (c/kl)",null," (fill in thresholds)"]
["Water usage - Block 3 (c/kl)",null," (fill in thresholds)"]
["Water usage - Block 4 (c/kl)",null," (fill in thresholds)"]
["Water usage - Block 5 (c/kl)",null," (fill in thresholds)"]
["Water usage - Block 6 (c/kl)",null," (fill in thresholds)"]
["Other",2]
[]
["Waste water tariffs"]
["Domestic"]
["Basic charge/fixed fee (Rands/month)"]
["Service point - vacant land (Rands/month)"]
["Waste water - flat rate tariff (c/kl)"]
["Volumetric charge - Block 1 (c/kl)",null,"(fill in structure)"]
["Volumetric charge - Block 2 (c/kl)",null,"(fill in structure)"]
["Volumetric charge - Block 3 (c/kl)",null,"(fill in structure)"]
["Volumetric charge - Block 4 (c/kl)",null,"(fill in structure)"]
["Other",2]
[]
["Electricity tariffs"]
["Domestic"]
["Basic charge/fixed fee (Rands/month)"]
["Service point - vacant land (Rands/month)"]
["FBE",null,"(how is this targeted?)"]
["Life-line tariff - meter",null,"(describe structure)"]
["Life-line tariff - prepaid",null,"(describe structure)"]
["Flat rate tariff - meter (c/kwh)"]
["Flat rate tariff - prepaid(c/kwh)"]
["Meter - IBT Block 1 (c/kwh)",null,"(fill in thresholds)"]
["Meter - IBT Block 2 (c/kwh)",null,"(fill in thresholds)"]
["Meter - IBT Block 3 (c/kwh)",null,"(fill in thresholds)"]
["Meter - IBT Block 4 (c/kwh)",null,"(fill in thresholds)"]
["Meter - IBT Block 5 (c/kwh)",null,"(fill in thresholds)"]
["Prepaid - IBT Block 1 (c/kwh)",null,"(fill in thresholds)"]
["Prepaid - IBT Block 2 (c/kwh)",null,"(fill in thresholds)"]
["Prepaid - IBT Block 3 (c/kwh)",null,"(fill in thresholds)"]
["Prepaid - IBT Block 4 (c/kwh)",null,"(fill in thresholds)"]
["Prepaid - IBT Block 5 (c/kwh)",null,"(fill in thresholds)"]
["Other",2]
[]
["Waste management tariffs"]
["Domestic"]
["Street cleaning charge"]
["Basic charge/fixed fee"]
["80l bin - once a week"]
["250l bin - once a week"]
[]
[{"$f":"head27a","v":"References"}]
["1. If properties are not rated or zero rated this must be indicated as such"]
["2.Please provide detailed descriptions on Sheet SA13b"]

{"sheet":"SA13b","index":33,"n_rows":50,"n_cols":19,"rows_kept":50,"cut":false,"hidden":false,"merged":[[94,5,95,5],[94,6,95,6],[1,6,2,6],[1,5,2,5],[1,4,2,4],[94,4,95,4],[94,0,95,0],[1,0,2,0],[1,1,2,1],[1,2,2,2],[1,3,2,3],[94,1,95,1],[94,2,95,2],[94,3,95,3]]}
[{"$f":"muni&\" - \"&TableA13b","v":"0 - Supporting Table SA13b Service Tariffs by category - explanatory"}]
[{"$f":"desc","v":"Description"},{"$f":"head27","v":"Ref"},"Provide description of tariff structure where appropriate",{"$f":"head1b","v":"2019/20"},{"$f":"head1A","v":"2020/21"},{"$f":"Head1","v":"2021/22"},{"$f":"Head2","v":"Current Year 2022/23"},{"$f":"Head3","v":"2023/24 Medium Term Revenue & Expenditure Framework"}]
[null,null,null,null,null,null,null,{"$f":"Head9","v":"Budget Year 2023/24"},{"$f":"Head10","v":"Budget Year +1 2024/25"},{"$f":"Head11","v":"Budget Year +2 2025/26"}]
["Exemptions, reductions and rebates (Rands)"]
["[Insert lines as applicable]",null,null,15000,15000,null,15000]
[null,null,null,85000,85000,null,85000]
[null,null,null,"30% - 40%","30% - 40%",null,"30% - 40%"]
[null,null,null,"40%","40%",null,"40%"]
[]
[null,null,null,"100%","100%",null,"100%"]
[null,null,null,"66%","66%",null,"66%"]
[null,null,null,"33%","33%",null,"33%"]
[]
["Water tariffs"]
["[Insert blocks as applicable]",null," (fill in thresholds)","6kl","6kl",null,"6kl"]
[null,null," (fill in thresholds)"]
[null,null," (fill in thresholds)"]
[null,null," (fill in thresholds)"]
[null,null," (fill in thresholds)"]
[null,null," (fill in thresholds)"]
[null,null," (fill in thresholds)"]
[null,null," (fill in thresholds)"]
[null,null," (fill in thresholds)"]
[null,null," (fill in thresholds)"]
[]
["Waste water tariffs"]
["[Insert blocks as applicable]",null,"(fill in structure)",153.79,164.55529999999999,null,195.50815193]
[null,null,"(fill in structure)"]
[null,null,"(fill in structure)"]
[null,null,"(fill in structure)"]
[null,null,"(fill in structure)"]
[null,null,"(fill in structure)"]
[null,null,"(fill in structure)"]
[null,null,"(fill in structure)"]
[null,null,"(fill in structure)"]
[]
["Electricity tariffs"]
["[Insert blocks as applicable]",null,"(fill in thresholds)","20 Amp 70 kWH","20 Amp 70 kWH",null,"20 Amp 70 kWH"]
[null,null,"(fill in thresholds)",null,null,null,null,null,null,null,null,null,null,null,null,null,null,null,{"$f":"SUM(C39:R39)","v":0}]
[null,null,"(fill in thresholds)",null,null,null,null,null,null,null,null,null,null,null,null,null,null,null,{"$f":"SUM(C40:R40)","v":0}]
[null,null,"(fill in thresholds)"]
[null,null,"(fill in thresholds)"]
[null,null,"(fill in thresholds)"]
[null,null,"(fill in thresholds)"]
[null,null,"(fill in thresholds)"]
[null,null,"(fill in thresholds)"]
[null,null,"(fill in thresholds)"]
[null,null,"(fill in thresholds)"]
[null,null,"(fill in thresholds)"]
[null,null,"(fill in thresholds)"]

{"sheet":"SA14","index":34,"n_rows":54,"n_cols":12,"rows_kept":54,"cut":false,"hidden":false,"merged":[[1,1,3,1],[1,5,1,7],[1,0,2,0]]}
[{"$f":"muni&\" - \"&TableA14","v":"0 - Supporting Table SA14 Household bills"}]
[{"$f":"desc","v":"Description"},{"$f":"head27","v":"Ref"},{"$f":"head1b","v":"2019/20"},{"$f":"head1A","v":"2020/21"},{"$f":"Head1","v":"2021/22"},{"$f":"Head2","v":"Current Year 2022/23"},null,null,{"$f":"Head3","v":"2023/24 Medium Term Revenue & Expenditure Framework"}]
[null,null,{"$f":"Head5","v":"Audited Outcome"},{"$f":"Head5","v":"Audited Outcome"},{"$f":"Head5","v":"Audited Outcome"},{"$f":"Head6","v":"Original Budget"},{"$f":"Head7","v":"Adjusted Budget"},{"$f":"Head8","v":"Full Year Forecast"},{"$f":"Head9","v":"Budget Year 2023/24"},{"$f":"Head9","v":"Budget Year 2023/24"},{"$f":"Head10","v":"Budget Year +1 2024/25"},{"$f":"Head11","v":"Budget Year +2 2025/26"}]
["Rand/cent",null,null,null,null,null,null,null,"% incr."]
["Monthly Account for Household - 'Middle Income Range'",1]
["Rates and services charges:"]
["Property rates",null,707.86799999999994,667.8,{"$f":"D7*1.045","v":697.85099999999989},791.36303399999997,791.36303399999997,791.36303399999997,7.0000000000000007E-2,{"$f":"H7*1.07","v":846.75844638000001},{"$f":"J7*1.049","v":888.24961025261996},{"$f":"K7*1.047","v":929.99734193449308}]
["Electricity: Basic levy",null,38.878825994399996,35.534983999999994,{"$f":"D8*1.045","v":37.134058279999991},44.143814306983685,44.143814306983685,44.143814306983685,0.22,{"$f":"H8*1.22","v":53.855453454520095},{"$f":"J8*1.16","v":62.472326007243304},{"$f":"K8*1.18","v":73.717344688547101}]
["Electricity: Consumption",null,1038.3662396520001,949.05971999999997,991.76740739999991,1178.9822684574144,1178.9822684574144,1178.9822684574144,0.22,{"$f":"H9*1.22","v":1438.3583675180455},{"$f":"J9*1.16","v":1668.4957063209326},{"$f":"K9*1.18","v":1968.8249334587003}]
["Water: Basic levy",null,23.095788799999998,21.072799999999997,22.021075999999997,27.287590175999998,27.287590175999998,27.287590175999998,0.1,{"$f":"H10*1.1","v":30.0163491936},{"$f":"J10*1.049","v":31.487150304086398},{"$f":"K10*1.047","v":32.967046368378455}]
["Water: Consumption",null,607.78719784273926,554.55036299519998,579.5051293299839,718.09835604974455,718.09835604974455,718.09835604974455,0.1,{"$f":"H11*1.1","v":789.90819165471908},{"$f":"J11*1.049","v":828.61369304580023},{"$f":"K11*1.047","v":867.55853661895276}]
["Sanitation",null,162.55121199999999,153.35019999999997,160.25095899999997,181.72458750599998,181.72458750599998,181.72458750599998,0.16,{"$f":"H12*1.16","v":210.80052150695997},{"$f":"J12*1.049","v":221.12974706080098},{"$f":"K12*1.047","v":231.52284517265861}]
["Refuse removal",null,105.13525199999999,99.18419999999999,103.64748899999998,117.53625252599998,117.53625252599998,117.53625252599998,7.0000000000000007E-2,{"$f":"H13*1.07","v":125.76379020281999},{"$f":"J13*1.049","v":131.92621592275816},{"$f":"K13*1.047","v":138.12674807112779}]
["Other"]
["sub-total",null,{"$f":"SUM(C7:C14)","v":2683.6825162891396},{"$f":"SUM(D7:D14)","v":2480.5522669951997},{"$f":"SUM(E7:E14)","v":2592.1771190099835},{"$f":"SUM(F7:F14)","v":3059.1359030221424},{"$f":"SUM(G7:G14)","v":3059.1359030221424},3059.1359030221424,{"$f":"IF(ISERROR(ROUND((J15-F15)/F15,3)),0,(ROUND((J15-F15)/F15,3)))","v":-0.13400000000000001},{"$f":"SUM(J8:J14)","v":2648.7026735306645},{"$f":"SUM(K8:K14)","v":2944.1248386616217},3312.7174543783644]
["VAT on Services",null,402.55237744337091,372.08284004927992,{"$f":"D16*1.045","v":388.82656785149749},{"$f":"F15*15%","v":458.87038545332138},{"$f":"G15*15%","v":458.87038545332138},458.87038545332138,0.15,{"$f":"J15*15%","v":397.30540102959964},441.61872579924324,496.90761815675467]
["Total large household bill:",null,{"$f":"SUM(C15:C16)","v":3086.2348937325105},{"$f":"SUM(D15:D16)","v":2852.6351070444798},{"$f":"SUM(E15:E16)","v":2981.0036868614811},{"$f":"SUM(F15:F16)","v":3518.0062884754639},{"$f":"SUM(G15:G16)","v":3518.0062884754639},3518.0062884754639,{"$f":"IF(ISERROR(ROUND((J17-F17)/F17,3)),0,(ROUND((J17-F17)/F17,3)))","v":-0.13400000000000001},3046.008074560264,3385.7435644608649,3809.6250725351192]
["% increase/-decrease",null,null,{"$f":"IF(ISERROR((D17/C17)-1),0,((D17/C17)-1))","v":-7.5690864348148756E-2},{"$f":"IF(ISERROR((E17/D17)-1),0,((E17/D17)-1))","v":4.4999999999999929E-2},{"$f":"IF(ISERROR((F17/E17)-1),0,((F17/E17)-1))","v":0.18014154225329393},{"$f":"IF(ISERROR((G17/F17)-1),0,((G17/F17)-1))","v":0},{"$f":"IF(ISERROR((H17/G17)-1),0,((H17/G17)-1))","v":0},null,{"$f":"IF(ISERROR((J17/H17)-1),0,((J17/H17)-1))","v":-0.13416639289742183},{"$f":"IF(ISERROR((K17/J17)-1),0,((K17/J17)-1))","v":0.11153466490716601},{"$f":"IF(ISERROR((L17/K17)-1),0,((L17/K17)-1))","v":0.1251959872341224}]
[]
["Monthly Account for Household - 'Affordable Range' ",2]
[{"$f":"A6","v":"Rates and services charges:"}]
[{"$f":"A7","v":"Property rates"},null,472.66481200000004,445.91020000000003,{"$f":"D22*1.045","v":465.976159},528.41696430600007,528.41696430600007,528.41696430600007,7.0000000000000007E-2,{"$f":"H22*1.07","v":565.40615180742009},{"$f":"J22*1.049","v":593.11105324598361},{"$f":"K22*1.047","v":620.9872727485448}]
["Electricity: Basic levy",null,38.878825994399996,35.534983999999994,{"$f":"D23*1.045","v":37.134058279999991},44.143814306983685,44.143814306983685,44.143814306983685,0.22,{"$f":"H23*1.22","v":53.855453454520095},{"$f":"J23*1.16","v":62.472326007243304},{"$f":"K23*1.18","v":73.717344688547101}]
["Electricity: Consumption",null,519.00777935999997,474.36959999999999,495.71623199999993,589.29204907699204,589.29204907699204,589.29204907699204,0.22,{"$f":"H24*1.22","v":718.93629987393024},{"$f":"J24*1.16","v":833.96610785375901},{"$f":"K24*1.18","v":984.08000726743558}]
["Water: Basic levy",null,23.095788799999998,21.072799999999997,22.021075999999997,27.287590175999998,27.287590175999998,27.287590175999998,0.1,{"$f":"H25*1.1","v":30.0163491936},{"$f":"J25*1.049","v":31.487150304086398},{"$f":"K25*1.047","v":32.967046368378455}]
["Water: Consumption",null,425.91735788800008,388.61072800000005,406.09821076000003,503.21980390176014,503.21980390176014,503.21980390176014,0.1,{"$f":"H26*1.1","v":553.54178429193621},{"$f":"J26*1.049","v":580.66533172224104},{"$f":"K26*1.047","v":607.95660231318629}]
["Sanitation",null,162.55121199999999,153.35019999999997,160.25095899999997,181.72458750599998,181.72458750599998,181.72458750599998,0.16,{"$f":"H27*1.16","v":210.80052150695997},{"$f":"J27*1.049","v":221.12974706080098},{"$f":"K27*1.047","v":231.52284517265861}]
["Refuse removal",null,105.13525199999999,99.18419999999999,103.64748899999998,117.53625252599998,117.53625252599998,117.53625252599998,7.0000000000000007E-2,{"$f":"H28*1.07","v":125.76379020281999},{"$f":"J28*1.049","v":131.92621592275816},{"$f":"K28*1.047","v":138.12674807112779}]
["Other"]
["sub-total",null,{"$f":"SUM(C22:C29)","v":1747.2510280424001},1618.0327119999999,1690.8441840399998,1991.621061799736,1991.621061799736,1991.621061799736,{"$f":"IF(ISERROR(ROUND((J30-F30)/F30,3)),0,(ROUND((J30-F30)/F30,3)))","v":0.13400000000000001},{"$f":"SUM(J22:J29)","v":2258.3203503311865},{"$f":"SUM(K22:K29)","v":2454.7579321168728},{"$f":"SUM(L22:L29)","v":2689.3578666298786}]
["VAT on Services",null,262.08765420636001,242.70490679999997,null,298.74315926996036,298.74315926996036,298.74315926996036,0.15,{"$f":"J30*15%","v":338.74805254967799},{"$f":"K30*15%","v":368.21368981753091},{"$f":"L30*15%","v":403.40367999448176}]
["Total small household bill:",null,{"$f":"SUM(C30:C31)","v":2009.3386822487601},1860.7376187999998,1690.8441840399998,2290.3642210696962,2290.3642210696962,2290.3642210696962,{"$f":"IF(ISERROR(ROUND((J32-F32)/F32,3)),0,(ROUND((J32-F32)/F32,3)))","v":0.13400000000000001},{"$f":"SUM(J30:J31)","v":2597.0684028808646},{"$f":"SUM(K30:K31)","v":2822.9716219344036},{"$f":"SUM(L30:L31)","v":3092.7615466243606}]
["% increase/-decrease",null,null,{"$f":"IF(ISERROR((D32/C32)-1),0,((D32/C32)-1))","v":-7.3955209622726614E-2},{"$f":"IF(ISERROR((E32/D32)-1),0,((E32/D32)-1))","v":-9.1304347826086985E-2},{"$f":"IF(ISERROR((F32/E32)-1),0,((F32/E32)-1))","v":0.35456847099727407},{"$f":"IF(ISERROR((G32/F32)-1),0,((G32/F32)-1))","v":0},{"$f":"IF(ISERROR((H32/G32)-1),0,((H32/G32)-1))","v":0},null,{"$f":"IF(ISERROR((J32/H32)-1),0,((J32/H32)-1))","v":0.13391065883308495},{"$f":"IF(ISERROR((K32/J32)-1),0,((K32/J32)-1))","v":8.6983931113616464E-2},{"$f":"IF(ISERROR((L32/K32)-1),0,((L32/K32)-1))","v":9.5569478132085051E-2}]
[null,null,null,null,{"$f":"IF(ISERROR((E33/D33)-1),0,((E33/D33)-1))","v":0.23458980498959936},{"$f":"IF(ISERROR((F33/E33)-1),0,((F33/E33)-1))","v":-4.8833689680653816},{"$f":"IF(ISERROR((G33/F33)-1),0,((G33/F33)-1))","v":-1},{"$f":"IF(ISERROR((H33/G33)-1),0,((H33/G33)-1))","v":0}]
["Monthly Account for Household - 'Indigent' Household receiving free basic services",3]
[{"$f":"A6","v":"Rates and services charges:"}]
[{"$f":"A7","v":"Property rates"},null,235.95600000000002,222.6,{"$f":"D37*1.045","v":232.61699999999999},263.78767800000003,263.78767800000003,263.78767800000003,7.0000000000000007E-2,{"$f":"H37*1.07","v":282.25281546000002},{"$f":"J37*1.049","v":296.08320341754001},{"$f":"K37*1.047","v":309.99911397816436}]
["Electricity: Basic levy",null,0,0,{"$f":"D38*1.045","v":0},0,0,0,0.22,{"$f":"H38*1.22","v":0},{"$f":"J38*1.16","v":0},{"$f":"K38*1.18","v":0}]
["Electricity: Consumption",null,311.49841010399996,284.70743999999996,297.51927479999995,353.68166658458881,353.68166658458881,353.68166658458881,0.22,{"$f":"H39*1.22","v":431.49163323319834},{"$f":"J39*1.16","v":500.53029455051006},{"$f":"K39*1.18","v":590.6257475696018}]
["Water: Basic levy",null,23.095788800000001,21.072800000000001,22.021076000000001,27.287590176000009,27.287590176000009,27.287590176000009,0.1,{"$f":"H40*1.1","v":30.016349193600011},{"$f":"J40*1.16","v":34.818965064576012},{"$f":"K40*1.18","v":41.086378776199695}]
["Water: Consumption",null,364.44362976000008,332.52156000000002,347.48503019999998,430.58881847520013,430.58881847520013,430.58881847520013,0.1,{"$f":"H41*1.1","v":473.6477003227202},{"$f":"J41*1.049","v":496.85643763853346},{"$f":"K41*1.047","v":520.20869020754446}]
["Sanitation",null,null,null,null,null,null,null,0.16,{"$f":"H42*1.07","v":0},{"$f":"J42*1.049","v":0},{"$f":"K42*1.047","v":0}]
["Refuse removal",null,null,null,null,null,null,null,7.0000000000000007E-2,{"$f":"H43*1.07","v":0},{"$f":"J43*1.049","v":0},{"$f":"K43*1.047","v":0}]
["Other",null,null,null,null,null,null,null,{"$f":"IF(J44>0,ROUND((J44-F44)/F44,3),\"\")","v":""}]
["sub-total",null,{"$f":"SUM(C37:C44)","v":934.99382866400015},{"$f":"SUM(D37:D44)","v":860.90179999999998},{"$f":"SUM(E37:E44)","v":899.64238099999989},{"$f":"SUM(F37:F44)","v":1075.3457532357888},{"$f":"SUM(G37:G44)","v":1075.3457532357888},1075.3457532357888,{"$f":"IF(ISERROR(ROUND((J45-F45)/F45,3)),0,(ROUND((J45-F45)/F45,3)))","v":0.13200000000000001},1217.4084982095187,1328.2889006711596,1461.9199305315103]
["VAT on Services",null,null,null,null,null,null,null,{"$f":"IF(J46>0,I13ROUND((J46-F46)/F46,3),\"\")","v":""}]
["Total small household bill:",null,{"$f":"SUM(C45:C46)","v":934.99382866400015},{"$f":"SUM(D45:D46)","v":860.90179999999998},{"$f":"SUM(E45:E46)","v":899.64238099999989},{"$f":"SUM(F45:F46)","v":1075.3457532357888},{"$f":"SUM(G45:G46)","v":1075.3457532357888},1075.3457532357888,{"$f":"IF(ISERROR(ROUND((J47-F47)/F47,3)),0,(ROUND((J47-F47)/F47,3)))","v":0.13200000000000001},1217.4084982095187,1328.2889006711596,1461.9199305315103]
[{"$f":"A18","v":"% increase/-decrease"},null,null,{"$f":"IF(ISERROR((D47/C47)-1),0,((D47/C47)-1))","v":-7.9243334439831781E-2},{"$f":"IF(ISERROR((E47/D47)-1),0,((E47/D47)-1))","v":4.4999999999999929E-2},{"$f":"IF(ISERROR((F47/E47)-1),0,((F47/E47)-1))","v":0.19530357389397923},{"$f":"IF(ISERROR((G47/F47)-1),0,((G47/F47)-1))","v":0},{"$f":"IF(ISERROR((H47/G47)-1),0,((H47/G47)-1))","v":0},null,{"$f":"IF(ISERROR((J47/H47)-1),0,((J47/H47)-1))","v":0.13210890036646661},{"$f":"IF(ISERROR((K47/J47)-1),0,((K47/J47)-1))","v":9.1079044235945705E-2},{"$f":"IF(ISERROR((L47/K47)-1),0,((L47/K47)-1))","v":0.10060388955507316}]
[]
[{"$f":"head27a","v":"References"}]
["1. Use as basis property value of R700 000, 1 000 kWh electricity and 30kl water"]
["2. Use as basis property value  of R500 000 and R700 000, 500 kWh electricity and 25kl water"]
["3. Use as basis property value of R 300 000, 350kWh electricity and 20kl water (50 kWh electricity and 6 kl water free)"]
["4. Note this is for a SINGLE household."]

{"sheet":"SA15","index":35,"n_rows":36,"n_cols":11,"rows_kept":36,"cut":false,"hidden":false,"merged":[[1,5,1,7],[1,8,1,10],[1,1,3,1],[1,0,2,0]]}
[{"$f":"muni&\" - \"&TableA15","v":"0 - Supporting Table SA15 Investment particulars by type"}]
["Investment type",{"$f":"head27","v":"Ref"},{"$f":"head1b","v":"2019/20"},{"$f":"head1A","v":"2020/21"},{"$f":"Head1","v":"2021/22"},{"$f":"Head2","v":"Current Year 2022/23"},null,null,{"$f":"Head3","v":"2023/24 Medium Term Revenue & Expenditure Framework"}]
[null,null,{"$f":"Head5","v":"Audited Outcome"},{"$f":"Head5","v":"Audited Outcome"},{"$f":"Head5","v":"Audited Outcome"},{"$f":"Head6","v":"Original Budget"},{"$f":"Head7","v":"Adjusted Budget"},{"$f":"Head8","v":"Full Year Forecast"},{"$f":"Head9","v":"Budget Year 2023/24"},{"$f":"Head10","v":"Budget Year +1 2024/25"},{"$f":"Head11","v":"Budget Year +2 2025/26"}]
["R thousand"]
["Parent municipality"]
["Securities - National Government"]
["Listed Corporate Bonds"]
["Deposits - Bank",null,16144753.540000001]
["Deposits - Public Investment Commissioners"]
["Deposits - Corporation for Public Deposits"]
["Bankers Acceptance Certificates"]
["Negotiable Certificates of Deposit - Banks"]
["Guaranteed Endowment Policies (sinking)"]
["Repurchase Agreements - Banks"]
["Municipal Bonds"]
[]
["Municipality sub-total",1,{"$f":"SUM(C6:C15)","v":16144753.540000001},0,0,0,0,0,0,0,0]
[]
["Entities"]
[{"$f":"A6","v":"Securities - National Government"}]
[{"$f":"A7","v":"Listed Corporate Bonds"}]
["Deposits - Bank"]
["Deposits - Public Investment Commissioners"]
["Deposits - Corporation for Public Deposits"]
["Bankers Acceptance Certificates"]
["Negotiable Certificates of Deposit - Banks"]
["Guaranteed Endowment Policies (sinking)"]
["Repurchase Agreements - Banks"]
[]
["Entities sub-total",null,{"$f":"SUM(C20:C29)","v":0},0,0,0,0,0,0,0,0]
[]
["Consolidated total:",null,{"$f":"C17+C30","v":16144753.540000001},0,0,0,0,0,0,0,0]
[]
[{"$f":"head27a","v":"References"}]
["1. Total investments must reconcile to Budgeted Financial Position ('current' call investment deposits plus 'non-current' investments)"]
["check investment balance",null,{"$f":"C17-'A6-FinPos'!C7-'A6-FinPos'!C17","v":-7104334316.46},{"$f":"D17-'A6-FinPos'!D7-'A6-FinPos'!D17","v":-6801333550},{"$f":"E17-'A6-FinPos'!E7-'A6-FinPos'!E17","v":-6938172534},{"$f":"F17-'A6-FinPos'!F7-'A6-FinPos'!F17","v":-8907375292.1399994},{"$f":"G17-'A6-FinPos'!G7-'A6-FinPos'!G17","v":-9247507459.5655327},{"$f":"H17-'A6-FinPos'!H7-'A6-FinPos'!H17","v":-9247507459.5655327},{"$f":"I17-'A6-FinPos'!J7-'A6-FinPos'!J17","v":-9227142992.0000019},{"$f":"J17-'A6-FinPos'!K7-'A6-FinPos'!K17","v":-8994189549.1050034},{"$f":"K17-'A6-FinPos'!L7-'A6-FinPos'!L17","v":-7282937399.5386124}]

{"sheet":"SA16","index":36,"n_rows":32,"n_cols":15,"rows_kept":32,"cut":false,"hidden":false,"merged":[[1,3,2,3],[1,9,2,9],[2,10,2,14]]}
[{"$f":"muni&\" - \"&TableA16","v":"0 - Supporting Table SA16 Investment particulars by maturity"}]
["Investments by Maturity",{"$f":"head27","v":"Ref"},"Period of Investment","Type of Investment","Capital Guarantee\n(Yes/ No)","Variable or Fixed interest rate","Interest Rate ᶟ","Commission Paid (Rands)","Commission Recipient","Expiry date of investment","Opening balance","Interest to be realised","Partial / Premature Withdrawal (4)","Investment Top Up","Closing Balance"]
["Name of institution & investment ID",1,"Yrs/Months"]
["Parent municipality"]
[null,null,null,null,null,null,null,null,null,null,null,null,null,null,{"$f":"SUM(K5:N5)","v":0}]
[null,null,null,null,null,null,null,null,null,null,null,null,null,null,{"$f":"SUM(K6:N6)","v":0}]
[null,null,null,null,null,null,null,null,null,null,null,null,null,null,0]
[null,null,null,null,null,null,null,null,null,null,null,null,null,null,0]
[null,null,null,null,null,null,null,null,null,null,null,null,null,null,0]
[null,null,null,null,null,null,null,null,null,null,null,null,null,null,0]
[null,null,null,null,null,null,null,null,null,null,null,null,null,null,0]
["Municipality sub-total",null,null,null,null,null,null,null,null,null,{"$f":"SUM(K5:K11)","v":0},null,{"$f":"SUM(M5:M11)","v":0},{"$f":"SUM(N5:N11)","v":0},{"$f":"SUM(O5:O11)","v":0}]
[]
["Entities"]
[null,null,null,null,null,null,null,null,null,null,null,null,null,null,{"$f":"SUM(K15:N15)","v":0}]
[null,null,null,null,null,null,null,null,null,null,null,null,null,null,{"$f":"SUM(K16:N16)","v":0}]
[null,null,null,null,null,null,null,null,null,null,null,null,null,null,0]
[null,null,null,null,null,null,null,null,null,null,null,null,null,null,0]
[null,null,null,null,null,null,null,null,null,null,null,null,null,null,0]
[null,null,null,null,null,null,null,null,null,null,null,null,null,null,0]
[null,null,null,null,null,null,null,null,null,null,null,null,null,null,0]
["Entities sub-total",null,null,null,null,null,null,null,null,null,{"$f":"SUM(K15:K21)","v":0},null,{"$f":"SUM(M15:M21)","v":0},{"$f":"SUM(N15:N21)","v":0},{"$f":"SUM(O15:O21)","v":0}]
[]
["TOTAL INVESTMENTS AND INTEREST",1,null,null,null,null,null,null,null,null,{"$f":"K12+K22","v":0},null,{"$f":"M12+M22","v":0},{"$f":"N12+N22","v":0},{"$f":"O12+O22","v":0}]
[]
[{"$f":"head27a","v":"References"}]
["1. Total investments must reconcile to all items in Table SA15 for the Current Year (30 June)"]
["2. List investments in expiry date order"]
["3. If 'variable' is selected in column F, input interest rate range"]
["4. Withdrawals to be entered as negative"]
["check"]
[null,null,null,null,null,null,null,null,null,null,null,null,"`"]

{"sheet":"SA17","index":37,"n_rows":71,"n_cols":45,"rows_kept":71,"cut":false,"hidden":false,"merged":[[1,5,1,7],[1,8,1,10]]}
[{"$f":"muni&\" - \"&TableA17","v":"0 - Supporting Table SA17 Borrowing"}]
["Borrowing - Categorised by type",{"$f":"head27","v":"Ref"},{"$f":"head1b","v":"2019/20"},{"$f":"head1A","v":"2020/21"},{"$f":"Head1","v":"2021/22"},{"$f":"Head2","v":"Current Year 2022/23"},null,null,{"$f":"Head3","v":"2023/24 Medium Term Revenue & Expenditure Framework"}]
["R thousand",null,{"$f":"Head5","v":"Audited Outcome"},{"$f":"Head5","v":"Audited Outcome"},{"$f":"Head5","v":"Audited Outcome"},{"$f":"Head6","v":"Original Budget"},{"$f":"Head7","v":"Adjusted Budget"},{"$f":"Head8","v":"Full Year Forecast"},{"$f":"Head9","v":"Budget Year 2023/24"},{"$f":"Head10","v":"Budget Year +1 2024/25"},{"$f":"Head11","v":"Budget Year +2 2025/26"}]
["Parent municipality"]
["Annuity and Bullet Loans"]
["Long-Term Loans (non-annuity)",null,459547129.38665301]
["Local registered stock"]
["Instalment Credit"]
["Financial Leases"]
["PPP liabilities"]
["Finance Granted By Cap Equipment Supplier"]
["Marketable Bonds"]
["Non-Marketable Bonds"]
["Bankers Acceptances"]
["Financial derivatives"]
["Other Securities"]
["Municipality sub-total",1,{"$f":"SUM(C5:C16)","v":459547129.38665301},{"$f":"SUM(D5:D16)","v":0},0,0,0,0,0,0,0]
[]
["Entities"]
[{"$f":"A5","v":"Annuity and Bullet Loans"}]
["Long-Term Loans (non-annuity)"]
["Local registered stock"]
["Instalment Credit"]
["Financial Leases"]
["PPP liabilities"]
["Finance Granted By Cap Equipment Supplier"]
["Marketable Bonds"]
["Non-Marketable Bonds"]
["Bankers Acceptances"]
["Financial derivatives"]
["Other Securities"]
["Entities sub-total",1,{"$f":"SUM(C20:C31)","v":0},{"$f":"SUM(D20:D31)","v":0},0,0,0,0,0,0,0]
[]
["Total Borrowing",1,{"$f":"C17+C32","v":459547129.38665301},{"$f":"D17+D32","v":0},0,0,0,0,0,0,0]
[]
["Unspent Borrowing - Categorised by type"]
["Parent municipality"]
["Long-Term Loans (annuity/reducing balance)"]
["Long-Term Loans (non-annuity)"]
["Local registered stock"]
["Instalment Credit",null,null,null,null,null,null,null,null,null,null,null,null,null,null,null,null,null,null,null,null,null,null,null,null,null,null,null,null,null,null,null,null,null,null,null,null,null,null,null,null,null,439005000,null,539442200]
["Financial Leases"]
["PPP liabilities",null,null,null,null,null,null,null,null,null,null,null,null,null,null,null,null,null,null,null,null,null,0,null,0,null,null,0,null,0,null,null,0,null,0,null,null,0,null,0,null,null,1834701353,null,1241876995]
["Finance Granted By Cap Equipment Supplier",null,null,null,null,null,null,null,null,null,null,null,null,null,null,null,null,null,null,null,null,null,null,null,null,null,null,null,null,null,null,null,null,null,null,null,null,null,null,null,null,null,839041298,null,440387617]
["Marketable Bonds",null,null,null,null,null,null,null,null,null,null,null,null,null,null,null,null,null,null,null,null,null,null,null,null,null,null,null,null,null,null,null,null,null,null,null,null,null,null,null,null,null,976543638,null,782372961]
["Non-Marketable Bonds",null,null,null,null,null,null,null,null,null,null,null,null,null,null,null,null,null,null,null,null,null,null,null,null,null,null,null,null,null,null,null,null,null,null,null,null,null,null,null,null,null,19116417,null,19116417]
["Bankers Acceptances",null,null,null,null,null,null,null,null,null,null,null,null,null,null,null,null,null,null,null,null,null,null,null,null,null,null,null,null,null,null,null,null,null,null,null,null,null,null,null,null,null,2273706353,null,1781319195]
["Financial derivatives",null,null,null,null,null,null,null,null,null,null,null,null,null,null,null,null,null,null,null,null,null,null,null,null,null,null,null,null,null,null,null,null,null,null,null,null,null,null,null,null,null,180259232,null,140396729]
["Other Securities",null,null,null,null,null,null,null,null,null,null,null,null,null,null,null,null,null,null,null,null,null,null,null,null,null,null,null,null,null,null,null,null,null,null,null,null,null,null,null,null,null,125005000,null,100442200]
["Municipality sub-total",1,{"$f":"SUM(C38:C49)","v":0},{"$f":"SUM(D38:D49)","v":0},0,0,0,0,0,0,0,null,null,null,null,null,null,null,null,null,null,null,null,null,null,null,null,null,null,null,null,null,null,null,null,null,null,null,null,null,null,null,40341797,null,38954529]
[null,null,null,null,null,null,null,null,null,null,null,null,null,null,null,null,null,null,null,null,null,null,null,null,null,null,null,null,null,null,null,null,null,null,null,null,null,null,null,null,null,null,14912435,null,1000000]
["Entities"]
[{"$f":"A38","v":"Long-Term Loans (annuity/reducing balance)"}]
["Long-Term Loans (non-annuity)"]
["Local registered stock"]
["Instalment Credit"]
["Financial Leases"]
["PPP liabilities"]
["Finance Granted By Cap Equipment Supplier"]
["Marketable Bonds"]
["Non-Marketable Bonds"]
["Bankers Acceptances"]
["Financial derivatives"]
["Other Securities"]
["Entities sub-total",1,{"$f":"SUM(C53:C64)","v":0},{"$f":"SUM(D53:D64)","v":0},0,0,0,0,0,0,0]
[]
["Total Unspent Borrowing",1,{"$f":"C50+C65","v":0},{"$f":"D50+D65","v":0},0,0,0,0,0,0,0]
[]
[{"$f":"head27a","v":"References"}]
["1. Total borrowing must reconcile to Budgeted Financial Position (Borrowing - non-current)"]
["check borrowing balance",null,{"$f":"C34-'A6-FinPos'!C41","v":459547129.38665301},{"$f":"D34-'A6-FinPos'!D41","v":0},{"$f":"E34-'A6-FinPos'!E41","v":0},{"$f":"F34-'A6-FinPos'!F41","v":0},{"$f":"G34-'A6-FinPos'!G41","v":0},{"$f":"H34-'A6-FinPos'!H41","v":0},{"$f":"I34-'A6-FinPos'!J41","v":0},{"$f":"J34-'A6-FinPos'!K41","v":0},{"$f":"K34-'A6-FinPos'!L41","v":0}]

{"sheet":"SA18","index":38,"n_rows":97,"n_cols":11,"rows_kept":97,"cut":false,"hidden":false,"merged":[[1,5,1,7],[1,8,1,10]]}
[{"$f":"muni&\" - \"& TableA18","v":"0 - Supporting Table SA18 Transfers and grant receipts"}]
[{"$f":"desc","v":"Description"},{"$f":"head27","v":"Ref"},{"$f":"head1b","v":"2019/20"},{"$f":"head1A","v":"2020/21"},{"$f":"Head1","v":"2021/22"},{"$f":"Head2","v":"Current Year 2022/23"},null,null,{"$f":"Head3","v":"2023/24 Medium Term Revenue & Expenditure Framework"}]
["R thousand",null,{"$f":"Head5","v":"Audited Outcome"},{"$f":"Head5","v":"Audited Outcome"},{"$f":"Head5","v":"Audited Outcome"},{"$f":"Head6","v":"Original Budget"},{"$f":"Head7","v":"Adjusted Budget"},{"$f":"Head8","v":"Full Year Forecast"},{"$f":"Head9","v":"Budget Year 2023/24"},{"$f":"Head10","v":"Budget Year +1 2024/25"},{"$f":"Head11","v":"Budget Year +2 2025/26"}]
["RECEIPTS:","1, 2"]
[]
["Operating Transfers and Grants"]
["National Government:",null,{"$f":"SUM(C8:C20)","v":588690909},697606575,631358627.19000006,712409910.34294116,743928847.34294116,743928847.34294116,805981360,883070405,957561440]
["Local Government Equitable Share",{"$f":"IF(A8=\"  Levy replacement\",3,\"\")","v":""},546052000,682403000,616262000,696055999.99000001,696055999.99000001,696055999.99000001,767222000,836664000,910446000]
["Finance Management ","",1700000,1700000,1900000,1950000.3529411764,1950000.3529411764,1950000.3529411764,1950000,1950000,2088000]
["Municipal Systems Improvement",null,null,4388000,null,null,0,0]
["EPWP Incentive",null,4200000,9115575,3516000,5231000,5231000,5231000,4979000]
["Water Services Operating Subsidy ",null,null,null,null,null,30000000,30000000]
["Public Transport Infrastracture",null,14834432,null,null,null,0,0]
["Energy Efficiency  and Demand Management",null,null,null,null,null,0,0]
["Municipal Water Infrastructure Grant",null,null,null,null,null,null,null,22000000,35405000,34595000]
["Operating costs-MIG","",21904477,null,9680627.1900000013,9172910,10691847,10691847,9830360,9051405,10432440]
[null,""]
[null,""]
[null,""]
["  Other transfers/grants [insert description]"]
["Provincial Government:",null,{"$f":"SUM(C22:C33)","v":48437135},41304907,26247464.890000001,138064253.72,56610329.729999989,56610329.729999989,{"$f":"SUM(I22:I36)","v":32153789.91},{"$f":"SUM(J22:J36)","v":23158999.805500001},{"$f":"SUM(K22:K36)","v":25050008.345775001}]
["Provincial Government:",{"$f":"IF(A22=\"  Housing\",4,\"\")","v":""},null,null,null,0,0,0]
["Expanded Public Works Grant",null,null,null,null,0,0,0]
["Sport and Recreation",null,null,null,null,0,0,0]
["Human Settlements - Title Deeds Restoration ",null,null,null,null,null,4772266,4772266]
["Human Settlements -  Accredited Municipalities ",null,null,4264000,3853171.6500000004,19253123.52,8652149.959999999,8652149.959999999]
["Human Settlements -  Accredited Municipal RO",null,null,24079242,null,36849671.199999996,-7.4505805969238281E-9,-7.4505805969238281E-9]
["Human Settlements -  Housing Development",null,14582180,null,9106293.2400000002,71082760,10318000,10318000]
["Arts and Culture- Community Library Services",null,27665322,null,null,10070079,16458207,16458207]
["Arts and Culture- Provincialisation",null,null,12473665,12863000,null,0,0]
["Arts and Culture-Museum Subsidies",null,null,488000,425000,null,0,0,13657999.91,14392999.805500001,15869000.345775001]
["Arts and Culture-Museum Subsidies - Tatham Art Gallery ",null,242517,null,null,808620,164477,164477]
["COGTA",null,5947116,null,null,null,16245229.77,16245229.77,151000,120000,120000]
["Municipal Employment Initiative - OPERATING"]
["Housing Projects -OPERATING",null,null,null,null,null,null,null,18344790,8646000,9061008]
["Informal Economy Instructure Development"]
["District Municipality:",null,{"$f":"SUM(C38:C39)","v":0},{"$f":"SUM(D38:D39)","v":0},0,0,0,0,0,0,0]
["  [insert description]"]
[]
["Other grant providers:",null,{"$f":"SUM(C41:C42)","v":0},{"$f":"SUM(D41:D42)","v":0},0,0,0,0,0,0,0]
["  [insert description]"]
[]
["Total Operating Transfers and Grants",5,{"$f":"C7+C21+C37+C40","v":637128044},738911482,657606092.08000004,850474164.06294119,800539177.07294118,800539177.07294118,838135149.90999997,906229404.80550003,982611448.34577501]
[]
["Capital Transfers and Grants"]
[{"$f":"A7","v":"National Government:"},null,{"$f":"SUM(C47:C62)","v":352860137},{"$f":"SUM(D47:D62)","v":337738291},305550372.81,341634090,310115153,310115153,312534640,320133343.19999999,326678560]
[" Municipal Infrastructure Grant (MIG)",null,164899849,197724967,199650372.81,217980090,216461153,216461153,238928640,243133343.19999999,250378560]
[" Public Transport and Systems",null,117251994,88758324,11900000,null,0,0]
["Neighbourhood Development Partnership",null,9957109,18000000,34000000,34500000,34500000,34500000,33606000,30000000,30000000]
["Dept of Mineral/Electricty",null,null,null,null,null,0,0]
["Intergrated National Electrification Porgramme",null,null,null,20000000,null,29154000,29154000,7000000,7000000,7314000]
["Municipal Systems Improvement",null,null,null,null,null,0,0]
["Municipal Water Infrastructure Grant",null,52751849,33255000,40000000,60000000,30000000,30000000,28000000,35000000,38986000]
["Energy Efficiency and Demand Manaagement",null,7999336,null,null,29154000,0,0,5000000,5000000,0]
["  Other capital transfers/grants [insert desc]",null,null,null,null,null,0,0]
[]
[]
[]
[]
[]
[]
["  Other capital transfers/grants [insert desc]"]
[{"$f":"A21","v":"Provincial Government:"},null,{"$f":"SUM(C64)","v":0},{"$f":"SUM(D64:D82)","v":316942789},48143244.760000005,104797018.87,127482088.95100001,127482088.95100001,136165414.94999999,{"$f":"SUM(J64:J82)","v":1176000},1203000]
["Airport Development Project"]
["Sport and Recreation",null,null,null,null,null,92868622.599999994,92868622.599999994]
["KZNPA",null,5557287,4000000,null,6000000,6600000,6600000]
["Economic development tourism",null,null,12835934,14758819.879999999,null,0,0]
["Capital Provincial KZN Treausry",null,null,6124156,null,null,0,0]
["Housing-Military Veterans",null,null,2500000,null,null,510852.56099999999,510852.56099999999]
["Airport Grant",null,null,774000,1000000,3000000,3047442.23,3047442.23]
["Arts and Culture-Museum Subsidies",null,null,2820431,null,null,0,0]
["COGTA",null,9419741,250388156,15188382.460000001,null,16322930,16322930]
["Human Settlement",null,60811409,6750000,null,2000000,0,0]
["Human Settlement - Housing Accreditation",null,null,22465010,null,93797018.870000005,2200000,2200000,700000,700000,700000]
["Housing  ",null,null,null,12986042.420000002,null,5591441.5600000024,5591441.5600000024]
["Provincial Government:",null,null,null,620000,null,0,0]
["Arts and Culture- Community Library Services",null,1065175,8285102,3500000,null,340800,340800,420000,476000,503000]
["Arts and Culture-Museum Subsidies - Tatham Art Gallery ",null,400000,null,90000,null,0,0]
["PMB Airport- CAPITAL",null,null,null,null,null,null,null,3000000]
["Housing Projects -Capital",null,null,null,null,null,null,null,14850000]
["Human Settlement",null,null,null,null,null,null,null,116195414.95]
["Informal Economy Instructure Development",null,null,null,null,0,0,null,1000000]
[{"$f":"A37","v":"District Municipality:"},null,{"$f":"SUM(C84:C85)","v":0},0,0,0,0,0,0,0,0]
[{"$f":"A38","v":"  [insert description]"}]
[]
[{"$f":"A40","v":"Other grant providers:"},null,{"$f":"SUM(C87:C88)","v":0},{"$f":"SUM(D87:D88)","v":0},0,0,0,0,0,0,0]
[{"$f":"LEFT(A41,22)","v":"  [insert description]"}]
[]
["Total Capital Transfers and Grants",5,{"$f":"C46+C63+C83+C86","v":352860137},654681080,353693617.56999999,446431108.87,437597241.95099998,437597241.95099998,448700054.94999999,321309343.19999999,327881560]
["TOTAL RECEIPTS OF TRANSFERS & GRANTS",null,{"$f":"C43+C89","v":989988181},1393592562,1011299709.6500001,1296905272.9329412,1238136419.023941,1238136419.023941,1286835204.8599999,1227538748.0055001,1310493008.3457751]
[{"$f":"head27a","v":"References"}]
["1. Each transfer/grant is listed by name as gazetted together with the name of the transferring department or municipality, donor or other organisation"]
["2. Amounts actually RECEIVED; not revenue recognised (objective is to confirm grants transferred)"]
["3. Replacement of RSC levies"]
["4. Housing subsidies for housing where ownership transferred to organisations or persons outside the control of the municipality"]
["5. Total transfers and grants must reconcile to Budgeted Cash Flows"]
["6. Motor vehicle licensing refunds to be included under 'agency' services (Not Grant Receipts)"]

{"sheet":"SA19","index":39,"n_rows":94,"n_cols":11,"rows_kept":94,"cut":false,"hidden":false,"merged":[[1,5,1,7],[1,8,1,10]]}
[{"$f":"muni&\" - \"& TableA19","v":"0 - Supporting Table SA19 Expenditure on transfers and grant programme"}]
[{"$f":"desc","v":"Description"},{"$f":"head27","v":"Ref"},{"$f":"head1b","v":"2019/20"},{"$f":"head1A","v":"2020/21"},{"$f":"Head1","v":"2021/22"},{"$f":"Head2","v":"Current Year 2022/23"},null,null,{"$f":"Head3","v":"2023/24 Medium Term Revenue & Expenditure Framework"}]
["R thousand",null,{"$f":"Head5","v":"Audited Outcome"},{"$f":"Head5","v":"Audited Outcome"},{"$f":"Head5","v":"Audited Outcome"},{"$f":"Head6","v":"Original Budget"},{"$f":"Head7","v":"Adjusted Budget"},{"$f":"Head8","v":"Full Year Forecast"},{"$f":"Head9","v":"Budget Year 2023/24"},{"$f":"Head10","v":"Budget Year +1 2024/25"},{"$f":"Head11","v":"Budget Year +2 2025/26"}]
["EXPENDITURE:",1]
[]
["Operating expenditure of Transfers and Grants"]
[{"$f":"'SA18'!A7","v":"National Government:"},null,{"$f":"SUM(C8:C16)","v":588690909},697606575,31471503.919999998,712409910.34294116,743928847.34294116,743928847.34294116,805981360,883070405,957561440]
[{"$f":"IF('SA18'!A8=\"\",\"\",'SA18'!A8)","v":"Local Government Equitable Share"},null,546052000,682403000,null,696055999.99000001,696055999.99000001,696055999.99000001,767222000,836664000,910446000]
["Finance Management ",null,1700000,1700000,1900000,1950000.3529411764,1950000.3529411764,1950000.3529411764,1950000,1950000,2088000]
["Municipal Systems Improvement",null,null,4388000,null,5231000,5231000,5231000]
["EPWP Incentive",null,4200000,9115575,3454134.5500000003,null,0,0,4979000]
["Water Services Operating Subsidy ",null,null,null,19986410.129999999,null,30000000,30000000]
["Public Transport Infrastracture",null,14834432,null,23041.68,null,0,0]
["Energy Efficiency  and Demand Management",null,null,null,null,9172910,9172910,9172910]
["Municipal Water Infrastructure Grant",null,null,null,null,null,null,null,22000000,35405000,34595000]
["Operating costs-MIG",null,21904477,null,6107917.5599999996,null,1518937,1518937,9830360,9051405,10432440]
[{"$f":"'SA18'!A21","v":"Provincial Government:"},null,{"$f":"SUM(C18:C31)","v":42490019},41304907,33884121.359999985,138064253.72,56610329.729999989,56610329.729999989,{"$f":"SUM(I18:I35)","v":32153789.91},{"$f":"SUM(J18:J35)","v":23158999.805500001},25050008.345775001]
["Provincial Government:",null,null,null,null,null,0,0]
["Expanded Public Works Grant",null,null,null,61879.19,null,0,0]
["Sport and Recreation",null,null,null,null,null,0,0]
["Housing operating grant",null,null,4264000,null,19253123.52,4772266,4772266]
["Housing Accreditation-OPERATING",null,null,24079242,4663110.0999999959,36849671.199999996,8652149.959999999,8652149.959999999]
["Human Settlements -  Accredited Municipalities ",null,null,null,null,71082760,-7.4505805969238281E-9,-7.4505805969238281E-9]
["Human Settlements -  Accredited Municipal RO",null,14582180,null,null,10070079,10318000,10318000]
["Human Settlements -  Housing Development",null,27665322,488000,9106293.2400000002,null,16458207,16458207]
["Arts and Culture- Community Library Services",null,null,12473665,15381529.289999999,null,0,0,13657999.91,14392999.805500001,15869000.345775001]
["Arts and Culture- Provincialisation",null,242517,null,null,808620,0,0]
["Arts and Culture-Museum Subsidies"]
["Arts and Culture-Museum Subsidies - Tatham Art Gallery ",null,null,null,421883.09,null,164477,164477,151000,120000,120000]
["COGTA",null,null,null,3162622.4499999858,null,16245229.77,16245229.77]
["Operation Dlulisumlando-OPERATING",null,null,null,1086804]
["Municipal Employment Initiative - OPERATING"]
["Municipal Employment Initiative - OPERATING"]
["Housing Projects -OPERATING",null,null,null,null,null,null,null,18344790,8646000,9061008]
["Informal Economy Instructure Development"]
[{"$f":"'SA18'!A37","v":"District Municipality:"},null,{"$f":"SUM(C37:C38)","v":0},{"$f":"SUM(D37:D38)","v":0},0,0,0,0,0,0,0]
[{"$f":"'SA18'!A38","v":"  [insert description]"}]
[]
[{"$f":"'SA18'!A40","v":"Other grant providers:"},null,{"$f":"SUM(C40:C41)","v":0},{"$f":"SUM(D40:D41)","v":0},0,0,0,0,0,0,0]
[{"$f":"'SA18'!A41","v":"  [insert description]"}]
[]
["Total operating expenditure of Transfers and Grants:",null,{"$f":"C7+C17+C36+C39","v":631180928},738911482,65355625.279999986,850474164.06294119,800539177.07294118,800539177.07294118,838135149.90999997,906229404.80550003,982611448.34577501]
[]
["Capital expenditure of Transfers and Grants"]
[{"$f":"'SA18'!A46","v":"National Government:"},null,{"$f":"SUM(C46:C63)","v":352860137},{"$f":"SUM(D46:D63)","v":337738291},331771037.88,341634090,310115153,310115153,312534640,320133343.19999999,326678560]
[" Municipal Infrastructure Grant (MIG)",null,164899849,197724967,203223082.44,217980090,216461153,216461153,238928640,243133343.19999999,250378560]
[" Public Transport and Systems",null,117251994,88758324,62323037.479999997,null,0,0]
["Neighbourhood Development Partnership",null,9957109,18000000,34999544.840000004,34500000,34500000,34500000,33606000,30000000,30000000]
["Dept of Mineral/Electricty",null,null,null,null,null,0,0]
["Intergrated National Electrification Porgramme",null,null,null,11230497.859999999,null,0,0,7000000,7000000,7314000]
["Municipal Systems Improvement",null,null,null,null,null,0,0]
["Municipal Water Infrastructure Grant",null,52751849,33255000,19994875.259999998,60000000,30000000,30000000,28000000,35000000,38986000]
["Energy Efficiency and Demand Manaagement",null,7999336,null,null,29154000,29154000,29154000,5000000,5000000,0]
["Arts and Culture-Museum Subsidies",null,null,null,null,null,0,0]
["COGTA",null,null,null,null,null,0,0]
["Human Settlement",null,null,null,null,null,0,0]
["Housing-Military Veterans",null,null,null,null,null,0,0]
["  Other capital transfers/grants [insert desc]",null,null,null,null,null,0,0]
[]
[{"$f":"IF('SA18'!A59=\"\",\"\",'SA18'!A59)","v":""}]
[{"$f":"IF('SA18'!A60=\"\",\"\",'SA18'!A60)","v":""}]
[{"$f":"IF('SA18'!A61=\"\",\"\",'SA18'!A61)","v":""}]
[{"$f":"'SA18'!A62","v":"  Other capital transfers/grants [insert desc]"}]
[{"$f":"'SA18'!A63","v":"Provincial Government:"},null,{"$f":"SUM(C65)","v":0},{"$f":"SUM(D65:D78)","v":308657687},{"$f":"SUM(E65:E78)","v":36953579.11999999},{"$f":"SUM(F65:F78)","v":127052190.43000001},{"$f":"SUM(G65:G78)","v":127482088.95100001},{"$f":"SUM(H65:H75)","v":125141288.95100001},{"$f":"SUM(I65:I83)","v":136165414.94999999},{"$f":"SUM(J65:J83)","v":1176000},1203000]
["Economic development tourism",null,null,12835934,10656017.809999984]
["PGCAP:Z2:GREATER EDENDALE PROJECTS",null,null,null,2545501.92,null,0,0]
["Capital Provincial KZN Treausry",null,null,4000000,null,null,92868622.599999994,92868622.599999994]
["Housing-Military Veterans",null,null,2500000,null,6000000,6600000,6600000]
["Disaster",null,null,null,null,null,0,0]
["Airport Grant",null,14977028,774000,326218.64,null,510852.56099999999,510852.56099999999]
["Arts and Culture-Museum Subsidies",null,60811409,2820431,140024.98000000001,3000000,3047442.23,3047442.23]
["COGTA eletricity",null,null,250388156,null,null,0,0]
["Human Settlement",null,null,null,null,16322930,16322930,16322930]
["Human Settlement - Housing Accreditation",null,1065175,29215010,1785914.6500000001,5591441.5600000024,3591441.5600000024,3591441.5600000024]
["Housing  ",null,400000,null,14019169.120000001,93797018.870000005,2200000,2200000,700000,700000,700000]
["Arts and Culture-Museum Subsidies - Tatham Art Gallery ",null,null,null,81475,2000000,2000000,2000000]
["Arts and Culture- Community Library Services",null,null,null,null,null,0,0]
["Provincial Government:",null,null,6124156,7399257,340800,340800,340800,420000,476000,503000]
["Arts and Culture-Museum Subsidies - Tatham Art Gallery "]
["PMB Airport- CAPITAL",null,null,null,null,null,null,null,3000000]
["Housing Projects -Capital",null,null,null,null,null,null,null,14850000]
["Human Settlement",null,null,null,null,null,null,null,116195414.95]
["Informal Economy Instructure Development",null,null,null,null,null,null,null,1000000]
[{"$f":"'SA18'!A83","v":"District Municipality:"},null,{"$f":"SUM(C85:C86)","v":0},{"$f":"SUM(D85:D86)","v":0},0,0,0,0,0,0,0]
[{"$f":"'SA18'!A84","v":"  [insert description]"}]
[]
[{"$f":"'SA18'!A86","v":"Other grant providers:"},null,{"$f":"SUM(C88:C89)","v":0},{"$f":"SUM(D88:D89)","v":0},0,0,0,0,0,0,0]
[{"$f":"'SA18'!A87","v":"  [insert description]"}]
[]
["Total capital expenditure of Transfers and Grants",null,{"$f":"C45+C64+C84+C87","v":352860137},646395978,368724617,468686280.43000001,437597241.95099998,435256441.95099998,448700054.94999999,321309343.19999999,327881560]
[]
["TOTAL EXPENDITURE OF TRANSFERS AND GRANTS",null,{"$f":"C42+C90","v":984041065},1385307460,434080242.27999997,1319160444.4929411,1238136419.023941,1235795619.023941,1286835204.8599999,1227538748.0055001,1310493008.3457751]
[{"$f":"head27a","v":"References"}]
["1. Expenditure must be separately listed for each transfer or grant received or recognised"]

{"sheet":"SA20","index":40,"n_rows":60,"n_cols":11,"rows_kept":60,"cut":false,"hidden":false,"merged":[[56,0,56,10],[1,5,1,7],[1,8,1,10],[54,0,54,10],[55,0,55,10]]}
[{"$f":"muni&\" - \"& TableA20","v":"0 - Supporting Table SA20 Reconciliation of transfers, grant receipts and unspent funds"}]
[{"$f":"desc","v":"Description"},{"$f":"head27","v":"Ref"},{"$f":"head1b","v":"2019/20"},{"$f":"head1A","v":"2020/21"},{"$f":"Head1","v":"2021/22"},{"$f":"Head2","v":"Current Year 2022/23"},null,null,{"$f":"Head3","v":"2023/24 Medium Term Revenue & Expenditure Framework"}]
["R thousand",null,{"$f":"Head5","v":"Audited Outcome"},{"$f":"Head5","v":"Audited Outcome"},{"$f":"Head5","v":"Audited Outcome"},{"$f":"Head6","v":"Original Budget"},{"$f":"Head7","v":"Adjusted Budget"},{"$f":"Head8","v":"Full Year Forecast"},{"$f":"Head9","v":"Budget Year 2023/24"},{"$f":"Head10","v":"Budget Year +1 2024/25"},{"$f":"Head11","v":"Budget Year +2 2025/26"}]
["Operating transfers and grants:","1,3"]
[{"$f":"'SA18'!A7","v":"National Government:"}]
["Balance unspent at beginning of the year",null,null,37392095.090000004,1062954,13589.870000000999,13589.870000000999,13589.870000000999]
["Current year receipts",null,80031004.150000006,16581133.26,33878627.189999998,42205719.469999999,42205719.469999999,42205719.469999999,805981360,883070405,957561440]
["Conditions met - transferred to revenue",null,{"$f":"C6+C7-C9","v":80031004.150000006},{"$f":"D6+D7-D9","v":53973228.350000001},34941581.189999998,42219309.339999996,42219309.339999996,42219309.339999996,805981360,883070405,957561440]
["Conditions still to be met - transferred to liabilities"]
["Provincial Government:"]
["Balance unspent at beginning of the year",null,34373445.845752597,20009521.895752601,21456276.48,19047329.440000001,19047329.440000001,19047329.440000001]
[{"$f":"A7","v":"Current year receipts"},null,17024000,29189264,26247464.890000001,22059111.870000001,22059111.870000001,22059111.870000001,28777999.91,28971999.805500001,30931008.345775001]
[{"$f":"A8","v":"Conditions met - transferred to revenue"},null,{"$f":"C11+C12-C14","v":51397445.845752597},49198785.895752601,47703741.370000005,41106441.310000002,41106441.310000002,41106441.310000002,28777999.91,28971999.805500001,30931008.345775001]
[{"$f":"A9","v":"Conditions still to be met - transferred to liabilities"}]
["District Municipality:"]
[{"$f":"A11","v":"Balance unspent at beginning of the year"}]
[{"$f":"A12","v":"Current year receipts"}]
[{"$f":"A13","v":"Conditions met - transferred to revenue"},null,{"$f":"C16+C17-C19","v":0},0,0,0,0,0,0,0,0]
[{"$f":"A14","v":"Conditions still to be met - transferred to liabilities"}]
["Other grant providers:"]
[{"$f":"A11","v":"Balance unspent at beginning of the year"}]
[{"$f":"A12","v":"Current year receipts"}]
[{"$f":"A13","v":"Conditions met - transferred to revenue"},null,{"$f":"C21+C22-C24","v":0},0,0,0,0,0,0,0,0]
[{"$f":"A14","v":"Conditions still to be met - transferred to liabilities"}]
["Total operating transfers and grants revenue",null,{"$f":"C8+C13+C18+C23","v":131428449.9957526},103172014.2457526,82645322.560000002,83325750.650000006,83325750.650000006,83325750.650000006,834759359.90999997,912042404.80550003,988492448.34577501]
["Total operating transfers and grants - CTBM",2,0,0,0,0,0,0,0,0,0]
[]
["Capital transfers and grants:","1,3"]
[{"$f":"A5","v":"National Government:"}]
["Balance unspent at beginning of the year",null,29309314.23,69382509.519999996,50922386,695826.529999997,695826.529999997,695826.529999997]
["Current year receipts",null,422241995.85000002,379783866.74000001,286768372.81,228347280.53,228347280.53,228347280.53,312534640,320133343.19999999,326678560]
["Conditions met - transferred to revenue",null,{"$f":"C30+C31-C33","v":451551310.08000004},449166376.25999999,337690758.81,229043107.06,229043107.06,229043107.06,312534640,320133343.19999999,326678560]
["Conditions still to be met - transferred to liabilities"]
["Provincial Government:"]
["Balance unspent at beginning of the year",null,39827343.387247398,54067004.977247432,105932096.28,116330779.44,116330779.44,116330779.44]
[{"$f":"A31","v":"Current year receipts"},null,104159101.19,144246601.03999999,48143244.759999998,18658073.539999999,18658073.539999999,18658073.539999999,4921000,1176000,1203000]
[{"$f":"A32","v":"Conditions met - transferred to revenue"},null,{"$f":"C35+C36-C38","v":143986444.57724738},198313606.01724744,154075341.03999999,134988852.97999999,134988852.97999999,134988852.97999999,4921000,1176000,1203000]
[{"$f":"A33","v":"Conditions still to be met - transferred to liabilities"}]
["District Municipality:"]
[{"$f":"A35","v":"Balance unspent at beginning of the year"}]
[{"$f":"A36","v":"Current year receipts"}]
[{"$f":"A37","v":"Conditions met - transferred to revenue"},null,{"$f":"C40+C41-C43","v":0},0,0,0,0,0,0,0,0]
[{"$f":"A38","v":"Conditions still to be met - transferred to liabilities"}]
["Other grant providers:"]
[{"$f":"A35","v":"Balance unspent at beginning of the year"}]
[{"$f":"A36","v":"Current year receipts"}]
[{"$f":"A37","v":"Conditions met - transferred to revenue"},null,{"$f":"C45+C46-C48","v":0},0,0,0,0,0,0,0,0]
[{"$f":"A38","v":"Conditions still to be met - transferred to liabilities"}]
["Total capital transfers and grants revenue",null,{"$f":"C32+C37+C42+C47","v":595537754.65724742},647479982.27724743,491766099.85000002,364031960.03999996,364031960.03999996,364031960.03999996,317455640,321309343.19999999,327881560]
["Total capital transfers and grants - CTBM",2,0,0,0,0,0,0,0,0,0]
[]
["TOTAL TRANSFERS AND GRANTS REVENUE",null,{"$f":"C25+C49","v":726966204.653},750651996.523,574411422.41000009,447357710.68999994,447357710.68999994,447357710.68999994,1152214999.9099998,1233351748.0055001,1316374008.3457751]
["TOTAL TRANSFERS AND GRANTS - CTBM",null,{"$f":"C26+C50","v":0},{"$f":"D26+D50","v":0},0,0,0,0,0,0,0]
[{"$f":"head27a","v":"References"}]
["1. Total capital transfers and grants revenue must reconcile to Budgeted Financial Performance and Financial Position; total recurrent grants revenue must reconcile to Budgeted Financial Performance"]
["2. CTBM = conditions to be met"]
["3. National Treasury database will require this reconciliation for each transfer/grant"]
[]
["Check opex",null,{"$f":"C25-'A4-FinPerf RE'!C29","v":714285.99575260282},{"$f":"D25-'A4-FinPerf RE'!D29","v":103172014.2457526},{"$f":"E25-'A4-FinPerf RE'!E29","v":78466180.560000002},{"$f":"F25-'A4-FinPerf RE'!F29","v":83325750.650000006},{"$f":"G25-'A4-FinPerf RE'!G29","v":83325750.650000006},{"$f":"H25-'A4-FinPerf RE'!H29","v":83325750.650000006},{"$f":"I25-'A4-FinPerf RE'!J29","v":834759359.90999997},{"$f":"J25-'A4-FinPerf RE'!K29","v":912042404.80550003},{"$f":"K25-'A4-FinPerf RE'!L29","v":988492448.34577501}]
["Check capex",null,{"$f":"C49-'A5-Capex'!C70","v":206405629.65724742},{"$f":"D49-'A5-Capex'!D70","v":83484862.567247391},{"$f":"E49-'A5-Capex'!E70","v":179044952.52999997},{"$f":"F49-'A5-Capex'!F70","v":-81929148.830000043},{"$f":"G49-'A5-Capex'!G70","v":-73565281.911000013},{"$f":"H49-'A5-Capex'!H70","v":-73565281.911000013},{"$f":"I49-'A5-Capex'!J70","v":-131244414.94999999},{"$f":"J49-'A5-Capex'!K70","v":0},{"$f":"K49-'A5-Capex'!L70","v":0}]

{"sheet":"SA21","index":41,"n_rows":71,"n_cols":12,"rows_kept":71,"cut":false,"hidden":false,"merged":[[1,9,1,11],[1,5,1,8]]}
[{"$f":"muni&\" - \"& TableA21","v":"0 - Supporting Table SA21 Transfers and grants made by the municipality"}]
[{"$f":"desc","v":"Description"},{"$f":"head27","v":"Ref"},{"$f":"head1b","v":"2019/20"},{"$f":"head1A","v":"2020/21"},{"$f":"Head1","v":"2021/22"},{"$f":"Head2","v":"Current Year 2022/23"},null,null,null,{"$f":"Head3","v":"2023/24 Medium Term Revenue & Expenditure Framework"}]
["R thousand",null,{"$f":"Head5","v":"Audited Outcome"},{"$f":"Head5","v":"Audited Outcome"},{"$f":"Head5","v":"Audited Outcome"},{"$f":"Head6","v":"Original Budget"},{"$f":"Head7","v":"Adjusted Budget"},{"$f":"Head8","v":"Full Year Forecast"},{"$f":"Head5b","v":"Pre-audit outcome"},{"$f":"Head9","v":"Budget Year 2023/24"},{"$f":"Head10","v":"Budget Year +1 2024/25"},{"$f":"Head11","v":"Budget Year +2 2025/26"}]
[]
["Cash Transfers to other municipalities"]
["Insert description",1]
[]
[]
["Total Cash Transfers To Municipalities:",null,{"$f":"SUM(C6:C8)","v":0},{"$f":"SUM(D6:D8)","v":0},0,0,0,0,0,0,0,0]
[]
["Cash Transfers to Entities/Other External Mechanisms"]
[{"$f":"$A$6","v":"Insert description"},2]
[]
[]
["Total Cash Transfers To Entities/Ems'",null,{"$f":"SUM(C12:C14)","v":0},{"$f":"SUM(D12:D14)","v":0},0,0,0,0,0,0,0,0]
[]
["Cash Transfers to other Organs of State"]
[{"$f":"$A$6","v":"Insert description"},3]
[]
[]
["Total Cash Transfers To Other Organs Of State:",null,{"$f":"SUM(C18:C20)","v":0},{"$f":"SUM(D18:D20)","v":0},0,0,0,0,0,0,{"$f":"SUM(K18:K20)","v":0},0]
[]
["Cash Transfers to Organisations"]
[{"$f":"$A$6","v":"Insert description"}]
[]
["Total Cash Transfers To Organisations",null,{"$f":"SUM(C24:C25)","v":0},0,0,0,0,0,0,0,0,0]
[]
["Cash Transfers to Groups of Individuals"]
[{"$f":"$A$6","v":"Insert description"},null,25306678,16870305,19995785,63469171.499117002,53651931.489999987,53651931.489999987,null,51023535.286639996,53395331.347425342,55899093.667858809]
[]
["Total Cash Transfers To Groups Of Individuals:",null,{"$f":"SUM(C29:C30)","v":25306678},16870305,19995785,63469171.499117002,53651931.489999987,53651931.489999987,0,51023535.286639996,53395331.347425342,55899093.667858809]
["TOTAL CASH TRANSFERS AND GRANTS",6,{"$f":"C9+C15+C21+C26+C31","v":25306678},16870305,19995785,63469171.499117002,53651931.489999987,53651931.489999987,0,51023535.286639996,53395331.347425342,55899093.667858809]
[]
["Non-Cash Transfers to other municipalities"]
["Insert description",1]
[]
[]
["Total Non-Cash Transfers To Municipalities:",null,{"$f":"SUM(C35:C37)","v":0},{"$f":"SUM(D35:D37)","v":0},0,0,0,0,0,0,0,0]
[]
["Non-Cash Transfers to Entities/Other External Mechanisms"]
[{"$f":"$A$6","v":"Insert description"},2]
[]
[]
["Total Non-Cash Transfers To Entities/Ems'",null,{"$f":"SUM(C41:C43)","v":0},{"$f":"SUM(D41:D43)","v":0},0,0,0,0,0,0,0,0]
[]
["Non-Cash Transfers to other Organs of State"]
[{"$f":"$A$6","v":"Insert description"},3]
[]
[]
["Total Non-Cash Transfers To Other Organs Of State:",null,{"$f":"SUM(C47:C49)","v":0},{"$f":"SUM(D47:D49)","v":0},0,0,0,0,0,0,{"$f":"SUM(K47:K49)","v":0},{"$f":"SUM(L47:L49)","v":0}]
[]
["Non-Cash Grants to Organisations"]
[{"$f":"$A$6","v":"Insert description"},4]
[]
[]
["Total Non-Cash Grants To Organisations",null,{"$f":"SUM(C53:C55)","v":0},{"$f":"SUM(D53:D55)","v":0},0,0,0,0,0,0,{"$f":"SUM(K53:K55)","v":0},{"$f":"SUM(L53:L55)","v":0}]
[]
["Groups of Individuals"]
[{"$f":"$A$6","v":"Insert description"},5]
[]
[]
["Total Non-Cash Grants To Groups Of Individuals:",null,{"$f":"SUM(C59:C61)","v":0},0,0,0,0,0,0,0,0,0]
["TOTAL NON-CASH TRANSFERS AND GRANTS",null,{"$f":"C38+C44+C50+C56+C62","v":0},0,0,0,0,0,0,0,0,0]
["TOTAL TRANSFERS AND GRANTS",6,{"$f":"C32+C63","v":25306678},{"$f":"D32+D63","v":16870305},19995785,63469171.499117002,53651931.489999987,53651931.489999987,0,51023535.286639996,53395331.347425342,55899093.667858809]
[{"$f":"head27a","v":"References"}]
["1. Insert description listed by municipal name and demarcation code of recipient"]
["2. Insert description of each entity or external mechanism (an external mechanism may be provided with resources to ensure a minimum level of service)"]
["3. Insert description of each Organ of State (e.g. transfer to electricity provider to compensate for FBS provided)"]
["4. Insert description of each other organisation (e.g. charity)"]
["5 Insert description of each other organisation (e.g. the aged, child-headed households)"]
["6. All descriptions should separate transfers for 'capital purposes' and 'operating purposes'"]

{"sheet":"SA22","index":42,"n_rows":140,"n_cols":11,"rows_kept":140,"cut":false,"hidden":false,"merged":[[1,5,1,7],[1,8,1,10]]}
[{"$f":"muni&\" - \"&TableA22","v":"0 - Supporting Table SA22 Summary councillor and staff benefits"}]
["Summary of Employee and Councillor remuneration",{"$f":"head27","v":"Ref"},{"$f":"head1b","v":"2019/20"},{"$f":"head1A","v":"2020/21"},{"$f":"Head1","v":"2021/22"},{"$f":"Head2","v":"Current Year 2022/23"},null,null,{"$f":"Head3","v":"2023/24 Medium Term Revenue & Expenditure Framework"}]
["R thousand",null,{"$f":"Head5","v":"Audited Outcome"},{"$f":"Head5","v":"Audited Outcome"},{"$f":"Head5","v":"Audited Outcome"},{"$f":"Head6","v":"Original Budget"},{"$f":"Head7","v":"Adjusted Budget"},{"$f":"Head8","v":"Full Year Forecast"},{"$f":"Head9","v":"Budget Year 2023/24"},{"$f":"Head10","v":"Budget Year +1 2024/25"},{"$f":"Head11","v":"Budget Year +2 2025/26"}]
[null,1,"A","B","C","D","E","F","G","H","I"]
["Councillors (Political Office Bearers plus Other)",null,null,null,null,null,null,3289604.9950000001]
["Basic Salaries and Wages",null,8876792,35265667.219999999,38471651.209999993,3289604.9950000001,3289604.9950000001,3123415.0649999995,3617588.3640500004,3780379.840432249,3950496.9332517004]
["Pension and UIF Contributions",null,4015593,4619188.2799999993,3049956.5700000003,3123415.0649999995,3123415.0649999995,7583605.8600000003,3295202.9094000002,3443487.0403229999,3598443.9571375349]
["Medical Aid Contributions",null,1690588,1884539.5099999998,1645475.9299999997,7583605.8600000003,7583605.8600000003,37225279.375,8000704.2033999991,8360735.8925529979,8736969.0077178832]
["Motor Vehicle Allowance",null,5587712,6323035.9500000002,3551006.24,37225279.375,37225279.375,847257.83999999985,39272669.756449997,41039939.895490244,42886737.1907873]
["Cellphone Allowance",null,2068187,3415924.09,2711516.53,847257.83999999985,847257.83999999985,7362054.8049999997,746801.93215000001,780408.01909674995,815526.37995610363]
["Housing Allowances",null,135053,132892.07999999999,99838.81,7362054.8049999997,7362054.8049999997,null,7766967.8245499991,8116481.3766547497,8481723.0386042111]
["Other benefits and allowances",null,21385397,null,0]
["Sub Total - Councillors",null,{"$f":"SUM(C6:C12)","v":43759322},51641247.129999995,49529445.289999999,59431217.940000005,59431217.940000005,56141612.945,62699934.989999995,65521432.06454999,68469896.507454738]
["% increase",4,null,{"$f":"IF(ISERROR((D13/C13)-1),0,((D13/C13)-1))","v":0.18011990976459824},{"$f":"IF(ISERROR((E13/D13)-1),0,((E13/D13)-1))","v":-4.0893703335316722E-2},0.19991688968095866,0,-5.5351465257217014E-2,0.11681748530141012,4.4999999999999929E-2,4.4999999999999929E-2]
[]
["Senior Managers of the Municipality",2]
["Basic Salaries and Wages",null,6259763,6339514.7300000004,7688018.4700000016,9757268.7799999993,54757268.800000004,54757268.800000004,8726581.2023999989,9119277.356507998,9529644.837550858]
["Pension and UIF Contributions",null,600,710608.66,805295.05999999982,897551.79999999981,644886.95999999985,644886.95999999985,686804.61239999952,717710.81995799986,750007.80685610988]
["Medical Aid Contributions",null,757757,138133.79999999999,78516.240000000005,99871.574999999997,99871.58,99871.58,60106363.232699998,62811149.578171499,65637651.3091892]
["Overtime",null,null,7129.85,null,null,0,0,0,0,0]
["Performance Bonus",null,640163,447744.93,250018.84,null,0,0,0,0,0]
["Motor Vehicle Allowance",3,815849,393231.13,2004262.2099999997,839309.47,839309.48,839309.48,2558774.6658000001,2673919.5257609999,2794245.9044202445]
["Cellphone Allowance",3,88000,39850,97000,87987,160487,160487,170918.655,178609.99447500001,186647.44422637497]
["Housing Allowances",3,261343,206041.77,191574.12,24421.14,24421.14,24421.14,70026008.514099985,73177178.897234499,76470151.94761005]
["Other benefits and allowances",3,72906,595029.79999999993,27854.06,null,0]
["Payments in lieu of leave",null,53553,null,null,null,0]
["Long service awards",null,null,-138606.72,null,null,0]
["Post-retirement benefit obligations",6,null,null,null,null,0]
["Entertainment"]
["Scarcity"]
["Acting and post related allowance"]
["In kind benefits"]
["Sub Total - Senior Managers of Municipality",null,{"$f":"SUM(C17:C28)","v":8949934},{"$f":"SUM(D17:D28)","v":8738677.9499999993},11142539,11706409.764999999,56526244.960000001,56526244.960000001,142275450.88239998,148677846.17210799,155368349.24985284]
[{"$f":"$A$14","v":"% increase"},{"$f":"$B$14","v":4},null,{"$f":"IF(ISERROR((D33/C33)-1),0,((D33/C33)-1))","v":-2.3604201997467378E-2},{"$f":"IF(ISERROR((E33/D33)-1),0,((E33/D33)-1))","v":0.2750829202945968},5.0605231446800403E-2,3.8286576409620503,0,1.5169804041128008,4.5000000000000151E-2,4.4999999999999929E-2]
[]
["Other Municipal Staff"]
["Basic Salaries and Wages",null,740832516.99999988,834266263.97000027,834686908.88999999,919049675.9649986,898821917.11000025,898821917.11000025,1030080571.5235999,1059274128.4316124,1094448375.4566846]
["Pension and UIF Contributions",null,160019109,165852527.09,168035281.36000001,193654657.43500003,273709271.58000016,273709271.58000016,291354033.96719986,304464965.49572384,318165888.94303161]
["Medical Aid Contributions",null,59601206,63734292.219999984,65721060,97380050.074999988,114989003.67,114989003.67,122280401.89004992,127783019.97510223,133533255.87398179]
["Overtime",null,109897994,97740395.530000001,110788734.56,104444507.31500001,95136075.050000027,95136075.050000027,101319919.92825001,105879316.32502124,110643885.55964722]
["Performance Bonus",null,60827252,64175046.689999968,67213811,81378533.805000022,83369901.010000035,83369901.010000035]
["Motor Vehicle Allowance",3,26856168,28743305.359999996,28706315,35360910.805,34331441.660000011,34331441.660000011,36571760.256699994,38218729.468251497,39939222.674322821]
["Cellphone Allowance",3,7568260,4243795.58,-78950,4916886.58,4867040.59,4867040.59,5140755.628349999,5372089.6316257492,5613833.6650489094]
["Housing Allowances",3,4128372,4325827.3500000034,4244809,4627853.5049999971,4708235.629999999,4708235.629999999,4915659.4435500009,5136864.1185097499,5368023.0038426826]
["Other benefits and allowances",3,59511537,141401172.79000002,82853258.849999994,37582196.424999997,37687020.140000001,37687020.140000001,39950483.127450019,41748254.868185237,43626926.337253593]
["Payments in lieu of leave",null,18610702,null,19775085,null,0,0,0,0,0]
["Long service awards",null,27903119,13952237.609999999,27794892,18381554.07,17411221.73,17411221.73,18329951.142449994,19154798.943860244,20016764.896333955]
["Post-retirement benefit obligations",6,60780815,null,62450000,null,0,0,0,0,0]
["Entertainment"]
["Scarcity",null,null,null,7385411]
["Acting and post related allowance",null,null,null,17961606]
["In kind benefits"]
["Sub Total - Other Municipal Staff",null,{"$f":"SUM(C37:C48)","v":1336537051},1418434864.1900001,1472191205.6599998,1496776825.9799988,1565031128.1700008,1565031128.1700008,1649943536.9075999,1707032167.2578921,1771356176.410147]
[{"$f":"$A$14","v":"% increase"},{"$f":"$B$14","v":4},null,{"$f":"IF(ISERROR((D53/C53)-1),0,((D53/C53)-1))","v":6.1276126336134107E-2},{"$f":"IF(ISERROR((E53/D53)-1),0,((E53/D53)-1))","v":3.7898350376982304E-2},1.6700018465996003E-2,4.5600854452909623E-2,0,5.4256051019820672E-2,3.4600353935317241E-2,3.7681779163881934E-2]
[]
["Total Parent Municipality",null,{"$f":"C13+C33+C53","v":1389246307},1478814789.27,1532863189.9499998,1567914453.6849988,1680988591.0700009,1677698986.0750008,1854918922.78,1921231445.4945502,1995194422.1674545]
[null,null,null,{"$f":"IF(ISERROR((D56/C56)-1),0,((D56/C56)-1))","v":6.4472715758675081E-2},{"$f":"IF(ISERROR((E56/D56)-1),0,((E56/D56)-1))","v":3.6548458314161314E-2},2.2866531054309025E-2,7.211754258610803E-2,-1.9569466517950218E-3,0.10563273756253944,3.5749553201585016E-2,3.8497692116352678E-2]
[]
["Board Members of Entities"]
["Basic Salaries and Wages",null,null,null,232305,12004724.640000002,12004724.640000002,12004724.640000002,230780,242319,254434.95]
["Pension and UIF Contributions"]
["Medical Aid Contributions"]
["Overtime"]
["Performance Bonus"]
["Motor Vehicle Allowance",3]
["Cellphone Allowance",3]
["Housing Allowances",3]
["Other benefits and allowances",3]
["Board Fees"]
["Payments in lieu of leave"]
["Long service awards"]
["Post-retirement benefit obligations",6]
["Entertainment"]
["Scarcity"]
["Acting and post related allowance"]
["In kind benefits"]
["Sub Total - Board Members of Entities",null,{"$f":"SUM(C60:C72)","v":0},{"$f":"SUM(D60:D72)","v":0},232305,12004724.640000002,12004724.640000002,12004724.640000002,230780,242319,254434.95]
[{"$f":"$A$14","v":"% increase"},{"$f":"$B$14","v":4},null,{"$f":"IF(ISERROR((D77/C77)-1),0,((D77/C77)-1))","v":0},{"$f":"IF(ISERROR((E77/D77)-1),0,((E77/D77)-1))","v":0},50.676565893975607,0,0,-0.98077590224510136,5.0000000000000044E-2,5.0000000000000044E-2]
[]
["Senior Managers of Entities"]
["Basic Salaries and Wages",null,null,null,773185.2,817582.62,817582.62,817582.62,857644.17,900526.38,945552.69]
["Pension and UIF Contributions"]
["Medical Aid Contributions",null,null,null,28648.799999999999,35611.57,35611.57,35611.57,30923.040000000001,32469.19,34092.65]
["Overtime",null,null,null,null,350000,350000,350000]
["Performance Bonus"]
["Motor Vehicle Allowance",3,null,null,30000,39498.19,39498.19,39498.19,30000,31500,33075]
["Cellphone Allowance",3,null,null,10000,12000,12000,12000,10800,11340,11907]
["Housing Allowances",3,null,null,0]
["Other benefits and allowances",3]
["Payments in lieu of leave"]
["Long service awards"]
["Post-retirement benefit obligations",6]
["Entertainment"]
["Scarcity"]
["Acting and post related allowance"]
["In kind benefits"]
["Sub Total - Senior Managers of Entities",null,{"$f":"SUM(C81:C92)","v":0},{"$f":"SUM(D81:D92)","v":0},841834,1254692.3799999999,1254692.3799999999,1254692.3799999999,929367.21000000008,975835.57,1024627.34]
[{"$f":"$A$14","v":"% increase"},{"$f":"$B$14","v":4},null,{"$f":"IF(ISERROR((D97/C97)-1),0,((D97/C97)-1))","v":0},{"$f":"IF(ISERROR((E97/D97)-1),0,((E97/D97)-1))","v":0},0.49042730514567001,0,0,-0.25928679825089862,4.9999999461999289E-2,4.9999991289516155E-2]
[]
["Other Staff of Entities"]
["Basic Salaries and Wages",null,5657191.3799999999,null,8108858.1100000003,8347908.7300000004,8347908.7300000004,8347908.7300000004,8736818.0999999996,9173650.0099999998,9632341.9600000009]
["Pension and UIF Contributions",null,477072.08,null,554655.64,682204,682204,682204,600000,630000,661500]
["Medical Aid Contributions",null,743763.84000000008,null,1036396,1277811.7599999998,1277811.7599999998,1277811.7599999998,865532,908808.6,954249.03]
["Overtime",null,891958.20000000007,null,375761.44,null,null,null,367150,385507.5,404782.88]
["Performance Bonus",null,577347.02]
["Motor Vehicle Allowance",3,163240,null,102000,147688.88999999998,147688.88999999998,147688.88999999998,102000,107100,112455]
["Cellphone Allowance",3,77486,null,78950,74418.880000000005,74418.880000000005,74418.880000000005,106200,111510,117085.5]
["Housing Allowances",3,0]
["Other benefits and allowances",3,0,null,54547.15]
["Payments in lieu of leave",null,71017.88]
["Long service awards"]
["Post-retirement benefit obligations",6]
["Entertainment"]
["Scarcity"]
["Acting and post related allowance",null,null,null,{"$f":"D114-D116","v":0}]
["In kind benefits"]
["Sub Total - Other Staff of Entities",null,{"$f":"SUM(C101:C112)","v":8659076.4000000004},{"$f":"SUM(D101:D112)","v":0},10311168.34,10530032.260000002,10530032.260000002,10530032.260000002,10777700.1,11316576.109999999,11882414.370000001]
[{"$f":"$A$14","v":"% increase"},{"$f":"$B$14","v":4},null,{"$f":"IF(ISERROR((D117/C117)-1),0,((D117/C117)-1))","v":-1},{"$f":"IF(ISERROR((E117/D117)-1),0,((E117/D117)-1))","v":0},2.1225908915769143E-2,0,0,2.3520140668590761E-2,4.9999165406356072E-2,5.0000835455875414E-2]
[]
["Total Municipal Entities",null,{"$f":"C77+C97+C117","v":8659076.4000000004},{"$f":"D77+D97+D117","v":0},11385307.34,23789449.280000005,23789449.280000005,23789449.280000005,11937847.309999999,12534730.68,13161476.66]
[]
["TOTAL SALARY, ALLOWANCES & BENEFITS",null,{"$f":"C56+C120","v":1397905383.4000001},{"$f":"D56+D120","v":1478814789.27},{"$f":"E56+E120","v":1544248497.2899997},1591703902.9649987,1704778040.3500009,1701488435.3550007,1866856770.0899999,1933766176.1745503,2008355898.8274546]
[{"$f":"$A$14","v":"% increase"},{"$f":"$B$14","v":4},null,{"$f":"IF(ISERROR((D122/C122)-1),0,((D122/C122)-1))","v":5.7879028746002259E-2},{"$f":"IF(ISERROR((E122/D122)-1),0,((E122/D122)-1))","v":4.4247398994637033E-2},3.0730420497917521E-2,7.1039680919528836E-2,-1.9296382972675552E-3,9.7190395949118713E-2,3.5840674633718539E-2,3.85722553077541E-2]
["TOTAL MANAGERS AND STAFF","5,7",{"$f":"C33+C53+C97+C117","v":1354146061.4000001},1427173542.1400001,1494486746.9999998,1520267960.384999,1633342097.7700009,1633342097.7700009,1803926055.0999999,1868002425.1099999,1939631567.3699996]
[{"$f":"head27a","v":"References"}]
["1. Include 'Loans and advances' where applicable if any reportable amounts until phased compliance with s164 of MFMA achieved"]
["2. s57 of the Systems Act"]
["3. In kind benefits (e.g. provision of living quarters) must be shown as the cost (full market value) to the municipality, as part of the relevant allowance"]
["4. B/A, C/B, D/C, E/C, F/C, G/D, H/D, I/D"]
["5. Must agree to the sub-total appearing on Table A1 (Employee costs)"]
["6. Includes pension payments and employer contributions to medical aid"]
["7. Correct as at 30 June"]
[]
["Column Definitions:"]
["A, B and C. Audited actual as per the audited financial statements. If audited amounts are unavailable, unaudited amounts must be provided with a note stating these are unaudited"]
["D. The original budget approved by council for the budget year."]
["E. The budget for the budget year as adjusted by council resolution in terms of section 28 of the MFMA."]
["F. An estimate of final actual amounts (pre audit) for the current year at the point in time of preparing the budget for the budget year. This may differ from E."]
["G. The amount to be appropriated for the budget year."]
["H and I. The indicative projection"]

{"sheet":"SA23","index":43,"n_rows":71,"n_cols":9,"rows_kept":71,"cut":false,"hidden":false,"merged":[[1,2,2,2],[1,5,2,5],[1,3,2,3],[1,6,2,6]]}
[{"$f":"muni&\" - \"&TableA23","v":"0 - Supporting Table SA23 Salaries, allowances & benefits (political office bearers/councillors/senior managers)"}]
["Disclosure of Salaries, Allowances & Benefits 1.",{"$f":"head27","v":"Ref"},"No.","Salary","\nContributions\n","Allowances","Performance  Bonuses","In-kind benefits","Total Package"]
["Rand per annum",null,null,null,"1.",null,null,null,"2."]
["Councillors",3]
["Speaker",4,null,51889.225499999993,167603.76715,1038748.3896499999,null,null,{"$f":"SUM(D5:F5)","v":1258241.3822999999}]
["Chief Whip",null,null,30853.052999999996,22710.162100000001,966704.50744999992,null,null,1020267.7225499999]
["Executive Mayor",null,null,51889.225499999993,1047307.56245,181169.30529999998,null,null,1280366.0932499999]
["Deputy Executive Mayor",null,null,1230683.9910500001,45215.527599999994,null,null,null,1275899.51865]
["Executive Committee",null,null,246824.42399999997,null,null,null,null,246824.42399999997]
["Total for all other councillors",null,null,2005448.4449999998,10013070.093499999,45599817.31075,null,null,57618335.849250004]
[{"$f":"\"Total \"&A4","v":"Total Councillors"},8,{"$f":"SUM(C5:C10)","v":0},3617588.36405,11295907.112799998,47786439.513149999,null,null,62699934.990000002]
[]
["Senior Managers of the Municipality",5]
["Municipal Manager (MM)",null,null,1384374.7346999999,35154545.35565,1906027.0600499958,null,null,{"$f":"SUM(D14:H14)","v":38444947.150399998}]
["Chief Finance Officer",null,null,1466748.5122499999,35180752.747850001,161200.42349999995,null,null,36808701.683600001]
["GM Sustainable",null,null,1144102.7152500001,15114467.4354,462851.10869999975,null,null,16721421.25935]
["GM Community services",null,null,1572608.38335,15114467.4354,22920.929999999702,null,null,16709996.748749999]
["GM Infrustracture",null,null,1616641.2875999999,15114467.4354,179781.38265000097,null,null,16910890.10565]
["GM Corporate Services",null,null,1542105.5692499999,15114467.4354,22920.929999999702]
["GM Electricity",null,null,null,null,null,null,null,0]
[]
["List of each offical with packages >= senior manager"]
[null,null,null,null,null,null,null,null,{"$f":"SUM(D23:H23)","v":0}]
[null,null,null,null,null,null,null,null,{"$f":"SUM(D24:H24)","v":0}]
[null,null,null,null,null,null,null,null,0]
[null,null,null,null,null,null,null,null,0]
[null,null,null,null,null,null,null,null,0]
[null,null,null,null,null,null,null,null,0]
[null,null,null,null,null,null,null,null,0]
[null,null,null,null,null,null,null,null,0]
[null,null,null,null,null,null,null,null,0]
[null,null,null,null,null,null,null,null,0]
[null,null,null,null,null,null,null,null,0]
[null,null,null,null,null,null,null,null,{"$f":"SUM(D34:H34)","v":0}]
[null,null,null,null,null,null,null,null,{"$f":"SUM(D35:H35)","v":0}]
[{"$f":"\"Total \"&A13","v":"Total Senior Managers of the Municipality"},"8,10",{"$f":"SUM(C14:C35)","v":0},{"$f":"SUM(D14:D35)","v":8726581.2024000008},{"$f":"SUM(E14:E35)","v":130793167.84509999},{"$f":"SUM(F14:F35)","v":2755701.8348999959},{"$f":"SUM(G14:G35)","v":0},null,{"$f":"SUM(I14:I35)","v":125595956.94775}]
[]
["A Heading for Each Entity","6,7"]
["List each member of board by designation"]
[null,null,null,null,null,null,null,null,{"$f":"SUM(D40:G40)","v":0}]
[null,null,null,null,null,null,null,null,{"$f":"SUM(D41:G41)","v":0}]
[null,null,null,null,null,null,null,null,0]
[null,null,null,null,null,null,null,null,0]
[null,null,null,null,null,null,null,null,0]
[null,null,null,null,null,null,null,null,0]
[null,null,null,null,null,null,null,null,0]
[null,null,null,null,null,null,null,null,0]
[null,null,null,null,null,null,null,null,0]
[null,null,null,null,null,null,null,null,0]
[null,null,null,null,null,null,null,null,0]
[null,null,null,null,null,null,null,null,0]
[null,null,null,null,null,null,null,null,0]
[null,null,null,null,null,null,null,null,0]
[null,null,null,null,null,null,null,null,0]
[null,null,null,null,null,null,null,null,0]
["Total for municipal entities","8,10",{"$f":"SUM(C39:C55)","v":0},{"$f":"SUM(D40:D55)","v":0},0,0,0,null,0]
[]
["TOTAL COST OF COUNCILLOR, DIRECTOR and EXECUTIVE REMUNERATION",10,{"$f":"C11+C36+C56","v":0},12344169.56645,142089074.95789999,50542141.348049998,0,null,188295891.93775001]
[]
[{"$f":"head27a","v":"References"}]
["1. Pension and medical aid"]
["2. Total package must equal the total cost to the municipality"]
["3. List each political office bearer by designation. Provide a total for all other councillors"]
["4. Political office bearer is defined in MFMA s 1: speaker, executive mayor, deputy executive mayor, member of executive committee,"]
["    mayor, deputy mayor, member of mayoral committee, the councillor designated to exercise powers and duties of mayor (MSA s 57)"]
["5. Also list each senior manager reporting to MM by designation and each official with package >= senior manager by designation"]
["6. List each entity where municipality has an interest and state percentage ownership and control"]
["7. List each senior manager reporting to the CEO of an Entity by designation"]
["8. Must reconcile to relevant section of Table SA24"]
["9. Must reconcile to totals shown for the budget year of Table SA22"]
["10. Correct as at 30 June"]

{"sheet":"SA24","index":44,"n_rows":53,"n_cols":11,"rows_kept":53,"cut":false,"hidden":false,"merged":[[1,5,1,7],[1,8,1,10],[1,2,1,4]]}
[{"$f":"muni&\" - \"&TableA24","v":"0 - Supporting Table SA24 Summary of personnel numbers"}]
["Summary of Personnel Numbers",{"$f":"head27","v":"Ref"},{"$f":"Head1","v":"2021/22"},null,null,{"$f":"Head2","v":"Current Year 2022/23"},null,null,{"$f":"Head9","v":"Budget Year 2023/24"}]
["Number","1,2","Positions","Permanent employees","Contract employees","Positions","Permanent employees","Contract employees","Positions","Permanent employees","Contract employees"]
["Municipal Council and Boards of Municipal Entities"]
["Councillors (Political Office Bearers plus Other Councillors)",null,81,null,81,81,null,81,6,null,6]
["Board Members of municipal entities",4]
["Municipal employees",5]
["Municipal Manager and Senior Managers",3,6,2,4,6,2,4,5,4,1]
["Other Managers",7,25,23,1,25,23,1,25,23,1]
["Professionals",null,{"$f":"SUM(C11:C19)","v":411},{"$f":"SUM(D11:D19)","v":208},1,411,208,1,1335,1213.5,122.5]
["Finance",null,31,16,1,31,16,1,277,228,50]
["Spatial/town planning",null,11,9,null,11,9,null,21,20,1]
["Information Technology",null,4,3,null,4,3,null,29,17,12]
["Roads",null,107,41,null,107,41,null,278,274,4]
["Electricity",null,26,6,null,26,6,null,134,113.5,20.5]
["Water",null,77,23,null,77,23,null,2,1,1]
["Sanitation",null,1,2,null,1,2,null,295,265,30]
["Refuse",null,4,3,null,4,3,null,299,295,4]
["Other",null,150,105,null,150,105]
["Technicians",null,{"$f":"SUM(C21:C29)","v":1377},{"$f":"SUM(D21:D29)","v":820},17,1377,820,17,961,809.5,151.5]
["Finance",null,131,80,6,131,80,6,205,172,33]
["Spatial/town planning",null,45,21,null,45,21,null,284,249,35]
["Information Technology",null,21,15,null,21,15,null,148,134,14]
["Roads",null,23,21,null,23,21,null,89,63,26]
["Electricity",null,218,73,null,218,73,null,134,113.5,20.5]
["Water",null,58,37,null,58,37,null,1,1]
["Sanitation",null,32,5,null,32,5,null,50,30,20]
["Refuse",null,19,9,null,19,9,null,50,47,3]
["Other",null,830,559,11,830,559,11]
["Clerks (Clerical and administrative)",null,554,441,87,554,441,87,135,100,35]
["Service and sales workers",null,383,149,null,383,149,null,72,37,30]
["Skilled agricultural and fishery workers",null,23,19,null,23,19,null,62,20,52]
["Craft and related trades",null,167,63,null,167,63,null,72,37,30]
["Plant and Machine Operators",null,365,121,null,365,121,null,330,306,24]
["Elementary Occupations",null,2571,1276,null,2571,1276,null,1000,983,17]
["TOTAL PERSONNEL NUMBERS",9,{"$f":"SUM(C5:C9)+SUM(C11:C19)+SUM(C21:C35)","v":5963},{"$f":"SUM(D5:D9)+SUM(D11:D19)+SUM(D21:D35)","v":3122},191,5963,3122,{"$f":"SUM(H5:H9)+SUM(H11:H19)+SUM(H21:H35)","v":191},4003,3533,470]
["% increase",null,null,null,null,{"$f":"IF(ISERROR((F36/C36)-1),0,((F36/C36)-1))","v":0},0,0,-0.32869361059869195,0.13164638052530431,1.4607329842931938]
[]
["Total municipal employees headcount","6, 10"]
["Finance personnel headcount","8, 10",673,425,24,673,425,24,513,423,90]
["Human Resources personnel headcount","8, 10",150,78,2,150,78,2,89,80,9]
[]
[{"$f":"head27a","v":"References"}]
["1. Positions must be funded and aligned to the municipality's current organisational structure"]
["2. Full Time Equivalent (FTE). E.g. One full time person = 1FTE. A person working half time (say 4 hours out of 8) = 0.5FTE."]
["3. s57 of the Systems Act"]
["4. Include only in Consolidated Statements"]
["5. Include municipal entity employees in Consolidated Statements"]
["6.  Include headcount (number fo persons, Not FTE) of managers and staff only (exclude councillors)"]
["7. Managers who provide the direction of a critical technical function"]
["8. Total number of employees working on these functions"]
["9. Correct as at 30 June"]
["10. Must account for all budgeted positions, as per the municipal organogram"]

{"sheet":"SA25","index":45,"n_rows":62,"n_cols":17,"rows_kept":62,"cut":false,"hidden":false,"merged":[[1,2,1,13],[1,14,1,16]]}
[{"$f":"muni&\" - \"& TableA25","v":"0 - Supporting Table SA25 Budgeted monthly revenue and expenditure"}]
[{"$f":"desc","v":"Description"},{"$f":"head27","v":"Ref"},{"$f":"Head9","v":"Budget Year 2023/24"},null,null,null,null,null,null,null,null,null,null,null,"Medium Term Revenue and Expenditure Framework"]
["R thousand",null,"July","August","Sept.","October","November","December","January","February","March","April","May","June",{"$f":"Head9","v":"Budget Year 2023/24"},{"$f":"Head10","v":"Budget Year +1 2024/25"},{"$f":"Head11","v":"Budget Year +2 2025/26"}]
["Revenue"," "]
["Exchange Revenue"," "]
["Service charges - Electricity",null,324401507.97173327,324401507.97173327,324401507.97173327,324401507.97173327,324401507.97173327,324401507.97173327,324401507.97173327,324401507.97173327,324401507.97173327,324401507.97173327,324401507.97173327,{"$f":"O6-SUM(C6:M6)","v":324401507.97173405},{"$f":"'A4-FinPerf RE'!J6","v":3892818095.6607995},{"$f":"'A4-FinPerf RE'!K6","v":4515668990.966527},{"$f":"'A4-FinPerf RE'!L6","v":5328489409.3405018}]
["Service charges - Water",null,92206176.316875026,92206176.316875026,92206176.316875026,92206176.316875026,92206176.316875026,92206176.316875026,92206176.316875026,92206176.316875026,92206176.316875026,92206176.316875026,92206176.316875026,{"$f":"O7-SUM(C7:M7)","v":-112696437.72062492},{"$f":"'A4-FinPerf RE'!J7","v":901571501.7650001},{"$f":"'A4-FinPerf RE'!K7","v":945748505.35148907},{"$f":"'A4-FinPerf RE'!L7","v":990198685.10300791}]
["Service charges - Waste Water Management",null,16874989.328266669,16874989.328266669,16874989.328266669,16874989.328266669,16874989.328266669,16874989.328266669,16874989.328266669,16874989.328266669,16874989.328266669,16874989.328266669,16874989.328266669,16874989.328266621,{"$f":"'A4-FinPerf RE'!J8","v":202499871.93920001},{"$f":"'A4-FinPerf RE'!K8","v":212422365.66422099},{"$f":"'A4-FinPerf RE'!L8","v":222406216.85043901}]
["Service charges - Waste Management",null,11561813.760291666,11561813.760291666,11561813.760291666,11561813.760291666,11561813.760291666,11561813.760291666,11561813.760291666,11561813.760291666,11561813.760291666,11561813.760291666,11561813.760291666,11561813.760291666,{"$f":"'A4-FinPerf RE'!J9","v":138741765.12349999},{"$f":"'A4-FinPerf RE'!K9","v":145540111.61455101},{"$f":"'A4-FinPerf RE'!L9","v":152380496.86043501}]
["Sale of Goods and Rendering of Services",null,0,0,0,0,0,0,0,0,0,0,0,0,{"$f":"'A4-FinPerf RE'!J10","v":0},{"$f":"'A4-FinPerf RE'!K10","v":0},{"$f":"'A4-FinPerf RE'!L10","v":0}]
["Agency services"," ",59565.860316666665,59565.860316666665,59565.860316666665,59565.860316666665,59565.860316666665,59565.860316666665,59565.860316666665,59565.860316666665,59565.860316666665,59565.860316666665,59565.860316666665,59565.860316666658,{"$f":"'A4-FinPerf RE'!J11","v":714790.32380000001},{"$f":"'A4-FinPerf RE'!K11","v":749815.04966619995},{"$f":"'A4-FinPerf RE'!L11","v":785056.35700051126}]
["Interest"," ",1504335.4401500002,1504335.4401500002,1504335.4401500002,1504335.4401500002,1504335.4401500002,1504335.4401500002,1504335.4401500002,1504335.4401500002,1504335.4401500002,1504335.4401500002,1504335.4401500002,-16547689.841650002,{"$f":"'A4-FinPerf RE'!J12","v":0},{"$f":"'A4-FinPerf RE'!K12","v":0},{"$f":"'A4-FinPerf RE'!L12","v":0}]
["Interest earned from Receivables"," ",20738789.292866666,20738789.292866666,20738789.292866666,20738789.292866666,20738789.292866666,20738789.292866666,20738789.292866666,20738789.292866666,20738789.292866666,20738789.292866666,20738789.292866666,-29952538.221533358,{"$f":"'A4-FinPerf RE'!J13","v":198174144},{"$f":"'A4-FinPerf RE'!K13","v":207884677},{"$f":"'A4-FinPerf RE'!L13","v":217655258}]
["Interest earned from Current and Non Current Assets"," ",0,0,0,0,0,0,0,0,0,0,0,18052025.281800002,{"$f":"'A4-FinPerf RE'!J14","v":18052025.281800002},{"$f":"'A4-FinPerf RE'!K14","v":19225406.925117001},{"$f":"'A4-FinPerf RE'!L14","v":20494283.782174725}]
["Dividends"," ",0,0,0,0,0,0,0,0,0,0,0,0,{"$f":"'A4-FinPerf RE'!J15","v":0},{"$f":"'A4-FinPerf RE'!K15","v":0},{"$f":"'A4-FinPerf RE'!L15","v":0}]
["Rent on Land"," ",0,0,0,0,0,0,0,0,0,0,0,0,{"$f":"'A4-FinPerf RE'!J16","v":0},{"$f":"'A4-FinPerf RE'!K16","v":0},{"$f":"'A4-FinPerf RE'!L16","v":0}]
["Rental from Fixed Assets"," ",8735294.3123281654,8735294.3123281654,8735294.3123281654,8735294.3123281654,8735294.3123281654,8735294.3123281654,8735294.3123281654,8735294.3123281654,8735294.3123281654,8735294.3123281654,8735294.3123281654,8735294.3123281747,{"$f":"'A4-FinPerf RE'!J17","v":104823531.74793798},{"$f":"'A4-FinPerf RE'!K17","v":112623580.49332854},{"$f":"'A4-FinPerf RE'!L17","v":117916888.77651502}]
["Licence and permits"," ",0,0,0,0,0,0,0,0,0,0,0,2451743.9566758568,{"$f":"'A4-FinPerf RE'!J18","v":2451743.9566758568},{"$f":"'A4-FinPerf RE'!K18","v":2667323.6062311009},{"$f":"'A4-FinPerf RE'!L18","v":2792687.8157239622}]
["Operational Revenue"," ",19200598.529239491,19200598.529239491,19200598.529239491,19200598.529239491,19200598.529239491,19200598.529239491,19200598.529239491,19200598.529239491,19200598.529239491,19200598.529239491,19200598.529239491,19200598.529239535,{"$f":"'A4-FinPerf RE'!J19","v":230407182.35087389},{"$f":"'A4-FinPerf RE'!K19","v":249375506.15869284},{"$f":"'A4-FinPerf RE'!L19","v":261096154.94815132}]
["Non-Exchange Revenue"," "]
["Property rates",null,127248756.80281667,127248756.80281667,127248756.80281667,127248756.80281667,127248756.80281667,127248756.80281667,127248756.80281667,127248756.80281667,127248756.80281667,127248756.80281667,127248756.80281667,{"$f":"O21-SUM(C21:M21)","v":127248756.80281687},{"$f":"'A4-FinPerf RE'!J21","v":1526985081.6338},{"$f":"'A4-FinPerf RE'!K21","v":1601807350.6338601},{"$f":"'A4-FinPerf RE'!L21","v":1677092296.1136501}]
["Surcharges and Taxes"," ",0,0,0,0,0,0,0,0,0,0,0,0,{"$f":"'A4-FinPerf RE'!J22","v":0},{"$f":"'A4-FinPerf RE'!K22","v":0},{"$f":"'A4-FinPerf RE'!L22","v":0}]
["Fines, penalties and forfeits"," ",1221659.5397559644,1221659.5397559644,1221659.5397559644,1221659.5397559644,1221659.5397559644,1221659.5397559644,1221659.5397559644,1221659.5397559644,1221659.5397559644,1221659.5397559644,1221659.5397559644,1221659.5397559647,{"$f":"'A4-FinPerf RE'!J23","v":14659914.477071574},{"$f":"'A4-FinPerf RE'!K23","v":8467564.5335067343},{"$f":"'A4-FinPerf RE'!L23","v":8865540.0665815491}]
["Licences or permits"," ",204311.99638965473,204311.99638965473,204311.99638965473,204311.99638965473,204311.99638965473,204311.99638965473,204311.99638965473,204311.99638965473,204311.99638965473,204311.99638965473,204311.99638965473,-2247431.9602862019,{"$f":"'A4-FinPerf RE'!J24","v":0},{"$f":"'A4-FinPerf RE'!K24","v":0},{"$f":"'A4-FinPerf RE'!L24","v":0}]
["Transfer and subsidies - Operational"," ",68990779.992499992,68990779.992499992,68990779.992499992,68990779.992499992,68990779.992499992,68990779.992499992,68990779.992499992,68990779.992499992,68990779.992499992,68990779.992499992,68990779.992499992,79236570.082500219,{"$f":"'A4-FinPerf RE'!J25","v":838135150},{"$f":"'A4-FinPerf RE'!K25","v":906229405},{"$f":"'A4-FinPerf RE'!L25","v":982611448}]
["Interest"," ",null,null,null,null,null,null,null,null,null,null,null,50691327,{"$f":"'A4-FinPerf RE'!J26","v":50691327},{"$f":"'A4-FinPerf RE'!K26","v":53175202},{"$f":"'A4-FinPerf RE'!L26","v":55674436}]
["Fuel Levy"," ",null,null,null,null,null,null,null,null,null,null,null,0,{"$f":"'A4-FinPerf RE'!J27","v":0},{"$f":"'A4-FinPerf RE'!K27","v":0},{"$f":"'A4-FinPerf RE'!L27","v":0}]
["Operational Revenue"," ",null,null,null,null,null,null,null,null,null,null,null,0,{"$f":"'A4-FinPerf RE'!J28","v":0},{"$f":"'A4-FinPerf RE'!K28","v":0},{"$f":"'A4-FinPerf RE'!L28","v":0}]
["Gains on disposal of Assets"," ",null,null,null,null,null,null,null,null,null,null,null,0,{"$f":"'A4-FinPerf RE'!J29","v":0},{"$f":"'A4-FinPerf RE'!K29","v":0},{"$f":"'A4-FinPerf RE'!L29","v":0}]
["Other Gains"," ",null,null,null,null,null,null,null,null,null,null,null,0,{"$f":"'A4-FinPerf RE'!J30","v":0},{"$f":"'A4-FinPerf RE'!K30","v":0},{"$f":"'A4-FinPerf RE'!L30","v":0}]
["Discontinued Operations"," ",null,null,null,null,null,null,null,null,null,null,null,0,{"$f":"'A4-FinPerf RE'!J31","v":0},{"$f":"'A4-FinPerf RE'!K31","v":0},{"$f":"'A4-FinPerf RE'!L31","v":0}]
["Total Revenue (excluding capital transfers and contributions)"," ",{"$f":"SUM(C6:C19)+SUM(C21:C31)","v":692948579.14352989},{"$f":"SUM(D6:D19)+SUM(D21:D31)","v":692948579.14352989},692948579.14352989,692948579.14352989,692948579.14352989,692948579.14352989,692948579.14352989,692948579.14352989,692948579.14352989,692948579.14352989,692948579.14352989,{"$f":"SUM(N6:N19)+SUM(N21:N31)","v":498291754.68163115},{"$f":"SUM(O6:O19)+SUM(O21:O31)","v":8120726125.2604589},{"$f":"SUM(P6:P19)+SUM(P21:P31)","v":8981585804.9971886},{"$f":"SUM(Q6:Q19)+SUM(Q21:Q31)","v":10038458858.014183}]
["Expenditure"]
["Employee related costs",null,148914588.14633754,148914588.14633754,148914588.14633754,148914588.14633754,148914588.14633754,148914588.14633754,148914588.14633754,148914588.14633754,148914588.14633754,148914588.14633754,148914588.14633754,{"$f":"O34-SUM(C34:M34)","v":155087885.39028716},{"$f":"'A4-FinPerf RE'!J34","v":1793148355},{"$f":"'A4-FinPerf RE'!K34","v":1856685849},{"$f":"'A4-FinPerf RE'!L34","v":1927749152.9999998}]
["Remuneration of councillors",null,5224994.5824999996,5224994.5824999996,5224994.5824999996,5224994.5824999996,5224994.5824999996,5224994.5824999996,5224994.5824999996,5224994.5824999996,5224994.5824999996,5224994.5824999996,5224994.5824999996,5224994.5825000107,{"$f":"'A4-FinPerf RE'!J35","v":62699934.989999995},{"$f":"'A4-FinPerf RE'!K35","v":65521432.064549997},{"$f":"'A4-FinPerf RE'!L35","v":68469896.507454708}]
["Bulk purchases - electricity",null,226166666.66666666,226166666.66666666,226166666.66666666,226166666.66666666,226166666.66666666,226166666.66666666,226166666.66666666,226166666.66666666,226166666.66666666,226166666.66666666,226166666.66666666,26166666.666666508,{"$f":"'A4-FinPerf RE'!J36","v":2514000000},{"$f":"'A4-FinPerf RE'!K36","v":3066819999.9999995},{"$f":"'A4-FinPerf RE'!L36","v":3526842999.999999}]
["Inventory consumed",null,96592308.861253336,96592308.861253336,96592308.861253336,96592308.861253336,96592308.861253336,96592308.861253336,96592308.861253336,96592308.861253336,96592308.861253336,96592308.861253336,96592308.861253336,-91886361.47378695,{"$f":"'A4-FinPerf RE'!J37","v":970629036},{"$f":"'A4-FinPerf RE'!K37","v":1018189866},{"$f":"'A4-FinPerf RE'!L37","v":1066044780}]
["Debt impairment",null,26125000,26125000,26125000,26125000,26125000,26125000,26125000,26125000,26125000,26125000,26125000,312625000,{"$f":"'A4-FinPerf RE'!J38","v":600000000},{"$f":"'A4-FinPerf RE'!K38","v":627000000},{"$f":"'A4-FinPerf RE'!L38","v":656469000}]
["Depreciation and amortisation",null,38467999.267362498,38467999.267362498,38467999.267362498,38467999.267362498,38467999.267362498,38467999.267362498,38467999.267362498,38467999.267362498,38467999.267362498,38467999.267362498,38467999.267362498,38467992.059012592,{"$f":"'A4-FinPerf RE'!J39","v":461615984},{"$f":"'A4-FinPerf RE'!K39","v":482388711},{"$f":"'A4-FinPerf RE'!L39","v":504096199}]
["Interest"," ",3366739.8362375,3366739.8362375,3366739.8362375,3366739.8362375,3366739.8362375,3366739.8362375,3366739.8362375,3366739.8362375,3366739.8362375,3366739.8362375,3366739.8362375,3366741.5247474387,{"$f":"'A4-FinPerf RE'!J40","v":40400879.723359942},{"$f":"'A4-FinPerf RE'!K40","v":42218920.588025153},{"$f":"'A4-FinPerf RE'!L40","v":44118763.824688859}]
["Contracted services"," ",81805810.81795001,81805810.81795001,81805810.81795001,81805810.81795001,81805810.81795001,81805810.81795001,81805810.81795001,81805810.81795001,81805810.81795001,81805810.81795001,81805810.81795001,95023918.002549887,{"$f":"'A4-FinPerf RE'!J41","v":994887837},{"$f":"'A4-FinPerf RE'!K41","v":1049323573},{"$f":"'A4-FinPerf RE'!L41","v":1097750641}]
["Transfers and subsidies"," ",5490372.4405533327,5490372.4405533327,5490372.4405533327,5490372.4405533327,5490372.4405533327,5490372.4405533327,5490372.4405533327,5490372.4405533327,5490372.4405533327,5490372.4405533327,5490372.4405533327,-9370561.5594466552,{"$f":"'A4-FinPerf RE'!J42","v":51023535.286639996},{"$f":"'A4-FinPerf RE'!K42","v":53395331.347425342},{"$f":"'A4-FinPerf RE'!L42","v":55899093.667858809}]
["Irrecoverable debts written off"," ",0,0,0,0,0,0,0,0,0,0,0,0,{"$f":"'A4-FinPerf RE'!J43","v":0},{"$f":"'A4-FinPerf RE'!K43","v":0},{"$f":"'A4-FinPerf RE'!L43","v":0}]
["Operational costs"," ",18511588.61017834,18511588.61017834,18511588.61017834,18511588.61017834,18511588.61017834,18511588.61017834,18511588.61017834,18511588.61017834,18511588.61017834,18511588.61017834,18511588.61017834,11754758.288038224,{"$f":"'A4-FinPerf RE'!J44","v":215382233},{"$f":"'A4-FinPerf RE'!K44","v":225684860},{"$f":"'A4-FinPerf RE'!L44","v":236252431}]
["Losses on disposal of Assets"," ",0,0,0,0,0,0,0,0,0,0,0,0,{"$f":"'A4-FinPerf RE'!J45","v":0},{"$f":"'A4-FinPerf RE'!K45","v":0},{"$f":"'A4-FinPerf RE'!L45","v":0}]
["Other Losses"," ",0,0,0,0,0,0,0,0,0,0,0,0,{"$f":"'A4-FinPerf RE'!J46","v":0},{"$f":"'A4-FinPerf RE'!K46","v":0},{"$f":"'A4-FinPerf RE'!L46","v":0}]
["Total Expenditure"," ",{"$f":"SUM(C34:C46)","v":650666069.22903931},{"$f":"SUM(D34:D46)","v":650666069.22903931},650666069.22903931,650666069.22903931,650666069.22903931,650666069.22903931,650666069.22903931,650666069.22903931,650666069.22903931,650666069.22903931,650666069.22903931,546461033.48056817,7703787795,8487228543,9183692958]
["Surplus/(Deficit)",null,{"$f":"+C32-C47","v":42282509.914490581},{"$f":"+D32-D47","v":42282509.914490581},42282509.914490581,42282509.914490581,42282509.914490581,42282509.914490581,42282509.914490581,42282509.914490581,42282509.914490581,42282509.914490581,42282509.914490581,-48169278.798937023,416938330.26045895,494357261.99718857,854765900.01418304]
["Transfers and subsidies - capital (monetary allocations)",null,26454636.666666668,26454636.666666668,26454636.666666668,26454636.666666668,26454636.666666668,26454636.666666668,26454636.666666668,26454636.666666668,26454636.666666668,26454636.666666668,26454636.666666668,{"$f":"O49-SUM(C49:M49)","v":157699051.61666667},{"$f":"'A4-FinPerf RE'!J49","v":448700054.94999999},{"$f":"'A4-FinPerf RE'!K49","v":321309343.19999999},{"$f":"'A4-FinPerf RE'!L49","v":327881560}]
["Transfers and subsidies - capital (in-kind)",null,null,null,null,null,null,null,null,null,null,null,null,0,{"$f":"'A4-FinPerf RE'!J50","v":0},{"$f":"'A4-FinPerf RE'!K50","v":0},{"$f":"'A4-FinPerf RE'!L50","v":0}]
["Surplus/(Deficit) after capital transfers & contributions",null,{"$f":"SUM(C48:C50)","v":68737146.581157252},{"$f":"SUM(D48:D50)","v":68737146.581157252},68737146.581157252,68737146.581157252,68737146.581157252,68737146.581157252,68737146.581157252,68737146.581157252,68737146.581157252,68737146.581157252,68737146.581157252,109529772.81772965,865638385.21045899,815666605.19718862,1182647460.014183]
["Income Tax",null,null,null,null,null,null,null,null,null,null,null,null,{"$f":"O52-SUM(C52:M52)","v":0},{"$f":"'A4-FinPerf RE'!J52","v":0},{"$f":"'A4-FinPerf RE'!K52","v":0},{"$f":"'A4-FinPerf RE'!L52","v":0}]
["Surplus/(Deficit) after income tax",null,{"$f":"+C51-C52","v":68737146.581157252},{"$f":"+D51-D52","v":68737146.581157252},68737146.581157252,68737146.581157252,68737146.581157252,68737146.581157252,68737146.581157252,68737146.581157252,68737146.581157252,68737146.581157252,68737146.581157252,109529772.81772965,865638385.21045899,815666605.19718862,1182647460.014183]
["Share of Surplus/Deficit attributable to Joint Venture",null,null,null,null,null,null,null,null,null,null,null,null,{"$f":"O54-SUM(C54:M54)","v":0},{"$f":"'A4-FinPerf RE'!J54","v":0},{"$f":"'A4-FinPerf RE'!K54","v":0},{"$f":"'A4-FinPerf RE'!L54","v":0}]
["Share of Surplus/Deficit attributable to Minorities",null,null,null,null,null,null,null,null,null,null,null,null,0,{"$f":"'A4-FinPerf RE'!J55","v":0},{"$f":"'A4-FinPerf RE'!K55","v":0},{"$f":"'A4-FinPerf RE'!L55","v":0}]
["Surplus/(Deficit) attributable to municipality",null,{"$f":"SUM(C53:C55)","v":68737146.581157252},{"$f":"SUM(D53:D55)","v":68737146.581157252},68737146.581157252,68737146.581157252,68737146.581157252,68737146.581157252,68737146.581157252,68737146.581157252,68737146.581157252,68737146.581157252,68737146.581157252,109529772.81772965,865638385.21045899,815666605.19718862,1182647460.014183]
["Share of Surplus/Deficit attributable to Associate",null,null,null,null,null,null,null,null,null,null,null,null,{"$f":"O57-SUM(C57:M57)","v":0},{"$f":"'A4-FinPerf RE'!J57","v":0},{"$f":"'A4-FinPerf RE'!K57","v":0},{"$f":"'A4-FinPerf RE'!L57","v":0}]
["Intercompany/Parent subsidiary transactions",null,null,null,null,null,null,null,null,null,null,null,null,0,{"$f":"'A4-FinPerf RE'!J58","v":0},{"$f":"'A4-FinPerf RE'!K58","v":0},{"$f":"'A4-FinPerf RE'!L58","v":0}]
[{"$f":"result","v":"Surplus/(Deficit) for the year"},1,{"$f":"SUM(C56:C58)","v":68737146.581157252},{"$f":"SUM(D56:D58)","v":68737146.581157252},68737146.581157252,68737146.581157252,68737146.581157252,68737146.581157252,68737146.581157252,68737146.581157252,68737146.581157252,68737146.581157252,68737146.581157252,109529772.81772965,865638385.21045899,815666605.19718862,1182647460.014183]
[{"$f":"head27a","v":"References"}]
["1. Surplus (Deficit) must reconcile with Budgeted Financial Performance"]
["check",null,null,null,null,null,null,null,null,null,null,null,null,null,{"$f":"O59-'A4-FinPerf RE'!J59","v":0},{"$f":"P59-'A4-FinPerf RE'!K59","v":0},{"$f":"Q59-'A4-FinPerf RE'!L59","v":0}]

{"sheet":"SA26","index":46,"n_rows":48,"n_cols":17,"rows_kept":48,"cut":false,"hidden":false,"merged":[[1,2,1,13],[1,14,1,16]]}
[{"$f":"muni&\" - \"&TableA26","v":"0 - Supporting Table SA26 Budgeted monthly revenue and expenditure (municipal vote)"}]
[{"$f":"desc","v":"Description"},{"$f":"head27","v":"Ref"},{"$f":"Head9","v":"Budget Year 2023/24"},null,null,null,null,null,null,null,null,null,null,null,"Medium Term Revenue and Expenditure Framework"]
["R thousand",null,"July","August","Sept.","October","November","December","January","February","March","April","May","June",{"$f":"Head9","v":"Budget Year 2023/24"},{"$f":"Head10","v":"Budget Year +1 2024/25"},{"$f":"Head11","v":"Budget Year +2 2025/26"}]
[{"$f":"'A3-FinPerf V'!A4","v":"Revenue by Vote"}]
[{"$f":"'A3-FinPerf V'!A5","v":"Vote 1 - City Manager"},null,null,null,null,null,null,null,null,null,null,null,null,{"$f":"O5-SUM(C5:M5)","v":0},{"$f":"'A3-FinPerf V'!I5","v":0},{"$f":"'A3-FinPerf V'!J5","v":0},{"$f":"'A3-FinPerf V'!K5","v":0}]
[{"$f":"'A3-FinPerf V'!A6","v":"Vote 2 - City Finance"},null,216345065.83395419,216345065.83395419,216345065.83395419,216345065.83395419,216345065.83395419,216345065.83395419,216345065.83395419,216345065.83395419,216345065.83395419,216345065.83395419,216345065.83395419,-36861127.184007168,{"$f":"'A3-FinPerf V'!I6","v":2342934596.9894886},{"$f":"'A3-FinPerf V'!J6","v":2471595104.627667},{"$f":"'A3-FinPerf V'!K6","v":2625593187.2712536}]
[{"$f":"'A3-FinPerf V'!A7","v":"Vote 3 - Corporate Services"},null,665018.08110833343,665018.08110833343,665018.08110833343,665018.08110833343,665018.08110833343,665018.08110833343,665018.08110833343,665018.08110833343,665018.08110833343,665018.08110833343,665018.08110833343,665018.08110833261,{"$f":"'A3-FinPerf V'!I7","v":7980216.9733000007},{"$f":"'A3-FinPerf V'!J7","v":3148276.6049917},{"$f":"'A3-FinPerf V'!K7","v":3296245.6054263096}]
[{"$f":"'A3-FinPerf V'!A8","v":"Vote 4 - Community Services and Social Equity"},null,41417764.390853502,41417764.390853502,41417764.390853502,41417764.390853502,41417764.390853502,41417764.390853502,41417764.390853502,41417764.390853502,41417764.390853502,41417764.390853502,41417764.390853502,41417764.390853465,{"$f":"'A3-FinPerf V'!I8","v":497013172.69024205},{"$f":"'A3-FinPerf V'!J8","v":513912687.24530405},{"$f":"'A3-FinPerf V'!K8","v":537992891.34992743}]
[{"$f":"'A3-FinPerf V'!A9","v":"Vote 5 - Infrastructure Services"},null,143796646.67139164,143796646.67139164,143796646.67139164,143796646.67139164,143796646.67139164,143796646.67139164,143796646.67139164,143796646.67139164,143796646.67139164,143796646.67139164,143796646.67139164,-61105967.366108418,{"$f":"'A3-FinPerf V'!I9","v":1520657146.0191998},{"$f":"'A3-FinPerf V'!J9","v":1620256216.9519873},{"$f":"'A3-FinPerf V'!K9","v":1696742341.1572068}]
[{"$f":"'A3-FinPerf V'!A10","v":"Vote 6 - Sustainable Development and City Enterprises"},null,16052447.167626441,16052447.167626441,16052447.167626441,16052447.167626441,16052447.167626441,16052447.167626441,16052447.167626441,16052447.167626441,16052447.167626441,16052447.167626441,16052447.167626441,23703447.167626441,{"$f":"'A3-FinPerf V'!I10","v":200280366.01151729},{"$f":"'A3-FinPerf V'!J10","v":202212592.39375246},{"$f":"'A3-FinPerf V'!K10","v":210118731.48021477}]
[{"$f":"'A3-FinPerf V'!A11","v":"Vote 7 - Electricity"},null,329155936.66475433,329155936.66475433,329155936.66475433,329155936.66475433,329155936.66475433,329155936.66475433,329155936.66475433,329155936.66475433,329155936.66475433,329155936.66475433,329155936.66475433,{"$f":"O11-SUM(C11:M11)","v":379845376.00395536},{"$f":"'A3-FinPerf V'!I11","v":4000560679.3162532},{"$f":"'A3-FinPerf V'!J11","v":4491770272.1762962},{"$f":"'A3-FinPerf V'!K11","v":5292597018.1359711}]
[{"$f":"'A3-FinPerf V'!A12","v":"Vote 8 - [NAME OF VOTE 8]"},null,null,null,null,null,null,null,null,null,null,null,null,{"$f":"O12-SUM(C12:M12)","v":0},{"$f":"'A3-FinPerf V'!I12","v":0},{"$f":"'A3-FinPerf V'!J12","v":0},{"$f":"'A3-FinPerf V'!K12","v":0}]
[{"$f":"'A3-FinPerf V'!A13","v":"Vote 9 - [NAME OF VOTE 9]"},null,null,null,null,null,null,null,null,null,null,null,null,{"$f":"O13-SUM(C13:M13)","v":0},{"$f":"'A3-FinPerf V'!I13","v":0},{"$f":"'A3-FinPerf V'!J13","v":0},{"$f":"'A3-FinPerf V'!K13","v":0}]
[{"$f":"'A3-FinPerf V'!A14","v":"Vote 10 - [NAME OF VOTE 10]"},null,null,null,null,null,null,null,null,null,null,null,null,{"$f":"O14-SUM(C14:M14)","v":0},{"$f":"'A3-FinPerf V'!I14","v":0},{"$f":"'A3-FinPerf V'!J14","v":0},{"$f":"'A3-FinPerf V'!K14","v":0}]
[{"$f":"'A3-FinPerf V'!A15","v":"Vote 11 - [NAME OF VOTE 11]"},null,null,null,null,null,null,null,null,null,null,null,null,0,{"$f":"'A3-FinPerf V'!I15","v":0},{"$f":"'A3-FinPerf V'!J15","v":0},{"$f":"'A3-FinPerf V'!K15","v":0}]
[{"$f":"'A3-FinPerf V'!A16","v":"Vote 12 - [NAME OF VOTE 12]"},null,null,null,null,null,null,null,null,null,null,null,null,0,{"$f":"'A3-FinPerf V'!I16","v":0},{"$f":"'A3-FinPerf V'!J16","v":0},{"$f":"'A3-FinPerf V'!K16","v":0}]
[{"$f":"'A3-FinPerf V'!A17","v":"Vote 13 - [NAME OF VOTE 13]"},null,null,null,null,null,null,null,null,null,null,null,null,0,{"$f":"'A3-FinPerf V'!I17","v":0},{"$f":"'A3-FinPerf V'!J17","v":0},{"$f":"'A3-FinPerf V'!K17","v":0}]
[{"$f":"'A3-FinPerf V'!A18","v":"Vote 14 - [NAME OF VOTE 14]"},null,null,null,null,null,null,null,null,null,null,null,null,0,{"$f":"'A3-FinPerf V'!I18","v":0},{"$f":"'A3-FinPerf V'!J18","v":0},{"$f":"'A3-FinPerf V'!K18","v":0}]
[{"$f":"'A3-FinPerf V'!A19","v":"Vote 15 - [NAME OF VOTE 15]"},null,null,null,null,null,null,null,null,null,null,null,null,0,{"$f":"'A3-FinPerf V'!I19","v":0},{"$f":"'A3-FinPerf V'!J19","v":0},{"$f":"'A3-FinPerf V'!K19","v":0}]
[{"$f":"'A3-FinPerf V'!A20","v":"Total Revenue by Vote"},null,{"$f":"SUM(C5:C19)","v":747432878.80968845},747432878.80968845,747432878.80968845,{"$f":"SUM(F5:F19)","v":747432878.80968845},747432878.80968845,747432878.80968845,747432878.80968845,747432878.80968845,747432878.80968845,747432878.80968845,747432878.80968845,347664511.09342802,8569426178,9302895150,10366340415]
[]
[{"$f":"'A3-FinPerf V'!A22","v":"Expenditure by Vote to be appropriated"}]
[{"$f":"A5","v":"Vote 1 - City Manager"},null,25008830.92251249,25008830.92251249,25008830.92251249,25008830.92251249,25008830.92251249,25008830.92251249,25008830.92251249,25008830.92251249,25008830.92251249,25008830.92251249,25008830.92251249,{"$f":"O23-SUM(C23:M23)","v":25008830.922512472},{"$f":"'A3-FinPerf V'!I23","v":300105971.0701499},{"$f":"'A3-FinPerf V'!J23","v":313749698.60030675},{"$f":"'A3-FinPerf V'!K23","v":327941318.94470441}]
["Vote 2 - City Finance",null,66436485.228457503,66436485.228457503,66436485.228457503,66436485.228457503,66436485.228457503,66436485.228457503,66436485.228457503,66436485.228457503,66436485.228457503,66436485.228457503,66436485.228457503,68386485.22845757,{"$f":"'A3-FinPerf V'!I24","v":799187822.74149001},{"$f":"'A3-FinPerf V'!J24","v":835918652.58300567},{"$f":"'A3-FinPerf V'!K24","v":874033756.4898597}]
["Vote 3 - Corporate Services",null,16302786.948364168,16302786.948364168,16302786.948364168,16302786.948364168,16302786.948364168,16302786.948364168,16302786.948364168,16302786.948364168,16302786.948364168,16302786.948364168,16302786.948364168,16302786.948364168,{"$f":"'A3-FinPerf V'!I25","v":195633443.38037002},{"$f":"'A3-FinPerf V'!J25","v":199465750.20164624},{"$f":"'A3-FinPerf V'!K25","v":208563317.88859463}]
["Vote 4 - Community Services and Social Equity",null,68954837.820001647,68954837.820001647,68954837.820001647,68954837.820001647,68954837.820001647,68954837.820001647,68954837.820001647,68954837.820001647,68954837.820001647,68954837.820001647,68954837.820001647,68954837.820001721,{"$f":"'A3-FinPerf V'!I26","v":827458053.8400197},{"$f":"'A3-FinPerf V'!J26","v":865408025.82646799},{"$f":"'A3-FinPerf V'!K26","v":905493807.32650614}]
["Vote 5 - Infrastructure Services",null,191947486.40542248,191947486.40542248,191947486.40542248,191947486.40542248,191947486.40542248,191947486.40542248,191947486.40542248,191947486.40542248,191947486.40542248,191947486.40542248,191947486.40542248,5827655.5129227638,{"$f":"'A3-FinPerf V'!I27","v":2117250005.9725699},{"$f":"'A3-FinPerf V'!J27","v":2229930567.7122083},{"$f":"'A3-FinPerf V'!K27","v":2332105416.8701296}]
["Vote 6 - Sustainable Development and City Enterprises",null,17925009.100820005,17925009.100820005,17925009.100820005,17925009.100820005,17925009.100820005,17925009.100820005,17925009.100820005,17925009.100820005,17925009.100820005,17925009.100820005,17925009.100820005,26832226.148650587,{"$f":"'A3-FinPerf V'!I28","v":224007326.25767064},{"$f":"'A3-FinPerf V'!J28","v":215568824.48431984},{"$f":"'A3-FinPerf V'!K28","v":213318280.94486776}]
["Vote 7 - Electricity",null,286678764.31147754,286678764.31147754,286678764.31147754,286678764.31147754,286678764.31147754,286678764.31147754,286678764.31147754,286678764.31147754,286678764.31147754,286678764.31147754,286678764.31147754,86678764.311476707,{"$f":"'A3-FinPerf V'!I29","v":3240145171.7377305},{"$f":"'A3-FinPerf V'!J29","v":3827187023.5920448},{"$f":"'A3-FinPerf V'!K29","v":4322237059.5353384}]
["Vote 8 - [NAME OF VOTE 8]",null,null,null,null,null,null,null,null,null,null,null,null,{"$f":"O30-SUM(C30:M30)","v":0},{"$f":"'A3-FinPerf V'!I30","v":0},{"$f":"'A3-FinPerf V'!J30","v":0},{"$f":"'A3-FinPerf V'!K30","v":0}]
["Vote 9 - [NAME OF VOTE 9]",null,null,null,null,null,null,null,null,null,null,null,null,{"$f":"O31-SUM(C31:M31)","v":0},{"$f":"'A3-FinPerf V'!I31","v":0},{"$f":"'A3-FinPerf V'!J31","v":0},{"$f":"'A3-FinPerf V'!K31","v":0}]
[{"$f":"A14","v":"Vote 10 - [NAME OF VOTE 10]"},null,null,null,null,null,null,null,null,null,null,null,null,{"$f":"O32-SUM(C32:M32)","v":0},{"$f":"'A3-FinPerf V'!I32","v":0},{"$f":"'A3-FinPerf V'!J32","v":0},{"$f":"'A3-FinPerf V'!K32","v":0}]
["Vote 11 - [NAME OF VOTE 11]",null,null,null,null,null,null,null,null,null,null,null,null,0,{"$f":"'A3-FinPerf V'!I33","v":0},{"$f":"'A3-FinPerf V'!J33","v":0},{"$f":"'A3-FinPerf V'!K33","v":0}]
["Vote 12 - [NAME OF VOTE 12]",null,null,null,null,null,null,null,null,null,null,null,null,0,{"$f":"'A3-FinPerf V'!I34","v":0},{"$f":"'A3-FinPerf V'!J34","v":0},{"$f":"'A3-FinPerf V'!K34","v":0}]
["Vote 13 - [NAME OF VOTE 13]",null,null,null,null,null,null,null,null,null,null,null,null,0,{"$f":"'A3-FinPerf V'!I35","v":0},{"$f":"'A3-FinPerf V'!J35","v":0},{"$f":"'A3-FinPerf V'!K35","v":0}]
["Vote 14 - [NAME OF VOTE 14]",null,null,null,null,null,null,null,null,null,null,null,null,0,{"$f":"'A3-FinPerf V'!I36","v":0},{"$f":"'A3-FinPerf V'!J36","v":0},{"$f":"'A3-FinPerf V'!K36","v":0}]
["Vote 15 - [NAME OF VOTE 15]",null,null,null,null,null,null,null,null,null,null,null,null,0,{"$f":"'A3-FinPerf V'!I37","v":0},{"$f":"'A3-FinPerf V'!J37","v":0},{"$f":"'A3-FinPerf V'!K37","v":0}]
[{"$f":"'A3-FinPerf V'!A38","v":"Total Expenditure by Vote"},null,{"$f":"SUM(C23:C37)","v":673254200.73705578},{"$f":"SUM(D23:D37)","v":673254200.73705578},673254200.73705578,673254200.73705578,673254200.73705578,673254200.73705578,673254200.73705578,673254200.73705578,673254200.73705578,673254200.73705578,673254200.73705578,297991586.89238596,{"$f":"SUM(O23:O37)","v":7703787795},{"$f":"SUM(P23:P37)","v":8487228543},{"$f":"SUM(Q23:Q37)","v":9183692958}]
[]
[{"$f":"'A4-FinPerf RE'!A48&\" before assoc.\"","v":"Surplus/(Deficit) before assoc."},null,{"$f":"C20-C38","v":74178678.07263267},74178678.07263267,74178678.07263267,74178678.07263267,74178678.07263267,74178678.07263267,74178678.07263267,74178678.07263267,74178678.07263267,74178678.07263267,74178678.07263267,49672924.201042056,865638383,815666607,1182647457]
[]
[{"$f":"'SA25'!A52","v":"Income Tax"},null,null,null,null,null,null,null,null,null,null,null,null,{"$f":"O42-SUM(C42:M42)","v":0},{"$f":"'SA25'!O52","v":0},{"$f":"'SA25'!P52","v":0},{"$f":"'SA25'!Q52","v":0}]
[{"$f":"'SA25'!A55","v":"Share of Surplus/Deficit attributable to Minorities"},null,null,null,null,null,null,null,null,null,null,null,null,{"$f":"O43-SUM(C43:M43)","v":0},{"$f":"'SA25'!O55","v":0},{"$f":"'SA25'!P55","v":0},{"$f":"'SA25'!Q55","v":0}]
[{"$f":"'A4-FinPerf RE'!A58","v":"Intercompany/Parent subsidiary transactions"},null,null,null,null,null,null,null,null,null,null,null,null,{"$f":"O44-SUM(C44:M44)","v":0},{"$f":"'A4-FinPerf RE'!J58","v":0},{"$f":"'A4-FinPerf RE'!K58","v":0},{"$f":"'A4-FinPerf RE'!L58","v":0}]
[{"$f":"'A4-FinPerf RE'!A48","v":"Surplus/(Deficit)"},1,{"$f":"C40+C44","v":74178678.07263267},{"$f":"D40+D44","v":74178678.07263267},74178678.07263267,74178678.07263267,74178678.07263267,74178678.07263267,74178678.07263267,74178678.07263267,74178678.07263267,74178678.07263267,74178678.07263267,49672924.201042056,865638383,815666607,1182647457]
[{"$f":"head27a","v":"References"}]
["1. Surplus (Deficit) must reconcile with Budgeted Financial Performance"]
["check",null,null,null,null,null,null,null,null,null,null,null,null,null,{"$f":"O45-'A4-FinPerf RE'!J59","v":-2.2104589939117432},{"$f":"P45-'A4-FinPerf RE'!K59","v":1.8028113842010498},{"$f":"Q45-'A4-FinPerf RE'!L59","v":-3.0141830444335938}]

{"sheet":"SA27","index":47,"n_rows":56,"n_cols":17,"rows_kept":56,"cut":false,"hidden":false,"merged":[[1,2,1,13],[1,14,1,16]]}
[{"$f":"muni&\" - \"&TableA27","v":"0 - Supporting Table SA27 Budgeted monthly revenue and expenditure (functional classification)"}]
[{"$f":"desc","v":"Description"},{"$f":"head27","v":"Ref"},{"$f":"Head9","v":"Budget Year 2023/24"},null,null,null,null,null,null,null,null,null,null,null,"Medium Term Revenue and Expenditure Framework"]
["R thousand",null,"July","August","Sept.","October","November","December","January","February","March","April","May","June",{"$f":"Head9","v":"Budget Year 2023/24"},{"$f":"Head10","v":"Budget Year +1 2024/25"},{"$f":"Head11","v":"Budget Year +2 2025/26"}]
[{"$f":"'A2-FinPerf SC'!A4","v":"Revenue - Functional"}]
[{"$f":"'A2-FinPerf SC'!A5","v":"Governance and administration"},null,{"$f":"SUM(C6:C8)","v":219082180.9852792},{"$f":"SUM(D6:D8)","v":219082180.9852792},{"$f":"SUM(E6:E8)","v":219082180.9852792},219082180.9852792,219082180.9852792,219082180.9852792,219082180.9852792,219082180.9852792,219082180.9852792,219082180.9852792,219082180.9852792,{"$f":"O5-SUM(C5:M5)","v":-34124012.032681465},{"$f":"'A2-FinPerf SC'!I5","v":2375779978.8053889},{"$f":"'A2-FinPerf SC'!J5","v":2499277464.1080379},{"$f":"'A2-FinPerf SC'!K5","v":2655166953.8806252}]
[{"$f":"'A2-FinPerf SC'!A6","v":"Executive and council"},null,414916.66666666669,414916.66666666669,414916.66666666669,414916.66666666669,414916.66666666669,414916.66666666669,414916.66666666669,414916.66666666669,414916.66666666669,414916.66666666669,414916.66666666669,414916.66666666698,{"$f":"'A2-FinPerf SC'!I6","v":4979000},{"$f":"'A2-FinPerf SC'!J6","v":0},{"$f":"'A2-FinPerf SC'!K6","v":0}]
[{"$f":"'A2-FinPerf SC'!A7","v":"Finance and administration"},null,218667264.31861255,218667264.31861255,218667264.31861255,218667264.31861255,218667264.31861255,218667264.31861255,218667264.31861255,218667264.31861255,218667264.31861255,218667264.31861255,218667264.31861255,-34538928.699348927,{"$f":"'A2-FinPerf SC'!I7","v":2370800978.8053889},{"$f":"'A2-FinPerf SC'!J7","v":2499277464.1080379},{"$f":"'A2-FinPerf SC'!K7","v":2655166953.8806252}]
[{"$f":"'A2-FinPerf SC'!A8","v":"Internal audit"},null,null,null,null,null,null,null,null,null,null,null,null,0,{"$f":"'A2-FinPerf SC'!I8","v":0},{"$f":"'A2-FinPerf SC'!J8","v":0},{"$f":"'A2-FinPerf SC'!K8","v":0}]
[{"$f":"'A2-FinPerf SC'!A9","v":"Community and public safety"},null,{"$f":"SUM(C10:C14)","v":27601301.251002587},{"$f":"SUM(D10:D14)","v":27601301.251002587},27601301.251002587,27601301.251002587,27601301.251002587,27601301.251002587,27601301.251002587,27601301.251002587,27601301.251002587,27601301.251002587,27601301.251002587,35252301.25100255,{"$f":"'A2-FinPerf SC'!I9","v":338866615.01203102},{"$f":"'A2-FinPerf SC'!J9","v":343724927.49745625},{"$f":"'A2-FinPerf SC'!K9","v":359601534.91820908}]
[{"$f":"'A2-FinPerf SC'!A10","v":"Community and social services"},null,23050237.020828169,23050237.020828169,23050237.020828169,23050237.020828169,23050237.020828169,23050237.020828169,23050237.020828169,23050237.020828169,23050237.020828169,23050237.020828169,23050237.020828169,23201237.020828217,{"$f":"'A2-FinPerf SC'!I10","v":276753844.24993801},{"$f":"'A2-FinPerf SC'!J10","v":282672023.158095},{"$f":"'A2-FinPerf SC'!K10","v":295768116.83094198}]
[{"$f":"'A2-FinPerf SC'!A11","v":"Sport and recreation"},null,1768610.8673550002,1768610.8673550002,1768610.8673550002,1768610.8673550002,1768610.8673550002,1768610.8673550002,1768610.8673550002,1768610.8673550002,1768610.8673550002,1768610.8673550002,1768610.8673550002,1768610.8673550002,{"$f":"'A2-FinPerf SC'!I11","v":21223330.408260003},{"$f":"'A2-FinPerf SC'!J11","v":22263273.598264743},{"$f":"'A2-FinPerf SC'!K11","v":23309647.457383178}]
[{"$f":"'A2-FinPerf SC'!A12","v":"Public safety"},null,714064.92264533334,714064.92264533334,714064.92264533334,714064.92264533334,714064.92264533334,714064.92264533334,714064.92264533334,714064.92264533334,714064.92264533334,714064.92264533334,714064.92264533334,714064.92264533415,{"$f":"'A2-FinPerf SC'!I12","v":8568779.0717440005},{"$f":"'A2-FinPerf SC'!J12","v":8988649.2462594546},{"$f":"'A2-FinPerf SC'!K12","v":9411115.7608336471}]
[{"$f":"'A2-FinPerf SC'!A13","v":"Housing"},null,2068388.440174083,2068388.440174083,2068388.440174083,2068388.440174083,2068388.440174083,2068388.440174083,2068388.440174083,2068388.440174083,2068388.440174083,2068388.440174083,2068388.440174083,9568388.4401740804,{"$f":"'A2-FinPerf SC'!I13","v":32320661.282088995},{"$f":"'A2-FinPerf SC'!J13","v":29800981.494837027},{"$f":"'A2-FinPerf SC'!K13","v":31112654.869050343}]
[{"$f":"'A2-FinPerf SC'!A14","v":"Health"},null,null,null,null,null,null,null,null,null,null,null,null,0,{"$f":"'A2-FinPerf SC'!I14","v":0},{"$f":"'A2-FinPerf SC'!J14","v":0},{"$f":"'A2-FinPerf SC'!K14","v":0}]
[{"$f":"'A2-FinPerf SC'!A15","v":"Economic and environmental services"},null,{"$f":"SUM(C16:C18)","v":4633412.2872735355},{"$f":"SUM(D16:D18)","v":4633412.2872735355},4633412.2872735355,4633412.2872735355,4633412.2872735355,4633412.2872735355,4633412.2872735355,4633412.2872735355,4633412.2872735355,4633412.2872735355,4633412.2872735355,4633412.2872735485,{"$f":"'A2-FinPerf SC'!I15","v":55600947.447282426},{"$f":"'A2-FinPerf SC'!J15","v":47167489.110480599},{"$f":"'A2-FinPerf SC'!K15","v":47974361.09867318}]
[{"$f":"'A2-FinPerf SC'!A16","v":"Planning and development"},null,3973715.1800985355,3973715.1800985355,3973715.1800985355,3973715.1800985355,3973715.1800985355,3973715.1800985355,3973715.1800985355,3973715.1800985355,3973715.1800985355,3973715.1800985355,3973715.1800985355,3973715.1800985485,{"$f":"'A2-FinPerf SC'!I16","v":47684582.161182426},{"$f":"'A2-FinPerf SC'!J16","v":45825734.207385167},{"$f":"'A2-FinPerf SC'!K16","v":46569543.715132266}]
[{"$f":"'A2-FinPerf SC'!A17","v":"Road transport"},null,0,0,0,0,0,0,0,0,0,0,0,0,{"$f":"'A2-FinPerf SC'!I17","v":0},{"$f":"'A2-FinPerf SC'!J17","v":0},{"$f":"'A2-FinPerf SC'!K17","v":0}]
[{"$f":"'A2-FinPerf SC'!A18","v":"Environmental protection"},null,659697.10717500013,659697.10717500013,659697.10717500013,659697.10717500013,659697.10717500013,659697.10717500013,659697.10717500013,659697.10717500013,659697.10717500013,659697.10717500013,659697.10717500013,659697.10717500001,{"$f":"'A2-FinPerf SC'!I18","v":7916365.2861000011},{"$f":"'A2-FinPerf SC'!J18","v":1341754.9030954284},{"$f":"'A2-FinPerf SC'!K18","v":1404817.3835409135}]
[{"$f":"'A2-FinPerf SC'!A19","v":"Trading services"},null,{"$f":"SUM(C20:C23)","v":487695599.5973869},{"$f":"SUM(D20:D23)","v":487695599.5973869},487695599.5973869,487695599.5973869,487695599.5973869,487695599.5973869,487695599.5973869,487695599.5973869,487695599.5973869,487695599.5973869,487695599.5973869,{"$f":"O19-SUM(C19:M19)","v":333482424.899086},{"$f":"'A2-FinPerf SC'!I19","v":5698134020.4703426},{"$f":"'A2-FinPerf SC'!J19","v":6299141016.1405859},{"$f":"'A2-FinPerf SC'!K19","v":7184674852.0613136}]
[{"$f":"'A2-FinPerf SC'!A20","v":"Energy sources"},null,331505533.85633689,331505533.85633689,331505533.85633689,331505533.85633689,331505533.85633689,331505533.85633689,331505533.85633689,331505533.85633689,331505533.85633689,331505533.85633689,331505533.85633689,382194973.19553709,{"$f":"'A2-FinPerf SC'!I20","v":4028755845.6152434},{"$f":"'A2-FinPerf SC'!J20","v":4521615547.7464094},{"$f":"'A2-FinPerf SC'!K20","v":5323721088.8283806}]
[{"$f":"'A2-FinPerf SC'!A21","v":"Water management"},null,125488389.15699583,125488389.15699583,125488389.15699583,125488389.15699583,125488389.15699583,125488389.15699583,125488389.15699583,125488389.15699583,125488389.15699583,125488389.15699583,125488389.15699583,-79414224.880503893,{"$f":"'A2-FinPerf SC'!I21","v":1300958055.8464499},{"$f":"'A2-FinPerf SC'!J21","v":1391052514.0007725},{"$f":"'A2-FinPerf SC'!K21","v":1456299660.763361}]
[{"$f":"'A2-FinPerf SC'!A22","v":"Waste water management"},null,17470501.322979171,17470501.322979171,17470501.322979171,17470501.322979171,17470501.322979171,17470501.322979171,17470501.322979171,17470501.322979171,17470501.322979171,17470501.322979171,17470501.322979171,17470501.322979122,{"$f":"'A2-FinPerf SC'!I22","v":209646015.87575004},{"$f":"'A2-FinPerf SC'!J22","v":219918670.6536617},{"$f":"'A2-FinPerf SC'!K22","v":230254848.17438382}]
[{"$f":"'A2-FinPerf SC'!A23","v":"Waste management"},null,13231175.261074999,13231175.261074999,13231175.261074999,13231175.261074999,13231175.261074999,13231175.261074999,13231175.261074999,13231175.261074999,13231175.261074999,13231175.261074999,13231175.261074999,13231175.26107499,{"$f":"'A2-FinPerf SC'!I23","v":158774103.1329},{"$f":"'A2-FinPerf SC'!J23","v":166554283.73974228},{"$f":"'A2-FinPerf SC'!K23","v":174399254.29518774}]
[{"$f":"'A2-FinPerf SC'!A24","v":"Other"},null,8420384.6887463201,8420384.6887463201,8420384.6887463201,8420384.6887463201,8420384.6887463201,8420384.6887463201,8420384.6887463201,8420384.6887463201,8420384.6887463201,8420384.6887463201,8420384.6887463201,8420384.6887463331,{"$f":"'A2-FinPerf SC'!I24","v":101044616.26495585},{"$f":"'A2-FinPerf SC'!J24","v":113584253.14343685},{"$f":"'A2-FinPerf SC'!K24","v":118922713.04117841}]
[{"$f":"'A2-FinPerf SC'!A25","v":"Total Revenue - Functional"},null,{"$f":"C5+C9+C15+C19+C24","v":747432878.80968857},747432878.80968857,747432878.80968857,747432878.80968857,747432878.80968857,747432878.80968857,747432878.80968857,747432878.80968857,747432878.80968857,747432878.80968857,747432878.80968857,347664511.09342694,8569426178,9302895149.9999962,10366340414.999998]
[null,null,null,{"$f":"D6+D10+D16+D20+D25","v":1106377281.5336189},1106377281.5336189,1106377281.5336189,1106377281.5336189,1106377281.5336189,1106377281.5336189,1106377281.5336189,1106377281.5336189,1106377281.5336189,{"$f":"M6+M10+M16+M20+M25","v":1106377281.5336189}]
[{"$f":"'A2-FinPerf SC'!A27","v":"Expenditure - Functional"}]
[{"$f":"'A2-FinPerf SC'!A28","v":"Governance and administration"},null,{"$f":"SUM(C29:C31)","v":123216896.59210084},{"$f":"SUM(D29:D31)","v":123216896.59210084},{"$f":"SUM(E29:E31)","v":123216896.59210084},123216896.59210084,123216896.59210084,123216896.59210084,123216896.59210084,123216896.59210084,123216896.59210084,123216896.59210084,123216896.59210084,{"$f":"O28-SUM(C28:M28)","v":125166896.59210086},{"$f":"'A2-FinPerf SC'!I28","v":1480552759.1052101},{"$f":"'A2-FinPerf SC'!J28","v":1542103257.2794719},{"$f":"'A2-FinPerf SC'!K28","v":1613275975.6195669}]
[{"$f":"'A2-FinPerf SC'!A29","v":"Executive and council"},null,21526669.254472498,21526669.254472498,21526669.254472498,21526669.254472498,21526669.254472498,21526669.254472498,21526669.254472498,21526669.254472498,21526669.254472498,21526669.254472498,21526669.254472498,21526669.254472524,{"$f":"'A2-FinPerf SC'!I29","v":258320031.05366999},{"$f":"'A2-FinPerf SC'!J29","v":264803117.2082448},{"$f":"'A2-FinPerf SC'!K29","v":276751639.985246}]
[{"$f":"'A2-FinPerf SC'!A30","v":"Finance and administration"},null,99318974.382303342,99318974.382303342,99318974.382303342,99318974.382303342,99318974.382303342,99318974.382303342,99318974.382303342,99318974.382303342,99318974.382303342,99318974.382303342,99318974.382303342,101268974.38230324,{"$f":"'A2-FinPerf SC'!I30","v":1193777692.58764},{"$f":"'A2-FinPerf SC'!J30","v":1247497428.0114515},{"$f":"'A2-FinPerf SC'!K30","v":1305345255.1318555}]
[{"$f":"'A2-FinPerf SC'!A31","v":"Internal audit"},null,2371252.9553250005,2371252.9553250005,2371252.9553250005,2371252.9553250005,2371252.9553250005,2371252.9553250005,2371252.9553250005,2371252.9553250005,2371252.9553250005,2371252.9553250005,2371252.9553250005,2371252.955325,{"$f":"'A2-FinPerf SC'!I31","v":28455035.463900004},{"$f":"'A2-FinPerf SC'!J31","v":29802712.059775505},{"$f":"'A2-FinPerf SC'!K31","v":31179080.502465397}]
[{"$f":"'A2-FinPerf SC'!A32","v":"Community and public safety"},null,{"$f":"SUM(C33:C37)","v":43906369.194794998},{"$f":"SUM(D33:D37)","v":43906369.194794998},43906369.194794998,43906369.194794998,43906369.194794998,43906369.194794998,43906369.194794998,43906369.194794998,43906369.194794998,43906369.194794998,43906369.194794998,52813586.242625415,{"$f":"'A2-FinPerf SC'!I32","v":535783647.38537049},{"$f":"'A2-FinPerf SC'!J32","v":542802873.62134409},{"$f":"'A2-FinPerf SC'!K32","v":556136755.76124573}]
[{"$f":"'A2-FinPerf SC'!A33","v":"Community and social services"},null,11324416.797860831,11324416.797860831,11324416.797860831,11324416.797860831,11324416.797860831,11324416.797860831,11324416.797860831,11324416.797860831,11324416.797860831,11324416.797860831,11324416.797860831,11324416.797860831,{"$f":"'A2-FinPerf SC'!I33","v":135893001.57432997},{"$f":"'A2-FinPerf SC'!J33","v":142179459.39971715},{"$f":"'A2-FinPerf SC'!K33","v":149432538.67917544}]
[{"$f":"'A2-FinPerf SC'!A34","v":"Sport and recreation"},null,10868724.086309163,10868724.086309163,10868724.086309163,10868724.086309163,10868724.086309163,10868724.086309163,10868724.086309163,10868724.086309163,10868724.086309163,10868724.086309163,10868724.086309163,10868724.086309165,{"$f":"'A2-FinPerf SC'!I34","v":130424689.03570996},{"$f":"'A2-FinPerf SC'!J34","v":136399028.7017464},{"$f":"'A2-FinPerf SC'!K34","v":142592177.42519572}]
[{"$f":"'A2-FinPerf SC'!A35","v":"Public safety"},null,18166259.580374997,18166259.580374997,18166259.580374997,18166259.580374997,18166259.580374997,18166259.580374997,18166259.580374997,18166259.580374997,18166259.580374997,18166259.580374997,18166259.580374997,20856640.628205597,{"$f":"'A2-FinPerf SC'!I35","v":220685496.01233053},{"$f":"'A2-FinPerf SC'!J35","v":213467615.50143355},{"$f":"'A2-FinPerf SC'!K35","v":211306049.73158419}]
[{"$f":"'A2-FinPerf SC'!A36","v":"Housing"},null,2420540.2841833336,2420540.2841833336,2420540.2841833336,2420540.2841833336,2420540.2841833336,2420540.2841833336,2420540.2841833336,2420540.2841833336,2420540.2841833336,2420540.2841833336,2420540.2841833336,8637376.2841833234,{"$f":"'A2-FinPerf SC'!I36","v":35263319.4102},{"$f":"'A2-FinPerf SC'!J36","v":36629554.104770996},{"$f":"'A2-FinPerf SC'!K36","v":38042103.517098933}]
[{"$f":"'A2-FinPerf SC'!A37","v":"Health"},null,1126428.4460666664,1126428.4460666664,1126428.4460666664,1126428.4460666664,1126428.4460666664,1126428.4460666664,1126428.4460666664,1126428.4460666664,1126428.4460666664,1126428.4460666664,1126428.4460666664,1126428.4460666664,{"$f":"'A2-FinPerf SC'!I37","v":13517141.352799997},{"$f":"'A2-FinPerf SC'!J37","v":14127215.913676001},{"$f":"'A2-FinPerf SC'!K37","v":14763886.408191418}]
[{"$f":"'A2-FinPerf SC'!A38","v":"Economic and environmental services"},null,{"$f":"SUM(C39:C41)","v":42801752.561319992},{"$f":"SUM(D39:D41)","v":42801752.561319992},42801752.561319992,42801752.561319992,42801752.561319992,42801752.561319992,42801752.561319992,42801752.561319992,42801752.561319992,42801752.561319992,42801752.561319992,{"$f":"O38-SUM(C38:M38)","v":42801752.561319947},{"$f":"'A2-FinPerf SC'!I38","v":513621030.73583996},{"$f":"'A2-FinPerf SC'!J38","v":536409574.6590395},{"$f":"'A2-FinPerf SC'!K38","v":560925958.92847204}]
[{"$f":"'A2-FinPerf SC'!A39","v":"Planning and development"},null,7071901.5977450004,7071901.5977450004,7071901.5977450004,7071901.5977450004,7071901.5977450004,7071901.5977450004,7071901.5977450004,7071901.5977450004,7071901.5977450004,7071901.5977450004,7071901.5977450004,7071901.5977450013,{"$f":"'A2-FinPerf SC'!I39","v":84862819.172940001},{"$f":"'A2-FinPerf SC'!J39","v":87699044.716661274},{"$f":"'A2-FinPerf SC'!K39","v":91678229.837063491}]
[{"$f":"'A2-FinPerf SC'!A40","v":"Road transport"},null,33539639.263929162,33539639.263929162,33539639.263929162,33539639.263929162,33539639.263929162,33539639.263929162,33539639.263929162,33539639.263929162,33539639.263929162,33539639.263929162,33539639.263929162,33539639.263929129,{"$f":"'A2-FinPerf SC'!I40","v":402475671.16714996},{"$f":"'A2-FinPerf SC'!J40","v":421231370.1044715},{"$f":"'A2-FinPerf SC'!K40","v":440524713.82307553}]
[{"$f":"'A2-FinPerf SC'!A41","v":"Environmental protection"},null,2190211.6996458336,2190211.6996458336,2190211.6996458336,2190211.6996458336,2190211.6996458336,2190211.6996458336,2190211.6996458336,2190211.6996458336,2190211.6996458336,2190211.6996458336,2190211.6996458336,2190211.6996458396,{"$f":"'A2-FinPerf SC'!I41","v":26282540.395750005},{"$f":"'A2-FinPerf SC'!J41","v":27479159.837906741},{"$f":"'A2-FinPerf SC'!K41","v":28723015.268333077}]
[{"$f":"'A2-FinPerf SC'!A42","v":"Trading services"},null,{"$f":"SUM(C43:C46)","v":457997675.15095663},{"$f":"SUM(D43:D46)","v":457997675.15095663},457997675.15095663,457997675.15095663,457997675.15095663,457997675.15095663,457997675.15095663,457997675.15095663,457997675.15095663,457997675.15095663,457997675.15095663,{"$f":"O42-SUM(C42:M42)","v":71877844.258457184},{"$f":"'A2-FinPerf SC'!I42","v":5109852270.9189796},{"$f":"'A2-FinPerf SC'!J42","v":5799171443.7353601},{"$f":"'A2-FinPerf SC'!K42","v":6383560579.1212807}]
[{"$f":"'A2-FinPerf SC'!A43","v":"Energy sources"},null,290815963.30746907,290815963.30746907,290815963.30746907,290815963.30746907,290815963.30746907,290815963.30746907,290815963.30746907,290815963.30746907,290815963.30746907,290815963.30746907,290815963.30746907,90815963.307469845,{"$f":"'A2-FinPerf SC'!I43","v":3289791559.6896291},{"$f":"'A2-FinPerf SC'!J43","v":3880684085.4224238},{"$f":"'A2-FinPerf SC'!K43","v":4376467642.4245243}]
[{"$f":"'A2-FinPerf SC'!A44","v":"Water management"},null,123273067.03311992,123273067.03311992,123273067.03311992,123273067.03311992,123273067.03311992,123273067.03311992,123273067.03311992,123273067.03311992,123273067.03311992,123273067.03311992,123273067.03311992,-62846763.859380007,{"$f":"'A2-FinPerf SC'!I44","v":1293156973.5049391},{"$f":"'A2-FinPerf SC'!J44","v":1355688448.0384879},{"$f":"'A2-FinPerf SC'!K44","v":1418970449.1259158}]
[{"$f":"'A2-FinPerf SC'!A45","v":"Waste water management"},null,33275001.936424296,33275001.936424296,33275001.936424296,33275001.936424296,33275001.936424296,33275001.936424296,33275001.936424296,33275001.936424296,33275001.936424296,33275001.936424296,33275001.936424296,33275001.936424255,{"$f":"'A2-FinPerf SC'!I45","v":399300023.23709154},{"$f":"'A2-FinPerf SC'!J45","v":429298391.728275},{"$f":"'A2-FinPerf SC'!K45","v":448533338.63240778}]
[{"$f":"'A2-FinPerf SC'!A46","v":"Waste management"},null,10633642.873943351,10633642.873943351,10633642.873943351,10633642.873943351,10633642.873943351,10633642.873943351,10633642.873943351,10633642.873943351,10633642.873943351,10633642.873943351,10633642.873943351,10633642.873943329,{"$f":"'A2-FinPerf SC'!I46","v":127603714.48732021},{"$f":"'A2-FinPerf SC'!J46","v":133500518.54617307},{"$f":"'A2-FinPerf SC'!K46","v":139589148.93843222}]
[{"$f":"'A2-FinPerf SC'!A47","v":"Other"},null,5331507.237883334,5331507.237883334,5331507.237883334,5331507.237883334,5331507.237883334,5331507.237883334,5331507.237883334,5331507.237883334,5331507.237883334,5331507.237883334,5331507.237883334,5331507.2378833294,{"$f":"'A2-FinPerf SC'!I47","v":63978086.854600012},{"$f":"'A2-FinPerf SC'!J47","v":66741393.704784997},{"$f":"'A2-FinPerf SC'!K47","v":69793688.569436654}]
[{"$f":"'A2-FinPerf SC'!A48","v":"Total Expenditure - Functional"},null,{"$f":"C28+C32+C38+C42+C47","v":673254200.73705578},{"$f":"D28+D32+D38+D42+D47","v":673254200.73705578},673254200.73705578,673254200.73705578,673254200.73705578,673254200.73705578,673254200.73705578,673254200.73705578,673254200.73705578,673254200.73705578,673254200.73705578,297991586.89238673,7703787795,8487228543.000001,{"$f":"Q28+Q32+Q38+Q42+Q47","v":9183692958.0000019}]
[]
[{"$f":"'A4-FinPerf RE'!A48&\" before assoc.\"","v":"Surplus/(Deficit) before assoc."},null,{"$f":"C25-C48","v":74178678.07263279},74178678.07263279,74178678.07263279,74178678.07263279,74178678.07263279,74178678.07263279,74178678.07263279,74178678.07263279,74178678.07263279,74178678.07263279,74178678.07263279,49672924.201040208,865638383,815666606.99999523,1182647456.9999962]
[]
[{"$f":"'A4-FinPerf RE'!A58","v":"Intercompany/Parent subsidiary transactions"},null,null,null,null,null,null,null,null,null,null,null,null,{"$f":"O52-SUM(C52:M52)","v":0},{"$f":"'A4-FinPerf RE'!J58","v":0},{"$f":"'A4-FinPerf RE'!K58","v":0},{"$f":"'A4-FinPerf RE'!L58","v":0}]
[{"$f":"'A4-FinPerf RE'!A48","v":"Surplus/(Deficit)"},1,{"$f":"C50+C52","v":74178678.07263279},{"$f":"D50+D52","v":74178678.07263279},74178678.07263279,74178678.07263279,74178678.07263279,74178678.07263279,74178678.07263279,74178678.07263279,74178678.07263279,74178678.07263279,74178678.07263279,49672924.201040208,865638383,815666606.99999523,1182647456.9999962]
[{"$f":"head27a","v":"References"}]
["1. Surplus (Deficit) must reconcile with Budeted Financial Performance"]
["check",null,null,null,null,null,null,null,null,null,null,null,null,null,{"$f":"O53-'A4-FinPerf RE'!J59","v":-2.2104589939117432},{"$f":"P53-'A4-FinPerf RE'!K59","v":1.8028066158294678},{"$f":"Q53-'A4-FinPerf RE'!L59","v":-3.0141868591308594}]

{"sheet":"SA28","index":48,"n_rows":47,"n_cols":18,"rows_kept":47,"cut":false,"hidden":false,"merged":[[1,2,1,13],[1,14,1,16]]}
[{"$f":"muni&\" - \"& TableA28","v":"0 - Supporting Table SA28 Budgeted monthly capital expenditure (municipal vote)"}]
[{"$f":"desc","v":"Description"},{"$f":"head27","v":"Ref"},{"$f":"Head9","v":"Budget Year 2023/24"},null,null,null,null,null,null,null,null,null,null,null,"Medium Term Revenue and Expenditure Framework"]
["R thousand",null,"July","August","Sept.","October","Nov.","Dec.","January","Feb.","March","April","May","June",{"$f":"Head9","v":"Budget Year 2023/24"},{"$f":"Head10","v":"Budget Year +1 2024/25"},{"$f":"Head11","v":"Budget Year +2 2025/26"}]
["Multi-year expenditure to be appropriated",1]
[{"$f":"'A5-Capex'!A6","v":"Vote 1 - City Manager"},null,null,null,null,null,null,null,null,null,null,null,null,{"$f":"O5-SUM(C5:M5)","v":0},{"$f":"'A5-Capex'!J6","v":0},{"$f":"'A5-Capex'!K6","v":0},{"$f":"'A5-Capex'!L6","v":0}]
[{"$f":"'A5-Capex'!A7","v":"Vote 2 - City Finance"},null,2500000,2500000,2500000,2500000,2500000,2500000,2500000,2500000,2500000,2500000,2500000,{"$f":"O6-SUM(C6:M6)","v":2500000},{"$f":"'A5-Capex'!J7","v":30000000},{"$f":"'A5-Capex'!K7","v":30000000},{"$f":"'A5-Capex'!L7","v":30000000}]
[{"$f":"'A5-Capex'!A8","v":"Vote 3 - Corporate Services"},null,833333.33333333337,833333.33333333337,833333.33333333337,833333.33333333337,833333.33333333337,833333.33333333337,833333.33333333337,833333.33333333337,833333.33333333337,833333.33333333337,833333.33333333337,833333.33333333395,{"$f":"'A5-Capex'!J8","v":10000000},{"$f":"'A5-Capex'!K8","v":10000000},{"$f":"'A5-Capex'!L8","v":10000000}]
[{"$f":"'A5-Capex'!A9","v":"Vote 4 - Community Services and Social Equity"},null,2402208.3333333335,2402208.3333333335,2402208.3333333335,2402208.3333333335,2402208.3333333335,2402208.3333333335,2402208.3333333335,2402208.3333333335,2402208.3333333335,2402208.3333333335,2402208.3333333335,-1537792.6166667119,{"$f":"'A5-Capex'!J9","v":24886499.049999952},{"$f":"'A5-Capex'!K9","v":17455350},{"$f":"'A5-Capex'!L9","v":26864880}]
[{"$f":"'A5-Capex'!A10","v":"Vote 5 - Infrastructure Services"},null,26508511.666666668,26508511.666666668,26508511.666666668,26508511.666666668,26508511.666666668,26508511.666666668,26508511.666666668,26508511.666666668,26508511.666666668,26508511.666666668,26508511.666666668,26508511.666666687,{"$f":"'A5-Capex'!J10","v":318102140},{"$f":"'A5-Capex'!K10","v":342432645},{"$f":"'A5-Capex'!L10","v":305181156.10000002}]
[{"$f":"'A5-Capex'!A11","v":"Vote 6 - Sustainable Development and City Enterprises"},null,833333.33333333337,833333.33333333337,833333.33333333337,833333.33333333337,833333.33333333337,833333.33333333337,833333.33333333337,833333.33333333337,833333.33333333337,833333.33333333337,833333.33333333337,135578748.28333333,{"$f":"'A5-Capex'!J11","v":144745414.94999999},{"$f":"'A5-Capex'!K11","v":6977496.2000000002},{"$f":"'A5-Capex'!L11","v":700000}]
[{"$f":"'A5-Capex'!A12","v":"Vote 7 - Electricity"},null,14616666.666666666,14616666.666666666,14616666.666666666,14616666.666666666,14616666.666666666,14616666.666666666,14616666.666666666,14616666.666666666,14616666.666666666,14616666.666666666,14616666.666666666,14616666.666666657,{"$f":"'A5-Capex'!J12","v":175400000},{"$f":"'A5-Capex'!K12","v":128967852},{"$f":"'A5-Capex'!L12","v":29632523.899999999},{"$f":"O11/12","v":14616666.666666666}]
[{"$f":"'A5-Capex'!A13","v":"Vote 8 - [NAME OF VOTE 8]"},null,null,null,null,null,null,null,null,null,null,null,null,{"$f":"O12-SUM(C12:M12)","v":0},{"$f":"'A5-Capex'!J13","v":0},{"$f":"'A5-Capex'!K13","v":0},{"$f":"'A5-Capex'!L13","v":0}]
[{"$f":"'A5-Capex'!A14","v":"Vote 9 - [NAME OF VOTE 9]"},null,null,null,null,null,null,null,null,null,null,null,null,{"$f":"O13-SUM(C13:M13)","v":0},{"$f":"'A5-Capex'!J14","v":0},{"$f":"'A5-Capex'!K14","v":0},{"$f":"'A5-Capex'!L14","v":0}]
[{"$f":"'A5-Capex'!A15","v":"Vote 10 - [NAME OF VOTE 10]"},null,null,null,null,null,null,null,null,null,null,null,null,{"$f":"O14-SUM(C14:M14)","v":0},{"$f":"'A5-Capex'!J15","v":0},{"$f":"'A5-Capex'!K15","v":0},{"$f":"'A5-Capex'!L15","v":0}]
[{"$f":"'A5-Capex'!A16","v":"Vote 11 - [NAME OF VOTE 11]"},null,null,null,null,null,null,null,null,null,null,null,null,0,{"$f":"'A5-Capex'!J16","v":0},{"$f":"'A5-Capex'!K16","v":0},{"$f":"'A5-Capex'!L16","v":0}]
[{"$f":"'A5-Capex'!A17","v":"Vote 12 - [NAME OF VOTE 12]"},null,null,null,null,null,null,null,null,null,null,null,null,0,{"$f":"'A5-Capex'!J17","v":0},{"$f":"'A5-Capex'!K17","v":0},{"$f":"'A5-Capex'!L17","v":0}]
[{"$f":"'A5-Capex'!A18","v":"Vote 13 - [NAME OF VOTE 13]"},null,null,null,null,null,null,null,null,null,null,null,null,0,{"$f":"'A5-Capex'!J18","v":0},{"$f":"'A5-Capex'!K18","v":0},{"$f":"'A5-Capex'!L18","v":0}]
[{"$f":"'A5-Capex'!A19","v":"Vote 14 - [NAME OF VOTE 14]"},null,null,null,null,null,null,null,null,null,null,null,null,0,{"$f":"'A5-Capex'!J19","v":0},{"$f":"'A5-Capex'!K19","v":0},{"$f":"'A5-Capex'!L19","v":0}]
[{"$f":"'A5-Capex'!A20","v":"Vote 15 - [NAME OF VOTE 15]"},null,null,null,null,null,null,null,null,null,null,null,null,0,{"$f":"'A5-Capex'!J20","v":0},{"$f":"'A5-Capex'!K20","v":0},{"$f":"'A5-Capex'!L20","v":0}]
["Capital multi-year expenditure sub-total",2,{"$f":"SUM(C5:C19)","v":47694053.333333336},{"$f":"SUM(D5:D19)","v":47694053.333333336},47694053.333333336,47694053.333333336,47694053.333333336,47694053.333333336,47694053.333333336,47694053.333333336,47694053.333333336,47694053.333333336,{"$f":"SUM(M5:M19)","v":47694053.333333336},178499467.33333328,703134054,535833343.19999999,402378560]
[]
["Single-year expenditure to be appropriated"]
[{"$f":"'A5-Capex'!A24","v":"Vote 1 - City Manager"},null,416666.66666666669,416666.66666666669,416666.66666666669,416666.66666666669,416666.66666666669,416666.66666666669,416666.66666666669,416666.66666666669,416666.66666666669,416666.66666666669,416666.66666666669,{"$f":"O23-SUM(C23:M23)","v":416666.66666666698},{"$f":"'A5-Capex'!J24","v":5000000},{"$f":"'A5-Capex'!K24","v":0},{"$f":"'A5-Capex'!L24","v":0}]
[{"$f":"'A5-Capex'!A25","v":"Vote 2 - City Finance"},null,0,0,0,0,0,0,0,0,0,0,0,{"$f":"O24-SUM(C24:M24)","v":0},{"$f":"'A5-Capex'!J25","v":0},{"$f":"'A5-Capex'!K25","v":0},{"$f":"'A5-Capex'!L25","v":0}]
[{"$f":"'A5-Capex'!A26","v":"Vote 3 - Corporate Services"},null,833333.33333333337,833333.33333333337,833333.33333333337,833333.33333333337,833333.33333333337,833333.33333333337,833333.33333333337,833333.33333333337,833333.33333333337,833333.33333333337,833333.33333333337,833333.33333333395,{"$f":"'A5-Capex'!J26","v":10000000},{"$f":"'A5-Capex'!K26","v":10000000},{"$f":"'A5-Capex'!L26","v":10000000}]
[{"$f":"'A5-Capex'!A27","v":"Vote 4 - Community Services and Social Equity"},null,0,0,0,0,0,0,0,0,0,0,0,4000000,{"$f":"'A5-Capex'!J27","v":4000000},{"$f":"'A5-Capex'!K27","v":0},{"$f":"'A5-Capex'!L27","v":0}]
[{"$f":"'A5-Capex'!A28","v":"Vote 5 - Infrastructure Services"},null,416666.66666666669,416666.66666666669,416666.66666666669,416666.66666666669,416666.66666666669,416666.66666666669,416666.66666666669,416666.66666666669,416666.66666666669,416666.66666666669,416666.66666666669,416666.66666666698,{"$f":"'A5-Capex'!J28","v":5000000},{"$f":"'A5-Capex'!K28","v":5000000},{"$f":"'A5-Capex'!L28","v":5000000}]
[{"$f":"'A5-Capex'!A29","v":"Vote 6 - Sustainable Development and City Enterprises"},null,3460583.3333333335,3460583.3333333335,3460583.3333333335,3460583.3333333335,3460583.3333333335,3460583.3333333335,3460583.3333333335,3460583.3333333335,3460583.3333333335,3460583.3333333335,3460583.3333333335,-40416.666666664183,{"$f":"'A5-Capex'!J29","v":38026000},{"$f":"'A5-Capex'!K29","v":30476000},{"$f":"'A5-Capex'!L29","v":30503000}]
[{"$f":"'A5-Capex'!A30","v":"Vote 7 - Electricity"},null,300000,300000,300000,300000,300000,300000,300000,300000,300000,300000,300000,300000,{"$f":"'A5-Capex'!J30","v":3600000},{"$f":"'A5-Capex'!K30","v":0},{"$f":"'A5-Capex'!L30","v":0}]
[{"$f":"'A5-Capex'!A31","v":"Vote 8 - [NAME OF VOTE 8]"},null,null,null,null,null,null,null,null,null,null,null,null,{"$f":"O30-SUM(C30:M30)","v":0},{"$f":"'A5-Capex'!J31","v":0},{"$f":"'A5-Capex'!K31","v":0},{"$f":"'A5-Capex'!L31","v":0}]
[{"$f":"'A5-Capex'!A32","v":"Vote 9 - [NAME OF VOTE 9]"},null,null,null,null,null,null,null,null,null,null,null,null,{"$f":"O31-SUM(C31:M31)","v":0},{"$f":"'A5-Capex'!J32","v":0},{"$f":"'A5-Capex'!K32","v":0},{"$f":"'A5-Capex'!L32","v":0}]
[{"$f":"'A5-Capex'!A33","v":"Vote 10 - [NAME OF VOTE 10]"},null,null,null,null,null,null,null,null,null,null,null,null,{"$f":"O32-SUM(C32:M32)","v":0},{"$f":"'A5-Capex'!J33","v":0},{"$f":"'A5-Capex'!K33","v":0},{"$f":"'A5-Capex'!L33","v":0}]
[{"$f":"'A5-Capex'!A34","v":"Vote 11 - [NAME OF VOTE 11]"},null,null,null,null,null,null,null,null,null,null,null,null,0,{"$f":"'A5-Capex'!J34","v":0},{"$f":"'A5-Capex'!K34","v":0},{"$f":"'A5-Capex'!L34","v":0}]
[{"$f":"'A5-Capex'!A35","v":"Vote 12 - [NAME OF VOTE 12]"},null,null,null,null,null,null,null,null,null,null,null,null,0,{"$f":"'A5-Capex'!J35","v":0},{"$f":"'A5-Capex'!K35","v":0},{"$f":"'A5-Capex'!L35","v":0}]
[{"$f":"'A5-Capex'!A36","v":"Vote 13 - [NAME OF VOTE 13]"},null,null,null,null,null,null,null,null,null,null,null,null,0,{"$f":"'A5-Capex'!J36","v":0},{"$f":"'A5-Capex'!K36","v":0},{"$f":"'A5-Capex'!L36","v":0}]
[{"$f":"'A5-Capex'!A37","v":"Vote 14 - [NAME OF VOTE 14]"},null,null,null,null,null,null,null,null,null,null,null,null,0,{"$f":"'A5-Capex'!J37","v":0},{"$f":"'A5-Capex'!K37","v":0},{"$f":"'A5-Capex'!L37","v":0}]
[{"$f":"'A5-Capex'!A38","v":"Vote 15 - [NAME OF VOTE 15]"},null,null,null,null,null,null,null,null,null,null,null,null,0,{"$f":"'A5-Capex'!J38","v":0},{"$f":"'A5-Capex'!K38","v":0},{"$f":"'A5-Capex'!L38","v":0}]
["Capital single-year expenditure sub-total",2,{"$f":"SUM(C23:C37)","v":5427250},5427250,5427250,5427250,5427250,5427250,5427250,5427250,5427250,5427250,5427250,5926250.0000000037,65626000,45476000,45503000]
["Total Capital Expenditure",2,{"$f":"C20+C38","v":53121303.333333336},{"$f":"D20+D38","v":53121303.333333336},53121303.333333336,53121303.333333336,53121303.333333336,53121303.333333336,53121303.333333336,53121303.333333336,53121303.333333336,53121303.333333336,53121303.333333336,184425717.33333328,{"$f":"O20+O38","v":768760054},{"$f":"P20+P38","v":581309343.20000005},{"$f":"Q20+Q38","v":447881560}]
[]
[]
[{"$f":"head27a","v":"References"}]
["1. Table should be completed as either Multi-Year expenditure appropriation or Budget Year and Forward Year estimates"]
["2. Total Capital Expenditure must reconcile to Budgeted Capital Expenditure"]
["check",null,null,null,null,null,null,null,null,null,null,null,null,null,{"$f":"O20-'A5-Capex'!J21","v":0},{"$f":"P20-'A5-Capex'!K21","v":0},{"$f":"Q20-'A5-Capex'!L21","v":0}]
[]
[null,null,null,null,"Add single year stuff"]

{"sheet":"SA29","index":49,"n_rows":40,"n_cols":17,"rows_kept":40,"cut":false,"hidden":false,"merged":[[1,2,1,13],[1,14,1,16]]}
[{"$f":"muni&\" - \"& TableA29","v":"0 - Supporting Table SA29 Budgeted monthly capital expenditure (functional classification)"}]
[{"$f":"desc","v":"Description"},{"$f":"head27","v":"Ref"},{"$f":"Head9","v":"Budget Year 2023/24"},null,null,null,null,null,null,null,null,null,null,null,"Medium Term Revenue and Expenditure Framework"]
["R thousand",null,"July","August","Sept.","October","Nov.","Dec.","January","Feb.","March","April","May","June",{"$f":"Head9","v":"Budget Year 2023/24"},{"$f":"Head10","v":"Budget Year +1 2024/25"},{"$f":"Head11","v":"Budget Year +2 2025/26"}]
[{"$f":"'A5-Capex'!A42","v":"Capital Expenditure - Functional"},1]
[{"$f":"'A5-Capex'!A43","v":"Governance and administration"},null,{"$f":"SUM(C6:C8)","v":4250000},{"$f":"SUM(D6:D8)","v":4250000},{"$f":"SUM(E6:E8)","v":4250000},4250000,4250000,4250000,4250000,4250000,4250000,4250000,4250000,{"$f":"O5-SUM(C5:M5)","v":4250000},{"$f":"'A5-Capex'!J43","v":51000000},{"$f":"'A5-Capex'!K43","v":50000000},{"$f":"'A5-Capex'!L43","v":50000000}]
[{"$f":"'A5-Capex'!A44","v":"Executive and council"},null,83333.333333333328,83333.333333333328,83333.333333333328,83333.333333333328,83333.333333333328,83333.333333333328,83333.333333333328,83333.333333333328,83333.333333333328,83333.333333333328,83333.333333333328,{"$f":"O6-SUM(C6:M6)","v":83333.333333333256},{"$f":"'A5-Capex'!J44","v":1000000},{"$f":"'A5-Capex'!K44","v":0},{"$f":"'A5-Capex'!L44","v":0}]
[{"$f":"'A5-Capex'!A45","v":"Finance and administration"},null,4166666.6666666665,4166666.6666666665,4166666.6666666665,4166666.6666666665,4166666.6666666665,4166666.6666666665,4166666.6666666665,4166666.6666666665,4166666.6666666665,4166666.6666666665,4166666.6666666665,4166666.6666666716,{"$f":"'A5-Capex'!J45","v":50000000},{"$f":"'A5-Capex'!K45","v":50000000},{"$f":"'A5-Capex'!L45","v":50000000}]
[{"$f":"'A5-Capex'!A46","v":"Internal audit"},null,null,null,null,null,null,null,null,null,null,null,null,0,{"$f":"'A5-Capex'!J46","v":0},{"$f":"'A5-Capex'!K46","v":0},{"$f":"'A5-Capex'!L46","v":0}]
[{"$f":"'A5-Capex'!A47","v":"Community and public safety"},null,{"$f":"SUM(C10:C14)","v":3162291.666666667},{"$f":"SUM(D10:D14)","v":3162291.666666667},3162291.666666667,3162291.666666667,3162291.666666667,3162291.666666667,3162291.666666667,3162291.666666667,3162291.666666667,3162291.666666667,3162291.666666667,134466705.6666666,{"$f":"'A5-Capex'!J47","v":169251913.99999994},{"$f":"'A5-Capex'!K47","v":19908846.199999999},{"$f":"'A5-Capex'!L47","v":23067880}]
[{"$f":"'A5-Capex'!A48","v":"Community and social services"},null,2020625,2020625,2020625,2020625,2020625,2020625,2020625,2020625,2020625,2020625,2020625,-1919375.9500000477,{"$f":"'A5-Capex'!J48","v":20307499.049999952},{"$f":"'A5-Capex'!K48","v":12931350},{"$f":"'A5-Capex'!L48","v":22367880}]
[{"$f":"'A5-Capex'!A49","v":"Sport and recreation"},null,0,0,0,0,0,0,0,0,0,0,0,0,{"$f":"'A5-Capex'!J49","v":0},{"$f":"'A5-Capex'!K49","v":0},{"$f":"'A5-Capex'!L49","v":0}]
[{"$f":"'A5-Capex'!A50","v":"Public safety"},null,0,0,0,0,0,0,0,0,0,0,0,4199000,{"$f":"'A5-Capex'!J50","v":4199000},{"$f":"'A5-Capex'!K50","v":0},{"$f":"'A5-Capex'!L50","v":0}]
[{"$f":"'A5-Capex'!A51","v":"Housing"},null,1141666.6666666667,1141666.6666666667,1141666.6666666667,1141666.6666666667,1141666.6666666667,1141666.6666666667,1141666.6666666667,1141666.6666666667,1141666.6666666667,1141666.6666666667,1141666.6666666667,132187081.61666666,{"$f":"'A5-Capex'!J51","v":144745414.94999999},{"$f":"'A5-Capex'!K51","v":6977496.2000000002},{"$f":"'A5-Capex'!L51","v":700000}]
[{"$f":"'A5-Capex'!A52","v":"Health"},null,null,null,null,null,null,null,null,null,null,null,null,0,{"$f":"'A5-Capex'!J52","v":0},{"$f":"'A5-Capex'!K52","v":0},{"$f":"'A5-Capex'!L52","v":0}]
[{"$f":"'A5-Capex'!A53","v":"Economic and environmental services"},null,{"$f":"SUM(C16:C18)","v":8917166.666666666},{"$f":"SUM(D16:D18)","v":8917166.666666666},8917166.666666666,8917166.666666666,8917166.666666666,8917166.666666666,8917166.666666666,8917166.666666666,8917166.666666666,8917166.666666666,8917166.666666666,8917166.6666666567,{"$f":"'A5-Capex'!J53","v":107006000},{"$f":"'A5-Capex'!K53","v":121091846},{"$f":"'A5-Capex'!L53","v":133492336.09999999}]
[{"$f":"'A5-Capex'!A54","v":"Planning and development"},null,3217166.6666666665,3217166.6666666665,3217166.6666666665,3217166.6666666665,3217166.6666666665,3217166.6666666665,3217166.6666666665,3217166.6666666665,3217166.6666666665,3217166.6666666665,3217166.6666666665,3217166.6666666642,{"$f":"'A5-Capex'!J54","v":38606000},{"$f":"'A5-Capex'!K54","v":30000000},{"$f":"'A5-Capex'!L54","v":30000000}]
[{"$f":"'A5-Capex'!A55","v":"Road transport"},null,5700000,5700000,5700000,5700000,5700000,5700000,5700000,5700000,5700000,5700000,5700000,5700000,{"$f":"'A5-Capex'!J55","v":68400000},{"$f":"'A5-Capex'!K55","v":91091846},{"$f":"'A5-Capex'!L55","v":103492336.09999999}]
[{"$f":"'A5-Capex'!A56","v":"Environmental protection"},null,null,null,null,null,null,null,null,null,null,null,null,0,{"$f":"'A5-Capex'!J56","v":0},{"$f":"'A5-Capex'!K56","v":0},{"$f":"'A5-Capex'!L56","v":0}]
[{"$f":"'A5-Capex'!A57","v":"Trading services"},null,{"$f":"SUM(C20:C23)","v":36558511.666666664},{"$f":"SUM(D20:D23)","v":36558511.666666664},36558511.666666664,36558511.666666664,36558511.666666664,36558511.666666664,36558511.666666664,36558511.666666664,36558511.666666664,36558511.666666664,36558511.666666664,{"$f":"O19-SUM(C19:M19)","v":36558511.666666627},{"$f":"'A5-Capex'!J57","v":438702140},{"$f":"'A5-Capex'!K57","v":390308651},{"$f":"'A5-Capex'!L57","v":241321343.90000001}]
[{"$f":"'A5-Capex'!A58","v":"Energy sources"},null,14916666.666666666,14916666.666666666,14916666.666666666,14916666.666666666,14916666.666666666,14916666.666666666,14916666.666666666,14916666.666666666,14916666.666666666,14916666.666666666,14916666.666666666,14916666.666666687,{"$f":"'A5-Capex'!J58","v":179000000},{"$f":"'A5-Capex'!K58","v":128967852},{"$f":"'A5-Capex'!L58","v":29632523.899999999}]
[{"$f":"'A5-Capex'!A59","v":"Water management"},null,11160375,11160375,11160375,11160375,11160375,11160375,11160375,11160375,11160375,11160375,11160375,11160375,{"$f":"'A5-Capex'!J59","v":133924500},{"$f":"'A5-Capex'!K59","v":131163235},{"$f":"'A5-Capex'!L59","v":105099423}]
[{"$f":"'A5-Capex'!A60","v":"Waste water management"},null,10064803.333333334,10064803.333333334,10064803.333333334,10064803.333333334,10064803.333333334,10064803.333333334,10064803.333333334,10064803.333333334,10064803.333333334,10064803.333333334,10064803.333333334,10064803.333333343,{"$f":"'A5-Capex'!J60","v":120777640},{"$f":"'A5-Capex'!K60","v":125177564},{"$f":"'A5-Capex'!L60","v":101589397}]
[{"$f":"'A5-Capex'!A61","v":"Waste management"},null,416666.66666666669,416666.66666666669,416666.66666666669,416666.66666666669,416666.66666666669,416666.66666666669,416666.66666666669,416666.66666666669,416666.66666666669,416666.66666666669,416666.66666666669,416666.66666666698,{"$f":"'A5-Capex'!J61","v":5000000},{"$f":"'A5-Capex'!K61","v":5000000},{"$f":"'A5-Capex'!L61","v":5000000}]
[{"$f":"'A5-Capex'!A62","v":"Other"},null,233333.33333333334,233333.33333333334,233333.33333333334,233333.33333333334,233333.33333333334,233333.33333333334,233333.33333333334,233333.33333333334,233333.33333333334,233333.33333333334,233333.33333333334,{"$f":"O24-SUM(C24:M24)","v":233333.33333333302},{"$f":"'A5-Capex'!J62","v":2800000},{"$f":"'A5-Capex'!K62","v":0},{"$f":"'A5-Capex'!L62","v":0}]
[{"$f":"'A5-Capex'!A63","v":"Total Capital Expenditure - Functional"},2,{"$f":"C5+C9+C15+C19+C24","v":53121303.333333336},{"$f":"D5+D9+D15+D19+D24","v":53121303.333333336},53121303.333333336,53121303.333333336,53121303.333333336,53121303.333333336,53121303.333333336,53121303.333333336,53121303.333333336,53121303.333333336,53121303.333333336,{"$f":"N5+N9+N15+N19+N24","v":184425717.33333322},768760054,581309343.20000005,447881560]
[]
["Funded by:"]
["National Government",null,26044553.333333332,26044553.333333332,26044553.333333332,26044553.333333332,26044553.333333332,26044553.333333332,26044553.333333332,26044553.333333332,26044553.333333332,26044553.333333332,26044553.333333332,{"$f":"O28-SUM(C28:M28)","v":26044553.333333313},{"$f":"'A5-Capex'!J66","v":312534640},{"$f":"'A5-Capex'!K66","v":320133343.19999999},{"$f":"'A5-Capex'!L66","v":326678560}]
["Provincial Government",null,410083.33333333331,410083.33333333331,410083.33333333331,410083.33333333331,410083.33333333331,410083.33333333331,410083.33333333331,410083.33333333331,410083.33333333331,410083.33333333331,410083.33333333331,{"$f":"O29-SUM(C29:M29)","v":131654498.28333332},{"$f":"'A5-Capex'!J67","v":136165414.94999999},{"$f":"'A5-Capex'!K67","v":1176000},{"$f":"'A5-Capex'!L67","v":1203000}]
["District Municipality",null,null,null,null,null,null,null,null,null,null,null,null,0,{"$f":"'A5-Capex'!J68","v":0},{"$f":"'A5-Capex'!K68","v":0},{"$f":"'A5-Capex'!L68","v":0}]
[{"$f":"'A5-Capex'!A69","v":"Transfers and subsidies - capital (in-kind)"},null,null,null,null,null,null,null,null,null,null,null,null,{"$f":"O31-SUM(C31:M31)","v":0},{"$f":"'A5-Capex'!J69","v":0},{"$f":"'A5-Capex'!K69","v":0},{"$f":"'A5-Capex'!L69","v":0}]
["Transfers recognised - capital",null,{"$f":"SUM(C28:C31)","v":26454636.666666664},26454636.666666664,26454636.666666664,26454636.666666664,26454636.666666664,26454636.666666664,26454636.666666664,26454636.666666664,26454636.666666664,26454636.666666664,26454636.666666664,{"$f":"SUM(N28:N31)","v":157699051.61666662},448700054.94999999,321309343.19999999,327881560]
[]
["Borrowing",null,null,null,null,null,null,null,null,null,null,null,null,200000000,{"$f":"'A5-Capex'!J72","v":200000000},{"$f":"'A5-Capex'!K72","v":150000000},{"$f":"'A5-Capex'!L72","v":0}]
["Internally generated funds",null,null,null,null,null,null,null,null,null,null,null,null,120059999.04999995,{"$f":"'A5-Capex'!J73","v":120059999.04999995},{"$f":"'A5-Capex'!K73","v":110000000},{"$f":"'A5-Capex'!L73","v":120000000}]
["Total Capital Funding",null,{"$f":"+C32+C34+C35","v":26454636.666666664},{"$f":"+D32+D34+D35","v":26454636.666666664},26454636.666666664,26454636.666666664,26454636.666666664,26454636.666666664,26454636.666666664,26454636.666666664,26454636.666666664,26454636.666666664,26454636.666666664,477759050.66666657,768760054,581309343.20000005,447881560]
[{"$f":"head27a","v":"References"}]
["1. Table should be completed as either Multi-Year expenditure appropriation or Budget Year and Forward Year estimates"]
[{"$f":"'SA28'!A44","v":"2. Total Capital Expenditure must reconcile to Budgeted Capital Expenditure"}]
["check"]

{"sheet":"SA30","index":50,"n_rows":63,"n_cols":16,"rows_kept":63,"cut":false,"hidden":false,"merged":[[1,13,1,15],[1,1,1,12],[56,0,56,15]]}
[{"$f":"muni&\" - \"& TableA30","v":"0 - Supporting Table SA30 Budgeted monthly cash flow"}]
["MONTHLY CASH FLOWS",{"$f":"Head9","v":"Budget Year 2023/24"},null,null,null,null,null,null,null,null,null,null,null,"Medium Term Revenue and Expenditure Framework"]
["R thousand","July","August","Sept.","October","November","December","January","February","March","April","May","June",{"$f":"Head9","v":"Budget Year 2023/24"},{"$f":"Head10","v":"Budget Year +1 2024/25"},{"$f":"Head11","v":"Budget Year +2 2025/26"}]
["Cash Receipts By Source",null,null,null,null,null,null,null,null,null,null,null,null,1]
["Property rates",120886318.96267582,120886318.96267582,120886318.96267582,120886318.96267582,120886318.96267582,120886318.96267582,120886318.96267582,120886318.96267582,120886318.96267582,120886318.96267582,120886318.96267582,{"$f":"N5-SUM(B5:L5)","v":105616468.41056585},1435365977,1521716983,1593237681]
["Service charges - electricity revenue",348379010.73486143,308181432.57314664,308181432.57314664,308181432.57314664,308181432.57314664,308181432.57314664,308181432.57314664,308181432.57314664,308181432.57314664,308181432.57314664,308181432.57314664,-43441592.466328621,3386751744,4849435829,5722334279]
["Service charges - water revenue",99021415.435948387,87595867.501031265,87595867.501031265,87595867.501031265,87595867.501031265,87595867.501031265,87595867.501031265,87595867.501031265,87595867.501031265,87595867.501031265,87595867.501031265,-190612884.44626117,784367206,1015651656,1063387284]
["Service charges - sanitation revenue",18122271.148182031,16031239.861853333,16031239.861853333,16031239.861853333,16031239.861853333,16031239.861853333,16031239.861853333,16031239.861853333,16031239.861853333,16031239.861853333,16031239.861853333,-2259781.7667153478,176174888,228123149,238844937]
["Service charges - refuse revenue",12416382.603443658,10983723.072277082,10983723.072277082,10983723.072277082,10983723.072277082,10983723.072277082,10983723.072277082,10983723.072277082,10983723.072277082,10983723.072277082,10983723.072277082,-1548277.3262144923,120705336,156297424,163643403]
[" "]
["Rental of facilities and equipment",5241176.5873968983,7861764.8810953489,7861764.8810953489,7861764.8810953489,7861764.8810953489,7861764.8810953489,7861764.8810953489,7861764.8810953489,7861764.8810953489,7861764.8810953489,7861764.8810953489,20964706.601649612,104823532,67574148,70750133]
["Interest earned - external investments",1504335.4401500002,1504335.4401500002,1504335.4401500002,1504335.4401500002,1504335.4401500002,1504335.4401500002,1504335.4401500002,1504335.4401500002,1504335.4401500002,1504335.4401500002,1504335.4401500002,1584335.1583499983,18132025,19305407,20574284]
["Interest earned - outstanding debtors",0,0,0,0,0,0,0,0,0,0,0,0]
["Dividends received",0,0,0,0,0,0,0,0,0,0,0,0]
["Fines, penalties and forfeits",732995.72385357867,1099493.585780368,1099493.585780368,1099493.585780368,1099493.585780368,1099493.585780368,1099493.585780368,1099493.585780368,1099493.585780368,1099493.585780368,1099493.585780368,-2931982.5816572569,8795949,7620808,7978986]
["Licences and permits",0,183880.79675068927,183880.79675068927,183880.79675068927,183880.79675068927,183880.79675068927,183880.79675068927,183880.79675068927,183880.79675068927,183880.79675068927,183880.79675068927,612936.03249310702,2451744,2400591,2513419]
["Agency services",59565.860316666665,59565.860316666665,59565.860316666665,59565.860316666665,59565.860316666665,59565.860316666665,59565.860316666665,59565.860316666665,59565.860316666665,59565.860316666665,59565.860316666665,59565.536516666645,714790,749815,785056]
["Transfers and Subsidies - Operational",67165113.333333328,67165113.333333328,67165113.333333328,67165113.333333328,67165113.333333328,67165113.333333328,67165113.333333328,67165113.333333328,67165113.333333328,67165113.333333328,67165113.333333328,95289949.333333254,834106196,906109405,982491448]
["Other revenue",11520359.117543695,0,0,0,0,0,0,0,0,0,0,990755797.8824563,1002276157,165049447,172839841]
["Cash Receipts by Source",{"$f":"SUM(B5:B9)+SUM(B11:B19)","v":685048944.94770551},{"$f":"SUM(C5:C9)+SUM(C11:C19)","v":621552735.86841059},621552735.86841059,621552735.86841059,621552735.86841059,621552735.86841059,621552735.86841059,621552735.86841059,621552735.86841059,621552735.86841059,621552735.86841059,974089240.3681879,{"$f":"SUM(N5:N9)+SUM(N11:N19)","v":7874665544},8940034662,10039380751]
[]
["Other Cash Flows by Source"]
["Transfers and subsidies - capital (monetary allocations) (National / Provincial and District)",26454636.666666668,26454636.666666668,26454636.666666668,26454636.666666668,26454636.666666668,26454636.666666668,26454636.666666668,26454636.666666668,26454636.666666668,26454636.666666668,26454636.666666668,{"$f":"N23-SUM(B23:L23)","v":161577005.66666669},452578009,321309343,327881560]
["Transfers and subsidies - capital (monetary allocations) (Nat / Prov Departm Agencies, Households, Non-profit Institutions, Private Enterprises, Public Corporatons, Higher Educ Institutions)",null,null,null,null,null,null,null,null,null,null,null,0]
["Proceeds on Disposal of Fixed and Intangible Assets",null,null,null,null,null,null,null,null,null,null,null,0]
["Short term loans",null,null,null,null,null,null,null,null,null,null,null,0]
["Borrowing long term/refinancing",16666666.666666666,16666666.666666666,16666666.666666666,16666666.666666666,16666666.666666666,16666666.666666666,16666666.666666666,16666666.666666666,16666666.666666666,16666666.666666666,16666666.666666666,16666666.666666687,200000000,150000000]
["Increase (decrease) in consumer deposits",null,null,null,null,null,null,null,null,null,null,null,0]
["Decrease (Increase) in non-current debtors (not used)"]
["Decrease (increase) in non-current receivables",null,null,null,null,null,null,null,null,null,null,null,0]
["Decrease (increase) in non-current investments",null,null,null,null,null,null,null,null,null,null,null,0]
["Total Cash Receipts by Source",{"$f":"SUM(B20:B28)+SUM(B30:B31)","v":728170248.28103876},{"$f":"SUM(C20:C28)+SUM(C30:C31)","v":664674039.20174384},664674039.20174384,664674039.20174384,664674039.20174384,664674039.20174384,664674039.20174384,664674039.20174384,664674039.20174384,664674039.20174384,664674039.20174384,{"$f":"SUM(M20:M28)+SUM(M30:M31)","v":1152332912.7015214},{"$f":"SUM(N20:N28)+SUM(N30:N31)","v":8527243553},9411344005,10367262311]
[]
["Cash Payments by Type"]
["Employee related costs",148484799.98717093,148484799.98717093,148484799.98717093,148484799.98717093,148484799.98717093,148484799.98717093,148484799.98717093,148484799.98717093,148484799.98717093,148484799.98717093,148484799.98717093,{"$f":"N35-SUM(B35:L35)","v":177574997.14111972},1810907797,1893058273,1977738917]
["Remuneration of councillors",5224994.5824999996,5224994.5824999996,5224994.5824999996,5224994.5824999996,5224994.5824999996,5224994.5824999996,5224994.5824999996,5224994.5824999996,5224994.5824999996,5224994.5824999996,5224994.5824999996,5224994.5925000161,62699935,65521432,68469897]
["Finance charges",3783406.5029041669,3783406.5029041669,3783406.5029041669,3783406.5029041669,3783406.5029041669,3783406.5029041669,3783406.5029041669,3783406.5029041669,3783406.5029041669,3783406.5029041669,3783406.5029041669,-1216593.5319458395,40400878,42218918,44118769]
["Bulk purchases - electricity ",260091666.66666663,226166666.66666666,226166666.66666666,226166666.66666666,226166666.66666666,226166666.66666666,226166666.66666666,226166666.66666666,226166666.66666666,226166666.66666666,226166666.66666666,399341666.66666651,2921100000,3526843000,4055869450]
["Acquisitions - water & other inventory",105810321.857108,96592308.861253336,96592308.861253336,96592308.861253336,96592308.861253336,96592308.861253336,96592308.861253336,96592308.861253336,96592308.861253336,96592308.861253336,96592308.861253336,38415707.530358434,1110149118,1164533075,1219405179]
[]
["Contracted services",81284977.388783351,81284977.484616682,81284977.484616682,81284977.484616682,81284977.484616682,81284977.484616682,81284977.484616682,81284977.484616682,81284977.484616682,81284977.484616682,81284977.484616682,235563871.76504993,1129698624,1196746209,1219405179]
["Transfers and subsidies - other municipalities",1366411.1883333332,1366411.1883333332,1366411.1883333332,1366411.1883333332,1366411.1883333332,1366411.1883333332,1366411.1883333332,1366411.1883333332,1366411.1883333332,1366411.1883333332,1366411.1883333332,35993012.928333335,51023536,53395332,55899094]
["Transfers and subsidies - other",0,0,0,0,0,0,0,0,0,0,0,0,0,0,0]
["Other expenditure",21581023.655871753,18766107.526845004,18766107.526845004,18766107.526845004,18766107.526845004,18766107.526845004,18766107.526845004,18766107.526845004,18766107.526845004,18766107.526845004,18766107.526845004,45361124.07567817,254603223,260666475,272893145]
["Cash Payments by Type",{"$f":"SUM(B35:B44)","v":627627601.82933819},581669672.80029011,581669672.80029011,581669672.80029011,581669672.80029011,581669672.80029011,581669672.80029011,581669672.80029011,581669672.80029011,581669672.80029011,581669672.80029011,936258781.16776037,{"$f":"SUM(N35:N44)","v":7380583111},8202982714,{"$f":"SUM(P35:P44)","v":8913799630}]
[]
["Other Cash Flows/Payments by Type"]
["Capital assets",61089498.833333336,53121303.333333336,53121303.333333336,53121303.333333336,53121303.333333336,53121303.333333336,53121303.333333336,53121303.333333336,53121303.333333336,53121303.333333336,53121303.333333336,{"$f":"N48-SUM(B48:L48)","v":176198522.83333337},768501055,668585745,515147794]
["Repayment of borrowing",1916666.6666666667,1916666.6666666667,1916666.6666666667,1916666.6666666667,1916666.6666666667,1916666.6666666667,1916666.6666666667,1916666.6666666667,1916666.6666666667,1916666.6666666667,1916666.6666666667,{"$f":"N49-SUM(B49:L49)","v":1916666.6666666642},23000000,24000000,26000000]
["Other Cash Flows/Payments",13195000,32500000,32500000,32500000,32500000,32500000,32500000,32500000,32500000,32500000,32500000,{"$f":"N50-SUM(B50:L50)","v":-338195000}]
["Total Cash Payments by Type",{"$f":"SUM(B45:B50)","v":703828767.32933819},{"$f":"SUM(C45:C50)","v":669207642.80029011},669207642.80029011,669207642.80029011,669207642.80029011,669207642.80029011,669207642.80029011,669207642.80029011,669207642.80029011,669207642.80029011,669207642.80029011,776178970.66776061,8172084166,8895568459,9454947424]
[]
["NET INCREASE/(DECREASE) IN CASH HELD",{"$f":"B32-B51","v":24341480.951700568},-4533603.5985462666,-4533603.5985462666,-4533603.5985462666,-4533603.5985462666,-4533603.5985462666,-4533603.5985462666,-4533603.5985462666,-4533603.5985462666,-4533603.5985462666,-4533603.5985462666,376153942.03376079,355159387,515775546,912314887]
["Cash/cash equivalents at the month/year begin:",357851718.42929143,{"$f":"B55","v":382193199.380992},{"$f":"C55","v":377659595.78244573},373125992.18389946,368592388.5853532,364058784.98680693,359525181.38826066,354991577.7897144,350457974.19116813,345924370.59262186,341390766.9940756,336857163.39552933,{"$f":"B54","v":357851718.42929143},{"$f":"N55","v":713011105.42929149},{"$f":"O55","v":1228786651.4292915}]
["Cash/cash equivalents at the month/year end:",{"$f":"B54+B53","v":382193199.380992},{"$f":"C54+C53","v":377659595.78244573},{"$f":"D54+D53","v":373125992.18389946},368592388.5853532,364058784.98680693,359525181.38826066,354991577.7897144,350457974.19116813,345924370.59262186,341390766.9940756,336857163.39552933,713011105.42929006,713011105.42929149,1228786651.4292915,2141101538.4292915]
[{"$f":"head27a","v":"References"}]
["1. Note that this section of Table SA 30 is deliberately not linked to Table A4 because timing differences between the invoicing of clients and receiving the cash means that the cashflow will differ from budgeted revenue, and similarly for budgeted expenditure. However for the MTREF it is now directly linked to A7."]
["2. Bulk purchases - Electricity & Waste Water - use detail information from Table SA1"]
["3. Acquisition Inventory - Water & other inventory - use detail information from Table SA3"]
[]
[]
[null,null,null,null,{"$f":"E45+E61","v":581669672.80029011},581669672.80029011,581669672.80029011,581669672.80029011,581669672.80029011,581669672.80029011,581669672.80029011,581669672.80029011]
[null,null,null,null,{"$f":"E53-E61","v":-4533603.5985462666},-4533603.5985462666,-4533603.5985462666,-4533603.5985462666,-4533603.5985462666,-4533603.5985462666,-4533603.5985462666,-4533603.5985462666]

{"sheet":"SA31","index":51,"n_rows":45,"n_cols":11,"rows_kept":45,"cut":false,"hidden":false,"merged":[[1,5,1,7],[1,8,1,10],[1,1,2,1]]}
[{"$f":"muni&\" - \"& TableA31","v":"0 - NOT REQUIRED - municipality does not have entities"}]
[{"$f":"desc","v":"Description"},{"$f":"head27","v":"Ref"},{"$f":"head1b","v":"2019/20"},{"$f":"head1A","v":"2020/21"},{"$f":"Head1","v":"2021/22"},{"$f":"Head2","v":"Current Year 2022/23"},null,null,{"$f":"Head3","v":"2023/24 Medium Term Revenue & Expenditure Framework"}]
["R million",null,{"$f":"Head5","v":"Audited Outcome"},{"$f":"Head5","v":"Audited Outcome"},{"$f":"Head5","v":"Audited Outcome"},{"$f":"Head6","v":"Original Budget"},{"$f":"Head7","v":"Adjusted Budget"},{"$f":"Head8","v":"Full Year Forecast"},{"$f":"Head9","v":"Budget Year 2023/24"},{"$f":"Head10","v":"Budget Year +1 2024/25"},{"$f":"Head11","v":"Budget Year +2 2025/26"}]
["Financial Performance"]
["Property rates"]
["Service charges"]
["Investment revenue"]
["Transfer and subsidies - Operational"]
["Other own revenue"]
[{"$f":"'A4-FinPerf RE'!A32","v":"Total Revenue (excluding capital transfers and contributions)"},null,{"$f":"SUM(C5:C9)","v":0},{"$f":"SUM(D5:D9)","v":0},0,0,0,0,0,{"$f":"SUM(J5:J9)","v":0},{"$f":"SUM(K5:K9)","v":0}]
["Employee costs"]
["Remuneration of councillors"]
["Depreciation and amortisation"]
["Finance charges"]
["Inventory consumed and bulk purchases"]
["Transfers and subsidies"]
["Other expenditure"]
[{"$f":"'A4-FinPerf RE'!A47","v":"Total Expenditure"},null,{"$f":"SUM(C11:C17)","v":0},{"$f":"SUM(D11:D17)","v":0},0,0,0,0,0,0,0]
[{"$f":"'A4-FinPerf RE'!A48","v":"Surplus/(Deficit)"},null,{"$f":"+C10-C18","v":0},{"$f":"+D10-D18","v":0},0,0,0,0,0,0,0]
[{"$f":"'A4-FinPerf RE'!A49","v":"Transfers and subsidies - capital (monetary allocations)"}]
[{"$f":"'A4-FinPerf RE'!A50","v":"Transfers and subsidies - capital (in-kind)"}]
[{"$f":"'A4-FinPerf RE'!A51","v":"Surplus/(Deficit) after capital transfers & contributions"},null,{"$f":"SUM(C19:C21)","v":0},{"$f":"SUM(D19:D21)","v":0},0,0,0,0,0,0,0]
[{"$f":"'A4-FinPerf RE'!A58","v":"Intercompany/Parent subsidiary transactions"}]
[{"$f":"'A4-FinPerf RE'!A59","v":"Surplus/(Deficit) for the year"},null,{"$f":"SUM(C22:C23)","v":0},{"$f":"SUM(D22:D23)","v":0},0,0,0,0,0,0,0]
[]
["Capital expenditure & funds sources"]
["Capital expenditure"]
["Transfers recognised - capital"]
[]
[{"$f":"'A5-Capex'!A72","v":"Borrowing"}]
[{"$f":"'A5-Capex'!A73","v":"Internally generated funds"}]
["Total sources of capital funds",null,{"$f":"SUM(C28:C31)","v":0},{"$f":"SUM(D28:D31)","v":0},0,0,0,0,0,0,0]
[]
["Financial position"]
[{"$f":"'A6-FinPos'!A13","v":"Total current assets"}]
[{"$f":"'A6-FinPos'!A25","v":"Total non current assets"}]
[{"$f":"'A6-FinPos'!A37","v":"Total current liabilities"}]
[{"$f":"'A6-FinPos'!A43","v":"Total non current liabilities"}]
["Community wealth/Equity"]
[]
["Cash flows"]
["Net cash from (used) operating"]
["Net cash from (used) investing"]
["Net cash from (used) financing"]
[{"$f":"LEFT('A7-CFlow'!A39,37)","v":"Cash/cash equivalents at the year end"}]

{"sheet":"SA32","index":52,"n_rows":27,"n_cols":6,"rows_kept":27,"cut":false,"hidden":false,"merged":[[1,3,2,3],[1,4,2,4],[1,1,2,1]]}
[{"$f":"muni&\" - \"&TableA32","v":"0 - Supporting Table SA32 List of external mechanisms"}]
["External mechanism","Yrs/ Mths","Period of agreement 1.","Service provided","Expiry date of service delivery agreement or contract","Monetary value of agreement 2."]
["Name of organisation",null,"Number",null,null,"R thousand"]
[]
[]
[]
[]
[]
[]
[]
[]
[]
[]
[]
[]
[]
[]
[]
[]
[]
[]
[]
[]
[]
[{"$f":"head27a","v":"References"}]
["1. Total agreement period from commencement until end"]
["2. Annual value"]

{"sheet":"SA33","index":53,"n_rows":48,"n_cols":15,"rows_kept":48,"cut":false,"hidden":false,"merged":[[1,4,1,6],[47,0,47,13]]}
[{"$f":"muni&\" - \"& TableA33","v":"0 - Supporting Table SA33 Contracts having future budgetary implications"}]
[{"$f":"desc","v":"Description"},{"$f":"head27","v":"Ref"},"Preceding Years",{"$f":"Head2","v":"Current Year 2022/23"},{"$f":"Head3","v":"2023/24 Medium Term Revenue & Expenditure Framework"},null,null,{"$f":"Head12","v":"Forecast 2026/27"},{"$f":"Head13","v":"Forecast 2027/28"},{"$f":"Head14","v":"Forecast 2028/29"},{"$f":"Head15","v":"Forecast 2029/30"},{"$f":"Head16","v":"Forecast 2030/31"},{"$f":"Head17","v":"Forecast 2031/32"},{"$f":"Head18","v":"Forecast 2032/33"},"Total Contract Value"]
["R thousand","1,3","Total",{"$f":"Head6","v":"Original Budget"},{"$f":"Head9","v":"Budget Year 2023/24"},{"$f":"Head10","v":"Budget Year +1 2024/25"},{"$f":"Head11","v":"Budget Year +2 2025/26"},"Estimate","Estimate","Estimate","Estimate","Estimate","Estimate","Estimate","Estimate"]
["Parent Municipality:"]
["Revenue Obligation By Contract",2]
["Contract 1",null,null,null,null,null,null,null,null,null,null,null,null,null,{"$f":"SUM(C6:N6)","v":0}]
["Contract 2",null,null,null,null,null,null,null,null,null,null,null,null,null,{"$f":"SUM(C7:N7)","v":0}]
["Contract 3 etc",null,null,null,null,null,null,null,null,null,null,null,null,null,{"$f":"SUM(C8:N8)","v":0}]
["Total Operating Revenue Implication",null,{"$f":"SUM(C6:C8)","v":0},{"$f":"SUM(D6:D8)","v":0},0,0,0,0,0,0,0,0,0,0,{"$f":"SUM(C9:N9)","v":0}]
[]
["Expenditure Obligation By Contract",2]
["Contract 1",null,null,null,null,null,null,null,null,null,null,null,null,null,{"$f":"SUM(C12:N12)","v":0}]
["Contract 2",null,null,null,null,null,null,null,null,null,null,null,null,null,{"$f":"SUM(C13:N13)","v":0}]
["Contract 3 etc",null,null,null,null,null,null,null,null,null,null,null,null,null,{"$f":"SUM(C14:N14)","v":0}]
["Total Operating Expenditure Implication",null,{"$f":"SUM(C12:C14)","v":0},0,0,0,0,0,0,0,0,0,0,0,{"$f":"SUM(C15:N15)","v":0}]
[]
["Capital Expenditure Obligation By Contract",2]
["Contract 1",null,null,null,null,null,null,null,null,null,null,null,null,null,{"$f":"SUM(C18:N18)","v":0}]
["Contract 2",null,null,null,null,null,null,null,null,null,null,null,null,null,{"$f":"SUM(C19:N19)","v":0}]
["Contract 3 etc",null,null,null,null,null,null,null,null,null,null,null,null,null,{"$f":"SUM(C20:N20)","v":0}]
["Total Capital Expenditure Implication",null,{"$f":"SUM(C18:C20)","v":0},0,0,0,0,0,0,0,0,0,0,0,{"$f":"SUM(C21:N21)","v":0}]
[]
["Total Parent Expenditure Implication",null,{"$f":"C15+C21","v":0},{"$f":"D15+D21","v":0},0,0,0,0,0,0,0,0,0,0,0]
[]
["Entities:"]
["Revenue Obligation By Contract",2]
["Contract 1",null,null,null,null,null,null,null,null,null,null,null,null,null,{"$f":"SUM(C27:N27)","v":0}]
["Contract 2",null,null,null,null,null,null,null,null,null,null,null,null,null,{"$f":"SUM(C28:N28)","v":0}]
["Contract 3 etc",null,null,null,null,null,null,null,null,null,null,null,null,null,{"$f":"SUM(C29:N29)","v":0}]
["Total Operating Revenue Implication",null,{"$f":"SUM(C27:C29)","v":0},0,0,0,0,0,0,0,0,0,0,0,{"$f":"SUM(C30:N30)","v":0}]
[]
["Expenditure Obligation By Contract",2]
["Contract 1",null,null,null,null,null,null,null,null,null,null,null,null,null,{"$f":"SUM(C33:N33)","v":0}]
["Contract 2",null,null,null,null,null,null,null,null,null,null,null,null,null,{"$f":"SUM(C34:N34)","v":0}]
["Contract 3 etc",null,null,null,null,null,null,null,null,null,null,null,null,null,{"$f":"SUM(C35:N35)","v":0}]
["Total Operating Expenditure Implication",null,{"$f":"SUM(C33:C35)","v":0},0,0,0,0,0,0,0,0,0,0,0,{"$f":"SUM(C36:N36)","v":0}]
[]
["Capital Expenditure Obligation By Contract",2]
["Contract 1",null,null,null,null,null,null,null,null,null,null,null,null,null,{"$f":"SUM(C39:N39)","v":0}]
["Contract 2",null,null,null,null,null,null,null,null,null,null,null,null,null,{"$f":"SUM(C40:N40)","v":0}]
["Contract 3 etc",null,null,null,null,null,null,null,null,null,null,null,null,null,{"$f":"SUM(C41:N41)","v":0}]
["Total Capital Expenditure Implication",null,{"$f":"SUM(C39:C41)","v":0},0,0,0,0,0,0,0,0,0,0,0,{"$f":"SUM(C42:N42)","v":0}]
[]
["Total Entity Expenditure Implication",null,{"$f":"C36+C42","v":0},{"$f":"D36+D42","v":0},0,0,0,0,0,0,0,0,0,0,0]
[{"$f":"head27a","v":"References"}]
["1. Total implication for all preceding years to be summed and total stated in 'Preceding Years' column"]
["2. List all contracts with future financial obligations beyond the three years covered by the MTREF (MFMA s33)"]
["3. For municipalities with approved total revenue not exceeding R250 m - all contracts with an annual cost greater than R500 000. For municipalities with approved total revenue greater than R250 m - all contracts with an annual cost greater than R1million. For municipalities with approved total revenue greater than R500 m - all contracts with an annual cost greater than R5 million"]

{"sheet":"SA34a","index":54,"n_rows":187,"n_cols":12,"rows_kept":187,"cut":false,"hidden":false,"merged":[[1,5,1,7],[1,8,1,10]]}
[{"$f":"muni&\" - \"&TableA34a","v":"0 - Supporting Table SA34a Capital expenditure on new assets by asset class"}]
[{"$f":"desc","v":"Description"},{"$f":"head27","v":"Ref"},{"$f":"head1b","v":"2019/20"},{"$f":"head1A","v":"2020/21"},{"$f":"Head1","v":"2021/22"},{"$f":"Head2","v":"Current Year 2022/23"},null,null,{"$f":"Head3","v":"2023/24 Medium Term Revenue & Expenditure Framework"}]
["R thousand",1,{"$f":"Head5","v":"Audited Outcome"},{"$f":"Head5","v":"Audited Outcome"},{"$f":"Head5","v":"Audited Outcome"},{"$f":"Head6","v":"Original Budget"},{"$f":"Head7","v":"Adjusted Budget"},{"$f":"Head8","v":"Full Year Forecast"},{"$f":"Head9","v":"Budget Year 2023/24"},{"$f":"Head10","v":"Budget Year +1 2024/25"},{"$f":"Head11","v":"Budget Year +2 2025/26"}]
["Capital expenditure on new assets by Asset Class/Sub-class"]
[]
["Infrastructure",null,{"$f":"C7+C12+C16+C26+C37+C44+C52+C62+C68","v":21108134.099999901},{"$f":"D7+D12+D16+D26+D37+D44+D52+D62+D68","v":335214019.54999995},126578515.02000006,45665000,106811622.02500001,106811622.02500001,291587640,116337252,98425483.900000006]
["Roads Infrastructure",null,{"$f":"SUM(C8:C11)","v":21108134.099999901},211423171.7899999,81647654.110000044,8500000,1124842.0439999998,1124842.0439999998,2250000,2250000,2250000]
["Roads",null,21108134.099999901,14498042.219999999,81647654.110000044,8500000,1124842.0439999998,1124842.0439999998,2250000,2250000,2250000]
["Road Structures",null,null,196925129.5699999,null,null,null,null,0,0,0]
["Road Furniture",null,null,null,null,null,null,null,0,0,0]
["Capital Spares",null,null,null,null,null,null,null,0,0,0]
["Storm water Infrastructure",null,{"$f":"SUM(C13:C15)","v":0},{"$f":"SUM(D13:D15)","v":0},0,0,0,0,0,0,0]
["Drainage Collection"]
["Storm water Conveyance"]
["Attenuation"]
["Electrical Infrastructure",null,{"$f":"SUM(C17:C25)","v":0},4653205.6400000006,5502776.8800000008,19015000,64484471,64484471,194000000,28967852,29632523.899999999]
["Power Plants",null,null,4653205.6400000006,5502776.8800000008,19015000,64484471,64484471,194000000,28967852,29632523.899999999]
["HV Substations"]
["HV Switching Station"]
["HV Transmission Conductors"]
["MV Substations"]
["MV Switching Stations"]
["MV Networks"]
["LV Networks"]
["Capital Spares"]
["Water Supply Infrastructure",null,{"$f":"SUM(C27:C36)","v":0},{"$f":"SUM(D27:D36)","v":74239163.400000006},22506108.560000002,5000000,8365970,8365970,29860000,19780000,29360000]
["Dams and Weirs"]
["Boreholes"]
["Reservoirs",null,null,17016562.460000001,4962548.6700000018,null,8365970,8365970,29860000,19780000,29360000]
["Pump Stations"]
["Water Treatment Works"]
["Bulk Mains"]
["Distribution",null,null,57222600.939999998,17543559.890000001,5000000]
["Distribution Points"]
["PRV Stations"]
["Capital Spares"]
["Sanitation Infrastructure",null,{"$f":"SUM(C38:C43)","v":0},{"$f":"SUM(D38:D43)","v":44898478.719999999},7231193.4299999997,0,32836338.981000002,32836338.981000002,65477640,65339400,37182960]
["Pump Station",null,null,21546131.539999999]
["Reticulation",null,null,null,null,null,32836338.981000002,32836338.981000002,65477640,65339400,37182960]
["Waste Water Treatment Works"]
["Outfall Sewers",null,null,23352347.18,7231193.4299999997]
["Toilet Facilities"]
["Capital Spares"]
["Solid Waste Infrastructure",null,{"$f":"SUM(C45:C51)","v":0},{"$f":"SUM(D45:D51)","v":0},0,10150000,0,0,0,0,0]
["Landfill Sites",null,null,null,null,10150000]
["Waste Transfer Stations"]
["Waste Processing Facilities"]
["Waste Drop-off Points"]
["Waste Separation Facilities"]
["Electricity Generation Facilities"]
["Capital Spares"]
["Rail Infrastructure",null,{"$f":"SUM(C53:C61)","v":0},0,0,0,0,0,0,0,0]
["Rail Lines"]
["Rail Structures"]
["Rail Furniture"]
["Drainage Collection"]
["Storm water Conveyance"]
["Attenuation"]
["MV Substations"]
["LV Networks"]
["Capital Spares"]
["Coastal Infrastructure",null,{"$f":"SUM(C63:C67)","v":0},{"$f":"SUM(D63:D67)","v":0},9690782.040000001,3000000,0,0,0,0,0]
["Sand Pumps"]
["Piers"]
["Revetments"]
["Promenades",null,null,null,9690782.040000001,3000000]
["Capital Spares"]
["Information and Communication Infrastructure",null,{"$f":"SUM(C69:C72)","v":0},{"$f":"SUM(D69:D72)","v":0},0,0,0,0,0,0,0]
["Data Centres"]
["Core Layers"]
["Distribution Layers"]
["Capital Spares"]
[]
["Community Assets",null,{"$f":"C75+C98","v":0},{"$f":"D75+D98","v":13158955.789999999},9059620,20726050,26930282,26930282,25607499.049999952,13770098.199999988,19929131.799999952]
["Community Facilities",null,{"$f":"SUM(C76:C97)","v":0},{"$f":"SUM(D76:D97)","v":10563092.959999999},8485737.6199999992,20726050,26418509,26418509,25607499.049999952,13770098.199999988,19929131.799999952]
["Halls",null,null,3074185.84,3383346.9899999998,19976050,23326050,23326050,25607499.049999952,13770098.199999988,19929131.799999952]
["Centres",null,null,250081.48999999993,null,null,192459,192459]
["Crèches"]
["Clinics/Care Centres"]
["Fire/Ambulance Stations"]
["Testing Stations"]
["Museums"]
["Galleries"]
["Theatres"]
["Libraries"]
["Cemeteries/Crematoria",null,null,null,2544433.5699999998]
["Police",null,null,null,null,null,2000000,2000000]
["Parks"]
["Public Open Space",null,null,1953039.02]
["Nature Reserves",null,null,787950]
["Public Ablution Facilities"]
["Markets",null,null,2324672.89,2557957.06,750000]
["Stalls"]
["Abattoirs"]
["Airports",null,null,2173163.77]
["Taxi Ranks/Bus Terminals",null,null,-0.05,null,null,900000,900000]
["Capital Spares",null,null,null,null,null,0]
["Sport and Recreation Facilities",null,{"$f":"SUM(C99:C101)","v":0},{"$f":"SUM(D99:D101)","v":2595862.83},573882.38,0,511773,511773,0,0,0]
["Indoor Facilities"]
["Outdoor Facilities",null,null,2595862.83,573882.38,null,511773,511773]
["Capital Spares"]
[]
["Heritage assets",null,{"$f":"SUM(C104:C108)","v":0},{"$f":"SUM(D104:D108)","v":0},0,0,0,0,0,0,0]
["Monuments"]
["Historic Buildings"]
["Works of Art"]
["Conservation Areas"]
["Other Heritage"]
[]
["Investment properties",null,{"$f":"+C111+C114","v":0},{"$f":"+D111+D114","v":0},0,0,0,0,0,0,0]
["Revenue Generating",null,{"$f":"SUM(C112:C113)","v":0},0,0,0,0,0,0,0,0]
["Improved Property"]
["Unimproved Property"]
["Non-revenue Generating",null,{"$f":"SUM(C115:C116)","v":0},{"$f":"SUM(D115:D116)","v":0},0,0,0,0,0,0,0]
["Improved Property"]
["Unimproved Property"]
[]
["Other assets",null,{"$f":"+C119+C131","v":0},{"$f":"+D119+D131","v":59046781.330000006},11561252.520000001,5075000,11966441.560000002,11966441.560000002,145545414.94999999,6138748,3138748.2]
["Operational Buildings",null,{"$f":"SUM(C120:C130)","v":0},{"$f":"SUM(D120:D130)","v":0},295455.06,5075000,6375000,6375000,10000000,3138748,0]
["Municipal Offices",null,null,null,295455.06,5075000]
["Pay/Enquiry Points"]
["Building Plan Offices"]
["Workshops",null,null,null,null,null,6375000,6375000,10000000,3138748,0]
["Yards"]
["Stores"]
["Laboratories"]
["Training Centres"]
["Manufacturing Plant"]
["Depots"]
["Capital Spares"]
["Housing",null,{"$f":"SUM(C132:C134)","v":0},{"$f":"SUM(D132:D134)","v":59046781.330000006},11265797.460000001,0,5591441.5600000024,5591441.5600000024,135545414.94999999,3000000,3138748.2]
["Staff Housing"]
["Social Housing",null,null,59046781.330000006,11265797.460000001,null,5591441.5600000024,5591441.5600000024,135545414.94999999,3000000,3138748.2]
["Capital Spares"]
[]
["Biological or Cultivated Assets",null,{"$f":"SUM(C137:C137)","v":0},0,0,0,9072010,9072010,0,0,0]
["Biological or Cultivated Assets",null,null,null,null,null,9072010,9072010]
[]
["Intangible Assets",null,{"$f":"+C140+C141","v":0},{"$f":"+D140+D141","v":523018.19},1040908.7,3750000,500000,500000,30000000,30000000,30000000]
["Servitudes",null,null,null,null,null,null,null,30000000,30000000,30000000]
["Licences and Rights",null,{"$f":"SUM(C142:C147)","v":0},{"$f":"SUM(D142:D147)","v":523018.19},1040908.7,3750000,500000,500000,0,0,0]
["Water Rights"]
["Effluent Licenses"]
["Solid Waste Licenses"]
["Computer Software and Applications",null,null,523018.19,1040908.7,3750000,500000,500000]
["Load Settlement Software Applications"]
["Unspecified"]
[]
["Computer Equipment",null,{"$f":"SUM(C150:C150)","v":0},0,6492815.3499999996,5669000,0,0,0,0,0]
["Computer Equipment",null,null,null,6492815.3499999996,5669000]
[]
["Furniture and Office Equipment",null,{"$f":"SUM(C153:C153)","v":0},0,2333929.85,10556346,9857321,9857321,15000000,10000000,10000000]
["Furniture and Office Equipment",null,null,null,2333929.85,10556346,9857321,9857321,15000000,10000000,10000000]
[]
["Machinery and Equipment",null,{"$f":"SUM(C156:C156)","v":0},0,41032224.439999998,62500000,20798971.230000004,20798971.230000004,199000,0,0]
["Machinery and Equipment",null,null,null,41032224.439999998,62500000,20798971.230000004,20798971.230000004,199000]
[]
["Transport Assets",null,{"$f":"SUM(C159:C159)","v":0},0,9916554.9400000274,41971625,11548341.900000036,11548341.900000036,0,0,0]
["Transport Assets",null,null,null,9916554.9400000274,41971625,11548341.900000036,11548341.900000036,0]
[]
["Land",null,{"$f":"SUM(C162:C162)","v":0},0,0,0,0,0,0,0,0]
["Land"]
[]
["Zoo's, Marine and Non-biological Animals",null,{"$f":"SUM(C165:C165)","v":0},0,0,0,0,0,0,0,0]
["Zoo's, Marine and Non-biological Animals"]
[]
["Living resources"," ",{"$f":"+C168+C171","v":0},{"$f":"+D168+D171","v":0},0,0,0,0,0,0,0]
["Mature"," ",{"$f":"SUM(C169:C170)","v":0},0,0,0,0,0,0,0,0]
["Policing and Protection"," "]
["Zoological plants and animals"," "]
["Immature"," ",{"$f":"SUM(C172:C173)","v":0},{"$f":"SUM(D172:D173)","v":0},0,0,0,0,0,0,0]
["Policing and Protection"," "]
["Zoological plants and animals"," "]
[""]
["Total Capital Expenditure on new assets ",1,{"$f":"C6+C74+C103+C110+C118+C136+C139+C149+C152+C155+C158+C161+C164+C167","v":21108134.099999901},{"$f":"D6+D74+D103+D110+D118+D136+D139+D149+D152+D155+D158+D161+D164+D167","v":407942774.85999995},208015820.82000005,195913021,197484989.71500003,197484989.71500003,507939553.99999994,176246098.19999999,161493363.89999998]
[]
[{"$f":"head27a","v":"References"}]
["1. Total Capital Expenditure on new assets (SA34a) plus Total Capital Expenditure on renewal of existing assets (SA34b) plus Total Capital Expenditure  on upgrading of existing assets (SA34e) must reconcile to total capital expenditure in Budgeted Capital Expenditure"]
[]
[]
["check balance",null,{"$f":"SUM(C175+SA34b!C175+SA34e!C175)-'A5-Capex'!C40","v":0},{"$f":"SUM(D175+SA34b!D175+SA34e!D175)-'A5-Capex'!D40","v":0},{"$f":"SUM(E175+SA34b!E175+SA34e!E175)-'A5-Capex'!E40","v":0},{"$f":"SUM(F175+SA34b!F175+SA34e!F175)-'A5-Capex'!F40","v":0},{"$f":"SUM(G175+SA34b!G175+SA34e!G175)-'A5-Capex'!G40","v":0},{"$f":"SUM(H175+SA34b!H175+SA34e!H175)-'A5-Capex'!H40","v":0},{"$f":"I170+SA34b!I170+SA34e!I170-'A5-Capex'!J35","v":0},{"$f":"J170+SA34b!J170+SA34e!J170-'A5-Capex'!K35","v":0},{"$f":"K170+SA34b!K170+SA34e!K170-'A5-Capex'!L35","v":0}]
[]
[]
[]
[]
[]
[null,null,null,null,null,null,null,null,null,null,null,{"$f":"J185-L183","v":0}]

{"sheet":"SA34b","index":55,"n_rows":180,"n_cols":11,"rows_kept":180,"cut":false,"hidden":false,"merged":[[1,5,1,7],[1,8,1,10]]}
[{"$f":"muni&\" - \"&TableA34b","v":"0 - Supporting Table SA34b Capital expenditure on the renewal of existing assets by asset class"}]
[{"$f":"desc","v":"Description"},{"$f":"head27","v":"Ref"},{"$f":"head1b","v":"2019/20"},{"$f":"head1A","v":"2020/21"},{"$f":"Head1","v":"2021/22"},{"$f":"Head2","v":"Current Year 2022/23"},null,null,{"$f":"Head3","v":"2023/24 Medium Term Revenue & Expenditure Framework"}]
["R thousand",1,{"$f":"Head5","v":"Audited Outcome"},{"$f":"Head5","v":"Audited Outcome"},{"$f":"Head5","v":"Audited Outcome"},{"$f":"Head6","v":"Original Budget"},{"$f":"Head7","v":"Adjusted Budget"},{"$f":"Head8","v":"Full Year Forecast"},{"$f":"Head9","v":"Budget Year 2023/24"},{"$f":"Head10","v":"Budget Year +1 2024/25"},{"$f":"Head11","v":"Budget Year +2 2025/26"}]
["Capital expenditure on renewal of existing assets by Asset Class/Sub-class"]
[]
["Infrastructure",null,{"$f":"C7+C12+C16+C26+C37+C44+C52+C62+C68","v":0},{"$f":"D7+D12+D16+D26+D37+D44+D52+D62+D68","v":66270060.39000009},199934434.34000003,146426895,0,0,47356000,53250000,62750000]
["Roads Infrastructure",null,{"$f":"SUM(C8:C11)","v":0},50403832.500000089,118545061.60000005,38000000,0,0,33150000,45750000,54750000]
["Roads",null,null,50403832.500000089,112441958.00000006,38000000,null,null,33150000,45750000,54750000]
["Road Structures",null,null,null,6103103.5999999987]
["Road Furniture"]
["Capital Spares"]
["Storm water Infrastructure",null,{"$f":"SUM(C13:C15)","v":0},{"$f":"SUM(D13:D15)","v":0},0,0,0,0,0,0,0]
["Drainage Collection"]
["Storm water Conveyance"]
["Attenuation"]
["Electrical Infrastructure",null,{"$f":"SUM(C17:C25)","v":0},0,1243673.75,0,0,0,0,0,0]
["Power Plants"]
["HV Substations"]
["HV Switching Station"]
["HV Transmission Conductors",null,null,null,1243673.75]
["MV Substations"]
["MV Switching Stations"]
["MV Networks"]
["LV Networks"]
["Capital Spares"]
["Water Supply Infrastructure",null,{"$f":"SUM(C27:C36)","v":0},{"$f":"SUM(D27:D36)","v":0},12311306.359999999,62426895,0,0,0,0,0]
["Dams and Weirs",null,null,null,311761.12]
["Boreholes"]
["Reservoirs",null,null,null,null,32426895]
["Pump Stations"]
["Water Treatment Works"]
["Bulk Mains"]
["Distribution",null,null,null,11999545.24,30000000]
["Distribution Points"]
["PRV Stations"]
["Capital Spares"]
["Sanitation Infrastructure",null,{"$f":"SUM(C38:C43)","v":0},{"$f":"SUM(D38:D43)","v":15866227.889999997},67834392.629999995,46000000,0,0,0,0,0]
["Pump Station",null,null,null,27453146.530000001,30000000]
["Reticulation",null,null,15866227.889999997]
["Waste Water Treatment Works",null,null,null,20743604.77]
["Outfall Sewers",null,null,null,19637641.329999998,16000000]
["Toilet Facilities"]
["Capital Spares"]
["Solid Waste Infrastructure",null,{"$f":"SUM(C45:C51)","v":0},{"$f":"SUM(D45:D51)","v":0},0,0,0,0,0,0,0]
["Landfill Sites"]
["Waste Transfer Stations"]
["Waste Processing Facilities"]
["Waste Drop-off Points"]
["Waste Separation Facilities"]
["Electricity Generation Facilities"]
["Capital Spares"]
["Rail Infrastructure",null,{"$f":"SUM(C53:C61)","v":0},0,0,0,0,0,0,0,0]
["Rail Lines"]
["Rail Structures"]
["Rail Furniture"]
["Drainage Collection"]
["Storm water Conveyance"]
["Attenuation"]
["MV Substations"]
["LV Networks"]
["Capital Spares"]
["Coastal Infrastructure",null,{"$f":"SUM(C63:C67)","v":0},{"$f":"SUM(D63:D67)","v":0},0,0,0,0,14206000,7500000,8000000]
["Sand Pumps"]
["Piers"]
["Revetments"]
["Promenades",null,null,null,null,null,null,null,14206000,7500000,8000000]
["Capital Spares"]
["Information and Communication Infrastructure",null,{"$f":"SUM(C69:C72)","v":0},{"$f":"SUM(D69:D72)","v":0},0,0,0,0,0,0,0]
["Data Centres"]
["Core Layers"]
["Distribution Layers"]
["Capital Spares"]
[]
["Community Assets",null,{"$f":"C75+C98","v":0},{"$f":"D75+D98","v":5246056.67},880640.9,0,174579.05,174579.05,8000000,7500000,8000000]
["Community Facilities",null,{"$f":"SUM(C76:C97)","v":0},{"$f":"SUM(D76:D97)","v":1178169.95},740615.92,0,174579.05,174579.05,8000000,7500000,8000000]
["Halls",null,null,null,740615.92]
["Centres"]
["Crèches"]
["Clinics/Care Centres"]
["Fire/Ambulance Stations"]
["Testing Stations"]
["Museums"]
["Galleries"]
["Theatres"]
["Libraries"]
["Cemeteries/Crematoria",null,null,1178169.95]
["Police",null,null,null,null,null,174579.05,174579.05]
["Parks"]
["Public Open Space"]
["Nature Reserves"]
["Public Ablution Facilities"]
["Markets",null,null,null,null,null,null,null,8000000,7500000,8000000]
["Stalls"]
["Abattoirs"]
["Airports"]
["Taxi Ranks/Bus Terminals"]
["Capital Spares"]
["Sport and Recreation Facilities",null,{"$f":"SUM(C99:C101)","v":0},{"$f":"SUM(D99:D101)","v":4067886.7199999997},140024.98000000001,0,0,0,0,0,0]
["Indoor Facilities"]
["Outdoor Facilities",null,null,4067886.7199999997,140024.98000000001]
["Capital Spares"]
[]
["Heritage assets",null,{"$f":"SUM(C104:C108)","v":208367675.97999999},{"$f":"SUM(D104:D108)","v":0},0,0,0,0,0,0,0]
["Monuments"]
["Historic Buildings"]
["Works of Art"]
["Conservation Areas"]
["Other Heritage",null,208367675.97999999]
[]
["Investment properties",null,{"$f":"+C111+C114","v":0},{"$f":"+D111+D114","v":0},0,0,0,0,0,0,0]
["Revenue Generating",null,{"$f":"SUM(C112:C113)","v":0},0,0,0,0,0,0,0,0]
["Improved Property"]
["Unimproved Property"]
["Non-revenue Generating",null,{"$f":"SUM(C115:C116)","v":0},{"$f":"SUM(D115:D116)","v":0},0,0,0,0,0,0,0]
["Improved Property"]
["Unimproved Property"]
[]
["Other assets",null,{"$f":"+C119+C131","v":0},{"$f":"+D119+D131","v":1187810.3899999999},4337398.38,5423840,0,0,0,0,0]
["Operational Buildings",null,{"$f":"SUM(C120:C130)","v":0},{"$f":"SUM(D120:D130)","v":1187810.3899999999},4337398.38,515000,0,0,0,0,0]
["Municipal Offices",null,null,1187810.3899999999,3724379.82,515000]
["Pay/Enquiry Points"]
["Building Plan Offices"]
["Workshops"]
["Yards"]
["Stores"]
["Laboratories"]
["Training Centres",null,null,null,613018.56000000006]
["Manufacturing Plant"]
["Depots"]
["Capital Spares"]
["Housing",null,{"$f":"SUM(C132:C134)","v":0},{"$f":"SUM(D132:D134)","v":0},0,4908840,0,0,0,0,0]
["Staff Housing"]
["Social Housing",null,null,null,null,4908840]
["Capital Spares"]
[]
["Biological or Cultivated Assets",null,{"$f":"SUM(C137:C137)","v":0},0,0,0,0,0,0,0,0]
["Biological or Cultivated Assets"]
[]
["Intangible Assets",null,{"$f":"+C140+C141","v":0},{"$f":"+D140+D141","v":0},2961992.34,0,0,0,0,0,0]
["Servitudes"]
["Licences and Rights",null,{"$f":"SUM(C142:C147)","v":0},{"$f":"SUM(D142:D147)","v":0},2961992.34,0,0,0,0,0,0]
["Water Rights"]
["Effluent Licenses"]
["Solid Waste Licenses"]
["Computer Software and Applications",null,null,null,2961992.34]
["Load Settlement Software Applications"]
["Unspecified"]
[]
["Computer Equipment",null,{"$f":"SUM(C150:C150)","v":0},0,0,0,0,0,0,0,0]
["Computer Equipment"]
[]
["Furniture and Office Equipment",null,{"$f":"SUM(C153:C153)","v":0},0,0,0,0,0,0,0,0]
["Furniture and Office Equipment"]
[]
["Machinery and Equipment",null,{"$f":"SUM(C156:C156)","v":0},0,0,0,0,0,0,0,0]
["Machinery and Equipment"]
[]
["Transport Assets",null,{"$f":"SUM(C159:C159)","v":-4375362.12},0,0,0,0,0,0,0,0]
["Transport Assets",null,-4375362.12]
[]
["Land",null,{"$f":"SUM(C162:C162)","v":0},0,0,0,0,0,0,0,0]
["Land"]
[]
["Zoo's, Marine and Non-biological Animals",null,{"$f":"SUM(C165:C165)","v":0},0,0,0,0,0,0,0,0]
["Zoo's, Marine and Non-biological Animals"]
[]
["Living resources"," ",{"$f":"+C168+C171","v":0},{"$f":"+D168+D171","v":0},0,0,0,0,0,0,0]
["Mature"," ",{"$f":"SUM(C169:C170)","v":0},0,0,0,0,0,0,0,0]
["Policing and Protection"," "]
["Zoological plants and animals"," "]
["Immature"," ",{"$f":"SUM(C172:C173)","v":0},{"$f":"SUM(D172:D173)","v":0},0,0,0,0,0,0,0]
["Policing and Protection"," "]
["Zoological plants and animals"," "]
[""]
["Total Capital Expenditure on renewal of existing assets ",1,{"$f":"C6+C74+C103+C110+C118+C136+C139+C149+C152+C155+C158+C161+C164+C167","v":203992313.85999998},{"$f":"D6+D74+D103+D110+D118+D136+D139+D149+D152+D155+D158+D161+D164+D167","v":72703927.450000092},208114465.96000004,151850735,174579.05,174579.05,55356000,60750000,70750000]
[]
["Renewal of Existing Assets as % of total capex",null,{"$f":"IF(ISERROR(C175/'A9-Asset'!C110),0,(C175/'A9-Asset'!C110))","v":0.4251122097567398},{"$f":"IF(ISERROR(D175/'A9-Asset'!D110),0,(D175/'A9-Asset'!D110))","v":0.10599302090493806},{"$f":"IF(ISERROR(E175/'A9-Asset'!E110),0,(E175/'A9-Asset'!E110))","v":0.39911699705467979},{"$f":"IF(ISERROR(F175/'A9-Asset'!F110),0,(F175/'A9-Asset'!F110))","v":0.18165735221989079},{"$f":"IF(ISERROR(G175/'A9-Asset'!G110),0,(G175/'A9-Asset'!G110))","v":3.3127897752832874E-4},{"$f":"IF(ISERROR(H175/'A9-Asset'!H110),0,(H175/'A9-Asset'!H110))","v":3.3127897752832874E-4},{"$f":"IF(ISERROR(I175/'A9-Asset'!I110),0,(I175/'A9-Asset'!I110))","v":7.200686314536317E-2},{"$f":"IF(ISERROR(J175/'A9-Asset'!J110),0,(J175/'A9-Asset'!J110))","v":0.10450545946084837},{"$f":"IF(ISERROR(K175/'A9-Asset'!K110),0,(K175/'A9-Asset'!K110))","v":0.15796586936957172}]
["Renewal of Existing Assets as % of deprecn\"",null,{"$f":"IF(ISERROR(C175/'A9-Asset'!C183),0,(C175/'A9-Asset'!C183))","v":0.48847085572739313},{"$f":"IF(ISERROR(D175/'A9-Asset'!D183),0,(D175/'A9-Asset'!D183))","v":0.19516154378421979},{"$f":"IF(ISERROR(E175/'A9-Asset'!E183),0,(E175/'A9-Asset'!E183))","v":0.56764930594530627},{"$f":"IF(ISERROR(F175/'A9-Asset'!F183),0,(F175/'A9-Asset'!F183))","v":0.34358151790953223},{"$f":"IF(ISERROR(G175/'A9-Asset'!G183),0,(G175/'A9-Asset'!G183))","v":3.9520967801060864E-4},{"$f":"IF(ISERROR(H175/'A9-Asset'!H183),0,(H175/'A9-Asset'!H183))","v":3.9520967801060864E-4},{"$f":"IF(ISERROR(I175/'A9-Asset'!I183),0,(I175/'A9-Asset'!I183))","v":0.11861349057682179},{"$f":"IF(ISERROR(J175/'A9-Asset'!J183),0,(J175/'A9-Asset'!J183))","v":0.12339235918900951},{"$f":"IF(ISERROR(K175/'A9-Asset'!K183),0,(K175/'A9-Asset'!K183))","v":0.14035019534039375}]
[{"$f":"head27a","v":"References"}]
["1. Total Capital Expenditure  on renewal of existing assets (SA34b) plus Total Capital Expenditure on new assets (SA34a) plus Total Capital Expenditure  on upgrading of existing assets (SA34e) must reconcile to total capital expenditure in Budgeted Capital Expenditure"]

{"sheet":"SA34c","index":56,"n_rows":180,"n_cols":11,"rows_kept":180,"cut":false,"hidden":false,"merged":[[1,5,1,7],[1,8,1,10]]}
[{"$f":"muni&\" - \"&TableA34c","v":"0 - Supporting Table SA34c Repairs and maintenance expenditure by asset class"}]
[{"$f":"desc","v":"Description"},{"$f":"head27","v":"Ref"},{"$f":"head1b","v":"2019/20"},{"$f":"head1A","v":"2020/21"},{"$f":"Head1","v":"2021/22"},{"$f":"Head2","v":"Current Year 2022/23"},null,null,{"$f":"Head3","v":"2023/24 Medium Term Revenue & Expenditure Framework"}]
["R thousand",1,{"$f":"Head5","v":"Audited Outcome"},{"$f":"Head5","v":"Audited Outcome"},{"$f":"Head5","v":"Audited Outcome"},{"$f":"Head6","v":"Original Budget"},{"$f":"Head7","v":"Adjusted Budget"},{"$f":"Head8","v":"Full Year Forecast"},{"$f":"Head9","v":"Budget Year 2023/24"},{"$f":"Head10","v":"Budget Year +1 2024/25"},{"$f":"Head11","v":"Budget Year +2 2025/26"}]
["Repairs and maintenance expenditure by Asset Class/Sub-class"]
[]
["Infrastructure",null,{"$f":"C7+C12+C16+C26+C37+C44+C52+C62+C68","v":33758097.360000007},{"$f":"D7+D12+D16+D26+D37+D44+D52+D62+D68","v":77522286.649999991},130183872.88,166983538.66666666,74899719.080000028,74899719.080000028,169862603.09999999,178185870.65189999,186560606.5725393]
["Roads Infrastructure",null,{"$f":"SUM(C8:C11)","v":0},0,0,0,0,0,0,0,0]
["Roads"]
["Road Structures"]
["Road Furniture"]
["Capital Spares"]
["Storm water Infrastructure",null,{"$f":"SUM(C13:C15)","v":0},{"$f":"SUM(D13:D15)","v":0},0,0,0,0,0,0,0]
["Drainage Collection"]
["Storm water Conveyance"]
["Attenuation"]
["Electrical Infrastructure",null,{"$f":"SUM(C17:C25)","v":33758097.360000007},77522286.649999991,130183872.88,87166094.333333328,63500697.00000003,63500697.00000003,161182203.09999999,169080131.0519,177026897.21133929]
["Power Plants",null,null,null,null,53999086,63500697,63500697,161182203.09999999,169080131.0519,177026897.21133929]
["HV Substations",null,null,21482812.599999994,33532273.719999999,33167008.333333332,3.3527612686157227E-8,3.3527612686157227E-8]
["HV Switching Station",null,14831031.570000004]
["HV Transmission Conductors"]
["MV Substations",null,null,8626276.9799999986,2820727.46]
["MV Switching Stations",null,235863.78]
["MV Networks"]
["LV Networks",null,18691202.010000002,47413197.07,93830871.700000003]
["Capital Spares"]
["Water Supply Infrastructure",null,{"$f":"SUM(C27:C36)","v":0},{"$f":"SUM(D27:D36)","v":0},0,0,11399022.08,11399022.08,8680400,9105739.5999999996,9533709.3611999992]
["Dams and Weirs"]
["Boreholes"]
["Reservoirs",null,null,null,null,null,11399022.08,11399022.08,8680400,9105739.5999999996,9533709.3611999992]
["Pump Stations"]
["Water Treatment Works"]
["Bulk Mains"]
["Distribution"]
["Distribution Points"]
["PRV Stations"]
["Capital Spares"]
["Sanitation Infrastructure",null,{"$f":"SUM(C38:C43)","v":0},{"$f":"SUM(D38:D43)","v":0},0,0,0,0,0,0,0]
["Pump Station"]
["Reticulation"]
["Waste Water Treatment Works"]
["Outfall Sewers"]
["Toilet Facilities"]
["Capital Spares"]
["Solid Waste Infrastructure",null,{"$f":"SUM(C45:C51)","v":0},{"$f":"SUM(D45:D51)","v":0},0,33167008.333333332,0,0,0,0,0]
["Landfill Sites",null,null,null,null,33167008.333333332]
["Waste Transfer Stations"]
["Waste Processing Facilities"]
["Waste Drop-off Points"]
["Waste Separation Facilities"]
["Electricity Generation Facilities"]
["Capital Spares"]
["Rail Infrastructure",null,{"$f":"SUM(C53:C61)","v":0},0,0,46650436,0,0,0,0,0]
["Rail Lines"]
["Rail Structures"]
["Rail Furniture"]
["Drainage Collection"]
["Storm water Conveyance"]
["Attenuation"]
["MV Substations"]
["LV Networks",null,null,null,null,46650436]
["Capital Spares"]
["Coastal Infrastructure",null,{"$f":"SUM(C63:C67)","v":0},{"$f":"SUM(D63:D67)","v":0},0,0,0,0,0,0,0]
["Sand Pumps"]
["Piers"]
["Revetments"]
["Promenades"]
["Capital Spares"]
["Information and Communication Infrastructure",null,{"$f":"SUM(C69:C72)","v":0},{"$f":"SUM(D69:D72)","v":0},0,0,0,0,0,0,0]
["Data Centres"]
["Core Layers"]
["Distribution Layers"]
["Capital Spares"]
[]
["Community Assets",null,{"$f":"C75+C98","v":0},{"$f":"D75+D98","v":0},0,33237008.333333332,14178.400000033527,14178.400000033527,15000,15734.999999999998,16474.544999999998]
["Community Facilities",null,{"$f":"SUM(C76:C97)","v":0},{"$f":"SUM(D76:D97)","v":0},0,33237008.333333332,14178.400000033527,14178.400000033527,15000,15734.999999999998,16474.544999999998]
["Halls",null,null,null,null,35000,10720,10720,15000,15734.999999999998,16474.544999999998]
["Centres"]
["Crèches"]
["Clinics/Care Centres"]
["Fire/Ambulance Stations"]
["Testing Stations",null,null,null,null,33167008.333333332,3.3527612686157227E-8,3.3527612686157227E-8]
["Museums"]
["Galleries"]
["Theatres"]
["Libraries"]
["Cemeteries/Crematoria"]
["Police"]
["Parks"]
["Public Open Space"]
["Nature Reserves"]
["Public Ablution Facilities"]
["Markets",null,null,null,null,null,3458.4,3458.4]
["Stalls"]
["Abattoirs"]
["Airports",null,null,null,null,35000]
["Taxi Ranks/Bus Terminals"]
["Capital Spares"]
["Sport and Recreation Facilities",null,{"$f":"SUM(C99:C101)","v":0},{"$f":"SUM(D99:D101)","v":0},0,0,0,0,0,0,0]
["Indoor Facilities"]
["Outdoor Facilities"]
["Capital Spares"]
[null,null,1000,1000,1000,1000,1000,1000,1000,1000,1000]
["Heritage assets",null,{"$f":"SUM(C104:C108)","v":0},{"$f":"SUM(D104:D108)","v":0},0,0,0,0,0,0,0]
["Monuments"]
["Historic Buildings"]
["Works of Art"]
["Conservation Areas"]
["Other Heritage"]
[]
["Investment properties",null,{"$f":"+C111+C114","v":0},{"$f":"+D111+D114","v":0},0,0,0,0,0,0,0]
["Revenue Generating",null,{"$f":"SUM(C112:C113)","v":0},0,0,0,0,0,0,0,0]
["Improved Property"]
["Unimproved Property"]
["Non-revenue Generating",null,{"$f":"SUM(C115:C116)","v":0},{"$f":"SUM(D115:D116)","v":0},0,0,0,0,0,0,0]
["Improved Property"]
["Unimproved Property"]
[]
["Other assets",null,{"$f":"+C119+C131","v":14844653.409999987},{"$f":"+D119+D131","v":14191124.890000004},70356137.469999999,181555729.07536,50586863.94600001,50586863.94600001,163462034.55919999,171463424.25260079,179530851.19247305]
["Operational Buildings",null,{"$f":"SUM(C120:C130)","v":14844653.409999987},{"$f":"SUM(D120:D130)","v":14191124.890000004},70356137.469999999,181555729.07536,50586863.94600001,50586863.94600001,163462034.55919999,171463424.25260079,179530851.19247305]
["Municipal Offices",null,14844653.409999987,14191124.890000004,70356137.469999999,50656697.296800002,23652061.446000002,23652061.446000002,50406689.059200004,52868366.823100798,55361826.063786544]
["Pay/Enquiry Points",null,null,null,null,null,0,0]
["Building Plan Offices",null,null,null,null,null,0,0]
["Workshops",null,null,null,null,23774927.736640006,7.4505805969238281E-9,7.4505805969238281E-9]
["Yards",null,null,null,null,null,0,0]
["Stores",null,null,null,null,107124104.04192001,26934802.5,26934802.5,113055345.5,118595057.42949998,124169025.1286865]
["Laboratories",null,null,null,null,null,0]
["Training Centres",null,null,null,null,null,0]
["Manufacturing Plant",null,null,null,null,null,0]
["Depots",null,null,null,null,null,0]
["Capital Spares",null,null,null,null,null,0]
["Housing",null,{"$f":"SUM(C132:C134)","v":0},{"$f":"SUM(D132:D134)","v":0},0,0,0,0,0,0,0]
["Staff Housing"]
["Social Housing"]
["Capital Spares"]
[]
["Biological or Cultivated Assets",null,{"$f":"SUM(C137:C137)","v":0},0,0,0,0,0,0,0,0]
["Biological or Cultivated Assets"]
[]
["Intangible Assets",null,{"$f":"+C140+C141","v":0},{"$f":"+D140+D141","v":0},0,0,0,0,0,0,0]
["Servitudes"]
["Licences and Rights",null,{"$f":"SUM(C142:C147)","v":0},{"$f":"SUM(D142:D147)","v":0},0,0,0,0,0,0,0]
["Water Rights"]
["Effluent Licenses"]
["Solid Waste Licenses"]
["Computer Software and Applications"]
["Load Settlement Software Applications"]
["Unspecified"]
[]
["Computer Equipment",null,{"$f":"SUM(C150:C150)","v":0},0,0,0,0,0,0,0,0]
["Computer Equipment"]
[]
["Furniture and Office Equipment",null,{"$f":"SUM(C153:C153)","v":0},0,0,0,0,0,0,0,0]
["Furniture and Office Equipment"]
[]
["Machinery and Equipment",null,{"$f":"SUM(C156:C156)","v":8558840.2300000023},19626154.249999996,38063520.790000007,94231632.041920006,100701865.77899998,100701865.77899998,214841689.52936003,225368932.31629857,235961272.13516468]
["Machinery and Equipment",null,8558840.2300000023,19626154.249999996,38063520.790000007,94231632.041920006,100701865.77899998,100701865.77899998,214841689.52936003,225368932.31629857,235961272.13516468]
[]
["Transport Assets",null,{"$f":"SUM(C159:C159)","v":0},0,0,29959178,20495107.457999997,20495107.457999997,25105149,25553001.300999999,27977642.362146992]
["Transport Assets",null,null,null,null,29959178,20495107.457999997,20495107.457999997,25105149,25553001.300999999,27977642.362146992]
[]
["Land",null,{"$f":"SUM(C162:C162)","v":0},0,0,0,0,0,0,0,0]
["Land"]
[]
["Zoo's, Marine and Non-biological Animals",null,{"$f":"SUM(C165:C165)","v":0},0,0,0,0,0,0,0,0]
["Zoo's, Marine and Non-biological Animals"]
[]
["Living resources"," ",{"$f":"+C168+C171","v":0},{"$f":"+D168+D171","v":0},0,0,0,0,0,0,0]
["Mature"," ",{"$f":"SUM(C169:C170)","v":0},0,0,0,0,0,0,0,0]
["Policing and Protection"," "]
["Zoological plants and animals"," "]
["Immature"," ",{"$f":"SUM(C172:C173)","v":0},{"$f":"SUM(D172:D173)","v":0},0,0,0,0,0,0,0]
["Policing and Protection"," "]
["Zoological plants and animals"," "]
[""]
["Total Repairs and Maintenance Expenditure",1,{"$f":"C6+C74+C103+C110+C118+C136+C139+C149+C152+C155+C158+C161+C164+C167","v":57161591},{"$f":"D6+D74+D103+D110+D118+D136+D139+D149+D152+D155+D158+D161+D164+D167","v":111339565.78999999},238603531.13999999,505967086.11728001,246697734.66300005,246697734.66300005,573286476.18856001,600586963.52179933,630046846.80732405]
[]
["R&M as a % of PPE",null,{"$f":"IF(ISERROR(ROUND(C175/'A6-FinPos'!C17,3)),0,(ROUND(C175/'A6-FinPos'!C17,3)))","v":8.9999999999999993E-3},{"$f":"IF(ISERROR(ROUND(D175/'A6-FinPos'!D20,3)),0,(ROUND(D175/'A6-FinPos'!D20,3)))","v":0.40799999999999997},{"$f":"IF(ISERROR(ROUND(E175/'A6-FinPos'!E20,3)),0,(ROUND(E175/'A6-FinPos'!E20,3)))","v":0.874},{"$f":"IF(ISERROR(ROUND(F175/'A6-FinPos'!F20,3)),0,(ROUND(F175/'A6-FinPos'!F20,3)))","v":0},{"$f":"IF(ISERROR(ROUND(G175/'A6-FinPos'!G20,3)),0,(ROUND(G175/'A6-FinPos'!G20,3)))","v":0},{"$f":"IF(ISERROR(ROUND(H175/'A6-FinPos'!H20,3)),0,(ROUND(H175/'A6-FinPos'!H20,3)))","v":0},{"$f":"I175/('A6-FinPos'!J17+'A6-FinPos'!J16)","v":6.4377003591779572E-2},{"$f":"J175/('A6-FinPos'!K17+'A6-FinPos'!K16)","v":6.9380585625354582E-2},{"$f":"K175/('A6-FinPos'!L17+'A6-FinPos'!L16)","v":8.3315119800502824E-2}]
["R&M as % Operating Expenditure",null,{"$f":"IF(ISERROR(ROUND(C175/'A1-Sum'!B18,3)),0,(ROUND(C175/'A1-Sum'!B18,3)))","v":0.01},{"$f":"IF(ISERROR(ROUND(D175/'A1-Sum'!C18,3)),0,(ROUND(D175/'A1-Sum'!C18,3)))","v":1.9E-2},{"$f":"IF(ISERROR(ROUND(E175/'A1-Sum'!D18,3)),0,(ROUND(E175/'A1-Sum'!D18,3)))","v":3.4000000000000002E-2},{"$f":"IF(ISERROR(ROUND(F175/'A1-Sum'!E18,3)),0,(ROUND(F175/'A1-Sum'!E18,3)))","v":7.8E-2},{"$f":"IF(ISERROR(ROUND(G175/'A1-Sum'!F18,3)),0,(ROUND(G175/'A1-Sum'!F18,3)))","v":3.6999999999999998E-2},{"$f":"IF(ISERROR(ROUND(H175/'A1-Sum'!G18,3)),0,(ROUND(H175/'A1-Sum'!G18,3)))","v":3.6999999999999998E-2},{"$f":"IF(ISERROR(ROUND(I175/'A1-Sum'!H18,3)),0,(ROUND(I175/'A1-Sum'!H18,3)))","v":0},{"$f":"IF(ISERROR(ROUND(J175/'A1-Sum'!I18,3)),0,(ROUND(J175/'A1-Sum'!I18,3)))","v":7.8E-2},{"$f":"IF(ISERROR(ROUND(K175/'A1-Sum'!J18,3)),0,(ROUND(K175/'A1-Sum'!J18,3)))","v":7.3999999999999996E-2}]
[{"$f":"head27a","v":"References"}]
["1. Total Repairs and Maintenance Expenditure by Asset Category must reconcile to total repairs and maintenance expenditure on Table SA1"]

{"sheet":"SA34d","index":57,"n_rows":181,"n_cols":11,"rows_kept":181,"cut":false,"hidden":false,"merged":[[1,5,1,7],[1,8,1,10]]}
[{"$f":"muni&\" - \"&TableA34d","v":"0 - Supporting Table SA34d Depreciation by asset class"}]
[{"$f":"desc","v":"Description"},{"$f":"head27","v":"Ref"},{"$f":"head1b","v":"2019/20"},{"$f":"head1A","v":"2020/21"},{"$f":"Head1","v":"2021/22"},{"$f":"Head2","v":"Current Year 2022/23"},null,null,{"$f":"Head3","v":"2023/24 Medium Term Revenue & Expenditure Framework"}]
["R thousand",1,{"$f":"Head5","v":"Audited Outcome"},{"$f":"Head5","v":"Audited Outcome"},{"$f":"Head5","v":"Audited Outcome"},{"$f":"Head6","v":"Original Budget"},{"$f":"Head7","v":"Adjusted Budget"},{"$f":"Head8","v":"Full Year Forecast"},{"$f":"Head9","v":"Budget Year 2023/24"},{"$f":"Head10","v":"Budget Year +1 2024/25"},{"$f":"Head11","v":"Budget Year +2 2025/26"}]
["Depreciation by Asset Class/Sub-class"]
[]
["Infrastructure",null,{"$f":"C7+C12+C16+C26+C37+C44+C52+C62+C68","v":406795265.61999989},{"$f":"D7+D12+D16+D26+D37+D44+D52+D62+D68","v":294390008.07000005},277334411.31999993,318476787.56950039,318250365.67750007,318250365.67750007,342269027.62910002,357671133.8724094,373766334.89666778]
["Roads Infrastructure",null,{"$f":"SUM(C8:C11)","v":161505379.15819198},109836629.13999999,83360903.449999958,81990009.891000375,81763587.999000058,81763587.999000058,119425760.13224998,124799919.33820124,130415915.70842028]
["Roads",null,161505379.15819198,109836629.13999999,83360903.449999958,81990009.891000375,81763587.999000058,81763587.999000058,119425760.13224998,124799919.33820124,130415915.70842028]
["Road Structures"]
["Road Furniture"]
["Capital Spares"]
["Storm water Infrastructure",null,{"$f":"SUM(C13:C15)","v":0},{"$f":"SUM(D13:D15)","v":0},0,0,0,0,0,0,0]
["Drainage Collection"]
["Storm water Conveyance"]
["Attenuation"]
["Electrical Infrastructure",null,{"$f":"SUM(C17:C25)","v":122483860.91180795},86543752.980000019,95030505.040000007,122776510.15449995,122776510.15449995,122776510.15449995,104984887.70164998,109709207.64822422,114646121.9923943]
["Power Plants",null,null,32518160.240000002]
["HV Substations",null,39279797.791247986,3717811.16,35395988.869999997,4993960.7445,4993960.7445,4993960.7445,38685433.282099999,40426277.779794492,42245460.27988524]
["HV Switching Station",null,3876703.12,48427659.830000013,4384395.8,80872057.014999941,80872057.014999941,80872057.014999941,5218688.9837499997,5453529.9880187502,5698938.8374795932]
["HV Transmission Conductors",null,77280084.190559968,null,52947554.06000001,36910492.395000011,36910492.395000011,36910492.395000011,58677373.060349986,61317854.848065734,64077158.316228688]
["MV Substations",null,null,null,null,null,null,null,0,0,0]
["MV Switching Stations",null,null,null,null,null,null,null,0,0,0]
["MV Networks",null,null,1880121.7499999995,null,null,null,null,0,0,0]
["LV Networks",null,2047275.81,null,2302566.31,null,null,null,2403392.3754499997,2511545.0323452498,2624564.5588007858]
["Capital Spares",null,null,null,null,null,null,null,0,0,0]
["Water Supply Infrastructure",null,{"$f":"SUM(C27:C36)","v":102672007.11999999},{"$f":"SUM(D27:D36)","v":78091459.840000033},76042999.689999983,88497307.332000017,88497307.332000017,88497307.332000017,81811183.128400013,85492686.369177952,89339857.255790994]
["Dams and Weirs"]
["Boreholes"]
["Reservoirs",null,102672007.11999999]
["Pump Stations"]
["Water Treatment Works"]
["Bulk Mains"]
["Distribution",null,null,78091459.840000033,76042999.689999983,88497307.332000017,88497307.332000017,88497307.332000017,81811183.128400013,85492686.369177952,89339857.255790994]
["Distribution Points"]
["PRV Stations"]
["Capital Spares"]
["Sanitation Infrastructure",null,{"$f":"SUM(C38:C43)","v":19740119.909999996},{"$f":"SUM(D38:D43)","v":18534666.179999996},20964693.380000003,21473122.324500006,21473122.324500006,21473122.324500006,34418266.759800002,35967088.763990998,37585607.758370593]
["Pump Station"]
["Reticulation",null,19740119.909999996,null,null,21473122.324500006,21473122.324500006,21473122.324500006]
["Waste Water Treatment Works",null,null,18534666.179999996,20964693.380000003,null,null,null,34418266.759800002,35967088.763990998,37585607.758370593]
["Outfall Sewers"]
["Toilet Facilities"]
["Capital Spares"]
["Solid Waste Infrastructure",null,{"$f":"SUM(C45:C51)","v":388705.34},{"$f":"SUM(D45:D51)","v":1273995.6599999999},1815999.1199999999,1439940.8625,1439940.8625,1439940.8625,1498016.3093499998,1565427.0432707497,1635871.2602179332]
["Landfill Sites",null,388705.34,1273995.6599999999,1815999.1199999999,1439940.8625,1439940.8625,1439940.8625,1498016.3093499998,1565427.0432707497,1635871.2602179332]
["Waste Transfer Stations"]
["Waste Processing Facilities"]
["Waste Drop-off Points"]
["Waste Separation Facilities"]
["Electricity Generation Facilities"]
["Capital Spares"]
["Rail Infrastructure",null,{"$f":"SUM(C53:C61)","v":5193.18},109504.26999999999,119310.64,2299897.0050000004,2299897.0050000004,2299897.0050000004,130913.59765,136804.70954424998,142960.92147374124]
["Rail Lines",null,5193.18,109504.26999999999,119310.64,2299897.0050000004,2299897.0050000004,2299897.0050000004,130913.59765,136804.70954424998,142960.92147374124]
["Rail Structures"]
["Rail Furniture"]
["Drainage Collection"]
["Storm water Conveyance"]
["Attenuation"]
["MV Substations"]
["LV Networks"]
["Capital Spares"]
["Coastal Infrastructure",null,{"$f":"SUM(C63:C67)","v":0},{"$f":"SUM(D63:D67)","v":0},0,0,0,0,0,0,0]
["Sand Pumps"]
["Piers"]
["Revetments"]
["Promenades"]
["Capital Spares"]
["Information and Communication Infrastructure",null,{"$f":"SUM(C69:C72)","v":0},{"$f":"SUM(D69:D72)","v":0},0,0,0,0,0,0,0]
["Data Centres"]
["Core Layers"]
["Distribution Layers"]
["Capital Spares"]
[]
["Community Assets",null,{"$f":"C75+C98","v":5545286.9299999997},{"$f":"D75+D98","v":27468566.609999996},28835875.340000004,24611467.492500007,24611467.492500007,24611467.492500007,33383812.774399996,34886084.349247992,36455958.144964151]
["Community Facilities",null,{"$f":"SUM(C76:C97)","v":3649367.74},{"$f":"SUM(D76:D97)","v":15149710.489999996},17497502.150000002,10507856.908500001,10507856.908500001,10507856.908500001,18528459.099149998,19362239.758611742,20233540.547749273]
["Halls",null,null,null,null,null,0,0,0,0,0]
["Centres",null,327626.12,3277550.0299999993,3083574.6200000006,3725487.7590000001,3725487.7590000001,3725487.7590000001,3918147.5470500006,4094464.1866672491,4278715.0750672752]
["Crèches",null,87614.97,458936.52999999997,497501.73000000004,525032.55000000005,525032.55000000005,525032.55000000005,548659.01474999997,573348.67041374999,599149.36058236868]
["Clinics/Care Centres",null,45877.89,639458.35000000009,681455.69000000006,691245.30300000019,691245.30300000019,691245.30300000019,764478.64295000001,798880.18188274989,834829.79006747366]
["Fire/Ambulance Stations",null,175215.03,567862.35,586997.34000000008,649651.46400000004,649651.46400000004,649651.46400000004,678885.78614999994,709435.64652674994,741360.25062045362]
["Testing Stations",null,null,null,null,null,0,0,0,0,0]
["Museums",null,null,null,null,null,0,0,0,0,0]
["Galleries",null,null,null,null,null,0,0,0,0,0]
["Theatres",null,24602.51,348499.66,188497.11000000002,398694.03,398694.03,398694.03,416635.26134999999,435383.84811074997,454976.12127573369]
["Libraries",null,184774.71,2512757.56,2385123.8000000003,2879464.0245000003,2879464.0245000003,2879464.0245000003,3009039.9113500002,3144446.7073607501,3285946.8091919837]
["Cemeteries/Crematoria",null,177006.32,409901.5,443893.41000000003,468937.66500000004,468937.66500000004,468937.66500000004,490039.86514999997,512091.65908174991,535135.78374042863]
["Police",null,null,null,null,null,0,0,0,0,0]
["Parks",null,null,null,null,null,0,0,0,0,0]
["Public Open Space",null,7529.03,88222.760000000009,80200.94,89847.061499999996,89847.061499999996,89847.061499999996,12373.635999999999,12930.449619999999,13512.319852899998]
["Nature Reserves",null,null,null,null,null,0,0,0,0,0]
["Public Ablution Facilities",null,404630.22,951000.5199999999,1019364.52,1077291.9675000005,1077291.9675000005,1077291.9675000005,1136930.1757,1188092.0336065001,1241556.1751187923]
["Markets",null,2203842.77,5284406.0799999991,5761475.3299999991,2205.0839999999998,2205.0839999999998,2205.0839999999998,6310441.0401999988,6594410.8870089985,6891159.376924403]
["Stalls",null,null,null,null,null,0,0,0,0,0]
["Abattoirs",null,null,null,null,null,0,0,0,0,0]
["Airports",null,10648.17,611115.14999999991,2769417.66,null,0,0,1242828.2185,1298755.4883324997,1357199.485307462]
["Taxi Ranks/Bus Terminals",null,null,null,null,null,0,0,0,0,0]
["Capital Spares",null,null,null,null,null,0,0,0,0,0]
["Sport and Recreation Facilities",null,{"$f":"SUM(C99:C101)","v":1895919.19},{"$f":"SUM(D99:D101)","v":12318856.119999999},11338373.189999999,14103610.584000004,14103610.584000004,14103610.584000004,14855353.675249998,15523844.590636246,16222417.597214876]
["Indoor Facilities",null,null,null,null,null,null,null,0,0,0]
["Outdoor Facilities",null,1895919.19,12318856.119999999,11338373.189999999,14103610.584000004,14103610.584000004,14103610.584000004,14855353.675249998,15523844.590636246,16222417.597214876]
["Capital Spares",null,null,null,null,null,null,null,0,0,0]
[]
["Heritage assets",null,{"$f":"SUM(C104:C108)","v":0},{"$f":"SUM(D104:D108)","v":0},0,0,0,0,0,0,0]
["Monuments"]
["Historic Buildings"]
["Works of Art"]
["Conservation Areas"]
["Other Heritage"]
[]
["Investment properties",null,{"$f":"+C111+C114","v":0},{"$f":"+D111+D114","v":0},0,0,0,0,0,0,0]
["Revenue Generating",null,{"$f":"SUM(C112:C113)","v":0},0,0,0,0,0,0,0,0]
["Improved Property"]
["Unimproved Property"]
["Non-revenue Generating",null,{"$f":"SUM(C115:C116)","v":0},{"$f":"SUM(D115:D116)","v":0},0,0,0,0,0,0,0]
["Improved Property"]
["Unimproved Property"]
[]
["Other assets",null,{"$f":"+C119+C131","v":669353.23999999964},{"$f":"+D119+D131","v":17104765.990000416},19013888.879999995,25430381.617500011,25430381.617500011,25430381.617500011,28585069.517949991,29871397.64625774,31215610.540339351]
["Operational Buildings",null,{"$f":"SUM(C120:C130)","v":650169.15999999968},{"$f":"SUM(D120:D130)","v":17072373.970000416},18984513.939999994,25430381.617500011,25430381.617500011,25430381.617500011,28546344.514049992,29830930.017182238,31173321.867955454]
["Municipal Offices",null,582720.22999999963,16311649.610000417,18185012.619999994,24560106.00150001,24560106.00150001,24560106.00150001,27636906.491149992,28880567.28325174,30180192.810998082]
["Pay/Enquiry Points",null,null,null,null,null,0,null,0,0,0]
["Building Plan Offices",null,null,null,null,null,0,null,0,0,0]
["Workshops",null,67448.929999999993,760724.35999999987,799501.32,870275.61600000004,870275.61600000004,870275.61600000004,909438.02289999987,950362.73393049976,993129.05695737223]
["Yards",null,null,null,null,null,0]
["Stores",null,null,null,null,null,0]
["Laboratories",null,null,null,null,null,0]
["Training Centres",null,null,null,null,null,0]
["Manufacturing Plant",null,null,null,null,null,0]
["Depots",null,null,null,null,null,0]
["Capital Spares",null,null,null,null,null,0]
["Housing",null,{"$f":"SUM(C132:C134)","v":19184.079999999998},{"$f":"SUM(D132:D134)","v":32392.02},29374.939999999995,0,0,0,38725.003899999996,40467.629075499994,42288.672383897494]
["Staff Housing",null,1918.35,32392.02,29374.939999999995,null,null,null,38725.003899999996,40467.629075499994,42288.672383897494]
["Social Housing",null,17265.73]
["Capital Spares"]
[]
["Biological or Cultivated Assets",null,{"$f":"SUM(C137:C137)","v":0},0,0,0,0,0,0,0,0]
["Biological or Cultivated Assets"]
[]
["Intangible Assets",null,{"$f":"+C140+C141","v":608584.67000000004},{"$f":"+D140+D141","v":1415384.0099995378},6244975.9700000016,15272282.046000004,15272282.046000004,15272282.046000004,15992044.180199999,16711686.168308998,17463712.045882903]
["Servitudes",null,null,null,null,null,null,null,15992044.180199999,16711686.168308998,17463712.045882903]
["Licences and Rights",null,{"$f":"SUM(C142:C147)","v":608584.67000000004},{"$f":"SUM(D142:D147)","v":1415384.0099995378},6244975.9700000016,15272282.046000004,15272282.046000004,15272282.046000004,0,0,0]
["Water Rights"]
["Effluent Licenses"]
["Solid Waste Licenses"]
["Computer Software and Applications",null,608584.67000000004,1415384.0099995378,null,15272282.046000004,15272282.046000004,15272282.046000004]
["Load Settlement Software Applications",null,null,null,6244975.9700000016]
["Unspecified"]
[]
["Computer Equipment",null,{"$f":"SUM(C150:C150)","v":1746067.37},9422344.2100000009,8526362.839999998,10426749.054999992,10426749.054999992,10426749.054999992,11437628.752599997,11959602.046466997,12500704.138558013]
["Computer Equipment",null,1746067.37,9422344.2100000009,8526362.839999998,10426749.054999992,10426749.054999992,10426749.054999992,11437628.752599997,11959602.046466997,12500704.138558013]
[]
["Furniture and Office Equipment",null,{"$f":"SUM(C153:C153)","v":183148.57},1512567.74,1895007.25,21310238.765000001,21310238.765000001,21310238.765000001,1872477.8102999993,1960855.3117635006,2053193.8007928582]
["Furniture and Office Equipment",null,183148.57,1512567.74,1895007.25,21310238.765000001,21310238.765000001,21310238.765000001,1872477.8102999993,1960855.3117635006,2053193.8007928582]
[]
["Machinery and Equipment",null,{"$f":"SUM(C156:C156)","v":1171077.4200000595},53543223.789999999,8178881.8499999996,8331820.6369999964,8331820.6369999964,8331820.6369999964,9685398.8983999956,10098747.348828003,9970246.4795252588]
["Machinery and Equipment",null,1171077.4200000595,53543223.789999999,8178881.8499999996,8331820.6369999964,8331820.6369999964,8331820.6369999964,9685398.8983999956,10098747.348828003,9970246.4795252588]
[]
["Transport Assets",null,{"$f":"SUM(C159:C159)","v":895310.18},-32324823.420000002,16595665.549999999,18104485.339499999,18104485.339499999,18104485.339499999,18390524.437050004,19229204.256717343,20670438.953269642]
["Transport Assets",null,895310.18,-32324823.420000002,16595665.549999999,18104485.339499999,18104485.339499999,18104485.339499999,18390524.437050004,19229204.256717343,20670438.953269642]
[]
["Land",null,{"$f":"SUM(C162:C162)","v":0},0,0,0,0,0,0,0,0]
["Land"]
[]
["Zoo's, Marine and Non-biological Animals",null,{"$f":"SUM(C165:C165)","v":0},0,0,0,0,0,0,0,0]
["Zoo's, Marine and Non-biological Animals"]
[]
["Living resources"," ",{"$f":"+C168+C171","v":0},{"$f":"+D168+D171","v":0},0,0,0,0,0,0,0]
["Mature"," ",{"$f":"SUM(C169:C170)","v":0},0,0,0,0,0,0,0,0]
["Policing and Protection"," "]
["Zoological plants and animals"," "]
["Immature"," ",{"$f":"SUM(C172:C173)","v":0},{"$f":"SUM(D172:D173)","v":0},0,0,0,0,0,0,0]
["Policing and Protection"," "]
["Zoological plants and animals"," "]
[""]
["Total Depreciation",1,{"$f":"C6+C74+C103+C110+C118+C136+C139+C149+C152+C155+C158+C161+C164+C167","v":417614094},{"$f":"D6+D74+D103+D110+D118+D136+D139+D149+D152+D155+D158+D161+D164+D167","v":372532037},366625069,441964212.52200043,441737790.63000011,441737790.63000011,461615984,482388711,504096199]
[]
[{"$f":"head27a","v":"References"}]
["1. Depreciation based on write down values. Not including Depreciation resulting from revaluation."]
[]
[]
["Check",null,{"$f":"C$175-'A4-FinPerf RE'!C$39","v":0},{"$f":"D$175-'A4-FinPerf RE'!D$39","v":0},{"$f":"E$175-'A4-FinPerf RE'!E$39","v":0},{"$f":"F$175-'A4-FinPerf RE'!F$39","v":0},{"$f":"G$175-'A4-FinPerf RE'!G$39","v":0},{"$f":"H$175-'A4-FinPerf RE'!H$39","v":0},{"$f":"I$175-'A4-FinPerf RE'!J$39","v":0},{"$f":"J$175-'A4-FinPerf RE'!K$39","v":0},{"$f":"K$175-'A4-FinPerf RE'!L$39","v":0}]

{"sheet":"SA34e","index":58,"n_rows":180,"n_cols":11,"rows_kept":180,"cut":false,"hidden":false,"merged":[[1,5,1,7],[1,8,1,10]]}
[{"$f":"muni&\" - \"&TableA34e","v":"0 - Supporting Table SA34e Capital expenditure on the upgrading of existing assets by asset class"}]
[{"$f":"desc","v":"Description"},{"$f":"head27","v":"Ref"},{"$f":"head1b","v":"2019/20"},{"$f":"head1A","v":"2020/21"},{"$f":"Head1","v":"2021/22"},{"$f":"Head2","v":"Current Year 2022/23"},null,null,{"$f":"Head3","v":"2023/24 Medium Term Revenue & Expenditure Framework"}]
["R thousand",1,{"$f":"Head5","v":"Audited Outcome"},{"$f":"Head5","v":"Audited Outcome"},{"$f":"Head5","v":"Audited Outcome"},{"$f":"Head6","v":"Original Budget"},{"$f":"Head7","v":"Adjusted Budget"},{"$f":"Head8","v":"Full Year Forecast"},{"$f":"Head9","v":"Budget Year 2023/24"},{"$f":"Head10","v":"Budget Year +1 2024/25"},{"$f":"Head11","v":"Budget Year +2 2025/26"}]
["Capital expenditure on upgrading of existing assets by Asset Class/Sub-class"]
[]
["Infrastructure",null,{"$f":"C7+C12+C16+C26+C37+C44+C52+C62+C68","v":0},{"$f":"D7+D12+D16+D26+D37+D44+D52+D62+D68","v":103213642.16999997},87780422.180000022,371885680,290439174.27999991,290439174.27999991,189764500,329313245,200638196.09999999]
["Roads Infrastructure",null,{"$f":"SUM(C8:C11)","v":0},59061068.889999993,29784476.150000013,63118110,156664066.6999999,156664066.6999999,38400000,51091846,53492336.100000001]
["Roads",null,null,55451900.269999996,29784476.150000013,33243160,156664066.6999999,156664066.6999999,38400000,51091846,53492336.100000001]
["Road Structures",null,null,3609168.6200000006,null,29874950]
["Road Furniture"]
["Capital Spares"]
["Storm water Infrastructure",null,{"$f":"SUM(C13:C15)","v":0},{"$f":"SUM(D13:D15)","v":0},0,0,0,0,0,0,0]
["Drainage Collection"]
["Storm water Conveyance"]
["Attenuation"]
["Electrical Infrastructure",null,{"$f":"SUM(C17:C25)","v":0},26990126.439999998,34905519.900000006,134414050,0,0,0,0,0]
["Power Plants",null,null,null,10380994.459999999,15139000]
["HV Substations",null,null,4834391.01,2545501.92,3000000]
["HV Switching Station",null,null,null,null,14300000]
["HV Transmission Conductors",null,null,22155735.43]
["MV Substations",null,null,null,21979023.520000003,69548155,null,null,null,null,0]
["MV Switching Stations",null,null,null,null,32426895]
["MV Networks"]
["LV Networks"]
["Capital Spares"]
["Water Supply Infrastructure",null,{"$f":"SUM(C27:C36)","v":0},{"$f":"SUM(D27:D36)","v":15228935.02},0,109803325,74785305,74785305,106064500,213383235,77739423]
["Dams and Weirs",null,null,null,null,null,null,null,null,100000000]
["Boreholes"]
["Reservoirs",null,null,null,null,2000000]
["Pump Stations"]
["Water Treatment Works"]
["Bulk Mains"]
["Distribution",null,null,15228935.02,null,107803325,74785305,74785305,106064500,113383235,77739423]
["Distribution Points"]
["PRV Stations"]
["Capital Spares"]
["Sanitation Infrastructure",null,{"$f":"SUM(C38:C43)","v":0},{"$f":"SUM(D38:D43)","v":0},19787951.879999999,64550195,51439802.579999998,51439802.579999998,40300000,59838164,64406437]
["Pump Station",null,null,null,null,46197500]
["Reticulation",null,null,null,null,18352695,51439802.579999998,51439802.579999998,40300000,59838164,64406437]
["Waste Water Treatment Works"]
["Outfall Sewers",null,null,null,19787951.879999999]
["Toilet Facilities"]
["Capital Spares"]
["Solid Waste Infrastructure",null,{"$f":"SUM(C45:C51)","v":0},{"$f":"SUM(D45:D51)","v":1933511.8199999998},3302474.25,0,7550000,7550000,5000000,5000000,5000000]
["Landfill Sites",null,null,1933511.8199999998,3302474.25,null,7550000,7550000,5000000,5000000,5000000]
["Waste Transfer Stations"]
["Waste Processing Facilities"]
["Waste Drop-off Points"]
["Waste Separation Facilities"]
["Electricity Generation Facilities"]
["Capital Spares"]
["Rail Infrastructure",null,{"$f":"SUM(C53:C61)","v":0},0,0,0,0,0,0,0,0]
["Rail Lines"]
["Rail Structures"]
["Rail Furniture"]
["Drainage Collection"]
["Storm water Conveyance"]
["Attenuation"]
["MV Substations"]
["LV Networks"]
["Capital Spares"]
["Coastal Infrastructure",null,{"$f":"SUM(C63:C67)","v":0},{"$f":"SUM(D63:D67)","v":0},0,0,0,0,0,0,0]
["Sand Pumps"]
["Piers"]
["Revetments"]
["Promenades"]
["Capital Spares"]
["Information and Communication Infrastructure",null,{"$f":"SUM(C69:C72)","v":0},{"$f":"SUM(D69:D72)","v":0},0,0,0,0,0,0,0]
["Data Centres"]
["Core Layers"]
["Distribution Layers"]
["Capital Spares"]
[]
["Community Assets",null,{"$f":"C75+C98","v":0},{"$f":"D75+D98","v":102070925.61},17526532.490000002,7600000,0,0,0,0,0]
["Community Facilities",null,{"$f":"SUM(C76:C97)","v":0},{"$f":"SUM(D76:D97)","v":102070925.61},17526532.490000002,7600000,0,0,0,0,0]
["Halls",null,null,96538812.310000002,7780845.7300000004]
["Centres"]
["Crèches"]
["Clinics/Care Centres"]
["Fire/Ambulance Stations"]
["Testing Stations"]
["Museums"]
["Galleries"]
["Theatres"]
["Libraries",null,null,2181395,7000000]
["Cemeteries/Crematoria",null,null,3350718.3,2745686.7600000002,1000000]
["Police"]
["Parks",null,null,null,null,6600000]
["Public Open Space"]
["Nature Reserves"]
["Public Ablution Facilities"]
["Markets"]
["Stalls"]
["Abattoirs"]
["Airports"]
["Taxi Ranks/Bus Terminals"]
["Capital Spares"]
["Sport and Recreation Facilities",null,{"$f":"SUM(C99:C101)","v":0},{"$f":"SUM(D99:D101)","v":0},0,0,0,0,0,0,0]
["Indoor Facilities"]
["Outdoor Facilities"]
["Capital Spares"]
[]
["Heritage assets",null,{"$f":"SUM(C104:C108)","v":201733761.11000001},{"$f":"SUM(D104:D108)","v":0},0,0,0,0,0,0,0]
["Monuments"]
["Historic Buildings"]
["Works of Art"]
["Conservation Areas"]
["Other Heritage",null,201733761.11000001]
[]
["Investment properties",null,{"$f":"+C111+C114","v":0},{"$f":"+D111+D114","v":0},0,0,0,0,0,0,0]
["Revenue Generating",null,{"$f":"SUM(C112:C113)","v":0},0,0,0,0,0,0,0,0]
["Improved Property"]
["Unimproved Property"]
["Non-revenue Generating",null,{"$f":"SUM(C115:C116)","v":0},{"$f":"SUM(D115:D116)","v":0},0,0,0,0,0,0,0]
["Improved Property"]
["Unimproved Property"]
[]
["Other assets",null,{"$f":"+C119+C131","v":0},{"$f":"+D119+D131","v":0},0,93997018.870000005,38336251,38336251,10700000,10000000,10000000]
["Operational Buildings",null,{"$f":"SUM(C120:C130)","v":0},{"$f":"SUM(D120:D130)","v":0},0,200000,38336251,38336251,10700000,10000000,10000000]
["Municipal Offices",null,null,null,null,200000,38336251,38336251,10700000,10000000,10000000]
["Pay/Enquiry Points"]
["Building Plan Offices"]
["Workshops"]
["Yards"]
["Stores"]
["Laboratories"]
["Training Centres"]
["Manufacturing Plant"]
["Depots"]
["Capital Spares"]
["Housing",null,{"$f":"SUM(C132:C134)","v":0},{"$f":"SUM(D132:D134)","v":0},0,93797018.870000005,0,0,0,0,0]
["Staff Housing"]
["Social Housing",null,null,null,null,93797018.870000005]
["Capital Spares"]
[]
["Biological or Cultivated Assets",null,{"$f":"SUM(C137:C137)","v":0},0,0,0,0,0,0,0,0]
["Biological or Cultivated Assets"]
[]
["Intangible Assets",null,{"$f":"+C140+C141","v":0},{"$f":"+D140+D141","v":0},0,14672010,0,0,0,0,0]
["Servitudes"]
["Licences and Rights",null,{"$f":"SUM(C142:C147)","v":0},{"$f":"SUM(D142:D147)","v":0},0,14672010,0,0,0,0,0]
["Water Rights"]
["Effluent Licenses"]
["Solid Waste Licenses"]
["Computer Software and Applications",null,null,null,null,14672010]
["Load Settlement Software Applications"]
["Unspecified"]
[]
["Computer Equipment",null,{"$f":"SUM(C150:C150)","v":0},0,0,0,0,0,0,0,0]
["Computer Equipment"]
[]
["Furniture and Office Equipment",null,{"$f":"SUM(C153:C153)","v":0},0,0,0,50000,50000,0,0,0]
["Furniture and Office Equipment",null,null,null,null,null,50000,50000]
[]
["Machinery and Equipment",null,{"$f":"SUM(C156:C156)","v":15562.55},0,0,0,500000,500000,0,0,0]
["Machinery and Equipment",null,15562.55,null,null,null,500000,500000]
[]
["Transport Assets",null,{"$f":"SUM(C159:C159)","v":-6604571.5},0,0,0,0,0,5000000,5000000,5000000]
["Transport Assets",null,-6604571.5,null,null,null,null,null,5000000,5000000,5000000]
[]
["Land",null,{"$f":"SUM(C162:C162)","v":0},0,0,0,0,0,0,0,0]
["Land"]
[]
["Zoo's, Marine and Non-biological Animals",null,{"$f":"SUM(C165:C165)","v":59610022.049999997},0,0,0,0,0,0,0,0]
["Zoo's, Marine and Non-biological Animals",null,59610022.049999997]
[]
["Living resources"," ",{"$f":"+C168+C171","v":0},{"$f":"+D168+D171","v":0},0,0,0,0,0,0,0]
["Mature"," ",{"$f":"SUM(C169:C170)","v":0},0,0,0,0,0,0,0,0]
["Policing and Protection"," "]
["Zoological plants and animals"," "]
["Immature"," ",{"$f":"SUM(C172:C173)","v":0},{"$f":"SUM(D172:D173)","v":0},0,0,0,0,0,0,0]
["Policing and Protection"," "]
["Zoological plants and animals"," "]
[""]
["Total Capital Expenditure on upgrading of existing assets ",1,{"$f":"C6+C74+C103+C110+C118+C136+C139+C149+C152+C155+C158+C161+C164+C167","v":254754774.21000004},{"$f":"D6+D74+D103+D110+D118+D136+D139+D149+D152+D155+D158+D161+D164+D167","v":205284567.77999997},105306954.67000002,488154708.87,329325425.27999991,329325425.27999991,205464500,344313245,215638196.09999999]
[]
["Upgrading of Existing Assets as % of total capex",null,{"$f":"IF(ISERROR(C175/'A9-Asset'!C110),0,(C175/'A9-Asset'!C110))","v":0.53089924302156954},{"$f":"IF(ISERROR(D175/'A9-Asset'!D110),0,(D175/'A9-Asset'!D110))","v":0.29927862561662322},{"$f":"IF(ISERROR(E175/'A9-Asset'!E110),0,(E175/'A9-Asset'!E110))","v":0.201955185205347},{"$f":"IF(ISERROR(F175/'A9-Asset'!F110),0,(F175/'A9-Asset'!F110))","v":0.58397407089926723},{"$f":"IF(ISERROR(G175/'A9-Asset'!G110),0,(G175/'A9-Asset'!G110))","v":0.62492372458688716},{"$f":"IF(ISERROR(H175/'A9-Asset'!H110),0,(H175/'A9-Asset'!H110))","v":0.62492372458688716},{"$f":"IF(ISERROR(I175/'A9-Asset'!I110),0,(I175/'A9-Asset'!I110))","v":0.26726739888594681},{"$f":"IF(ISERROR(J175/'A9-Asset'!J110),0,(J175/'A9-Asset'!J110))","v":0.59230640110585442},{"$f":"IF(ISERROR(K175/'A9-Asset'!K110),0,(K175/'A9-Asset'!K110))","v":0.48146254581233483}]
["Upgrading of Existing Assets as % of deprecn\"",null,{"$f":"IF(ISERROR(C175/'A9-Asset'!C183),0,(C175/'A9-Asset'!C183))","v":0.610024369076969},{"$f":"IF(ISERROR(D175/'A9-Asset'!D183),0,(D175/'A9-Asset'!D183))","v":0.55105211737802828},{"$f":"IF(ISERROR(E175/'A9-Asset'!E183),0,(E175/'A9-Asset'!E183))","v":0.28723337156739825},{"$f":"IF(ISERROR(F175/'A9-Asset'!F183),0,(F175/'A9-Asset'!F183))","v":1.1045118474285975},{"$f":"IF(ISERROR(G175/'A9-Asset'!G183),0,(G175/'A9-Asset'!G183))","v":0.74552241683991016},{"$f":"IF(ISERROR(H175/'A9-Asset'!H183),0,(H175/'A9-Asset'!H183))","v":0.74552241683991016},{"$f":"IF(ISERROR(I175/'A9-Asset'!I183),0,(I175/'A9-Asset'!I183))","v":0.44025691044550547},{"$f":"IF(ISERROR(J175/'A9-Asset'!J183),0,(J175/'A9-Asset'!J183))","v":0.69935182881602354},{"$f":"IF(ISERROR(K175/'A9-Asset'!K183),0,(K175/'A9-Asset'!K183))","v":0.42777191442381812}]
[{"$f":"head27a","v":"References"}]
["1.  Total Capital Expenditure  on upgrading of existing assets (SA34e) plus Total Capital Expenditure on new assets (SA34a)  plus Total Capital Expenditure  on renewal of existing assets (SA34b) must reconcile to total capital expenditure in Budgeted Capital Expenditure"]

{"sheet":"SA35","index":59,"n_rows":59,"n_cols":9,"rows_kept":59,"cut":false,"hidden":false,"merged":[[1,5,1,8],[1,2,1,4]]}
[{"$f":"muni&\" - \"&TableA35","v":"0 - Supporting Table SA35 Future financial implications of the capital budget"}]
[{"$f":"Vdesc","v":"Vote Description"},{"$f":"head27","v":"Ref"},{"$f":"Head3","v":"2023/24 Medium Term Revenue & Expenditure Framework"},null,null,"Forecasts"]
["R thousand",null,{"$f":"Head9","v":"Budget Year 2023/24"},{"$f":"Head10","v":"Budget Year +1 2024/25"},{"$f":"Head11","v":"Budget Year +2 2025/26"},{"$f":"Head12","v":"Forecast 2026/27"},{"$f":"Head13","v":"Forecast 2027/28"},{"$f":"Head14","v":"Forecast 2028/29"},{"$f":"Head48","v":"Present value"}]
["Capital expenditure",1]
[{"$f":"'A5-Capex'!A6","v":"Vote 1 - City Manager"},null,{"$f":"'A5-Capex'!J6+'A5-Capex'!J24","v":5000000},{"$f":"'A5-Capex'!K6+'A5-Capex'!K24","v":0},{"$f":"'A5-Capex'!L6+'A5-Capex'!L24","v":0}]
[{"$f":"'A5-Capex'!A7","v":"Vote 2 - City Finance"},null,{"$f":"'A5-Capex'!J7+'A5-Capex'!J25","v":30000000},{"$f":"'A5-Capex'!K7+'A5-Capex'!K25","v":30000000},{"$f":"'A5-Capex'!L7+'A5-Capex'!L25","v":30000000}]
[{"$f":"'A5-Capex'!A8","v":"Vote 3 - Corporate Services"},null,{"$f":"'A5-Capex'!J8+'A5-Capex'!J26","v":20000000},{"$f":"'A5-Capex'!K8+'A5-Capex'!K26","v":20000000},{"$f":"'A5-Capex'!L8+'A5-Capex'!L26","v":20000000}]
[{"$f":"'A5-Capex'!A9","v":"Vote 4 - Community Services and Social Equity"},null,{"$f":"'A5-Capex'!J9+'A5-Capex'!J27","v":28886499.049999952},{"$f":"'A5-Capex'!K9+'A5-Capex'!K27","v":17455350},{"$f":"'A5-Capex'!L9+'A5-Capex'!L27","v":26864880}]
[{"$f":"'A5-Capex'!A10","v":"Vote 5 - Infrastructure Services"},null,{"$f":"'A5-Capex'!J10+'A5-Capex'!J28","v":323102140},{"$f":"'A5-Capex'!K10+'A5-Capex'!K28","v":347432645},{"$f":"'A5-Capex'!L10+'A5-Capex'!L28","v":310181156.10000002}]
[{"$f":"'A5-Capex'!A11","v":"Vote 6 - Sustainable Development and City Enterprises"},null,{"$f":"'A5-Capex'!J11+'A5-Capex'!J29","v":182771414.94999999},{"$f":"'A5-Capex'!K11+'A5-Capex'!K29","v":37453496.200000003},{"$f":"'A5-Capex'!L11+'A5-Capex'!L29","v":31203000}]
[{"$f":"'A5-Capex'!A12","v":"Vote 7 - Electricity"},null,{"$f":"'A5-Capex'!J12+'A5-Capex'!J30","v":179000000},{"$f":"'A5-Capex'!K12+'A5-Capex'!K30","v":128967852},{"$f":"'A5-Capex'!L12+'A5-Capex'!L30","v":29632523.899999999}]
[{"$f":"'A5-Capex'!A13","v":"Vote 8 - [NAME OF VOTE 8]"},null,{"$f":"'A5-Capex'!J13+'A5-Capex'!J31","v":0},{"$f":"'A5-Capex'!K13+'A5-Capex'!K31","v":0},{"$f":"'A5-Capex'!L13+'A5-Capex'!L31","v":0}]
[{"$f":"'A5-Capex'!A14","v":"Vote 9 - [NAME OF VOTE 9]"},null,{"$f":"'A5-Capex'!J14+'A5-Capex'!J32","v":0},{"$f":"'A5-Capex'!K14+'A5-Capex'!K32","v":0},{"$f":"'A5-Capex'!L14+'A5-Capex'!L32","v":0}]
[{"$f":"'A5-Capex'!A15","v":"Vote 10 - [NAME OF VOTE 10]"},null,{"$f":"'A5-Capex'!J15+'A5-Capex'!J33","v":0},{"$f":"'A5-Capex'!K15+'A5-Capex'!K33","v":0},{"$f":"'A5-Capex'!L15+'A5-Capex'!L33","v":0}]
[{"$f":"'A5-Capex'!A16","v":"Vote 11 - [NAME OF VOTE 11]"},null,{"$f":"'A5-Capex'!J16+'A5-Capex'!J34","v":0},{"$f":"'A5-Capex'!K16+'A5-Capex'!K34","v":0},{"$f":"'A5-Capex'!L16+'A5-Capex'!L34","v":0}]
[{"$f":"'A5-Capex'!A17","v":"Vote 12 - [NAME OF VOTE 12]"},null,{"$f":"'A5-Capex'!J17+'A5-Capex'!J35","v":0},{"$f":"'A5-Capex'!K17+'A5-Capex'!K35","v":0},{"$f":"'A5-Capex'!L17+'A5-Capex'!L35","v":0}]
[{"$f":"'A5-Capex'!A18","v":"Vote 13 - [NAME OF VOTE 13]"},null,{"$f":"'A5-Capex'!J18+'A5-Capex'!J36","v":0},{"$f":"'A5-Capex'!K18+'A5-Capex'!K36","v":0},{"$f":"'A5-Capex'!L18+'A5-Capex'!L36","v":0}]
[{"$f":"'A5-Capex'!A19","v":"Vote 14 - [NAME OF VOTE 14]"},null,{"$f":"'A5-Capex'!J19+'A5-Capex'!J37","v":0},{"$f":"'A5-Capex'!K19+'A5-Capex'!K37","v":0},{"$f":"'A5-Capex'!L19+'A5-Capex'!L37","v":0}]
[{"$f":"'A5-Capex'!A20","v":"Vote 15 - [NAME OF VOTE 15]"},null,{"$f":"'A5-Capex'!J20+'A5-Capex'!J38","v":0},{"$f":"'A5-Capex'!K20+'A5-Capex'!K38","v":0},{"$f":"'A5-Capex'!L20+'A5-Capex'!L38","v":0}]
["List entity summary if applicable"]
["Total Capital Expenditure ",null,{"$f":"SUM(C5:C20)","v":768760054},{"$f":"SUM(D5:D20)","v":581309343.20000005},447881560,0,0,0,0]
[]
["Future operational costs by vote",2]
[{"$f":"A5","v":"Vote 1 - City Manager"}]
[{"$f":"A6","v":"Vote 2 - City Finance"}]
["Vote 3 - Corporate Services"]
["Vote 4 - Community Services and Social Equity"]
["Vote 5 - Infrastructure Services"]
["Vote 6 - Sustainable Development and City Enterprises"]
["Vote 7 - Electricity"]
["Vote 8 - [NAME OF VOTE 8]"]
["Vote 9 - [NAME OF VOTE 9]"]
["Vote 10 - [NAME OF VOTE 10]"]
["Vote 11 - [NAME OF VOTE 11]"]
["Vote 12 - [NAME OF VOTE 12]"]
["Vote 13 - [NAME OF VOTE 13]"]
["Vote 14 - [NAME OF VOTE 14]"]
["Vote 15 - [NAME OF VOTE 15]"]
["List entity summary if applicable"]
["Total future operational costs",null,{"$f":"SUM(C24:C39)","v":0},{"$f":"SUM(D24:D39)","v":0},0,0,0,0,0]
[]
["Future revenue by source",3]
[{"$f":"'A4-FinPerf RE'!A5","v":"Exchange Revenue"}]
[{"$f":"'A4-FinPerf RE'!A6","v":"Service charges - Electricity"}]
[{"$f":"'A4-FinPerf RE'!A7","v":"Service charges - Water"}]
[{"$f":"'A4-FinPerf RE'!A8","v":"Service charges - Waste Water Management"}]
[{"$f":"'A4-FinPerf RE'!A9","v":"Service charges - Waste Management"}]
[]
[{"$f":"'A4-FinPerf RE'!A11","v":"Agency services"}]
["List other revenues sources if applicable"]
["List entity summary if applicable"]
["Total future revenue",null,{"$f":"SUM(C43:C47)+SUM(C49:C51)","v":0},{"$f":"SUM(D43:D47)+SUM(D49:D51)","v":0},0,0,0,0,0]
["Net Financial Implications",null,{"$f":"C21+C40-C52","v":768760054},581309343.20000005,447881560,0,0,0,0]
[{"$f":"head27a","v":"References"}]
["1. Summarise the total capital cost until capital project is operational (MFMA s19(2)(a))"]
["2. Summary of future operational costs from when projects operational (present value until the end of each asset's useful life) (MFMA s19(2)(b))"]
["3. Summarise the future revenue from when projects are operational, including municipal tax and tariff implications, (present value until the end of asset's useful life)"]
[]
["check",null,{"$f":"C21-('A5-Capex'!J21+'A5-Capex'!J39)","v":0},{"$f":"D21-('A5-Capex'!K21+'A5-Capex'!K39)","v":0},{"$f":"E21-('A5-Capex'!L21+'A5-Capex'!L39)","v":0}]

{"sheet":"SA36","index":60,"n_rows":349,"n_cols":17,"rows_kept":349,"cut":false,"hidden":false,"merged":[[1,12,1,13],[1,14,1,16]]}
[{"$f":"muni&\" - \"&TableA36","v":"0 - Supporting Table SA36 Detailed capital budget"}]
["R thousand",null,null,null,null,null,null,null,null,null,null,null,null,null,{"$f":"Head3","v":"2023/24 Medium Term Revenue & Expenditure Framework"}]
["Function","Project Description","Project Number","Type","MTSF Service Outcome","IUDF","Own Strategic Objectives","Asset Class","Asset Sub-Class","Ward Location","GPS Longitude","GPS Lattitude",{"$f":"Head5&\"    \"&Head1","v":"Audited Outcome    2021/22"},{"$f":"Head2 & \"        \"&Head8","v":"Current Year 2022/23        Full Year Forecast"},{"$f":"Head9","v":"Budget Year 2023/24"},{"$f":"Head10","v":"Budget Year +1 2024/25"},{"$f":"Head11","v":"Budget Year +2 2025/26"}]
["Parent municipality:"]
["List all capital projects grouped by Function"]
[]
["INFRASTRUCTURE","MSE:AH:NEW:COMPUTER EQUIPMENT",null,null,null,null,null,null,null,null,null,null,null,null,1000000]
["City Manager","LEVS:AH:NEW:COMPUTER EQUIPMENT","A/101011.BAH.A52",null,null,null,null,null,null,null,null,null,null,null,4000000]
["City Manager","LEVS:AH:FURNITURE","A/101011.BAH.A53"]
["City Manager","MSU1/I/104010.002","I/104010.002"]
["City Manager","LEVS:AH:TRANSPORT ASSETS. NEW","A/104013.BAH.A61"]
["City Manager","LEVS:AH:REFURBISHMENT OF CITY HALL","I/101011.003"]
["City Manager","LEVS:AH:NEW:COMPUTER EQUIPMENT","A/104010.BAH.A52"]
["City Manager","MSU1/A/104010.BAH.A61","A/104010.BAH.A61"]
["City Manager","MSU1/I/104010.002","I/104010.002"]
["City Manager","LEVS:AH:TRANSPORT ASSETS. NEW","A/104013.BAH.A61"]
["City Manager","LEVS:AH:NEW:COMPUTER EQUIPMENT","A/104016.BAH.A52"]
["City Manager","MSU1/A/104016.BAH.A61","A/104016.BAH.A61"]
["City Manager","LEVS:AH:FURNITURE","A/104013.BAH.A53"]
["City Manager","LEVS:AH:FURNITURE","A/104016.BAH.A53"]
["City Manager","LEVS:AH:TRANSPORT ASSETS. NEW","A/104018.BAH.A61"]
["City Manager","LEVS:AH:TRANSPORT ASSETS. NEW","A/104019.BAH.A61"]
["City Manager","LEVS:AH:NEW:FURNITURE & OFFICE EQUIP","A/104528.BAH.A53"]
["City Manager","LEVS:AH:NEW:MACHINERY & EQUIPM","A/104528.BAH.A60",null,null,null,null,null,null,null,null,null,null,null,30000000,30000000,30000000]
["City Finance","LEVS:ZA:FINANCIAL MANAGEMENT SYSTEM SAP","I/202035.001",null,null,null,null,null,null,null,null,null,null,null,10000000,10000000,10000000]
["Corporate Services","LEVS:AH:NEW:COMPUTER EQUIPMENT","A/304526.BAH.A52",null,null,null,null,null,null,null,null,null,null,null,10000000,10000000,10000000]
["Corporate Services","LEVS:ZA:LAN/WAN","I/304526.003"]
["Corporate Services","MSU1/A/304001.BAH.A52","A/304001.BAH.A52"]
["Corporate Services","LEVS:AH:NEW MACHINERY & EQUIPM","A/304346.BAH.A60"]
["Corporate Services","LEVS:AH:NEW:COMPUTER EQUIPMENT","A/304505.BAH.A52"]
["Corporate Services","LEVS:AH:NEW:MACHINERY & EQUIPM","A/304506.BAH.A60"]
["Corporate Services","LEVS:ZA:NEW:FURNITURE & OFFICE EQUIP","A/304506.BZA.A53"]
["Corporate Services","LEVS:AH:NEW:COMPUTER EQUIPMENT","A/304507.BAH.A52"]
["Corporate Services","LEVS:AH:NEW:MACHINERY & EQUIPM","A/304507.BAH.A60"]
["Corporate Services","LEVS:AH:NEW:MACHINERY & EQUIPM","A/304525.BAH.A60"]
["Corporate Services","LEVS:AH:NEW:COMPUTER EQUIPMENT","A/304526.BAH.A52"]
["Corporate Services","LEVS:AH:NEW:FURNITURE & EQUIPMENT","A/304526.BAH.A53"]
["Corporate Services","LEVS:AH:NEW:FURNITURE & EQUIPMENT","A/304526.BAH.A53"]
["Corporate Services","LEVS:AH:NEW:MACHINERY & EQUIPM","A/304526.BAH.A60"]
["Corporate Services","LEVS:ZA:LAN/WAN","I/304526.003",null,null,null,null,null,null,null,null,null,null,null,5000000,5000000,5000000]
["Community Services & Social Equity","MSU1/I/404185.004","I/404185.004",null,null,null,null,null,null,null,null,null,null,null,3125000,0]
["Community Services & Social Equity","MIG:Z5:WARD 38 COMMUNITY HALL","I/403243.007",null,null,null,null,null,null,null,null,null,null,null,4500000,0]
["Community Services & Social Equity","MIG:Z1:WARD 7 COMMUNITY HALL","I/403243.008",null,null,null,null,null,null,null,null,null,null,null,4120500,0]
["Community Services & Social Equity","MIG:Z5:WARD 29 COMMUNITY HALL","I/403243.009",null,null,null,null,null,null,null,null,null,null,null,1550000,2455350,6534880]
["Community Services & Social Equity","MIG:Z4:WARD 24 COMMUNITY HALL","I/403243.010",null,null,null,null,null,null,null,null,null,null,null,4100000,5000000,5330000]
["Community Services & Social Equity","MIG:Z1:WARD 8 COMMUNITY HALL","I/403243.011",null,null,null,null,null,null,null,null,null,null,null,1450000,3000000,5000000]
["Community Services & Social Equity","MIG:Z1:WARD 8 COMMUNITY HALL","I/403243.011",null,null,null,null,null,null,null,null,null,null,null,3731000,0]
["Community Services & Social Equity","MIG:Z3:WARD 13 COMMUNITY HALL","I/403243.012",null,null,null,null,null,null,null,null,null,null,null,550000,2000000,5000000]
["Community Services & Social Equity","MIG:Z3:WARD 34 COMMUNITY HALL"]
["Community Services & Social Equity","MIG:Z5:MADIBA COMMUNITY HALL","I/403243.013"]
["Community Services & Social Equity","MIG:Z5:WARD 5 COMMUNITY HALL","I/403243.023"]
["Community Services & Social Equity","MIG:Z2:KWAPATA MULTI-PURPOSE CENTER","I/403243.025",null,null,null,null,null,null,null,null,null,null,null,700000,0,0]
["Community Services & Social Equity","MIG:Z5:WARD 35 DEV OF MOUNTAIN RISE CEMETRY","I/404392.010"]
["Community Services & Social Equity","MIG:Z5:WARD 35 DEV OF ETHEMBENI CEMETRY","I/404392.010"]
["Infrastructure Services","MSU1/I/504202.024","I/504202.024"]
["Infrastructure Services","WSIG:ZA:BASIC WATER SUPPLY","I/504787.010"]
["Infrastructure Services","WSIG:ZA:BASIC WATER SUPPLY","I/504787.010"]
["Infrastructure Services","WSIG:Z1:VULINDLELA PHASE 3 ","I/504787.036 "]
["Infrastructure Services","WSIG:Z1:GREATER MSUNDUZI VIP TOILETS (W1-9,39 & 40)","P/504202.007  "]
["Infrastructure Services","WSIG:Z1:GREATER MSUNDUZI VIP TOILETS (W10-38 & 41)","NEW "]
["Infrastructure Services","WSIG:Z1:EDENDALE & BULWER HOUSING DEVELOPMENT","NEW "]
["Infrastructure Services","LEVS:AH:NEW:COMPUTER EQUIPMENT","A/504125.BAH.A52",null,null,null,null,null,null,null,null,null,null,null,5000000,5000000,5000000]
["Infrastructure Services","LEVS:ZA:NEW:TRANSPORT ASSETS","A/504125.BZA.A61",null,null,null,null,null,null,null,null,null,null,null,20000000,30750000,40750000]
["Infrastructure Services","LEVS:Z4:ROAD REHAB - PMS","I/504125.006"]
["Infrastructure Services","MSU1/I/504125.061","I/504125.061",null,null,null,null,null,null,null,null,null,null,null,750000,0,0]
["Infrastructure Services","LEVS:AH:NEW:CHANGE ROOMS REHAB","I/504125.067",null,null,null,null,null,null,null,null,null,null,null,2000000,2000000,2000000]
["Infrastructure Services","LEVS:AH:Canalisation of Streams/bank pro","I/504126.007"]
["Infrastructure Services","LEVS:AH: PURCHASE OF SIDREA SOFTWARE","A/504131.BAH.A06",null,null,null,null,null,null,null,null,null,null,null,0,0,0]
["Infrastructure Services","LEVS:ZA:NEW:TRANSPORT ASSETS","A/504131.BZA.A61"]
["Infrastructure Services","LEVS:ZA:NEW:MACHINERY & EQUIPM","A/504131.BZA.A60"]
["Infrastructure Services","LEVS:Z5:TRAFFIC CALMING MEASURES","I/504131.006",null,null,null,null,null,null,null,null,null,null,null,250000,250000,250000]
["Infrastructure Services","LEVS:Z5:TRAFFIC CALMING MEASURES","I/504131.006",null,null,null,null,null,null,null,null,null,null,null,2000000,2000000,2000000]
["Infrastructure Services","LEVS:Z4:PUBLIC TRANSPORT INFRASTR","I/504143.001"]
["Infrastructure Services","LEVS:ZA:NEW:TRANSPORT ASSETS","A/504161.BZA.A61",null,null,null,null,null,null,null,null,null,null,null,0,0,0]
["Infrastructure Services","MSU1/A/504202.WZA.A60","A/504202.WZA.A60",null,null,null,null,null,null,null,null,null,null,null,0,0,0]
["Infrastructure Services","WWAT:ZA:NEW:TRANSPORT ASSETS","A/504202.WZA.A61"]
["Infrastructure Services","WSIG:Z1:ERAD OF MSUNDUZI SANITATIO B/LOG","I/504202.024"]
["Infrastructure Services","MDRG:Z5:LINCON-HOLLINGWOOD PUMP STATION","I/504202.026"]
["Infrastructure Services","MDRG:Z3:WILLOWFONTEIN CLINIC SEWER PIPE","I/504202.027"]
["Infrastructure Services","MDRG:Z5:SOBANTU PUMP STATION","I/504202.028"]
["Infrastructure Services","MDRG:Z4:GRANGE PAROGON STEEL STRUCTURE","I/504202.029"]
["Infrastructure Services","MDRG:Z3:EDENDALE DD/Q DISTRICT SEWER PIP","I/504202.030"]
["Infrastructure Services","PGCAP:Z2:GREATER EDENDALE PROJECTS","I/604285.005"]
["Infrastructure Services","MSE:Z1:HILTON INFRASTRUCTURE UPGRADE","I/504713.015"]
["Infrastructure Services","ALNS: Z2:MASONS 132/11kv PRIMARY SUB UPG","I/504713.018"]
["Infrastructure Services","INEP:Z5:THEMBALIHLE ELECTRIFICATION","I/504713.025"]
["Infrastructure Services","INEP:Z5:ZAMOKUHLE (TAMBOVILLE) ELECTRIFI","I/504713.030"]
["Infrastructure Services","MSU1/I/504713.036","I/504713.036"]
["Infrastructure Services","ALNS:ZA:NEW:TRANSPORT ASSETS","A/504787.1ZA.A61"]
["Infrastructure Services","ALNS:ZA:NEW:TRANSPORT ASSETS","A/504787.1ZA.A61",null,null,null,null,null,null,null,null,null,null,null,0,0,0]
["Infrastructure Services","WATR:ZA:NEW:MACHINERY & EQUIPM","A/504787.ZZA.A60",null,null,null,null,null,null,null,null,null,null,null,0,0,0]
["Infrastructure Services","WATR:ZA:NEW:TRANSPORT ASSETS","A/504787.ZZA.A61"]
["Infrastructure Services","WSIG:ZA:BASIC WATER SUPPLY","I/504787.010"]
["Infrastructure Services","WSIG:ZA:BASIC WATER SUPPLY","I/504787.010",null,null,null,null,null,null,null,null,null,null,null,28000000,35000000,38986000]
["Infrastructure Services","WSIG:Z1:VULINDLELA PHASE 3 (Planning & D","I/504787.036",null,null,null,null,null,null,null,null,null,null,null,50000000]
["Infrastructure Services","ALNS:ZA:REDUCTION OF NON REVENUE WATER","I/504787.037"]
["Infrastructure Services","MDRG:Z3:GRT EDENDALE RESEVOIR WARD 17","I/504787.038",null,null,null,null,null,null,null,null,null,null,null,7000000,7000000,7000000]
["Infrastructure Services","LEVS:METERING","to be created",null,null,null,null,null,null,null,null,null,null,null,6000000,12000000,12054979.34]
["Infrastructure Services","MIG:Z2:UPG GRV RD-EDN-DAMBUZA MJ SWD UPG","I/504125.014",null,null,null,null,null,null,null,null,null,null,null,7000000,3091846,3277356.7600000002]
["Infrastructure Services","MIG:Z1:UPGR GRV ROADS-VULINDLELA-WARD 4","I/504125.029",null,null,null,null,null,null,null,null,null,null,null,1500000,0]
["Infrastructure Services","MIG:Z1:UPGR GRV ROADS-VULINDLELA-WARD 7","I/504125.031",null,null,null,null,null,null,null,null,null,null,null,1700000,0]
["Infrastructure Services","MIG:Z1:UPGR GRV RD-VULINDLELA-WARD8","I/504125.032",null,null,null,null,null,null,null,null,null,null,null,7700000,8000000,8480000]
["Infrastructure Services","MIG:Z1:UPGR GRV ROADS-VULINDLELA-WARD 9","I/504125.033"]
["Infrastructure Services","MIG:Z2:UPGR RD IN PEACE VALLEY-10KM","I/504125.035",null,null,null,null,null,null,null,null,null,null,null,1000000,0]
["Infrastructure Services","MIG:Z2:UPGR GRV ROADS-WILLOWF","I/504125.037",null,null,null,null,null,null,null,null,null,null,null,1500000,5000000,5300000]
["Infrastructure Services","MIG:Z1:UPGR GRV ROADS-VUL-WARD 1","I/504125.042",null,null,null,null,null,null,null,null,null,null,null,7000000,13000000,13780000]
["Infrastructure Services","MIG:Z1:UPGR GRV ROADS-VUL-WARD 5","I/504125.043"]
["Infrastructure Services","MIG:Z1:UPGR GRV RD-VULINDLELA WARD 2","I/504125.047",null,null,null,null,null,null,null,null,null,null,null,5000000,10000000,10600000]
["Infrastructure Services","MIG:Z1: REHAB OF BALENI ROAD SWEETWATER","I/504125.055",null,null,null,null,null,null,null,null,null,null,null,22000000,16244601,10000000]
["Infrastructure Services","MIG:ZA:ELIM OF CONSERV TANKS:SEWER","I/504202.009"]
["Infrastructure Services","MIG:Z3:SHENSTONE AMBLETON SANIT SYSTEM","I/504202.013",null,null,null,null,null,null,null,null,null,null,null,3000000,33593563,26406437]
["Infrastructure Services","MIG:Z3:SLANGSPRUIT AMBLETON SANITATION S","I/504202.015",null,null,null,null,null,null,null,null,null,null,null,15300000,0,3000000]
["Infrastructure Services","MIG:Z2:VULINDLELA H/HOLD SANITATION-W10","I/504202.016",null,null,null,null,null,null,null,null,null,null,null,0,10000000,25000000]
["Infrastructure Services","MIG:Z2:EDENDALE - SEWER RETIC - WARD 16","I/504202.021",null,null,null,null,null,null,null,null,null,null,null,65477640,65339400,37182960]
["Infrastructure Services","MIG:ZA:DARVIL SEWER OUTFALL","I/504202.025"]
["Infrastructure Services","MUNICIPAL RUNNING COST",null,null,null,null,null,null,null,null,null,null,null,null,11064500,14000000,15000000]
["Infrastructure Services","MIG:ZA:REDUCTION OF NON REVENUE WATER","I/504787.008",null,null,null,null,null,null,null,null,null,null,null,15000000,12383235,21753423]
["Infrastructure Services","MIG:Z5:COPESVILLE RESERVOIR","I/504787.026",null,null,null,null,null,null,null,null,null,null,null,22860000,12780000,22360000]
["Infrastructure Services","MIG:Z1:NCWADI PHASE 2A","I/504787.030",null,null,null,null,null,null,null,null,null,null,null,15000000]
["Infrastructure Services","to be created","to be created"]
["Sustainable Development and City Enterprises","MIG:Z2:INSTAL WATER METERS AND MANHOLES","I/604560.020",null,null,null,null,null,null,null,null,null,null,null,10000000,3138748,0]
["Sustainable Development and City Enterprises","MIG:Z2: EDENDALE WIREWALL PROJECT","I/604560.020"]
["Sustainable Development and City Enterprises","LEVS:AH:NEW:COMPUTER EQUIPMENT","A/604101.BAH.A52"]
["Sustainable Development and City Enterprises","LEVS:AH:NEW:MACHINERY & EQUIPM","A/604101.BAH.A60"]
["Sustainable Development and City Enterprises","MSU1/A/604113.BAH.A60","A/604113.BAH.A60"]
["Sustainable Development and City Enterprises","LEVS:AH:NEW:COMPUTER EQUIPMENT","A/604115.BAH.A52"]
["Sustainable Development and City Enterprises","LEVS:AH:NEW:FURNITURE & OFFICE EQUIP","A/604115.BAH.A53"]
["Sustainable Development and City Enterprises","MSU1/A/604115.BAH.A61","A/604115.BAH.A61"]
["Sustainable Development and City Enterprises","MSU1/A/604115.BAH.A61","A/604115.BAH.A61"]
["Sustainable Development and City Enterprises","MSU1/A/604241.BAH.A52","A/604241.BAH.A52"]
["Sustainable Development and City Enterprises","MSU1/A/604241.BAH.A60","A/604241.BAH.A60"]
["Sustainable Development and City Enterprises","MSU1/A/604241.BAH.A61","A/604241.BAH.A61"]
["Sustainable Development and City Enterprises","LEVS:Z4:INFORMAL ECONOMY INFRASTRUCTURE","I/604241.001"]
["Sustainable Development and City Enterprises","NDPG:Z2:Edendale Town Centre: Promenade1","I/604241.002"]
["Sustainable Development and City Enterprises","MSU1/I/604241.005","I/604241.005"]
["Sustainable Development and City Enterprises","NDPG: Z4: ISF: CAMPSDRIFT DESILTING","I/604241.016"]
["Sustainable Development and City Enterprises","NDPG:Z4:CIVIC ZONE PHASE 1:MARKET STALLS","I/604241.019"]
["Sustainable Development and City Enterprises","NDPG:Z2:CIVIC ZONE PHASE 1:SKY BRIDGE","I/604241.020"]
["Sustainable Development and City Enterprises","NDPG:Z2:OLD EDENDALE ROAD UPGRADE","I/604241.021"]
["Sustainable Development and City Enterprises","ACRDC:AH:NEW:NEW:COMPUTER EQUIPMENT","A/604270.A9H.A52"]
["Sustainable Development and City Enterprises","ACRDC:AH:NEW:NEW:FURNITURE & OFFICE EQUIP","A/604270.A9H.A53"]
["Sustainable Development and City Enterprises","ACRDO:ZA:NEW FURNITURE & OFFICE EQUIP","A/604270.B1A.A53"]
["Sustainable Development and City Enterprises","ACRDO:ZA:NEW FURNITURE & OFFICE EQUIP","A/604270.B1A.A53"]
["Sustainable Development and City Enterprises","LEVS:AH:NEW:COMPUTER EQUIPMENT","A/604285.BAH.A52"]
["Sustainable Development and City Enterprises","LEVS:AH:NEW:FURNITURE & OFFICE EQUIP","A/604285.BAH.A53"]
["Sustainable Development and City Enterprises","NDPG:Z2:MT PARTRIDGE ROAD UPGR","I/604285.001"]
["Sustainable Development and City Enterprises","PGCAP:Z2:GREATER EDENDALE PROJECTS","I/604285.005"]
["Sustainable Development and City Enterprises","LEVS:AH:NEW:COMPUTER EQUIPMENT","A/604347.BAH.A52"]
["Sustainable Development and City Enterprises","LEVS:AH:NEW:MACHINERY & EQUIPMENT","A/604480.BAH.A60"]
["Sustainable Development and City Enterprises","MSU1/I/604480.006","I/604480.006"]
["Sustainable Development and City Enterprises","MSU1/A/604508.BAH.A60","A/604508.BAH.A60"]
["Sustainable Development and City Enterprises","LEVS:Z4:NEW:FURNITURE & OFFICE EQUIP","A/604508.BZ4.A53"]
["Sustainable Development and City Enterprises","LEVS:Z4:NEW:FURNITURE & OFFICE EQUIP","A/604508.BZ4.A53"]
["Sustainable Development and City Enterprises","LEVS:Z4:NEW:FURNITURE & OFFICE EQUIP","A/604508.BZ4.A53"]
["Sustainable Development and City Enterprises","LEVS:Z4:NEW:FURNITURE & OFFICE EQUIP","A/604508.BZ4.A53"]
["Sustainable Development and City Enterprises","LEVS:Z4:NEW:MACHINERY & EQUIPMENT","A/604508.BZ4.A60"]
["Sustainable Development and City Enterprises","LEVS:Z4:NEW:NEW:TRANSPORT ASSETS","A/604508.BZ4.A61"]
["Sustainable Development and City Enterprises","PGCAP:Z2:GREATER EDENDALE PROJECTS","I/604285.005"]
["Sustainable Development and City Enterprises","MSU1/I/604508.007","I/604508.007"]
["Sustainable Development and City Enterprises","MSU1/I/604508.009","I/604508.009"]
["Sustainable Development and City Enterprises","MSU1/I/604508.010","I/604508.010"]
["Sustainable Development and City Enterprises","LEVS:AH:NEW:COMPUTER EQUIPMENT","A/604547.BAH.A52"]
["Sustainable Development and City Enterprises","CGTAC:Z3:YOUTH ENTERPRISE PARK","I/604548.006"]
["Sustainable Development and City Enterprises","LEVS:AH:NEW:COMPUTER EQUIPMENT","A/604101.BAH.A52"]
["Sustainable Development and City Enterprises","LEVS:AH:NEW:FURNITURE & OFFICE EQUIP","A/604549.BAH.A53"]
["Sustainable Development and City Enterprises","HSE:Z4:DOHS JIKA JOE HOUSING DEVELOPM","I/604560.006"]
["Sustainable Development and City Enterprises","MSU1/I/604560.019","I/604560.019"]
["Sustainable Development and City Enterprises","LEVS:Z4:NEW:COMPUTER EQUIPMENT","A/604745.BZ4.A52"]
["Sustainable Development and City Enterprises","LEVS:AH:COLD ROOM","I/604745.002",null,null,null,null,null,null,null,null,null,null,null,5606000,0,0]
["Sustainable Development and City Enterprises","NDPG:Z2:Edendale Town Centre: Promenade1","I/604241.002"]
["Sustainable Development and City Enterprises","MSU1/I/604241.005","I/604241.005",null,null,null,null,null,null,null,null,null,null,null,8600000,7500000,8000000]
["Sustainable Development and City Enterprises","NDPG: Z4: ISF: CAMPSDRIFT DESILTING","I/604241.016"]
["Sustainable Development and City Enterprises","MSU1/I/604508.009","I/604508.009",null,null,null,null,null,null,null,null,null,null,null,500000]
["Sustainable Development and City Enterprises",null,"tbc",null,null,null,null,null,null,null,null,null,null,null,800000]
["Sustainable Development and City Enterprises",null,"tbc",null,null,null,null,null,null,null,null,null,null,null,1500000]
["Sustainable Development and City Enterprises","PRVOT:Z4:NEW:MACHINERY & EQUIP","A/604508.A24.A60"]
["Sustainable Development and City Enterprises","MSU1/I/604508.010","I/604508.010",null,null,null,null,null,null,null,null,null,null,null,80000,80000,50000]
["Sustainable Development and City Enterprises","ART:Z4: CLIMATE CONTROL LIGHTING","I/604480.007",null,null,null,null,null,null,null,null,null,null,null,200000,251000,300000]
["Sustainable Development and City Enterprises","ART:Z4:NEW:MACHINERY & EQUIP AIR COND","A/604480.5Z4.A60",null,null,null,null,null,null,null,null,null,null,null,40000,40000,40000]
["Sustainable Development and City Enterprises","ART:Z4:NEW:FURNITURE & EQUIPMENT","A/604480.5Z4.A53",null,null,null,null,null,null,null,null,null,null,null,20000,20000,20000]
["Sustainable Development and City Enterprises","ART:Z4:NEW:MACHINERY & EQUIPMENT","A/604480.5Z4.A60",null,null,null,null,null,null,null,null,null,null,null,81000,85000,93000]
["Sustainable Development and City Enterprises","ART:Z4:NEW:HERITAGE ASSETS","A/604480.5Z4.A05",null,null,null,null,null,null,null,null,null,null,null,7000000,7500000,8000000]
["Sustainable Development and City Enterprises","NDPG:Z4:CIVIC ZONE PHASE 1:MARKET STALLS","I/604241.019",null,null,null,null,null,null,null,null,null,null,null,200000,200000,200000]
["Sustainable Development and City Enterprises","ACRDC:AH:NEW:NEW:COMPUTER EQUIPMENT","A/604270.A9H.A52",null,null,null,null,null,null,null,null,null,null,null,500000,500000,500000]
["Sustainable Development and City Enterprises","ACRDC:AH:NEW:NEW:FURNITURE & OFFICE EQUIP","A/604270.A9H.A53",null,null,null,null,null,null,null,null,null,null,null,3000000,3138748.2,0]
["Sustainable Development and City Enterprises","MSU1/I/604560.020","I/604560.020",null,null,null,null,null,null,null,null,null,null,null,12400000,15000000,14000000]
["Sustainable Development and City Enterprises","NDPG:Z2:CIVIC ZONE PHASE 1:SKY BRIDGE","I/604241.020"]
["Sustainable Development and City Enterprises","NDPG:Z2:OLD EDENDALE ROAD UPGRADE","I/604241.021"]
["Sustainable Development and City Enterprises","EDTEA:Z4:INFORMAL ECONOMY INFRASTRUCTURE","I/604241.003"]
["Sustainable Development and City Enterprises","MSU1/I/604745.005","I/604745.005",null,null,null,null,null,null,null,null,null,null,null,300000]
["Sustainable Development and City Enterprises","EDTEA:Z4:INFORMAL ECONOMY INFRASTRUCTURE","I/604241.003",null,null,null,null,null,null,null,null,null,null,null,450000]
["Electricity","MSU1/A/704062.1AH.A52","A/704062.1AH.A52",null,null,null,null,null,null,null,null,null,null,null,25000000]
["Electricity","MSU1/A/704062.1AH.A53","A/704062.1AH.A53",null,null,null,null,null,null,null,null,null,null,null,2850000]
["Electricity","MSU1/A/704062.1AH.A60","A/704062.1AH.A60",null,null,null,null,null,null,null,null,null,null,null,5900000]
["Electricity","MSU1/A/704062.1AH.A61","A/704062.1AH.A61",null,null,null,null,null,null,null,null,null,null,null,17000000]
["Electricity","MSU1/A/704062.1ZA.A60","A/704062.1ZA.A60",null,null,null,null,null,null,null,null,null,null,null,2500000]
["Electricity","MSU1/A/704062.1ZA.A60","A/704062.1ZA.A60"]
["Electricity","MSU1/A/704062.1ZA.A60","A/704062.1ZA.A60",null,null,null,null,null,null,null,null,null,null,null,18000000]
["Electricity","MSU1/I/704062.002","I/704062.002",null,null,null,null,null,null,null,null,null,null,null,18000000]
["Electricity","MSU1/I/704062.007","I/704062.007",null,null,null,null,null,null,null,null,null,null,null,5000000]
["Electricity","MSU1/I/704062.008","I/704062.008"]
["Electricity","MSU1/I/704062.009","I/704062.009"]
["Electricity","MSU1/I/704062.010","I/704062.010"]
["Electricity","MSU1/I/704062.012","I/704062.012",null,null,null,null,null,null,null,null,null,null,null,25000000]
["Electricity","MSU1/I/704062.013","I/704062.013"]
["Electricity","MSU1/I/704062.014","I/704062.014"]
["Electricity","MSU1/I/704062.016","I/704062.016"]
["Electricity","MSU1/I/704062.017","I/704062.017",null,null,null,null,null,null,null,null,null,null,null,30000000]
["Electricity","MSU1/I/704062.018","I/704062.018"]
["Electricity","MSU1/I/704062.019","I/704062.019"]
["Electricity","MSU1/I/704062.020","I/704062.020",null,null,null,null,null,null,null,null,null,null,null,8000000,8000000,8000000]
["Electricity","MSU1/I/704062.021","I/704062.021",null,null,null,null,null,null,null,null,null,null,null,4200000,3000000,1500000]
["Electricity","MSU1/I/704066.001","I/704066.001",null,null,null,null,null,null,null,null,null,null,null,1400000,2000000,2000000]
["Electricity","TBC","TBC",null,null,null,null,null,null,null,null,null,null,null,1400000,2000000,3814000]
["Electricity","TBC","TBC",null,null,null,null,null,null,null,null,null,null,null,5000000,5000000,0]
["Electricity","TBC","TBC",null,null,null,null,null,null,null,null,null,null,null,9000000,8967852,14318523.9]
["Electricity","TBC","TBC",null,null,null,null,null,null,null,null,null,null,null,1000000]
["Electricity","MIG:Z1:HIGH MAST LIGHTS-VUL & GREAT EDN","I/704062.006"]
["Loan"]
[]
[]
[]
[]
[]
[]
[]
[]
[]
[]
[]
[]
[]
[]
[]
[]
[]
[]
[]
[]
[]
[]
[]
[]
[]
[]
[]
[]
[]
[]
[]
[]
[]
[]
[]
[]
[]
[]
[]
[]
[]
[]
[]
[]
[]
[]
[]
[]
[]
[]
[]
[]
[]
[]
[]
[]
[]
[]
[]
[]
[]
[]
[]
[]
[]
[]
[]
[]
[]
[]
[]
[]
[]
[]
[]
[]
[]
[]
[]
[]
[]
[]
[]
[]
[]
[]
[]
[]
[]
[]
[]
[]
[]
[]
[]
[]
[]
[]
[]
[]
[]
[]
[]
[]
[]
[]
[]
[]
["Parent Capital expenditure",null,null,null,null,null,null,null,null,null,null,null,{"$f":"SUM(M7:M327)","v":0},{"$f":"SUM(N7:N327)","v":0},{"$f":"SUM(O7:O327)","v":637455640},{"$f":"SUM(P7:P327)","v":431309343.19999999},{"$f":"SUM(Q7:Q327)","v":447881560}]
[]
["Entities:"]
["List all capital projects grouped by Entity"]
[]
["Entity A"]
["Water project A"]
[]
["Entity B"]
["Electricity project B"]
[]
[]
[]
["Entity Capital expenditure",null,null,null,null,null,null,null,null,null,null,null,{"$f":"SUM(M333:M340)","v":0},{"$f":"SUM(N333:N340)","v":0},{"$f":"SUM(O333:O340)","v":0},{"$f":"SUM(P333:P340)","v":0},{"$f":"SUM(Q333:Q340)","v":0}]
["Total Capital expenditure",null,null,null,null,null,null,null,null,null,null,null,{"$f":"SUM(M7:M327)+SUM(M333:M340)","v":0},{"$f":"SUM(N7:N327)+SUM(N333:N340)","v":0},{"$f":"SUM(O7:O327)+SUM(O333:O340)","v":637455640},{"$f":"SUM(P7:P327)+SUM(P333:P340)","v":431309343.19999999},{"$f":"SUM(Q7:Q327)+SUM(Q333:Q340)","v":447881560}]
[{"$f":"head27a","v":"References"}]
["Must reconcile with Budgeted Capital Expenditure"]
["Projects that fall above the threshold values applicable to the municipality as identified in regulation 13 of the Municipal Budget and Reporting Regulations must be listed individually. Other projects by Function"]
["Asset class as per table A9 and asset sub-class as per table SA34"]
["GPS coordinates correct to seconds. Provide a logical starting point on networked infrastructure."]
["Distinguish projects approved in terms of MFMA section 19(1)(b) and MRRR Regulation 13",null,null,null,null,null,null,null,null,null,null,"check",{"$f":"SUM(SA34a!E175+SA34b!E175+SA34e!E175)-'SA36'!M342","v":521437241.45000011},{"$f":"SUM(SA34a!H175+SA34b!H175+SA34e!H175)-'SA36'!N342","v":526984994.04499996},{"$f":"SUM(SA34a!I175+SA34b!I175+SA34e!I175)-'SA36'!O342","v":131304414},{"$f":"SUM(SA34a!J175+SA34b!J175+SA34e!J175)-'SA36'!P342","v":150000000.00000006},{"$f":"SUM(SA34a!K175+SA34b!K175+SA34e!K175)-'SA36'!Q342","v":0}]
["Project Number consists of MSCOA Project Longcode and seq No (sample PC001002006002_00002)"]

{"sheet":"SA37","index":61,"n_rows":27,"n_cols":18,"rows_kept":27,"cut":false,"hidden":false,"merged":[[1,12,2,12],[1,13,1,14],[1,15,1,17]]}
[{"$f":"muni&\" - \"&TableA37","v":"0 - Supporting Table SA37 Projects delayed from previous financial year/s"}]
["R thousand",null,null,null,null,null,null,null,null,null,null,null,{"$f":"Head47","v":"Previous target year to complete"},{"$f":"Head2","v":"Current Year 2022/23"},null,{"$f":"Head3","v":"2023/24 Medium Term Revenue & Expenditure Framework"}]
["Function","Project name","Project number","Type","MTSF Service Outcome","IUDF","Own Strategic Objectives","Asset Class","Asset Sub-Class","Ward Location","GPS Longitude","GPS Lattitude",null,{"$f":"Head6","v":"Original Budget"},{"$f":"Head8","v":"Full Year Forecast"},{"$f":"Head9","v":"Budget Year 2023/24"},{"$f":"Head10","v":"Budget Year +1 2024/25"},{"$f":"Head11","v":"Budget Year +2 2025/26"}]
["Parent municipality:"]
["List all capital projects grouped by Function"]
[]
[]
[]
[]
[]
[]
[]
[]
["Entities:"]
["List all capital projects grouped by Entity"]
[]
["Entity Name"]
["Project name"]
[]
[]
[]
[]
[{"$f":"head27a","v":"References"}]
["List all projects with planned completion dates in current year that have been re-budgeted in the MTREF"]
["Asset class as per table A9 and asset sub-class as per table SA34"]
["GPS coordinates correct to seconds. Provide a logical starting point on networked infrastructure."]
["Project Number consists of MSCOA Project Longcode and seq No (sample PC001002006002_00002)"]

{"sheet":"SA38","index":62,"n_rows":4149,"n_cols":17,"rows_kept":4149,"cut":false,"hidden":false,"merged":[[1,12,1,13],[1,14,1,16]]}
[{"$f":"muni&\" - \"&TableA38","v":"0 - Supporting Table SA38 Consolidated detailed operational projects"}]
["R thousand",null,null,null,null,null,null,null,null,null,null,null,"Prior year outcomes",null,{"$f":"Head3","v":"2023/24 Medium Term Revenue & Expenditure Framework"}]
["Function","Project Description","Project Number","Type","MTSF Service Outcome","IUDF","Own Strategic Objectives","Asset Class","Asset Sub-Class","Ward Location","GPS Longitude","GPS Lattitude",{"$f":"Head5&\"    \"&Head1","v":"Audited Outcome    2021/22"},{"$f":"Head2 & \"        \"&Head8","v":"Current Year 2022/23        Full Year Forecast"},{"$f":"Head9","v":"Budget Year 2023/24"},{"$f":"Head10","v":"Budget Year +1 2024/25"},{"$f":"Head11","v":"Budget Year +2 2025/26"}]
["Parent municipality:"]
["List all operational projects grouped by Function"]
[]
["Community Services","MSE:AH:MRC:MUNICIPAL RUNNING COST","O/403243.JAH.000",null,null,null,null,null,null,"ADM & HO",null,null,null,null,90000,94410,98847.26999999999]
["Community Services","MSE:AH:MRC:MUNICIPAL RUNNING COST","O/403553.JAH.000",null,null,null,null,null,null,"ADM & HO",null,null,null,null,70000,73430,76881.209999999992]
["Community Services","LEVS:Z4:MRC:MUNICIPAL RUNNING COST","O/404117.BZ4.000",null,null,null,null,null,null,"ZONE4: CENTRAL",null,null,null,null,40000,41960,43932.119999999995]
["Community Services","LEVS:Z5:MRC:MUNICIPAL RUNNING COST","O/404118.BZ5.000",null,null,null,null,null,null,"ZONE5: NORTHERN",null,null,null,null,65000,68185,71389.694999999992]
["Community Services","LEVS:Z3:MRC:MUNICIPAL RUNNING COST","O/404119.BZ3.000",null,null,null,null,null,null,"ZONE3: IMBALI",null,null,null,null,65000,68185,71389.694999999992]
["Community Services","LEVS:Z2:MRC:MUNICIPAL RUNNING COST","O/404120.BZ2.000",null,null,null,null,null,null,"ZONE2: EDENDALE",null,null,null,null,65000,68185,71389.694999999992]
["Community Services","LEVS:Z1:MRC:MUNICIPAL RUNNING COST","O/404121.BZ1.000",null,null,null,null,null,null,"ZONE1: VULINDLELA",null,null,null,null,40000,41960,43932.119999999995]
["Community Services","MSE:AH:MRC:MUNICIPAL RUNNING COST","O/404357.JAH.000",null,null,null,null,null,null,"ADM & HO",null,null,null,null,40000,41960,43932.119999999995]
["Community Services","LEVS:AH:MRC:MUNICIPAL RUNNING COST","O/404504.BAH.000",null,null,null,null,null,null,"ADM & HO",null,null,null,null,65000,68185,71389.694999999992]
["Community Services","MSE:AH:MRC:MUNICIPAL RUNNING COST","O/403553.JAH.000",null,null,null,null,null,null,"ADM & HO",null,null,null,null,210000,220290,230643.62999999998]
["Community Services","MSE:AH:MRC:MUNICIPAL RUNNING COST","O/403243.JAH.000",null,null,null,null,null,null,"ADM & HO",null,null,null,null,2000000,2098000,2196606]
["Community Services","MSE:AH:NIF:BUILD & OTHER STRUCT:PL","M/403243.JAH.E27",null,null,null,null,null,null,"ADM & HO",null,null,null,null,2000000,2098000,2196606]
["Community Services","LEVS:Z4:NIF:BUILD & OTHER STRUCT:PL","M/404117.BZ4.E27",null,null,null,null,null,null,"ZONE4: CENTRAL",null,null,null,null,150000,157350,164745.44999999998]
["Community Services","LEVS:Z5:NIF:BUILD & OTHER STRUCT:PL","M/404118.BZ5.E27",null,null,null,null,null,null,"ZONE5: NORTHERN",null,null,null,null,105000,110145,115321.81499999999]
["Community Services","LEVS:Z3:NIF:BUILD & OTHER STRUCT:PL","M/404119.BZ3.E27",null,null,null,null,null,null,"ZONE3: IMBALI",null,null,null,null,150000,157350,164745.44999999998]
["Community Services","LEVS:Z2:NIF:BUILD & OTHER STRUCT:PL","M/404120.BZ2.E27",null,null,null,null,null,null,"ZONE2: EDENDALE",null,null,null,null,150000,157350,164745.44999999998]
["Community Services","LEVS:Z1:NIF:BUILD & OTHER STRUCT:PL","M/404121.BZ1.E27",null,null,null,null,null,null,"ZONE1: VULINDLELA",null,null,null,null,150000,157350,164745.44999999998]
["Community Services","MSE:AH:NIF:BUILD & OTHER STRUCT:PL","M/404359.JAH.E27",null,null,null,null,null,null,"ADM & HO",null,null,null,null,7000,7342.9999999999991,7688.1209999999983]
["Community Services","LEVS:AH:NIF:BUILD & OTHER STRUCT:PL","M/404504.BAH.E27",null,null,null,null,null,null,"ADM & HO",null,null,null,null,615000,645135,675456.34499999997]
["Community Services","MSE:AH:NIF:MACH & EQUIPMENT:PL","M/403243.JAH.E43",null,null,null,null,null,null,"ADM & HO",null,null,null,null,15000,15734.999999999998,16474.544999999998]
["Community Services","LEVS:AH:NIF:MACH & EQUIPMENT:PL","M/404504.BAH.E43",null,null,null,null,null,null,"ADM & HO",null,null,null,null,90000,94410,98847.26999999999]
["Community Services","MSE:AH:NIF:TRANSPORT ASSETS:PL","M/403243.JAH.E45",null,null,null,null,null,null,"ADM & HO",null,null,null,null,15000,15734.999999999998,16474.544999999998]
["Community Services","MSE:AH:NIF:TRANSPORT ASSETS:PL","M/403553.JAH.E45",null,null,null,null,null,null,"ADM & HO",null,null,null,null,70000,73430,76881.209999999992]
["Community Services","LEVS:Z4:NIF:TRANSPORT ASSETS:PL","M/404117.BZ4.E45",null,null,null,null,null,null,"ZONE4: CENTRAL",null,null,null,null,90000,94410,98847.26999999999]
["Community Services","LEVS:Z5:NIF:TRANSPORT ASSETS:PL","M/404118.BZ5.E45",null,null,null,null,null,null,"ZONE5: NORTHERN",null,null,null,null,90000,94410,98847.26999999999]
["Community Services","LEVS:Z3:NIF:TRANSPORT ASSETS:PL","M/404119.BZ3.E45",null,null,null,null,null,null,"ZONE3: IMBALI",null,null,null,null,90000,94410,98847.26999999999]
["Community Services","LEVS:Z2:NIF:TRANSPORT ASSETS:PL","M/404120.BZ2.E45",null,null,null,null,null,null,"ZONE2: EDENDALE",null,null,null,null,90000,94410,98847.26999999999]
["Community Services","LEVS:Z1:NIF:TRANSPORT ASSETS:PL","M/404121.BZ1.E45",null,null,null,null,null,null,"ZONE1: VULINDLELA",null,null,null,null,90000,94410,98847.26999999999]
["Community Services","MSE:AH:NIF:MACH & EQUIPMENT:PL","M/404357.JAH.E43",null,null,null,null,null,null,"ADM & HO",null,null,null,null,70000,73430,76881.209999999992]
["Community Services","MSE:AH:NIF:MACH & EQUIPMENT:PL","M/404359.JAH.E43",null,null,null,null,null,null,"ADM & HO",null,null,null,null,12000,12588,13179.635999999999]
["Community Services","LEVS:Z5:MRC:MUNICIPAL RUNNING COST","O/404118.BZ5.000",null,null,null,null,null,null,"ZONE5: NORTHERN",null,null,null,null,13000,13637,14277.938999999998]
["Community Services","LEVS:Z1:MRC:MUNICIPAL RUNNING COST","O/404121.BZ1.000",null,null,null,null,null,null,"ZONE1: VULINDLELA",null,null,null,null,10000,10490,10983.029999999999]
["Community Services","MSE:AH:MRC:MUNICIPAL RUNNING COST","O/403553.JAH.000",null,null,null,null,null,null,"ADM & HO",null,null,null,null,90000,94410,98847.26999999999]
["Community Services","MSE:AH:MRC:MUNICIPAL RUNNING COST","O/404357.JAH.000",null,null,null,null,null,null,"ADM & HO",null,null,null,null,250000,262250,274575.75]
["Community Services","MSE:AH:MRC:MUNICIPAL RUNNING COST","O/403553.JAH.000",null,null,null,null,null,null,"ADM & HO",null,null,null,null,190000,199310,208677.56999999998]
["Community Services","LEVS:Z5:MRC:MUNICIPAL RUNNING COST","O/404118.BZ5.000",null,null,null,null,null,null,"ZONE5: NORTHERN",null,null,null,null,13000,13637,14277.938999999998]
["Community Services","LEVS:Z2:MRC:MUNICIPAL RUNNING COST","O/404120.BZ2.000",null,null,null,null,null,null,"ZONE2: EDENDALE",null,null,null,null,13000,13637,14277.938999999998]
["Community Services","LEVS:Z1:MRC:MUNICIPAL RUNNING COST","O/404121.BZ1.000",null,null,null,null,null,null,"ZONE1: VULINDLELA",null,null,null,null,13000,13637,14277.938999999998]
["Community Services","MSE:AH:MRC:MUNICIPAL RUNNING COST","O/403553.JAH.000",null,null,null,null,null,null,"ADM & HO",null,null,null,null,70000,73430,76881.209999999992]
["Community Services","MSE:AH:MRC:MUNICIPAL RUNNING COST","O/403553.JAH.001",null,null,null,null,null,null,"ADM & HO",null,null,null,null,500000,524500,549151.5]
["Community Services","MSE:AH:MRC:MUNICIPAL RUNNING COST","O/403243.JAH.000",null,null,null,null,null,null,"ADM & HO",null,null,null,null,280000,293720,307524.83999999997]
["Community Services","LEVS:Z4:MRC:MUNICIPAL RUNNING COST","O/404117.BZ4.000",null,null,null,null,null,null,"ZONE4: CENTRAL",null,null,null,null,70000,73430,76881.209999999992]
["Community Services","LEVS:Z5:MRC:MUNICIPAL RUNNING COST","O/404118.BZ5.000",null,null,null,null,null,null,"ZONE5: NORTHERN",null,null,null,null,65000,68185,71389.694999999992]
["Community Services","LEVS:Z3:MRC:MUNICIPAL RUNNING COST","O/404119.BZ3.000",null,null,null,null,null,null,"ZONE3: IMBALI",null,null,null,null,110000,115389.99999999999,120813.32999999997]
["Community Services","LEVS:Z2:MRC:MUNICIPAL RUNNING COST","O/404120.BZ2.000",null,null,null,null,null,null,"ZONE2: EDENDALE",null,null,null,null,324000,339876,355850.17199999996]
["Community Services","LEVS:Z1:MRC:MUNICIPAL RUNNING COST","O/404121.BZ1.000",null,null,null,null,null,null,"ZONE1: VULINDLELA",null,null,null,null,80000,83920,87864.239999999991]
["Community Services","MSE:AH:MRC:MUNICIPAL RUNNING COST","O/403243.JAH.000",null,null,null,null,null,null,"ADM & HO",null,null,null,null,10000,10490,10983.029999999999]
["Community Services","LEVS:Z5:MRC:MUNICIPAL RUNNING COST","O/404118.BZ5.000",null,null,null,null,null,null,"ZONE5: NORTHERN",null,null,null,null,7000,7342.9999999999991,7688.1209999999983]
["Community Services","LEVS:AH:MRC:MUNICIPAL RUNNING COST","O/404504.BAH.000",null,null,null,null,null,null,"ADM & HO",null,null,null,null,10000,10490,10983.029999999999]
["Community Services","MSE:AH:MRC:MUNICIPAL RUNNING COST","O/403553.JAH.000",null,null,null,null,null,null,"ADM & HO",null,null,null,null,20000,20980,21966.059999999998]
["Community Services","MSE:AH:MRC:MUNICIPAL RUNNING COST","O/404357.JAH.000",null,null,null,null,null,null,"ADM & HO",null,null,null,null,10800,11329.199999999999,11861.672399999998]
["Community Services","MSE:AH:MRC:MUNICIPAL RUNNING COST","O/403243.JAH.000",null,null,null,null,null,null,"ADM & HO",null,null,null,null,100000,104900,109830.29999999999]
["Community Services","LEVS:Z4:MRC:MUNICIPAL RUNNING COST","O/404117.BZ4.000",null,null,null,null,null,null,"ZONE4: CENTRAL",null,null,null,null,80000,83920,87864.239999999991]
["Community Services","LEVS:AH:MRC:MUNICIPAL RUNNING COST","O/404504.BAH.000",null,null,null,null,null,null,"ADM & HO",null,null,null,null,50000,52450,54915.149999999994]
["Community Services","LEVS:Z4:MRC:MUNICIPAL RUNNING COST","O/404117.BZ4.000",null,null,null,null,null,null,"ZONE4: CENTRAL",null,null,null,null,55000,57694.999999999993,60406.664999999986]
["Community Services","LEVS:Z5:MRC:MUNICIPAL RUNNING COST","O/404118.BZ5.000",null,null,null,null,null,null,"ZONE5: NORTHERN",null,null,null,null,55000,57694.999999999993,60406.664999999986]
["Community Services","LEVS:Z1:MRC:MUNICIPAL RUNNING COST","O/404121.BZ1.000",null,null,null,null,null,null,"ZONE1: VULINDLELA",null,null,null,null,55000,57694.999999999993,60406.664999999986]
["Community Services","\"MSE:AH:TWS:CAPBUIL:W/SH","O/404357.JAH.X19",null,null,null,null,null,null,"ADM & HO",null,null,null,null,80000,83920,87864.239999999991]
["Community Services","MSE:AH:MRC:MUNICIPAL RUNNING COST","O/403243.JAH.000",null,null,null,null,null,null,"ADM & HO",null,null,null,null,7000,7342.9999999999991,7688.1209999999983]
["Community Services","LEVS:Z4:MRC:MUNICIPAL RUNNING COST","O/404117.BZ4.000",null,null,null,null,null,null,"ZONE4: CENTRAL",null,null,null,null,10000,10490,10983.029999999999]
["Community Services","LEVS:Z5:MRC:MUNICIPAL RUNNING COST","O/404118.BZ5.000",null,null,null,null,null,null,"ZONE5: NORTHERN",null,null,null,null,10000,10490,10983.029999999999]
["Community Services","LEVS:Z1:MRC:MUNICIPAL RUNNING COST","O/404121.BZ1.000",null,null,null,null,null,null,"ZONE1: VULINDLELA",null,null,null,null,10000,10490,10983.029999999999]
["Community Services","LEVS:Z5:MRC:MUNICIPAL RUNNING COST","O/404118.BZ5.000",null,null,null,null,null,null,"ZONE5: NORTHERN",null,null,null,null,5000,5245,5491.5149999999994]
["Community Services","WWAT:AH:MRC:MUNICIPAL RUNNING COST","O/404220.WAH.000",null,null,null,null,null,null,"ADM & HO",null,null,null,null,160344,168200.856,176106.29623199999]
["Community Services","MSE:AH:MRC:MUNICIPAL RUNNING COST","O/404267.JAH.000",null,null,null,null,null,null,"ADM & HO",null,null,null,null,141102.72,148016.75328,154973.54068415999]
["Community Services","WWAT:AH:MRC:MUNICIPAL RUNNING COST","O/404220.WAH.000",null,null,null,null,null,null,"ADM & HO",null,null,null,null,765000,802485,840201.79499999993]
["Community Services","MSE:AH:MRC:MUNICIPAL RUNNING COST","O/404224.JAH.000",null,null,null,null,null,null,"ADM & HO",null,null,null,null,306000,320994,336080.71799999999]
["Community Services","WWAT:AH:MRC:MUNICIPAL RUNNING COST","O/404220.WAH.000",null,null,null,null,null,null,"ADM & HO",null,null,null,null,686664,720310.53599999996,754165.13119199988]
["Community Services","WWAT:AH:NIF:BUILD & OTHER STRUCT:PL","M/404220.MAH.E27",null,null,null,null,null,null,"ADM & HO",null,null,null,null,1683000,1765467,1848443.9489999998]
["Community Services","MSE:AH:NIF:BUILD & OTHER STRUCT:PL","M/404221.JAH.E27",null,null,null,null,null,null,"ADM & HO",null,null,null,null,302940,317784.06,332719.91081999999]
["Community Services","MSE:AH:NIF:BUILD & OTHER STRUCT:PL","M/404222.JAH.E27",null,null,null,null,null,null,"ADM & HO",null,null,null,null,336600,353093.39999999997,369688.78979999991]
["Community Services","MSE:AH:NIF:BUILD & OTHER STRUCT:PL","M/404223.JAH.E27",null,null,null,null,null,null,"ADM & HO",null,null,null,null,262548,275412.85199999996,288357.25604399992]
["Community Services","MSE:AH:NIF:BUILD & OTHER STRUCT:PL","M/404224.JAH.E27",null,null,null,null,null,null,"ADM & HO",null,null,null,null,316404,331907.79599999997,347507.46241199994]
["Community Services","MSE:AH:NIF:BUILD & OTHER STRUCT:PL","M/404267.JAH.E27",null,null,null,null,null,null,"ADM & HO",null,null,null,null,673200,706186.79999999993,739377.57959999982]
["Community Services","MSE:AH:NIF:MACH & EQUIPMENT:PL","M/404106.JAH.E43",null,null,null,null,null,null,"ADM & HO",null,null,null,null,255000,267495,280067.26499999996]
["Community Services","WWAT:AH:NIF:BUILD & OTHER STRUCT:PL","M/404220.WAH.E27",null,null,null,null,null,null,"ADM & HO",null,null,null,null,336600,353093.39999999997,369688.78979999991]
["Community Services","WWAT:AH:NIF:MACH & EQUIPMENT:PL","M/404220.WAH.E43",null,null,null,null,null,null,"ADM & HO",null,null,null,null,168300,176546.69999999998,184844.39489999996]
["Community Services","MSE:AH:NIF:MACH & EQUIPMENT:PL","M/404224.JAH.E43",null,null,null,null,null,null,"ADM & HO",null,null,null,null,134640,141237.35999999999,147875.51591999998]
["Community Services","MSE:AH:NIF:MACH & EQUIPMENT:PL","M/404267.JAH.E43",null,null,null,null,null,null,"ADM & HO",null,null,null,null,296208,310722.19199999998,325326.13502399996]
["Community Services","MSE:AH:NIF:TRANSPORT ASSETS:PL","M/404166.JAH.E45",null,null,null,null,null,null,"ADM & HO",null,null,null,null,30600,32099.399999999998,33608.071799999998]
["Community Services","MSE:AH:MRC:MUNICIPAL RUNNING COST","O/404267.JAH.000",null,null,null,null,null,null,"ADM & HO",null,null,null,null,19241.28,20184.102719999999,21132.755547839999]
["Community Services","MSE:AH:MRC:MUNICIPAL RUNNING COST","O/404166.JAH.000",null,null,null,null,null,null,"ADM & HO",null,null,null,null,192412.80000000002,201841.02720000001,211327.5554784]
["Community Services","MSE:AH:MRC:MUNICIPAL RUNNING COST","O/404267.JAH.000",null,null,null,null,null,null,"ADM & HO",null,null,null,null,96206.400000000009,100920.51360000001,105663.7777392]
["Community Services","MSE:AH:MRC:MUNICIPAL RUNNING COST","O/402284.JAH.000",null,null,null,null,null,null,"ADM & HO",null,null,null,null,56592,59365.007999999994,62155.16337599999]
["Community Services","MSE:AH:NIF:BUILD & OTHER STRUCT:PL","M/402284.JAH.E27",null,null,null,null,null,null,"ADM & HO",null,null,null,null,70000,73430,76881.209999999992]
["Community Services","MSE:AH:NIF:MACH & EQUIPMENT:PL","M/402284.JAH.E43",null,null,null,null,null,null,"ADM & HO",null,null,null,null,2196.6499199999998,2304.2857660799996,2412.5871970857593]
["Community Services","MSE:AH:MRC:MUNICIPAL RUNNING COST","O/402284.JAH.000",null,null,null,null,null,null,"ADM & HO",null,null,null,null,33200.639999999999,34827.471359999996,36464.362513919994]
["Community Services","MSE:AH:MRC:MUNICIPAL RUNNING COST","O/402284.JAH.000",null,null,null,null,null,null,"ADM & HO",null,null,0,0,15000,15734.999999999998,16474.544999999998]
["Community Services","\"MSE:AH:TWS:CAPBUIL:W/SH","O/402284.JAH.X19",null,null,null,null,null,null,"ADM & HO",null,null,null,null,8000,8392,8786.4239999999991]
["Community Services","\"MSE:AH:TWS:CAPBUIL:W/SH","O/402284.JAH.X19",null,null,null,null,null,null,"ADM & HO",null,null,null,null,5000,5245,5491.5149999999994]
["Community Services","\"MSE:AH:TWS:CAPBUIL:W/SH","O/402284.JAH.X19",null,null,null,null,null,null,"ADM & HO",null,null,null,null,15000,15734.999999999998,16474.544999999998]
["Community Services","MSE:AH:MRC:MUNICIPAL RUNNING COST","O/402284.JAH.000",null,null,null,null,null,null,"ADM & HO",null,null,null,null,40000,41960,43932.119999999995]
["Community Services","MSE:AH:MRC:MUNICIPAL RUNNING COST","O/404390.JAH.000",null,null,null,null,null,null,"ADM & HO",null,null,null,null,50000,52450,54915.149999999994]
["Community Services","MSE:AH:MRC:MUNICIPAL RUNNING COST","O/404392.JAH.000",null,null,null,null,null,null,"ADM & HO",null,null,null,null,100000,104900,109830.29999999999]
["Community Services","MSE:AH:MRC:MUNICIPAL RUNNING COST","O/404394.JAH.000",null,null,null,null,null,null,"ADM & HO",null,null,null,null,21966.080000000002,23042.41792,24125.411562239999]
["Community Services","MSE:AH:MRC:MUNICIPAL RUNNING COST","O/404398.JAH.000",null,null,null,null,null,null,"ADM & HO",null,null,null,null,250000,262250,274575.75]
["Community Services","MSE:AH:MRC:MUNICIPAL RUNNING COST","O/404400.JAH.000",null,null,null,null,null,null,"ADM & HO",null,null,null,null,200000,209800,219660.59999999998]
["Community Services","MSE:AH:MRC:MUNICIPAL RUNNING COST","O/404402.JAH.000",null,null,null,null,null,null,"ADM & HO",null,null,null,null,218104.86232000001,228792.00057368001,239545.22460064295]
["Community Services","MSE:AH:MRC:MUNICIPAL RUNNING COST","O/404404.JAH.000",null,null,null,null,null,null,"ADM & HO",null,null,null,null,219660.80000000002,230424.17920000001,241254.11562239999]
["Community Services","MSE:AH:MRC:MUNICIPAL RUNNING COST","O/404412.JAH.000",null,null,null,null,null,null,"ADM & HO",null,null,null,null,215000,225535,236135.14499999999]
["Community Services","MSE:AH:NIF:BUILD & OTHER STRUCT:PL","M/404432.JAH.E27",null,null,null,null,null,null,"ADM & HO",null,null,0,0,104887.99008000002,110027.50159392001,115198.79416883424]
["Community Services","MSE:AH:NIF:BUILD & OTHER STRUCT:PL","M/404434.JAH.E27",null,null,null,null,null,null,"ADM & HO",null,null,0,0,88413.430080000006,92745.688153919997,97104.735497154237]
["Community Services","LEVS:AH:MRC:MUNICIPAL RUNNING COST","M/404435.JAH.000",null,null,null,null,null,null,"ADM & HO",null,null,null,null,88413.430080000006,92745.688153919997,97104.735497154237]
["Community Services","MSE:AH:NIF:BUILD & OTHER STRUCT:PL","M/404436.JAH.E27",null,null,null,null,null,null,"ADM & HO",null,null,null,null,104887.99008000002,110027.50159392001,115198.79416883424]
["Community Services","MSE:AH:NIF:BUILD & OTHER STRUCT:PL","M/404437.JAH.E27",null,null,null,null,null,null,"ADM & HO",null,null,null,null,77469.973039999997,81266.001718959989,85085.50379975111]
["Community Services","MSE:AH:NIF:BUILD & OTHER STRUCT:PL","M/404438.JAH.E27",null,null,null,null,null,null,"ADM & HO",null,null,null,null,88413.430080000006,92745.688153919997,97104.735497154237]
["Community Services","MSE:AH:NIF:BUILD & OTHER STRUCT:PL","M/404443.JAH.E27",null,null,null,null,null,null,"ADM & HO",null,"check",6949419417,6623210257.3479986,88413.430080000006,92745.688153919997,97104.735497154237]
["Community Services","MSE:AH:NIF:BUILD & OTHER STRUCT:PL","M/404445.JAH.E27",null,null,null,null,null,null,"ADM & HO",null,null,null,null,65898.240000000005,69127.253760000007,72376.234686719996]
["Community Services","MSE:AH:NIF:BUILD & OTHER STRUCT:PL","M/404446.JAH.E27",null,null,null,null,null,null,"ADM & HO",null,null,null,null,65898.240000000005,69127.253760000007,72376.234686719996]
["Community Services","MSE:AH:NIF:BUILD & OTHER STRUCT:PL","M/404447.JAH.E27",null,null,null,null,null,null,"ADM & HO",null,null,null,null,30000,31469.999999999996,32949.089999999997]
["Community Services","MSE:AH:NIF:BUILD & OTHER STRUCT:PL","M/404448.JAH.E27",null,null,null,null,null,null,"ADM & HO",null,null,null,null,30000,31469.999999999996,32949.089999999997]
["Community Services","MSE:AH:NIF:BUILD & OTHER STRUCT:PL","M/404449.JAH.E27",null,null,null,null,null,null,"ADM & HO",null,null,null,null,30000,31469.999999999996,32949.089999999997]
["Community Services","MSE:AH:NIF:BUILD & OTHER STRUCT:PL","M/404450.JAH.E27",null,null,null,null,null,null,"ADM & HO",null,null,null,null,60000,62939.999999999993,65898.179999999993]
["Community Services","MSE:AH:NIF:BUILD & OTHER STRUCT:PL","M/404451.JAH.E27",null,null,null,null,null,null,"ADM & HO",null,null,null,null,30000,31469.999999999996,32949.089999999997]
["Community Services","MSE:AH:NIF:BUILD & OTHER STRUCT:PL","O/404452.JAH.000",null,null,null,null,null,null,"ADM & HO",null,null,null,null,30000,31469.999999999996,32949.089999999997]
["Community Services","MSE:AH:NIF:BUILD & OTHER STRUCT:PL","M/404453.JAH.E27",null,null,null,null,null,null,"ADM & HO",null,null,null,null,30000,31469.999999999996,32949.089999999997]
["Community Services","MSE:AH:NIF:BUILD & OTHER STRUCT:PL","O/404454.JAH.000",null,null,null,null,null,null,"ADM & HO",null,null,null,null,30000,31469.999999999996,32949.089999999997]
["Community Services","MSE:AH:NIF:BUILD & OTHER STRUCT:PL","O/404455.JAH.000",null,null,null,null,null,null,"ADM & HO",null,null,null,null,30000,31469.999999999996,32949.089999999997]
["Community Services","MSE:AH:NIF:BUILD & OTHER STRUCT:PL","M/404456.JAH.E27",null,null,null,null,null,null,"ADM & HO",null,null,null,null,65898.240000000005,69127.253760000007,72376.234686719996]
["Community Services","MSE:AH:NIF:BUILD & OTHER STRUCT:PL","O/404457.JAH.000",null,null,null,null,null,null,"ADM & HO",null,null,null,null,65898.240000000005,69127.253760000007,72376.234686719996]
["Community Services","MSE:AH:NIF:BUILD & OTHER STRUCT:PL","O/404458.JAH.000",null,null,null,null,null,null,"ADM & HO",null,null,null,null,65898.240000000005,69127.253760000007,72376.234686719996]
["Community Services","MSE:AH:NIF:BUILD & OTHER STRUCT:PL","O/404459.JAH.000",null,null,null,null,null,null,"ADM & HO",null,null,null,null,120000,125879.99999999999,131796.35999999999]
["Community Services","MSE:AH:NIF:BUILD & OTHER STRUCT:PL","M/404460.JAH.E27",null,null,null,null,null,null,"ADM & HO",null,null,null,null,39538.944000000003,41476.352255999998,43425.740812031996]
["Community Services","MSE:AH:NIF:BUILD & OTHER STRUCT:PL","M/404461.JAH.E27",null,null,null,null,null,null,"ADM & HO",null,null,null,null,70000,73430,76881.209999999992]
["Community Services","MSE:AH:NIF:BUILD & OTHER STRUCT:PL","M/404462.JAH.E27",null,null,null,null,null,null,"ADM & HO",null,null,null,null,39538.944000000003,41476.352255999998,43425.740812031996]
["Community Services","MSE:AH:NIF:BUILD & OTHER STRUCT:PL","M/404463.JAH.E27",null,null,null,null,null,null,"ADM & HO",null,null,null,null,39538.944000000003,41476.352255999998,43425.740812031996]
["Community Services","MSE:AH:NIF:BUILD & OTHER STRUCT:PL","M/404464.JAH.E27",null,null,null,null,null,null,"ADM & HO",null,null,null,null,65898.240000000005,69127.253760000007,72376.234686719996]
["Community Services","MSE:AH:NIF:BUILD & OTHER STRUCT:PL","M/404466.JAH.E27",null,null,null,null,null,null,"ADM & HO",null,null,null,null,109830.40000000001,115212.08960000001,120627.05781119999]
["Community Services","MSE:AH:NIF:BUILD & OTHER STRUCT:PL","M/404467.JAH.E27",null,null,null,null,null,null,"ADM & HO",null,null,null,null,100000,104900,109830.29999999999]
["Community Services","MSE:AH:NIF:BUILD & OTHER STRUCT:PL","M/404469.JAH.E27",null,null,null,null,null,null,"ADM & HO",null,null,null,null,65898.240000000005,69127.253760000007,72376.234686719996]
["Community Services","MSE:AH:NIF:BUILD & OTHER STRUCT:PL","M/404471.JAH.E27",null,null,null,null,null,null,"ADM & HO",null,null,null,null,65898.240000000005,69127.253760000007,72376.234686719996]
["Community Services","MSE:AH:NIF:BUILD & OTHER STRUCT:PL","M/404472.JAH.E27",null,null,null,null,null,null,"ADM & HO",null,null,null,null,65898.240000000005,69127.253760000007,72376.234686719996]
["Community Services","MSE:AH:NIF:BUILD & OTHER STRUCT:PL","M/404474.JAH.E27",null,null,null,null,null,null,"ADM & HO",null,null,null,null,26359.296000000002,27650.901504000001,28950.493874688]
["Community Services","MSE:AH:NIF:BUILD & OTHER STRUCT:PL","M/404475.JAH.E27",null,null,null,null,null,null,"ADM & HO",null,null,null,null,32949.120000000003,34563.626880000003,36188.117343359998]
["Community Services","MSE:AH:NIF:BUILD & OTHER STRUCT:PL","M/404476.JAH.E27",null,null,null,null,null,null,"ADM & HO",null,null,null,null,26359.296000000002,27650.901504000001,28950.493874688]
["Community Services","MSE:AH:MRC:MUNICIPAL RUNNING COST","O/404477.JAH.000",null,null,null,null,null,null,"ADM & HO",null,null,null,null,30000,31469.999999999996,32949.089999999997]
["Community Services","LEVS:AH:NIF:BUILD & OTHER STRUCT:PL","O/404478.JAH.E27",null,null,null,null,null,null,"ADM & HO",null,null,null,null,30000,31469.999999999996,32949.089999999997]
["Community Services","MSE:AH:MRC:MUNICIPAL RUNNING COST","O/404513.JAH.000",null,null,null,null,null,null,"ADM & HO",null,null,null,null,219652.01776000002,230414.96663024,241244.47006186127]
["Community Services","MSE:AH:MRC:MUNICIPAL RUNNING COST","O/404106.JAH.000",null,null,null,null,null,null,"ADM & HO",null,null,null,null,128275.2,134560.68479999999,140885.03698559999]
["Community Services","MSE:AH:MRC:MUNICIPAL RUNNING COST","O/404404.JAH.000",null,null,null,null,null,null,"ADM & HO",null,null,null,null,46128.768000000004,48389.077632,50663.364280703994]
["Community Services","MSE:AH:MRC:MUNICIPAL RUNNING COST","O/404406.JAH.000",null,null,null,null,null,null,"ADM & HO",null,null,null,null,50000,52450,54915.149999999994]
["Community Services","MSE:AH:MRC:MUNICIPAL RUNNING COST","O/404390.JAH.000",null,null,null,null,null,null,"ADM & HO",null,null,null,null,13179.648000000001,13825.450752000001,14475.246937344]
["Community Services","MSE:AH:MRC:MUNICIPAL RUNNING COST","O/404394.JAH.000",null,null,null,null,null,null,"ADM & HO",null,null,null,null,307525.12,322593.85087999998,337755.76187135995]
["Community Services","MSE:AH:MRC:MUNICIPAL RUNNING COST","O/404398.JAH.000",null,null,null,null,null,null,"ADM & HO",null,null,null,null,527185.92000000004,553018.03008000006,579009.87749375997]
["Community Services","MSE:AH:MRC:MUNICIPAL RUNNING COST","O/404400.JAH.000",null,null,null,null,null,null,"ADM & HO",null,null,null,null,375428.70999999996,393824.71678999992,412334.4784791299]
["Community Services","MSE:AH:MRC:MUNICIPAL RUNNING COST","O/404402.JAH.000",null,null,null,null,null,null,"ADM & HO",null,null,null,null,281895.13767999999,295707.99942631996,309606.27539935696]
["Community Services","MSE:AH:MRC:MUNICIPAL RUNNING COST","O/404404.JAH.000",null,null,null,null,null,null,"ADM & HO",null,null,null,null,263592.96000000002,276509.01504000003,289504.93874687998]
["Community Services","MSE:AH:MRC:MUNICIPAL RUNNING COST","O/404406.JAH.000",null,null,null,null,null,null,"ADM & HO",null,null,null,null,131796.48000000001,138254.50752000001,144752.46937343999]
["Community Services","MSE:AH:MRC:MUNICIPAL RUNNING COST","O/404412.JAH.000",null,null,null,null,null,null,"ADM & HO",null,null,null,null,215000,225535,236135.14499999999]
["Community Services","MSE:AH:MRC:MUNICIPAL RUNNING COST","O/404466.JAH.000",null,null,null,null,null,null,"ADM & HO",null,null,null,null,200000,209800,219660.59999999998]
["Community Services","MSE:AH:MRC:MUNICIPAL RUNNING COST","O/404513.JAH.000",null,null,null,null,null,null,"ADM & HO",null,null,null,null,280546.02632000006,294292.78160968004,308124.54234533495]
["Community Services","MSE:AH:MRC:MUNICIPAL RUNNING COST","O/404400.JAH.000",null,null,null,null,null,null,"ADM & HO",null,null,null,null,150000,157350,164745.44999999998]
["Community Services","MSE:ZA.MUNICIPAL RUNNING COSTS","O/404144.JZA.000",null,null,null,null,null,null,"ALL ZONES",null,null,null,null,1257600,1319222.3999999999,1381225.8527999998]
["Community Services","MSE:AH:MRC:MUNICIPAL RUNNING COST","O/404392.JAH.000",null,null,null,null,null,null,"ADM & HO",null,null,null,null,565920,593650.07999999996,621551.63375999988]
["Community Services","MSE:AH:MRC:MUNICIPAL RUNNING COST","O/404106.JAH.000",null,null,null,null,null,null,"ADM & HO",null,null,null,null,816000,855984,896215.24799999991]
["Community Services","MSE:AH:MRC:MUNICIPAL RUNNING COST","O/404404.JAH.000",null,null,null,null,null,null,"ADM & HO",null,null,null,null,262000,274838,287755.386]
["Community Services","MSE:AH:MRC:MUNICIPAL RUNNING COST","O/404466.JAH.000",null,null,null,null,null,null,"ADM & HO",null,null,null,null,786000,824514,863266.15799999994]
["Community Services","LEVS:AH:MRC:MUNICIPAL RUNNING COST","O/404478.JAH.000",null,null,null,null,null,null,"ADM & HO",null,null,null,null,366800,384773.19999999995,402857.54039999994]
["Community Services","MSE:AH:MRC:MUNICIPAL RUNNING COST","O/404106.JAH.000",null,null,null,null,null,null,"ADM & HO",null,null,null,null,306000,320994,336080.71799999999]
["Community Services","MSE:AH:MRC:MUNICIPAL RUNNING COST","O/404400.JAH.000",null,null,null,null,null,null,"ADM & HO",null,null,null,null,250000,262250,274575.75]
["Community Services","MSE:AH:MRC:MUNICIPAL RUNNING COST","O/404392.JAH.000",null,null,null,null,null,null,"ADM & HO",null,null,null,null,57640,60464.359999999993,63306.184919999992]
["Community Services","MSE:AH:MRC:MUNICIPAL RUNNING COST","O/404431.JAH.000",null,null,null,null,null,null,"ADM & HO",null,null,null,null,157200,164902.79999999999,172653.23159999997]
["Community Services","MSE:AH:NIF:BUILD & OTHER STRUCT:PL","M/404390.JAH.E27",null,null,null,null,null,null,"ADM & HO",null,null,null,null,1257600,1319222.3999999999,1381225.8527999998]
["Community Services","MSE:AH:MRC:MUNICIPAL RUNNING COST","O/404392.JAH.E27",null,null,null,null,null,null,"ADM & HO",null,null,null,null,800000,839200,878642.39999999991]
["Community Services","MSE:AH:NIF:BUILD & OTHER STRUCT:PL","M/404398.JAH.E27",null,null,null,null,null,null,"ADM & HO",null,null,null,null,524000,549676,575510.772]
["Community Services","MSE:AH:NIF:BUILD & OTHER STRUCT:PL","M/404400.JAH.E27",null,null,null,null,null,null,"ADM & HO",null,null,null,null,250000,262250,274575.75]
["Community Services","MSE:AH:NIF:BUILD & OTHER STRUCT:PL","M/404402.JAH.E27",null,null,null,null,null,null,"ADM & HO",null,null,null,null,314400,329805.59999999998,345306.46319999994]
["Community Services","MSE:AH:NIF:BUILD & OTHER STRUCT:PL","M/404406.JAH.E27",null,null,null,null,null,null,"ADM & HO",null,null,null,null,104800,109935.2,115102.15439999998]
["Community Services","MSE:AH:NIF:BUILD & OTHER STRUCT:PL","M/404412.JAH.E27",null,null,null,null,null,null,"ADM & HO",null,null,null,null,250000,262250,274575.75]
["Community Services","MSE:AH:NIF:BUILD & OTHER STRUCT:PL","M/404431.JAH.E27",null,null,null,null,null,null,"ADM & HO",null,null,null,null,293440,307818.56,322286.03232]
["Community Services","MSE:AH:NIF:BUILD & OTHER STRUCT:PL","M/404440.JAH.E27",null,null,null,null,null,null,"ADM & HO",null,null,null,null,172920,181393.08,189918.55475999997]
["Community Services","MSE:AH:NIF:BUILD & OTHER STRUCT:PL","M/404446.JAH.E27",null,null,null,null,null,null,"ADM & HO",null,null,null,null,250000,262250,274575.75]
["Community Services","MSE:AH:NIF:BUILD & OTHER STRUCT:PL","M/404447.JAH.E27",null,null,null,null,null,null,"ADM & HO",null,null,null,null,250000,262250,274575.75]
["Community Services","MSE:AH:NIF:BUILD & OTHER STRUCT:PL","M/404448.JAH.E27",null,null,null,null,null,null,"ADM & HO",null,null,null,null,150000,157350,164745.44999999998]
["Community Services","MSE:AH:NIF:BUILD & OTHER STRUCT:PL","M/404449.JAH.E27",null,null,null,null,null,null,"ADM & HO",null,null,null,null,150000,157350,164745.44999999998]
["Community Services","MSE:AH:NIF:BUILD & OTHER STRUCT:PL","M/404456.JAH.E27",null,null,null,null,null,null,"ADM & HO",null,null,null,null,366800,384773.19999999995,402857.54039999994]
["Community Services","MSE:AH:NIF:BUILD & OTHER STRUCT:PL","M/404459.JAH.E27",null,null,null,null,null,null,"ADM & HO",null,null,null,null,262000,274838,287755.386]
["Community Services","MSE:AH:NIF:BUILD & OTHER STRUCT:PL","M/404460.JAH.E27",null,null,null,null,null,null,"ADM & HO",null,null,null,null,398240,417753.75999999995,437388.18671999994]
["Community Services","MSE:AH:NIF:BUILD & OTHER STRUCT:PL","M/404461.JAH.E27",null,null,null,null,null,null,"ADM & HO",null,null,null,null,230560,241857.43999999997,253224.73967999997]
["Community Services","MSE:AH:NIF:BUILD & OTHER STRUCT:PL","M/404463.JAH.E27",null,null,null,null,null,null,"ADM & HO",null,null,null,null,300000,314700,329490.89999999997]
["Community Services","MSE:AH:NIF:BUILD & OTHER STRUCT:PL","M/404464.JAH.E27",null,null,null,null,null,null,"ADM & HO",null,null,null,null,157200,164902.79999999999,172653.23159999997]
["Community Services","MSE:AH:NIF:BUILD & OTHER STRUCT:PL","M/404466.JAH.E27",null,null,null,null,null,null,"ADM & HO",null,null,null,null,1500000,1573500,1647454.5]
["Community Services","MSE:AH:NIF:BUILD & OTHER STRUCT:PL","M/404467.JAH.E27",null,null,null,null,null,null,"ADM & HO",null,null,null,null,600000,629400,658981.79999999993]
["Community Services","MSE:AH:NIF:BUILD & OTHER STRUCT:PL","M/404469.JAH.E27",null,null,null,null,null,null,"ADM & HO",null,null,null,null,230560,241857.43999999997,253224.73967999997]
["Community Services","MSE:AH:NIF:BUILD & OTHER STRUCT:PL","M/404472.JAH.E27",null,null,null,null,null,null,"ADM & HO",null,null,null,null,345840,362786.16,379837.10951999994]
["Community Services","MSE:AH:NIF:BUILD & OTHER STRUCT:PL","M/404474.JAH.E27",null,null,null,null,null,null,"ADM & HO",null,null,null,null,100000,104900,109830.29999999999]
["Community Services","MSE:AH:NIF:BUILD & OTHER STRUCT:PL","M/404478.JAH.E27",null,null,null,null,null,null,"ADM & HO",null,null,null,null,398240,417753.75999999995,437388.18671999994]
["Community Services","MSE:AH:NIF:BUILD & OTHER STRUCT:PL","M/404106.JAH.E27",null,null,null,null,null,null,"ADM & HO",null,null,null,null,1122000,1176978,1232295.966]
["Community Services","MSE:AH:NIF:MACH & EQUIPMENT:PL","M/404390.JAH.E43",null,null,null,null,null,null,"ADM & HO",null,null,null,null,366800,384773.19999999995,402857.54039999994]
["Community Services","MSE:AH:NIF:MACH & EQUIPMENT:PL","M/404400.JAH.E43",null,null,null,null,null,null,"ADM & HO",null,null,null,null,52400,54967.6,57551.077199999992]
["Community Services","MSE:AH:NIF:MACH & EQUIPMENT:PL","M/404402.JAH.E43",null,null,null,null,null,null,"ADM & HO",null,null,null,null,300000,314700,329490.89999999997]
["Community Services","MSE:AH:NIF:MACH & EQUIPMENT:PL","M/404404.JAH.E43",null,null,null,null,null,null,"ADM & HO",null,null,null,null,167680,175896.31999999998,184163.44703999997]
["Community Services","MSE:AH:NIF:MACH & EQUIPMENT:PL","M/404406.JAH.E43",null,null,null,null,null,null,"ADM & HO",null,null,null,null,83840,87948.159999999989,92081.723519999985]
["Community Services","MSE:AH:NIF:MACH & EQUIPMENT:PL","M/404456.JAH.E43",null,null,null,null,null,null,"ADM & HO",null,null,null,null,366800,384773.19999999995,402857.54039999994]
["Community Services","MSE:AH:NIF:MACH & EQUIPMENT:PL","M/404457.JAH.E43",null,null,null,null,null,null,"ADM & HO",null,null,null,null,52400,54967.6,57551.077199999992]
["Community Services","MSE:AH:NIF:MACH & EQUIPMENT:PL","M/404462.JAH.E43",null,null,null,null,null,null,"ADM & HO",null,null,null,null,450000,472049.99999999994,494236.34999999992]
["Community Services","MSE:AH:NIF:MACH & EQUIPMENT:PL","M/404478.JAH.E43",null,null,null,null,null,null,"ADM & HO",null,null,null,null,157200,164902.79999999999,172653.23159999997]
["Community Services","MSE:AH:NIF:TRANSPORT ASSETS:PL","M/404390.JAH.E45",null,null,null,null,null,null,"ADM & HO",null,null,null,null,786000,824514,863266.15799999994]
["Community Services","MSE:AH:NIF:TRANSPORT ASSETS:PL","M/404398.JAH.E45",null,null,null,null,null,null,"ADM & HO",null,null,null,null,62880,65961.119999999995,69061.292639999985]
["Community Services","MSE:AH:NIF:TRANSPORT ASSETS:PL","M/404400.JAH.E45",null,null,null,null,null,null,"ADM & HO",null,null,null,null,115280,120928.71999999999,126612.36983999998]
["Community Services","MSE:AH:NIF:TRANSPORT ASSETS:PL","M/404402.JAH.E45",null,null,null,null,null,null,"ADM & HO",null,null,null,null,400000,419600,439321.19999999995]
["Community Services","MSE:AH:NIF:TRANSPORT ASSETS:PL","M/404404.JAH.E45",null,null,null,null,null,null,"ADM & HO",null,null,null,null,419200,439740.8,460408.61759999994]
["Community Services","MSE:AH:NIF:TRANSPORT ASSETS:PL","M/404406.JAH.E45",null,null,null,null,null,null,"ADM & HO",null,null,null,null,209600,219870.4,230204.30879999997]
["Community Services","MSE:AH:NIF:TRANSPORT ASSETS:PL","M/404412.JAH.E45",null,null,null,null,null,null,"ADM & HO",null,null,null,null,157200,164902.79999999999,172653.23159999997]
["Community Services","MSE:AH:NIF:TRANSPORT ASSETS:PL","M/404431.JAH.E45",null,null,null,null,null,null,"ADM & HO",null,null,null,null,62880,65961.119999999995,69061.292639999985]
["Community Services","MSE:AH:NIF:TRANSPORT ASSETS:PL","M/404432.JAH.E45",null,null,null,null,null,null,"ADM & HO",null,null,null,null,157200,164902.79999999999,172653.23159999997]
["Community Services","MSE:AH:NIF:TRANSPORT ASSETS:PL","M/404457.JAH.E45",null,null,null,null,null,null,"ADM & HO",null,null,null,null,52400,54967.6,57551.077199999992]
["Community Services","MSE:AH:NIF:TRANSPORT ASSETS:PL","M/404463.JAH.E45",null,null,null,null,null,null,"ADM & HO",null,null,null,null,350000,367150,384406.05]
["Community Services","MSE:AH:NIF:TRANSPORT ASSETS:PL","M/404465.JAH.E45",null,null,null,null,null,null,"ADM & HO",null,null,null,null,150000,157350,164745.44999999998]
["Community Services","MSE:AH:NIF:TRANSPORT ASSETS:PL","M/404477.JAH.E45",null,null,null,null,null,null,"ADM & HO",null,null,null,null,50000,52450,54915.149999999994]
["Community Services","MSE:AH:MRC:MUNICIPAL RUNNING COST","O/404468.JAH.000",null,null,null,null,null,null,"ADM & HO",null,null,null,null,150000,157350,164745.44999999998]
["Community Services","MSE:AH:MRC:MUNICIPAL RUNNING COST","O/404390.JAH.000",null,null,null,null,null,null,"ADM & HO",null,null,null,null,12576,13192.223999999998,13812.258527999997]
["Community Services","MSE:AH:MRC:MUNICIPAL RUNNING COST","O/404392.JAH.000",null,null,null,null,null,null,"ADM & HO",null,null,null,null,15720,16490.28,17265.323159999996]
["Community Services","MSE:AH:MRC:MUNICIPAL RUNNING COST","O/404404.JAH.000",null,null,null,null,null,null,"ADM & HO",null,null,null,null,10480,10993.519999999999,11510.215439999998]
["Community Services","MSE:AH:MRC:MUNICIPAL RUNNING COST","O/404390.JAH.000",null,null,null,null,null,null,"ADM & HO",null,null,null,null,800000,839200,878642.39999999991]
["Community Services","MSE:AH:MRC:MUNICIPAL RUNNING COST","O/404390.JAH.000",null,null,null,null,null,null,"ADM & HO",null,null,null,null,527185.92000000004,553018.03008000006,579009.87749375997]
["Community Services","MSE:AH:MRC:MUNICIPAL RUNNING COST","O/404390.JAH.000",null,null,null,null,null,null,"ADM & HO",null,null,null,null,74675.889759999991,78335.008358239982,82016.753751077253]
["Community Services","MSE:AH:MRC:MUNICIPAL RUNNING COST","O/404402.JAH.000",null,null,null,null,null,null,"ADM & HO",null,null,null,null,42101.576480000003,44164.553727520004,46240.287752713441]
["Community Services","MSE:AH:MRC:MUNICIPAL RUNNING COST","O/404412.JAH.000",null,null,null,null,null,null,"ADM & HO",null,null,null,null,34584,36278.615999999995,37983.710951999994]
["Community Services","LEVS:AH:MRC:MUNICIPAL RUNNING COST","O/404478.JAH.000",null,null,null,null,null,null,"ADM & HO",null,null,null,null,16474.560000000001,17281.813440000002,18094.058671679999]
["Community Services","MSE:AH:MRC:MUNICIPAL RUNNING COST","O/404390.JAH.000",null,null,null,null,null,null,"ADM & HO",null,null,null,null,8000,8392,8786.4239999999991]
["Community Services","MSE:AH:MRC:MUNICIPAL RUNNING COST","O/404394.JAH.000",null,null,null,null,null,null,"ADM & HO",null,null,null,null,360000,377640,395389.07999999996]
["Community Services","MSE:AH:MRC:MUNICIPAL RUNNING COST","O/404398.JAH.000",null,null,null,null,null,null,"ADM & HO",null,null,null,null,86216.864000000001,90441.490336000003,94692.240381791999]
["Community Services","MSE:AH:MRC:MUNICIPAL RUNNING COST","O/404400.JAH.000",null,null,null,null,null,null,"ADM & HO",null,null,null,null,102712.94992,107745.88446608,112809.94103598574]
["Community Services","MSE:AH:MRC:MUNICIPAL RUNNING COST","O/404404.JAH.000",null,null,null,null,null,null,"ADM & HO",null,null,null,null,83840,87948.159999999989,92081.723519999985]
["Community Services","MSE:AH:MRC:MUNICIPAL RUNNING COST","O/404432.JAH.000",null,null,null,null,null,null,"ADM & HO",null,null,null,null,34267.084799999997,35946.171955199992,37635.642037094389]
["Community Services","MSE:AH:MRC:MUNICIPAL RUNNING COST","O/404434.JAH.000",null,null,null,null,null,null,"ADM & HO",null,null,null,null,8566.7711999999992,8986.5429887999981,9408.9105092735972]
["Community Services","MSE:AH:MRC:MUNICIPAL RUNNING COST","O/404435.JAH.000",null,null,null,null,null,null,"ADM & HO",null,null,null,null,8566.7711999999992,8986.5429887999981,9408.9105092735972]
["Community Services","MSE:AH:MRC:MUNICIPAL RUNNING COST","O/404436.JAH.000",null,null,null,null,null,null,"ADM & HO",null,null,null,null,14277.952000000001,14977.571648000001,15681.517515456]
["Community Services","MSE:AH:MRC:MUNICIPAL RUNNING COST","O/404437.JAH.000",null,null,null,null,null,null,"ADM & HO",null,null,null,null,5711.180800000001,5991.0286592000002,6272.6070061824003]
["Community Services","MSE:AH:MRC:MUNICIPAL RUNNING COST","O/404438.JAH.000",null,null,null,null,null,null,"ADM & HO",null,null,null,null,8566.7711999999992,8986.5429887999981,9408.9105092735972]
["Community Services","MSE:AH:MRC:MUNICIPAL RUNNING COST","O/404443.JAH.000",null,null,null,null,null,null,"ADM & HO",null,null,null,null,5711.180800000001,5991.0286592000002,6272.6070061824003]
["Community Services","MSE:AH:MRC:MUNICIPAL RUNNING COST","O/404446.JAH.000",null,null,null,null,null,null,"ADM & HO",null,null,null,null,2000,2098,2196.6059999999998]
["Community Services","MSE:AH:MRC:MUNICIPAL RUNNING COST","O/404456.JAH.000",null,null,null,null,null,null,"ADM & HO",null,null,null,null,14277.952000000001,14977.571648000001,15681.517515456]
["Community Services","MSE:AH:MRC:MUNICIPAL RUNNING COST","O/404459.JAH.000",null,null,null,null,null,null,"ADM & HO",null,null,null,null,9884.7360000000008,10369.088064,10856.435203007999]
["Community Services","MSE:AH:MRC:MUNICIPAL RUNNING COST","O/404464.JAH.000",null,null,null,null,null,null,"ADM & HO",null,null,null,null,14277.952000000001,14977.571648000001,15681.517515456]
["Community Services","MSE:AH:MRC:MUNICIPAL RUNNING COST","O/404466.JAH.000",null,null,null,null,null,null,"ADM & HO",null,null,null,null,46000,48254,50521.937999999995]
["Community Services","MSE:AH:MRC:MUNICIPAL RUNNING COST","O/404467.JAH.000",null,null,null,null,null,null,"ADM & HO",null,null,null,null,32949.120000000003,34563.626880000003,36188.117343359998]
["Community Services","MSE:AH:MRC:MUNICIPAL RUNNING COST","O/404469.JAH.000",null,null,null,null,null,null,"ADM & HO",null,null,null,null,14277.952000000001,14977.571648000001,15681.517515456]
["Community Services","MSE:AH:MRC:MUNICIPAL RUNNING COST","O/404472.JAH.000",null,null,null,null,null,null,"ADM & HO",null,null,null,null,26359.296000000002,27650.901504000001,28950.493874688]
["Community Services","MSE:AH:MRC:MUNICIPAL RUNNING COST","O/404473.JAH.000",null,null,null,null,null,null,"ADM & HO",null,null,null,null,14277.952000000001,14977.571648000001,15681.517515456]
["Community Services","MSE:AH:MRC:MUNICIPAL RUNNING COST","O/404474.JAH.000",null,null,null,null,null,null,"ADM & HO",null,null,null,null,14277.952000000001,14977.571648000001,15681.517515456]
["Community Services","LEVS:AH:MRC:MUNICIPAL RUNNING COST","O/404478.JAH.000",null,null,null,null,null,null,"ADM & HO",null,null,null,null,32949.120000000003,34563.626880000003,36188.117343359998]
["Community Services","MSE:AH:MRC:MUNICIPAL RUNNING COST","O/404390.JAH.000",null,null,null,null,null,null,"ADM & HO",null,null,null,null,220408.39080000002,231208.40194920002,242075.19684081239]
["Community Services","MSE:AH:MRC:MUNICIPAL RUNNING COST","O/404390.JAH.000",null,null,null,null,null,null,"ADM & HO",null,null,null,null,245141.45280000003,257153.38398720001,269239.59303459839]
["Community Services","MSE:AH:MRC:MUNICIPAL RUNNING COST","O/404392.JAH.000",null,null,null,null,null,null,"ADM & HO",null,null,null,null,197694.72,207381.76127999998,217128.70406015997]
["Community Services","MSE:AH:MRC:MUNICIPAL RUNNING COST","O/404448.JAH.000",null,null,null,null,null,null,"ADM & HO",null,null,null,null,27457.558079999999,28802.978425919999,30156.718411938236]
["Community Services","LEVS:AH:MRC:MUNICIPAL RUNNING COST","O/404478.JAH.000",null,null,null,null,null,null,"ADM & HO",null,null,null,null,79077.888000000006,82952.704511999997,86851.481624063992]
["Community Services","MSE:AH:MRC:MUNICIPAL RUNNING COST","O/404412.JAH.000",null,null,null,null,null,null,"ADM & HO",null,null,null,null,144000,151056,158155.63199999998]
["Community Services","MSE:AH:MRC:MUNICIPAL RUNNING COST","O/404398.JAH.000",null,null,null,null,null,null,"ADM & HO",null,null,null,null,250000,262250,274575.75]
["Community Services","MSE:AH:MRC:MUNICIPAL RUNNING COST","O/404398.JAH.000",null,null,null,null,null,null,"ADM & HO",null,null,null,null,400000,419600,439321.19999999995]
["Community Services","MSE:AH:MRC:MUNICIPAL RUNNING COST","O/404400.JAH.000",null,null,null,null,null,null,"ADM & HO",null,null,null,null,200000,209800,219660.59999999998]
["Community Services","MSE:AH:MRC:MUNICIPAL RUNNING COST","O/404400.JAH.000",null,null,null,null,null,null,"ADM & HO",null,null,null,null,120000,125879.99999999999,131796.35999999999]
["Community Services","MSE:AH:MRC:MUNICIPAL RUNNING COST","O/404400.JAH.000",null,null,null,null,null,null,"ADM & HO",null,null,null,null,100000,104900,109830.29999999999]
["Community Services","MSE:AH:MRC:MUNICIPAL RUNNING COST","O/404400.JAH.000",null,null,null,null,null,null,"ADM & HO",null,null,null,null,100000,104900,109830.29999999999]
["Community Services","MSE:AH:MRC:MUNICIPAL RUNNING COST","O/404400.JAH.000",null,null,null,null,null,null,"ADM & HO",null,null,null,null,150000,157350,164745.44999999998]
["Community Services","MSE:AH:MRC:MUNICIPAL RUNNING COST","O/404400.JAH.000",null,null,null,null,null,null,"ADM & HO",null,null,null,null,100000,104900,109830.29999999999]
["Community Services","MSE:AH:MRC:MUNICIPAL RUNNING COST","O/404400.JAH.000",null,null,null,null,null,null,"ADM & HO",null,null,null,null,200000,209800,219660.59999999998]
["Community Services","MSE:AH:MRC:MUNICIPAL RUNNING COST","O/404400.JAH.000",null,null,null,null,null,null,"ADM & HO",null,null,null,null,132000,138468,144975.99599999998]
["Community Services","MSE:AH:MRC:MUNICIPAL RUNNING COST","O/404404.JAH.000",null,null,null,null,null,null,"ADM & HO",null,null,null,null,150000,157350,164745.44999999998]
["Community Services","MSE:AH:MRC:MUNICIPAL RUNNING COST","O/404404.JAH.000",null,null,null,null,null,null,"ADM & HO",null,null,null,null,22400,23497.599999999999,24601.987199999996]
["Community Services","MSE:AH:NIF:MACH & EQUIPMENT:PL","M/404412.JAH.E43",null,null,null,null,null,null,"ADM & HO",null,null,null,null,157200,164902.79999999999,172653.23159999997]
["Community Services","MSE:AH:MRC:MUNICIPAL RUNNING COST","O/404293.JAH.000",null,null,null,null,null,null,"ADM & HO",null,null,null,null,10585,11103.664999999999,11625.537254999997]
["Community Services","MSE:AH:MRC:MUNICIPAL RUNNING COST","O/404294.JAH.000",null,null,null,null,null,null,"ADM & HO",null,null,null,null,108732,114059.86799999999,119420.68179599998]
["Community Services","LEVS:AH:MRC:MUNICIPAL RUNNING COST","O/404298.BAH.000",null,null,null,null,null,null,"ADM & HO",null,null,null,null,32949,34563.500999999997,36187.985546999997]
["Community Services","MSE:AH:MRC:MUNICIPAL RUNNING COST","O/404302.JAH.000",null,null,null,null,null,null,"ADM & HO",null,null,null,null,263593,276509.05699999997,289504.98267899995]
["Community Services","MSE:AH:MRC:MUNICIPAL RUNNING COST","O/404325.JAH.000",null,null,null,null,null,null,"ADM & HO",null,null,null,null,38513.919999999998,40401.102079999997,42299.953877759996]
["Community Services","MSE:AH:MRC:MUNICIPAL RUNNING COST","O/404327.JAH.000",null,null,null,null,null,null,"ADM & HO",null,null,null,null,17606.36,18469.071639999998,19337.118007079996]
["Community Services","MSE:AH:MRC:MUNICIPAL RUNNING COST","O/404293.JAH.000",null,null,null,null,null,null,"ADM & HO",null,null,null,null,1200000,1258800,1317963.5999999999]
["Community Services","MSE:AH:MRC:MUNICIPAL RUNNING COST","O/404325.JAH.000",null,null,null,null,null,null,"ADM & HO",null,null,null,null,840000,881160,922574.5199999999]
["Community Services","MSE:AH:MRC:MUNICIPAL RUNNING COST","O/404327.JAH.000",null,null,null,null,null,null,"ADM & HO",null,null,null,null,66024,69259.175999999992,72514.357271999994]
["Community Services","MSE:AH:MRC:MUNICIPAL RUNNING COST","O/404325.JAH.000",null,null,null,null,null,null,"ADM & HO",null,null,null,null,21000,22029,23064.362999999998]
["Community Services","MSE:AH:MRC:MUNICIPAL RUNNING COST","O/404328.JAH.000",null,null,null,null,null,null,"ADM & HO",null,null,null,null,41000000,43009000,45030423]
["Community Services","MSE:AH:MRC:MUNICIPAL RUNNING COST","O/404327.JAH.000",null,null,null,null,null,null,"ADM & HO",null,null,null,null,105000,110145,115321.81499999999]
["Community Services","MSE:AH:NIF:BUILD & OTHER STRUCT:PL","M/404292.JAH.E27",null,null,null,null,null,null,"ADM & HO",null,null,null,null,471600,494708.39999999997,517959.69479999994]
["Community Services","MSE:AH:NIF:BUILD & OTHER STRUCT:PL","M/404293.JAH.E27",null,null,null,null,null,null,"ADM & HO",null,null,null,null,172920,181393.08,189918.55475999997]
["Community Services","MSE:AH:NIF:BUILD & OTHER STRUCT:PL","M/404294.JAH.E27",null,null,null,null,null,null,"ADM & HO",null,null,null,null,94320,98941.68,103591.93895999998]
["Community Services","MSE:AH:NIF:BUILD & OTHER STRUCT:PL","M/404325.JAH.E27",null,null,null,null,null,null,"ADM & HO",null,null,null,null,1000000,1049000,1098303]
["Community Services","MSE:AH:NIF:MACH & EQUIPMENT:PL","M/404296.JAH.E43",null,null,null,null,null,null,"ADM & HO",null,null,null,null,36680,38477.32,40285.75404]
["Community Services","MSE:AH:MRC:MUNICIPAL RUNNING COST","O/404296.JAH.000",null,null,null,null,null,null,"ADM & HO",null,null,null,null,34584,36278.615999999995,37983.710951999994]
["Community Services","MSE:AH:NIF:MACH & EQUIPMENT:PL","M/404293.JAH.E43",null,null,null,null,null,null,"ADM & HO",null,null,null,null,19388,20338.011999999999,21293.898563999996]
["Community Services","MSE:AH:NIF:MACH & EQUIPMENT:PL","M/404327.JAH.E43",null,null,null,null,null,null,"ADM & HO",null,null,null,null,52500,55072.5,57660.907499999994]
["Community Services","MSE:AH:NIF:MACH & EQUIPMENT:PL","M/404296.JAH.E43",null,null,null,null,null,null,"ADM & HO",null,null,null,null,83840,87948.159999999989,92081.723519999985]
["Community Services","LEVS:AH:NIF:MACH & EQUIPMENT:PL","M/404298.BAH.E43",null,null,null,null,null,null,"ADM & HO",null,null,null,null,28820,30232.179999999997,31653.092459999996]
["Community Services","MSE:AH:NIF:MACH & EQUIPMENT:PL","M/404300.JAH.E43",null,null,null,null,null,null,"ADM & HO",null,null,null,null,86000,90214,94454.05799999999]
["Community Services","MSE:AH:NIF:MACH & EQUIPMENT:PL","M/404302.JAH.E43",null,null,null,null,null,null,"ADM & HO",null,null,null,null,291344,305619.85599999997,319983.98923199996]
["Community Services","MSE:AH:NIF:MACH & EQUIPMENT:PL","M/404325.JAH.E43",null,null,null,null,null,null,"ADM & HO",null,null,null,null,105000,110145,115321.81499999999]
["Community Services","MSE:AH:NIF:MACH & EQUIPMENT:PL","M/404327.JAH.E43",null,null,null,null,null,null,"ADM & HO",null,null,null,null,8400,8811.5999999999985,9225.7451999999976]
["Community Services","MSE:AH:NIF:MACH & EQUIPMENT:PL","M/404328.JAH.E43",null,null,null,null,null,null,"ADM & HO",null,null,null,null,8925,9362.3249999999989,9802.3542749999979]
["Community Services","MSE:AH:NIF:TRANSPORT ASSETS:PL","M/404292.JAH.E45",null,null,null,null,null,null,"ADM & HO",null,null,null,null,943200,989416.79999999993,1035919.3895999999]
["Community Services","MSE:AH:NIF:TRANSPORT ASSETS:PL","M/403243.JAH.E45",null,null,null,null,null,null,"ADM & HO",null,null,null,null,105000,110145,115321.81499999999]
["Community Services","MSE:AH:NIF:TRANSPORT ASSETS:PL","M/404327.JAH.E45",null,null,null,null,null,null,"ADM & HO",null,null,null,null,682500,715942.5,749591.79749999999]
["Community Services","MSE:AH:NIF:TRANSPORT ASSETS:PL","M/404328.JAH.E45",null,null,null,null,null,null,"ADM & HO",null,null,null,null,945000,991304.99999999988,1037896.3349999998]
["Community Services","MSE:AH:MRC:MUNICIPAL RUNNING COST","O/404325.JAH.000",null,null,null,null,null,null,"ADM & HO",null,null,null,null,165060,173147.94,181285.89317999998]
["Community Services","MSE:AH:MRC:MUNICIPAL RUNNING COST","O/404296.JAH.000",null,null,null,null,null,null,"ADM & HO",null,null,null,null,382210,400938.29,419782.38962999993]
["Community Services","MSE:AH:MRC:MUNICIPAL RUNNING COST","O/404302.JAH.000",null,null,null,null,null,null,"ADM & HO",null,null,null,null,210466,220778.83399999997,231155.43919799995]
["Community Services","MSE:AH:MRC:MUNICIPAL RUNNING COST","O/404327.JAH.000",null,null,null,null,null,null,"ADM & HO",null,null,null,null,16069.05,16856.433449999997,17648.685822149997]
["Community Services","MSE:AH:MRC:MUNICIPAL RUNNING COST","O/404325.JAH.000",null,null,null,null,null,null,"ADM & HO",null,null,null,null,12654.56,13274.633439999998,13898.541211679996]
["Community Services","MSE:AH:MRC:MUNICIPAL RUNNING COST","O/404294.JAH.000",null,null,null,null,null,null,"ADM & HO",null,null,null,null,72488,76039.911999999997,79613.787863999998]
["Community Services","MSE:AH:MRC:MUNICIPAL RUNNING COST","O/404325.JAH.000",null,null,null,null,null,null,"ADM & HO",null,null,null,null,20959.29,21986.29521,23019.651084869998]
["Community Services","MSE:AH:MRC:MUNICIPAL RUNNING COST","O/404327.JAH.000",null,null,null,null,null,null,"ADM & HO",null,null,null,null,16506,17314.793999999998,18128.589317999998]
["Community Services","MSE:AH:MRC:MUNICIPAL RUNNING COST","O/404328.JAH.000",null,null,null,null,null,null,"ADM & HO",null,null,null,null,11013.96,11553.644039999999,12096.665309879998]
["Community Services","MSE:AH:MRC:MUNICIPAL RUNNING COST","O/404294.JAH.000",null,null,null,null,null,null,"ADM & HO",null,null,null,null,80000,83920,87864.239999999991]
["Community Services","MSE:AH:MRC:MUNICIPAL RUNNING COST","O/404296.JAH.000",null,null,null,null,null,null,"ADM & HO",null,null,null,null,528192,554073.40799999994,580114.85817599995]
["Community Services","MSE:AH:MRC:MUNICIPAL RUNNING COST","O/404325.JAH.000",null,null,null,null,null,null,"ADM & HO",null,null,null,null,330120,346295.88,362571.78635999997]
["Community Services","\"MSE:AH:TWS:CAPBUIL:W/SH","O/404294.JAH.X19",null,null,null,null,null,null,"ADM & HO",null,null,null,null,850000,891650,933557.54999999993]
["Community Services","MSE:AH:MRC:MUNICIPAL RUNNING COST","O/404327.JAH.000",null,null,null,null,null,null,"ADM & HO",null,null,null,null,1000000,1049000,1098303]
["Community Services","MSE:AH:MRC:MUNICIPAL RUNNING COST","O/404294.JAH.000",null,null,null,null,null,null,"ADM & HO",null,null,null,null,61505,64518.744999999995,67551.126014999987]
["Community Services","MSE:AH:MRC:MUNICIPAL RUNNING COST","O/404296.JAH.000",null,null,null,null,null,null,"ADM & HO",null,null,null,null,16475,17282.274999999998,18094.541924999998]
["Community Services","MSE:AH:MRC:MUNICIPAL RUNNING COST","O/404293.JAH.000",null,null,null,null,null,null,"ADM & HO",null,null,null,null,27282,28618.817999999999,29963.902445999996]
["Community Services","MSE:AH:MRC:MUNICIPAL RUNNING COST","O/404294.JAH.000",null,null,null,null,null,null,"ADM & HO",null,null,null,null,92807,97354.542999999991,101930.20652099999]
["Community Services","MSE:AH:MRC:MUNICIPAL RUNNING COST","O/404325.JAH.000",null,null,null,null,null,null,"ADM & HO",null,null,null,null,314400,329805.59999999998,345306.46319999994]
["Community Services","MSE:AH:MRC:MUNICIPAL RUNNING COST","O/404293.JAH.000",null,null,null,null,null,null,"ADM & HO",null,null,null,null,35146,36868.153999999995,38600.957237999995]
["Community Services","MSE:AH:MRC:MUNICIPAL RUNNING COST","O/404294.JAH.000",null,null,null,null,null,null,"ADM & HO",null,null,null,null,400000,419600,439321.19999999995]
["Community Services","MSE:AH:MRC:MUNICIPAL RUNNING COST","O/404325.JAH.000",null,null,null,null,null,null,"ADM & HO",null,null,null,null,6800.47,7133.6930299999995,7468.976602409999]
["Community Services","MSE:AH:MRC:MUNICIPAL RUNNING COST","O/404326.JAH.000",null,null,null,null,null,null,"ADM & HO",null,null,null,null,800000,839200,878642.39999999991]
["Community Services","MSE:AH:MRC:MUNICIPAL RUNNING COST","O/404327.JAH.000",null,null,null,null,null,null,"ADM & HO",null,null,null,null,627503.06000000006,658250.70993999997,689188.49330717989]
["Community Services","MSE:AH:MRC:MUNICIPAL RUNNING COST","O/404328.JAH.000",null,null,null,null,null,null,"ADM & HO",null,null,null,null,467670,490585.82999999996,513643.3640099999]
["Community Services","MSE:AH:MRC:MUNICIPAL RUNNING COST","O/404327.JAH.000",null,null,null,null,null,null,"ADM & HO",null,null,null,null,200403.72,210223.50227999999,220104.00688715998]
["Community Services","MSE:AH:MRC:MUNICIPAL RUNNING COST","O/404293.JAH.000",null,null,null,null,null,null,"ADM & HO",null,null,null,null,79229,83111.22099999999,87017.448386999982]
["Community Services","MSE:AH:MRC:MUNICIPAL RUNNING COST","O/404294.JAH.000",null,null,null,null,null,null,"ADM & HO",null,null,null,null,250000,262250,274575.75]
["Community Services","MSE:AH:MRC:MUNICIPAL RUNNING COST","O/404325.JAH.000",null,null,null,null,null,null,"ADM & HO",null,null,null,null,251617.2,263946.44280000002,276351.92561159999]
["Community Services","MSE:AH:MRC:MUNICIPAL RUNNING COST","O/404180.JAH.000",null,null,null,null,null,null,"ADM & HO",null,null,null,null,933558.4,979302.76159999997,1025329.9913951999]
["Community Services","MSE:AH:MRC:MUNICIPAL RUNNING COST","O/404181.JAH.000",null,null,null,null,null,null,"ADM & HO",null,null,null,null,319474.66752000002,335128.92622848001,350879.98576121853]
["Community Services","MSE:AH:MRC:MUNICIPAL RUNNING COST","O/404182.JAH.000",null,null,null,null,null,null,"ADM & HO",null,null,null,null,159765.79743999999,167594.32151456,175471.2546257443]
["Community Services","WAST:AH:MRC:MUNICIPAL RUNNING COST","O/404185.MAH.000",null,null,null,null,null,null,"ADM & HO",null,null,null,null,933558.4,979302.76159999997,1025329.9913951999]
["Community Services","MSE:AH:MRC:MUNICIPAL RUNNING COST","O/404181.JAH.000",null,null,null,null,null,null,"ADM & HO",null,null,null,null,104800,109935.2,115102.15439999998]
["Community Services","MSE:AH:MRC:MUNICIPAL RUNNING COST","O/404184.JAH.000",null,null,null,null,null,null,"ADM & HO",null,null,null,null,11416.870079999999,11976.296713919997,12539.182659474236]
["Community Services","WAST:AH:MRC:MUNICIPAL RUNNING COST","O/404185.MAH.000",null,null,null,null,null,null,"ADM & HO",null,null,null,null,1644000,1724556,1805610.132]
["Community Services","WAST:AH:MRC:MUNICIPAL RUNNING COST","O/404185.MAH.000",null,null,null,null,null,null,"ADM & HO",null,null,null,null,51336.835440000003,53852.340376560001,56383.400374258315]
["Community Services","LEVS:AH:MRC:MUNICIPAL RUNNING COST","O/404185.BAH.000",null,null,null,null,null,null,"ADM & HO",null,null,null,null,104800,109935.2,115102.15439999998]
["Community Services","MSU1/O/404185.JAH.000","O/404185.JAH.000",null,null,null,null,null,null,"ADM & HO",null,null,null,null,104800,109935.2,115102.15439999998]
["Community Services","MSE:AH:MRC:MUNICIPAL RUNNING COST","O/404182.JAH.000",null,null,null,null,null,null,"ADM & HO",null,null,null,null,7000000,7342999.9999999991,7688120.9999999981]
["Community Services","WAST:AH:MRC:MUNICIPAL RUNNING COST","O/404185.MAH.000",null,null,null,null,null,null,"ADM & HO",null,null,null,null,419200,439740.8,460408.61759999994]
["Community Services","WAST:AH:MRC:MUNICIPAL RUNNING COST","O/404185.MAH.000",null,null,null,null,null,null,"ADM & HO",null,null,null,null,93417.871120000011,97995.346804879999,102601.12810470935]
["Community Services","MSE:AH:MRC:MUNICIPAL RUNNING COST","O/404182.JAH.000",null,null,null,null,null,null,"ADM & HO",null,null,null,null,24104,25285.095999999998,26473.495511999998]
["Community Services","NONF:AH:MRC:MUNICIPAL RUNNING COST","O/404181.AAH.000",null,null,null,null,null,null,"ADM & HO",null,null,null,null,62880,65961.119999999995,69061.292639999985]
["Community Services","MSE:AH:NIF:BUILD & OTHER STRUCT:PL","M/404180.JAH.E27",null,null,null,null,null,null,"ADM & HO",null,null,null,null,337145.79200000002,353665.93580799998,370288.23479097593]
["Community Services","MSE:AH:NIF:BUILD & OTHER STRUCT:PL","M/404181.JAH.E27",null,null,null,null,null,null,"ADM & HO",null,null,null,null,2096000,2198704,2302043.088]
["Community Services","MSE:AH:NIF:BUILD & OTHER STRUCT:PL","M/404182.JAH.E27",null,null,null,null,null,null,"ADM & HO",null,null,null,null,262000,274838,287755.386]
["Community Services","MSE:AH:NIF:BUILD & OTHER STRUCT:PL","M/404183.JAH.E27",null,null,null,null,null,null,"ADM & HO",null,null,null,null,500000,524500,549151.5]
["Community Services","WAST:AH:NIF:BUILD & OTHER STRUCT:PL","M/404185.MAH.E27",null,null,null,null,null,null,"ADM & HO",null,null,null,null,542154.70312000008,568720.28357288009,595450.1369008054]
["Community Services","MSE:AH:NIF:MACH & EQUIPMENT:PL","M/404180.JAH.E43",null,null,null,null,null,null,"ADM & HO",null,null,null,null,11338.312,11893.889287999998,12452.902084535997]
["Community Services","MSU1/M/404181.JAH.E43","M/404181.JAH.E43",null,null,null,null,null,null,"ADM & HO",null,null,null,null,52400,54967.6,57551.077199999992]
["Community Services","MSE:AH:NIF:MACH & EQUIPMENT:PL","M/404182.JAH.E43",null,null,null,null,null,null,"ADM & HO",null,null,null,null,146720,153909.28,161143.01616]
["Community Services","MSE:AH:NIF:MACH & EQUIPMENT:PL","M/404183.JAH.E43",null,null,null,null,null,null,"ADM & HO",null,null,null,null,33536,35179.263999999996,36832.689407999991]
["Community Services","MSE:AH:NIF:MACH & EQUIPMENT:PL","M/404184.JAH.E43",null,null,null,null,null,null,"ADM & HO",null,null,null,null,52400,54967.6,57551.077199999992]
["Community Services","WAST:AH:INF:SOLID WASTE DISPOSAL:PL","M/404185.MAH.D35",null,null,null,null,null,null,"ADM & HO",null,null,null,null,524000,549676,575510.772]
["Community Services","MSE:AH:INF:SOLID WASTE DISPOSAL:PL","M/404186.JAH.D35",null,null,null,null,null,null,"ADM & HO",null,null,null,null,157200,164902.79999999999,172653.23159999997]
["Community Services","MSE:AH:NIF:TRANSPORT ASSETS:PL","M/404181.JAH.E45",null,null,null,null,null,null,"ADM & HO",null,null,null,null,1048000,1099352,1151021.544]
["Community Services","MSE:AH:NIF:TRANSPORT ASSETS:PL","M/404182.JAH.E45",null,null,null,null,null,null,"ADM & HO",null,null,null,null,2096000,2198704,2302043.088]
["Community Services","MSE:AH:NIF:TRANSPORT ASSETS:PL","M/404183.JAH.E45",null,null,null,null,null,null,"ADM & HO",null,null,null,null,471600,494708.39999999997,517959.69479999994]
["Community Services","MSE:AH:NIF:TRANSPORT ASSETS:PL","M/404184.JAH.E45",null,null,null,null,null,null,"ADM & HO",null,null,null,null,628800,659611.19999999995,690612.92639999988]
["Community Services","WAST:AH:NIF:TRANSPORT ASSETS:PL","M/404185.MAH.E45",null,null,null,null,null,null,"ADM & HO",null,null,null,null,4716000,4947084,5179596.9479999999]
["Community Services","MSE:AH:NIF:TRANSPORT ASSETS:PL","M/404187.JAH.E45",null,null,null,null,null,null,"ADM & HO",null,null,null,null,157200,164902.79999999999,172653.23159999997]
["Community Services","MSU1/O/404185.JAH.000","O/404185.JAH.000",null,null,null,null,null,null,"ADM & HO",null,null,null,null,104800,109935.2,115102.15439999998]
["Community Services","MSE:AH:MRC:MUNICIPAL RUNNING COST","O/404182.JAH.000",null,null,null,null,null,null,"ADM & HO",null,null,null,null,4080.1574400000004,4280.0851545599999,4481.2491568243195]
["Community Services","MSE:AH:MRC:MUNICIPAL RUNNING COST","O/404184.JAH.000",null,null,null,null,null,null,"ADM & HO",null,null,null,null,2386.5684800000004,2503.5103355200004,2621.17532128944]
["Community Services","MSE:AH:MRC:MUNICIPAL RUNNING COST","O/404180.JAH.000",null,null,null,null,null,null,"ADM & HO",null,null,null,null,5814.4611999999997,6099.3697987999994,6386.0401793435994]
["Community Services","MSE:AH:MRC:MUNICIPAL RUNNING COST","O/404182.JAH.000",null,null,null,null,null,null,"ADM & HO",null,null,null,null,6696.3112799999999,7024.4305327199991,7354.5787677578382]
["Community Services","MSE:AH:MRC:MUNICIPAL RUNNING COST","O/404182.JAH.000",null,null,null,null,null,null,"ADM & HO",null,null,null,null,6524.3240000000005,6844.0158760000004,7165.6846221719998]
["Community Services","MSE:AH:MRC:MUNICIPAL RUNNING COST","O/404181.JAH.000",null,null,null,null,null,null,"ADM & HO",null,null,null,null,91386.627040000007,95864.571764959997,100370.20663791311]
["Community Services","WAST:AH:MRC:MUNICIPAL RUNNING COST","O/404185.MAH.000",null,null,null,null,null,null,"ADM & HO",null,null,null,null,104134.63528,109237.23240872,114371.38233192982]
["Community Services","MSE:AH:MRC:MUNICIPAL RUNNING COST","O/404186.JAH.000",null,null,null,null,null,null,"ADM & HO",null,null,null,null,76156.357440000007,79888.018954560001,83642.755845424312]
["Community Services","LEVS:AH:MRC:MUNICIPAL RUNNING COST","O/404187.JAH.000",null,null,null,null,null,null,"ADM & HO",null,null,null,null,500000,524500,549151.5]
["Community Services","WAST:AH:MRC:MUNICIPAL RUNNING COST","O/404185.MAH.000",null,null,null,null,null,null,"ADM & HO",null,null,null,null,26200,27483.8,28775.538599999996]
["Community Services","MSE:AH:MRC:MUNICIPAL RUNNING COST","O/404186.JAH.000",null,null,null,null,null,null,"ADM & HO",null,null,null,null,30000,31469.999999999996,32949.089999999997]
["Community Services","MSE:AH:MRC:MUNICIPAL RUNNING COST","O/404182.JAH.000",null,null,null,null,null,null,"ADM & HO",null,null,null,null,3555.2142400000002,3729.4197377599999,3904.7024654347197]
["Community Services","WAST:AH:MRC:MUNICIPAL RUNNING COST","O/404185.MAH.000",null,null,null,null,null,null,"ADM & HO",null,null,null,null,36680,38477.32,40285.75404]
["Community Services","WAST:AH:MRC:MUNICIPAL RUNNING COST","O/404185.MAH.000",null,null,null,null,null,null,"ADM & HO",null,null,null,null,600000,629400,658981.79999999993]
["Community Services","MSU1/O/404186.MAH.000","O/404186.MAH.000",null,null,null,null,null,null,"ADM & HO",null,null,null,null,2000000,2098000,2196606]
["Community Services","WAST:AH:MRC:MUNICIPAL RUNNING COST","O/404185.MAH.000",null,null,null,null,null,null,"ADM & HO",null,null,null,null,163265.13232,171265.12380368001,179314.58462245297]
["Community Services","MSE:AH:MRC:MUNICIPAL RUNNING COST","O/404182.JAH.000",null,null,null,null,null,null,"ADM & HO",null,null,null,null,219660.80000000002,230424.17920000001,241254.11562239999]
["Community Services","MSE:AH:MRC:MUNICIPAL RUNNING COST","O/404184.JAH.000",null,null,null,null,null,null,"ADM & HO",null,null,null,null,22958.94472,24083.933011279998,25215.877862810157]
["Community Services","WAST:AH:MRC:MUNICIPAL RUNNING COST","O/404185.MAH.000",null,null,null,null,null,null,"ADM & HO",null,null,null,null,132784.95360000001,139291.41632640001,145838.11289374079]
["Community Services","MSE:AH:MRC:MUNICIPAL RUNNING COST","O/404186.JAH.000",null,null,null,null,null,null,"ADM & HO",null,null,null,null,382351.47112,401086.69320487999,419937.76778550935]
["Community Services","WAST:AH:MRC:MUNICIPAL RUNNING COST","O/404185.MAH.000",null,null,null,null,null,null,"ADM & HO",null,null,null,null,2716000,2849084,2982990.9479999999]
["Community Services","MSU1/O/404186.MAH.000","O/404186.MAH.000",null,null,null,null,null,null,"ADM & HO",null,null,null,null,1000000,1049000,1098303]
["Community Services","MSE:AH:NIF:BUILD & OTHER STRUCT:PL","M/404183.JAH.E27",null,null,null,null,null,null,"ADM & HO",null,null,null,null,500000,524500,549151.5]
["Sustainable Development","MSE:AH:MRC:MUNICIPAL RUNNING COST","O/603114.JAH.000",null,null,null,null,null,null,"ADM & HO",null,null,null,null,50000,52450,54915.149999999994]
["Sustainable Development","MSE:AH:MRC:MUNICIPAL RUNNING COST","O/603114.JAH.000",null,null,null,null,null,null,"ADM & HO",null,null,null,null,15000,15734.999999999998,16474.544999999998]
["Sustainable Development","MSE:AH:MRC:MUNICIPAL RUNNING COST","O/603114.JAH.000",null,null,null,null,null,null,"ADM & HO",null,null,null,null,10000,10490,10983.029999999999]
["Sustainable Development","MSE:AH:MRC:MUNICIPAL RUNNING COST","O/603114.JAH.000",null,null,null,null,null,null,"ADM & HO",null,null,null,null,5000,5245,5491.5149999999994]
["Sustainable Development","MSE:AH:MRC:MUNICIPAL RUNNING COST","O/603114.JAH.000",null,null,null,null,null,null,"ADM & HO",null,null,null,null,40000,41960,43932.119999999995]
["Sustainable Development","MSE:AH:MRC:MUNICIPAL RUNNING COST","O/603113.JAH.000",null,null,null,null,null,null,"ADM & HO",null,null,null,null,16396934.26,17183987.104480002,18008818.485495042]
["Sustainable Development","NONF:AH:DEFAULT TRANSACTIONS","O/604480.AAH.999",null,null,null,null,null,null,"ADM & HO",null,null,null,null,10000,10490,10983.029999999999]
["Sustainable Development","NONF:AH:MRC:MUNICIPAL RUNNING COST","O/604508.AAH.000",null,null,null,null,null,null,"ADM & HO",null,null,null,null,10000,10490,10983.029999999999]
["Sustainable Development","NONF:AH:MRC:MUNICIPAL RUNNING COST","O/604508.AAH.000",null,null,null,null,null,null,"ADM & HO",null,null,null,null,10000,10490,10983.029999999999]
["Sustainable Development","NONF:AH:DEFAULT TRANSACTIONS","O/604508.AAH.999",null,null,null,null,null,null,"ADM & HO",null,null,null,null,10000,10490,10983.029999999999]
["Sustainable Development","NONF:AH:DEFAULT TRANSACTIONS","O/604508.AAH.999",null,null,null,null,null,null,"ADM & HO",null,null,null,null,10000,10490,10983.029999999999]
["Sustainable Development","MSE:AH:MRC:MUNICIPAL RUNNING COST","O/604508.JAH.000",null,null,null,null,null,null,"ADM & HO",null,null,null,null,100000,104900,109830.29999999999]
["Sustainable Development","MSE:AH:NIF:BUILD & OTHER STRUCT:PL","M/604508.JAH.E27",null,null,null,null,null,null,"ADM & HO",null,null,null,null,681200,714578.79999999993,748164.00359999982]
["Sustainable Development","MSE:AH:MRC:MUNICIPAL RUNNING COST","O/604508.JAH.000",null,null,null,null,null,null,"ADM & HO",null,null,null,null,1300000,1363700,1427793.9]
["Sustainable Development","\"MSE:AH:TWS:CAPBUIL:W/SH","O/604508.JAH.X19",null,null,null,null,null,null,"ADM & HO",null,null,null,null,200000,209800,219660.59999999998]
["Sustainable Development","MSE:AH:MRC:MUNICIPAL RUNNING COST","O/604508.JAH.000",null,null,null,null,null,null,"ADM & HO",null,null,null,null,45000,47205,49423.634999999995]
["Sustainable Development","MSE:AH:MRC:MUNICIPAL RUNNING COST","O/604508.JAH.000",null,null,null,null,null,null,"ADM & HO",null,null,null,null,5000,5245,5491.5149999999994]
["Sustainable Development","MSE:AH:MRC:MUNICIPAL RUNNING COST","O/604508.JAH.000",null,null,null,null,null,null,"ADM & HO",null,null,null,null,5000,5245,5491.5149999999994]
["Sustainable Development","MSE:AH:MRC:MUNICIPAL RUNNING COST","O/604508.JAH.000",null,null,null,null,null,null,"ADM & HO",null,null,null,null,0,0,0]
["Sustainable Development","MSE:AH:MRC:MUNICIPAL RUNNING COST","O/604508.JAH.000",null,null,null,null,null,null,"ADM & HO",null,null,null,null,45000,47205,49423.634999999995]
["Sustainable Development","MSE:AH:MRC:MUNICIPAL RUNNING COST","O/604508.JAH.000",null,null,null,null,null,null,"ADM & HO",null,null,null,null,500000,524500,549151.5]
["Sustainable Development","MSE:AH:MRC:MUNICIPAL RUNNING COST","O/604508.JAH.000",null,null,null,null,null,null,"ADM & HO",null,null,null,null,3100000,3251900,3404739.3]
["Sustainable Development","MSE:AH:MRC:MUNICIPAL RUNNING COST","O/604508.JAH.000",null,null,null,null,null,null,"ADM & HO",null,null,null,null,370000,388130,406372.11]
["Sustainable Development","MSE:AH:MRC:MUNICIPAL RUNNING COST","O/604508.JAH.000",null,null,null,null,null,null,"ADM & HO",null,null,null,null,1500000,1573500,1647454.5]
["Sustainable Development","MSE:AH:MRC:MUNICIPAL RUNNING COST","O/604508.JAH.000",null,null,null,null,null,null,"ADM & HO",null,null,null,null,2000000,2098000,2196606]
["Sustainable Development","MSE:AH:MRC:MUNICIPAL RUNNING COST","O/604508.JAH.000",null,null,null,null,null,null,"ADM & HO",null,null,null,null,70000,73430,76881.209999999992]
["Sustainable Development","MSE:AH:MRC:MUNICIPAL RUNNING COST","O/604514.JAH.000",null,null,null,null,null,null,"ADM & HO",null,null,null,null,33000,34617,36243.998999999996]
["Sustainable Development","MSE:AH:MRC:MUNICIPAL RUNNING COST","O/604514.JAH.000",null,null,null,null,null,null,"ADM & HO",null,null,null,null,44000,46156,48325.331999999995]
["Sustainable Development","MSE:AH:MRC:MUNICIPAL RUNNING COST","O/604514.JAH.000",null,null,null,null,null,null,"ADM & HO",null,null,null,null,33000,34617,36243.998999999996]
["Sustainable Development","LEVS:AH:NIF:MACH & EQUIPMENT:PL","M/604514.BAH.E43",null,null,null,null,null,null,"ADM & HO",null,null,null,null,84800,88955.199999999997,93136.094399999987]
["Sustainable Development","LEVS:AH:NIF:MACH & EQUIPMENT:PL","M/604514.BAH.E43",null,null,null,null,null,null,"ADM & HO",null,null,null,null,0,0,0]
["Sustainable Development","MSE:AH:MRC:MUNICIPAL RUNNING COST","O/604514.JAH.000",null,null,null,null,null,null,"ADM & HO",null,null,null,null,17137.944,17977.703255999997,18822.655309031994]
["Sustainable Development","MSE:AH:MRC:MUNICIPAL RUNNING COST","O/604514.JAH.000",null,null,null,null,null,null,"ADM & HO",null,null,null,null,0,0,0]
["Sustainable Development","MSE:AH:MRC:MUNICIPAL RUNNING COST","O/604514.JAH.000",null,null,null,null,null,null,"ADM & HO",null,null,null,null,45000,47205,49423.634999999995]
["Sustainable Development","MSE:AH:MRC:MUNICIPAL RUNNING COST","O/604514.JAH.000",null,null,null,null,null,null,"ADM & HO",null,null,null,null,336534.61,353024.80588999996,369616.97176682996]
["Sustainable Development","MSE:AH:MRC:MUNICIPAL RUNNING COST","O/604514.JAH.000",null,null,null,null,null,null,"ADM & HO",null,null,null,null,5000000,5245000,5491515]
["Sustainable Development","MSE:AH:MRC:MUNICIPAL RUNNING COST","O/604514.JAH.000",null,null,null,null,null,null,"ADM & HO",null,null,null,null,0,0,0]
["Sustainable Development","NONF:AH:MRC:MUNICIPAL RUNNING COST","O/604517.AAH.000",null,null,null,null,null,null,"ADM & HO",null,null,null,null,10000,10490,10983.029999999999]
["Sustainable Development","MSE:AH:MRC:MUNICIPAL RUNNING COST","O/604517.JAH.000",null,null,null,null,null,null,"ADM & HO",null,null,null,null,18150,19039.349999999999,19934.199449999996]
["Sustainable Development","MSE:AH:NIF:BUILD & OTHER STRUCT:PL","M/604517.JAH.E27",null,null,null,null,null,null,"ADM & HO",null,null,null,null,100000,104900,109830.29999999999]
["Sustainable Development","MSE:AH:MRC:MUNICIPAL RUNNING COST","O/604517.JAH.000",null,null,null,null,null,null,"ADM & HO",null,null,null,null,0,0,0]
["Sustainable Development","MSE:AH:MRC:MUNICIPAL RUNNING COST","O/604517.JAH.000",null,null,null,null,null,null,"ADM & HO",null,null,null,null,83531.888000000006,87624.950511999996,91743.323186063993]
["Sustainable Development","MSE:AH:MRC:MUNICIPAL RUNNING COST","O/604517.JAH.000",null,null,null,null,null,null,"ADM & HO",null,null,null,null,87126.6,91395.803400000004,95691.406159799997]
["Sustainable Development","FRST:AH:MUNICIPAL RUNNING COST","O/604735.D9H.000",null,null,null,null,null,null,"ADM & HO",null,null,null,null,40000,41960,43932.119999999995]
["Sustainable Development","FRST:Z5:TWS:ENVIRM:CATCHMENT & FORESTRY","P/604735.001",null,null,null,null,null,null,"ADM & HO",null,null,null,null,250000,262250,274575.75]
["Sustainable Development","FRST:AH:MUNICIPAL RUNNING COST","O/604735.D9H.000",null,null,null,null,null,null,"ADM & HO",null,null,null,null,15000,15734.999999999998,16474.544999999998]
["Sustainable Development","NIF:BUILD & OTHER STRUCT:PL","M/604735.D95.E27",null,null,null,null,null,null,"ADM & HO",null,null,null,null,209600,219870.4,230204.30879999997]
["Sustainable Development","NIF:MACH & EQUIPMENT:PL","M/604735.D95.E43",null,null,null,null,null,null,"ADM & HO",null,null,null,null,262000,274838,287755.386]
["Sustainable Development","NIF:TRANSPORT ASSETS:PL","M/604735.D95.E45",null,null,null,null,null,null,"ADM & HO",null,null,null,null,251520,263844.47999999998,276245.17055999994]
["Sustainable Development","FRST:AH:MUNICIPAL RUNNING COST","O/604735.D9H.000",null,null,null,null,null,null,"ADM & HO",null,null,null,null,50000,52450,54915.149999999994]
["Sustainable Development","FRST:AH:MUNICIPAL RUNNING COST","O/604735.D9H.000",null,null,null,null,null,null,"ADM & HO",null,null,null,null,100000,104900,109830.29999999999]
["Sustainable Development","FRST:Z5:TWS:ENVIRM:CATCHMENT & FORESTRY","P/604735.001",null,null,null,null,null,null,"ADM & HO",null,null,null,null,200000,209800,219660.59999999998]
["Sustainable Development","FRST:AH:MUNICIPAL RUNNING COST","O/604735.D9H.000",null,null,null,null,null,null,"ADM & HO",null,null,null,null,350000,367150,384406.05]
["Sustainable Development","MSE:AH:MRC:MUNICIPAL RUNNING COST","O/604745.JAH.000",null,null,null,null,null,null,"ADM & HO",null,null,null,null,100000,104900,109830.29999999999]
["Sustainable Development","MSE:AH:MRC:MUNICIPAL RUNNING COST","O/604745.JAH.000",null,null,null,null,null,null,"ADM & HO",null,null,null,null,25000,26225,27457.574999999997]
["Sustainable Development","MSE:AH:MRC:MUNICIPAL RUNNING COST","O/604745.JAH.000",null,null,null,null,null,null,"ADM & HO",null,null,null,null,40000,41960,43932.119999999995]
["Sustainable Development","NONF:AH:MRC:MUNICIPAL RUNNING COST","O/604745.AAH.000",null,null,null,null,null,null,"ADM & HO",null,null,null,null,10000,10490,10983.029999999999]
["Sustainable Development","NONF:AH:MRC:MUNICIPAL RUNNING COST","O/604745.AAH.000",null,null,null,null,null,null,"ADM & HO",null,null,null,null,10000,10490,10983.029999999999]
["Sustainable Development","NONF:AH:DEFAULT TRANSACTIONS","O/604745.AAH.999",null,null,null,null,null,null,"ADM & HO",null,null,null,null,10000,10490,10983.029999999999]
["Sustainable Development","NONF:AH:DEFAULT TRANSACTIONS","O/604745.AAH.999",null,null,null,null,null,null,"ADM & HO",null,null,null,null,10000,10490,10983.029999999999]
["Sustainable Development","NONF:AH:DEFAULT TRANSACTIONS","O/604745.AAH.999",null,null,null,null,null,null,"ADM & HO",null,null,null,null,10000,10490,10983.029999999999]
["Sustainable Development","MSE:AH:MRC:MUNICIPAL RUNNING COST","O/604745.JAH.000",null,null,null,null,null,null,"ADM & HO",null,null,null,null,140000,146860,153762.41999999998]
["Sustainable Development","LEVS:AH:NIF:BUILD & OTHER STRUCT:PL","M/604745.BAH.E27",null,null,null,null,null,null,"ADM & HO",null,null,null,null,1208398.6299999999,1267610.1628699999,1327187.8405248898]
["Sustainable Development","MSE:AH:NIF:MACH & EQUIPMENT:PL","M/604745.JAH.E43",null,null,null,null,null,null,"ADM & HO",null,null,null,null,587485.74400000006,616272.54545600002,645237.355092432]
["Sustainable Development","MSE:AH:NIF:TRANSPORT ASSETS:PL","M/604745.JAH.E45",null,null,null,null,null,null,"ADM & HO",null,null,null,null,0,0,0]
["Sustainable Development","MSE:AH:MRC:MUNICIPAL RUNNING COST","O/604745.JAH.000",null,null,null,null,null,null,"ADM & HO",null,null,null,null,0,0,0]
["Sustainable Development","MSE:AH:NIF:TRANSPORT ASSETS:PL","M/604745.JAH.E45",null,null,null,null,null,null,"ADM & HO",null,null,null,null,24884.760000000002,26104.113239999999,27331.006562279996]
["Sustainable Development","MSE:AH:NIF:INTANGIBLE ASSET:PL","M/604745.JAH.E35",null,null,null,null,null,null,"ADM & HO",null,null,null,null,5764,6046.4359999999997,6330.6184919999996]
["Sustainable Development","MSE:AH:MRC:MUNICIPAL RUNNING COST","O/604745.JAH.000",null,null,null,null,null,null,"ADM & HO",null,null,null,null,852913.60000000009,894706.36640000006,936757.56562080001]
["Sustainable Development","MSE:AH:MRC:MUNICIPAL RUNNING COST","O/604745.JAH.000",null,null,null,null,null,null,"ADM & HO",null,null,null,null,239331.76,251059.01624,262858.79000327998]
["Sustainable Development","MSE:AH:MRC:MUNICIPAL RUNNING COST","O/604745.JAH.000",null,null,null,null,null,null,"ADM & HO",null,null,null,null,0,0,0]
["Sustainable Development","MSE:AH:MRC:MUNICIPAL RUNNING COST","O/604745.JAH.000",null,null,null,null,null,null,"ADM & HO",null,null,null,null,156000,163644,171335.26799999998]
["Sustainable Development","MSE:AH:MRC:MUNICIPAL RUNNING COST","O/604745.JAH.000",null,null,null,null,null,null,"ADM & HO",null,null,null,null,15864.16,16641.503839999998,17423.654520479995]
["Sustainable Development","MSE:AH:MRC:MUNICIPAL RUNNING COST","O/604745.JAH.000",null,null,null,null,null,null,"ADM & HO",null,null,null,null,0,0,0]
["Sustainable Development","MSE:AH:MRC:MUNICIPAL RUNNING COST","O/604745.JAH.000",null,null,null,null,null,null,"ADM & HO",null,null,null,null,65000,68185,71389.694999999992]
["Sustainable Development","MSE:AH:MRC:MUNICIPAL RUNNING COST","O/604745.JAH.000",null,null,null,null,null,null,"ADM & HO",null,null,null,null,104000,109096,114223.51199999999]
["Sustainable Development","MSE:AH:MRC:MUNICIPAL RUNNING COST","O/604745.JAH.000",null,null,null,null,null,null,"ADM & HO",null,null,null,null,400000,419600,439321.19999999995]
["Sustainable Development","MSE:AH:MRC:MUNICIPAL RUNNING COST","O/604745.JAH.000",null,null,null,null,null,null,"ADM & HO",null,null,null,null,10000,10490,10983.029999999999]
["Sustainable Development","MSE:AH:MRC:MUNICIPAL RUNNING COST","O/604745.JAH.000",null,null,null,null,null,null,"ADM & HO",null,null,null,null,2000,2098,2196.6059999999998]
["Sustainable Development","MSE:AH:MRC:MUNICIPAL RUNNING COST","O/604745.JAH.000",null,null,null,null,null,null,"ADM & HO",null,null,null,null,2000,2098,2196.6059999999998]
["Sustainable Development","MSE:AH:MRC:MUNICIPAL RUNNING COST","O/604745.JAH.000",null,null,null,null,null,null,"ADM & HO",null,null,null,null,0,0,0]
["Sustainable Development","MSE:AH:MRC:MUNICIPAL RUNNING COST","O/604745.JAH.000",null,null,null,null,null,null,"ADM & HO",null,null,null,null,124800,130915.2,137068.2144]
["Sustainable Development","NONF:AH:MRC:MUNICIPAL RUNNING COST","O/604844.AAH.000",null,null,null,null,null,null,"ADM & HO",null,null,null,null,10000,10490,10983.029999999999]
["Sustainable Development","NONF:AH:MRC:MUNICIPAL RUNNING COST","O/604844.AAH.000",null,null,null,null,null,null,"ADM & HO",null,null,null,null,10000,10490,10983.029999999999]
["Sustainable Development","NONF:AH:DEFAULT TRANSACTIONS","O/604844.AAH.999",null,null,null,null,null,null,"ADM & HO",null,null,null,null,10000,10490,10983.029999999999]
["Sustainable Development","NONF:AH:DEFAULT TRANSACTIONS","O/604844.AAH.999",null,null,null,null,null,null,"ADM & HO",null,null,null,null,10000,10490,10983.029999999999]
["Sustainable Development","MSE:AH:MRC:MUNICIPAL RUNNING COST","O/604844.JAH.000",null,null,null,null,null,null,"ADM & HO",null,null,null,null,10000,10490,10983.029999999999]
["Sustainable Development","MSE:AH:MRC:MUNICIPAL RUNNING COST","O/604844.JAH.000",null,null,null,null,null,null,"ADM & HO",null,null,null,null,77000,80773,84569.330999999991]
["Sustainable Development","MSE:AH:NIF:BUILD & OTHER STRUCT:PL","M/604844.JAH.E27",null,null,null,null,null,null,"ADM & HO",null,null,null,null,209600,219870.4,230204.30879999997]
["Sustainable Development","MSE:AH:TWS:CAPBUIL:DEV OF FIRE-FIGHTERS","O/604844.JAH.X15",null,null,null,null,null,null,"ADM & HO",null,null,null,null,22217.600000000002,23306.2624,24401.656732799998]
["Sustainable Development","MSE:AH:NIF:MACH & EQUIPMENT:PL","M/604844.JAH.E43",null,null,null,null,null,null,"ADM & HO",null,null,null,null,214400,224905.59999999998,235476.16319999995]
["Sustainable Development","MSE:AH:NIF:MACH & EQUIPMENT:PL","M/604844.JAH.E43",null,null,null,null,null,null,"ADM & HO",null,null,null,null,10480,10993.519999999999,11510.215439999998]
["Sustainable Development","MSE:AH:NIF:TRANSPORT ASSETS:PL","M/604844.JAH.E45",null,null,null,null,null,null,"ADM & HO",null,null,null,null,44540,46722.46,48918.415619999992]
["Sustainable Development","MSE:AH:NIF:INTANGIBLE ASSET:PL","M/604844.JAH.E35",null,null,null,null,null,null,"ADM & HO",null,null,null,null,138500,145286.5,152114.96549999999]
["Sustainable Development","MSE:AH:MRC:MUNICIPAL RUNNING COST","O/604844.JAH.000",null,null,null,null,null,null,"ADM & HO",null,null,null,null,0,0,0]
["Sustainable Development","MSE:AH:TWS:PUBLIC PROTECT & SAFETY","O/604844.JAH.Y78",null,null,null,null,null,null,"ADM & HO",null,null,null,null,33000,34617,36243.998999999996]
["Sustainable Development","MSE:AH:MRC:MUNICIPAL RUNNING COST","O/604844.JAH.000",null,null,null,null,null,null,"ADM & HO",null,null,null,null,66000,69234,72487.997999999992]
["Sustainable Development","MSE:AH:MRC:MUNICIPAL RUNNING COST","O/604844.JAH.000",null,null,null,null,null,null,"ADM & HO",null,null,null,null,66000,69234,72487.997999999992]
["Sustainable Development","MSE:AH:MRC:MUNICIPAL RUNNING COST","O/604844.JAH.000",null,null,null,null,null,null,"ADM & HO",null,null,null,null,120000,125879.99999999999,131796.35999999999]
["Sustainable Development","LEVS:AH:MRC:MUNICIPAL RUNNING COST","O/604844.BAH.000",null,null,null,null,null,null,"ADM & HO",null,null,null,null,100000,104900,109830.29999999999]
["Sustainable Development","LEVS:AH:MRC:MUNICIPAL RUNNING COST","O/604844.BAH.000",null,null,null,null,null,null,"ADM & HO",null,null,null,null,369821.38400000002,387942.63181599998,406175.93551135197]
["Sustainable Development","MSE:AH:MRC:MUNICIPAL RUNNING COST","O/604844.JAH.000",null,null,null,null,null,null,"ADM & HO",null,null,null,null,115720,121390.28,127095.62315999999]
["Sustainable Development","MSE:AH:MRC:MUNICIPAL RUNNING COST","O/604844.JAH.000",null,null,null,null,null,null,"ADM & HO",null,null,null,null,120000,125879.99999999999,131796.35999999999]
["Sustainable Development","MSE:AH:MRC:MUNICIPAL RUNNING COST","O/604844.JAH.000",null,null,null,null,null,null,"ADM & HO",null,null,null,null,55000,57694.999999999993,60406.664999999986]
["Sustainable Development","MSE:AH:MRC:MUNICIPAL RUNNING COST","O/604844.JAH.000",null,null,null,null,null,null,"ADM & HO",null,null,null,null,45000,47205,49423.634999999995]
["Sustainable Development","MSE:AH:MRC:MUNICIPAL RUNNING COST","O/604844.JAH.000",null,null,null,null,null,null,"ADM & HO",null,null,null,null,3150,3304.35,3459.6544499999995]
["Sustainable Development","MSE:AH:MRC:MUNICIPAL RUNNING COST","O/604844.JAH.000",null,null,null,null,null,null,"ADM & HO",null,null,null,null,11000,11539,12081.332999999999]
["Sustainable Development","MSE:AH:MRC:MUNICIPAL RUNNING COST","O/604844.JAH.000",null,null,null,null,null,null,"ADM & HO",null,null,null,null,27500,28847.499999999996,30203.332499999993]
["Sustainable Development","MSE:AH:MRC:MUNICIPAL RUNNING COST","O/604844.JAH.000",null,null,null,null,null,null,"ADM & HO",null,null,null,null,35000,36715,38440.604999999996]
["Sustainable Development","MSE:AH:MRC:MUNICIPAL RUNNING COST","O/602097.JAH.000",null,null,null,null,null,null,"ADM & HO",null,null,null,null,7762.58,8142.9464199999993,8525.6649017399996]
["Sustainable Development","MSE:AH:MRC:MUNICIPAL RUNNING COST","O/602097.JAH.000",null,null,null,null,null,null,"ADM & HO",null,null,null,null,20000,20980,21966.059999999998]
["Sustainable Development","MSE:AH:MRC:MUNICIPAL RUNNING COST","O/602097.JAH.000",null,null,null,null,null,null,"ADM & HO",null,null,null,null,2100,2202.8999999999996,2306.4362999999994]
["Sustainable Development","MSE:AH:MRC:MUNICIPAL RUNNING COST","O/602097.JAH.000",null,null,null,null,null,null,"ADM & HO",null,null,null,null,482169.12,505795.40687999997,529567.79100335995]
["Sustainable Development","MSE:AH:MRC:MUNICIPAL RUNNING COST","O/602097.JAH.000",null,null,null,null,null,null,"ADM & HO",null,null,null,null,8400,8811.5999999999985,9225.7451999999976]
["Sustainable Development","MSE:AH:MRC:MUNICIPAL RUNNING COST","O/602097.JAH.000",null,null,null,null,null,null,"ADM & HO",null,null,null,null,50000,52450,54915.149999999994]
["Sustainable Development","MSE:AH:MRC:MUNICIPAL RUNNING COST","O/602097.JAH.000",null,null,null,null,null,null,"ADM & HO",null,null,null,null,50000,52450,54915.149999999994]
["Sustainable Development","MSE:AH:MRC:MUNICIPAL RUNNING COST","O/602097.JAH.000",null,null,null,null,null,null,"ADM & HO",null,null,null,null,100000,104900,109830.29999999999]
["Sustainable Development","MSE:AH:MRC:MUNICIPAL RUNNING COST","O/602097.JAH.000",null,null,null,null,null,null,"ADM & HO",null,null,null,null,4725,4956.5249999999996,5189.4816749999991]
["Sustainable Development","MSE:AH:MRC:MUNICIPAL RUNNING COST","O/602097.JAH.000",null,null,null,null,null,null,"ADM & HO",null,null,null,null,0,0,0]
["Sustainable Development","MSE:AH:MRC:MUNICIPAL RUNNING COST","O/602097.JAH.000",null,null,null,null,null,null,"ADM & HO",null,null,null,null,45000,47205,49423.634999999995]
["Sustainable Development","MSE:AH:MRC:MUNICIPAL RUNNING COST","O/602097.JAH.000",null,null,null,null,null,null,"ADM & HO",null,null,null,null,7350,7710.15,8072.5270499999988]
["Sustainable Development","MSE:AH:MRC:MUNICIPAL RUNNING COST","O/602097.JAH.000",null,null,null,null,null,null,"ADM & HO",null,null,null,null,15000,15734.999999999998,16474.544999999998]
["Sustainable Development","MSE:AH:MRC:MUNICIPAL RUNNING COST","O/602097.JAH.000",null,null,null,null,null,null,"ADM & HO",null,null,null,null,10000,10490,10983.029999999999]
["Sustainable Development","MSE:AH:MRC:MUNICIPAL RUNNING COST","O/602097.JAH.000",null,null,null,null,null,null,"ADM & HO",null,null,null,null,5000,5245,5491.5149999999994]
["Sustainable Development","MSE:AH:MRC:MUNICIPAL RUNNING COST","O/602097.JAH.000",null,null,null,null,null,null,"ADM & HO",null,null,null,null,50000,52450,54915.149999999994]
["Sustainable Development","MSE:AH:MRC:MUNICIPAL RUNNING COST","O/602097.JAH.000",null,null,null,null,null,null,"ADM & HO",null,null,null,null,0,0,0]
["Sustainable Development","MSE:AH:MRC:MUNICIPAL RUNNING COST","O/604247.JAH.000",null,null,null,null,null,null,"ADM & HO",null,null,null,null,15000,15734.999999999998,16474.544999999998]
["Sustainable Development","MSE:AH:MRC:MUNICIPAL RUNNING COST","O/604241.JAH.000",null,null,null,null,null,null,"ADM & HO",null,null,null,null,15000,15734.999999999998,16474.544999999998]
["Sustainable Development","MSE:AH:MRC:MUNICIPAL RUNNING COST","O/604515.JAH.000",null,null,null,null,null,null,"ADM & HO",null,null,null,null,6000,6294,6589.8179999999993]
["Sustainable Development","\"MSE:AH:TWS:CAPBUIL:W/SH","O/604247.JAH.X19",null,null,null,null,null,null,"ADM & HO",null,null,null,null,200000,209800,219660.59999999998]
["Sustainable Development","MSE:AH:MRC:MUNICIPAL RUNNING COST","O/603098.JAH.000",null,null,null,null,null,null,"ADM & HO",null,null,null,null,50000,52450,54915.149999999994]
["Sustainable Development","MSE:AH:MRC:MUNICIPAL RUNNING COST","O/604241.JAH.000",null,null,null,null,null,null,"ADM & HO",null,null,null,null,29287.41,30722.493089999996,32166.450265229993]
["Sustainable Development","MSE:AH:MRC:MUNICIPAL RUNNING COST","O/604247.JAH.000",null,null,null,null,null,null,"ADM & HO",null,null,null,null,40000,41960,43932.119999999995]
["Sustainable Development","NONF:AH:MRC:MUNICIPAL RUNNING COST","O/604515.AAH.000",null,null,null,null,null,null,"ADM & HO",null,null,null,null,30000,31469.999999999996,32949.089999999997]
["Sustainable Development","NONF:AH:MRC:MUNICIPAL RUNNING COST","O/604241.AAH.000",null,null,null,null,null,null,"ADM & HO",null,null,null,null,null,0,0]
["Sustainable Development","NONF:AH:MRC:MUNICIPAL RUNNING COST","O/604511.AAH.000",null,null,null,null,null,null,"ADM & HO",null,null,null,null,null,0,0]
["Sustainable Development","NONF:AH:MRC:MUNICIPAL RUNNING COST","O/604515.AAH.000",null,null,null,null,null,null,"ADM & HO",null,null,null,null,null,0,0]
["Sustainable Development","NONF:AH:DEFAULT TRANSACTIONS","O/604511.AAH.999",null,null,null,null,null,null,"ADM & HO",null,null,null,null,null,0,0]
["Sustainable Development","NONF:AH:DEFAULT TRANSACTIONS","O/604511.AAH.999",null,null,null,null,null,null,"ADM & HO",null,null,null,null,null,0,0]
["Sustainable Development","MSE:AH:MRC:MUNICIPAL RUNNING COST","O/604515.JAH.000",null,null,null,null,null,null,"ADM & HO",null,null,null,null,1500,1573.5,1647.4544999999998]
["Sustainable Development","MSE:AH:MRC:MUNICIPAL RUNNING COST","O/604241.JAH.000",null,null,null,null,null,null,"ADM & HO",null,null,null,null,20000,20980,21966.059999999998]
["Sustainable Development","MSE:AH:MRC:MUNICIPAL RUNNING COST","O/604247.JAH.000",null,null,null,null,null,null,"ADM & HO",null,null,null,null,20000,20980,21966.059999999998]
["Sustainable Development","MSE:AH:MRC:MUNICIPAL RUNNING COST","O/604511.JAH.000",null,null,null,null,null,null,"ADM & HO",null,null,null,null,15000,15734.999999999998,16474.544999999998]
["Sustainable Development","MSE:AH:MRC:MUNICIPAL RUNNING COST","O/604515.JAH.000",null,null,null,null,null,null,"ADM & HO",null,null,null,null,15000,15734.999999999998,16474.544999999998]
["Sustainable Development","MSU1/O/604241.BAH.000","O/604241.BAH.000",null,null,null,null,null,null,"ADM & HO",null,null,null,null,0,0,0]
["Sustainable Development","MSE:AH:MRC:MUNICIPAL RUNNING COST","O/604511.JAH.000",null,null,null,null,null,null,"ADM & HO",null,null,null,null,500000,524500,549151.5]
["Sustainable Development","MSE:AH:MRC:MUNICIPAL RUNNING COST","O/604247.JAH.000",null,null,null,null,null,null,"ADM & HO",null,null,null,null,20000,20980,21966.059999999998]
["Sustainable Development","MSE:AH:MRC:MUNICIPAL RUNNING COST","O/604241.JAH.000",null,null,null,null,null,null,"ADM & HO",null,null,null,null,11000,11539,12081.332999999999]
["Sustainable Development","MSE:AH:MRC:MUNICIPAL RUNNING COST","O/604515.JAH.000",null,null,null,null,null,null,"ADM & HO",null,null,null,null,20000,20980,21966.059999999998]
["Sustainable Development","MSE:AH:NIF:MACH & EQUIPMENT:PL","M/604241.JAH.E27",null,null,null,null,null,null,"ADM & HO",null,null,null,null,1000000,1049000,1098303]
["Sustainable Development","MSE:AH:NIF:MACH & EQUIPMENT:PL","M/604515.JAH.E43",null,null,null,null,null,null,"ADM & HO",null,null,null,null,50000,52450,54915.149999999994]
["Sustainable Development","MSE:AH:NIF:TRANSPORT ASSETS:PL","M/604515.JAH.E45",null,null,null,null,null,null,"ADM & HO",null,null,null,null,6600.0000000000009,6923.4000000000005,7248.7997999999998]
["Sustainable Development","\"MSE:AH:TWS:CAPBUIL:W/SH","O/604247.JAH.X19",null,null,null,null,null,null,"ADM & HO",null,null,null,null,2000000,2098000,2196606]
["Sustainable Development","MSE:AH:MRC:MUNICIPAL RUNNING COST","O/604515.JAH.000",null,null,null,null,null,null,"ADM & HO",null,null,null,null,380000,398620,417355.13999999996]
["Sustainable Development","MSE:AH:MRC:MUNICIPAL RUNNING COST","O/604511.JAH.000",null,null,null,null,null,null,"ADM & HO",null,null,null,null,7336,7695.4639999999999,8057.1508079999994]
["Sustainable Development","MSE:AH:MRC:MUNICIPAL RUNNING COST","O/604515.JAH.000",null,null,null,null,null,null,"ADM & HO",null,null,null,null,22008,23086.392,24171.452423999999]
["Sustainable Development","MSE:AH:MRC:MUNICIPAL RUNNING COST","O/604515.JAH.000",null,null,null,null,null,null,"ADM & HO",null,null,null,null,100000,104900,109830.29999999999]
["Sustainable Development","\"MSE:AH:TWS:CAPBUIL:W/SH","O/604241.JAH.X19",null,null,null,null,null,null,"ADM & HO",null,null,null,null,80000,83920,87864.239999999991]
["Sustainable Development","\"MSE:AH:TWS:CAPBUIL:W/SH","O/604247.JAH.X19",null,null,null,null,null,null,"ADM & HO",null,null,null,null,0,0,0]
["Sustainable Development","MSE:AH:MRC:MUNICIPAL RUNNING COST","O/604241.JAH.000",null,null,null,null,null,null,"ADM & HO",null,null,null,null,67000,70283,73586.300999999992]
["Sustainable Development","MSE:AH:MRC:MUNICIPAL RUNNING COST","O/604247.JAH.000",null,null,null,null,null,null,"ADM & HO",null,null,null,null,0,0,0]
["Sustainable Development","MSE:AH:MRC:MUNICIPAL RUNNING COST","O/604511.JAH.000",null,null,null,null,null,null,"ADM & HO",null,null,null,null,0,0,0]
["Sustainable Development","MSE:AH:MRC:MUNICIPAL RUNNING COST","O/604515.JAH.000",null,null,null,null,null,null,"ADM & HO",null,null,null,null,0,0,0]
["Sustainable Development","MSE:AH:MRC:MUNICIPAL RUNNING COST","O/604515.JAH.000",null,null,null,null,null,null,"ADM & HO",null,null,null,null,0,0,0]
["Sustainable Development","MSE:AH:MRC:MUNICIPAL RUNNING COST","O/604515.JAH.000",null,null,null,null,null,null,"ADM & HO",null,null,null,null,0,0,0]
["Sustainable Development","MSE:AH:MRC:MUNICIPAL RUNNING COST","O/604515.JAH.000",null,null,null,null,null,null,"ADM & HO",null,null,null,null,45000,47205,49423.634999999995]
["Sustainable Development","MSE:AH:MRC:MUNICIPAL RUNNING COST","O/603098.JAH.000",null,null,null,null,null,null,"ADM & HO",null,null,null,null,45000,47205,49423.634999999995]
["Sustainable Development","MSE:AH:MRC:MUNICIPAL RUNNING COST","O/604515.JAH.000",null,null,null,null,null,null,"ADM & HO",null,null,null,null,null,0,0]
["Sustainable Development","MSE:AH:MRC:MUNICIPAL RUNNING COST","O/604241.JAH.000",null,null,null,null,null,null,"ADM & HO",null,null,null,null,null,0,0]
["Sustainable Development","MSU1/O/604247.D34.Y02","O/604247.D34.Y02",null,null,null,null,null,null,"ADM & HO",null,null,null,null,1000000]
["Sustainable Development","\"MSE:AH:TWS:CAPBUIL:W/SH","O/604247.JAH.X19",null,null,null,null,null,null,"ADM & HO",null,null,null,null,250000,262250,274575.75]
["Sustainable Development","MSE:AH:MRC:MUNICIPAL RUNNING COST","O/604511.JAH.000",null,null,null,null,null,null,"ADM & HO",null,null,null,null,1000000,1049000,1098303]
["Sustainable Development","MSE:AH:MRC:MUNICIPAL RUNNING COST","O/603098.JAH.000",null,null,null,null,null,null,"ADM & HO",null,null,null,null,5000,5245,5491.5149999999994]
["Sustainable Development","MSE:AH:MRC:MUNICIPAL RUNNING COST","O/603098.JAH.000",null,null,null,null,null,null,"ADM & HO",null,null,null,null,15000,15734.999999999998,16474.544999999998]
["Sustainable Development","MSE:AH:MRC:MUNICIPAL RUNNING COST","O/603098.JAH.000",null,null,null,null,null,null,"ADM & HO",null,null,null,null,10000,10490,10983.029999999999]
["Sustainable Development","MSE:AH:MRC:MUNICIPAL RUNNING COST","O/604247.JAH.000",null,null,null,null,null,null,"ADM & HO",null,null,null,null,0,0,0]
["Sustainable Development","MSE:AH:MRC:MUNICIPAL RUNNING COST","O/603098.JAH.000",null,null,null,null,null,null,"ADM & HO",null,null,null,null,5000,5245,5491.5149999999994]
["Sustainable Development","MSE:AH:MRC:MUNICIPAL RUNNING COST","O/603098.JAH.000",null,null,null,null,null,null,"ADM & HO",null,null,null,null,40000,41960,43932.119999999995]
["Sustainable Development","MSE:AH:MRC:MUNICIPAL RUNNING COST","O/604515.JAH.000",null,null,null,null,null,null,"ADM & HO",null,null,null,null,15000,15734.999999999998,16474.544999999998]
["Sustainable Development","MSE:AH:MRC:MUNICIPAL RUNNING COST","O/603098.JAH.000",null,null,null,null,null,null,"ADM & HO",null,null,null,null,200000,209800,219660.59999999998]
["Sustainable Development","MSE:AH:MRC:MUNICIPAL RUNNING COST","O/603112.JAH.000",null,null,null,null,null,null,"ADM & HO",null,null,null,null,50000,52450,54915.149999999994]
["Sustainable Development","MSE:AH:MRC:MUNICIPAL RUNNING COST","O/604560.JAH.000",null,null,null,null,null,null,"ADM & HO",null,null,null,null,500000,524500,549151.5]
["Sustainable Development","MSE:AH:MRC:MUNICIPAL RUNNING COST","O/604265.JAH.000",null,null,null,null,null,null,"ADM & HO",null,null,null,null,300000,314700,329490.89999999997]
["Sustainable Development","MSE:AH:NIF:BUILD & OTHER STRUCT:PL","M/604265.JAH.E27",null,null,null,null,null,null,"ADM & HO",null,null,null,null,1000000,1049000,1098303]
["Sustainable Development","MSU1/O/604564.B82.X40","M/604564.B82.X40",null,null,null,null,null,null,"ADM & HO",null,null,null,null,8250000.0000000009,8646000.0000000019,9061008.0000000019]
["Sustainable Development","MSE:AH:MRC:MUNICIPAL RUNNING COST","O/604265.JAH.000",null,null,null,null,null,null,"ADM & HO",null,null,null,null,2000,2098,2196.6059999999998]
["Sustainable Development","MSE:AH:MRC:MUNICIPAL RUNNING COST","O/604560.JAH.000",null,null,null,null,null,null,"ADM & HO",null,null,null,null,50000,52450,54915.149999999994]
["Sustainable Development","MSE:AH:MRC:MUNICIPAL RUNNING COST","O/604560.JAH.000",null,null,null,null,null,null,"ADM & HO",null,null,null,null,250000,262250,274575.75]
["Sustainable Development","MSE:AH:MRC:MUNICIPAL RUNNING COST","O/604560.JAH.000",null,null,null,null,null,null,"ADM & HO",null,null,null,null,150000,157350,164745.44999999998]
["Sustainable Development","MSE:AH:MRC:MUNICIPAL RUNNING COST","O/604560.JAH.000",null,null,null,null,null,null,"ADM & HO",null,null,null,null,2000,2098,2196.6059999999998]
["Sustainable Development","MSE:AH:MRC:MUNICIPAL RUNNING COST","O/604560.JAH.000",null,null,null,null,null,null,"ADM & HO",null,null,null,null,90000,94410,98847.26999999999]
["Sustainable Development","MSE:AH:MRC:MUNICIPAL RUNNING COST","O/604265.JAH.000",null,null,null,null,null,null,"ADM & HO",null,null,null,null,350000,367150,384406.05]
["Sustainable Development","MSE:AH:MRC:MUNICIPAL RUNNING COST","O/604265.JAH.000",null,null,null,null,null,null,"ADM & HO",null,null,null,null,200000,209800,219660.59999999998]
["Sustainable Development","MSE:AH:MRC:MUNICIPAL RUNNING COST","O/604560.JAH.000",null,null,null,null,null,null,"ADM & HO",null,null,null,null,1500000,1573500,1647454.5]
["Sustainable Development","MSE:AH:MRC:MUNICIPAL RUNNING COST","O/604560.JAH.000",null,null,null,null,null,null,"ADM & HO",null,null,null,null,1000000,1049000,1098303]
["Sustainable Development","MSE:AH:MRC:MUNICIPAL RUNNING COST","O/604560.JAH.000",null,null,null,null,null,null,"ADM & HO",null,null,null,null,20000,20980,21966.059999999998]
["Sustainable Development","MSE:AH:MRC:MUNICIPAL RUNNING COST","O/603112.JAH.000",null,null,null,null,null,null,"ADM & HO",null,null,null,null,15000,15734.999999999998,16474.544999999998]
["Sustainable Development","MSE:AH:MRC:MUNICIPAL RUNNING COST","O/603112.JAH.000",null,null,null,null,null,null,"ADM & HO",null,null,null,null,10000,10490,10983.029999999999]
["Sustainable Development","MSE:AH:MRC:MUNICIPAL RUNNING COST","O/603112.JAH.000",null,null,null,null,null,null,"ADM & HO",null,null,null,null,5000,5245,5491.5149999999994]
["Sustainable Development","MSE:AH:MRC:MUNICIPAL RUNNING COST","O/603112.JAH.000",null,null,null,null,null,null,"ADM & HO",null,null,null,null,40000,41960,43932.119999999995]
["Sustainable Development","MSE:AH:MRC:MUNICIPAL RUNNING COST","O/604265.JAH.000",null,null,null,null,null,null,"ADM & HO",null,null,null,null,350000,367150,384406.05]
["Sustainable Development","MSE:AH:MRC:MUNICIPAL RUNNING COST","O/604285.JAH.000",null,null,null,null,null,null,"ADM & HO",null,null,null,null,21395.580240000003,22443.963671760001,23498.829964332719]
["Sustainable Development","MSE:AH:MRC:MUNICIPAL RUNNING COST","O/603116.JAH.000",null,null,null,null,null,null,"ADM & HO",null,null,null,null,50000,52450,54915.149999999994]
["Sustainable Development","MSE:AH:MRC:MUNICIPAL RUNNING COST","O/604285.JAH.000",null,null,null,null,null,null,"ADM & HO",null,null,null,null,20000,20980,21966.059999999998]
["Sustainable Development","NONF:AH:MRC:MUNICIPAL RUNNING COST","O/604101.AAH.000",null,null,null,null,null,null,"ADM & HO",null,null,null,null,20000,20980,21966.059999999998]
["Sustainable Development","NONF:AH.000: NON-FUNDING TRANSACTIONS","O/604115.AAH.000",null,null,null,null,null,null,"ADM & HO",null,null,null,null,40000,41960,43932.119999999995]
["Sustainable Development","NONF:AH:MRC:MUNICIPAL RUNNING COST","O/604285.AAH.000",null,null,null,null,null,null,"ADM & HO",null,null,null,null,100000,104900,109830.29999999999]
["Sustainable Development","NONF:AH:MRC:MUNICIPAL RUNNING COST","O/604547.AAH.000",null,null,null,null,null,null,"ADM & HO",null,null,null,null,36000,37764,39538.907999999996]
["Sustainable Development","NONF:AH:MRC:MUNICIPAL RUNNING COST","O/604548.AAH.000",null,null,null,null,null,null,"ADM & HO",null,null,null,null,50000,52450,54915.149999999994]
["Sustainable Development","MSE:AH:MRC:MUNICIPAL RUNNING COST","O/604101.JAH.000",null,null,null,null,null,null,"ADM & HO",null,null,null,null,30000,31469.999999999996,32949.089999999997]
["Sustainable Development","LEVS:ZA:MRC:MUNICIPAL RUNNING COSTS","O/604115.BZA.000",null,null,null,null,null,null,"ALL ZONES",null,null,null,null,40000,41960,43932.119999999995]
["Sustainable Development","MSE:AH:MRC:MUNICIPAL RUNNING COST","O/604285.JAH.000",null,null,null,null,null,null,"ADM & HO",null,null,null,null,10717.664999999999,11242.830584999998,11771.243622494998]
["Sustainable Development","MSE:AH:MRC:MUNICIPAL RUNNING COST","O/604347.JAH.000",null,null,null,null,null,null,"ADM & HO",null,null,null,null,65652.237000000008,68869.196613000007,72106.048853811008]
["Sustainable Development","MSE:AH:MRC:MUNICIPAL RUNNING COST","O/604546.JAH.000",null,null,null,null,null,null,"ADM & HO",null,null,null,null,15000,15734.999999999998,16474.544999999998]
["Sustainable Development","MSE:AH:MRC:MUNICIPAL RUNNING COST","O/604347.JAH.000",null,null,null,null,null,null,"ADM & HO",null,null,null,null,517762.73850000004,543133.11268649995,568660.36898276536]
["Sustainable Development","MSE:AH:MRC:MUNICIPAL RUNNING COST","O/604101.JAH.000",null,null,null,null,null,null,"ADM & HO",null,null,null,null,535000,561215,587592.10499999998]
["Sustainable Development","MSE:AH:MRC:MUNICIPAL RUNNING COST","O/604549.JAH.000",null,null,null,null,null,null,"ADM & HO",null,null,null,null,650000,681850,713896.95]
["Sustainable Development","MSE:AH:MRC:MUNICIPAL RUNNING COST","O/604101.JAH.000",null,null,null,null,null,null,"ADM & HO",null,null,null,null,120000,125879.99999999999,131796.35999999999]
["Sustainable Development","LEVS:ZA:MRC:MUNICIPAL RUNNING COSTS","O/604115.BZA.000",null,null,null,null,null,null,"ALL ZONES",null,null,null,null,40000,41960,43932.119999999995]
["Sustainable Development","MSE:AH:MRC:MUNICIPAL RUNNING COST","O/604285.JAH.000",null,null,null,null,null,null,"ADM & HO",null,null,null,null,50000,52450,54915.149999999994]
["Sustainable Development","MSE:AH:MRC:MUNICIPAL RUNNING COST","O/604347.JAH.000",null,null,null,null,null,null,"ADM & HO",null,null,null,null,140834.19,147735.06531000001,154678.61337956999]
["Sustainable Development","MSE:AH:MRC:MUNICIPAL RUNNING COST","O/604549.JAH.000",null,null,null,null,null,null,"ADM & HO",null,null,null,null,40000,41960,43932.119999999995]
["Sustainable Development","MSE:AH:MRC:MUNICIPAL RUNNING COST","O/604285.JAH.000",null,null,null,null,null,null,"ADM & HO",null,null,null,null,20000,20980,21966.059999999998]
["Sustainable Development","LEVS:ZA:NIF:BUILD & OTHER STRUCT:PL","M/604115.BZA.E27",null,null,null,null,null,null,"ALL ZONES",null,null,null,null,169950,178277.55,186656.59484999996]
["Sustainable Development","MSE:AH:NIF:MACH & EQUIPMENT:PL","M/604101.JAH.E43",null,null,null,null,null,null,"ADM & HO",null,null,null,null,250000,262250,274575.75]
["Sustainable Development","MSE:AH:NIF:MACH & EQUIPMENT:PL","M/604285.JAH.E43",null,null,null,null,null,null,"ADM & HO",null,null,null,null,339900,356555.1,373313.18969999993]
["Sustainable Development","MSE:AH:NIF:MACH & EQUIPMENT:PL","M/604347.JAH.E43",null,null,null,null,null,null,"ADM & HO",null,null,null,null,24246.2,25434.263800000001,26629.674198599998]
["Sustainable Development","LEVS:AH:NIF:TRANSPORT ASSETS:PL","M/604101.BAH.E45",null,null,null,null,null,null,"ADM & HO",null,null,null,null,40000,41960,43932.119999999995]
["Sustainable Development","MSE:AH:NIF:TRANSPORT ASSETS:PL","M/604347.JAH.E45",null,null,null,null,null,null,"ADM & HO",null,null,null,null,120000,125879.99999999999,131796.35999999999]
["Sustainable Development","MSE:AH:NIF:TRANSPORT ASSETS:PL","M/604549.JAH.E45",null,null,null,null,null,null,"ADM & HO",null,null,null,null,56650.000000000007,59425.850000000006,62218.864950000003]
["Sustainable Development","MSE:AH:MRC:MUNICIPAL RUNNING COST","O/604347.JAH.000",null,null,null,null,null,null,"ADM & HO",null,null,null,null,23144.100000000002,24278.160899999999,25419.234462299999]
["Sustainable Development","MSE:AH:MRC:MUNICIPAL RUNNING COST","O/604547.JAH.000",null,null,null,null,null,null,"ADM & HO",null,null,null,null,56000,58743.999999999993,61504.967999999986]
["Sustainable Development","MSE:AH:MRC:MUNICIPAL RUNNING COST","O/604101.JAH.000",null,null,null,null,null,null,"ADM & HO",null,null,null,null,1500000,1573500,1647454.5]
["Sustainable Development","MSE:AH:MRC:MUNICIPAL RUNNING COST","O/604347.JAH.000",null,null,null,null,null,null,"ADM & HO",null,null,null,null,590390.85,619320.00164999999,648428.04172754998]
["Sustainable Development","MSE:AH:MRC:MUNICIPAL RUNNING COST","O/604546.JAH.000",null,null,null,null,null,null,"ADM & HO",null,null,null,null,180000,188820,197694.53999999998]
["Sustainable Development","MSE:AH:MRC:MUNICIPAL RUNNING COST","O/604285.JAH.000",null,null,null,null,null,null,"ADM & HO",null,null,null,null,85000,89165,93355.75499999999]
["Sustainable Development","LEVS:AH:MRC:MUNICIPAL RUNNING COST","O/604347.BAH.000",null,null,null,null,null,null,"ADM & HO",null,null,null,null,107036.93950000001,112281.7495355,117558.9917636685]
["Sustainable Development","MSE:AH:MRC:MUNICIPAL RUNNING COST","O/604347.JAH.000",null,null,null,null,null,null,"ADM & HO",null,null,null,null,120000,125879.99999999999,131796.35999999999]
["Sustainable Development","MSE:AH:MRC:MUNICIPAL RUNNING COST","O/604547.JAH.000",null,null,null,null,null,null,"ADM & HO",null,null,null,null,120000,125879.99999999999,131796.35999999999]
["Sustainable Development","MSE:AH:MRC:MUNICIPAL RUNNING COST","O/604101.JAH.000",null,null,null,null,null,null,"ADM & HO",null,null,null,null,120000,125879.99999999999,131796.35999999999]
["Sustainable Development","LEVS:AH:MRC:MUNICIPAL RUNNING COST","O/604115.BAH.000",null,null,null,null,null,null,"ADM & HO",null,null,null,null,120000,125879.99999999999,131796.35999999999]
["Sustainable Development","MSE:AH:MRC:MUNICIPAL RUNNING COST","O/604285.JAH.000",null,null,null,null,null,null,"ADM & HO",null,null,null,null,120000,125879.99999999999,131796.35999999999]
["Sustainable Development","MSE:AH:MRC:MUNICIPAL RUNNING COST","O/604548.JAH.000",null,null,null,null,null,null,"ADM & HO",null,null,null,null,120000,125879.99999999999,131796.35999999999]
["Sustainable Development","MSE:AH:MRC:MUNICIPAL RUNNING COST","O/604549.JAH.000",null,null,null,null,null,null,"ADM & HO",null,null,null,null,100000,104900,109830.29999999999]
["Sustainable Development","MSE:AH:MRC:MUNICIPAL RUNNING COST","O/604285.JAH.000",null,null,null,null,null,null,"ADM & HO",null,null,null,null,100000,104900,109830.29999999999]
["Sustainable Development","MSE:AH:MRC:MUNICIPAL RUNNING COST","O/604101.JAH.000",null,null,null,null,null,null,"ADM & HO",null,null,null,null,20000,20980,21966.059999999998]
["Sustainable Development","LEVS:ZA:MRC:MUNICIPAL RUNNING COSTS","O/604115.BZA.000",null,null,null,null,null,null,"ALL ZONES",null,null,null,null,150000,157350,164745.44999999998]
["Sustainable Development","MSE:AH:MRC:MUNICIPAL RUNNING COST","O/604347.JAH.000",null,null,null,null,null,null,"ADM & HO",null,null,null,null,50513.926000000007,52989.108374000003,55479.596467577998]
["Sustainable Development","MSE:AH:MRC:MUNICIPAL RUNNING COST","O/604546.JAH.000",null,null,null,null,null,null,"ADM & HO",null,null,null,null,30000,31469.999999999996,32949.089999999997]
["Sustainable Development","MSE:AH:MRC:MUNICIPAL RUNNING COST","O/604548.JAH.000",null,null,null,null,null,null,"ADM & HO",null,null,null,null,100000,104900,109830.29999999999]
["Sustainable Development","MSE:AH:MRC:MUNICIPAL RUNNING COST","O/604547.JAH.000",null,null,null,null,null,null,"ADM & HO",null,null,null,null,200000,209800,219660.59999999998]
["Sustainable Development","MSE:AH:MRC:MUNICIPAL RUNNING COST","O/604547.JAH.000",null,null,null,null,null,null,"ADM & HO",null,null,null,null,30000,31469.999999999996,32949.089999999997]
["Sustainable Development","LEVS:ZA:MRC:MUNICIPAL RUNNING COSTS","O/604115.BZA.000",null,null,null,null,null,null,"ALL ZONES",null,null,null,null,45000,47205,49423.634999999995]
["Sustainable Development","MSE:AH:MRC:MUNICIPAL RUNNING COST","O/604101.JAH.000",null,null,null,null,null,null,"ADM & HO",null,null,null,null,45000,47205,49423.634999999995]
["Sustainable Development","MSE:AH:MRC:MUNICIPAL RUNNING COST","O/604549.JAH.000",null,null,null,null,null,null,"ADM & HO",null,null,null,null,45000,47205,49423.634999999995]
["Sustainable Development","MSE:AH:MRC:MUNICIPAL RUNNING COST","O/604347.JAH.000",null,null,null,null,null,null,"ADM & HO",null,null,null,null,98000,102802,107633.69399999999]
["Sustainable Development","MSE:AH:MRC:MUNICIPAL RUNNING COST","O/604547.JAH.000",null,null,null,null,null,null,"ADM & HO",null,null,null,null,45000,47205,49423.634999999995]
["Sustainable Development","MSE:AH:MRC:MUNICIPAL RUNNING COST","O/604285.JAH.000",null,null,null,null,null,null,"ADM & HO",null,null,null,null,45000,47205,49423.634999999995]
["Sustainable Development","LEVS:ZA:MRC:MUNICIPAL RUNNING COSTS","O/604115.BZA.000",null,null,null,null,null,null,"ALL ZONES",null,null,null,null,800000,839200,878642.39999999991]
["Sustainable Development","MSE:AH:MRC:MUNICIPAL RUNNING COST","O/604285.JAH.000",null,null,null,null,null,null,"ADM & HO",null,null,null,null,120000,125879.99999999999,131796.35999999999]
["Sustainable Development","MSE:AH:MRC:MUNICIPAL RUNNING COST","O/604347.JAH.000",null,null,null,null,null,null,"ADM & HO",null,null,null,null,50000,52450,54915.149999999994]
["Sustainable Development","MSE:AH:MRC:MUNICIPAL RUNNING COST","O/604548.JAH.000",null,null,null,null,null,null,"ADM & HO",null,null,null,null,23615.634000000002,24772.800066,25937.121669101998]
["Sustainable Development","MSE:AH:MRC:MUNICIPAL RUNNING COST","O/604548.JAH.000",null,null,null,null,null,null,"ADM & HO",null,null,null,null,500000,524500,549151.5]
["Sustainable Development","MSE:AH:MRC:MUNICIPAL RUNNING COST","O/604101.JAH.000",null,null,null,null,null,null,"ADM & HO",null,null,null,null,16222.5,17017.4025,17817.220417500001]
["Sustainable Development","LEVS:AH:MRC:MUNICIPAL RUNNING COST","O/604115.BAH.000",null,null,null,null,null,null,"ADM & HO",null,null,null,null,6489,6806.9609999999993,7126.8881669999992]
["Sustainable Development","MSE:AH:MRC:MUNICIPAL RUNNING COST","O/604285.JAH.000",null,null,null,null,null,null,"ADM & HO",null,null,null,null,40311.831000000006,42287.110719000004,44274.604922792998]
["Sustainable Development","MSE:AH:MRC:MUNICIPAL RUNNING COST","O/604547.JAH.000",null,null,null,null,null,null,"ADM & HO",null,null,null,null,30000,31469.999999999996,32949.089999999997]
["Sustainable Development","MSE:AH:MRC:MUNICIPAL RUNNING COST","O/604347.JAH.000",null,null,null,null,null,null,"ADM & HO",null,null,null,null,36000,37764,39538.907999999996]
["Sustainable Development","MSE:AH:MRC:MUNICIPAL RUNNING COST","O/604548.JAH.000",null,null,null,null,null,null,"ADM & HO",null,null,null,null,25000,26225,27457.574999999997]
["Sustainable Development","PGOPR:H:MRC:MUNICIPAL RUNNING COST","O/604285.A8H.000",null,null,null,null,null,null,"ADM & HO"]
["Sustainable Development","MSE:AH:MRC:MUNICIPAL RUNNING COST","O/604285.JAH.000",null,null,null,null,null,null,"ADM & HO",null,null,null,null,19664.914500000003,20628.495310500002,21598.034590093503]
["Sustainable Development","MSE:AH:MRC:MUNICIPAL RUNNING COST","O/604347.JAH.000",null,null,null,null,null,null,"ADM & HO",null,null,null,null,19260.906000000003,20204.690394000001,21154.310842518]
["Sustainable Development","MSE:AH:MRC:MUNICIPAL RUNNING COST","O/604548.JAH.000",null,null,null,null,null,null,"ADM & HO",null,null,null,null,700000,734300,768812.1]
["Sustainable Development","MSE:AH:MRC:MUNICIPAL RUNNING COST","O/603116.JAH.000",null,null,null,null,null,null,"ADM & HO",null,null,null,null,15000,15734.999999999998,16474.544999999998]
["Sustainable Development","MSE:AH:MRC:MUNICIPAL RUNNING COST","O/603116.JAH.000",null,null,null,null,null,null,"ADM & HO",null,null,null,null,10000,10490,10983.029999999999]
["Sustainable Development","MSE:AH:MRC:MUNICIPAL RUNNING COST","O/603116.JAH.000",null,null,null,null,null,null,"ADM & HO",null,null,null,null,5000,5245,5491.5149999999994]
["Sustainable Development","MSE:AH:MRC:MUNICIPAL RUNNING COST","O/603116.JAH.000",null,null,null,null,null,null,"ADM & HO",null,null,null,null,40000,41960,43932.119999999995]
["Sustainable Development","MSE:AH:MRC:MUNICIPAL RUNNING COST","O/604285.JAH.000",null,null,null,null,null,null,"ADM & HO",null,null,null,null,15000,15734.999999999998,16474.544999999998]
["Sustainable Development","MSE:AH:MRC:MUNICIPAL RUNNING COST","O/604547.JAH.000",null,null,null,null,null,null,"ADM & HO",null,null,null,null,15000,15734.999999999998,16474.544999999998]
["Sustainable Development","MSE:AH:MRC:MUNICIPAL RUNNING COST","O/604101.JAH.000",null,null,null,null,null,null,"ADM & HO",null,null,null,null,120000,125879.99999999999,131796.35999999999]
["Sustainable Development","LEVS:AH:MRC:MUNICIPAL RUNNING COST","O/604115.BAH.000",null,null,null,null,null,null,"ADM & HO",null,null,null,null,46000,48254,50521.937999999995]
["Sustainable Development","MSE:AH:MRC:MUNICIPAL RUNNING COST","O/604285.JAH.000",null,null,null,null,null,null,"ADM & HO",null,null,null,null,15000,15734.999999999998,16474.544999999998]
["Sustainable Development","MSE:AH:MRC:MUNICIPAL RUNNING COST","O/604347.JAH.000",null,null,null,null,null,null,"ADM & HO",null,null,null,null,56000,58743.999999999993,61504.967999999986]
["Sustainable Development","MSE:AH:MRC:MUNICIPAL RUNNING COST","O/604546.JAH.000",null,null,null,null,null,null,"ADM & HO",null,null,null,null,50000,52450,54915.149999999994]
["Sustainable Development","MSE:AH:MRC:MUNICIPAL RUNNING COST","O/604547.JAH.000",null,null,null,null,null,null,"ADM & HO",null,null,null,null,17304,18151.896000000001,19005.035111999998]
["Sustainable Development","MSE:AH:MRC:MUNICIPAL RUNNING COST","O/604548.JAH.000",null,null,null,null,null,null,"ADM & HO",null,null,null,null,40000,41960,43932.119999999995]
["CITY MANAGER","NONF:AH:MRC:MUNICIPAL RUNNING COST","O/101011.AAH.000",null,null,null,null,null,null,"ADM & HO",null,null,null,null,50000,52450,54915.149999999994]
["CITY MANAGER","NONF:AH:MRC:MUNICIPAL RUNNING COST","O/101011.AAH.000",null,null,null,null,null,null,"ADM & HO",null,null,null,null,null,0,0]
["CITY MANAGER","LEVS:AH:MRC:MUNICIPAL RUNNING COST","O/101011.BAH.000",null,null,null,null,null,null,"ADM & HO",null,null,null,null,70000,73430,76881.209999999992]
["CITY MANAGER","LEVS:AH:MRC:MUNICIPAL RUNNING COST","O/101011.BAH.000",null,null,null,null,null,null,"ADM & HO",null,null,null,null,100000,104900,109830.29999999999]
["CITY MANAGER","LEVS:AH:MRC:MUNICIPAL RUNNING COST","O/101011.BAH.000",null,null,null,null,null,null,"ADM & HO",null,null,null,null,50000,52450,54915.149999999994]
["CITY MANAGER","LEVS:AH:MRC:MUNICIPAL RUNNING COST","O/101011.BAH.000",null,null,null,null,null,null,"ADM & HO",null,null,null,null,100000,104900,109830.29999999999]
["CITY MANAGER","LEVS:AH:MRC:MUNICIPAL RUNNING COST","O/101011.BAH.000",null,null,null,null,null,null,"ADM & HO",null,null,null,null,10000,10490,10983.029999999999]
["CITY MANAGER","LEVS:AH:MRC:MUNICIPAL RUNNING COST","O/101011.BAH.000",null,null,null,null,null,null,"ADM & HO",null,null,null,null,50000,52450,54915.149999999994]
["CITY MANAGER","LEVS:AH:MRC:MUNICIPAL RUNNING COST","O/101011.BAH.000",null,null,null,null,null,null,"ADM & HO",null,null,null,null,5000,5245,5491.5149999999994]
["CITY MANAGER","LEVS:AH:MRC:MUNICIPAL RUNNING COST","O/101011.BAH.000",null,null,null,null,null,null,"ADM & HO",null,null,null,null,null,0,0]
["CITY MANAGER","LEVS:AH:MRC:MUNICIPAL RUNNING COST","O/101011.BAH.000",null,null,null,null,null,null,"ADM & HO",null,null,null,null,5000,5245,5491.5149999999994]
["CITY MANAGER","LEVS:AH:MRC:MUNICIPAL RUNNING COST","O/101011.BAH.000",null,null,null,null,null,null,"ADM & HO",null,null,null,null,null,0,0]
["CITY MANAGER","LEVS:AH:MRC:MUNICIPAL RUNNING COST","O/101011.BAH.000",null,null,null,null,null,null,"ADM & HO",null,null,null,null,50000,52450,54915.149999999994]
["CITY MANAGER","LEVS:AH:TWS:PUBLIC PROTECT & SAFETY","O/101011.BAH.Y78",null,null,null,null,null,null,"ADM & HO",null,null,null,null,250000,262250,274575.75]
["CITY MANAGER","NONF:AH:MRC:MUNICIPAL RUNNING COST","O/103036.AAH.000",null,null,null,null,null,null,"ADM & HO",null,null,null,null,90000,94410,98847.26999999999]
["CITY MANAGER","NONF:AH:MRC:MUNICIPAL RUNNING COST","O/103036.AAH.000",null,null,null,null,null,null,"ADM & HO",null,null,null,null,null,0,0]
["CITY MANAGER","LEVS:AH:MRC:MUNICIPAL RUNNING COST","O/103036.BAH.000",null,null,null,null,null,null,"ADM & HO",null,null,null,null,120000,125879.99999999999,131796.35999999999]
["CITY MANAGER","LEVS:AH:MRC:MUNICIPAL RUNNING COST","O/103036.BAH.000",null,null,null,null,null,null,"ADM & HO",null,null,null,null,4500000,4720500,4942363.5]
["CITY MANAGER","LEVS:AH:MRC:MUNICIPAL RUNNING COST","O/103036.BAH.000",null,null,null,null,null,null,"ADM & HO",null,null,null,null,200000,209800,219660.59999999998]
["CITY MANAGER","LEVS:AH:MRC:MUNICIPAL RUNNING COST","O/103036.BAH.000",null,null,null,null,null,null,"ADM & HO",null,null,null,null,30000,31469.999999999996,32949.089999999997]
["CITY MANAGER","LEVS:AH:MRC:MUNICIPAL RUNNING COST","O/103036.BAH.000",null,null,null,null,null,null,"ADM & HO",null,null,null,null,500000,524500,549151.5]
["CITY MANAGER","LEVS:AH:MRC:MUNICIPAL RUNNING COST","O/103036.BAH.000",null,null,null,null,null,null,"ADM & HO",null,null,null,null,100000,104900,109830.29999999999]
["CITY MANAGER","LEVS:AH:MRC:MUNICIPAL RUNNING COST","O/103036.BAH.000",null,null,null,null,null,null,"ADM & HO",null,null,null,null,null,0,0]
["CITY MANAGER","LEVS:AH:MRC:MUNICIPAL RUNNING COST","O/103036.BAH.000",null,null,null,null,null,null,"ADM & HO",null,null,null,null,50000,52450,54915.149999999994]
["CITY MANAGER","LEVS:AH:MRC:MUNICIPAL RUNNING COST","O/103055.BAH.000",null,null,null,null,null,null,"ADM & HO",null,null,null,null,null,0,0]
["CITY MANAGER","NONF:NR:DEFAULT TRANSACTIONS","O/103057.AAH.000",null,null,null,null,null,null,"ADM & HO",null,null,null,null,120000,125879.99999999999,131796.35999999999]
["CITY MANAGER","LEVS:AH:MRC:MUNICIPAL RUNNING COST","O/103058.BAH.000",null,null,null,null,null,null,"ADM & HO",null,null,null,null,null,0,0]
["CITY MANAGER","LEVS:AH:NIF:BUILD & OTHER STRUCT:PL","M/104010.BAH.E27",null,null,null,null,null,null,"ADM & HO",null,null,null,null,500000,524500,549151.5]
["CITY MANAGER","LEVS:AH:NIF:MACH & EQUIPMENT:PL","M/104010.BAH.E43",null,null,null,null,null,null,"ADM & HO",null,null,null,null,150000,157350,164745.44999999998]
["CITY MANAGER","LEVS:AH:NIF:TRANSPORT ASSETS:PL","M/104010.BAH.E45",null,null,null,null,null,null,"ADM & HO",null,null,null,null,300000,314700,329490.89999999997]
["CITY MANAGER","NONF:AH:MRC:MUNICIPAL RUNNING COST","O/104010.AAH.000",null,null,null,null,null,null,"ADM & HO",null,null,null,null,100000,104900,109830.29999999999]
["CITY MANAGER","NONF:AH:MRC:MUNICIPAL RUNNING COST","O/104010.AAH.000",null,null,null,null,null,null,"ADM & HO",null,null,null,null,null,0,0]
["CITY MANAGER","LEVS:AH:MRC:MUNICIPAL RUNNING COST","O/104010.BAH.000",null,null,null,null,null,null,"ADM & HO",null,null,null,null,60000,62939.999999999993,65898.179999999993]
["CITY MANAGER","LEVS:AH:MRC:MUNICIPAL RUNNING COST","O/104010.BAH.000",null,null,null,null,null,null,"ADM & HO",null,null,null,null,156000,163644,171335.26799999998]
["CITY MANAGER","LEVS:AH:MRC:MUNICIPAL RUNNING COST","O/104010.BAH.000",null,null,null,null,null,null,"ADM & HO",null,null,null,null,100000,104900,109830.29999999999]
["CITY MANAGER","LEVS:AH:MRC:MUNICIPAL RUNNING COST","O/104010.BAH.000",null,null,null,null,null,null,"ADM & HO",null,null,null,null,100000,104900,109830.29999999999]
["CITY MANAGER","LEVS:AH:MRC:MUNICIPAL RUNNING COST","O/104010.BAH.000",null,null,null,null,null,null,"ADM & HO",null,null,null,null,20000,20980,21966.059999999998]
["CITY MANAGER","LEVS:AH:MRC:MUNICIPAL RUNNING COST","O/104010.BAH.000",null,null,null,null,null,null,"ADM & HO",null,null,null,null,5000,5245,5491.5149999999994]
["CITY MANAGER","LEVS:AH:MRC:MUNICIPAL RUNNING COST","O/104010.BAH.000",null,null,null,null,null,null,"ADM & HO",null,null,null,null,null,0,0]
["CITY MANAGER","LEVS:AH:MRC:MUNICIPAL RUNNING COST","O/104010.BAH.000",null,null,null,null,null,null,"ADM & HO",null,null,null,null,100000,104900,109830.29999999999]
["CITY MANAGER","LEVS:AH:MRC:MUNICIPAL RUNNING COST","O/104010.BAH.000",null,null,null,null,null,null,"ADM & HO",null,null,null,null,null,0,0]
["CITY MANAGER","LEVS:AH:MRC:MUNICIPAL RUNNING COST","O/104010.BAH.000",null,null,null,null,null,null,"ADM & HO",null,null,null,null,100000,104900,109830.29999999999]
["CITY MANAGER","LEVS:AH:MRC:MUNICIPAL RUNNING COST","O/104010.BAH.000",null,null,null,null,null,null,"ADM & HO",null,null,null,null,50000,52450,54915.149999999994]
["CITY MANAGER","\"LEVS:AH:TWS:CAPBUIL:W/SH","O/104010.BAH.X19",null,null,null,null,null,null,"ADM & HO",null,null,null,null,70000,73430,76881.209999999992]
["CITY MANAGER","\"LEVS:AH:TWS:CAPBUIL:W/SH","O/104010.BAH.X19",null,null,null,null,null,null,"ADM & HO",null,null,null,null,150000,157350,164745.44999999998]
["CITY MANAGER","\"LEVS:AH:TWS:CAPBUIL:W/SH","O/104010.BAH.X19",null,null,null,null,null,null,"ADM & HO",null,null,null,null,100000,104900,109830.29999999999]
["CITY MANAGER","\"LEVS:AH:TWS:CAPBUIL:W/SH","O/104010.BAH.X19",null,null,null,null,null,null,"ADM & HO",null,null,null,null,200000,209800,219660.59999999998]
["CITY MANAGER","\"LEVS:AH:TWS:CAPBUIL:W/SH","O/104010.BAH.X19",null,null,null,null,null,null,"ADM & HO",null,null,null,null,300000,314700,329490.89999999997]
["CITY MANAGER","\"LEVS:AH:TWS:CAPBUIL:W/SH","O/104010.BAH.X19",null,null,null,null,null,null,"ADM & HO",null,null,null,null,200000,209800,219660.59999999998]
["CITY MANAGER","\"LEVS:AH:TWS:CAPBUIL:W/SH","O/104010.BAH.X19",null,null,null,null,null,null,"ADM & HO",null,null,null,null,150000,157350,164745.44999999998]
["CITY MANAGER","LEVS:AH:TWS:PUBLIC PROTECT & SAFETY","O/104010.BAH.Y78",null,null,null,null,null,null,"ADM & HO",null,null,null,null,500000,524500,549151.5]
["CITY MANAGER","LEVS:AH:MRC:MUNICIPAL RUNNING COST","O/104013.BAH.000",null,null,null,null,null,null,"ADM & HO",null,null,null,null,null,0,0]
["CITY MANAGER","\"LEVS:AH:TWS:CAPBUIL:W/SH","O/104010.BAH.X19",null,null,null,null,null,null,"ADM & HO",null,null,null,null,100000,104900,109830.29999999999]
["CITY MANAGER","NONF:AH:MRC:MUNICIPAL RUNNING COST","O/104013.AAH.000",null,null,null,null,null,null,"ADM & HO",null,null,null,null,70000,73430,76881.209999999992]
["CITY MANAGER","NONF:AH:MRC:MUNICIPAL RUNNING COST","O/104013.AAH.000",null,null,null,null,null,null,"ADM & HO",null,null,null,null,null,0,0]
["CITY MANAGER","LEVS:AH:MRC:MUNICIPAL RUNNING COST","O/104013.BAH.000",null,null,null,null,null,null,"ADM & HO",null,null,null,null,50000,52450,54915.149999999994]
["CITY MANAGER","LEVS:AH:MRC:MUNICIPAL RUNNING COST","O/104013.BAH.000",null,null,null,null,null,null,"ADM & HO",null,null,null,null,50000,52450,54915.149999999994]
["CITY MANAGER","LEVS:AH:MRC:MUNICIPAL RUNNING COST","O/104013.BAH.000",null,null,null,null,null,null,"ADM & HO",null,null,null,null,30000,31469.999999999996,32949.089999999997]
["CITY MANAGER","LEVS:AH:MRC:MUNICIPAL RUNNING COST","O/104013.BAH.000",null,null,null,null,null,null,"ADM & HO",null,null,null,null,50000,52450,54915.149999999994]
["CITY MANAGER","LEVS:AH:MRC:MUNICIPAL RUNNING COST","O/104013.BAH.000",null,null,null,null,null,null,"ADM & HO",null,null,null,null,100000,104900,109830.29999999999]
["CITY MANAGER","LEVS:AH:MRC:MUNICIPAL RUNNING COST","O/104013.BAH.000",null,null,null,null,null,null,"ADM & HO",null,null,null,null,150000,157350,164745.44999999998]
["CITY MANAGER","LEVS:AH:MRC:MUNICIPAL RUNNING COST","O/104013.BAH.000",null,null,null,null,null,null,"ADM & HO",null,null,null,null,50000,52450,54915.149999999994]
["CITY MANAGER","LEVS:AH:MRC:MUNICIPAL RUNNING COST","O/104013.BAH.000",null,null,null,null,null,null,"ADM & HO",null,null,null,null,2500000,2622500,2745757.5]
["CITY MANAGER","LEVS:AH:MRC:MUNICIPAL RUNNING COST","O/104013.BAH.000",null,null,null,null,null,null,"ADM & HO",null,null,null,null,30000,31469.999999999996,32949.089999999997]
["CITY MANAGER","LEVS:AH:MRC:MUNICIPAL RUNNING COST","O/104013.BAH.000",null,null,null,null,null,null,"ADM & HO",null,null,null,null,50000,52450,54915.149999999994]
["CITY MANAGER","LEVS:AH:MRC:MUNICIPAL RUNNING COST","O/104013.BAH.000",null,null,null,null,null,null,"ADM & HO",null,null,null,null,20000,20980,21966.059999999998]
["CITY MANAGER","LEVS:AH:MRC:MUNICIPAL RUNNING COST","O/104013.BAH.000",null,null,null,null,null,null,"ADM & HO",null,null,null,null,20000,20980,21966.059999999998]
["CITY MANAGER","LEVS:AH:TWS:HIV:AWARENESS & INFORMN","O/104013.BAH.X04",null,null,null,null,null,null,"ADM & HO",null,null,null,null,100000,104900,109830.29999999999]
["CITY MANAGER","\"LEVS:AH:TWS:CAPBUIL:W/SH","O/104013.BAH.X19",null,null,null,null,null,null,"ADM & HO",null,null,null,null,750000,786750,823727.25]
["CITY MANAGER","\"LEVS:AH:TWS:CAPBUIL:W/SH","O/104013.BAH.X19",null,null,null,null,null,null,"ADM & HO",null,null,null,null,10000,10490,10983.029999999999]
["CITY MANAGER","\"LEVS:AH:TWS:CAPBUIL:W/SH","O/104013.BAH.X19",null,null,null,null,null,null,"ADM & HO",null,null,null,null,100000,104900,109830.29999999999]
["CITY MANAGER","\"LEVS:AH:TWS:CAPBUIL:W/SH","O/104013.BAH.X19",null,null,null,null,null,null,"ADM & HO",null,null,null,null,100000,104900,109830.29999999999]
["CITY MANAGER","LEVS:AH:TWS:PUBLIC PROTECT & SAFETY","O/104013.BAH.Y78",null,null,null,null,null,null,"ADM & HO",null,null,null,null,300000,314700,329490.89999999997]
["CITY MANAGER","NONF:AH:MRC:MUNICIPAL RUNNING COST","O/104014.AAH.000",null,null,null,null,null,null,"ADM & HO",null,null,null,null,null,0,0]
["CITY MANAGER","LEVS:AH:MRC:MUNICIPAL RUNNING COST","O/104014.BAH.000",null,null,null,null,null,null,"ADM & HO",null,null,null,null,50000,52450,54915.149999999994]
["CITY MANAGER","LEVS:AH:MRC:MUNICIPAL RUNNING COST","O/104014.BAH.000",null,null,null,null,null,null,"ADM & HO",null,null,null,null,30000,31469.999999999996,32949.089999999997]
["CITY MANAGER","LEVS:AH:MRC:MUNICIPAL RUNNING COST","O/104014.BAH.000",null,null,null,null,null,null,"ADM & HO",null,null,null,null,70000,73430,76881.209999999992]
["CITY MANAGER","LEVS:AH:MRC:MUNICIPAL RUNNING COST","O/104014.BAH.000",null,null,null,null,null,null,"ADM & HO",null,null,null,null,30000,31469.999999999996,32949.089999999997]
["CITY MANAGER","LEVS:AH:MRC:MUNICIPAL RUNNING COST","O/104014.BAH.000",null,null,null,null,null,null,"ADM & HO",null,null,null,null,50000,52450,54915.149999999994]
["CITY MANAGER","LEVS:AH:MRC:MUNICIPAL RUNNING COST","O/104014.BAH.000",null,null,null,null,null,null,"ADM & HO",null,null,null,null,50000,52450,54915.149999999994]
["CITY MANAGER","LEVS:AH:MRC:MUNICIPAL RUNNING COST","O/104014.BAH.000",null,null,null,null,null,null,"ADM & HO",null,null,null,null,732758,768663.14199999999,804790.3096739999]
["CITY MANAGER","LEVS:AH:MRC:MUNICIPAL RUNNING COST","O/104014.BAH.000",null,null,null,null,null,null,"ADM & HO",null,null,null,null,120000,125879.99999999999,131796.35999999999]
["CITY MANAGER","LEVS:AH:MRC:MUNICIPAL RUNNING COST","O/104014.BAH.000",null,null,null,null,null,null,"ADM & HO",null,null,null,null,null,0,0]
["CITY MANAGER","LEVS:AH:MRC:MUNICIPAL RUNNING COST","O/104014.BAH.000",null,null,null,null,null,null,"ADM & HO",null,null,null,null,150000,157350,164745.44999999998]
["CITY MANAGER","LEVS:AH:MRC:MUNICIPAL RUNNING COST","O/104014.BAH.000",null,null,null,null,null,null,"ADM & HO",null,null,null,null,null,0,0]
["CITY MANAGER","\"LEVS:AH:TWS:CAPBUIL:W/SH","O/104014.BAH.X19",null,null,null,null,null,null,"ADM & HO",null,null,null,null,30000,31469.999999999996,32949.089999999997]
["CITY MANAGER","LEVS:AH:MRC:MUNICIPAL RUNNING COST","O/104015.BAH.000",null,null,null,null,null,null,"ADM & HO",null,null,null,null,50000,52450,54915.149999999994]
["CITY MANAGER","LEVS:AH:MRC:MUNICIPAL RUNNING COST","O/104015.BAH.000",null,null,null,null,null,null,"ADM & HO",null,null,null,null,20000,20980,21966.059999999998]
["CITY MANAGER","LEVS:AH:MRC:MUNICIPAL RUNNING COST","O/104015.BAH.000",null,null,null,null,null,null,"ADM & HO",null,null,null,null,300000,314700,329490.89999999997]
["CITY MANAGER","LEVS:AH:MRC:MUNICIPAL RUNNING COST","O/104015.BAH.000",null,null,null,null,null,null,"ADM & HO",null,null,null,null,150000,157350,164745.44999999998]
["CITY MANAGER","LEVS:AH:MRC:MUNICIPAL RUNNING COST","O/104015.BAH.000",null,null,null,null,null,null,"ADM & HO",null,null,null,null,200000,209800,219660.59999999998]
["CITY MANAGER","LEVS:AH:MUNICIPAL RUNNING COSTS","O/104016.BAH.000",null,null,null,null,null,null,"ADM & HO",null,null,null,null,100000,104900,109830.29999999999]
["CITY MANAGER","LEVS:AH:MUNICIPAL RUNNING COSTS","O/104016.BAH.000",null,null,null,null,null,null,"ADM & HO",null,null,null,null,90000,94410,98847.26999999999]
["CITY MANAGER","LEVS:AH:MUNICIPAL RUNNING COSTS","O/104016.BAH.000",null,null,null,null,null,null,"ADM & HO",null,null,null,null,8000,8392,8786.4239999999991]
["CITY MANAGER","LEVS:AH:MUNICIPAL RUNNING COSTS","O/104016.BAH.000",null,null,null,null,null,null,"ADM & HO",null,null,null,null,8000,8392,8786.4239999999991]
["CITY MANAGER","LEVS:AH:MUNICIPAL RUNNING COSTS","O/104016.BAH.000",null,null,null,null,null,null,"ADM & HO",null,null,null,null,90000,94410,98847.26999999999]
["CITY MANAGER","LEVS:AH:MRC:MUNICIPAL RUNNING COST","O/104018.BAH.000",null,null,null,null,null,null,"ADM & HO",null,null,null,null,20000,20980,21966.059999999998]
["CITY MANAGER","LEVS:AH:MRC:MUNICIPAL RUNNING COST","O/104052.BAH.000",null,null,null,null,null,null,"ADM & HO",null,null,null,null,4500000,4720500,4942363.5]
["CITY MANAGER","LEVS:AH:MRC:MUNICIPAL RUNNING COST","O/104052.BAH.000",null,null,null,null,null,null,"ADM & HO",null,null,null,null,40000,41960,43932.119999999995]
["CITY MANAGER","LEVS:AH:MRC:MUNICIPAL RUNNING COST","O/104053.BAH.000",null,null,null,null,null,null,"ADM & HO",null,null,null,null,4500000,4720500,4942363.5]
["CITY MANAGER","LEVS:AH:MRC:MUNICIPAL RUNNING COST","O/104053.BAH.000",null,null,null,null,null,null,"ADM & HO",null,null,null,null,30000,31469.999999999996,32949.089999999997]
["CITY MANAGER","LEVS:AH:MRC:MUNICIPAL RUNNING COST","O/104054.BAH.000",null,null,null,null,null,null,"ADM & HO",null,null,null,null,2000000,2098000,2196606]
["CITY MANAGER","LEVS:AH:MRC:MUNICIPAL RUNNING COST","O/104054.BAH.000",null,null,null,null,null,null,"ADM & HO",null,null,null,null,50000,52450,54915.149999999994]
["CITY MANAGER","LEVS:AH:MRC:MUNICIPAL RUNNING COST","O/104054.BAH.000",null,null,null,null,null,null,"ADM & HO",null,null,null,null,20000,20980,21966.059999999998]
["CITY MANAGER","LEVS:AH:TWS:CAPBUIL:W/SH","O/104054.BAH.X19",null,null,null,null,null,null,"ADM & HO",null,null,null,null,50000,52450,54915.149999999994]
["CITY MANAGER","LEVS:AH:TWS:CAPBUIL:W/SH","O/104054.BAH.X19",null,null,null,null,null,null,"ADM & HO",null,null,null,null,10000,10490,10983.029999999999]
["CITY MANAGER","LEVS:AH:TWS:CAPBUIL:W/SH","O/104054.BAH.X19",null,null,null,null,null,null,"ADM & HO",null,null,null,null,10000,10490,10983.029999999999]
["CITY MANAGER","LEVS:AH:MRC:MUNICIPAL RUNNING COST","O/104056.BAH.000",null,null,null,null,null,null,"ADM & HO",null,null,null,null,null,0,0]
["CITY MANAGER","NONF:AH:MRC:MUNICIPAL RUNNING COST","O/104503.AAH.000",null,null,null,null,null,null,"ADM & HO",null,null,null,null,null,0,0]
["CITY MANAGER","LEVS:AH:MRC:MUNICIPAL RUNNING COST","O/104503.BAH.000",null,null,null,null,null,null,"ADM & HO",null,null,null,null,15000,15734.999999999998,16474.544999999998]
["CITY MANAGER","LEVS:AH:MRC:MUNICIPAL RUNNING COST","O/104503.BAH.000",null,null,null,null,null,null,"ADM & HO",null,null,null,null,null,0,0]
["CITY MANAGER","LEVS:AH:MRC:MUNICIPAL RUNNING COST","O/104503.BAH.000",null,null,null,null,null,null,"ADM & HO",null,null,null,null,270000,283230,296541.81]
["CITY MANAGER","LEVS:AH:MRC:MUNICIPAL RUNNING COST","O/104503.BAH.000",null,null,null,null,null,null,"ADM & HO",null,null,null,null,null,0,0]
["CITY MANAGER","LEVS:AH:MRC:MUNICIPAL RUNNING COST","O/104503.BAH.000",null,null,null,null,null,null,"ADM & HO",null,null,null,null,20000,20980,21966.059999999998]
["CITY MANAGER","NONF:AH:MRC:MUNICIPAL RUNNING COST","O/104509.AAH.000",null,null,null,null,null,null,"ADM & HO",null,null,null,null,50000,52450,54915.149999999994]
["CITY MANAGER","NONF:AH:MRC:MUNICIPAL RUNNING COST","O/104509.AAH.000",null,null,null,null,null,null,"ADM & HO",null,null,null,null,null,0,0]
["CITY MANAGER","LEVS:AH:MRC:MUNICIPAL RUNNING COST","O/104509.BAH.000",null,null,null,null,null,null,"ADM & HO",null,null,null,null,30000,31469.999999999996,32949.089999999997]
["CITY MANAGER","LEVS:AH:MRC:MUNICIPAL RUNNING COST","O/104509.BAH.000",null,null,null,null,null,null,"ADM & HO",null,null,null,null,10000,10490,10983.029999999999]
["CITY MANAGER","LEVS:AH:MRC:MUNICIPAL RUNNING COST","O/104509.BAH.000",null,null,null,null,null,null,"ADM & HO",null,null,null,null,300000,314700,329490.89999999997]
["CITY MANAGER","LEVS:AH:MRC:MUNICIPAL RUNNING COST","O/104509.BAH.000",null,null,null,null,null,null,"ADM & HO",null,null,null,null,250000,262250,274575.75]
["CITY MANAGER","LEVS:AH:MRC:MUNICIPAL RUNNING COST","O/104509.BAH.000",null,null,null,null,null,null,"ADM & HO",null,null,null,null,250000,262250,274575.75]
["CITY MANAGER","LEVS:AH:MRC:MUNICIPAL RUNNING COST","O/104509.BAH.000",null,null,null,null,null,null,"ADM & HO",null,null,null,null,150000,157350,164745.44999999998]
["CITY MANAGER","\"LEVS:AH:TWS:CAPBUIL:W/SH","O/104509.BAH.X19",null,null,null,null,null,null,"ADM & HO",null,null,null,null,20000,20980,21966.059999999998]
["CITY MANAGER","LEVS:AH:NIF:TRANSPORT ASSETS:PL","M/104510.BAH.E45",null,null,null,null,null,null,"ADM & HO",null,null,null,null,250000,262250,274575.75]
["CITY MANAGER","NONF:AH:MRC:MUNICIPAL RUNNING COST","O/104510.AAH.000",null,null,null,null,null,null,"ADM & HO",null,null,null,null,null,0,0]
["CITY MANAGER","LEVS:AH:MRC:MUNICIPAL RUNNING COST","O/104510.BAH.000",null,null,null,null,null,null,"ADM & HO",null,null,null,null,null,0,0]
["CITY MANAGER","LEVS:AH:MRC:MUNICIPAL RUNNING COST","O/104510.BAH.000",null,null,null,null,null,null,"ADM & HO",null,null,null,null,null,0,0]
["CITY MANAGER","NONF:AH:MRC:MUNICIPAL RUNNING COST","O/104528.AAH.000",null,null,null,null,null,null,"ADM & HO",null,null,null,null,null,0,0]
["CITY MANAGER","LEVS:AH:MRC:MUNICIPAL RUNNING COST","O/104528.BAH.000",null,null,null,null,null,null,"ADM & HO",null,null,null,null,1000000,1049000,1098303]
["CITY MANAGER","LEVS:AH:MRC:MUNICIPAL RUNNING COST","O/104528.BAH.000",null,null,null,null,null,null,"ADM & HO",null,null,null,null,null,0,0]
["CITY MANAGER","LEVS:AH:MRC:MUNICIPAL RUNNING COST","O/104528.BAH.000",null,null,null,null,null,null,"ADM & HO",null,null,null,null,null,0,0]
["CITY MANAGER","\"LEVS:AH:TWS:CAPBUIL:W/SH","O/10418.BAH.X19",null,null,null,null,null,null,"ADM & HO",null,null,null,null,100000,104900,109830.29999999999]
["CITY MANAGER","LEVS:AH:MRC:MUNICIPAL RUNNING COST","O/103035.BAH.000",null,null,null,null,null,null,"ADM & HO",null,null,null,null,100000,104900,109830.29999999999]
["CITY MANAGER","NONF:AH:MRC:MUNICIPAL RUNNING COST","O/103035.AAH.000",null,null,null,null,null,null,"ADM & HO",null,null,null,null,null,0,0]
["CITY MANAGER","\"LEVS:AH:TWS:CAPBUIL:W/SH","O/103035.BAH.X19",null,null,null,null,null,null,"ADM & HO",null,null,null,null,30000,31469.999999999996,32949.089999999997]
["CITY MANAGER","\"LEVS:AH:TWS:CAPBUIL:W/SH","O/103035.BAH.X19",null,null,null,null,null,null,"ADM & HO",null,null,null,null,15000,15734.999999999998,16474.544999999998]
["CITY MANAGER","\"LEVS:AH:TWS:CAPBUIL:W/SH","O/103035.BAH.X19",null,null,null,null,null,null,"ADM & HO",null,null,null,null,20000,20980,21966.059999999998]
["CITY MANAGER","MSE:AH:MRC:MUNICIPAL RUNNING COST","O/103035.JAH.000",null,null,null,null,null,null,"ADM & HO",null,null,null,null,100000,104900,109830.29999999999]
["CITY MANAGER","LEVS:AH:NIF:BUILD & OTHER STRUCT:PL","M/103035.BAH.E27",null,null,null,null,null,null,"ADM & HO",null,null,null,null,50000,52450,54915.149999999994]
["CITY MANAGER","\"LEVS:AH:TWS:CAPBUIL:W/SH","O/103035.BAH.X19",null,null,null,null,null,null,"ADM & HO",null,null,null,null,2000,2098,2196.6059999999998]
["CITY MANAGER","LEVS:AH:MRC:MUNICIPAL RUNNING COST","O/104509.BAH.000",null,null,null,null,null,null,"ADM & HO",null,null,null,null,3500000,3671499.9999999995,3844060.4999999991]
["Corporate Services","NONF:AH:MRC:MUNICIPAL RUNNING COST","O/302501.AAH.000",null,null,null,null,null,null,"ADM & HO",null,null,null,null,5000,5245,5491.5149999999994]
["Corporate Services","NONF:AH:MRC:MUNICIPAL RUNNING COST","O/302501.AAH.000",null,null,null,null,null,null,"ADM & HO",null,null,null,null,25000,26225,27457.574999999997]
["Corporate Services","LEVS:AH:MRC:MUNICIPAL RUNNING COST","O/302501.BAH.000",null,null,null,null,null,null,"ADM & HO",null,null,null,null,20000,20980,21966.059999999998]
["Corporate Services","LEVS:AH:MRC:MUNICIPAL RUNNING COST","O/302501.BAH.000",null,null,null,null,null,null,"ADM & HO",null,null,null,null,5000,5245,5491.5149999999994]
["Corporate Services","LEVS:AH:MRC:MUNICIPAL RUNNING COST","O/302501.BAH.000",null,null,null,null,null,null,"ADM & HO",null,null,null,null,45000,47205,49423.634999999995]
["Corporate Services","LEVS:AH:MRC:MUNICIPAL RUNNING COST","O/302501.BAH.000",null,null,null,null,null,null,"ADM & HO",null,null,null,null,30000,31469.999999999996,32949.089999999997]
["Corporate Services","LEVS:AH:MRC:MUNICIPAL RUNNING COST","O/302501.BAH.000",null,null,null,null,null,null,"ADM & HO",null,null,null,null,15000,15734.999999999998,16474.544999999998]
["Corporate Services","LEVS:AH:MRC:MUNICIPAL RUNNING COST","O/302501.BAH.000",null,null,null,null,null,null,"ADM & HO",null,null,null,null,15000,15734.999999999998,16474.544999999998]
["Corporate Services","LEVS:AH:TWS:FUNT&EV:EVENTS & ORGANISATNS","O/302501.BAH.X85",null,null,null,null,null,null,"ADM & HO",null,null,null,null,10000,10490,10983.029999999999]
["Corporate Services","MSU1/O/304001.AAH.000","O/304001.AAH.000",null,null,null,null,null,null,"ADM & HO",null,null,null,null,5000,5245,5491.5149999999994]
["Corporate Services","LEVS:AH:MRC:MUNICIPAL RUNNING COST","O/304001.BAH.000",null,null,null,null,null,null,"ADM & HO",null,null,null,null,5000,5245,5491.5149999999994]
["Corporate Services","NONF:AH:MRC:MUNICIPAL RUNNING COST","O/304038.AAH.000",null,null,null,null,null,null,"ADM & HO",null,null,null,null,10000,10490,10983.029999999999]
["Corporate Services","LEVS:AH:MRC:MUNICIPAL RUNNING COST","O/304038.BAH.000",null,null,null,null,null,null,"ADM & HO",null,null,null,null,8000,8392,8786.4239999999991]
["Corporate Services","LEVS:AH:MRC:MUNICIPAL RUNNING COST","O/304038.BAH.000",null,null,null,null,null,null,"ADM & HO",null,null,null,null,12000,12588,13179.635999999999]
["Corporate Services","NONF:AH:MRC:MUNICIPAL RUNNING COST","O/304103.AAH.000",null,null,null,null,null,null,"ADM & HO",null,null,null,null,5000,5245,5491.5149999999994]
["Corporate Services","MSE:AH:MRC:MUNICIPAL RUNNING COST","O/304103.JAH.000",null,null,null,null,null,null,"ADM & HO",null,null,null,null,5000,5245,5491.5149999999994]
["Corporate Services","MSE:AH:MRC:MUNICIPAL RUNNING COST","O/304103.JAH.000",null,null,null,null,null,null,"ADM & HO",null,null,null,null,2500,2622.5,2745.7574999999997]
["Corporate Services","MSE:AH:MRC:MUNICIPAL RUNNING COST","O/304103.JAH.000",null,null,null,null,null,null,"ADM & HO",null,null,null,null,10000,10490,10983.029999999999]
["Corporate Services","MSE:AH:MRC:MUNICIPAL RUNNING COST","O/304103.JAH.000",null,null,null,null,null,null,"ADM & HO",null,null,null,null,8000,8392,8786.4239999999991]
["Corporate Services","MSE:AH:MRC:MUNICIPAL RUNNING COST","O/304103.JAH.000",null,null,null,null,null,null,"ADM & HO",null,null,null,null,5000,5245,5491.5149999999994]
["Corporate Services","MSE:AH:MRC:MUNICIPAL RUNNING COST","O/304103.JAH.000",null,null,null,null,null,null,"ADM & HO",null,null,null,null,45000,47205,49423.634999999995]
["Corporate Services","LEVS:AH:NIF:BUILD & OTHER STRUCT:PL","M/304346.BAH.E27",null,null,null,null,null,null,"ADM & HO",null,null,null,null,20000,20980,21966.059999999998]
["Corporate Services","LEVS:AH:NIF:MACH & EQUIPMENT:PL","M/304346.BAH.E43",null,null,null,null,null,null,"ADM & HO",null,null,null,null,30000,31469.999999999996,32949.089999999997]
["Corporate Services","LEVS:AH:NIF:TRANSPORT ASSETS:PL","M/304506.BAH.E45",null,null,null,null,null,null,"ADM & HO",null,null,null,null,20000,20980,21966.059999999998]
["Corporate Services","NONF:AH:MRC:MUNICIPAL RUNNING COST","O/304346.AAH.000",null,null,null,null,null,null,"ADM & HO",null,null,null,null,10000,10490,10983.029999999999]
["Corporate Services","NONF:AH:MRC:MUNICIPAL RUNNING COST","O/304346.AAH.000",null,null,null,null,null,null,"ADM & HO",null,null,null,null,14200,14895.8,15595.902599999998]
["Corporate Services","LEVS:AH:MRC:MUNICIPAL RUNNING COST","O/304346.BAH.000",null,null,null,null,null,null,"ADM & HO",null,null,null,null,40000,41960,43932.119999999995]
["Corporate Services","LEVS:AH:MRC:MUNICIPAL RUNNING COST","O/304346.BAH.000",null,null,null,null,null,null,"ADM & HO",null,null,null,null,250000,262250,274575.75]
["Corporate Services","LEVS:AH:MRC:MUNICIPAL RUNNING COST","O/304346.BAH.000",null,null,null,null,null,null,"ADM & HO",null,null,null,null,0,0,0]
["Corporate Services","LEVS:AH:MRC:MUNICIPAL RUNNING COST","O/304346.BAH.000",null,null,null,null,null,null,"ADM & HO",null,null,null,null,5000,5245,5491.5149999999994]
["Corporate Services","LEVS:AH:MRC:MUNICIPAL RUNNING COST","O/304346.BAH.000",null,null,null,null,null,null,"ADM & HO",null,null,null,null,1000,1049,1098.3029999999999]
["Corporate Services","LEVS:AH:MRC:MUNICIPAL RUNNING COST","O/304346.BAH.000",null,null,null,null,null,null,"ADM & HO",null,null,null,null,170000,178330,186711.50999999998]
["Corporate Services","LEVS:AH:MRC:MUNICIPAL RUNNING COST","O/304346.BAH.000",null,null,null,null,null,null,"ADM & HO",null,null,null,null,50000,52450,54915.149999999994]
["Corporate Services","LEVS:AH:MRC:MUNICIPAL RUNNING COST","O/304346.BAH.000",null,null,null,null,null,null,"ADM & HO",null,null,null,null,30000,31469.999999999996,32949.089999999997]
["Corporate Services","LEVS:AH:MRC:MUNICIPAL RUNNING COST","O/304346.BAH.000",null,null,null,null,null,null,"ADM & HO",null,null,null,null,45000,47205,49423.634999999995]
["Corporate Services","LEVS:AH:MRC:MUNICIPAL RUNNING COST","O/304346.BAH.000",null,null,null,null,null,null,"ADM & HO",null,null,null,null,0,0,0]
["Corporate Services","LEVS:AH:MRC:MUNICIPAL RUNNING COST","O/304346.BAH.000",null,null,null,null,null,null,"ADM & HO",null,null,null,null,50000,52450,54915.149999999994]
["Corporate Services","LEVS:AH:MRC:MUNICIPAL RUNNING COST","O/304346.BAH.000",null,null,null,null,null,null,"ADM & HO",null,null,null,null,800000,839200,878642.39999999991]
["Corporate Services","LEVS:AH:MRC:MUNICIPAL RUNNING COST","O/304346.BAH.000",null,null,null,null,null,null,"ADM & HO",null,null,null,null,100000,104900,109830.29999999999]
["Corporate Services","LEVS:AH:TWS:HIV:AWARENESS & INFORMN","O/304346.BAH.X04",null,null,null,null,null,null,"ADM & HO",null,null,null,null,400965,420612.28499999997,440381.06239499996]
["Corporate Services","\"LEVS:AH:TWS:CAPBUIL:W/SH","O/304346.BAH.X19",null,null,null,null,null,null,"ADM & HO",null,null,null,null,500,524.5,549.15149999999994]
["Corporate Services","LEVS:AH:TWS:HUMRES:EMPL ASSISTANCE PROG","O/304346.BAH.X93",null,null,null,null,null,null,"ADM & HO",null,null,null,null,80000,83920,87864.239999999991]
["Corporate Services","MSE:AH:MRC:MUNICIPAL RUNNING COST","O/404186.JAH.000",null,null,null,null,null,null,"ADM & HO",null,null,null,null,null,0,0]
["Corporate Services","LEVS:AH:NIF:MACH & EQUIPMENT:PL","M/304502.BAH.E43",null,null,null,null,null,null,"ADM & HO",null,null,null,null,26000,27274,28555.877999999997]
["Corporate Services","NONF:AH:MRC:MUNICIPAL RUNNING COST","O/304502.AAH.000",null,null,null,null,null,null,"ADM & HO",null,null,null,null,10000,10490,10983.029999999999]
["Corporate Services","NONF:AH:MRC:MUNICIPAL RUNNING COST","O/304502.AAH.000",null,null,null,null,null,null,"ADM & HO",null,null,null,null,3888,4078.5119999999997,4270.2020639999992]
["Corporate Services","LEVS:AH:MRC:MUNICIPAL RUNNING COST","O/304502.BAH.000",null,null,null,null,null,null,"ADM & HO",null,null,null,null,15000,15734.999999999998,16474.544999999998]
["Corporate Services","LEVS:AH:MRC:MUNICIPAL RUNNING COST","O/304502.BAH.000",null,null,null,null,null,null,"ADM & HO",null,null,null,null,3000000,3147000,3294909]
["Corporate Services","LEVS:AH:MRC:MUNICIPAL RUNNING COST","O/304502.BAH.000",null,null,null,null,null,null,"ADM & HO",null,null,null,null,0,0,0]
["Corporate Services","LEVS:AH:MRC:MUNICIPAL RUNNING COST","O/304502.BAH.000",null,null,null,null,null,null,"ADM & HO",null,null,null,null,30000,31469.999999999996,32949.089999999997]
["Corporate Services","LEVS:AH:MRC:MUNICIPAL RUNNING COST","O/304502.BAH.000",null,null,null,null,null,null,"ADM & HO",null,null,null,null,250000,262250,274575.75]
["Corporate Services","LEVS:AH:MRC:MUNICIPAL RUNNING COST","O/304502.BAH.000",null,null,null,null,null,null,"ADM & HO",null,null,null,null,25000,26225,27457.574999999997]
["Corporate Services","LEVS:AH:MRC:MUNICIPAL RUNNING COST","O/304502.BAH.000",null,null,null,null,null,null,"ADM & HO",null,null,null,null,0,0,0]
["Corporate Services","LEVS:AH:MRC:MUNICIPAL RUNNING COST","O/304502.BAH.000",null,null,null,null,null,null,"ADM & HO",null,null,null,null,20000,20980,21966.059999999998]
["Corporate Services","LEVS:AH:MRC:MUNICIPAL RUNNING COST","O/304502.BAH.000",null,null,null,null,null,null,"ADM & HO",null,null,null,null,50000,52450,54915.149999999994]
["Corporate Services","LEVS:AH:MRC:MUNICIPAL RUNNING COST","O/304502.BAH.000",null,null,null,null,null,null,"ADM & HO",null,null,null,null,0,0,0]
["Corporate Services","LEVS:AH:MRC:MUNICIPAL RUNNING COST","O/304502.BAH.000",null,null,null,null,null,null,"ADM & HO",null,null,null,null,50000,52450,54915.149999999994]
["Corporate Services","\"LEVS:AH:TWS:CAPBUIL:W/SH","O/304502.BAH.X19",null,null,null,null,null,null,"ADM & HO",null,null,null,null,1000,1049,1098.3029999999999]
["Corporate Services","LEVS:AH:NIF:MACH & EQUIPMENT:PL","M/304505.BAH.E43",null,null,null,null,null,null,"ADM & HO",null,null,null,null,20000,20980,21966.059999999998]
["Corporate Services","NONF:AH:MRC:MUNICIPAL RUNNING COST","O/304505.AAH.000",null,null,null,null,null,null,"ADM & HO",null,null,null,null,1200,1258.8,1317.9635999999998]
["Corporate Services","LEVS:AH:MRC:MUNICIPAL RUNNING COST","O/304505.BAH.000",null,null,null,null,null,null,"ADM & HO",null,null,null,null,12000,12588,13179.635999999999]
["Corporate Services","LEVS:AH:MRC:MUNICIPAL RUNNING COST","O/304505.BAH.000",null,null,null,null,null,null,"ADM & HO",null,null,null,null,15000,15734.999999999998,16474.544999999998]
["Corporate Services","LEVS:AH:MRC:MUNICIPAL RUNNING COST","O/304505.BAH.000",null,null,null,null,null,null,"ADM & HO",null,null,null,null,20000,20980,21966.059999999998]
["Corporate Services","LEVS:AH:MRC:MUNICIPAL RUNNING COST","O/304505.BAH.000",null,null,null,null,null,null,"ADM & HO",null,null,null,null,3000,3147,3294.9089999999997]
["Corporate Services","LEVS:AH:MRC:MUNICIPAL RUNNING COST","O/304505.BAH.000",null,null,null,null,null,null,"ADM & HO",null,null,null,null,25000,26225,27457.574999999997]
["Corporate Services","LEVS:AH:MRC:MUNICIPAL RUNNING COST","O/304505.BAH.000",null,null,null,null,null,null,"ADM & HO",null,null,null,null,0,0,0]
["Corporate Services","LEVS:AH:MRC:MUNICIPAL RUNNING COST","O/304505.BAH.000",null,null,null,null,null,null,"ADM & HO",null,null,null,null,15000,15734.999999999998,16474.544999999998]
["Corporate Services","LEVS:AH:MRC:MUNICIPAL RUNNING COST","O/304505.BAH.000",null,null,null,null,null,null,"ADM & HO",null,null,null,null,50000,52450,54915.149999999994]
["Corporate Services","LEVS:AH:MRC:MUNICIPAL RUNNING COST","O/304505.BAH.000",null,null,null,null,null,null,"ADM & HO",null,null,null,null,0,0,0]
["Corporate Services","MSU1/M/304346.BAH.E45","M/304346.BAH.E45",null,null,null,null,null,null,"ADM & HO",null,null,null,null,0,0,0]
["Corporate Services","LEVS:AH:NIF:MACH & EQUIPMENT:PL","M/304506.BAH.E43",null,null,null,null,null,null,"ADM & HO",null,null,null,null,100000,104900,109830.29999999999]
["Corporate Services","LEVS:AH:NIF:TRANSPORT ASSETS:PL","M/304506.BAH.E45",null,null,null,null,null,null,"ADM & HO",null,null,null,null,25000,26225,27457.574999999997]
["Corporate Services","NONF:AH:MRC:MUNICIPAL RUNNING COST","O/304506.AAH.000",null,null,null,null,null,null,"ADM & HO",null,null,null,null,1500,1573.5,1647.4544999999998]
["Corporate Services","LEVS:AH:MRC:MUNICIPAL RUNNING COST","O/304506.BAH.000",null,null,null,null,null,null,"ADM & HO",null,null,null,null,15000,15734.999999999998,16474.544999999998]
["Corporate Services","LEVS:AH:MRC:MUNICIPAL RUNNING COST","O/304506.BAH.000",null,null,null,null,null,null,"ADM & HO",null,null,null,null,900000,944099.99999999988,988472.69999999984]
["Corporate Services","LEVS:AH:MRC:MUNICIPAL RUNNING COST","O/304506.BAH.000",null,null,null,null,null,null,"ADM & HO",null,null,null,null,2600,2727.3999999999996,2855.5877999999993]
["Corporate Services","LEVS:AH:MRC:MUNICIPAL RUNNING COST","O/304506.BAH.000",null,null,null,null,null,null,"ADM & HO",null,null,null,null,500000,524500,549151.5]
["Corporate Services","LEVS:AH:MRC:MUNICIPAL RUNNING COST","O/304506.BAH.000",null,null,null,null,null,null,"ADM & HO",null,null,null,null,0,0,0]
["Corporate Services","LEVS:AH:MRC:MUNICIPAL RUNNING COST","O/304506.BAH.000",null,null,null,null,null,null,"ADM & HO",null,null,null,null,25000,26225,27457.574999999997]
["Corporate Services","LEVS:AH:MRC:MUNICIPAL RUNNING COST","O/304506.BAH.000",null,null,null,null,null,null,"ADM & HO",null,null,null,null,300000,314700,329490.89999999997]
["Corporate Services","LEVS:AH:NIF:MACH & EQUIPMENT:PL","M/304507.BAH.E43",null,null,null,null,null,null,"ADM & HO",null,null,null,null,30000,31469.999999999996,32949.089999999997]
["Corporate Services","NONF:AH:MRC:MUNICIPAL RUNNING COST","O/304507.AAH.000",null,null,null,null,null,null,"ADM & HO",null,null,null,null,2000,2098,2196.6059999999998]
["Corporate Services","LEVS:AH:MRC:MUNICIPAL RUNNING COST","O/304507.BAH.000",null,null,null,null,null,null,"ADM & HO",null,null,null,null,30000,31469.999999999996,32949.089999999997]
["Corporate Services","LEVS:AH:MRC:MUNICIPAL RUNNING COST","O/304507.BAH.000",null,null,null,null,null,null,"ADM & HO",null,null,null,null,20000,20980,21966.059999999998]
["Corporate Services","LEVS:AH:MRC:MUNICIPAL RUNNING COST","O/304507.BAH.000",null,null,null,null,null,null,"ADM & HO",null,null,null,null,10000,10490,10983.029999999999]
["Corporate Services","LEVS:AH:MRC:MUNICIPAL RUNNING COST","O/304507.BAH.000",null,null,null,null,null,null,"ADM & HO",null,null,null,null,135000,141615,148270.905]
["Corporate Services","LEVS:AH:MRC:MUNICIPAL RUNNING COST","O/304507.BAH.000",null,null,null,null,null,null,"ADM & HO",null,null,null,null,0,0,0]
["Corporate Services","LEVS:AH:MRC:MUNICIPAL RUNNING COST","O/304507.BAH.000",null,null,null,null,null,null,"ADM & HO",null,null,null,null,50000,52450,54915.149999999994]
["Corporate Services","\"LEVS:AH:TWS:CAPBUIL:W/SH","O/304507.BAH.X19",null,null,null,null,null,null,"ADM & HO",null,null,null,null,1000,1049,1098.3029999999999]
["Corporate Services","LEVS:AH:NIF:BUILD & OTHER STRUCT:PL","M/304525.BAH.E27",null,null,null,null,null,null,"ADM & HO",null,null,null,null,0,0,0]
["Corporate Services","LEVS:BAH.NIF:MACH & EQUIPMENT:PL","M/304525.BAH.E43",null,null,null,null,null,null,"ADM & HO",null,null,null,null,30000,31469.999999999996,32949.089999999997]
["Corporate Services","NONF:AH:MRC:MUNICIPAL RUNNING COST","O/304525.AAH.000",null,null,null,null,null,null,"ADM & HO",null,null,null,null,20000,20980,21966.059999999998]
["Corporate Services","NONF:AH:MRC:MUNICIPAL RUNNING COST","O/304525.AAH.000",null,null,null,null,null,null,"ADM & HO",null,null,null,null,10000,10490,10983.029999999999]
["Corporate Services","LEVS:AH:MRC:MUNICIPAL RUNNING COST","O/304525.BAH.000",null,null,null,null,null,null,"ADM & HO",null,null,null,null,50000,52450,54915.149999999994]
["Corporate Services","LEVS:AH:MRC:MUNICIPAL RUNNING COST","O/304525.BAH.000",null,null,null,null,null,null,"ADM & HO",null,null,null,null,2000000,2098000,2196606]
["Corporate Services","LEVS:AH:MRC:MUNICIPAL RUNNING COST","O/304525.BAH.000",null,null,null,null,null,null,"ADM & HO",null,null,null,null,30000,31469.999999999996,32949.089999999997]
["Corporate Services","LEVS:AH:MRC:MUNICIPAL RUNNING COST","O/304525.BAH.000",null,null,null,null,null,null,"ADM & HO",null,null,null,null,2000000,2098000,2196606]
["Corporate Services","LEVS:AH:MRC:MUNICIPAL RUNNING COST","O/304525.BAH.000",null,null,null,null,null,null,"ADM & HO",null,null,null,null,15000,15734.999999999998,16474.544999999998]
["Corporate Services","LEVS:AH:MRC:MUNICIPAL RUNNING COST","O/304525.BAH.000",null,null,null,null,null,null,"ADM & HO",null,null,null,null,0,0,0]
["Corporate Services","LEVS:AH:MRC:MUNICIPAL RUNNING COST","O/304525.BAH.000",null,null,null,null,null,null,"ADM & HO",null,null,null,null,0,0,0]
["Corporate Services","LEVS:AH:MRC:MUNICIPAL RUNNING COST","O/304525.BAH.000",null,null,null,null,null,null,"ADM & HO",null,null,null,null,200000,209800,219660.59999999998]
["Corporate Services","LEVS:AH:MRC:MUNICIPAL RUNNING COST","O/304525.BAH.000",null,null,null,null,null,null,"ADM & HO",null,null,null,null,50000,52450,54915.149999999994]
["Corporate Services","LEVS:AH:MRC:MUNICIPAL RUNNING COST","O/304525.BAH.000",null,null,null,null,null,null,"ADM & HO",null,null,null,null,20725,21740.524999999998,22762.329674999997]
["Corporate Services","LEVS:AH:MRC:MUNICIPAL RUNNING COST","O/304525.BAH.000",null,null,null,null,null,null,"ADM & HO",null,null,null,null,0,0,0]
["Corporate Services","LEVS:AH:MRC:MUNICIPAL RUNNING COST","O/304525.BAH.000",null,null,null,null,null,null,"ADM & HO",null,null,null,null,70000,73430,76881.209999999992]
["Corporate Services","LEVS:AH:MRC:MUNICIPAL RUNNING COST","O/304525.BAH.000",null,null,null,null,null,null,"ADM & HO",null,null,null,null,0,0,0]
["Corporate Services","LEVS:AH:MRC:MUNICIPAL RUNNING COST","O/304525.BAH.000",null,null,null,null,null,null,"ADM & HO",null,null,null,null,500,524.5,549.15149999999994]
["Corporate Services","LEVS:AH:MRC:MUNICIPAL RUNNING COST","O/304525.BAH.000",null,null,null,null,null,null,"ADM & HO",null,null,null,null,100000,104900,109830.29999999999]
["Corporate Services","LEVS:AH:MRC:MUNICIPAL RUNNING COST","O/304525.BAH.000",null,null,null,null,null,null,"ADM & HO",null,null,null,null,50000,52450,54915.149999999994]
["Corporate Services","LEVS:AH:NIF:MACH & EQUIPMENT:PL","M/304526.BAH.E43",null,null,null,null,null,null,"ADM & HO",null,null,null,null,10000000,10490000,10983030]
["Corporate Services","NONF:AH:MRC:MUNICIPAL RUNNING COST","O/304526.AAH.000",null,null,null,null,null,null,"ADM & HO",null,null,null,null,0,0,0]
["Corporate Services","NONF:AH:MRC:MUNICIPAL RUNNING COST","O/304526.AAH.000",null,null,null,null,null,null,"ADM & HO",null,null,null,null,0,0,0]
["Corporate Services","LEVS:AH:MRC:MUNICIPAL RUNNING COST","O/304526.BAH.000",null,null,null,null,null,null,"ADM & HO",null,null,null,null,150000,157350,164745.44999999998]
["Corporate Services","LEVS:AH:MRC:MUNICIPAL RUNNING COST","O/304526.BAH.000",null,null,null,null,null,null,"ADM & HO",null,null,null,null,8400000,8811600,9225745.1999999993]
["Corporate Services","LEVS:AH:MRC:MUNICIPAL RUNNING COST","O/304526.BAH.000",null,null,null,null,null,null,"ADM & HO",null,null,null,null,750000,786750,823727.25]
["Corporate Services","LEVS:AH:MRC:MUNICIPAL RUNNING COST","O/304526.BAH.000",null,null,null,null,null,null,"ADM & HO",null,null,null,null,10500000,11014500,11532181.5]
["Corporate Services","LEVS:AH:MRC:MUNICIPAL RUNNING COST","O/304526.BAH.000",null,null,null,null,null,null,"ADM & HO",null,null,null,null,30000,31469.999999999996,32949.089999999997]
["Corporate Services","LEVS:AH:MRC:MUNICIPAL RUNNING COST","O/304526.BAH.000",null,null,null,null,null,null,"ADM & HO",null,null,null,null,170000,178330,186711.50999999998]
["Corporate Services","LEVS:AH:MRC:MUNICIPAL RUNNING COST","O/304526.BAH.000",null,null,null,null,null,null,"ADM & HO",null,null,null,null,50000,52450,54915.149999999994]
["Corporate Services","LEVS:AH:MRC:MUNICIPAL RUNNING COST","O/304526.BAH.000",null,null,null,null,null,null,"ADM & HO",null,null,null,null,100000,104900,109830.29999999999]
["Corporate Services","LEVS:AH:MRC:MUNICIPAL RUNNING COST","O/304526.BAH.000",null,null,null,null,null,null,"ADM & HO",null,null,null,null,5000,5245,5491.5149999999994]
["Corporate Services","LEVS:AH:MRC:MUNICIPAL RUNNING COST","O/304526.BAH.000",null,null,null,null,null,null,"ADM & HO",null,null,null,null,50000,52450,54915.149999999994]
["Corporate Services","LEVS:AH:MRC:MUNICIPAL RUNNING COST","O/304526.BAH.000",null,null,null,null,null,null,"ADM & HO",null,null,null,null,0,0,0]
["Corporate Services","LEVS:AH:MRC:MUNICIPAL RUNNING COST","O/304526.BAH.000",null,null,null,null,null,null,"ADM & HO",null,null,null,null,90000,94410,98847.26999999999]
["Corporate Services","\"LEVS:AH:TWS:CAPBUIL:W/SH","O/304526.BAH.X19",null,null,null,null,null,null,"ADM & HO",null,null,null,null,1000,1049,1098.3029999999999]
["Corporate Services","\"LEVS:AH:TWS:CAPBUIL:W/SH","O/304526.BAH.X19",null,null,null,null,null,null,"ADM & HO",null,null,null,null,500,524.5,549.15149999999994]
["Corporate Services","NONF:AH:MRC:MUNICIPAL RUNNING COST","O/304530.AAH.000",null,null,null,null,null,null,"ADM & HO",null,null,null,null,21000,22029,23064.362999999998]
["Corporate Services","NONF:AH:MRC:MUNICIPAL RUNNING COST","O/304530.AAH.000",null,null,null,null,null,null,"ADM & HO",null,null,null,null,10400,10909.599999999999,11422.351199999997]
["Corporate Services","NONF:AH:DEFAULT TRANSACTIONS","O/304530.AAH.999",null,null,null,null,null,null,"ADM & HO",null,null,null,null,0,0,0]
["Corporate Services","NONF:AH:DEFAULT TRANSACTIONS","O/304530.AAH.999",null,null,null,null,null,null,"ADM & HO",null,null,null,null,0,0,0]
["Corporate Services","LEVS:AH:MRC:MUNICIPAL RUNNING COST","O/304530.BAH.000",null,null,null,null,null,null,"ADM & HO",null,null,null,null,25000,26225,27457.574999999997]
["Corporate Services","LEVS:AH:MRC:MUNICIPAL RUNNING COST","O/304530.BAH.000",null,null,null,null,null,null,"ADM & HO",null,null,null,null,30000,31469.999999999996,32949.089999999997]
["Corporate Services","LEVS:AH:MRC:MUNICIPAL RUNNING COST","O/304530.BAH.000",null,null,null,null,null,null,"ADM & HO",null,null,null,null,50000,52450,54915.149999999994]
["Corporate Services","LEVS:AH:MRC:MUNICIPAL RUNNING COST","O/304530.BAH.000",null,null,null,null,null,null,"ADM & HO",null,null,null,null,25000,26225,27457.574999999997]
["Corporate Services","LEVS:AH:MRC:MUNICIPAL RUNNING COST","O/304530.BAH.000",null,null,null,null,null,null,"ADM & HO",null,null,null,null,2900,3042.1,3185.0786999999996]
["Corporate Services","LEVS:AH:MRC:MUNICIPAL RUNNING COST","O/304530.BAH.000",null,null,null,null,null,null,"ADM & HO",null,null,null,null,25000,26225,27457.574999999997]
["Corporate Services","LEVS:AH:MRC:MUNICIPAL RUNNING COST","O/304530.BAH.000",null,null,null,null,null,null,"ADM & HO",null,null,null,null,0,0,0]
["Corporate Services","LEVS:AH:MRC:MUNICIPAL RUNNING COST","O/304530.BAH.000",null,null,null,null,null,null,"ADM & HO",null,null,null,null,500000,524500,549151.5]
["Corporate Services","LEVS:AH:MRC:MUNICIPAL RUNNING COST","O/304530.BAH.000",null,null,null,null,null,null,"ADM & HO",null,null,null,null,2500,2622.5,2745.7574999999997]
["Corporate Services","LEVS:AH:MRC:MUNICIPAL RUNNING COST","O/304530.BAH.000",null,null,null,null,null,null,"ADM & HO",null,null,null,null,15000,15734.999999999998,16474.544999999998]
["Corporate Services","LEVS:AH:MRC:MUNICIPAL RUNNING COST","O/304530.BAH.000",null,null,null,null,null,null,"ADM & HO",null,null,null,null,45000,47205,49423.634999999995]
["Corporate Services","LEVS:AH:MRC:MUNICIPAL RUNNING COST","O/304530.BAH.000",null,null,null,null,null,null,"ADM & HO",null,null,null,null,0,0,0]
["Corporate Services","LEVS:AH:MRC:MUNICIPAL RUNNING COST","O/304530.BAH.000",null,null,null,null,null,null,"ADM & HO",null,null,null,null,70000,73430,76881.209999999992]
["Corporate Services","\"LEVS:AH:TWS:CAPBUIL:W/SH","O/304530.BAH.X19",null,null,null,null,null,null,"ADM & HO",null,null,null,null,750,786.75,823.72724999999991]
["Electricity","MSU1/M/702100.JAH.E27","M/702100.JAH.E27",null,null,null,null,null,null,"ADM & HO",null,null,null,null,2300000,2412700,2526096.9]
["Electricity","MSU1/M/702100.JAH.E28","M/702100.JAH.E28",null,null,null,null,null,null,"ADM & HO",null,null,null,null,11500000,12063500,12630484.5]
["Electricity","MSU1/O/702100.AAH.000","O/702100.AAH.000",null,null,null,null,null,null,"ADM & HO",null,null,null,null,229999.99999999997,241269.99999999994,252609.68999999992]
["Electricity","MSU1/O/702100.JAH.000","O/702100.JAH.000",null,null,null,null,null,null,"ADM & HO",null,null,null,null,758999.99999999988,796190.99999999988,833611.97699999984]
["Electricity","MSU1/O/702100.JAH.000","O/702100.JAH.000",null,null,null,null,null,null,"ADM & HO",null,null,null,null,46000,48254,50521.937999999995]
["Electricity","MSU1/O/702100.JAH.000","O/702100.JAH.000",null,null,null,null,null,null,"ADM & HO",null,null,null,null,1104000,1158096,1212526.5119999999]
["Electricity","MSU1/O/702100.JAH.000","O/702100.JAH.000",null,null,null,null,null,null,"ADM & HO",null,null,null,null,459999.99999999994,482539.99999999988,505219.37999999983]
["Electricity","MSU1/O/702100.JAH.000","O/702100.JAH.000",null,null,null,null,null,null,"ADM & HO",null,null,null,null,2000000,2098000,2196606]
["Electricity","MSU1/O/702100.JAH.000","O/702100.JAH.000",null,null,null,null,null,null,"ADM & HO",null,null,null,null,459999.99999999994,482539.99999999988,505219.37999999983]
["Electricity","MSU1/O/702100.JAH.000","O/702100.JAH.000",null,null,null,null,null,null,"ADM & HO",null,null,null,null,322000,337778,353653.56599999999]
["Electricity","MSU1/O/702100.JAH.000","O/702100.JAH.000",null,null,null,null,null,null,"ADM & HO",null,null,null,null,13474.135999999999,14134.368663999998,14798.683991207996]
["Electricity","MSU1/O/702100.JAH.000","O/702100.JAH.000",null,null,null,null,null,null,"ADM & HO",null,null,null,null,3000000,3147000,3294909]
["Electricity","MSU1/O/702100.JAH.000","O/702100.JAH.000",null,null,null,null,null,null,"ADM & HO",null,null,null,null,229999.99999999997,241269.99999999994,252609.68999999992]
["Electricity","MSU1/O/702100.JAH.000","O/702100.JAH.000",null,null,null,null,null,null,"ADM & HO",null,null,null,null,46000,48254,50521.937999999995]
["Electricity","MSU1/O/702100.JAH.000","O/702100.JAH.000",null,null,null,null,null,null,"ADM & HO",null,null,null,null,206029.60699999999,216125.05774299998,226282.93545692097]
["Electricity","MSU1/O/702100.JAH.000","O/702100.JAH.000",null,null,null,null,null,null,"ADM & HO",null,null,null,null,2300000,2412700,2526096.9]
["Electricity","MSU1/O/702100.JAH.000","O/702100.JAH.000",null,null,null,null,null,null,"ADM & HO",null,null,null,null,55199.999999999993,57904.799999999988,60626.325599999982]
["Electricity","MSU1/O/702100.JAH.000","O/702100.JAH.000",null,null,null,null,null,null,"ADM & HO",null,null,null,null,1242000,1302858,1364092.3259999999]
["Electricity","MSU1/O/702100.JAH.000","O/702100.JAH.000",null,null,null,null,null,null,"ADM & HO",null,null,null,null,229999.99999999997,241269.99999999994,252609.68999999992]
["Electricity","MSU1/O/702100.JAH.Y70","O/702100.JAH.Y70",null,null,null,null,null,null,"ADM & HO",null,null,null,null,2300000,2412700,2526096.9]
["Electricity","MSU1/O/702100.JAH.000","O/702100.JAH.000",null,null,null,null,null,null,"ADM & HO",null,null,null,null,17250000,18095250,18945726.75]
["Electricity","MSU1/O/702100.JAH.000","O/702100.JAH.000",null,null,null,null,null,null,"ADM & HO",null,null,null,null,2300000,2412700,2526096.9]
["Electricity","MSU1/M/704065.JAH.D05","M/704065.JAH.D05",null,null,null,null,null,null,"ADM & HO",null,null,null,null,964159.99999999988,1011403.8399999999,1058939.8204799998]
["Electricity","MSU1/M/704065.JAH.D05","M/704065.JAH.D05",null,null,null,null,null,null,"ADM & HO",null,null,null,null,241039.99999999997,252850.95999999996,264734.95511999994]
["Electricity","MSU1/M/704065.JAH.D06","M/704065.JAH.D06",null,null,null,null,null,null,"ADM & HO",null,null,null,null,964159.99999999988,1011403.8399999999,1058939.8204799998]
["Electricity","MSU1/M/704065.JAH.D06","M/704065.JAH.D06",null,null,null,null,null,null,"ADM & HO",null,null,null,null,241039.99999999997,252850.95999999996,264734.95511999994]
["Electricity","MSU1/M/704065.JAH.D19","M/704065.JAH.D19",null,null,null,null,null,null,"ADM & HO",null,null,null,null,964159.99999999988,1011403.8399999999,1058939.8204799998]
["Electricity","MSU1/M/704065.JAH.D19","M/704065.JAH.D19",null,null,null,null,null,null,"ADM & HO",null,null,null,null,482079.99999999994,505701.91999999993,529469.91023999988]
["Electricity","MSU1/M/704065.JAH.D19","M/704065.JAH.D19",null,null,null,null,null,null,"ADM & HO",null,null,null,null,1609.9999999999998,1688.8899999999996,1768.2678299999995]
["Electricity","MSU1/M/704065.JAH.D20","M/704065.JAH.D20",null,null,null,null,null,null,"ADM & HO",null,null,null,null,964159.99999999988,1011403.8399999999,1058939.8204799998]
["Electricity","MSU1/M/704065.JAH.D29","M/704065.JAH.D29",null,null,null,null,null,null,"ADM & HO",null,null,null,null,919.99999999999989,965.07999999999981,1010.4387599999998]
["Electricity","MSU1/M/704065.JAH.D29","M/704065.JAH.D29",null,null,null,null,null,null,"ADM & HO",null,null,null,null,722200,757587.79999999993,793194.42659999989]
["Electricity","MSU1/M/704065.JAH.D29","M/704065.JAH.D29",null,null,null,null,null,null,"ADM & HO",null,null,null,null,482079.99999999994,505701.91999999993,529469.91023999988]
["Electricity","MSU1/M/704065.JAH.D30","M/704065.JAH.D30",null,null,null,null,null,null,"ADM & HO",null,null,null,null,723120,758552.88,794204.86535999994]
["Electricity","MSU1/M/704065.JAH.D30","M/704065.JAH.D30",null,null,null,null,null,null,"ADM & HO",null,null,null,null,482079.99999999994,505701.91999999993,529469.91023999988]
["Electricity","MSU1/M/704065.JAH.D30","M/704065.JAH.D30",null,null,null,null,null,null,"ADM & HO",null,null,null,null,1687279.9999999998,1769956.7199999997,1853144.6858399997]
["Electricity","MSU1/O/704065.JAH.000","O/704065.JAH.000",null,null,null,null,null,null,"ADM & HO",null,null,null,null,919999.99999999988,965079.99999999977,1010438.7599999997]
["Electricity","MSU1/M/704066.JAH.D11","M/704066.JAH.D11",null,null,null,null,null,null,"ADM & HO",null,null,null,null,690000,723810,757829.07]
["Electricity","MSU1/M/704066.JAH.D11","M/704066.JAH.D11",null,null,null,null,null,null,"ADM & HO",null,null,null,null,23000000,24127000,25260969]
["Electricity","MSU1/M/704066.JAH.D12","M/704066.JAH.D12",null,null,null,null,null,null,"ADM & HO",null,null,null,null,229999.99999999997,241269.99999999994,252609.68999999992]
["Electricity","MSU1/M/704066.JAH.D12","M/704066.JAH.D12",null,null,null,null,null,null,"ADM & HO",null,null,null,null,3449999.9999999995,3619049.9999999991,3789145.3499999987]
["Electricity","MSU1/M/704066.JAH.D29","M/704066.JAH.D29",null,null,null,null,null,null,"ADM & HO",null,null,null,null,229999.99999999997,241269.99999999994,252609.68999999992]
["Electricity","MSU1/M/704066.JAH.D29","M/704066.JAH.D29",null,null,null,null,null,null,"ADM & HO",null,null,null,null,229999.99999999997,241269.99999999994,252609.68999999992]
["Electricity","MSU1/M/704066.JAH.D30","M/704066.JAH.D30",null,null,null,null,null,null,"ADM & HO",null,null,null,null,575000,603175,631524.22499999998]
["Electricity","MSU1/M/704066.JAH.D30","M/704066.JAH.D30",null,null,null,null,null,null,"ADM & HO",null,null,null,null,2980800,3126859.1999999997,3273821.5823999997]
["Electricity","MSU1/O/704066.JAH.000","O/704066.JAH.000",null,null,null,null,null,null,"ADM & HO",null,null,null,null,919999.99999999988,965079.99999999977,1010438.7599999997]
["Electricity","MSU1/M/704067.JAH.D21","M/704067.JAH.D21",null,null,null,null,null,null,"ADM & HO",null,null,null,null,17475400,18331694.599999998,19193284.246199995]
["Electricity","MSU1/M/704067.JAH.D21","M/704067.JAH.D21",null,null,null,null,null,null,"ADM & HO",null,null,null,null,8135145.9999999991,8533768.1539999992,8934855.2572379988]
["Electricity","MSU1/M/704067.JAH.D22","M/704067.JAH.D22",null,null,null,null,null,null,"ADM & HO",null,null,null,null,8436400,8849783.5999999996,9265723.4291999992]
["Electricity","MSU1/M/704067.JAH.D22","M/704067.JAH.D22",null,null,null,null,null,null,"ADM & HO",null,null,null,null,9890000,10374610,10862216.67]
["Electricity","MSU1/O/704067.JAH.000","O/704067.JAH.000",null,null,null,null,null,null,"ADM & HO",null,null,null,null,13000000,13637000,14277938.999999998]
["Electricity","MSU1/O/704067.JAH.000","O/704067.JAH.000",null,null,null,null,null,null,"ADM & HO",null,null,null,null,919999.99999999988,965079.99999999977,1010438.7599999997]
["Electricity","MSU1/M/704077.JAH.D15","M/704077.JAH.D15",null,null,null,null,null,null,"ADM & HO",null,null,null,null,18400000,19301600,20208775.199999999]
["Electricity","MSU1/M/704077.JAH.D15","M/704077.JAH.D15",null,null,null,null,null,null,"ADM & HO",null,null,null,null,20700000,21714300,22734872.099999998]
["Electricity","MSU1/M/704077.JAH.D15","M/704077.JAH.D15",null,null,null,null,null,null,"ADM & HO",null,null,null,null,6899999.9999999991,7238099.9999999981,7578290.6999999974]
["Electricity","MSU1/M/704077.JAH.D15","M/704077.JAH.D15",null,null,null,null,null,null,"ADM & HO",null,null,null,null,9000882.0999999996,9441925.3228999991,9885695.8130762987]
["Electricity","MSU1/M/704077.JAH.D16","M/704077.JAH.D16",null,null,null,null,null,null,"ADM & HO",null,null,null,null,3013000,3160637,3309186.9389999998]
["Electricity","MSU1/M/704077.JAH.D16","M/704077.JAH.D16",null,null,null,null,null,null,"ADM & HO",null,null,null,null,3449999.9999999995,3619049.9999999991,3789145.3499999987]
["Electricity","MSU1/M/704077.JAH.D16","M/704077.JAH.D16",null,null,null,null,null,null,"ADM & HO",null,null,null,null,2300000,2412700,2526096.9]
["Electricity","MSU1/M/704077.JAH.D16","M/704077.JAH.D16",null,null,null,null,null,null,"ADM & HO",null,null,null,null,1408750,1477778.75,1547234.3512499998]
["Electricity","MSU1/O/704077.JAH.000","O/704077.JAH.000",null,null,null,null,null,null,"ADM & HO",null,null,null,null,7000000,7342999.9999999991,7688120.9999999981]
["Electricity","MSU1/O/704077.JAH.000","O/704077.JAH.000",null,null,null,null,null,null,"ADM & HO",null,null,null,null,919999.99999999988,965079.99999999977,1010438.7599999997]
["Electricity","MSU1/M/704078.JAH.D27","M/704078.JAH.D27",null,null,null,null,null,null,"ADM & HO",null,null,null,null,2300000,2412700,2526096.9]
["Electricity","MSU1/M/704078.JAH.D27","M/704078.JAH.D27",null,null,null,null,null,null,"ADM & HO",null,null,null,null,2300000,2412700,2526096.9]
["Electricity","MSU1/M/704078.JAH.D28","M/704078.JAH.D28",null,null,null,null,null,null,"ADM & HO",null,null,null,null,3449999.9999999995,3619049.9999999991,3789145.3499999987]
["Electricity","MSU1/M/704078.JAH.D28","M/704078.JAH.D28",null,null,null,null,null,null,"ADM & HO",null,null,null,null,3449999.9999999995,3619049.9999999991,3789145.3499999987]
["Electricity","MSU1/M/704078.JAH.D28","M/704078.JAH.D28",null,null,null,null,null,null,"ADM & HO",null,null,null,null,11500000,12063500,12630484.5]
["Electricity","MSU1/O/704078.JAH.000","O/704078.JAH.000",null,null,null,null,null,null,"ADM & HO",null,null,null,null,919999.99999999988,965079.99999999977,1010438.7599999997]
["Electricity","MSU1/M/704079.JAH.D19","M/704079.JAH.D19",null,null,null,null,null,null,"ADM & HO",null,null,null,null,26771999.999999996,28083827.999999993,29403767.91599999]
["Electricity","MSU1/M/704079.JAH.D19","M/704079.JAH.D19",null,null,null,null,null,null,"ADM & HO",null,null,null,null,43770000,45914730,48072722.309999995]
["Electricity","MSU1/M/704079.JAH.D20","M/704079.JAH.D20",null,null,null,null,null,null,"ADM & HO",null,null,null,null,3679999.9999999995,3860319.9999999991,4041755.0399999986]
["Electricity","MSU1/M/704079.JAH.D20","M/704079.JAH.D20",null,null,null,null,null,null,"ADM & HO",null,null,null,null,9200000,9650800,10104387.6]
["Electricity","MSU1/M/704079.JAH.E27","M/704079.JAH.E27",null,null,null,null,null,null,"ADM & HO",null,null,null,null,827999.99999999988,868571.99999999977,909394.88399999973]
["Electricity","MSU1/O/704079.JAH.000","O/704079.JAH.000",null,null,null,null,null,null,"ADM & HO",null,null,null,null,919999.99999999988,965079.99999999977,1010438.7599999997]
["Electricity","MSU1/M/704080.JAH.D19","M/704080.JAH.D19",null,null,null,null,null,null,"ADM & HO",null,null,null,null,6961294.9999999991,7302398.4549999982,7645611.1823849976]
["Electricity","MSU1/M/704080.JAH.D20","M/704080.JAH.D20",null,null,null,null,null,null,"ADM & HO",null,null,null,null,2626600,2755303.4,2884802.6597999996]
["Electricity","MSU1/M/704080.JAH.D24","M/704080.JAH.D24",null,null,null,null,null,null,"ADM & HO",null,null,null,null,2990000,3136510,3283925.9699999997]
["Electricity","MSU1/M/704080.JAH.E28","M/704080.JAH.E28",null,null,null,null,null,null,"ADM & HO",null,null,null,null,3449999.9999999995,3619049.9999999991,3789145.3499999987]
["Electricity","MSU1/M/704081.JAH.E27","M/704081.JAH.E27",null,null,null,null,null,null,"ADM & HO",null,null,null,null,229999.99999999997,241269.99999999994,252609.68999999992]
["Electricity","MSU1/M/704081.JAH.E28","M/704081.JAH.E28",null,null,null,null,null,null,"ADM & HO",null,null,null,null,229999.99999999997,241269.99999999994,252609.68999999992]
["Electricity","MSU1/O/704081.JAH.000","O/704081.JAH.000",null,null,null,null,null,null,"ADM & HO",null,null,null,null,229999.99999999997,241269.99999999994,252609.68999999992]
["Electricity","MSU1/O/704081.JAH.000","O/704081.JAH.000",null,null,null,null,null,null,"ADM & HO",null,null,null,null,114999.99999999999,120634.99999999997,126304.84499999996]
["Electricity","MSU1/O/704081.JAH.000","O/704081.JAH.000",null,null,null,null,null,null,"ADM & HO",null,null,null,null,1150000,1206350,1263048.45]
["Electricity","MSU1/O/704081.JAH.000","O/704081.JAH.000",null,null,null,null,null,null,"ADM & HO",null,null,null,null,1150000,1206350,1263048.45]
["Electricity","MSU1/O/704081.JAH.000","O/704081.JAH.000",null,null,null,null,null,null,"ADM & HO",null,null,null,null,919999.99999999988,965079.99999999977,1010438.7599999997]
["Electricity","MSU1/O/704081.JAH.000","O/704081.JAH.000",null,null,null,null,null,null,"ADM & HO",null,null,null,null,3449999.9999999995,3619049.9999999991,3789145.3499999987]
["Electricity","MSU1/O/704081.JAH.000","O/704081.JAH.000",null,null,null,null,null,null,"ADM & HO",null,null,null,null,1150000,1206350,1263048.45]
["Electricity","MSU1/M/704082.JAH.D03","M/704082.JAH.D03",null,null,null,null,null,null,"ADM & HO",null,null,null,null,2300000,2412700,2526096.9]
["Electricity","MSU1/M/704082.JAH.D05","M/704082.JAH.D05",null,null,null,null,null,null,"ADM & HO",null,null,null,null,241039.99999999997,252850.95999999996,264734.95511999994]
["Electricity","MSU1/M/704082.JAH.D06","M/704082.JAH.D06",null,null,null,null,null,null,"ADM & HO",null,null,null,null,241039.99999999997,252850.95999999996,264734.95511999994]
["Electricity","MSU1/M/704082.JAH.D19","M/704082.JAH.D19",null,null,null,null,null,null,"ADM & HO",null,null,null,null,964159.99999999988,1011403.8399999999,1058939.8204799998]
["Electricity","MSU1/M/704082.JAH.D19","M/704082.JAH.D19",null,null,null,null,null,null,"ADM & HO",null,null,null,null,482079.99999999994,505701.91999999993,529469.91023999988]
["Electricity","MSU1/M/704082.JAH.D19","M/704082.JAH.D19",null,null,null,null,null,null,"ADM & HO",null,null,null,null,1609.9999999999998,1688.8899999999996,1768.2678299999995]
["Electricity","MSU1/M/704082.JAH.D20","M/704082.JAH.D20",null,null,null,null,null,null,"ADM & HO",null,null,null,null,482079.99999999994,505701.91999999993,529469.91023999988]
["Electricity","MSU1/M/704082.JAH.D20","M/704082.JAH.D20",null,null,null,null,null,null,"ADM & HO",null,null,null,null,3615.6,3792.7643999999996,3971.0243267999995]
["Electricity","MSU1/M/704082.JAH.D29","M/704082.JAH.D29",null,null,null,null,null,null,"ADM & HO",null,null,null,null,482079.99999999994,505701.91999999993,529469.91023999988]
["Electricity","MSU1/M/704082.JAH.D29","M/704082.JAH.D29",null,null,null,null,null,null,"ADM & HO",null,null,null,null,482079.99999999994,505701.91999999993,529469.91023999988]
["Electricity","MSU1/M/704082.JAH.D30","M/704082.JAH.D30",null,null,null,null,null,null,"ADM & HO",null,null,null,null,482079.99999999994,505701.91999999993,529469.91023999988]
["Electricity","MSU1/M/704082.JAH.D30","M/704082.JAH.D30",null,null,null,null,null,null,"ADM & HO",null,null,null,null,1687279.9999999998,1769956.7199999997,1853144.6858399997]
["Electricity","MSU1/O/704082.JAH.000","O/704082.JAH.000",null,null,null,null,null,null,"ADM & HO",null,null,null,null,919999.99999999988,965079.99999999977,1010438.7599999997]
["Electricity","MSU1/M/704083.BAH.E27","M/704083.BAH.E27",null,null,null,null,null,null,"ADM & HO",null,null,null,null,1300000,1363700,1427793.9]
["Electricity","MSU1/M/704083.BAH.E27","M/704083.BAH.E27",null,null,null,null,null,null,"ADM & HO",null,null,null,null,800000,839200,878642.39999999991]
["Electricity","MSU1/M/704084.BAH.E43","M/704084.BAH.E43",null,null,null,null,null,null,"ADM & HO",null,null,null,null,2300000,2412700,2526096.9]
["Electricity","MSU1/M/704084.BAH.E44","M/704084.BAH.E44",null,null,null,null,null,null,"ADM & HO",null,null,null,null,2185000,2292065,2399792.0549999997]
["Electricity","MSU1/M/704084.BAH.E45","M/704084.BAH.E45",null,null,null,null,null,null,"ADM & HO",null,null,null,null,287500,301587.5,315762.11249999999]
["Electricity","MSU1/O/704084.BAH.000","O/704084.BAH.000",null,null,null,null,null,null,"ADM & HO",null,null,null,null,207245.23,217400.24627,227618.05784468999]
["Electricity","MSU1/O/704086.JAH.000","O/704086.JAH.000",null,null,null,null,null,null,"ADM & HO",null,null,null,null,114999.99999999999,120634.99999999997,126304.84499999996]
["Electricity","MSU1/O/704085.JAH.001","O/704085.JAH.000",null,null,null,null,null,null,"ADM & HO",null,null,null,null,2300000,2412700,2526096.9]
["Electricity","MSU1/7084BAHE43","M/704084.BAH.E43",null,null,null,null,null,null,"ADM & HO",null,null,null,null,1100000,1153900,1208133.2999999998]
["Electricity","MSU1/7084BAHE44","M/704084.BAH.E44",null,null,null,null,null,null,"ADM & HO",null,null,null,null,980000,1028019.9999999999,1076336.9399999997]
["Electricity","MSU1/7084BAHE45","M/704084.BAH.E45",null,null,null,null,null,null,"ADM & HO",null,null,null,null,150000,157350,164745.44999999998]
["Infrastructure Services","\"MSE:AH:INF:ROADS","M/504124.JAH.D33",null,null,null,null,null,null,"ADM & HO",null,null,null,null,306886.80000000005,321924.25320000004,337054.69310040004]
["Infrastructure Services","\"MSE:AH:INF:ROADS","M/504124.JAH.D33",null,null,null,null,null,null,"ADM & HO",null,null,null,null,2404710,2522540.79,2641100.20713]
["Infrastructure Services","MSE:AH:NIF:TRANSPORT ASSETS:PL","M/504124.JAH.E45",null,null,null,null,null,null,"ADM & HO",null,null,null,null,140847.30000000002,147748.81770000001,154693.0121319]
["Infrastructure Services","NONF:AH:MRC:MUNICIPAL RUNNING COST","O/504124.AAH.000",null,null,null,null,null,null,"ADM & HO",null,null,null,null,1389003,1457064.1469999999,1525546.1619089998]
["Infrastructure Services","MSE:AH:MRC:MUNICIPAL RUNNING COST","O/504124.JAH.000",null,null,null,null,null,null,"ADM & HO",null,null,null,null,22000,23078,24162.665999999997]
["Infrastructure Services","MSE:AH:MRC:MUNICIPAL RUNNING COST","O/504124.JAH.000",null,null,null,null,null,null,"ADM & HO",null,null,null,null,null,0,0]
["Infrastructure Services","MSE:AH:SURFACE MAINTENANCE","M/504125.JAH.D33",null,null,null,null,null,null,"ADM & HO",null,null,null,null,318337.80000000005,333936.35220000002,349631.36075340002]
["Infrastructure Services","MSE:AH:SURFACE MAINTENANCE","M/504125.JAH.D33",null,null,null,null,null,null,"ADM & HO",null,null,null,null,74431.5,78078.643499999991,81748.339744499986]
["Infrastructure Services","MSE:AH:SURFACE MAINTENANCE","M/504125.JAH.D33",null,null,null,null,null,null,"ADM & HO",null,null,null,null,27000000,28323000,29654180.999999996]
["Infrastructure Services","MSE:AH:SURFACE MAINTENANCE","M/504125.JAH.D33",null,null,null,null,null,null,"ADM & HO",null,null,null,null,2003925.0000000002,2102117.3250000002,2200916.8392750002]
["Infrastructure Services","MSE:AH:INF:ROADS,PAVEM,BRG,STWTR:UPL","M/504125.JAH.D34",null,null,null,null,null,null,"ADM & HO",null,null,null,null,778668.00000000012,816822.73200000008,855213.40040400007]
["Infrastructure Services","MSE:AH:INF:ROADS,PAVEM,BRG,STWTR:UPL","M/504125.JAH.D34",null,null,null,null,null,null,"ADM & HO",null,null,null,null,35000000,36715000,38440605]
["Infrastructure Services","MSE:AH:INF:ROADS,PAVEM,BRG,STWTR:UPL","M/504125.JAH.D34",null,null,null,null,null,null,"ADM & HO",null,null,null,null,143137.5,150151.23749999999,157208.34566249998]
["Infrastructure Services","MSE:AH:NIF:TRANSPORT ASSETS:PL","M/504125.JAH.E45",null,null,null,null,null,null,"ADM & HO",null,null,null,null,138557.1,145346.39790000001,152177.67860129999]
["Infrastructure Services","MSE:AH:NIF:TRANSPORT ASSETS:UPL","M/504125.JAH.E46",null,null,null,null,null,null,"ADM & HO",null,null,null,null,112219.8,117718.5702,123251.34299939999]
["Infrastructure Services","MSE:AH:MRC:MUNICIPAL RUNNING COST","O/504125.JAH.000",null,null,null,null,null,null,"ADM & HO",null,null,null,null,null,0,0]
["Infrastructure Services","MSE:AH:INF:ROADS,PAVEM,BRG,STWTR:PL","M/504126.JAH.D33",null,null,null,null,null,null,"ADM & HO",null,null,null,null,272533.80000000005,285887.95620000002,299324.69014139997]
["Infrastructure Services","MSE:AH:INF:ROADS,PAVEM,BRG,STWTR:PL","M/504126.JAH.D33",null,null,null,null,null,null,"ADM & HO",null,null,null,null,131686.5,138139.1385,144631.6780095]
["Infrastructure Services","MSE:AH:INF:ROADS,PAVEM,BRG,STWTR:PL","M/504126.JAH.D33",null,null,null,null,null,null,"ADM & HO",null,null,null,null,15000000,15734999.999999998,16474544.999999996]
["Infrastructure Services","MSE:AH:INF:ROADS,PAVEM,BRG,STWTR:PL","M/504126.JAH.D33",null,null,null,null,null,null,"ADM & HO",null,null,null,null,858825.00000000012,900907.42500000005,943250.07397499995]
["Infrastructure Services","MSE:AH:INF:ROADS,PAVEM,BRG,STWTR:UPL","M/504126.JAH.D34",null,null,null,null,null,null,"ADM & HO",null,null,null,null,15000000,15734999.999999998,16474544.999999996]
["Infrastructure Services","MSE:AH:INF:ROADS,PAVEM,BRG,STWTR:UPL","M/504126.JAH.D34",null,null,null,null,null,null,"ADM & HO",null,null,null,null,200392.50000000003,210211.73250000001,220091.68392750001]
["Infrastructure Services","\"MSE:AH:INF:ROADS","M/504127.JAH.D33",null,null,null,null,null,null,"ADM & HO",null,null,null,null,17176.5,18018.148499999999,18865.001479499999]
["Infrastructure Services","\"MSE:AH:INF:ROADS","M/504127.JAH.D33",null,null,null,null,null,null,"ADM & HO",null,null,null,null,1316865,1381391.385,1446316.7800949998]
["Infrastructure Services","\"MSE:AH:INF:ROADS","M/504127.JAH.D33",null,null,null,null,null,null,"ADM & HO",null,null,null,null,68706,72072.593999999997,75460.005917999995]
["Infrastructure Services","MSE:AH:INF:ROADS,PAVEM,BRG,STWTR:UPL","M/504127.JAH.D34",null,null,null,null,null,null,"ADM & HO",null,null,null,null,45000000,47205000,49423635]
["Infrastructure Services","MSE:AH:NIF:TRANSPORT ASSETS:PL","M/504127.JAH.E45",null,null,null,null,null,null,"ADM & HO",null,null,null,null,112219.8,117718.5702,123251.34299939999]
["Infrastructure Services","MSE:AH:INF:ROADS,PAVEM,BRG,STWTR:PL","M/504128.JAH.D33",null,null,null,null,null,null,"ADM & HO",null,null,null,null,1374120,1441451.88,1509200.1183599997]
["Infrastructure Services","\"MSE:AH:INF:ROADS","M/504129.JAH.D33",null,null,null,null,null,null,"ADM & HO",null,null,null,null,1717650.0000000002,1801814.85,1886500.1479499999]
["Infrastructure Services","MSE:AH:INF:ROADS","M/504129.JAH.D34",null,null,null,null,null,null,"ADM & HO",null,null,null,null,1762750.0000000002,1849124.7500000002,1936033.6132500002]
["Infrastructure Services","NONF:AH:MRC:MUNICIPAL RUNNING COST","O/504131.AAH.000",null,null,null,null,null,null,"ADM & HO",null,null,null,null,null,0,0]
["Infrastructure Services","MSE:AH:MRC:MUNICIPAL RUNNING COST","O/504131.JAH.000",null,null,null,null,null,null,"ADM & HO",null,null,null,null,2173608,2280114.7919999999,2387280.1872239998]
["Infrastructure Services","MSE:AH:MRC:MUNICIPAL RUNNING COST","O/504131.JAH.000",null,null,null,null,null,null,"ADM & HO",null,null,null,null,200000,209800,219660.59999999998]
["Infrastructure Services","MSE:AH:MRC:MUNICIPAL RUNNING COST","O/504131.JAH.000",null,null,null,null,null,null,"ADM & HO",null,null,null,null,439248,460771.15199999994,482427.39614399988]
["Infrastructure Services","MSE:AH:MRC:MUNICIPAL RUNNING COST","O/504136.JAH.000",null,null,null,null,null,null,"ADM & HO",null,null,null,null,415000,435335,455795.745]
["Infrastructure Services","MSE:AH:MRC:MUNICIPAL RUNNING COST","O/504131.JAH.000",null,null,null,null,null,null,"ADM & HO",null,null,null,null,null,0,0]
["Infrastructure Services","MSU1/O/504131.ZAH.000","O/504131.ZAH.000",null,null,null,null,null,null,"ADM & HO",null,null,null,null,null,0,0]
["Infrastructure Services","\"MSE:AH:INF:ROADS","M/504135.JAH.D33",null,null,null,null,null,null,"ADM & HO",null,null,null,null,null,0,0]
["Infrastructure Services","\"MSE:AH:INF:ROADS","M/504136.JAH.D33",null,null,null,null,null,null,"ADM & HO",null,null,null,null,1504165,1577869.085,1652028.9319949998]
["Infrastructure Services","\"MSE:AH:INF:ROADS","M/504136.JAH.D33",null,null,null,null,null,null,"ADM & HO",null,null,null,null,10868,11400.531999999999,11936.357003999998]
["Infrastructure Services","MSE:AH:NIF:TRANSPORT ASSETS:PL","M/504136.JAH.E45",null,null,null,null,null,null,"ADM & HO",null,null,null,null,223107.5,234039.76749999999,245039.63657249996]
["Infrastructure Services","MSE:AH:NIF:TRANSPORT ASSETS:PL","O/504136.JAH.000",null,null,null,null,null,null,"ADM & HO",null,null,null,null,70025,73456.224999999991,76908.667574999985]
["Infrastructure Services","MSE:AH:MRC:MUNICIPAL RUNNING COST","O/504136.JAH.000",null,null,null,null,null,null,"ADM & HO",null,null,null,null,1535784.96,1611038.4230399998,1686757.2289228796]
["Infrastructure Services","MSE:AH:MRC:MUNICIPAL RUNNING COST","O/504136.JAH.000",null,null,null,null,null,null,"ADM & HO",null,null,null,null,null,0,0]
["Infrastructure Services","\"MSE:AH:INF:ROADS","M/504137.JAH.D33",null,null,null,null,null,null,"ADM & HO",null,null,null,null,223107.5,234039.76749999999,245039.63657249996]
["Infrastructure Services","MSE:AH:INF:ROADS","M/504137.JAH.D34",null,null,null,null,null,null,"ADM & HO",null,null,null,null,108680,114005.31999999999,119363.57003999999]
["Infrastructure Services","MSE:AH:NIF:TRANSPORT ASSETS:PL","M/504140.JAH.E45",null,null,null,null,null,null,"ADM & HO",null,null,null,null,85882.5,90090.742499999993,94325.007397499983]
["Infrastructure Services","NONF:AH:MRC:MUNICIPAL RUNNING COST","O/504140.AAH.000",null,null,null,null,null,null,"ADM & HO",null,null,null,null,null,0,0]
["Infrastructure Services","MSE:AH:INF:TRANSPORTATION:PL","M/504141.JAH.D37",null,null,null,null,null,null,"ADM & HO",null,null,null,null,326041,342017.00899999996,358091.80842299992]
["Infrastructure Services","MSE:AH:NIF:BUILD & OTHER STRUCT:PL","M/504141.JAH.E27",null,null,null,null,null,null,"ADM & HO",null,null,null,null,174055,182583.69499999998,191165.12866499997]
["Infrastructure Services","MSE:AH:NIF:BUILD & OTHER STRUCT:UPL","M/504141.JAH.E28",null,null,null,null,null,null,"ADM & HO",null,null,null,null,43472,45602.127999999997,47745.428015999991]
["Infrastructure Services","MSE:AH:INF:TRANSPORTATION:PL","M/504142.JAH.D37",null,null,null,null,null,null,"ADM & HO",null,null,null,null,25561,26813.488999999998,28073.722982999996]
["Infrastructure Services","MSE:AH:INF:TRANSPORTATION:UPL","M/504142.JAH.D38",null,null,null,null,null,null,"ADM & HO",null,null,null,null,10868,11400.531999999999,11936.357003999998]
["Infrastructure Services","MSE:AH:NIF:BUILD & OTHER STRUCT:PL","M/504142.JAH.E27",null,null,null,null,null,null,"ADM & HO",null,null,null,null,43472,45602.127999999997,47745.428015999991]
["Infrastructure Services","MSE:AH:NIF:BUILD & OTHER STRUCT:UPL","M/504142.JAH.E28",null,null,null,null,null,null,"ADM & HO",null,null,null,null,43472,45602.127999999997,47745.428015999991]
["Infrastructure Services","NONF:AH:MRC:MUNICIPAL RUNNING COST","O/504161.AAH.000",null,null,null,null,null,null,"ADM & HO",null,null,null,null,null,0,0]
["Infrastructure Services","LEVS:AH:MRC:MUNICIPAL RUNNING COST","O/504161.BAH.000",null,null,null,null,null,null,"ADM & HO",null,null,null,null,null,0,0]
["Infrastructure Services","MSE:AH:MUNICIPAL RUNNING COSTS","O/504161.JAH.000",null,null,null,null,null,null,"ADM & HO",null,null,null,null,null,0,0]
["Infrastructure Services","MSE:AH:MUNICIPAL RUNNING COSTS","O/504161.JAH.000",null,null,null,null,null,null,"ADM & HO",null,null,null,null,100000,104900,109830.29999999999]
["Infrastructure Services","MSE:AH:MUNICIPAL RUNNING COSTS","O/504161.JAH.000",null,null,null,null,null,null,"ADM & HO",null,null,null,null,200000,209800,219660.59999999998]
["Infrastructure Services","MSE:AH:MUNICIPAL RUNNING COSTS","O/504161.JAH.000",null,null,null,null,null,null,"ADM & HO",null,null,null,null,1000000,1049000,1098303]
["Infrastructure Services","MSE:AH:MUNICIPAL RUNNING COSTS","O/504161.JAH.000",null,null,null,null,null,null,"ADM & HO",null,null,null,null,900000,944099.99999999988,988472.69999999984]
["Infrastructure Services","MSE:AH:MUNICIPAL RUNNING COSTS","O/504161.JAH.000",null,null,null,null,null,null,"ADM & HO",null,null,null,null,250000,262250,274575.75]
["Infrastructure Services","MSE:AH:MUNICIPAL RUNNING COSTS","O/504161.JAH.000",null,null,null,null,null,null,"ADM & HO",null,null,null,null,750000,786750,823727.25]
["Infrastructure Services","MSE:AH:MUNICIPAL RUNNING COSTS","O/504161.JAH.000",null,null,null,null,null,null,"ADM & HO",null,null,null,null,100000,104900,109830.29999999999]
["Infrastructure Services","MSE:AH:MUNICIPAL RUNNING COSTS","O/504161.JAH.000",null,null,null,null,null,null,"ADM & HO",null,null,null,null,200000,209800,219660.59999999998]
["Infrastructure Services","MSE:AH:MUNICIPAL RUNNING COSTS","O/504161.JAH.000",null,null,null,null,null,null,"ADM & HO",null,null,null,null,30000,31469.999999999996,32949.089999999997]
["Infrastructure Services","MSE:AH:MUNICIPAL RUNNING COSTS","O/504161.JAH.000",null,null,null,null,null,null,"ADM & HO",null,null,null,null,1000000,1049000,1098303]
["Infrastructure Services","MSE:AH:MUNICIPAL RUNNING COSTS","O/504161.JAH.000",null,null,null,null,null,null,"ADM & HO",null,null,null,null,500000,524500,549151.5]
["Infrastructure Services","MSE:AH:MUNICIPAL RUNNING COSTS","O/504161.JAH.000",null,null,null,null,null,null,"ADM & HO",null,null,null,null,310000,325190,340473.93]
["Infrastructure Services","LEVS:AH:MRC:MUNICIPAL RUNNING COST","O/504162.BAH.000",null,null,null,null,null,null,"ADM & HO",null,null,null,null,110000.00000000001,115390.00000000001,120813.33]
["Infrastructure Services","LEVS:AH:MRC:MUNICIPAL RUNNING COST","O/504162.BAH.000",null,null,null,null,null,null,"ADM & HO",null,null,null,null,2200000,2307800,2416266.5999999996]
["Infrastructure Services","LEVS:AH:MRC:MUNICIPAL RUNNING COST","O/504162.BAH.000",null,null,null,null,null,null,"ADM & HO",null,null,null,null,137500,144237.5,151016.66249999998]
["Infrastructure Services","LEVS:AH:MRC:MUNICIPAL RUNNING COST","O/504162.BAH.000",null,null,null,null,null,null,"ADM & HO",null,null,null,null,3500000,3671499.9999999995,3844060.4999999991]
["Infrastructure Services","WATR:AH:MRC:MUNICIPAL RUNNING COST","O/504169.ZAH.000",null,null,null,null,null,null,"ADM & HO",null,null,null,null,100000,104900,109830.29999999999]
["Infrastructure Services","WWAT:AH:INF:BULK SANITATION RETIC:PL","M/504202.WAH.D39",null,null,null,null,null,null,"ADM & HO",null,null,null,null,3449999.9999999995,3619049.9999999991,3789145.3499999987]
["Infrastructure Services","WWAT:AH:INF:BULK SANITATION RETIC:PL","M/504202.WAH.D39",null,null,null,null,null,null,"ADM & HO",null,null,null,null,5750000,6031750,6315242.25]
["Infrastructure Services","WWAT:AH:INF:BUILD & OTHER STRUCT:UPL","M/504202.WAH.E28",null,null,null,null,null,null,"ADM & HO",null,null,null,null,1150000,1206350,1263048.45]
["Infrastructure Services","WWAT:AH:NIF:TRANSPORT ASSETS:PL","M/504202.WAH.E45",null,null,null,null,null,null,"ADM & HO",null,null,null,null,1000000,1049000,1098303]
["Infrastructure Services","WWAT:AH:NIF:TRANSPORT ASSETS:PL","M/504202.WAH.E45",null,null,null,null,null,null,"ADM & HO",null,null,null,null,2000000,2098000,2196606]
["Infrastructure Services","WWAT:AH:MRC:MUNICIPAL RUNNING COST","O/504202.WAH.000",null,null,null,null,null,null,"ADM & HO",null,null,null,null,229999.99999999997,241269.99999999994,252609.68999999992]
["Infrastructure Services","WWAT:AH:MRC:MUNICIPAL RUNNING COST","O/504202.WAH.000",null,null,null,null,null,null,"ADM & HO",null,null,null,null,2002444.7564999999,2100564.5495684999,2199291.0833982192]
["Infrastructure Services","WWAT:AH:MRC:MUNICIPAL RUNNING COST","O/504202.WAH.000",null,null,null,null,null,null,"ADM & HO",null,null,null,null,2400000,2517600,2635927.1999999997]
["Infrastructure Services","WWAT:AH:MRC:MUNICIPAL RUNNING COST","O/504202.WAH.000",null,null,null,null,null,null,"ADM & HO",null,null,null,null,5750000,6031750,6315242.25]
["Infrastructure Services","WWAT:AH:MRC:MUNICIPAL RUNNING COST","O/504202.WAH.000",null,null,null,null,null,null,"ADM & HO",null,null,null,null,57499.999999999993,60317.499999999985,63152.422499999979]
["Infrastructure Services","WWAT:AH:MRC:MUNICIPAL RUNNING COST","O/504202.WAH.000",null,null,null,null,null,null,"ADM & HO",null,null,null,null,57499.999999999993,60317.499999999985,63152.422499999979]
["Infrastructure Services","WWAT:AH:MRC:MUNICIPAL RUNNING COST","O/504202.WAH.000",null,null,null,null,null,null,"ADM & HO",null,null,null,null,500000,524500,549151.5]
["Infrastructure Services","WSIG:Z1:GREATER MSUNDUZI VIP TOILETS","P/504202.007",null,null,null,null,null,null,"ZONE1: VULINDLELA",null,null,null,null,22000000,35405000,34595000]
["Infrastructure Services","WWAT:AH:NIF:TRANSPORT ASSETS:PL","M/504205.WAH.E45",null,null,null,null,null,null,"ADM & HO",null,null,null,null,114999.99999999999,120634.99999999997,126304.84499999996]
["Infrastructure Services","WWAT:AH:MRC:MUNICIPAL RUNNING COST","O/504205.WAH.000",null,null,null,null,null,null,"ADM & HO",null,null,null,null,114999.99999999999,120634.99999999997,126304.84499999996]
["Infrastructure Services","WWAT:AH:MRC:MUNICIPAL RUNNING COST","O/504207.WAH.000",null,null,null,null,null,null,"ADM & HO",null,null,null,null,114999.99999999999,120634.99999999997,126304.84499999996]
["Infrastructure Services","MIG:AH:MRC:MUNICIPAL RUNNING COST","O/504527.HAH.000",null,null,null,null,null,null,"ADM & HO",null,null,null,null,9830360,9051405,10432440]
["Infrastructure Services","MSE:AH:TWS:OCCUP HEALTH&SAFETY","O/504715.JAH.Y70",null,null,null,null,null,null,"ADM & HO",null,null,null,null,133100,139621.9,146184.12929999997]
["Infrastructure Services","WATR:AH:NIF:TRANSPORT ASSETS:PL","M/504786.ZAH.E45",null,null,null,null,null,null,"ADM & HO",null,null,null,null,100000,104900,109830.29999999999]
["Infrastructure Services","WATR:AH:INF:BULK WATER RETIC:PL","M/504787.ZAH.D63",null,null,null,null,null,null,"ADM & HO",null,null,null,null,4000000,4196000,4393212]
["Infrastructure Services","WATR:AH:INF:BULK WATER RETIC:PL","M/504787.ZAH.D63",null,null,null,null,null,null,"ADM & HO",null,null,null,null,345000,361905,378914.53499999997]
["Infrastructure Services","WATR:AH:INF:BULK WATER RETIC:PL","M/504787.ZAH.D63",null,null,null,null,null,null,"ADM & HO",null,null,null,null,2500000,2622500,2745757.5]
["Infrastructure Services","WATR:AH:INF:BULK WATER RETIC:PL","M/504787.ZAH.D63",null,null,null,null,null,null,"ADM & HO",null,null,null,null,2410400,2528509.5999999996,2647349.5511999996]
["Infrastructure Services","WATR:AH:INF:BULK WATER RETIC:UPL","M/504787.ZAH.D64",null,null,null,null,null,null,"ADM & HO",null,null,null,null,7000000,7342999.9999999991,7688120.9999999981]
["Infrastructure Services","WATR:AH:INF:BULK WATER RETIC:UPL","M/504787.ZAH.D64",null,null,null,null,null,null,"ADM & HO",null,null,null,null,1150000,1206350,1263048.45]
["Infrastructure Services","WATR:AH:INF:BULK WATER RETIC:UPL","M/504787.ZAH.D64",null,null,null,null,null,null,"ADM & HO",null,null,null,null,1724999.9999999998,1809524.9999999995,1894572.6749999993]
["Infrastructure Services","WATR:AH:INF:BULK WATER RETIC:UPL","M/504787.ZAH.D64",null,null,null,null,null,null,"ADM & HO",null,null,null,null,138000,144762,151565.81399999998]
["Infrastructure Services","WATR:AH:INF:METERS BULK:PL","M/504787.ZAH.D75",null,null,null,null,null,null,"ADM & HO",null,null,null,null,1000000,1049000,1098303]
["Infrastructure Services","WATR:AH:NIF:TRANSPORT ASSETS:PL","M/504787.ZAH.E45",null,null,null,null,null,null,"ADM & HO",null,null,null,null,1150000,1206350,1263048.45]
["Infrastructure Services","WATR:AH:NIF:TRANSPORT ASSETS:UPL","M/504787.ZAH.E46",null,null,null,null,null,null,"ADM & HO",null,null,null,null,1724999.9999999998,1809524.9999999995,1894572.6749999993]
["Infrastructure Services","NONF:AH:MRC:MUNICIPAL RUNNING COST","O/504787.ZAH.000",null,null,null,null,null,null,"ADM & HO",null,null,null,null,344278,361147.62199999997,378121.56023399998]
["Infrastructure Services","NONF:AH:MRC:MUNICIPAL RUNNING COST","O/504787.ZAH.000",null,null,null,null,null,null,"ADM & HO",null,null,null,null,20000,20980,21966.059999999998]
["Infrastructure Services","NONF:AH:MRC:MUNICIPAL RUNNING COST","O/504789.ZAH.000",null,null,null,null,null,null,"ADM & HO",null,null,null,null,100000,104900,109830.29999999999]
["Infrastructure Services","WATR:AH:MRC:MUNICIPAL RUNNING COST","O/504789.ZAH.000",null,null,null,null,null,null,"ADM & HO",null,null,null,null,100000,104900,109830.29999999999]
["Infrastructure Services","WATR:AH:MRC:MUNICIPAL RUNNING COST","O/504789.ZAH.I08",null,null,null,null,null,null,"ADM & HO",null,null,null,null,500000,524500,549151.5]
["Infrastructure Services","WATR:AH:MRC:MUNICIPAL RUNNING COST","O/504169.ZAH.000",null,null,null,null,null,null,"ADM & HO",null,null,null,null,4000000,4196000,4393212]
["Infrastructure Services","WATR:AH:MRC:MUNICIPAL RUNNING COST","O/504168.WAH.000",null,null,null,null,null,null,"ADM & HO",null,null,null,null,1800000,1888199.9999999998,1976945.3999999997]
["Infrastructure Services","WATR:AH:MRC:MUNICIPAL RUNNING COST","O/504169.ZAH.000",null,null,null,null,null,null,"ADM & HO",null,null,null,null,120000,125879.99999999999,131796.35999999999]
["Infrastructure Services","WATR:AH:MRC:MUNICIPAL RUNNING COST","O/504787.ZAH.000",null,null,null,null,null,null,"ADM & HO",null,null,null,null,57499.999999999993,60317.499999999985,63152.422499999979]
["Infrastructure Services","WATR:AH:MRC:MUNICIPAL RUNNING COST","O/504787.ZAH.000",null,null,null,null,null,null,"ADM & HO",null,null,null,null,300000,314700,329490.89999999997]
["Infrastructure Services","WATR:AH:MRC:MUNICIPAL RUNNING COST","O/504787.ZAH.000",null,null,null,null,null,null,"ADM & HO",null,null,null,null,3500000,3671499.9999999995,3844060.4999999991]
["Infrastructure Services","WATR:AH:MRC:MUNICIPAL RUNNING COST","O/504787.ZAH.000",null,null,null,null,null,null,"ADM & HO",null,null,null,null,4000000,4196000,4393212]
["Infrastructure Services","WATR:AH:NIF:TRANSPORT ASSETS:PL","M/504789.ZAH.E45",null,null,null,null,null,null,"ADM & HO",null,null,null,null,114999.99999999999,120634.99999999997,126304.84499999996]
["Infrastructure Services","WATR:AH:MRC:MUNICIPAL RUNNING COST","O/504789.ZAH.000",null,null,null,null,null,null,"ADM & HO",null,null,null,null,57499.999999999993,60317.499999999985,63152.422499999979]
["Infrastructure Services","WATR:AH:MRC:MUNICIPAL RUNNING COST","O/504789.ZAH.000",null,null,null,null,null,null,"ADM & HO",null,null,null,null,40000,41960,43932.119999999995]
["Infrastructure Services","WATR:AH:MRC:MUNICIPAL RUNNING COST","O/504789.ZAH.000",null,null,null,null,null,null,"ADM & HO",null,null,null,null,25000,26225,27457.574999999997]
["Electricity","MSU1/O/704076.JZA.99B","O/704076.JZA.99B",null,null,null,null,null,null,"ALL ZONES",null,null,null,null,2714000000,3066819999.9999995,3526842999.999999]
["Infrastructure Services","WWAT:AH:INF:METERS BULK","O/504203.WAH.H06",null,null,null,null,null,null,"ADM & HO",null,null,null,null,255826291.74879998,268361780.04449117,280974783.70658225]
["Infrastructure Services","WATR:ZA:WATER BULK PURCHASE","O/504785.ZZA.99B",null,null,null,null,null,null,"ALL ZONES",null,null,null,null,807480597.01990008,847047146.27387512,886858362.14874721]
["CITY MANAGER","LEVS:AH:MRC:MUNICIPAL RUNNING COST","O/104010.BAH.000",null,null,null,null,null,null,"ADM & HO",null,null,null,null,1207801.3048,1262152.3635159999,1318949.2198742197]
["CITY MANAGER","LEVS:AH:MRC:MUNICIPAL RUNNING COST","O/104010.BAH.000",null,null,null,null,null,null,"ADM & HO",null,null,null,null,68589.052599999995,71675.559966999994,74900.960165514989]
["CITY MANAGER","LEVS:AH:MRC:MUNICIPAL RUNNING COST","O/104010.BAH.000",null,null,null,null,null,null,"ADM & HO",null,null,null,null,101647.0134,106221.12900299999,111001.07980813499]
["CITY MANAGER","LEVS:AH:MRC:MUNICIPAL RUNNING COST","O/104010.BAH.000",null,null,null,null,null,null,"ADM & HO",null,null,null,null,274837.03720000002,287204.703874,300128.91554833]
["CITY MANAGER","LEVS:AH:MRC:MUNICIPAL RUNNING COST","O/104010.BAH.000",null,null,null,null,null,null,"ADM & HO",null,null,null,null,30853.052999999996,32241.440384999994,33692.305202324991]
["CITY MANAGER","LEVS:AH:MRC:MUNICIPAL RUNNING COST","O/104010.BAH.000",null,null,null,null,null,null,"ADM & HO",null,null,null,null,677648.58114999998,708142.7673017499,740009.19183032855]
["CITY MANAGER","LEVS:AH:MRC:MUNICIPAL RUNNING COST","O/104010.BAH.000",null,null,null,null,null,null,"ADM & HO",null,null,null,null,1718540.65695,1795874.9865127499,1876689.3609058235]
["CITY MANAGER","LEVS:AH:MRC:MUNICIPAL RUNNING COST","O/104010.BAH.000",null,null,null,null,null,null,"ADM & HO",null,null,null,null,5543897.3871999998,5793372.7696239995,6054074.5442570793]
["CITY MANAGER","LEVS:AH:MRC:MUNICIPAL RUNNING COST","O/104010.BAH.000",null,null,null,null,null,null,"ADM & HO",null,null,null,null,155307.0564,162295.873938,169599.18826520999]
["CITY MANAGER","LEVS:AH:MRC:MUNICIPAL RUNNING COST","O/104010.BAH.000",null,null,null,null,null,null,"ADM & HO",null,null,null,null,1974595.3919999998,2063452.1846399996,2156307.5329487994]
["CITY MANAGER","LEVS:AH:MRC:MUNICIPAL RUNNING COST","O/104010.BAH.000",null,null,null,null,null,null,"ADM & HO",null,null,null,null,27858211.038199998,29111830.534918997,30421862.90899035]
["CITY MANAGER","LEVS:AH:MRC:MUNICIPAL RUNNING COST","O/104010.BAH.000",null,null,null,null,null,null,"ADM & HO",null,null,null,null,5024950.599249999,5251073.3762162486,5487371.6781459795]
["CITY MANAGER","LEVS:AH:MRC:MUNICIPAL RUNNING COST","O/104010.BAH.000",null,null,null,null,null,null,"ADM & HO",null,null,null,null,1315539.8987499999,1374739.1941937499,1436602.4579324685]
["CITY MANAGER","LEVS:AH:MRC:MUNICIPAL RUNNING COST","O/104010.BAH.000",null,null,null,null,null,null,"ADM & HO",null,null,null,null,2146849.36705,2243457.5885672499,2344413.1800527759]
["CITY MANAGER","LEVS:AH:MRC:MUNICIPAL RUNNING COST","O/104010.BAH.000",null,null,null,null,null,null,"ADM & HO",null,null,null,null,246824.42399999997,257931.52307999996,269538.44161859993]
["CITY MANAGER","LEVS:AH:MRC:MUNICIPAL RUNNING COST","O/104010.BAH.000",null,null,null,null,null,null,"ADM & HO",null,null,null,null,9442847.3409999982,9867775.4713449981,10311825.367555521]
["CITY MANAGER","LEVS:AH:MRC:MUNICIPAL RUNNING COST","O/104013.BAH.000",null,null,null,null,null,null,"ADM & HO",null,null,null,null,45215.527599999994,47250.226341999987,49376.486527389985]
["CITY MANAGER","LEVS:AH:MRC:MUNICIPAL RUNNING COST","O/104013.BAH.000",null,null,null,null,null,null,"ADM & HO",null,null,null,null,147055.08904999998,153672.56805724997,160587.83361982621]
["CITY MANAGER","LEVS:AH:MRC:MUNICIPAL RUNNING COST","O/104010.BAH.000",null,null,null,null,null,null,"ADM & HO",null,null,null,null,1031739.6764999999,1078167.9619425,1126685.5202299124]
["CITY MANAGER","LEVS:AH:MRC:MUNICIPAL RUNNING COST","O/104013.BAH.000",null,null,null,null,null,null,"ADM & HO",null,null,null,null,51889.225499999993,54224.240647499988,56664.331476637482]
["CITY MANAGER","LEVS:AH:MRC:MUNICIPAL RUNNING COST","O/104013.BAH.000",null,null,null,null,null,null,"ADM & HO",null,null,null,null,980369.12064999994,1024485.7310792499,1070587.588977816]
["CITY MANAGER","LEVS:AH:MRC:MUNICIPAL RUNNING COST","O/104013.BAH.000",null,null,null,null,null,null,"ADM & HO",null,null,null,null,66938.441800000001,69950.671680999993,73098.451906644987]
["CITY MANAGER","LEVS:AH:MRC:MUNICIPAL RUNNING COST","O/104013.BAH.000",null,null,null,null,null,null,"ADM & HO",null,null,null,null,181169.30529999998,189321.92403849997,197841.41062023246]
["CITY MANAGER","LEVS:AH:MRC:MUNICIPAL RUNNING COST","O/104013.BAH.000",null,null,null,null,null,null,"ADM & HO",null,null,null,null,51889.225499999993,54224.240647499988,56664.331476637482]
["CITY MANAGER","LEVS:AH:MRC:MUNICIPAL RUNNING COST","O/104010.BAH.000",null,null,null,null,null,null,"ADM & HO",null,null,null,null,22710.162100000001,23732.119394500001,24800.064767252501]
["CITY MANAGER","LEVS:AH:MRC:MUNICIPAL RUNNING COST","O/104010.BAH.000",null,null,null,null,null,null,"ADM & HO",null,null,null,null,30853.052999999996,32241.440384999994,33692.305202324991]
["CITY MANAGER","LEVS:AH:MRC:MUNICIPAL RUNNING COST","O/104010.BAH.000",null,null,null,null,null,null,"ADM & HO",null,null,null,null,966704.50744999992,1010206.2102852499,1055665.4897480861]
["CITY MANAGER","LEVS:AH:MRC:MUNICIPAL RUNNING COST","O/104010.BAH.000",null,null,null,null,null,null,"ADM & HO",null,null,null,null,109934.59754999999,114881.65443974998,120051.32888953872]
["CITY MANAGER","LEVS:AH:MRC:MUNICIPAL RUNNING COST","O/104010.BAH.000",null,null,null,null,null,null,"ADM & HO",null,null,null,null,57669.169600000001,60264.282231999998,62976.174932439993]
["CITY MANAGER","LEVS:AH:MRC:MUNICIPAL RUNNING COST","O/104010.BAH.000",null,null,null,null,null,null,"ADM & HO",null,null,null,null,135488.53324999998,141585.51724624998,147956.86552233121]
["CITY MANAGER","LEVS:AH:MRC:MUNICIPAL RUNNING COST","O/104010.BAH.000",null,null,null,null,null,null,"ADM & HO",null,null,null,null,51889.225499999993,54224.240647499988,56664.331476637482]
["CITY MANAGER","LEVS:AH:MRC:MUNICIPAL RUNNING COST","O/104010.BAH.000",null,null,null,null,null,null,"ADM & HO",null,null,null,null,903259.85639999993,943906.54993799981,986382.34468520968]
["CITY MANAGER","LEVS:AH:MRC:MUNICIPAL RUNNING COST","O/104010.BAH.000",null,null,null,null,null,null,"ADM & HO",null,null,null,null,76221.070300000007,79651.018463500004,83235.314294357493]
["City Finance","ALNS:AH:DFT:DEFAULT TRANSACTIONS","O/204026.1AH.999",null,null,null,null,null,null,"ADM & HO",null,null,null,null,1375892.9172999999,1437808.0985784999,1502509.4630145323]
["Community Services","ALNS:AH:DFT:DEFAULT TRANSACTIONS","O/404186.1AH.999",null,null,null,null,null,null,"ADM & HO",null,null,null,null,2035061.1418499998,2126638.8932332494,2222337.6434287457]
["Infrastructure Services","ALNS:AH:DFT:DEFAULT TRANSACTIONS","O/504124.1AH.999",null,null,null,null,null,null,"ADM & HO",null,null,null,null,2751785.8241499998,2875616.1862367494,3005018.9146174029]
["Infrastructure Services","ALNS:AH:DFT:DEFAULT TRANSACTIONS","O/504205.1AH.999",null,null,null,null,null,null,"ADM & HO",null,null,null,null,5896683.9282999998,6162034.7050734991,6439326.2668018062]
["Infrastructure Services","ALNS:AH:DFT:DEFAULT TRANSACTIONS","O/504789.1AH.999",null,null,null,null,null,null,"ADM & HO",null,null,null,null,3341454.2232499998,3491819.6632962497,3648951.5481445808]
["Electricity","MSU1/O/702100.1AH.999","O/702100.1AH.999",null,null,null,null,null,null,"ADM & HO",null,null,null,null,25000000,26125000,27300625]
["Corporate Services","LEVS:AH:MRC:MUNICIPAL RUNNING COST","O/302501.BAH.000",null,null,null,null,null,null,"ADM & HO",null,null,null,null,16000000,16784000,17572848]
["CITY MANAGER","LEVS:AH:MRC:MUNICIPAL RUNNING COST","O/101011.BAH.000",null,null,null,null,null,null,"ADM & HO",null,null,null,null,1664910.0696,1739831.0227319999,1818123.4187549397]
["CITY MANAGER","LEVS:AH:MRC:MUNICIPAL RUNNING COST","O/101011.BAH.000",null,null,null,null,null,null,"ADM & HO",null,null,null,null,58575782.892699718,49273386.245742604,39015157.940201052]
["CITY MANAGER","LEVS:AH:MRC:MUNICIPAL RUNNING COST","O/101011.BAH.000",null,null,null,null,null,null,"ADM & HO",null,null,null,null,60000000,62699999.999999993,65521499.999999985]
["CITY MANAGER","LEVS:AH:MRC:MUNICIPAL RUNNING COST","O/101011.BAH.000",null,null,null,null,null,null,"ADM & HO",null,null,null,null,291646.36274999997,304770.44907374994,318485.11928206868]
["CITY MANAGER","LEVS:AH:MRC:MUNICIPAL RUNNING COST","O/101011.BAH.000",null,null,null,null,null,null,"ADM & HO",null,null,null,null,2004.4577999999997,2094.6584009999997,2188.9180290449995]
["CITY MANAGER","LEVS:AH:MRC:MUNICIPAL RUNNING COST","O/101011.BAH.000",null,null,null,null,null,null,"ADM & HO",null,null,null,null,1464786.7503,1530702.1540634998,1599583.7509963571]
["CITY MANAGER","LEVS:AH:MRC:MUNICIPAL RUNNING COST","O/101011.BAH.000",null,null,null,null,null,null,"ADM & HO",null,null,null,null,122065.18799999999,127558.12145999998,133298.23692569998]
["CITY MANAGER","LEVS:AH:MRC:MUNICIPAL RUNNING COST","O/101011.BAH.000",null,null,null,null,null,null,"ADM & HO",null,null,null,null,7415.5949999999993,7749.2967749999989,8098.0151298749979]
["CITY MANAGER","LEVS:AH:MRC:MUNICIPAL RUNNING COST","O/101011.BAH.000",null,null,null,null,null,null,"ADM & HO",null,null,null,null,13004.257049999998,13589.448617249996,14200.973805026246]
["CITY MANAGER","LEVS:AH:MRC:MUNICIPAL RUNNING COST","O/101011.BAH.000",null,null,null,null,null,null,"ADM & HO",null,null,null,null,14903.0988,15573.738245999999,16274.556467069999]
["CITY MANAGER","LEVS:AH:MRC:MUNICIPAL RUNNING COST","O/101011.BAH.000",null,null,null,null,null,null,"ADM & HO",null,null,null,null,32037.617549999999,33479.310339749994,34985.879305038739]
["CITY MANAGER","LEVS:AH:MRC:MUNICIPAL RUNNING COST","O/101011.BAH.000",null,null,null,null,null,null,"ADM & HO",null,null,null,null,5339.2283999999991,5579.4936779999989,5830.5708935099983]
["CITY MANAGER","LEVS:AH:MRC:MUNICIPAL RUNNING COST","O/101011.BAH.000",null,null,null,null,null,null,"ADM & HO",null,null,null,null,399.99269999999996,417.99237149999993,436.80202821749992]
["CITY MANAGER","LEVS:AH:MRC:MUNICIPAL RUNNING COST","O/101011.BAH.000",null,null,null,null,null,null,"ADM & HO",null,null,null,null,122817.98324999999,128344.79249624998,134120.30815858123]
["CITY MANAGER","LEVS:AH:MRC:MUNICIPAL RUNNING COST","O/101011.BAH.000",null,null,null,null,null,null,"ADM & HO",null,null,null,null,161637.49949999998,168911.18697749995,176512.19039148744]
["CITY MANAGER","LEVS:AH:MRC:MUNICIPAL RUNNING COST","O/101011.BAH.000",null,null,null,null,null,null,"ADM & HO",null,null,null,null,9204.3263999999981,9618.5210879999977,10051.354536959996]
["CITY MANAGER","LEVS:AH:MRC:MUNICIPAL RUNNING COST","O/103036.BAH.000",null,null,null,null,null,null,"ADM & HO",null,null,null,null,1384374.7346999999,1446671.5977614997,1511771.819660767]
["CITY MANAGER","LEVS:AH:MRC:MUNICIPAL RUNNING COST","O/103036.BAH.000",null,null,null,null,null,null,"ADM & HO",null,null,null,null,15505.334999999999,16203.075074999999,16932.213453374996]
["CITY MANAGER","LEVS:AH:MRC:MUNICIPAL RUNNING COST","O/103036.BAH.000",null,null,null,null,null,null,"ADM & HO",null,null,null,null,13004.257049999998,13589.448617249996,14200.973805026246]
["CITY MANAGER","LEVS:AH:MRC:MUNICIPAL RUNNING COST","O/103036.BAH.000",null,null,null,null,null,null,"ADM & HO",null,null,null,null,172200.23339999997,179949.24390299997,188046.95987863495]
["CITY MANAGER","LEVS:AH:MRC:MUNICIPAL RUNNING COST","O/103036.BAH.000",null,null,null,null,null,null,"ADM & HO",null,null,null,null,40077.920249999996,41881.426661249992,43766.09086100624]
["CITY MANAGER","LEVS:AH:MRC:MUNICIPAL RUNNING COST","O/103036.BAH.000",null,null,null,null,null,null,"ADM & HO",null,null,null,null,241565.25959999999,252435.69628199996,263795.30261468992]
["CITY MANAGER","LEVS:AH:MRC:MUNICIPAL RUNNING COST","O/103036.BAH.000",null,null,null,null,null,null,"ADM & HO",null,null,null,null,2004.4577999999997,2094.6584009999997,2188.9180290449995]
["CITY MANAGER","LEVS:AH:MRC:MUNICIPAL RUNNING COST","O/103036.BAH.000",null,null,null,null,null,null,"ADM & HO",null,null,null,null,132.58184999999997,138.54803324999997,144.78269474624997]
["CITY MANAGER","LEVS:AH:MRC:MUNICIPAL RUNNING COST","O/103036.BAH.000",null,null,null,null,null,null,"ADM & HO",null,null,null,null,1103775.3613499999,1153445.2526107498,1205350.2889782335]
["CITY MANAGER","LEVS:AH:MRC:MUNICIPAL RUNNING COST","O/103036.BAH.000",null,null,null,null,null,null,"ADM & HO",null,null,null,null,59515.767749999999,62193.977298749996,64992.706277193742]
["CITY MANAGER","LEVS:AH:MRC:MUNICIPAL RUNNING COST","O/103036.BAH.000",null,null,null,null,null,null,"ADM & HO",null,null,null,null,13004.257049999998,13589.448617249996,14200.973805026246]
["CITY MANAGER","LEVS:AH:MRC:MUNICIPAL RUNNING COST","O/103036.BAH.000",null,null,null,null,null,null,"ADM & HO",null,null,null,null,5577.4263000000001,5828.4104834999998,6090.6889552574994]
["CITY MANAGER","LEVS:AH:MRC:MUNICIPAL RUNNING COST","O/103036.BAH.000",null,null,null,null,null,null,"ADM & HO",null,null,null,null,266.29259999999999,278.27576699999997,290.79817651499997]
["CITY MANAGER","LEVS:AH:MRC:MUNICIPAL RUNNING COST","O/103036.BAH.000",null,null,null,null,null,null,"ADM & HO",null,null,null,null,88801.755449999982,92797.834445249973,96973.736995286221]
["CITY MANAGER","LEVS:AH:MRC:MUNICIPAL RUNNING COST","O/103036.BAH.000",null,null,null,null,null,null,"ADM & HO",null,null,null,null,110482.25865,115453.96028925,120649.38850226624]
["CITY MANAGER","LEVS:AH:MRC:MUNICIPAL RUNNING COST","O/103036.BAH.000",null,null,null,null,null,null,"ADM & HO",null,null,null,null,8779.6150500000003,9174.6977272499989,9587.5591249762474]
["CITY MANAGER","LEVS:AH:MRC:MUNICIPAL RUNNING COST","O/103055.BAH.000",null,null,null,null,null,null,"ADM & HO",null,null,null,null,11748292.336649999,12276965.491799248,12829428.938930213]
["CITY MANAGER","LEVS:AH:MRC:MUNICIPAL RUNNING COST","O/103055.BAH.000",null,null,null,null,null,null,"ADM & HO",null,null,null,null,979023.71084999992,1023079.7778382498,1069118.3678409709]
["CITY MANAGER","LEVS:AH:MRC:MUNICIPAL RUNNING COST","O/103055.BAH.000",null,null,null,null,null,null,"ADM & HO",null,null,null,null,128087.54999999999,133851.48974999998,139874.80678874996]
["CITY MANAGER","LEVS:AH:MRC:MUNICIPAL RUNNING COST","O/103055.BAH.000",null,null,null,null,null,null,"ADM & HO",null,null,null,null,78025.542300000001,81536.691703499993,85205.84283015749]
["CITY MANAGER","LEVS:AH:MRC:MUNICIPAL RUNNING COST","O/103055.BAH.000",null,null,null,null,null,null,"ADM & HO",null,null,null,null,467995.95329999999,489055.77119849995,511063.28090243239]
["CITY MANAGER","LEVS:AH:MRC:MUNICIPAL RUNNING COST","O/103055.BAH.000",null,null,null,null,null,null,"ADM & HO",null,null,null,null,203134.50029999999,212275.55281349996,221827.95269010746]
["CITY MANAGER","LEVS:AH:MRC:MUNICIPAL RUNNING COST","O/103055.BAH.000",null,null,null,null,null,null,"ADM & HO",null,null,null,null,23298.4512,24346.881503999997,25442.491171679994]
["CITY MANAGER","LEVS:AH:MRC:MUNICIPAL RUNNING COST","O/103055.BAH.000",null,null,null,null,null,null,"ADM & HO",null,null,null,null,782598.08219999995,817814.99589899986,854616.67071445484]
["CITY MANAGER","LEVS:AH:MRC:MUNICIPAL RUNNING COST","O/103055.BAH.000",null,null,null,null,null,null,"ADM & HO",null,null,null,null,1292634.8359499997,1350803.4035677495,1411589.5567282981]
["CITY MANAGER","LEVS:AH:MRC:MUNICIPAL RUNNING COST","O/103055.BAH.000",null,null,null,null,null,null,"ADM & HO",null,null,null,null,123507.85830000001,129065.7119235,134873.66896005749]
["CITY MANAGER","LEVS:AH:MRC:MUNICIPAL RUNNING COST","O/103055.BAH.000",null,null,null,null,null,null,"ADM & HO",null,null,null,null,4404.4139999999998,4602.6126299999996,4809.7301983499992]
["CITY MANAGER","LEVS:AH:MRC:MUNICIPAL RUNNING COST","O/103055.BAH.000",null,null,null,null,null,null,"ADM & HO",null,null,null,null,956627.48505000002,999675.72187725001,1044661.1293617262]
["CITY MANAGER","LEVS:AH:MRC:MUNICIPAL RUNNING COST","O/103055.BAH.000",null,null,null,null,null,null,"ADM & HO",null,null,null,null,2036520.1361999998,2128163.5423289998,2223930.9017338045]
["CITY MANAGER","LEVS:AH:MRC:MUNICIPAL RUNNING COST","O/103055.BAH.000",null,null,null,null,null,null,"ADM & HO",null,null,null,null,81476.046449999994,85142.468540249989,88973.879624561232]
["CITY MANAGER","LEVS:AH:MRC:MUNICIPAL RUNNING COST","O/103058.BAH.000",null,null,null,null,null,null,"ADM & HO",null,null,null,null,410086.89779999998,428540.80820099992,447825.14457004488]
["CITY MANAGER","LEVS:AH:MRC:MUNICIPAL RUNNING COST","O/103058.BAH.000",null,null,null,null,null,null,"ADM & HO",null,null,null,null,34173.538950000002,35711.348202749999,37318.358871873745]
["CITY MANAGER","LEVS:AH:MRC:MUNICIPAL RUNNING COST","O/103058.BAH.000",null,null,null,null,null,null,"ADM & HO",null,null,null,null,7774.0207499999997,8123.8516837499992,8489.425009518749]
["CITY MANAGER","LEVS:AH:MRC:MUNICIPAL RUNNING COST","O/103058.BAH.000",null,null,null,null,null,null,"ADM & HO",null,null,null,null,132.58184999999997,138.54803324999997,144.78269474624997]
["CITY MANAGER","LEVS:AH:MRC:MUNICIPAL RUNNING COST","O/103058.BAH.000",null,null,null,null,null,null,"ADM & HO",null,null,null,null,24446.744849999999,25546.848368249997,26696.456544821245]
["CITY MANAGER","LEVS:AH:MRC:MUNICIPAL RUNNING COST","O/103058.BAH.000",null,null,null,null,null,null,"ADM & HO",null,null,null,null,1047083.5262999999,1094202.2849834999,1143441.3878077574]
["CITY MANAGER","LEVS:AH:MRC:MUNICIPAL RUNNING COST","O/103058.BAH.000",null,null,null,null,null,null,"ADM & HO",null,null,null,null,2387.6021999999998,2495.0442989999997,2607.3212924549994]
["CITY MANAGER","LEVS:AH:MRC:MUNICIPAL RUNNING COST","O/104010.BAH.000",null,null,null,null,null,null,"ADM & HO",null,null,null,null,11133705.800249999,11634722.561261248,12158285.076518003]
["CITY MANAGER","LEVS:AH:MRC:MUNICIPAL RUNNING COST","O/104010.BAH.000",null,null,null,null,null,null,"ADM & HO",null,null,null,null,927807.78629999992,969559.13668349991,1013189.2978342574]
["CITY MANAGER","LEVS:AH:MRC:MUNICIPAL RUNNING COST","O/104010.BAH.000",null,null,null,null,null,null,"ADM & HO",null,null,null,null,31010.67,32406.150149999998,33864.426906749992]
["CITY MANAGER","LEVS:AH:MRC:MUNICIPAL RUNNING COST","O/104010.BAH.000",null,null,null,null,null,null,"ADM & HO",null,null,null,null,26008.514099999997,27178.897234499993,28401.947610052492]
["CITY MANAGER","LEVS:AH:MRC:MUNICIPAL RUNNING COST","O/104010.BAH.000",null,null,null,null,null,null,"ADM & HO",null,null,null,null,36589.225200000001,38235.740333999995,39956.348649029991]
["CITY MANAGER","LEVS:AH:MRC:MUNICIPAL RUNNING COST","O/104010.BAH.000",null,null,null,null,null,null,"ADM & HO",null,null,null,null,533.70344999999998,557.72010524999996,582.81750998624989]
["CITY MANAGER","LEVS:AH:MRC:MUNICIPAL RUNNING COST","O/104010.BAH.000",null,null,null,null,null,null,"ADM & HO",null,null,null,null,527094.88005000004,550814.14965224999,575600.78638660116]
["CITY MANAGER","LEVS:AH:MRC:MUNICIPAL RUNNING COST","O/104010.BAH.000",null,null,null,null,null,null,"ADM & HO",null,null,null,null,447705.31770000001,467852.0569965,488905.39956134249]
["CITY MANAGER","LEVS:AH:MRC:MUNICIPAL RUNNING COST","O/104010.BAH.000",null,null,null,null,null,null,"ADM & HO",null,null,null,null,65613.414599999989,68566.018256999989,71651.489078564977]
["CITY MANAGER","\"LEVS:AH:TWS:CAPBUIL:W/SH","O/104010.BAH.X19",null,null,null,null,null,null,"ADM & HO",null,null,null,null,1769242.9969499998,1848858.9318127497,1932057.5837443233]
["CITY MANAGER","\"LEVS:AH:TWS:CAPBUIL:W/SH","O/104010.BAH.X19",null,null,null,null,null,null,"ADM & HO",null,null,null,null,147436.6404,154071.28921799999,161004.49723280998]
["CITY MANAGER","\"LEVS:AH:TWS:CAPBUIL:W/SH","O/104010.BAH.X19",null,null,null,null,null,null,"ADM & HO",null,null,null,null,30691.574700000001,32072.695561500001,33515.966861767498]
["CITY MANAGER","\"LEVS:AH:TWS:CAPBUIL:W/SH","O/104010.BAH.X19",null,null,null,null,null,null,"ADM & HO",null,null,null,null,35395.988549999995,36988.808034749993,38653.304396313739]
["CITY MANAGER","\"LEVS:AH:TWS:CAPBUIL:W/SH","O/104010.BAH.X19",null,null,null,null,null,null,"ADM & HO",null,null,null,null,16188.4686,16916.949687,17678.212422914999]
["CITY MANAGER","\"LEVS:AH:TWS:CAPBUIL:W/SH","O/104010.BAH.X19",null,null,null,null,null,null,"ADM & HO",null,null,null,null,28030.949099999998,29292.341809499994,30610.497190927494]
["CITY MANAGER","LEVS:AH:MRC:MUNICIPAL RUNNING COST","O/104014.BAH.000",null,null,null,null,null,null,"ADM & HO",null,null,null,null,896949.92249999999,937312.66901249997,979491.73911806243]
["CITY MANAGER","LEVS:AH:MRC:MUNICIPAL RUNNING COST","O/104014.BAH.000",null,null,null,null,null,null,"ADM & HO",null,null,null,null,74745.832200000004,78109.394648999994,81624.317408204995]
["CITY MANAGER","LEVS:AH:MRC:MUNICIPAL RUNNING COST","O/104014.BAH.000",null,null,null,null,null,null,"ADM & HO",null,null,null,null,9438.0299999999988,9862.7413499999984,10306.564710749997]
["CITY MANAGER","LEVS:AH:MRC:MUNICIPAL RUNNING COST","O/104014.BAH.000",null,null,null,null,null,null,"ADM & HO",null,null,null,null,128945.9613,134748.52955849998,140812.21338863249]
["CITY MANAGER","LEVS:AH:MRC:MUNICIPAL RUNNING COST","O/104014.BAH.000",null,null,null,null,null,null,"ADM & HO",null,null,null,null,98754.382799999992,103198.33002599998,107842.25487716998]
["CITY MANAGER","LEVS:AH:MRC:MUNICIPAL RUNNING COST","O/104014.BAH.000",null,null,null,null,null,null,"ADM & HO",null,null,null,null,132.58184999999997,138.54803324999997,144.78269474624997]
["CITY MANAGER","LEVS:AH:MRC:MUNICIPAL RUNNING COST","O/104014.BAH.000",null,null,null,null,null,null,"ADM & HO",null,null,null,null,48983.375699999997,51187.627606499991,53491.070848792486]
["CITY MANAGER","LEVS:AH:MRC:MUNICIPAL RUNNING COST","O/104014.BAH.000",null,null,null,null,null,null,"ADM & HO",null,null,null,null,153034.29105,159920.83414724999,167117.27168387623]
["CITY MANAGER","LEVS:AH:MRC:MUNICIPAL RUNNING COST","O/104014.BAH.000",null,null,null,null,null,null,"ADM & HO",null,null,null,null,2387.6021999999998,2495.0442989999997,2607.3212924549994]
["CITY MANAGER","LEVS:AH:MRC:MUNICIPAL RUNNING COST","O/104015.BAH.000",null,null,null,null,null,null,"ADM & HO",null,null,null,null,524882.55554999993,548502.27054974984,573184.87272448849]
["CITY MANAGER","LEVS:AH:MRC:MUNICIPAL RUNNING COST","O/104015.BAH.000",null,null,null,null,null,null,"ADM & HO",null,null,null,null,162846.4662,170174.557179,177832.41225205499]
["CITY MANAGER","LEVS:AH:MUNICIPAL RUNNING COSTS","O/104016.BAH.000",null,null,null,null,null,null,"ADM & HO",null,null,null,null,21300,22258.5,23260.1325]
["CITY MANAGER","LEVS:AH:MUNICIPAL RUNNING COSTS","O/104016.BAH.000",null,null,null,null,null,null,"ADM & HO",null,null,null,null,38474.584049999998,40205.940332249993,42015.207647201241]
["CITY MANAGER","LEVS:AH:MUNICIPAL RUNNING COSTS","O/104016.BAH.000",null,null,null,null,null,null,"ADM & HO",null,null,null,null,32552.214899999999,34017.064570499999,35547.832476172494]
["CITY MANAGER","LEVS:AH:MUNICIPAL RUNNING COSTS","O/104016.BAH.000",null,null,null,null,null,null,"ADM & HO",null,null,null,null,1334.8070999999998,1394.8734194999997,1457.6427233774996]
["CITY MANAGER","LEVS:AH:MRC:MUNICIPAL RUNNING COST","O/104017.BAH.000",null,null,null,null,null,null,"ADM & HO",null,null,null,null,2201053.0937999999,2300100.4830209999,2403605.0047569447]
["CITY MANAGER","LEVS:AH:MRC:MUNICIPAL RUNNING COST","O/104017.BAH.000",null,null,null,null,null,null,"ADM & HO",null,null,null,null,183420.25334999998,191674.16475074997,200299.50216453371]
["CITY MANAGER","LEVS:AH:MRC:MUNICIPAL RUNNING COST","O/104017.BAH.000",null,null,null,null,null,null,"ADM & HO",null,null,null,null,12134.609999999999,12680.667449999997,13251.297485249996]
["CITY MANAGER","LEVS:AH:MRC:MUNICIPAL RUNNING COST","O/104017.BAH.000",null,null,null,null,null,null,"ADM & HO",null,null,null,null,26008.514099999997,27178.897234499993,28401.947610052492]
["CITY MANAGER","LEVS:AH:MRC:MUNICIPAL RUNNING COST","O/104017.BAH.000",null,null,null,null,null,null,"ADM & HO",null,null,null,null,115840.58249999999,121053.40871249998,126500.81210456247]
["CITY MANAGER","LEVS:AH:MRC:MUNICIPAL RUNNING COST","O/104017.BAH.000",null,null,null,null,null,null,"ADM & HO",null,null,null,null,59342.737199999996,62013.160373999992,64803.752590829987]
["CITY MANAGER","LEVS:AH:MRC:MUNICIPAL RUNNING COST","O/104017.BAH.000",null,null,null,null,null,null,"ADM & HO",null,null,null,null,667.40354999999988,697.43670974999986,728.82136168874979]
["CITY MANAGER","LEVS:AH:MRC:MUNICIPAL RUNNING COST","O/104017.BAH.000",null,null,null,null,null,null,"ADM & HO",null,null,null,null,223394.80470000001,233447.57091149999,243952.71160251746]
["CITY MANAGER","LEVS:AH:MRC:MUNICIPAL RUNNING COST","O/104017.BAH.000",null,null,null,null,null,null,"ADM & HO",null,null,null,null,520337.69999999995,543752.89649999992,568221.77684249985]
["CITY MANAGER","LEVS:AH:MRC:MUNICIPAL RUNNING COST","O/104017.BAH.000",null,null,null,null,null,null,"ADM & HO",null,null,null,null,11940.236849999999,12477.547508249998,13039.037146121247]
["CITY MANAGER","LEVS:AH:MRC:MUNICIPAL RUNNING COST","O/104018.BAH.000",null,null,null,null,null,null,"ADM & HO",null,null,null,null,2367969.1486499999,2474527.7603392499,2585881.5095545161]
["CITY MANAGER","LEVS:AH:MRC:MUNICIPAL RUNNING COST","O/104018.BAH.000",null,null,null,null,null,null,"ADM & HO",null,null,null,null,197330.11184999999,206209.96688324996,215489.41539299619]
["CITY MANAGER","LEVS:AH:MRC:MUNICIPAL RUNNING COST","O/104018.BAH.000",null,null,null,null,null,null,"ADM & HO",null,null,null,null,9438.0299999999988,9862.7413499999984,10306.564710749997]
["CITY MANAGER","LEVS:AH:MRC:MUNICIPAL RUNNING COST","O/104018.BAH.000",null,null,null,null,null,null,"ADM & HO",null,null,null,null,153325.29165,160224.92977424999,167435.05161409124]
["CITY MANAGER","LEVS:AH:MRC:MUNICIPAL RUNNING COST","O/104018.BAH.000",null,null,null,null,null,null,"ADM & HO",null,null,null,null,4097.6833500000002,4282.0791007500002,4474.7726602837502]
["CITY MANAGER","LEVS:AH:MRC:MUNICIPAL RUNNING COST","O/104018.BAH.000",null,null,null,null,null,null,"ADM & HO",null,null,null,null,1067.39625,1115.4290812499999,1165.6233899062497]
["CITY MANAGER","LEVS:AH:MRC:MUNICIPAL RUNNING COST","O/104018.BAH.000",null,null,null,null,null,null,"ADM & HO",null,null,null,null,201261.49544999999,210318.26274524996,219782.5845687862]
["CITY MANAGER","LEVS:AH:MRC:MUNICIPAL RUNNING COST","O/104018.BAH.000",null,null,null,null,null,null,"ADM & HO",null,null,null,null,245471.92455,256518.16115474998,268061.47840671369]
["CITY MANAGER","LEVS:AH:MRC:MUNICIPAL RUNNING COST","O/104018.BAH.000",null,null,null,null,null,null,"ADM & HO",null,null,null,null,20418.733799999998,21337.576820999995,22297.767777944995]
["CITY MANAGER","LEVS:AH:MRC:MUNICIPAL RUNNING COST","O/104019.BAH.000",null,null,null,null,null,null,"ADM & HO",null,null,null,null,940525.53704999993,982849.18621724984,1027077.3995970261]
["CITY MANAGER","LEVS:AH:MRC:MUNICIPAL RUNNING COST","O/104019.BAH.000",null,null,null,null,null,null,"ADM & HO",null,null,null,null,78376.097699999998,81903.02209649999,85588.65809084248]
["CITY MANAGER","LEVS:AH:MRC:MUNICIPAL RUNNING COST","O/104019.BAH.000",null,null,null,null,null,null,"ADM & HO",null,null,null,null,6741.45,7044.8152499999997,7361.8319362499988]
["CITY MANAGER","LEVS:AH:MRC:MUNICIPAL RUNNING COST","O/104019.BAH.000",null,null,null,null,null,null,"ADM & HO",null,null,null,null,13004.257049999998,13589.448617249996,14200.973805026246]
["CITY MANAGER","LEVS:AH:MRC:MUNICIPAL RUNNING COST","O/104019.BAH.000",null,null,null,null,null,null,"ADM & HO",null,null,null,null,146777.09654999999,153382.06589474998,160284.25886001371]
["CITY MANAGER","LEVS:AH:MRC:MUNICIPAL RUNNING COST","O/104019.BAH.000",null,null,null,null,null,null,"ADM & HO",null,null,null,null,17828.8881,18631.188064499998,19469.591527402496]
["CITY MANAGER","LEVS:AH:MRC:MUNICIPAL RUNNING COST","O/104019.BAH.000",null,null,null,null,null,null,"ADM & HO",null,null,null,null,132.58184999999997,138.54803324999997,144.78269474624997]
["CITY MANAGER","LEVS:AH:MRC:MUNICIPAL RUNNING COST","O/104019.BAH.000",null,null,null,null,null,null,"ADM & HO",null,null,null,null,57088.84575,59657.843808749996,62342.446780143742]
["CITY MANAGER","LEVS:AH:MRC:MUNICIPAL RUNNING COST","O/104019.BAH.000",null,null,null,null,null,null,"ADM & HO",null,null,null,null,249881.96174999999,261126.65002874998,272877.34928004374]
["CITY MANAGER","LEVS:AH:MRC:MUNICIPAL RUNNING COST","O/104019.BAH.000",null,null,null,null,null,null,"ADM & HO",null,null,null,null,2387.6021999999998,2495.0442989999997,2607.3212924549994]
["CITY MANAGER","LEVS:AH:MRC:MUNICIPAL RUNNING COST","O/104052.BAH.000",null,null,null,null,null,null,"ADM & HO",null,null,null,null,815773.87589999998,852483.70031549991,890845.46682969737]
["CITY MANAGER","LEVS:AH:MRC:MUNICIPAL RUNNING COST","O/104052.BAH.000",null,null,null,null,null,null,"ADM & HO",null,null,null,null,67980.781799999997,71039.916980999988,74236.713245144987]
["CITY MANAGER","LEVS:AH:MRC:MUNICIPAL RUNNING COST","O/104052.BAH.000",null,null,null,null,null,null,"ADM & HO",null,null,null,null,132.58184999999997,138.54803324999997,144.78269474624997]
["CITY MANAGER","LEVS:AH:MRC:MUNICIPAL RUNNING COST","O/104052.BAH.000",null,null,null,null,null,null,"ADM & HO",null,null,null,null,139183.9767,145447.25565149999,151992.38215581747]
["CITY MANAGER","LEVS:AH:MRC:MUNICIPAL RUNNING COST","O/104052.BAH.000",null,null,null,null,null,null,"ADM & HO",null,null,null,null,2387.6021999999998,2495.0442989999997,2607.3212924549994]
["CITY MANAGER","LEVS:AH:MRC:MUNICIPAL RUNNING COST","O/104053.BAH.000",null,null,null,null,null,null,"ADM & HO",null,null,null,null,5130704.1157499999,5361585.8009587498,5602857.1620018929]
["CITY MANAGER","LEVS:AH:MRC:MUNICIPAL RUNNING COST","O/104053.BAH.000",null,null,null,null,null,null,"ADM & HO",null,null,null,null,427558.48904999997,446798.62105724995,466904.55900482618]
["CITY MANAGER","LEVS:AH:MRC:MUNICIPAL RUNNING COST","O/104053.BAH.000",null,null,null,null,null,null,"ADM & HO",null,null,null,null,36403.83,38042.002350000002,39753.892455749999]
["CITY MANAGER","LEVS:AH:MRC:MUNICIPAL RUNNING COST","O/104053.BAH.000",null,null,null,null,null,null,"ADM & HO",null,null,null,null,26008.514099999997,27178.897234499993,28401.947610052492]
["CITY MANAGER","LEVS:AH:MRC:MUNICIPAL RUNNING COST","O/104053.BAH.000",null,null,null,null,null,null,"ADM & HO",null,null,null,null,293554.19309999997,306764.13178949995,320568.51772002742]
["CITY MANAGER","LEVS:AH:MRC:MUNICIPAL RUNNING COST","O/104053.BAH.000",null,null,null,null,null,null,"ADM & HO",null,null,null,null,17828.8881,18631.188064499998,19469.591527402496]
["CITY MANAGER","LEVS:AH:MRC:MUNICIPAL RUNNING COST","O/104053.BAH.000",null,null,null,null,null,null,"ADM & HO",null,null,null,null,1201.107,1255.1568149999998,1311.6388716749998]
["CITY MANAGER","LEVS:AH:MRC:MUNICIPAL RUNNING COST","O/104053.BAH.000",null,null,null,null,null,null,"ADM & HO",null,null,null,null,356611.46924999997,372658.98536624992,389428.63970773114]
["CITY MANAGER","LEVS:AH:MRC:MUNICIPAL RUNNING COST","O/104053.BAH.000",null,null,null,null,null,null,"ADM & HO",null,null,null,null,964793.62815,1008209.34141675,1053578.7617805037]
["CITY MANAGER","LEVS:AH:MRC:MUNICIPAL RUNNING COST","O/104053.BAH.000",null,null,null,null,null,null,"ADM & HO",null,null,null,null,21491.742600000001,22458.871017000001,23469.520212765001]
["CITY MANAGER","LEVS:AH:MRC:MUNICIPAL RUNNING COST","O/104056.BAH.000",null,null,null,null,null,null,"ADM & HO",null,null,null,null,4622798.7784500001,4830824.7234802498,5048211.8360368609]
["CITY MANAGER","LEVS:AH:MRC:MUNICIPAL RUNNING COST","O/104056.BAH.000",null,null,null,null,null,null,"ADM & HO",null,null,null,null,385232.30054999993,402567.75407474989,420683.30300811358]
["CITY MANAGER","LEVS:AH:MRC:MUNICIPAL RUNNING COST","O/104056.BAH.000",null,null,null,null,null,null,"ADM & HO",null,null,null,null,61347.195,64107.818774999992,66992.670619874989]
["CITY MANAGER","LEVS:AH:MRC:MUNICIPAL RUNNING COST","O/104056.BAH.000",null,null,null,null,null,null,"ADM & HO",null,null,null,null,13004.257049999998,13589.448617249996,14200.973805026246]
["CITY MANAGER","LEVS:AH:MRC:MUNICIPAL RUNNING COST","O/104056.BAH.000",null,null,null,null,null,null,"ADM & HO",null,null,null,null,157269.03989999997,164346.14669549995,171741.72329679743]
["CITY MANAGER","LEVS:AH:MRC:MUNICIPAL RUNNING COST","O/104056.BAH.000",null,null,null,null,null,null,"ADM & HO",null,null,null,null,334288.28115,349331.25380174996,365051.16022282868]
["CITY MANAGER","LEVS:AH:MRC:MUNICIPAL RUNNING COST","O/104056.BAH.000",null,null,null,null,null,null,"ADM & HO",null,null,null,null,47336.214749999999,49466.344413749997,51692.329912368747]
["CITY MANAGER","LEVS:AH:MRC:MUNICIPAL RUNNING COST","O/104056.BAH.000",null,null,null,null,null,null,"ADM & HO",null,null,null,null,667.40354999999988,697.43670974999986,728.82136168874979]
["CITY MANAGER","LEVS:AH:MRC:MUNICIPAL RUNNING COST","O/104056.BAH.000",null,null,null,null,null,null,"ADM & HO",null,null,null,null,184542.69944999999,192847.12092524997,201525.24136688621]
["CITY MANAGER","LEVS:AH:MRC:MUNICIPAL RUNNING COST","O/104056.BAH.000",null,null,null,null,null,null,"ADM & HO",null,null,null,null,501908.82285,524494.71987824992,548096.98227277107]
["CITY MANAGER","LEVS:AH:MRC:MUNICIPAL RUNNING COST","O/104056.BAH.000",null,null,null,null,null,null,"ADM & HO",null,null,null,null,23897.321999999996,24972.701489999996,26096.473057049992]
["CITY MANAGER","LEVS:AH:MRC:MUNICIPAL RUNNING COST","O/104503.BAH.000",null,null,null,null,null,null,"ADM & HO",null,null,null,null,55912.5,58428.562499999993,61057.847812499989]
["CITY MANAGER","LEVS:AH:MRC:MUNICIPAL RUNNING COST","O/104503.BAH.000",null,null,null,null,null,null,"ADM & HO",null,null,null,null,140268.23190000001,146580.30233549999,153176.41594059748]
["CITY MANAGER","LEVS:AH:MRC:MUNICIPAL RUNNING COST","O/104503.BAH.000",null,null,null,null,null,null,"ADM & HO",null,null,null,null,14157.045,14794.112024999999,15459.847066124998]
["CITY MANAGER","LEVS:AH:MRC:MUNICIPAL RUNNING COST","O/104503.BAH.000",null,null,null,null,null,null,"ADM & HO",null,null,null,null,64352.763449999991,67248.637805249993,70274.826506486235]
["CITY MANAGER","LEVS:AH:MRC:MUNICIPAL RUNNING COST","O/104503.BAH.000",null,null,null,null,null,null,"ADM & HO",null,null,null,null,12198.659099999999,12747.598759499999,13321.240703677498]
["CITY MANAGER","LEVS:AH:MRC:MUNICIPAL RUNNING COST","O/104503.BAH.000",null,null,null,null,null,null,"ADM & HO",null,null,null,null,132.58184999999997,138.54803324999997,144.78269474624997]
["CITY MANAGER","LEVS:AH:MRC:MUNICIPAL RUNNING COST","O/104503.BAH.000",null,null,null,null,null,null,"ADM & HO",null,null,null,null,40658.813849999999,42488.460473249994,44400.441194546242]
["CITY MANAGER","LEVS:AH:MRC:MUNICIPAL RUNNING COST","O/104503.BAH.000",null,null,null,null,null,null,"ADM & HO",null,null,null,null,60662.943149999999,63392.775591749996,66245.450493378739]
["CITY MANAGER","LEVS:AH:MRC:MUNICIPAL RUNNING COST","O/104503.BAH.000",null,null,null,null,null,null,"ADM & HO",null,null,null,null,14400.866099999999,15048.905074499999,15726.105802852497]
["CITY MANAGER","LEVS:AH:MRC:MUNICIPAL RUNNING COST","O/104510.BAH.000",null,null,null,null,null,null,"ADM & HO",null,null,null,null,1721174.2112999998,1798627.0508084998,1879565.2680948821]
["CITY MANAGER","LEVS:AH:MRC:MUNICIPAL RUNNING COST","O/104510.BAH.000",null,null,null,null,null,null,"ADM & HO",null,null,null,null,143431.09019999998,149885.48925899997,156630.33627565496]
["CITY MANAGER","LEVS:AH:MRC:MUNICIPAL RUNNING COST","O/104510.BAH.000",null,null,null,null,null,null,"ADM & HO",null,null,null,null,9438.0299999999988,9862.7413499999984,10306.564710749997]
["CITY MANAGER","LEVS:AH:MRC:MUNICIPAL RUNNING COST","O/104510.BAH.000",null,null,null,null,null,null,"ADM & HO",null,null,null,null,26008.514099999997,27178.897234499993,28401.947610052492]
["CITY MANAGER","LEVS:AH:MRC:MUNICIPAL RUNNING COST","O/104510.BAH.000",null,null,null,null,null,null,"ADM & HO",null,null,null,null,268856.89635,280955.45668574999,293598.45223660872]
["CITY MANAGER","LEVS:AH:MRC:MUNICIPAL RUNNING COST","O/104510.BAH.000",null,null,null,null,null,null,"ADM & HO",null,null,null,null,13766.0409,14385.512740499998,15032.860813822497]
["CITY MANAGER","LEVS:AH:MRC:MUNICIPAL RUNNING COST","O/104510.BAH.000",null,null,null,null,null,null,"ADM & HO",null,null,null,null,132.58184999999997,138.54803324999997,144.78269474624997]
["CITY MANAGER","LEVS:AH:MRC:MUNICIPAL RUNNING COST","O/104510.BAH.000",null,null,null,null,null,null,"ADM & HO",null,null,null,null,81317.617050000001,84976.909817249994,88800.870759026235]
["CITY MANAGER","LEVS:AH:MRC:MUNICIPAL RUNNING COST","O/104510.BAH.000",null,null,null,null,null,null,"ADM & HO",null,null,null,null,129889.7643,135734.8036935,141842.86985970748]
["CITY MANAGER","LEVS:AH:MRC:MUNICIPAL RUNNING COST","O/104510.BAH.000",null,null,null,null,null,null,"ADM & HO",null,null,null,null,10396.444799999999,10864.284815999999,11353.177632719999]
["City Finance","LEVS:AH:MRC:MUNICIPAL RUNNING COST","O/202035.BAH.000",null,null,null,null,null,null,"ADM & HO",null,null,null,null,1466748.5122499999,1532752.1953012499,1601726.044089806]
["City Finance","LEVS:AH:MRC:MUNICIPAL RUNNING COST","O/202035.BAH.000",null,null,null,null,null,null,"ADM & HO",null,null,null,null,16179.48,16907.5566,17668.396646999998]
["City Finance","LEVS:AH:MRC:MUNICIPAL RUNNING COST","O/202035.BAH.000",null,null,null,null,null,null,"ADM & HO",null,null,null,null,13004.257049999998,13589.448617249996,14200.973805026246]
["City Finance","LEVS:AH:MRC:MUNICIPAL RUNNING COST","O/202035.BAH.000",null,null,null,null,null,null,"ADM & HO",null,null,null,null,198301.99889999998,207225.58885049997,216550.74034877247]
["City Finance","LEVS:AH:MRC:MUNICIPAL RUNNING COST","O/202035.BAH.000",null,null,null,null,null,null,"ADM & HO",null,null,null,null,138633.42494999999,144871.92907274998,151391.16588102371]
["City Finance","LEVS:AH:MRC:MUNICIPAL RUNNING COST","O/202035.BAH.000",null,null,null,null,null,null,"ADM & HO",null,null,null,null,2004.4577999999997,2094.6584009999997,2188.9180290449995]
["City Finance","LEVS:AH:MRC:MUNICIPAL RUNNING COST","O/202035.BAH.000",null,null,null,null,null,null,"ADM & HO",null,null,null,null,132.58184999999997,138.54803324999997,144.78269474624997]
["City Finance","LEVS:AH:MRC:MUNICIPAL RUNNING COST","O/202035.BAH.000",null,null,null,null,null,null,"ADM & HO",null,null,null,null,2643755.1266999999,2762724.1074014995,2887046.6922345669]
["City Finance","LEVS:AH:MRC:MUNICIPAL RUNNING COST","O/202035.BAH.000",null,null,null,null,null,null,"ADM & HO",null,null,null,null,196926.74309999999,205788.44653949997,215048.92663377745]
["City Finance","LEVS:AH:MRC:MUNICIPAL RUNNING COST","O/202035.BAH.000",null,null,null,null,null,null,"ADM & HO",null,null,null,null,14831.189999999999,15498.593549999998,16196.030259749996]
["City Finance","LEVS:AH:MRC:MUNICIPAL RUNNING COST","O/202035.BAH.000",null,null,null,null,null,null,"ADM & HO",null,null,null,null,13004.257049999998,13589.448617249996,14200.973805026246]
["City Finance","LEVS:AH:MRC:MUNICIPAL RUNNING COST","O/202035.BAH.000",null,null,null,null,null,null,"ADM & HO",null,null,null,null,146035.53705000001,152607.13621724999,159474.45734702624]
["City Finance","LEVS:AH:MRC:MUNICIPAL RUNNING COST","O/202035.BAH.000",null,null,null,null,null,null,"ADM & HO",null,null,null,null,60484.289400000001,63206.082423,66050.356132034998]
["City Finance","LEVS:AH:MRC:MUNICIPAL RUNNING COST","O/202035.BAH.000",null,null,null,null,null,null,"ADM & HO",null,null,null,null,21972.632700000002,22961.401171500002,23994.6642242175]
["City Finance","LEVS:AH:MRC:MUNICIPAL RUNNING COST","O/202035.BAH.000",null,null,null,null,null,null,"ADM & HO",null,null,null,null,68995.375350000002,72100.167240750001,75344.674766583747]
["City Finance","LEVS:AH:MRC:MUNICIPAL RUNNING COST","O/202035.BAH.000",null,null,null,null,null,null,"ADM & HO",null,null,null,null,5339.2283999999991,5579.4936779999989,5830.5708935099983]
["City Finance","LEVS:AH:MRC:MUNICIPAL RUNNING COST","O/202035.BAH.000",null,null,null,null,null,null,"ADM & HO",null,null,null,null,933.69614999999999,975.71247674999995,1019.6195382037499]
["City Finance","LEVS:AH:MRC:MUNICIPAL RUNNING COST","O/202035.BAH.000",null,null,null,null,null,null,"ADM & HO",null,null,null,null,182335.99815,190541.11806674997,199115.4683797537]
["City Finance","LEVS:AH:MRC:MUNICIPAL RUNNING COST","O/202035.BAH.000",null,null,null,null,null,null,"ADM & HO",null,null,null,null,516516.41609999997,539759.65482449997,564048.83929160249]
["City Finance","LEVS:AH:MRC:MUNICIPAL RUNNING COST","O/202035.BAH.000",null,null,null,null,null,null,"ADM & HO",null,null,null,null,17399.68245,18182.668160249999,19000.888227461248]
["City Finance","LEVS:AH:MRC:MUNICIPAL RUNNING COST","O/203012.BAH.000",null,null,null,null,null,null,"ADM & HO",null,null,null,null,177063.06599999999,185030.90396999998,193357.29464864996]
["City Finance","LEVS:AH:MRC:MUNICIPAL RUNNING COST","O/203012.BAH.000",null,null,null,null,null,null,"ADM & HO",null,null,null,null,30336.524999999998,31701.668624999995,33128.24371312499]
["City Finance","LEVS:AH:MRC:MUNICIPAL RUNNING COST","O/203012.BAH.000",null,null,null,null,null,null,"ADM & HO",null,null,null,null,13004.257049999998,13589.448617249996,14200.973805026246]
["City Finance","LEVS:AH:MRC:MUNICIPAL RUNNING COST","O/203012.BAH.000",null,null,null,null,null,null,"ADM & HO",null,null,null,null,170199.14099999997,177858.10234499996,185861.71695052495]
["City Finance","LEVS:AH:MRC:MUNICIPAL RUNNING COST","O/203012.BAH.000",null,null,null,null,null,null,"ADM & HO",null,null,null,null,45637.369349999994,47691.050970749988,49837.14826443373]
["City Finance","LEVS:AH:MRC:MUNICIPAL RUNNING COST","O/203012.BAH.000",null,null,null,null,null,null,"ADM & HO",null,null,null,null,533.70344999999998,557.72010524999996,582.81750998624989]
["City Finance","LEVS:AH:MRC:MUNICIPAL RUNNING COST","O/203012.BAH.000",null,null,null,null,null,null,"ADM & HO",null,null,null,null,137710.97519999999,143907.96908399998,150383.82769277997]
["City Finance","LEVS:AH:MRC:MUNICIPAL RUNNING COST","O/203012.BAH.000",null,null,null,null,null,null,"ADM & HO",null,null,null,null,359435.01854999998,375609.59438474994,392512.02613206365]
["City Finance","LEVS:AH:MRC:MUNICIPAL RUNNING COST","O/203012.BAH.000",null,null,null,null,null,null,"ADM & HO",null,null,null,null,9551.5163999999986,9981.3346379999984,10430.494696709997]
["City Finance","LEVS:AH:MRC:MUNICIPAL RUNNING COST","O/203012.BAH.000",null,null,null,null,null,null,"ADM & HO",null,null,null,null,2124769.0927499998,2220383.7019237499,2320300.9685103185]
["City Finance","LEVS:AH:MRC:MUNICIPAL RUNNING COST","O/203030.BAH.000",null,null,null,null,null,null,"ADM & HO",null,null,null,null,1280196.8607000001,1337805.7194315,1398006.9768059175]
["City Finance","LEVS:AH:MRC:MUNICIPAL RUNNING COST","O/203030.BAH.000",null,null,null,null,null,null,"ADM & HO",null,null,null,null,106682.32799999999,111483.03275999999,116499.76923419998]
["City Finance","LEVS:AH:MRC:MUNICIPAL RUNNING COST","O/203030.BAH.000",null,null,null,null,null,null,"ADM & HO",null,null,null,null,10112.174999999999,10567.222874999998,11042.747904374997]
["City Finance","LEVS:AH:MRC:MUNICIPAL RUNNING COST","O/203030.BAH.000",null,null,null,null,null,null,"ADM & HO",null,null,null,null,158067.90705000001,165180.96286725,172614.10619627623]
["City Finance","LEVS:AH:MRC:MUNICIPAL RUNNING COST","O/203030.BAH.000",null,null,null,null,null,null,"ADM & HO",null,null,null,null,132.58184999999997,138.54803324999997,144.78269474624997]
["City Finance","LEVS:AH:MRC:MUNICIPAL RUNNING COST","O/203030.BAH.000",null,null,null,null,null,null,"ADM & HO",null,null,null,null,64355.010599999994,67250.986076999994,70277.280450464983]
["City Finance","LEVS:AH:MRC:MUNICIPAL RUNNING COST","O/203030.BAH.000",null,null,null,null,null,null,"ADM & HO",null,null,null,null,218421.86175000001,228250.84552874998,238522.13357754372]
["City Finance","LEVS:AH:MRC:MUNICIPAL RUNNING COST","O/203030.BAH.000",null,null,null,null,null,null,"ADM & HO",null,null,null,null,2387.6021999999998,2495.0442989999997,2607.3212924549994]
["City Finance","LEVS:AH:MRC:MUNICIPAL RUNNING COST","O/203031.BAH.000",null,null,null,null,null,null,"ADM & HO",null,null,null,null,2583893.2978500002,2700168.4962532502,2821676.0785846463]
["City Finance","LEVS:AH:MRC:MUNICIPAL RUNNING COST","O/203031.BAH.000",null,null,null,null,null,null,"ADM & HO",null,null,null,null,215324.16014999998,225013.74735674995,235139.3659878037]
["City Finance","LEVS:AH:MRC:MUNICIPAL RUNNING COST","O/203031.BAH.000",null,null,null,null,null,null,"ADM & HO",null,null,null,null,18876.059999999998,19725.482699999997,20613.129421499994]
["City Finance","LEVS:AH:MRC:MUNICIPAL RUNNING COST","O/203031.BAH.000",null,null,null,null,null,null,"ADM & HO",null,null,null,null,13004.257049999998,13589.448617249996,14200.973805026246]
["City Finance","LEVS:AH:MRC:MUNICIPAL RUNNING COST","O/203031.BAH.000",null,null,null,null,null,null,"ADM & HO",null,null,null,null,290985.70065000001,304080.05717925,317763.65975231625]
["City Finance","LEVS:AH:MRC:MUNICIPAL RUNNING COST","O/203031.BAH.000",null,null,null,null,null,null,"ADM & HO",null,null,null,null,94052.216099999991,98284.565824499979,102707.37128660247]
["City Finance","LEVS:AH:MRC:MUNICIPAL RUNNING COST","O/203031.BAH.000",null,null,null,null,null,null,"ADM & HO",null,null,null,null,35658.905099999996,37263.555829499994,38940.415841827489]
["City Finance","LEVS:AH:MRC:MUNICIPAL RUNNING COST","O/203031.BAH.000",null,null,null,null,null,null,"ADM & HO",null,null,null,null,399.99269999999996,417.99237149999993,436.80202821749992]
["City Finance","LEVS:AH:MRC:MUNICIPAL RUNNING COST","O/203031.BAH.000",null,null,null,null,null,null,"ADM & HO",null,null,null,null,168711.52769999998,176303.54644649997,184237.20603659246]
["City Finance","LEVS:AH:MRC:MUNICIPAL RUNNING COST","O/203031.BAH.000",null,null,null,null,null,null,"ADM & HO",null,null,null,null,590584.72725,617161.03997624991,644933.28677518107]
["City Finance","LEVS:AH:MRC:MUNICIPAL RUNNING COST","O/203031.BAH.000",null,null,null,null,null,null,"ADM & HO",null,null,null,null,8498.7212999999992,8881.1637584999989,9280.816127632499]
["City Finance","LEVS:AH:MRC:MUNICIPAL RUNNING COST","O/203049.BAH.000",null,null,null,null,null,null,"ADM & HO",null,null,null,null,4401402.8190000001,4599465.9458550001,4806441.9134184746]
["City Finance","LEVS:AH:MRC:MUNICIPAL RUNNING COST","O/203049.BAH.000",null,null,null,null,null,null,"ADM & HO",null,null,null,null,366783.19905,383288.44300724997,400536.42294257617]
["City Finance","LEVS:AH:MRC:MUNICIPAL RUNNING COST","O/203049.BAH.000",null,null,null,null,null,null,"ADM & HO",null,null,null,null,23595.074999999997,24656.853374999995,25766.411776874993]
["City Finance","LEVS:AH:MRC:MUNICIPAL RUNNING COST","O/203049.BAH.000",null,null,null,null,null,null,"ADM & HO",null,null,null,null,13004.257049999998,13589.448617249996,14200.973805026246]
["City Finance","LEVS:AH:MRC:MUNICIPAL RUNNING COST","O/203049.BAH.000",null,null,null,null,null,null,"ADM & HO",null,null,null,null,172281.13079999998,180033.78168599997,188135.30186186996]
["City Finance","LEVS:AH:MRC:MUNICIPAL RUNNING COST","O/203049.BAH.000",null,null,null,null,null,null,"ADM & HO",null,null,null,null,97739.789249999987,102138.07976624998,106734.29335573122]
["City Finance","LEVS:AH:MRC:MUNICIPAL RUNNING COST","O/203049.BAH.000",null,null,null,null,null,null,"ADM & HO",null,null,null,null,266.29259999999999,278.27576699999997,290.79817651499997]
["City Finance","LEVS:AH:MRC:MUNICIPAL RUNNING COST","O/203049.BAH.000",null,null,null,null,null,null,"ADM & HO",null,null,null,null,258417.75569999998,270046.55470649997,282198.64966829243]
["City Finance","LEVS:AH:MRC:MUNICIPAL RUNNING COST","O/203049.BAH.000",null,null,null,null,null,null,"ADM & HO",null,null,null,null,261176.13764999999,272929.06384424999,285210.87171724124]
["City Finance","LEVS:AH:MRC:MUNICIPAL RUNNING COST","O/203049.BAH.000",null,null,null,null,null,null,"ADM & HO",null,null,null,null,15453.650549999998,16149.064824749998,16875.772741863748]
["City Finance","LEVS:AH:MRC:MUNICIPAL RUNNING COST","O/203060.BAH.000",null,null,null,null,null,null,"ADM & HO",null,null,null,null,19434651.6054,20309210.927642997,21223125.419386931]
["City Finance","LEVS:AH:MRC:MUNICIPAL RUNNING COST","O/203060.BAH.000",null,null,null,null,null,null,"ADM & HO",null,null,null,null,618959.49029999995,646812.66736349987,675919.23739485734]
["City Finance","LEVS:AH:MRC:MUNICIPAL RUNNING COST","O/203554.BAH.000",null,null,null,null,null,null,"ADM & HO",null,null,null,null,3655788.3421499995,3820298.817546749,3992212.2643363522]
["City Finance","LEVS:AH:MRC:MUNICIPAL RUNNING COST","O/203554.BAH.000",null,null,null,null,null,null,"ADM & HO",null,null,null,null,304648.37264999998,318357.54941924993,332683.63914311613]
["City Finance","LEVS:AH:MRC:MUNICIPAL RUNNING COST","O/203554.BAH.000",null,null,null,null,null,null,"ADM & HO",null,null,null,null,22246.785,23247.890324999997,24294.045389624996]
["City Finance","LEVS:AH:MRC:MUNICIPAL RUNNING COST","O/203554.BAH.000",null,null,null,null,null,null,"ADM & HO",null,null,null,null,39012.77115,40768.345851749997,42602.921415078745]
["City Finance","LEVS:AH:MRC:MUNICIPAL RUNNING COST","O/203554.BAH.000",null,null,null,null,null,null,"ADM & HO",null,null,null,null,158853.28065,166001.67827924999,173471.75380181623]
["City Finance","LEVS:AH:MRC:MUNICIPAL RUNNING COST","O/203554.BAH.000",null,null,null,null,null,null,"ADM & HO",null,null,null,null,106037.39595000001,110809.07876775,115795.48731229875]
["City Finance","LEVS:AH:MRC:MUNICIPAL RUNNING COST","O/203554.BAH.000",null,null,null,null,null,null,"ADM & HO",null,null,null,null,42035.187900000004,43926.771355500001,45903.476066497497]
["City Finance","LEVS:AH:MRC:MUNICIPAL RUNNING COST","O/203554.BAH.000",null,null,null,null,null,null,"ADM & HO",null,null,null,null,1467.3889499999998,1533.4214527499996,1602.4254181237495]
["City Finance","LEVS:AH:MRC:MUNICIPAL RUNNING COST","O/203554.BAH.000",null,null,null,null,null,null,"ADM & HO",null,null,null,null,246841.56779999999,257949.43835099996,269557.16307679494]
["City Finance","LEVS:AH:MRC:MUNICIPAL RUNNING COST","O/203554.BAH.000",null,null,null,null,null,null,"ADM & HO",null,null,null,null,556622.4310499999,581670.4404472498,607845.61026737595]
["City Finance","LEVS:AH:MRC:MUNICIPAL RUNNING COST","O/203554.BAH.000",null,null,null,null,null,null,"ADM & HO",null,null,null,null,25064.711099999997,26192.623099499993,27371.291138977493]
["City Finance","LEVS:AH:MRC:MUNICIPAL RUNNING COST","O/204020.BAH.000",null,null,null,null,null,null,"ADM & HO",null,null,null,null,19170038.137649998,20032689.853844248,20934160.897267237]
["City Finance","LEVS:AH:MRC:MUNICIPAL RUNNING COST","O/204020.BAH.000",null,null,null,null,null,null,"ADM & HO",null,null,null,null,2372358.9508499997,2479115.1036382494,2590675.2833019705]
["City Finance","LEVS:AH:MRC:MUNICIPAL RUNNING COST","O/204020.BAH.000",null,null,null,null,null,null,"ADM & HO",null,null,null,null,48538.439999999995,50722.669799999989,53005.189940999982]
["City Finance","LEVS:AH:MRC:MUNICIPAL RUNNING COST","O/204020.BAH.000",null,null,null,null,null,null,"ADM & HO",null,null,null,null,26008.514099999997,27178.897234499993,28401.947610052492]
["City Finance","LEVS:AH:MRC:MUNICIPAL RUNNING COST","O/204020.BAH.000",null,null,null,null,null,null,"ADM & HO",null,null,null,null,0,0,0]
["City Finance","LEVS:AH:MRC:MUNICIPAL RUNNING COST","O/204020.BAH.000",null,null,null,null,null,null,"ADM & HO",null,null,null,null,147504.05489999999,154141.73737049999,161078.11555217247]
["City Finance","LEVS:AH:MRC:MUNICIPAL RUNNING COST","O/204020.BAH.000",null,null,null,null,null,null,"ADM & HO",null,null,null,null,0,0,0]
["City Finance","LEVS:AH:MRC:MUNICIPAL RUNNING COST","O/204020.BAH.000",null,null,null,null,null,null,"ADM & HO",null,null,null,null,3393961.6598999999,3546689.9345954997,3706290.9816522971]
["City Finance","LEVS:AH:MRC:MUNICIPAL RUNNING COST","O/204020.BAH.000",null,null,null,null,null,null,"ADM & HO",null,null,null,null,253799.86244999999,265220.85626024997,277155.79479196121]
["City Finance","LEVS:AH:MRC:MUNICIPAL RUNNING COST","O/204020.BAH.000",null,null,null,null,null,null,"ADM & HO",null,null,null,null,81276.050099999993,84933.472354499987,88755.478610452483]
["City Finance","LEVS:AH:MRC:MUNICIPAL RUNNING COST","O/204020.BAH.000",null,null,null,null,null,null,"ADM & HO",null,null,null,null,17886.195749999999,18691.074558749999,19532.172913893748]
["City Finance","LEVS:AH:MRC:MUNICIPAL RUNNING COST","O/204020.BAH.000",null,null,null,null,null,null,"ADM & HO",null,null,null,null,11558039.085899999,12078150.844765499,12621667.632779947]
["City Finance","LEVS:AH:MRC:MUNICIPAL RUNNING COST","O/204020.BAH.000",null,null,null,null,null,null,"ADM & HO",null,null,null,null,8465753.5220999997,8846712.4305944983,9244814.4899712503]
["City Finance","LEVS:AH:MRC:MUNICIPAL RUNNING COST","O/204020.BAH.000",null,null,null,null,null,null,"ADM & HO",null,null,null,null,402922.98359999998,421054.51786199992,440001.97116578987]
["City Finance","LEVS:AH:MRC:MUNICIPAL RUNNING COST","O/204022.BAH.000",null,null,null,null,null,null,"ADM & HO",null,null,null,null,4095636.4945499995,4279940.1368047493,4472537.4429609627]
["City Finance","LEVS:AH:MRC:MUNICIPAL RUNNING COST","O/204022.BAH.000",null,null,null,null,null,null,"ADM & HO",null,null,null,null,341302.76520000002,356661.38963400002,372711.15216752997]
["City Finance","LEVS:AH:MRC:MUNICIPAL RUNNING COST","O/204022.BAH.000",null,null,null,null,null,null,"ADM & HO",null,null,null,null,6741.45,7044.8152499999997,7361.8319362499988]
["City Finance","LEVS:AH:MRC:MUNICIPAL RUNNING COST","O/204022.BAH.000",null,null,null,null,null,null,"ADM & HO",null,null,null,null,39012.77115,40768.345851749997,42602.921415078745]
["City Finance","LEVS:AH:MRC:MUNICIPAL RUNNING COST","O/204022.BAH.000",null,null,null,null,null,null,"ADM & HO",null,null,null,null,0,0,0]
["City Finance","LEVS:AH:MRC:MUNICIPAL RUNNING COST","O/204022.BAH.000",null,null,null,null,null,null,"ADM & HO",null,null,null,null,0,0,0]
["City Finance","LEVS:AH:MRC:MUNICIPAL RUNNING COST","O/204022.BAH.000",null,null,null,null,null,null,"ADM & HO",null,null,null,null,0,0,0]
["City Finance","LEVS:AH:MRC:MUNICIPAL RUNNING COST","O/204022.BAH.000",null,null,null,null,null,null,"ADM & HO",null,null,null,null,497405.53424999997,519788.78329124994,543179.27853935619]
["City Finance","LEVS:AH:MRC:MUNICIPAL RUNNING COST","O/204022.BAH.000",null,null,null,null,null,null,"ADM & HO",null,null,null,null,64537.029750000002,67441.196088750003,70476.049912743751]
["City Finance","LEVS:AH:MRC:MUNICIPAL RUNNING COST","O/204022.BAH.000",null,null,null,null,null,null,"ADM & HO",null,null,null,null,1734.7998,1812.8657909999999,1894.4447515949998]
["City Finance","LEVS:AH:MRC:MUNICIPAL RUNNING COST","O/204022.BAH.000",null,null,null,null,null,null,"ADM & HO",null,null,null,null,263546.88089999999,275406.49054049997,287799.78261482244]
["City Finance","LEVS:AH:MRC:MUNICIPAL RUNNING COST","O/204022.BAH.000",null,null,null,null,null,null,"ADM & HO",null,null,null,null,814180.64654999995,850818.77564474987,889105.62054876355]
["City Finance","LEVS:AH:MRC:MUNICIPAL RUNNING COST","O/204022.BAH.000",null,null,null,null,null,null,"ADM & HO",null,null,null,null,29605.082999999999,30937.311734999996,32329.490763074995]
["City Finance","LEVS:AH:MRC:MUNICIPAL RUNNING COST","O/204023.BAH.000",null,null,null,null,null,null,"ADM & HO",null,null,null,null,6660621.356399999,6960349.317437998,7273565.0367227076]
["City Finance","LEVS:AH:MRC:MUNICIPAL RUNNING COST","O/204023.BAH.000",null,null,null,null,null,null,"ADM & HO",null,null,null,null,667738.37534999999,697786.60224074998,729186.99934158369]
["City Finance","LEVS:AH:MRC:MUNICIPAL RUNNING COST","O/204023.BAH.000",null,null,null,null,null,null,"ADM & HO",null,null,null,null,26291.654999999999,27474.779474999996,28711.144551374993]
["City Finance","LEVS:AH:MRC:MUNICIPAL RUNNING COST","O/204023.BAH.000",null,null,null,null,null,null,"ADM & HO",null,null,null,null,39012.77115,40768.345851749997,42602.921415078745]
["City Finance","LEVS:AH:MRC:MUNICIPAL RUNNING COST","O/204023.BAH.000",null,null,null,null,null,null,"ADM & HO",null,null,null,null,0,0,0]
["City Finance","LEVS:AH:MRC:MUNICIPAL RUNNING COST","O/204023.BAH.000",null,null,null,null,null,null,"ADM & HO",null,null,null,null,500963.89094999997,523507.26604274992,547065.09301467368]
["City Finance","LEVS:AH:MRC:MUNICIPAL RUNNING COST","O/204023.BAH.000",null,null,null,null,null,null,"ADM & HO",null,null,null,null,419954.13344999996,438852.06945524993,458600.41258073616]
["City Finance","LEVS:AH:MRC:MUNICIPAL RUNNING COST","O/204023.BAH.000",null,null,null,null,null,null,"ADM & HO",null,null,null,null,42123.955650000004,44019.533654250001,46000.41266869125]
["City Finance","LEVS:AH:MRC:MUNICIPAL RUNNING COST","O/204023.BAH.000",null,null,null,null,null,null,"ADM & HO",null,null,null,null,4671.8248499999991,4882.056968249999,5101.7495318212486]
["City Finance","LEVS:AH:MRC:MUNICIPAL RUNNING COST","O/204023.BAH.000",null,null,null,null,null,null,"ADM & HO",null,null,null,null,908624.99564999994,949513.1204542499,992241.21087469114]
["City Finance","LEVS:AH:MRC:MUNICIPAL RUNNING COST","O/204023.BAH.000",null,null,null,null,null,null,"ADM & HO",null,null,null,null,2787916.3063499997,2913372.5401357496,3044474.3044418581]
["City Finance","LEVS:AH:MRC:MUNICIPAL RUNNING COST","O/204023.BAH.000",null,null,null,null,null,null,"ADM & HO",null,null,null,null,81663.678149999992,85338.543666749989,89178.77813175373]
["City Finance","LEVS:AH:MRC:MUNICIPAL RUNNING COST","O/204024.BAH.000",null,null,null,null,null,null,"ADM & HO",null,null,null,null,13789726.372200001,14410264.058948999,15058725.941601703]
["City Finance","LEVS:AH:MRC:MUNICIPAL RUNNING COST","O/204024.BAH.000",null,null,null,null,null,null,"ADM & HO",null,null,null,null,1364588.57895,1425995.0650027499,1490164.8429278736]
["City Finance","LEVS:AH:MRC:MUNICIPAL RUNNING COST","O/204024.BAH.000",null,null,null,null,null,null,"ADM & HO",null,null,null,null,78874.964999999997,82424.338424999994,86133.433654124994]
["City Finance","LEVS:AH:MRC:MUNICIPAL RUNNING COST","O/204024.BAH.000",null,null,null,null,null,null,"ADM & HO",null,null,null,null,78025.542300000001,81536.691703499993,85205.84283015749]
["City Finance","LEVS:AH:MRC:MUNICIPAL RUNNING COST","O/204024.BAH.000",null,null,null,null,null,null,"ADM & HO",null,null,null,null,0,0,0]
["City Finance","LEVS:AH:MRC:MUNICIPAL RUNNING COST","O/204024.BAH.000",null,null,null,null,null,null,"ADM & HO",null,null,null,null,147502.92599999998,154140.55766999998,161076.88276514996]
["City Finance","LEVS:AH:MRC:MUNICIPAL RUNNING COST","O/204024.BAH.000",null,null,null,null,null,null,"ADM & HO",null,null,null,null,0,0,0]
["City Finance","LEVS:AH:MRC:MUNICIPAL RUNNING COST","O/204024.BAH.000",null,null,null,null,null,null,"ADM & HO",null,null,null,null,1072065.8276999998,1120308.7899464997,1170722.6854940921]
["City Finance","LEVS:AH:MRC:MUNICIPAL RUNNING COST","O/204024.BAH.000",null,null,null,null,null,null,"ADM & HO",null,null,null,null,56423.689349999993,58962.75537074999,61616.079362433738]
["City Finance","LEVS:AH:MRC:MUNICIPAL RUNNING COST","O/204024.BAH.000",null,null,null,null,null,null,"ADM & HO",null,null,null,null,830275.8637499999,867638.27761874988,906682.00011159352]
["City Finance","LEVS:AH:MRC:MUNICIPAL RUNNING COST","O/204024.BAH.000",null,null,null,null,null,null,"ADM & HO",null,null,null,null,275546.66190000001,287946.26168549998,300903.84346134745]
["City Finance","LEVS:AH:MRC:MUNICIPAL RUNNING COST","O/204024.BAH.000",null,null,null,null,null,null,"ADM & HO",null,null,null,null,0,0,0]
["City Finance","LEVS:AH:MRC:MUNICIPAL RUNNING COST","O/204024.BAH.000",null,null,null,null,null,null,"ADM & HO",null,null,null,null,16018.814099999998,16739.660734499997,17492.945467552498]
["City Finance","LEVS:AH:MRC:MUNICIPAL RUNNING COST","O/204024.BAH.000",null,null,null,null,null,null,"ADM & HO",null,null,null,null,8542.546049999999,8926.9606222499988,9328.673850251249]
["City Finance","LEVS:AH:MRC:MUNICIPAL RUNNING COST","O/204024.BAH.000",null,null,null,null,null,null,"ADM & HO",null,null,null,null,1902948.4219499999,1988581.1009377497,2078067.2504799482]
["City Finance","LEVS:AH:MRC:MUNICIPAL RUNNING COST","O/204024.BAH.000",null,null,null,null,null,null,"ADM & HO",null,null,null,null,5800216.0782000003,6061225.8017189996,6333980.9627963537]
["City Finance","LEVS:AH:MRC:MUNICIPAL RUNNING COST","O/204024.BAH.000",null,null,null,null,null,null,"ADM & HO",null,null,null,null,155670.198,162675.35691,169995.74797095]
["City Finance","LEVS:AH:MRC:MUNICIPAL RUNNING COST","O/204025.BAH.000",null,null,null,null,null,null,"ADM & HO",null,null,null,null,785428.36230000004,820772.63860349997,857707.40734065743]
["City Finance","LEVS:AH:MRC:MUNICIPAL RUNNING COST","O/204025.BAH.000",null,null,null,null,null,null,"ADM & HO",null,null,null,null,65451.619799999993,68396.942690999989,71474.805112094982]
["City Finance","LEVS:AH:MRC:MUNICIPAL RUNNING COST","O/204025.BAH.000",null,null,null,null,null,null,"ADM & HO",null,null,null,null,7415.5949999999993,7749.2967749999989,8098.0151298749979]
["City Finance","LEVS:AH:MRC:MUNICIPAL RUNNING COST","O/204025.BAH.000",null,null,null,null,null,null,"ADM & HO",null,null,null,null,13004.257049999998,13589.448617249996,14200.973805026246]
["City Finance","LEVS:AH:MRC:MUNICIPAL RUNNING COST","O/204025.BAH.000",null,null,null,null,null,null,"ADM & HO",null,null,null,null,64356.128850000001,67252.154648249998,70278.501607421247]
["City Finance","LEVS:AH:MRC:MUNICIPAL RUNNING COST","O/204025.BAH.000",null,null,null,null,null,null,"ADM & HO",null,null,null,null,0,0,0]
["City Finance","LEVS:AH:MRC:MUNICIPAL RUNNING COST","O/204025.BAH.000",null,null,null,null,null,null,"ADM & HO",null,null,null,null,13766.0409,14385.512740499998,15032.860813822497]
["City Finance","LEVS:AH:MRC:MUNICIPAL RUNNING COST","O/204025.BAH.000",null,null,null,null,null,null,"ADM & HO",null,null,null,null,266.29259999999999,278.27576699999997,290.79817651499997]
["City Finance","LEVS:AH:MRC:MUNICIPAL RUNNING COST","O/204025.BAH.000",null,null,null,null,null,null,"ADM & HO",null,null,null,null,20232.22035,21142.670265749999,22094.090427708747]
["City Finance","LEVS:AH:MRC:MUNICIPAL RUNNING COST","O/204025.BAH.000",null,null,null,null,null,null,"ADM & HO",null,null,null,null,181293.32055,189451.51997475,197976.83837361375]
["City Finance","LEVS:AH:MRC:MUNICIPAL RUNNING COST","O/204025.BAH.000",null,null,null,null,null,null,"ADM & HO",null,null,null,null,4775.1937499999995,4990.0774687499988,5214.6309548437484]
["City Finance","LEVS:AH:MRC:MUNICIPAL RUNNING COST","O/204026.BAH.000",null,null,null,null,null,null,"ADM & HO",null,null,null,null,2149273.1346,2245990.4256569999,2347059.9948115647]
["City Finance","LEVS:AH:MRC:MUNICIPAL RUNNING COST","O/204026.BAH.000",null,null,null,null,null,null,"ADM & HO",null,null,null,null,179105.72534999999,187165.48299074997,195587.9297253337]
["City Finance","LEVS:AH:MRC:MUNICIPAL RUNNING COST","O/204026.BAH.000",null,null,null,null,null,null,"ADM & HO",null,null,null,null,0,0,0]
["City Finance","LEVS:AH:MRC:MUNICIPAL RUNNING COST","O/204026.BAH.000",null,null,null,null,null,null,"ADM & HO",null,null,null,null,145383.86355000001,151926.13740974999,158762.81359318874]
["City Finance","LEVS:AH:MRC:MUNICIPAL RUNNING COST","O/204026.BAH.000",null,null,null,null,null,null,"ADM & HO",null,null,null,null,345019.55129999999,360545.43110849999,376769.97550838249]
["City Finance","LEVS:AH:MRC:MUNICIPAL RUNNING COST","O/204026.BAH.000",null,null,null,null,null,null,"ADM & HO",null,null,null,null,4953.8474999999999,5176.7706374999998,5409.7253161874996]
["City Finance","LEVS:AH:MRC:MUNICIPAL RUNNING COST","O/204026.BAH.000",null,null,null,null,null,null,"ADM & HO",null,null,null,null,933.69614999999999,975.71247674999995,1019.6195382037499]
["City Finance","LEVS:AH:MRC:MUNICIPAL RUNNING COST","O/204026.BAH.000",null,null,null,null,null,null,"ADM & HO",null,null,null,null,126150.50669999998,131827.27950149999,137759.50707906747]
["City Finance","LEVS:AH:MRC:MUNICIPAL RUNNING COST","O/204026.BAH.000",null,null,null,null,null,null,"ADM & HO",null,null,null,null,322043.56079999998,336535.52103599993,351679.61948261992]
["City Finance","LEVS:AH:MRC:MUNICIPAL RUNNING COST","O/204026.BAH.000",null,null,null,null,null,null,"ADM & HO",null,null,null,null,16716.548849999999,17468.79354825,18254.889257921248]
["City Finance","LEVS:AH:MRC:MUNICIPAL RUNNING COST","O/204027.BAH.000",null,null,null,null,null,null,"ADM & HO",null,null,null,null,1600605.6251999999,1672632.8783339998,1747901.3578590297]
["City Finance","LEVS:AH:MRC:MUNICIPAL RUNNING COST","O/204027.BAH.000",null,null,null,null,null,null,"ADM & HO",null,null,null,null,133382.96429999999,139385.19769349997,145657.53158970745]
["City Finance","LEVS:AH:MRC:MUNICIPAL RUNNING COST","O/204027.BAH.000",null,null,null,null,null,null,"ADM & HO",null,null,null,null,0,0,0]
["City Finance","LEVS:AH:MRC:MUNICIPAL RUNNING COST","O/204027.BAH.000",null,null,null,null,null,null,"ADM & HO",null,null,null,null,13004.257049999998,13589.448617249996,14200.973805026246]
["City Finance","LEVS:AH:MRC:MUNICIPAL RUNNING COST","O/204027.BAH.000",null,null,null,null,null,null,"ADM & HO",null,null,null,null,0,0,0]
["City Finance","LEVS:AH:MRC:MUNICIPAL RUNNING COST","O/204027.BAH.000",null,null,null,null,null,null,"ADM & HO",null,null,null,null,8151.5419499999989,8518.3613377499987,8901.6875979487486]
["City Finance","LEVS:AH:MRC:MUNICIPAL RUNNING COST","O/204027.BAH.000",null,null,null,null,null,null,"ADM & HO",null,null,null,null,399.99269999999996,417.99237149999993,436.80202821749992]
["City Finance","LEVS:AH:MRC:MUNICIPAL RUNNING COST","O/204027.BAH.000",null,null,null,null,null,null,"ADM & HO",null,null,null,null,108587.91119999999,113474.36720399998,118580.71372817997]
["City Finance","LEVS:AH:MRC:MUNICIPAL RUNNING COST","O/204027.BAH.000",null,null,null,null,null,null,"ADM & HO",null,null,null,null,274556.78699999995,286911.8424149999,299822.87532367487]
["City Finance","LEVS:AH:MRC:MUNICIPAL RUNNING COST","O/204027.BAH.000",null,null,null,null,null,null,"ADM & HO",null,null,null,null,7163.9142000000002,7486.2903389999992,7823.1734042549988]
["City Finance","LEVS:AH:MRC:MUNICIPAL RUNNING COST","O/204032.BAH.000",null,null,null,null,null,null,"ADM & HO",null,null,null,null,2045060.4350999999,2137088.1546794996,2233257.1216400769]
["City Finance","LEVS:AH:MRC:MUNICIPAL RUNNING COST","O/204032.BAH.000",null,null,null,null,null,null,"ADM & HO",null,null,null,null,170421.60884999999,178090.58124824998,186104.65740442122]
["City Finance","LEVS:AH:MRC:MUNICIPAL RUNNING COST","O/204032.BAH.000",null,null,null,null,null,null,"ADM & HO",null,null,null,null,2696.58,2817.9260999999997,2944.7327744999993]
["City Finance","LEVS:AH:MRC:MUNICIPAL RUNNING COST","O/204032.BAH.000",null,null,null,null,null,null,"ADM & HO",null,null,null,null,26008.514099999997,27178.897234499993,28401.947610052492]
["City Finance","LEVS:AH:MRC:MUNICIPAL RUNNING COST","O/204032.BAH.000",null,null,null,null,null,null,"ADM & HO",null,null,null,null,59557.345349999996,62237.42589074999,65038.110055833735]
["City Finance","LEVS:AH:MRC:MUNICIPAL RUNNING COST","O/204032.BAH.000",null,null,null,null,null,null,"ADM & HO",null,null,null,null,588861.16319999995,615359.91554399987,643051.11174347985]
["City Finance","LEVS:AH:MRC:MUNICIPAL RUNNING COST","O/204032.BAH.000",null,null,null,null,null,null,"ADM & HO",null,null,null,null,20181.654149999998,21089.828586749998,22038.870873153748]
["City Finance","LEVS:AH:MRC:MUNICIPAL RUNNING COST","O/204032.BAH.000",null,null,null,null,null,null,"ADM & HO",null,null,null,null,667.40354999999988,697.43670974999986,728.82136168874979]
["City Finance","LEVS:AH:MRC:MUNICIPAL RUNNING COST","O/204032.BAH.000",null,null,null,null,null,null,"ADM & HO",null,null,null,null,218108.37899999999,227923.25605499998,238179.80257747497]
["City Finance","LEVS:AH:MRC:MUNICIPAL RUNNING COST","O/204032.BAH.000",null,null,null,null,null,null,"ADM & HO",null,null,null,null,450131.11079999997,470387.01078599994,491554.42627136991]
["City Finance","LEVS:AH:MRC:MUNICIPAL RUNNING COST","O/204032.BAH.000",null,null,null,null,null,null,"ADM & HO",null,null,null,null,11940.236849999999,12477.547508249998,13039.037146121247]
["City Finance","LEVS:AH:MRC:MUNICIPAL RUNNING COST","O/204033.BAH.000",null,null,null,null,null,null,"ADM & HO",null,null,null,null,664589.29814999993,694495.81656674983,725748.12831225351]
["City Finance","LEVS:AH:MRC:MUNICIPAL RUNNING COST","O/204033.BAH.000",null,null,null,null,null,null,"ADM & HO",null,null,null,null,150906.23999999999,157697.02079999997,164793.38673599996]
["City Finance","LEVS:AH:MRC:MUNICIPAL RUNNING COST","O/204033.BAH.000",null,null,null,null,null,null,"ADM & HO",null,null,null,null,22246.785,23247.890324999997,24294.045389624996]
["City Finance","LEVS:AH:MRC:MUNICIPAL RUNNING COST","O/204033.BAH.000",null,null,null,null,null,null,"ADM & HO",null,null,null,null,39012.77115,40768.345851749997,42602.921415078745]
["City Finance","LEVS:AH:MRC:MUNICIPAL RUNNING COST","O/204033.BAH.000",null,null,null,null,null,null,"ADM & HO",null,null,null,null,146777.09654999999,153382.06589474998,160284.25886001371]
["City Finance","LEVS:AH:MRC:MUNICIPAL RUNNING COST","O/204033.BAH.000",null,null,null,null,null,null,"ADM & HO",null,null,null,null,0,0,0]
["City Finance","LEVS:AH:MRC:MUNICIPAL RUNNING COST","O/204033.BAH.000",null,null,null,null,null,null,"ADM & HO",null,null,null,null,17828.8881,18631.188064499998,19469.591527402496]
["City Finance","LEVS:AH:MRC:MUNICIPAL RUNNING COST","O/204033.BAH.000",null,null,null,null,null,null,"ADM & HO",null,null,null,null,399.99269999999996,417.99237149999993,436.80202821749992]
["City Finance","LEVS:AH:MRC:MUNICIPAL RUNNING COST","O/204033.BAH.000",null,null,null,null,null,null,"ADM & HO",null,null,null,null,118441.66395,123771.53882774999,129341.25807499872]
["City Finance","LEVS:AH:MRC:MUNICIPAL RUNNING COST","O/204033.BAH.000",null,null,null,null,null,null,"ADM & HO",null,null,null,null,1544668.12965,1614178.1954842499,1686816.2142810409]
["City Finance","LEVS:AH:MRC:MUNICIPAL RUNNING COST","O/204033.BAH.000",null,null,null,null,null,null,"ADM & HO",null,null,null,null,7163.9142000000002,7486.2903389999992,7823.1734042549988]
["City Finance","LEVS:AH:MRC:MUNICIPAL RUNNING COST","O/204037.BAH.000",null,null,null,null,null,null,"ADM & HO",null,null,null,null,5406653.5287000006,5649952.9374914998,5904200.8196786167]
["City Finance","LEVS:AH:MRC:MUNICIPAL RUNNING COST","O/204037.BAH.000",null,null,null,null,null,null,"ADM & HO",null,null,null,null,598137.39839999995,625053.58132799994,653180.99248775991]
["City Finance","LEVS:AH:MRC:MUNICIPAL RUNNING COST","O/204037.BAH.000",null,null,null,null,null,null,"ADM & HO",null,null,null,null,39774.555,41564.409974999995,43434.808423874994]
["City Finance","LEVS:AH:MRC:MUNICIPAL RUNNING COST","O/204037.BAH.000",null,null,null,null,null,null,"ADM & HO",null,null,null,null,13004.257049999998,13589.448617249996,14200.973805026246]
["City Finance","LEVS:AH:MRC:MUNICIPAL RUNNING COST","O/204037.BAH.000",null,null,null,null,null,null,"ADM & HO",null,null,null,null,147506.30205,154144.08564224999,161080.56949615123]
["City Finance","LEVS:AH:MRC:MUNICIPAL RUNNING COST","O/204037.BAH.000",null,null,null,null,null,null,"ADM & HO",null,null,null,null,748867.23179999995,782566.25723099988,817781.73880639486]
["City Finance","LEVS:AH:MRC:MUNICIPAL RUNNING COST","O/204037.BAH.000",null,null,null,null,null,null,"ADM & HO",null,null,null,null,0,0,0]
["City Finance","LEVS:AH:MRC:MUNICIPAL RUNNING COST","O/204037.BAH.000",null,null,null,null,null,null,"ADM & HO",null,null,null,null,300818.11079999997,314354.92578599992,328500.89744636987]
["City Finance","LEVS:AH:MRC:MUNICIPAL RUNNING COST","O/204037.BAH.000",null,null,null,null,null,null,"ADM & HO",null,null,null,null,146580.47625000001,153176.59768124999,160069.54457690622]
["City Finance","LEVS:AH:MRC:MUNICIPAL RUNNING COST","O/204037.BAH.000",null,null,null,null,null,null,"ADM & HO",null,null,null,null,283789.20809999999,296559.7224645,309904.90997540246]
["City Finance","LEVS:AH:MRC:MUNICIPAL RUNNING COST","O/204037.BAH.000",null,null,null,null,null,null,"ADM & HO",null,null,null,null,32038.746449999999,33480.490040249999,34987.112092061245]
["City Finance","LEVS:AH:MRC:MUNICIPAL RUNNING COST","O/204037.BAH.000",null,null,null,null,null,null,"ADM & HO",null,null,null,null,4004.4213,4184.6202585000001,4372.9281701324999]
["City Finance","LEVS:AH:MRC:MUNICIPAL RUNNING COST","O/204037.BAH.000",null,null,null,null,null,null,"ADM & HO",null,null,null,null,1082021.8736999999,1130712.8580164998,1181594.9366272422]
["City Finance","LEVS:AH:MRC:MUNICIPAL RUNNING COST","O/204037.BAH.000",null,null,null,null,null,null,"ADM & HO",null,null,null,null,2577671.4719999996,2693666.6882399996,2814881.6892107995]
["City Finance","LEVS:AH:MRC:MUNICIPAL RUNNING COST","O/204037.BAH.000",null,null,null,null,null,null,"ADM & HO",null,null,null,null,67326.861149999997,70356.569901749986,73522.615547328736]
["City Finance","LEVS:AH:MRC:MUNICIPAL RUNNING COST","O/204039.BAH.000",null,null,null,null,null,null,"ADM & HO",null,null,null,null,1256588.3027999999,1313134.7764259998,1372225.8413651697]
["City Finance","LEVS:AH:MRC:MUNICIPAL RUNNING COST","O/204039.BAH.000",null,null,null,null,null,null,"ADM & HO",null,null,null,null,104714.94284999999,109427.11527824998,114351.33546577123]
["City Finance","LEVS:AH:MRC:MUNICIPAL RUNNING COST","O/204039.BAH.000",null,null,null,null,null,null,"ADM & HO",null,null,null,null,9438.0299999999988,9862.7413499999984,10306.564710749997]
["City Finance","LEVS:AH:MRC:MUNICIPAL RUNNING COST","O/204039.BAH.000",null,null,null,null,null,null,"ADM & HO",null,null,null,null,13004.257049999998,13589.448617249996,14200.973805026246]
["City Finance","LEVS:AH:MRC:MUNICIPAL RUNNING COST","O/204039.BAH.000",null,null,null,null,null,null,"ADM & HO",null,null,null,null,0,0,0]
["City Finance","LEVS:AH:MRC:MUNICIPAL RUNNING COST","O/204039.BAH.000",null,null,null,null,null,null,"ADM & HO",null,null,null,null,0,0,0]
["City Finance","LEVS:AH:MRC:MUNICIPAL RUNNING COST","O/204039.BAH.000",null,null,null,null,null,null,"ADM & HO",null,null,null,null,31870.210200000001,33304.369658999996,34803.066293654992]
["City Finance","LEVS:AH:MRC:MUNICIPAL RUNNING COST","O/204039.BAH.000",null,null,null,null,null,null,"ADM & HO",null,null,null,null,399.99269999999996,417.99237149999993,436.80202821749992]
["City Finance","LEVS:AH:MRC:MUNICIPAL RUNNING COST","O/204039.BAH.000",null,null,null,null,null,null,"ADM & HO",null,null,null,null,65324.650499999996,68264.259772499994,71336.151462262482]
["City Finance","LEVS:AH:MRC:MUNICIPAL RUNNING COST","O/204039.BAH.000",null,null,null,null,null,null,"ADM & HO",null,null,null,null,254615.5779,266073.27890549996,278046.57645624742]
["City Finance","LEVS:AH:MRC:MUNICIPAL RUNNING COST","O/204039.BAH.000",null,null,null,null,null,null,"ADM & HO",null,null,null,null,7163.9142000000002,7486.2903389999992,7823.1734042549988]
["City Finance","LEVS:AH:MRC:MUNICIPAL RUNNING COST","O/204041.BAH.000",null,null,null,null,null,null,"ADM & HO",null,null,null,null,4559942.8298999993,4765140.2572454987,4979571.5688215457]
["City Finance","LEVS:AH:MRC:MUNICIPAL RUNNING COST","O/204041.BAH.000",null,null,null,null,null,null,"ADM & HO",null,null,null,null,440238.03824999998,460048.74997124996,480750.94371995615]
["City Finance","LEVS:AH:MRC:MUNICIPAL RUNNING COST","O/204041.BAH.000",null,null,null,null,null,null,"ADM & HO",null,null,null,null,9438.0299999999988,9862.7413499999984,10306.564710749997]
["City Finance","LEVS:AH:MRC:MUNICIPAL RUNNING COST","O/204041.BAH.000",null,null,null,null,null,null,"ADM & HO",null,null,null,null,146777.09654999999,153382.06589474998,160284.25886001371]
["City Finance","LEVS:AH:MRC:MUNICIPAL RUNNING COST","O/204041.BAH.000",null,null,null,null,null,null,"ADM & HO",null,null,null,null,138892.9761,145143.16002449999,151674.60222560249]
["City Finance","LEVS:AH:MRC:MUNICIPAL RUNNING COST","O/204041.BAH.000",null,null,null,null,null,null,"ADM & HO",null,null,null,null,48969.892800000001,51173.537976,53476.34718492]
["City Finance","LEVS:AH:MRC:MUNICIPAL RUNNING COST","O/204041.BAH.000",null,null,null,null,null,null,"ADM & HO",null,null,null,null,1734.7998,1812.8657909999999,1894.4447515949998]
["City Finance","LEVS:AH:MRC:MUNICIPAL RUNNING COST","O/204041.BAH.000",null,null,null,null,null,null,"ADM & HO",null,null,null,null,453592.85070000001,474004.52898149996,495334.73278566741]
["City Finance","LEVS:AH:MRC:MUNICIPAL RUNNING COST","O/204041.BAH.000",null,null,null,null,null,null,"ADM & HO",null,null,null,null,1669461.4429499998,1744587.2078827496,1823093.6322374733]
["City Finance","LEVS:AH:MRC:MUNICIPAL RUNNING COST","O/204041.BAH.000",null,null,null,null,null,null,"ADM & HO",null,null,null,null,31044.377250000001,32441.374226249998,33901.236066431244]
["City Finance","LEVS:AH:MRC:MUNICIPAL RUNNING COST","O/204043.BAH.000",null,null,null,null,null,null,"ADM & HO",null,null,null,null,4746360.0571499998,4959946.2597217495,5183143.8414092278]
["City Finance","LEVS:AH:MRC:MUNICIPAL RUNNING COST","O/204043.BAH.000",null,null,null,null,null,null,"ADM & HO",null,null,null,null,461648.88344999996,482423.08320524992,504132.12194948614]
["City Finance","LEVS:AH:MRC:MUNICIPAL RUNNING COST","O/204043.BAH.000",null,null,null,null,null,null,"ADM & HO",null,null,null,null,14831.189999999999,15498.593549999998,16196.030259749996]
["City Finance","LEVS:AH:MRC:MUNICIPAL RUNNING COST","O/204043.BAH.000",null,null,null,null,null,null,"ADM & HO",null,null,null,null,39012.77115,40768.345851749997,42602.921415078745]
["City Finance","LEVS:AH:MRC:MUNICIPAL RUNNING COST","O/204043.BAH.000",null,null,null,null,null,null,"ADM & HO",null,null,null,null,159757.76384999999,166946.86322324997,174459.47206829619]
["City Finance","LEVS:AH:MRC:MUNICIPAL RUNNING COST","O/204043.BAH.000",null,null,null,null,null,null,"ADM & HO",null,null,null,null,0,0,0]
["City Finance","LEVS:AH:MRC:MUNICIPAL RUNNING COST","O/204043.BAH.000",null,null,null,null,null,null,"ADM & HO",null,null,null,null,82692.87285,86414.052128249998,90302.68447402124]
["City Finance","LEVS:AH:MRC:MUNICIPAL RUNNING COST","O/204043.BAH.000",null,null,null,null,null,null,"ADM & HO",null,null,null,null,39440.858549999997,41215.697184749995,43070.403558063743]
["City Finance","LEVS:AH:MRC:MUNICIPAL RUNNING COST","O/204043.BAH.000",null,null,null,null,null,null,"ADM & HO",null,null,null,null,2535.9141,2650.0302345,2769.2815950524996]
["City Finance","LEVS:AH:MRC:MUNICIPAL RUNNING COST","O/204043.BAH.000",null,null,null,null,null,null,"ADM & HO",null,null,null,null,393217.54274999996,410912.33217374992,429403.38712156867]
["City Finance","LEVS:AH:MRC:MUNICIPAL RUNNING COST","O/204043.BAH.000",null,null,null,null,null,null,"ADM & HO",null,null,null,null,1700480.6968499999,1777002.3282082498,1856967.432977621]
["City Finance","LEVS:AH:MRC:MUNICIPAL RUNNING COST","O/204043.BAH.000",null,null,null,null,null,null,"ADM & HO",null,null,null,null,43832.907899999998,45805.388755499996,47866.631249497492]
["City Finance","LEVS:AH:MRC:MUNICIPAL RUNNING COST","O/204048.BAH.000",null,null,null,null,null,null,"ADM & HO",null,null,null,null,6537170.7418499999,6831343.4252332496,7138753.8793687457]
["City Finance","LEVS:AH:MRC:MUNICIPAL RUNNING COST","O/204048.BAH.000",null,null,null,null,null,null,"ADM & HO",null,null,null,null,643554.54704999994,672514.50166724983,702777.65424227598]
["City Finance","LEVS:AH:MRC:MUNICIPAL RUNNING COST","O/204048.BAH.000",null,null,null,null,null,null,"ADM & HO",null,null,null,null,32358.959999999999,33815.1132,35336.793293999996]
["City Finance","LEVS:AH:MRC:MUNICIPAL RUNNING COST","O/204048.BAH.000",null,null,null,null,null,null,"ADM & HO",null,null,null,null,78025.542300000001,81536.691703499993,85205.84283015749]
["City Finance","LEVS:AH:MRC:MUNICIPAL RUNNING COST","O/204048.BAH.000",null,null,null,null,null,null,"ADM & HO",null,null,null,null,0,0,0]
["City Finance","LEVS:AH:MRC:MUNICIPAL RUNNING COST","O/204048.BAH.000",null,null,null,null,null,null,"ADM & HO",null,null,null,null,626529.02040000004,654722.82631799998,684185.35350230988]
["City Finance","LEVS:AH:MRC:MUNICIPAL RUNNING COST","O/204048.BAH.000",null,null,null,null,null,null,"ADM & HO",null,null,null,null,0,0,0]
["City Finance","LEVS:AH:MRC:MUNICIPAL RUNNING COST","O/204048.BAH.000",null,null,null,null,null,null,"ADM & HO",null,null,null,null,49576.623299999999,51807.571348499994,54138.91205918249]
["City Finance","LEVS:AH:MRC:MUNICIPAL RUNNING COST","O/204048.BAH.000",null,null,null,null,null,null,"ADM & HO",null,null,null,null,98063.378849999994,102476.23089824998,107087.66128867122]
["City Finance","LEVS:AH:MRC:MUNICIPAL RUNNING COST","O/204048.BAH.000",null,null,null,null,null,null,"ADM & HO",null,null,null,null,1601.0997,1673.1491864999998,1748.4408998924996]
["City Finance","LEVS:AH:MRC:MUNICIPAL RUNNING COST","O/204048.BAH.000",null,null,null,null,null,null,"ADM & HO",null,null,null,null,265764.81795,277724.23475775,290221.82532184874]
["City Finance","LEVS:AH:MRC:MUNICIPAL RUNNING COST","O/204048.BAH.000",null,null,null,null,null,null,"ADM & HO",null,null,null,null,2747529.4508999996,2871168.2761904993,3000370.8486190718]
["City Finance","LEVS:AH:MRC:MUNICIPAL RUNNING COST","O/204048.BAH.000",null,null,null,null,null,null,"ADM & HO",null,null,null,null,26180.4264,27358.545587999997,28589.680139459993]
["City Finance","LEVS:AH:MRC:MUNICIPAL RUNNING COST","O/204050.BAH.000",null,null,null,null,null,null,"ADM & HO",null,null,null,null,5437882.7792999996,5682587.5043684989,5938303.9420650806]
["City Finance","LEVS:AH:MRC:MUNICIPAL RUNNING COST","O/204050.BAH.000",null,null,null,null,null,null,"ADM & HO",null,null,null,null,453156.90359999996,473548.96426199994,494858.66765378992]
["City Finance","LEVS:AH:MRC:MUNICIPAL RUNNING COST","O/204050.BAH.000",null,null,null,null,null,null,"ADM & HO",null,null,null,null,24269.219999999998,25361.334899999994,26502.594970499991]
["City Finance","LEVS:AH:MRC:MUNICIPAL RUNNING COST","O/204050.BAH.000",null,null,null,null,null,null,"ADM & HO",null,null,null,null,26008.514099999997,27178.897234499993,28401.947610052492]
["City Finance","LEVS:AH:MRC:MUNICIPAL RUNNING COST","O/204050.BAH.000",null,null,null,null,null,null,"ADM & HO",null,null,null,null,252294.27194999999,263647.51418775,275511.6523261987]
["City Finance","LEVS:AH:MRC:MUNICIPAL RUNNING COST","O/204050.BAH.000",null,null,null,null,null,null,"ADM & HO",null,null,null,null,0,0,0]
["City Finance","LEVS:AH:MRC:MUNICIPAL RUNNING COST","O/204050.BAH.000",null,null,null,null,null,null,"ADM & HO",null,null,null,null,26655.693299999999,27855.199498499998,29108.683475932496]
["City Finance","LEVS:AH:MRC:MUNICIPAL RUNNING COST","O/204050.BAH.000",null,null,null,null,null,null,"ADM & HO",null,null,null,null,1734.7998,1812.8657909999999,1894.4447515949998]
["City Finance","LEVS:AH:MRC:MUNICIPAL RUNNING COST","O/204050.BAH.000",null,null,null,null,null,null,"ADM & HO",null,null,null,null,245087.66190000001,256116.60668549998,267641.85398634744]
["City Finance","LEVS:AH:MRC:MUNICIPAL RUNNING COST","O/204050.BAH.000",null,null,null,null,null,null,"ADM & HO",null,null,null,null,954480.33854999999,997431.95378474996,1042316.3917050636]
["City Finance","LEVS:AH:MRC:MUNICIPAL RUNNING COST","O/204050.BAH.000",null,null,null,null,null,null,"ADM & HO",null,null,null,null,30081.478800000001,31435.145345999998,32849.726886569995]
["City Finance","LEVS:AH:MRC:MUNICIPAL RUNNING COST","O/204051.BAH.000",null,null,null,null,null,null,"ADM & HO",null,null,null,null,4664147.4034500001,4874034.0366052501,5093365.5682524862]
["City Finance","LEVS:AH:MRC:MUNICIPAL RUNNING COST","O/204051.BAH.000",null,null,null,null,null,null,"ADM & HO",null,null,null,null,488322.55394999997,510297.06887774996,533260.43697724864]
["City Finance","LEVS:AH:MRC:MUNICIPAL RUNNING COST","O/204051.BAH.000",null,null,null,null,null,null,"ADM & HO",null,null,null,null,61347.195,64107.818774999992,66992.670619874989]
["City Finance","LEVS:AH:MRC:MUNICIPAL RUNNING COST","O/204051.BAH.000",null,null,null,null,null,null,"ADM & HO",null,null,null,null,65021.285249999994,67947.24308624999,71004.869025131236]
["City Finance","LEVS:AH:MRC:MUNICIPAL RUNNING COST","O/204051.BAH.000",null,null,null,null,null,null,"ADM & HO",null,null,null,null,338665.72934999998,353905.68717074994,369831.44309343369]
["City Finance","LEVS:AH:MRC:MUNICIPAL RUNNING COST","O/204051.BAH.000",null,null,null,null,null,null,"ADM & HO",null,null,null,null,254406.59294999999,265854.88963274995,277818.3596662237]
["City Finance","LEVS:AH:MRC:MUNICIPAL RUNNING COST","O/204051.BAH.000",null,null,null,null,null,null,"ADM & HO",null,null,null,null,113863.09049999999,118986.92957249998,124341.34140326247]
["City Finance","LEVS:AH:MRC:MUNICIPAL RUNNING COST","O/204051.BAH.000",null,null,null,null,null,null,"ADM & HO",null,null,null,null,1734.7998,1812.8657909999999,1894.4447515949998]
["City Finance","LEVS:AH:MRC:MUNICIPAL RUNNING COST","O/204051.BAH.000",null,null,null,null,null,null,"ADM & HO",null,null,null,null,538932.86624999996,563184.84523124993,588528.16326665611]
["City Finance","LEVS:AH:MRC:MUNICIPAL RUNNING COST","O/204051.BAH.000",null,null,null,null,null,null,"ADM & HO",null,null,null,null,2311199.4407999995,2415203.4156359993,2523887.569339619]
["City Finance","LEVS:AH:MRC:MUNICIPAL RUNNING COST","O/204051.BAH.000",null,null,null,null,null,null,"ADM & HO",null,null,null,null,31044.377250000001,32441.374226249998,33901.236066431244]
["City Finance","MSE:AH:MRC:MUNICIPAL RUNNING COST","O/204065.JAH.000",null,null,null,null,null,null,"ADM & HO",null,null,null,null,64355.010599999994,67250.986076999994,70277.280450464983]
["City Finance","LEVS:AH:MRC:MUNICIPAL RUNNING COST","O/204104.BAH.000",null,null,null,null,null,null,"ADM & HO",null,null,null,null,2099552.9493,2194032.8320184997,2292764.3094593319]
["City Finance","LEVS:AH:MRC:MUNICIPAL RUNNING COST","O/204104.BAH.000",null,null,null,null,null,null,"ADM & HO",null,null,null,null,233664.28019999998,244179.17280899995,255167.23558540494]
["City Finance","LEVS:AH:MRC:MUNICIPAL RUNNING COST","O/204104.BAH.000",null,null,null,null,null,null,"ADM & HO",null,null,null,null,6741.45,7044.8152499999997,7361.8319362499988]
["City Finance","LEVS:AH:MRC:MUNICIPAL RUNNING COST","O/204104.BAH.000",null,null,null,null,null,null,"ADM & HO",null,null,null,null,13004.257049999998,13589.448617249996,14200.973805026246]
["City Finance","LEVS:AH:MRC:MUNICIPAL RUNNING COST","O/204104.BAH.000",null,null,null,null,null,null,"ADM & HO",null,null,null,null,77113.199399999998,80583.293372999993,84209.541574784991]
["City Finance","LEVS:AH:MRC:MUNICIPAL RUNNING COST","O/204104.BAH.000",null,null,null,null,null,null,"ADM & HO",null,null,null,null,56807.951999999997,59364.309839999994,62035.703782799988]
["City Finance","LEVS:AH:MRC:MUNICIPAL RUNNING COST","O/204104.BAH.000",null,null,null,null,null,null,"ADM & HO",null,null,null,null,533.70344999999998,557.72010524999996,582.81750998624989]
["City Finance","LEVS:AH:MRC:MUNICIPAL RUNNING COST","O/204104.BAH.000",null,null,null,null,null,null,"ADM & HO",null,null,null,null,139887.33464999998,146182.26470924995,152760.46662116618]
["City Finance","LEVS:AH:MRC:MUNICIPAL RUNNING COST","O/204104.BAH.000",null,null,null,null,null,null,"ADM & HO",null,null,null,null,1291131.2263499999,1349232.1315357499,1409947.5774548585]
["City Finance","LEVS:AH:MRC:MUNICIPAL RUNNING COST","O/204104.BAH.000",null,null,null,null,null,null,"ADM & HO",null,null,null,null,10886.323499999999,11376.208057499998,11888.137420087498]
["City Finance","LEVS:AH:MRC:MUNICIPAL RUNNING COST","O/204160.BAH.000",null,null,null,null,null,null,"ADM & HO",null,null,null,null,5043333.8054999998,5270283.8267474994,5507446.5989511367]
["City Finance","LEVS:AH:MRC:MUNICIPAL RUNNING COST","O/204160.BAH.000",null,null,null,null,null,null,"ADM & HO",null,null,null,null,420277.72304999997,439190.22058724996,458953.78051367617]
["City Finance","LEVS:AH:MRC:MUNICIPAL RUNNING COST","O/204160.BAH.000",null,null,null,null,null,null,"ADM & HO",null,null,null,null,55279.89,57767.485049999996,60367.021877249994]
["City Finance","LEVS:AH:MRC:MUNICIPAL RUNNING COST","O/204160.BAH.000",null,null,null,null,null,null,"ADM & HO",null,null,null,null,39012.77115,40768.345851749997,42602.921415078745]
["City Finance","LEVS:AH:MRC:MUNICIPAL RUNNING COST","O/204160.BAH.000",null,null,null,null,null,null,"ADM & HO",null,null,null,null,699947.90519999992,731445.56093399983,764360.61117602978]
["City Finance","LEVS:AH:MRC:MUNICIPAL RUNNING COST","O/204160.BAH.000",null,null,null,null,null,null,"ADM & HO",null,null,null,null,563170.62614999991,588513.30432674987,614996.40302145353]
["City Finance","LEVS:AH:MRC:MUNICIPAL RUNNING COST","O/204160.BAH.000",null,null,null,null,null,null,"ADM & HO",null,null,null,null,10455.988949999999,10926.508452749998,11418.201333123747]
["City Finance","LEVS:AH:MRC:MUNICIPAL RUNNING COST","O/204160.BAH.000",null,null,null,null,null,null,"ADM & HO",null,null,null,null,778174.56209999998,813192.41739449988,849786.07617725234]
["City Finance","LEVS:AH:MRC:MUNICIPAL RUNNING COST","O/204160.BAH.000",null,null,null,null,null,null,"ADM & HO",null,null,null,null,157254.43875,164330.88849374998,171725.77847596872]
["City Finance","LEVS:AH:MRC:MUNICIPAL RUNNING COST","O/204160.BAH.000",null,null,null,null,null,null,"ADM & HO",null,null,null,null,401646.60239999997,419720.69950799993,438608.1309858599]
["City Finance","LEVS:AH:MRC:MUNICIPAL RUNNING COST","O/204160.BAH.000",null,null,null,null,null,null,"ADM & HO",null,null,null,null,2402.2033500000002,2510.30250075,2623.2661132837497]
["City Finance","LEVS:AH:MRC:MUNICIPAL RUNNING COST","O/204160.BAH.000",null,null,null,null,null,null,"ADM & HO",null,null,null,null,526282.53,549965.24384999997,574713.67982324993]
["City Finance","LEVS:AH:MRC:MUNICIPAL RUNNING COST","O/204160.BAH.000",null,null,null,null,null,null,"ADM & HO",null,null,null,null,1097992.3261499999,1147401.9808267497,1199035.0699639535]
["City Finance","LEVS:AH:MRC:MUNICIPAL RUNNING COST","O/204160.BAH.000",null,null,null,null,null,null,"ADM & HO",null,null,null,null,40983.521699999998,42827.780176499997,44755.030284442495]
["City Finance","LEVS:AH:MRC:MUNICIPAL RUNNING COST","O/204165.BAH.000",null,null,null,null,null,null,"ADM & HO",null,null,null,null,0,0,0]
["City Finance","LEVS:AH:MRC:MUNICIPAL RUNNING COST","O/204165.BAH.000",null,null,null,null,null,null,"ADM & HO",null,null,null,null,0,0,0]
["City Finance","LEVS:AH:MRC:MUNICIPAL RUNNING COST","O/204165.BAH.000",null,null,null,null,null,null,"ADM & HO",null,null,null,null,0,0,0]
["City Finance","LEVS:AH:MRC:MUNICIPAL RUNNING COST","O/204165.BAH.000",null,null,null,null,null,null,"ADM & HO",null,null,null,null,0,0,0]
["City Finance","LEVS:AH:MRC:MUNICIPAL RUNNING COST","O/204165.BAH.000",null,null,null,null,null,null,"ADM & HO",null,null,null,null,0,0,0]
["City Finance","LEVS:AH:MRC:MUNICIPAL RUNNING COST","O/204165.BAH.000",null,null,null,null,null,null,"ADM & HO",null,null,null,null,0,0,0]
["City Finance","LEVS:AH:MRC:MUNICIPAL RUNNING COST","O/204165.BAH.000",null,null,null,null,null,null,"ADM & HO",null,null,null,null,0,0,0]
["City Finance","LEVS:AH:MRC:MUNICIPAL RUNNING COST","O/204165.BAH.000",null,null,null,null,null,null,"ADM & HO",null,null,null,null,0,0,0]
["City Finance","LEVS:AH:MRC:MUNICIPAL RUNNING COST","O/204165.BAH.000",null,null,null,null,null,null,"ADM & HO",null,null,null,null,0,0,0]
["City Finance","MSE:AH:MRC:MUNICIPAL RUNNING COST","O/204240.JAH.000",null,null,null,null,null,null,"ADM & HO",null,null,null,null,78383.968049999996,81911.24661224999,85597.252709801236]
["City Finance","MSE:AH:MRC:MUNICIPAL RUNNING COST","O/204240.JAH.000",null,null,null,null,null,null,"ADM & HO",null,null,null,null,6531.3468000000003,6825.2574059999997,7132.3939892699991]
["City Finance","MSE:AH:MRC:MUNICIPAL RUNNING COST","O/204240.JAH.000",null,null,null,null,null,null,"ADM & HO",null,null,null,null,1334.8070999999998,1394.8734194999997,1457.6427233774996]
["City Finance","MSE:AH:MRC:MUNICIPAL RUNNING COST","O/204242.JAH.000",null,null,null,null,null,null,"ADM & HO",null,null,null,null,6558755.8103999998,6853899.8218679996,7162325.3138520587]
["City Finance","MSE:AH:MRC:MUNICIPAL RUNNING COST","O/204242.JAH.000",null,null,null,null,null,null,"ADM & HO",null,null,null,null,0,0,0]
["City Finance","MSE:AH:MRC:MUNICIPAL RUNNING COST","O/204242.JAH.000",null,null,null,null,null,null,"ADM & HO",null,null,null,null,604530.54015000002,631734.41445674992,660162.4631073036]
["City Finance","MSE:AH:MRC:MUNICIPAL RUNNING COST","O/204242.JAH.000",null,null,null,null,null,null,"ADM & HO",null,null,null,null,24269.219999999998,25361.334899999994,26502.594970499991]
["City Finance","MSE:AH:MRC:MUNICIPAL RUNNING COST","O/204242.JAH.000",null,null,null,null,null,null,"ADM & HO",null,null,null,null,65021.285249999994,67947.24308624999,71004.869025131236]
["City Finance","MSE:AH:MRC:MUNICIPAL RUNNING COST","O/204242.JAH.000",null,null,null,null,null,null,"ADM & HO",null,null,null,null,0,0,0]
["City Finance","MSE:AH:MRC:MUNICIPAL RUNNING COST","O/204242.JAH.000",null,null,null,null,null,null,"ADM & HO",null,null,null,null,572469.33285000001,598230.45282825001,625150.82320552121]
["City Finance","MSE:AH:MRC:MUNICIPAL RUNNING COST","O/204242.JAH.000",null,null,null,null,null,null,"ADM & HO",null,null,null,null,110260.90904999999,115222.64995724997,120407.66920532621]
["City Finance","MSE:AH:MRC:MUNICIPAL RUNNING COST","O/204242.JAH.000",null,null,null,null,null,null,"ADM & HO",null,null,null,null,247959.51959999997,259117.69798199995,270777.99439118995]
["City Finance","MSE:AH:MRC:MUNICIPAL RUNNING COST","O/204242.JAH.000",null,null,null,null,null,null,"ADM & HO",null,null,null,null,2134.7925,2230.8581624999997,2331.2467798124994]
["City Finance","MSE:AH:MRC:MUNICIPAL RUNNING COST","O/204242.JAH.000",null,null,null,null,null,null,"ADM & HO",null,null,null,null,450508.63199999998,470781.52043999993,491966.68885979988]
["City Finance","MSE:AH:MRC:MUNICIPAL RUNNING COST","O/204242.JAH.000",null,null,null,null,null,null,"ADM & HO",null,null,null,null,1972758.1388999999,2061532.2551504998,2154301.2066322719]
["City Finance","MSE:AH:MRC:MUNICIPAL RUNNING COST","O/204242.JAH.000",null,null,null,null,null,null,"ADM & HO",null,null,null,null,40112.756399999998,41917.830437999997,43804.132807709997]
["Corporate Services","LEVS:AH:MRC:MUNICIPAL RUNNING COST","O/302501.BAH.000",null,null,null,null,null,null,"ADM & HO",null,null,null,null,1542105.5692499999,1611500.3198662498,1684017.8342602309]
["Corporate Services","LEVS:AH:MRC:MUNICIPAL RUNNING COST","O/302501.BAH.000",null,null,null,null,null,null,"ADM & HO",null,null,null,null,0,0,0]
["Corporate Services","LEVS:AH:MRC:MUNICIPAL RUNNING COST","O/302501.BAH.000",null,null,null,null,null,null,"ADM & HO",null,null,null,null,22920.93,23952.37185,25030.228583249998]
["Corporate Services","LEVS:AH:MRC:MUNICIPAL RUNNING COST","O/302501.BAH.000",null,null,null,null,null,null,"ADM & HO",null,null,null,null,142976.04764999999,149409.96979424998,156133.41843499121]
["Corporate Services","LEVS:AH:MRC:MUNICIPAL RUNNING COST","O/302501.BAH.000",null,null,null,null,null,null,"ADM & HO",null,null,null,null,0,0,0]
["Corporate Services","LEVS:AH:MRC:MUNICIPAL RUNNING COST","O/302501.BAH.000",null,null,null,null,null,null,"ADM & HO",null,null,null,null,0,0,0]
["Corporate Services","LEVS:AH:MRC:MUNICIPAL RUNNING COST","O/302501.BAH.000",null,null,null,null,null,null,"ADM & HO",null,null,null,null,0,0,0]
["Corporate Services","LEVS:AH:MRC:MUNICIPAL RUNNING COST","O/302501.BAH.000",null,null,null,null,null,null,"ADM & HO",null,null,null,null,1586755.31085,1658159.2998382498,1732776.468330971]
["Corporate Services","LEVS:AH:MRC:MUNICIPAL RUNNING COST","O/302501.BAH.000",null,null,null,null,null,null,"ADM & HO",null,null,null,null,132229.04744999998,138179.35458524997,144397.42554158621]
["Corporate Services","LEVS:AH:MRC:MUNICIPAL RUNNING COST","O/302501.BAH.000",null,null,null,null,null,null,"ADM & HO",null,null,null,null,7415.5949999999993,7749.2967749999989,8098.0151298749979]
["Corporate Services","LEVS:AH:MRC:MUNICIPAL RUNNING COST","O/302501.BAH.000",null,null,null,null,null,null,"ADM & HO",null,null,null,null,26008.514099999997,27178.897234499993,28401.947610052492]
["Corporate Services","LEVS:AH:MRC:MUNICIPAL RUNNING COST","O/302501.BAH.000",null,null,null,null,null,null,"ADM & HO",null,null,null,null,0,0,0]
["Corporate Services","LEVS:AH:MRC:MUNICIPAL RUNNING COST","O/302501.BAH.000",null,null,null,null,null,null,"ADM & HO",null,null,null,null,59932.619399999996,62629.58727299999,65447.918700284987]
["Corporate Services","LEVS:AH:MRC:MUNICIPAL RUNNING COST","O/302501.BAH.000",null,null,null,null,null,null,"ADM & HO",null,null,null,null,39765.566399999996,41555.016887999991,43424.992647959989]
["Corporate Services","LEVS:AH:MRC:MUNICIPAL RUNNING COST","O/302501.BAH.000",null,null,null,null,null,null,"ADM & HO",null,null,null,null,0,0,0]
["Corporate Services","LEVS:AH:MRC:MUNICIPAL RUNNING COST","O/302501.BAH.000",null,null,null,null,null,null,"ADM & HO",null,null,null,null,533.70344999999998,557.72010524999996,582.81750998624989]
["Corporate Services","LEVS:AH:MRC:MUNICIPAL RUNNING COST","O/302501.BAH.000",null,null,null,null,null,null,"ADM & HO",null,null,null,null,0,0,0]
["Corporate Services","LEVS:AH:MRC:MUNICIPAL RUNNING COST","O/302501.BAH.000",null,null,null,null,null,null,"ADM & HO",null,null,null,null,465882.51405,486847.22718224995,508755.35240545118]
["Corporate Services","LEVS:AH:MRC:MUNICIPAL RUNNING COST","O/302501.BAH.000",null,null,null,null,null,null,"ADM & HO",null,null,null,null,8786.3564999999999,9181.7425425000001,9594.9209569124996]
["Corporate Services","LEVS:AH:MRC:MUNICIPAL RUNNING COST","O/302501.BAH.000",null,null,null,null,null,null,"ADM & HO",null,null,null,null,0.28755000000000003,0.30048975,0.31401178874999996]
["Corporate Services","LEVS:AH:MRC:MUNICIPAL RUNNING COST","O/302501.BAH.000",null,null,null,null,null,null,"ADM & HO",null,null,null,null,2004.4577999999997,2094.6584009999997,2188.9180290449995]
["Corporate Services","LEVS:AH:MRC:MUNICIPAL RUNNING COST","O/302501.BAH.000",null,null,null,null,null,null,"ADM & HO",null,null,null,null,132.58184999999997,138.54803324999997,144.78269474624997]
["Corporate Services","LEVS:AH:MRC:MUNICIPAL RUNNING COST","O/303070.BAH.000",null,null,null,null,null,null,"ADM & HO",null,null,null,null,4735502.8187999995,4948600.4456459992,5171287.4657000685]
["Corporate Services","LEVS:AH:MRC:MUNICIPAL RUNNING COST","O/303070.BAH.000",null,null,null,null,null,null,"ADM & HO",null,null,null,null,628682.90834999993,656973.63922574988,686537.45299090852]
["Corporate Services","LEVS:AH:MRC:MUNICIPAL RUNNING COST","O/303070.BAH.000",null,null,null,null,null,null,"ADM & HO",null,null,null,null,53931.6,56358.521999999997,58894.65548999999]
["Corporate Services","LEVS:AH:MRC:MUNICIPAL RUNNING COST","O/303070.BAH.000",null,null,null,null,null,null,"ADM & HO",null,null,null,null,52017.028199999993,54357.794468999986,56803.895220104983]
["Corporate Services","LEVS:AH:MRC:MUNICIPAL RUNNING COST","O/303070.BAH.000",null,null,null,null,null,null,"ADM & HO",null,null,null,null,427309.05539999995,446537.96289299993,466632.17122318491]
["Corporate Services","LEVS:AH:MRC:MUNICIPAL RUNNING COST","O/303070.BAH.000",null,null,null,null,null,null,"ADM & HO",null,null,null,null,0,0,0]
["Corporate Services","LEVS:AH:MRC:MUNICIPAL RUNNING COST","O/303070.BAH.000",null,null,null,null,null,null,"ADM & HO",null,null,null,null,54583.273499999996,57039.52080749999,59606.299243837486]
["Corporate Services","LEVS:AH:MRC:MUNICIPAL RUNNING COST","O/303070.BAH.000",null,null,null,null,null,null,"ADM & HO",null,null,null,null,173450.76704999999,181256.05156724999,189412.57388777623]
["Corporate Services","LEVS:AH:MRC:MUNICIPAL RUNNING COST","O/303070.BAH.000",null,null,null,null,null,null,"ADM & HO",null,null,null,null,1601.0997,1673.1491864999998,1748.4408998924996]
["Corporate Services","LEVS:AH:MRC:MUNICIPAL RUNNING COST","O/303070.BAH.000",null,null,null,null,null,null,"ADM & HO",null,null,null,null,429637.10279999999,448970.77242599998,469174.45718516997]
["Corporate Services","LEVS:AH:MRC:MUNICIPAL RUNNING COST","O/303070.BAH.000",null,null,null,null,null,null,"ADM & HO",null,null,null,null,902038.59899999993,942630.3359549999,985048.70107297483]
["Corporate Services","LEVS:AH:MRC:MUNICIPAL RUNNING COST","O/303070.BAH.000",null,null,null,null,null,null,"ADM & HO",null,null,null,null,44181.21615,46169.370876749999,48246.992566203749]
["Corporate Services","LEVS:AH:MRC:MUNICIPAL RUNNING COST","O/303075.BAH.000",null,null,null,null,null,null,"ADM & HO",null,null,null,null,2878255.3360499996,3007776.8261722494,3143126.7833500006]
["Corporate Services","LEVS:AH:MRC:MUNICIPAL RUNNING COST","O/303075.BAH.000",null,null,null,null,null,null,"ADM & HO",null,null,null,null,239854.04955,250647.48177974997,261926.6184598387]
["Corporate Services","LEVS:AH:MRC:MUNICIPAL RUNNING COST","O/303075.BAH.000",null,null,null,null,null,null,"ADM & HO",null,null,null,null,24269.219999999998,25361.334899999994,26502.594970499991]
["Corporate Services","LEVS:AH:MRC:MUNICIPAL RUNNING COST","O/303075.BAH.000",null,null,null,null,null,null,"ADM & HO",null,null,null,null,13004.257049999998,13589.448617249996,14200.973805026246]
["Corporate Services","LEVS:AH:MRC:MUNICIPAL RUNNING COST","O/303075.BAH.000",null,null,null,null,null,null,"ADM & HO",null,null,null,null,173497.9572,181305.36527399998,189464.10671132998]
["Corporate Services","LEVS:AH:MRC:MUNICIPAL RUNNING COST","O/303075.BAH.000",null,null,null,null,null,null,"ADM & HO",null,null,null,null,0,0,0]
["Corporate Services","LEVS:AH:MRC:MUNICIPAL RUNNING COST","O/303075.BAH.000",null,null,null,null,null,null,"ADM & HO",null,null,null,null,667.40354999999988,697.43670974999986,728.82136168874979]
["Corporate Services","LEVS:AH:MRC:MUNICIPAL RUNNING COST","O/303075.BAH.000",null,null,null,null,null,null,"ADM & HO",null,null,null,null,50632.783799999997,52911.259070999993,55292.265729194987]
["Corporate Services","LEVS:AH:MRC:MUNICIPAL RUNNING COST","O/303075.BAH.000",null,null,null,null,null,null,"ADM & HO",null,null,null,null,487305.71324999997,509234.47034624993,532150.02151183109]
["Corporate Services","LEVS:AH:MRC:MUNICIPAL RUNNING COST","O/303075.BAH.000",null,null,null,null,null,null,"ADM & HO",null,null,null,null,10790.814299999998,11276.400943499997,11783.838985957496]
["Corporate Services","LEVS:AH:MRC:MUNICIPAL RUNNING COST","O/303077.BAH.000",null,null,null,null,null,null,"ADM & HO",null,null,null,null,2057110.7716499998,2149680.7563742497,2246416.3904110906]
["Corporate Services","LEVS:AH:MRC:MUNICIPAL RUNNING COST","O/303077.BAH.000",null,null,null,null,null,null,"ADM & HO",null,null,null,null,171424.96664999999,179139.09014924997,187200.34920596619]
["Corporate Services","LEVS:AH:MRC:MUNICIPAL RUNNING COST","O/303077.BAH.000",null,null,null,null,null,null,"ADM & HO",null,null,null,null,15505.334999999999,16203.075074999999,16932.213453374996]
["Corporate Services","LEVS:AH:MRC:MUNICIPAL RUNNING COST","O/303077.BAH.000",null,null,null,null,null,null,"ADM & HO",null,null,null,null,26008.514099999997,27178.897234499993,28401.947610052492]
["Corporate Services","LEVS:AH:MRC:MUNICIPAL RUNNING COST","O/303077.BAH.000",null,null,null,null,null,null,"ADM & HO",null,null,null,null,170199.14099999997,177858.10234499996,185861.71695052495]
["Corporate Services","LEVS:AH:MRC:MUNICIPAL RUNNING COST","O/303077.BAH.000",null,null,null,null,null,null,"ADM & HO",null,null,null,null,0,0,0]
["Corporate Services","LEVS:AH:MRC:MUNICIPAL RUNNING COST","O/303077.BAH.000",null,null,null,null,null,null,"ADM & HO",null,null,null,null,399.99269999999996,417.99237149999993,436.80202821749992]
["Corporate Services","LEVS:AH:MRC:MUNICIPAL RUNNING COST","O/303077.BAH.000",null,null,null,null,null,null,"ADM & HO",null,null,null,null,113338.3863,118438.61368349999,123768.35129925748]
["Corporate Services","LEVS:AH:MRC:MUNICIPAL RUNNING COST","O/303077.BAH.000",null,null,null,null,null,null,"ADM & HO",null,null,null,null,332625.39014999999,347593.53270674997,363235.24167855369]
["Corporate Services","LEVS:AH:MRC:MUNICIPAL RUNNING COST","O/303077.BAH.000",null,null,null,null,null,null,"ADM & HO",null,null,null,null,8115.5875500000002,8480.788989749999,8862.424494288749]
["Corporate Services","LEVS:AH:MRC:MUNICIPAL RUNNING COST","O/304001.BAH.000",null,null,null,null,null,null,"ADM & HO",null,null,null,null,2791650.21765,2917274.4774442497,3048551.8289292408]
["Corporate Services","LEVS:AH:MRC:MUNICIPAL RUNNING COST","O/304001.BAH.000",null,null,null,null,null,null,"ADM & HO",null,null,null,null,157509.94289999999,164597.89033049997,172004.79539537246]
["Corporate Services","LEVS:AH:MRC:MUNICIPAL RUNNING COST","O/304001.BAH.000",null,null,null,null,null,null,"ADM & HO",null,null,null,null,24269.219999999998,25361.334899999994,26502.594970499991]
["Corporate Services","LEVS:AH:MRC:MUNICIPAL RUNNING COST","O/304001.BAH.000",null,null,null,null,null,null,"ADM & HO",null,null,null,null,26008.791000000001,27179.186594999999,28402.249991774996]
["Corporate Services","LEVS:AH:MRC:MUNICIPAL RUNNING COST","O/304001.BAH.000",null,null,null,null,null,null,"ADM & HO",null,null,null,null,131256.70244999998,137163.25406024998,143335.60049296121]
["Corporate Services","LEVS:AH:MRC:MUNICIPAL RUNNING COST","O/304001.BAH.000",null,null,null,null,null,null,"ADM & HO",null,null,null,null,428898.10994999995,448198.52489774994,468367.45851814863]
["Corporate Services","LEVS:AH:MRC:MUNICIPAL RUNNING COST","O/304001.BAH.000",null,null,null,null,null,null,"ADM & HO",null,null,null,null,25227.634799999996,26362.878365999994,27549.207892469993]
["Corporate Services","LEVS:AH:MRC:MUNICIPAL RUNNING COST","O/304001.BAH.000",null,null,null,null,null,null,"ADM & HO",null,null,null,null,1506.0377999999998,1573.8095009999997,1644.6309285449995]
["Corporate Services","LEVS:AH:MRC:MUNICIPAL RUNNING COST","O/304001.BAH.000",null,null,null,null,null,null,"ADM & HO",null,null,null,null,339088.65149999998,354347.64081749995,370293.28465428745]
["Corporate Services","LEVS:AH:MRC:MUNICIPAL RUNNING COST","O/304001.BAH.000",null,null,null,null,null,null,"ADM & HO",null,null,null,null,1879049.3107499999,1963606.5297337498,2051968.8235717684]
["Corporate Services","LEVS:AH:MRC:MUNICIPAL RUNNING COST","O/304001.BAH.000",null,null,null,null,null,null,"ADM & HO",null,null,null,null,26020.921350000001,27191.862810749997,28415.496637233744]
["Corporate Services","LEVS:AH:MRC:MUNICIPAL RUNNING COST","O/304038.BAH.000",null,null,null,null,null,null,"ADM & HO",null,null,null,null,1195272.5678999999,1249059.8334554997,1305267.5259609972]
["Corporate Services","LEVS:AH:MRC:MUNICIPAL RUNNING COST","O/304038.BAH.000",null,null,null,null,null,null,"ADM & HO",null,null,null,null,99606.052649999998,104088.32501924998,108772.29964511623]
["Corporate Services","LEVS:AH:MRC:MUNICIPAL RUNNING COST","O/304038.BAH.000",null,null,null,null,null,null,"ADM & HO",null,null,null,null,7415.5949999999993,7749.2967749999989,8098.0151298749979]
["Corporate Services","LEVS:AH:MRC:MUNICIPAL RUNNING COST","O/304038.BAH.000",null,null,null,null,null,null,"ADM & HO",null,null,null,null,13004.257049999998,13589.448617249996,14200.973805026246]
["Corporate Services","LEVS:AH:MRC:MUNICIPAL RUNNING COST","O/304038.BAH.000",null,null,null,null,null,null,"ADM & HO",null,null,null,null,0,0,0]
["Corporate Services","LEVS:AH:MRC:MUNICIPAL RUNNING COST","O/304038.BAH.000",null,null,null,null,null,null,"ADM & HO",null,null,null,null,115187.79075,120371.24133374999,125787.94719376873]
["Corporate Services","LEVS:AH:MRC:MUNICIPAL RUNNING COST","O/304038.BAH.000",null,null,null,null,null,null,"ADM & HO",null,null,null,null,33036.481049999995,34523.122697249994,36076.663218626243]
["Corporate Services","LEVS:AH:MRC:MUNICIPAL RUNNING COST","O/304038.BAH.000",null,null,null,null,null,null,"ADM & HO",null,null,null,null,399.99269999999996,417.99237149999993,436.80202821749992]
["Corporate Services","LEVS:AH:MRC:MUNICIPAL RUNNING COST","O/304038.BAH.000",null,null,null,null,null,null,"ADM & HO",null,null,null,null,80905.270349999992,84546.007515749981,88350.577853958719]
["Corporate Services","LEVS:AH:MRC:MUNICIPAL RUNNING COST","O/304038.BAH.000",null,null,null,null,null,null,"ADM & HO",null,null,null,null,213099.48165,222688.95832424998,232709.9614488412]
["Corporate Services","LEVS:AH:MRC:MUNICIPAL RUNNING COST","O/304038.BAH.000",null,null,null,null,null,null,"ADM & HO",null,null,null,null,6916.7276999999995,7227.9804464999988,7553.2395665924987]
["Corporate Services","LEVS:AH:MRC:MUNICIPAL RUNNING COST","O/304072.BAH.000",null,null,null,null,null,null,"ADM & HO",null,null,null,null,3425238.82485,3579374.5719682495,3740446.4277068204]
["Corporate Services","LEVS:AH:MRC:MUNICIPAL RUNNING COST","O/304072.BAH.000",null,null,null,null,null,null,"ADM & HO",null,null,null,null,342382.51544999995,357789.72864524991,373890.26643428614]
["Corporate Services","LEVS:AH:MRC:MUNICIPAL RUNNING COST","O/304072.BAH.000",null,null,null,null,null,null,"ADM & HO",null,null,null,null,68762.789999999994,71857.115549999988,75090.685749749988]
["Corporate Services","LEVS:AH:MRC:MUNICIPAL RUNNING COST","O/304072.BAH.000",null,null,null,null,null,null,"ADM & HO",null,null,null,null,39012.77115,40768.345851749997,42602.921415078745]
["Corporate Services","LEVS:AH:MRC:MUNICIPAL RUNNING COST","O/304072.BAH.000",null,null,null,null,null,null,"ADM & HO",null,null,null,null,0,0,0]
["Corporate Services","LEVS:AH:MRC:MUNICIPAL RUNNING COST","O/304072.BAH.000",null,null,null,null,null,null,"ADM & HO",null,null,null,null,146777.09654999999,153382.06589474998,160284.25886001371]
["Corporate Services","LEVS:AH:MRC:MUNICIPAL RUNNING COST","O/304072.BAH.000",null,null,null,null,null,null,"ADM & HO",null,null,null,null,51983.320949999994,54322.570392749993,56767.086060423739]
["Corporate Services","LEVS:AH:MRC:MUNICIPAL RUNNING COST","O/304072.BAH.000",null,null,null,null,null,null,"ADM & HO",null,null,null,null,14435.691599999998,15085.297721999998,15764.136119489996]
["Corporate Services","LEVS:AH:MRC:MUNICIPAL RUNNING COST","O/304072.BAH.000",null,null,null,null,null,null,"ADM & HO",null,null,null,null,894772.43414999999,935037.1936867499,977113.86740265356]
["Corporate Services","LEVS:AH:MRC:MUNICIPAL RUNNING COST","O/304072.BAH.000",null,null,null,null,null,null,"ADM & HO",null,null,null,null,1201.107,1255.1568149999998,1311.6388716749998]
["Corporate Services","LEVS:AH:MRC:MUNICIPAL RUNNING COST","O/304072.BAH.000",null,null,null,null,null,null,"ADM & HO",null,null,null,null,253305.48944999999,264704.23647524999,276615.92711663619]
["Corporate Services","LEVS:AH:MRC:MUNICIPAL RUNNING COST","O/304072.BAH.000",null,null,null,null,null,null,"ADM & HO",null,null,null,null,1362560.3077499999,1423875.5215987498,1487949.9200706934]
["Corporate Services","LEVS:AH:MRC:MUNICIPAL RUNNING COST","O/304072.BAH.000",null,null,null,null,null,null,"ADM & HO",null,null,null,null,21491.742600000001,22458.871017000001,23469.520212765001]
["Corporate Services","LEVS:AH:MRC:MUNICIPAL RUNNING COST","O/304073.BAH.000",null,null,null,null,null,null,"ADM & HO",null,null,null,null,1288700.0762999998,1346691.5797334998,1407292.7008215073]
["Corporate Services","LEVS:AH:MRC:MUNICIPAL RUNNING COST","O/304073.BAH.000",null,null,null,null,null,null,"ADM & HO",null,null,null,null,107391.29849999999,112223.90693249999,117273.98274446248]
["Corporate Services","LEVS:AH:MRC:MUNICIPAL RUNNING COST","O/304073.BAH.000",null,null,null,null,null,null,"ADM & HO",null,null,null,null,14831.189999999999,15498.593549999998,16196.030259749996]
["Corporate Services","LEVS:AH:MRC:MUNICIPAL RUNNING COST","O/304073.BAH.000",null,null,null,null,null,null,"ADM & HO",null,null,null,null,44031.786,46013.216369999995,48083.811106649991]
["Corporate Services","LEVS:AH:MRC:MUNICIPAL RUNNING COST","O/304073.BAH.000",null,null,null,null,null,null,"ADM & HO",null,null,null,null,344427.42194999999,359926.65593774995,376123.35545494867]
["Corporate Services","LEVS:AH:MRC:MUNICIPAL RUNNING COST","O/304073.BAH.000",null,null,null,null,null,null,"ADM & HO",null,null,null,null,399.99269999999996,417.99237149999993,436.80202821749992]
["Corporate Services","LEVS:AH:MRC:MUNICIPAL RUNNING COST","O/304073.BAH.000",null,null,null,null,null,null,"ADM & HO",null,null,null,null,128069.57279999999,133832.70357599997,139855.17523691995]
["Corporate Services","LEVS:AH:MRC:MUNICIPAL RUNNING COST","O/304073.BAH.000",null,null,null,null,null,null,"ADM & HO",null,null,null,null,181753.98629999999,189932.91568349997,198479.89688925745]
["Corporate Services","LEVS:AH:MRC:MUNICIPAL RUNNING COST","O/304073.BAH.000",null,null,null,null,null,null,"ADM & HO",null,null,null,null,7163.9142000000002,7486.2903389999992,7823.1734042549988]
["Corporate Services","LEVS:AH:MRC:MUNICIPAL RUNNING COST","O/304074.BAH.000",null,null,null,null,null,null,"ADM & HO",null,null,null,null,1873635.4684499998,1957949.0645302497,2046056.7724341108]
["Corporate Services","LEVS:AH:MRC:MUNICIPAL RUNNING COST","O/304074.BAH.000",null,null,null,null,null,null,"ADM & HO",null,null,null,null,156135.35804999998,163161.44916224998,170503.7143745512]
["Corporate Services","LEVS:AH:MRC:MUNICIPAL RUNNING COST","O/304074.BAH.000",null,null,null,null,null,null,"ADM & HO",null,null,null,null,24943.364999999998,26065.816424999997,27238.778164124997]
["Corporate Services","LEVS:AH:MRC:MUNICIPAL RUNNING COST","O/304074.BAH.000",null,null,null,null,null,null,"ADM & HO",null,null,null,null,26008.514099999997,27178.897234499993,28401.947610052492]
["Corporate Services","LEVS:AH:MRC:MUNICIPAL RUNNING COST","O/304074.BAH.000",null,null,null,null,null,null,"ADM & HO",null,null,null,null,216615.15315,226362.83504174999,236549.16261862873]
["Corporate Services","LEVS:AH:MRC:MUNICIPAL RUNNING COST","O/304074.BAH.000",null,null,null,null,null,null,"ADM & HO",null,null,null,null,0,0,0]
["Corporate Services","LEVS:AH:MRC:MUNICIPAL RUNNING COST","O/304074.BAH.000",null,null,null,null,null,null,"ADM & HO",null,null,null,null,10357.11435,10823.18449575,11310.22779805875]
["Corporate Services","LEVS:AH:MRC:MUNICIPAL RUNNING COST","O/304074.BAH.000",null,null,null,null,null,null,"ADM & HO",null,null,null,null,0,0,0]
["Corporate Services","LEVS:AH:MRC:MUNICIPAL RUNNING COST","O/304074.BAH.000",null,null,null,null,null,null,"ADM & HO",null,null,null,null,533.70344999999998,557.72010524999996,582.81750998624989]
["Corporate Services","LEVS:AH:MRC:MUNICIPAL RUNNING COST","O/304074.BAH.000",null,null,null,null,null,null,"ADM & HO",null,null,null,null,179502.34199999998,187579.94738999996,196021.04502254995]
["Corporate Services","LEVS:AH:MRC:MUNICIPAL RUNNING COST","O/304074.BAH.000",null,null,null,null,null,null,"ADM & HO",null,null,null,null,355247.44919999997,371233.58441399992,387939.0957126299]
["Corporate Services","LEVS:AH:MRC:MUNICIPAL RUNNING COST","O/304074.BAH.000",null,null,null,null,null,null,"ADM & HO",null,null,null,null,9551.5163999999986,9981.3346379999984,10430.494696709997]
["Corporate Services","MSE:AH:MRC:MUNICIPAL RUNNING COST","O/304103.JAH.000",null,null,null,null,null,null,"ADM & HO",null,null,null,null,3663680.9186999998,3828546.5600414993,4000831.1552433665]
["Corporate Services","MSE:AH:MRC:MUNICIPAL RUNNING COST","O/304103.JAH.000",null,null,null,null,null,null,"ADM & HO",null,null,null,null,521208.4227,544662.8017215,569172.62779896741]
["Corporate Services","MSE:AH:MRC:MUNICIPAL RUNNING COST","O/304103.JAH.000",null,null,null,null,null,null,"ADM & HO",null,null,null,null,48538.439999999995,50722.669799999989,53005.189940999982]
["Corporate Services","MSE:AH:MRC:MUNICIPAL RUNNING COST","O/304103.JAH.000",null,null,null,null,null,null,"ADM & HO",null,null,null,null,52017.4329,54358.217380499998,56804.337162622498]
["Corporate Services","MSE:AH:MRC:MUNICIPAL RUNNING COST","O/304103.JAH.000",null,null,null,null,null,null,"ADM & HO",null,null,null,null,214564.08029999997,224219.46391349996,234309.33978960745]
["Corporate Services","MSE:AH:MRC:MUNICIPAL RUNNING COST","O/304103.JAH.000",null,null,null,null,null,null,"ADM & HO",null,null,null,null,68402.798699999999,71480.924641499994,74697.566250367483]
["Corporate Services","MSE:AH:MRC:MUNICIPAL RUNNING COST","O/304103.JAH.000",null,null,null,null,null,null,"ADM & HO",null,null,null,null,178803.74459999998,186849.91310699997,195258.15919681496]
["Corporate Services","MSE:AH:MRC:MUNICIPAL RUNNING COST","O/304103.JAH.000",null,null,null,null,null,null,"ADM & HO",null,null,null,null,44398.071450000003,46395.984665249998,48483.803975186245]
["Corporate Services","MSE:AH:MRC:MUNICIPAL RUNNING COST","O/304103.JAH.000",null,null,null,null,null,null,"ADM & HO",null,null,null,null,551.44634999999994,576.26143574999992,602.19320035874989]
["Corporate Services","MSE:AH:MRC:MUNICIPAL RUNNING COST","O/304103.JAH.000",null,null,null,null,null,null,"ADM & HO",null,null,null,null,1644.0192,1718.0000639999998,1795.3100668799998]
["Corporate Services","MSE:AH:MRC:MUNICIPAL RUNNING COST","O/304103.JAH.000",null,null,null,null,null,null,"ADM & HO",null,null,null,null,445779.81899999996,465839.91085499991,486802.70684347488]
["Corporate Services","MSE:AH:MRC:MUNICIPAL RUNNING COST","O/304103.JAH.000",null,null,null,null,null,null,"ADM & HO",null,null,null,null,1336426.2088500001,1396565.3882482499,1459410.8307194209]
["Corporate Services","MSE:AH:MRC:MUNICIPAL RUNNING COST","O/304103.JAH.000",null,null,null,null,null,null,"ADM & HO",null,null,null,null,28656.381000000001,29945.918145,31293.484461524997]
["Corporate Services","LEVS:AH:MRC:MUNICIPAL RUNNING COST","O/304346.BAH.000",null,null,null,null,null,null,"ADM & HO",null,null,null,null,4705814.9001000002,4917576.5706044994,5138867.5162817016]
["Corporate Services","LEVS:AH:MRC:MUNICIPAL RUNNING COST","O/304346.BAH.000",null,null,null,null,null,null,"ADM & HO",null,null,null,null,450249.09149999998,470510.30061749998,491683.26414528745]
["Corporate Services","LEVS:AH:MRC:MUNICIPAL RUNNING COST","O/304346.BAH.000",null,null,null,null,null,null,"ADM & HO",null,null,null,null,38426.264999999999,40155.446924999997,41962.442036624991]
["Corporate Services","LEVS:AH:MRC:MUNICIPAL RUNNING COST","O/304346.BAH.000",null,null,null,null,null,null,"ADM & HO",null,null,null,null,26008.514099999997,27178.897234499993,28401.947610052492]
["Corporate Services","LEVS:AH:MRC:MUNICIPAL RUNNING COST","O/304346.BAH.000",null,null,null,null,null,null,"ADM & HO",null,null,null,null,0,0,0]
["Corporate Services","LEVS:AH:MRC:MUNICIPAL RUNNING COST","O/304346.BAH.000",null,null,null,null,null,null,"ADM & HO",null,null,null,null,250149.3726,261406.09436699998,273169.36861351499]
["Corporate Services","LEVS:AH:MRC:MUNICIPAL RUNNING COST","O/304346.BAH.000",null,null,null,null,null,null,"ADM & HO",null,null,null,null,197073.93674999999,205942.26390374999,215209.66577941872]
["Corporate Services","LEVS:AH:MRC:MUNICIPAL RUNNING COST","O/304346.BAH.000",null,null,null,null,null,null,"ADM & HO",null,null,null,null,39693.657599999999,41479.872191999995,43346.46644063999]
["Corporate Services","LEVS:AH:MRC:MUNICIPAL RUNNING COST","O/304346.BAH.000",null,null,null,null,null,null,"ADM & HO",null,null,null,null,0,0,0]
["Corporate Services","LEVS:AH:MRC:MUNICIPAL RUNNING COST","O/304346.BAH.000",null,null,null,null,null,null,"ADM & HO",null,null,null,null,1601.0997,1673.1491864999998,1748.4408998924996]
["Corporate Services","LEVS:AH:MRC:MUNICIPAL RUNNING COST","O/304346.BAH.000",null,null,null,null,null,null,"ADM & HO",null,null,null,null,332626.51905,347594.71240724996,363236.47446557618]
["Corporate Services","LEVS:AH:MRC:MUNICIPAL RUNNING COST","O/304346.BAH.000",null,null,null,null,null,null,"ADM & HO",null,null,null,null,1578502.9666499998,1649535.6001492497,1723764.7021559658]
["Corporate Services","LEVS:AH:MRC:MUNICIPAL RUNNING COST","O/304346.BAH.000",null,null,null,null,null,null,"ADM & HO",null,null,null,null,32661.206999999999,34130.961314999993,35666.854574174991]
["Corporate Services","LEVS:AH:MRC:MUNICIPAL RUNNING COST","O/304502.BAH.000",null,null,null,null,null,null,"ADM & HO",null,null,null,null,9798421.2394499984,10239350.195225248,10700120.954010384]
["Corporate Services","LEVS:AH:MRC:MUNICIPAL RUNNING COST","O/304502.BAH.000",null,null,null,null,null,null,"ADM & HO",null,null,null,null,910003.61684999999,950953.7796082499,993746.69969062111]
["Corporate Services","LEVS:AH:MRC:MUNICIPAL RUNNING COST","O/304502.BAH.000",null,null,null,null,null,null,"ADM & HO",null,null,null,null,77526.675000000003,81015.375375000003,84661.067266875005]
["Corporate Services","LEVS:AH:MRC:MUNICIPAL RUNNING COST","O/304502.BAH.000",null,null,null,null,null,null,"ADM & HO",null,null,null,null,26008.514099999997,27178.897234499993,28401.947610052492]
["Corporate Services","LEVS:AH:MRC:MUNICIPAL RUNNING COST","O/304502.BAH.000",null,null,null,null,null,null,"ADM & HO",null,null,null,null,0,0,0]
["Corporate Services","LEVS:AH:MRC:MUNICIPAL RUNNING COST","O/304502.BAH.000",null,null,null,null,null,null,"ADM & HO",null,null,null,null,485476.53314999997,507322.97714174993,530152.51111312862]
["Corporate Services","LEVS:AH:MRC:MUNICIPAL RUNNING COST","O/304502.BAH.000",null,null,null,null,null,null,"ADM & HO",null,null,null,null,0,0,0]
["Corporate Services","LEVS:AH:MRC:MUNICIPAL RUNNING COST","O/304502.BAH.000",null,null,null,null,null,null,"ADM & HO",null,null,null,null,306006.78015000001,319777.08525675,334167.05409330374]
["Corporate Services","LEVS:AH:MRC:MUNICIPAL RUNNING COST","O/304502.BAH.000",null,null,null,null,null,null,"ADM & HO",null,null,null,null,79723.269449999993,83310.816575249992,87059.803321136234]
["Corporate Services","LEVS:AH:MRC:MUNICIPAL RUNNING COST","O/304502.BAH.000",null,null,null,null,null,null,"ADM & HO",null,null,null,null,1734.7998,1812.8657909999999,1894.4447515949998]
["Corporate Services","LEVS:AH:MRC:MUNICIPAL RUNNING COST","O/304502.BAH.000",null,null,null,null,null,null,"ADM & HO",null,null,null,null,189816.7605,198358.5147225,207284.64788501247]
["Corporate Services","LEVS:AH:MRC:MUNICIPAL RUNNING COST","O/304502.BAH.000",null,null,null,null,null,null,"ADM & HO",null,null,null,null,2797681.4510999997,2923577.1163994996,3055138.0866374769]
["Corporate Services","LEVS:AH:MRC:MUNICIPAL RUNNING COST","O/304502.BAH.000",null,null,null,null,null,null,"ADM & HO",null,null,null,null,35619.574650000002,37222.455509250001,38897.466007166251]
["Corporate Services","LEVS:AH:MRC:MUNICIPAL RUNNING COST","O/304505.BAH.000",null,null,null,null,null,null,"ADM & HO",null,null,null,null,1576998.1855499998,1647963.1038997497,1722121.4435752383]
["Corporate Services","LEVS:AH:MRC:MUNICIPAL RUNNING COST","O/304505.BAH.000",null,null,null,null,null,null,"ADM & HO",null,null,null,null,131415.57915000001,137329.28021174998,143509.09782127873]
["Corporate Services","LEVS:AH:MRC:MUNICIPAL RUNNING COST","O/304505.BAH.000",null,null,null,null,null,null,"ADM & HO",null,null,null,null,13004.257049999998,13589.448617249996,14200.973805026246]
["Corporate Services","LEVS:AH:MRC:MUNICIPAL RUNNING COST","O/304505.BAH.000",null,null,null,null,null,null,"ADM & HO",null,null,null,null,88018.61834999999,91979.456175749976,96118.531703658722]
["Corporate Services","LEVS:AH:MRC:MUNICIPAL RUNNING COST","O/304505.BAH.000",null,null,null,null,null,null,"ADM & HO",null,null,null,null,48871.018199999999,51070.214018999992,53368.373649854984]
["Corporate Services","LEVS:AH:MRC:MUNICIPAL RUNNING COST","O/304505.BAH.000",null,null,null,null,null,null,"ADM & HO",null,null,null,null,0,0,0]
["Corporate Services","LEVS:AH:MRC:MUNICIPAL RUNNING COST","O/304505.BAH.000",null,null,null,null,null,null,"ADM & HO",null,null,null,null,533.70344999999998,557.72010524999996,582.81750998624989]
["Corporate Services","LEVS:AH:MRC:MUNICIPAL RUNNING COST","O/304505.BAH.000",null,null,null,null,null,null,"ADM & HO",null,null,null,null,112463.11605,117523.95627224998,122812.53430450123]
["Corporate Services","LEVS:AH:MRC:MUNICIPAL RUNNING COST","O/304505.BAH.000",null,null,null,null,null,null,"ADM & HO",null,null,null,null,339337.62719999999,354607.82042399998,370565.17234307993]
["Corporate Services","LEVS:AH:MRC:MUNICIPAL RUNNING COST","O/304505.BAH.000",null,null,null,null,null,null,"ADM & HO",null,null,null,null,9551.5163999999986,9981.3346379999984,10430.494696709997]
["Corporate Services","LEVS:AH:MRC:MUNICIPAL RUNNING COST","O/304506.BAH.000",null,null,null,null,null,null,"ADM & HO",null,null,null,null,2743581.3893999998,2867042.5519229993,2996059.4667595341]
["Corporate Services","LEVS:AH:MRC:MUNICIPAL RUNNING COST","O/304506.BAH.000",null,null,null,null,null,null,"ADM & HO",null,null,null,null,228631.78245,238920.21266024999,249671.62222996121]
["Corporate Services","LEVS:AH:MRC:MUNICIPAL RUNNING COST","O/304506.BAH.000",null,null,null,null,null,null,"ADM & HO",null,null,null,null,0,0,0]
["Corporate Services","LEVS:AH:MRC:MUNICIPAL RUNNING COST","O/304506.BAH.000",null,null,null,null,null,null,"ADM & HO",null,null,null,null,26008.514099999997,27178.897234499993,28401.947610052492]
["Corporate Services","LEVS:AH:MRC:MUNICIPAL RUNNING COST","O/304506.BAH.000",null,null,null,null,null,null,"ADM & HO",null,null,null,null,128744.84669999998,134538.36480149996,140592.59121756745]
["Corporate Services","LEVS:AH:MRC:MUNICIPAL RUNNING COST","O/304506.BAH.000",null,null,null,null,null,null,"ADM & HO",null,null,null,null,6279.6659999999993,6562.2509699999991,6857.5522636499991]
["Corporate Services","LEVS:AH:MRC:MUNICIPAL RUNNING COST","O/304506.BAH.000",null,null,null,null,null,null,"ADM & HO",null,null,null,null,1067.39625,1115.4290812499999,1165.6233899062497]
["Corporate Services","LEVS:AH:MRC:MUNICIPAL RUNNING COST","O/304506.BAH.000",null,null,null,null,null,null,"ADM & HO",null,null,null,null,112738.39724999999,117811.62512624999,123113.14825693122]
["Corporate Services","LEVS:AH:MRC:MUNICIPAL RUNNING COST","O/304506.BAH.000",null,null,null,null,null,null,"ADM & HO",null,null,null,null,455297.30865000002,475785.68753925001,497196.04347851622]
["Corporate Services","LEVS:AH:MRC:MUNICIPAL RUNNING COST","O/304506.BAH.000",null,null,null,null,null,null,"ADM & HO",null,null,null,null,19104.151049999997,19963.837847249994,20862.210550376243]
["Corporate Services","LEVS:AH:MRC:MUNICIPAL RUNNING COST","O/304507.BAH.000",null,null,null,null,null,null,"ADM & HO",null,null,null,null,9995121.1588499993,10444901.610998249,10914922.183493169]
["Corporate Services","LEVS:AH:MRC:MUNICIPAL RUNNING COST","O/304507.BAH.000",null,null,null,null,null,null,"ADM & HO",null,null,null,null,1038313.6346999999,1085037.7482614999,1133864.4469332674]
["Corporate Services","LEVS:AH:MRC:MUNICIPAL RUNNING COST","O/304507.BAH.000",null,null,null,null,null,null,"ADM & HO",null,null,null,null,60673.049999999996,63403.33724999999,66256.48742624998]
["Corporate Services","LEVS:AH:MRC:MUNICIPAL RUNNING COST","O/304507.BAH.000",null,null,null,null,null,null,"ADM & HO",null,null,null,null,104034.05639999999,108715.58893799997,113607.79044020997]
["Corporate Services","LEVS:AH:MRC:MUNICIPAL RUNNING COST","O/304507.BAH.000",null,null,null,null,null,null,"ADM & HO",null,null,null,null,147506.30205,154144.08564224999,161080.56949615123]
["Corporate Services","LEVS:AH:MRC:MUNICIPAL RUNNING COST","O/304507.BAH.000",null,null,null,null,null,null,"ADM & HO",null,null,null,null,0,0,0]
["Corporate Services","LEVS:AH:MRC:MUNICIPAL RUNNING COST","O/304507.BAH.000",null,null,null,null,null,null,"ADM & HO",null,null,null,null,135124.50555,141205.10829974999,147559.33817323874]
["Corporate Services","LEVS:AH:MRC:MUNICIPAL RUNNING COST","O/304507.BAH.000",null,null,null,null,null,null,"ADM & HO",null,null,null,null,187835.90309999997,196288.51873949994,205121.50208277741]
["Corporate Services","LEVS:AH:MRC:MUNICIPAL RUNNING COST","O/304507.BAH.000",null,null,null,null,null,null,"ADM & HO",null,null,null,null,3337.0177499999995,3487.1835487499993,3644.1068084437488]
["Corporate Services","LEVS:AH:MRC:MUNICIPAL RUNNING COST","O/304507.BAH.000",null,null,null,null,null,null,"ADM & HO",null,null,null,null,915730.48394999991,956938.35572774988,1000000.5817354985]
["Corporate Services","LEVS:AH:MRC:MUNICIPAL RUNNING COST","O/304507.BAH.000",null,null,null,null,null,null,"ADM & HO",null,null,null,null,4834898.0546999993,5052468.467161499,5279829.5481837662]
["Corporate Services","LEVS:AH:MRC:MUNICIPAL RUNNING COST","O/304507.BAH.000",null,null,null,null,null,null,"ADM & HO",null,null,null,null,62371.895400000001,65178.630692999999,68111.669074184989]
["Corporate Services","LEVS:AH:MRC:MUNICIPAL RUNNING COST","O/304525.BAH.000",null,null,null,null,null,null,"ADM & HO",null,null,null,null,9673963.0283999983,10109291.364677997,10564209.476088507]
["Corporate Services","LEVS:AH:MRC:MUNICIPAL RUNNING COST","O/304525.BAH.000",null,null,null,null,null,null,"ADM & HO",null,null,null,null,947848.99890000001,990502.20385049994,1035074.8030237723]
["Corporate Services","LEVS:AH:MRC:MUNICIPAL RUNNING COST","O/304525.BAH.000",null,null,null,null,null,null,"ADM & HO",null,null,null,null,40448.699999999997,42268.891499999991,44170.991617499989]
["Corporate Services","LEVS:AH:MRC:MUNICIPAL RUNNING COST","O/304525.BAH.000",null,null,null,null,null,null,"ADM & HO",null,null,null,null,78025.542300000001,81536.691703499993,85205.84283015749]
["Corporate Services","LEVS:AH:MRC:MUNICIPAL RUNNING COST","O/304525.BAH.000",null,null,null,null,null,null,"ADM & HO",null,null,null,null,0,0,0]
["Corporate Services","LEVS:AH:MRC:MUNICIPAL RUNNING COST","O/304525.BAH.000",null,null,null,null,null,null,"ADM & HO",null,null,null,null,432392.10869999998,451849.75359149993,472182.99250311742]
["Corporate Services","LEVS:AH:MRC:MUNICIPAL RUNNING COST","O/304525.BAH.000",null,null,null,null,null,null,"ADM & HO",null,null,null,null,436023.50309999997,455644.56073949992,476148.56597277737]
["Corporate Services","LEVS:AH:MRC:MUNICIPAL RUNNING COST","O/304525.BAH.000",null,null,null,null,null,null,"ADM & HO",null,null,null,null,268232.18864999997,280302.63713924994,292916.25581051619]
["Corporate Services","LEVS:AH:MRC:MUNICIPAL RUNNING COST","O/304525.BAH.000",null,null,null,null,null,null,"ADM & HO",null,null,null,null,4270.7138999999997,4462.8960254999993,4663.7263466474988]
["Corporate Services","LEVS:AH:MRC:MUNICIPAL RUNNING COST","O/304525.BAH.000",null,null,null,null,null,null,"ADM & HO",null,null,null,null,857361.8809499999,895943.16559274984,936260.60804442351]
["Corporate Services","LEVS:AH:MRC:MUNICIPAL RUNNING COST","O/304525.BAH.000",null,null,null,null,null,null,"ADM & HO",null,null,null,null,3838572.3751499997,4011308.1320317495,4191816.997973178]
["Corporate Services","LEVS:AH:MRC:MUNICIPAL RUNNING COST","O/304525.BAH.000",null,null,null,null,null,null,"ADM & HO",null,null,null,null,83492.858250000005,87250.036871250006,91176.288530456251]
["Corporate Services","LEVS:AH:MRC:MUNICIPAL RUNNING COST","O/304526.BAH.000",null,null,null,null,null,null,"ADM & HO",null,null,null,null,2296738.98795,2400092.2424077499,2508096.3933160985]
["Corporate Services","LEVS:AH:MRC:MUNICIPAL RUNNING COST","O/304526.BAH.000",null,null,null,null,null,null,"ADM & HO",null,null,null,null,191394.2598,200007.00149099997,209007.31655809496]
["Corporate Services","LEVS:AH:MRC:MUNICIPAL RUNNING COST","O/304526.BAH.000",null,null,null,null,null,null,"ADM & HO",null,null,null,null,10112.174999999999,10567.222874999998,11042.747904374997]
["Corporate Services","LEVS:AH:MRC:MUNICIPAL RUNNING COST","O/304526.BAH.000",null,null,null,null,null,null,"ADM & HO",null,null,null,null,39109.3986,40869.321536999996,42708.441006164991]
["Corporate Services","LEVS:AH:MRC:MUNICIPAL RUNNING COST","O/304526.BAH.000",null,null,null,null,null,null,"ADM & HO",null,null,null,null,399.99269999999996,417.99237149999993,436.80202821749992]
["Corporate Services","LEVS:AH:MRC:MUNICIPAL RUNNING COST","O/304526.BAH.000",null,null,null,null,null,null,"ADM & HO",null,null,null,null,81317.617050000001,84976.909817249994,88800.870759026235]
["Corporate Services","LEVS:AH:MRC:MUNICIPAL RUNNING COST","O/304526.BAH.000",null,null,null,null,null,null,"ADM & HO",null,null,null,null,231376.68150000001,241788.63216749998,252669.12061503745]
["Corporate Services","LEVS:AH:MRC:MUNICIPAL RUNNING COST","O/304526.BAH.000",null,null,null,null,null,null,"ADM & HO",null,null,null,null,23181.599399999996,24224.771372999992,25314.88608478499]
["Corporate Services","LEVS:AH:MRC:MUNICIPAL RUNNING COST","O/304530.BAH.000",null,null,null,null,null,null,"ADM & HO",null,null,null,null,4885280.5102499994,5105118.1332112486,5334848.4492057543]
["Corporate Services","LEVS:AH:MRC:MUNICIPAL RUNNING COST","O/304530.BAH.000",null,null,null,null,null,null,"ADM & HO",null,null,null,null,407106.05865000002,425425.83128925,444569.99369726621]
["Corporate Services","LEVS:AH:MRC:MUNICIPAL RUNNING COST","O/304530.BAH.000",null,null,null,null,null,null,"ADM & HO",null,null,null,null,26291.654999999999,27474.779474999996,28711.144551374993]
["Corporate Services","LEVS:AH:MRC:MUNICIPAL RUNNING COST","O/304530.BAH.000",null,null,null,null,null,null,"ADM & HO",null,null,null,null,26008.514099999997,27178.897234499993,28401.947610052492]
["Corporate Services","LEVS:AH:MRC:MUNICIPAL RUNNING COST","O/304530.BAH.000",null,null,null,null,null,null,"ADM & HO",null,null,null,null,356215.97084999998,372245.68953824998,388996.7455674712]
["Corporate Services","LEVS:AH:MRC:MUNICIPAL RUNNING COST","O/304530.BAH.000",null,null,null,null,null,null,"ADM & HO",null,null,null,null,0,0,0]
["Corporate Services","LEVS:AH:MRC:MUNICIPAL RUNNING COST","O/304530.BAH.000",null,null,null,null,null,null,"ADM & HO",null,null,null,null,108899.13615000001,113799.59727674999,118920.57915420373]
["Corporate Services","LEVS:AH:MRC:MUNICIPAL RUNNING COST","O/304530.BAH.000",null,null,null,null,null,null,"ADM & HO",null,null,null,null,1067.39625,1115.4290812499999,1165.6233899062497]
["Corporate Services","LEVS:AH:MRC:MUNICIPAL RUNNING COST","O/304530.BAH.000",null,null,null,null,null,null,"ADM & HO",null,null,null,null,253558.29914999998,264968.42261174996,276892.0016292787]
["Corporate Services","LEVS:AH:MRC:MUNICIPAL RUNNING COST","O/304530.BAH.000",null,null,null,null,null,null,"ADM & HO",null,null,null,null,880297.42274999991,919910.80677374988,961306.79307856853]
["Corporate Services","LEVS:AH:MRC:MUNICIPAL RUNNING COST","O/304530.BAH.000",null,null,null,null,null,null,"ADM & HO",null,null,null,null,24060.235049999999,25142.945627249999,26274.378180476248]
["Community Services","MSE:AH:MRC:MUNICIPAL RUNNING COST","O/402284.JAH.000",null,null,null,null,null,null,"ADM & HO",null,null,null,null,1572608.38335,1643375.7606007499,1717327.6698277835]
["Community Services","MSE:AH:MRC:MUNICIPAL RUNNING COST","O/402284.JAH.000",null,null,null,null,null,null,"ADM & HO",null,null,null,null,22920.93,23952.37185,25030.228583249998]
["Community Services","MSE:AH:MRC:MUNICIPAL RUNNING COST","O/402284.JAH.000",null,null,null,null,null,null,"ADM & HO",null,null,null,null,0,0,0]
["Community Services","MSE:AH:MRC:MUNICIPAL RUNNING COST","O/402284.JAH.000",null,null,null,null,null,null,"ADM & HO",null,null,null,null,2004.4577999999997,2094.6584009999997,2188.9180290449995]
["Community Services","MSE:AH:MRC:MUNICIPAL RUNNING COST","O/402284.JAH.000",null,null,null,null,null,null,"ADM & HO",null,null,null,null,132.58184999999997,138.54803324999997,144.78269474624997]
["Community Services","MSE:AH:MRC:MUNICIPAL RUNNING COST","O/402284.JAH.000",null,null,null,null,null,null,"ADM & HO",null,null,null,null,5446451.7692999998,5691542.0989184994,5947661.4933698317]
["Community Services","MSE:AH:MRC:MUNICIPAL RUNNING COST","O/402284.JAH.000",null,null,null,null,null,null,"ADM & HO",null,null,null,null,78369.356249999997,81895.977281249987,85581.296258906237]
["Community Services","MSE:AH:MRC:MUNICIPAL RUNNING COST","O/402284.JAH.000",null,null,null,null,null,null,"ADM & HO",null,null,null,null,6741.45,7044.8152499999997,7361.8319362499988]
["Community Services","MSE:AH:MRC:MUNICIPAL RUNNING COST","O/402284.JAH.000",null,null,null,null,null,null,"ADM & HO",null,null,null,null,146777.09654999999,153382.06589474998,160284.25886001371]
["Community Services","MSE:AH:MRC:MUNICIPAL RUNNING COST","O/402284.JAH.000",null,null,null,null,null,null,"ADM & HO",null,null,null,null,0,0,0]
["Community Services","MSE:AH:MRC:MUNICIPAL RUNNING COST","O/402284.JAH.000",null,null,null,null,null,null,"ADM & HO",null,null,null,null,71312.187000000005,74521.235415000003,77874.691008674999]
["Community Services","MSE:AH:MRC:MUNICIPAL RUNNING COST","O/402284.JAH.000",null,null,null,null,null,null,"ADM & HO",null,null,null,null,89139.946199999991,93151.243778999982,97343.049749054975]
["Community Services","MSE:AH:MRC:MUNICIPAL RUNNING COST","O/402284.JAH.000",null,null,null,null,null,null,"ADM & HO",null,null,null,null,132.58184999999997,138.54803324999997,144.78269474624997]
["Community Services","MSE:AH:MRC:MUNICIPAL RUNNING COST","O/402284.JAH.000",null,null,null,null,null,null,"ADM & HO",null,null,null,null,40876.787399999994,42716.242832999989,44638.473760484987]
["Community Services","MSE:AH:MRC:MUNICIPAL RUNNING COST","O/402284.JAH.000",null,null,null,null,null,null,"ADM & HO",null,null,null,null,264555.85125000001,276460.86455624999,288901.60346128122]
["Community Services","MSE:AH:MRC:MUNICIPAL RUNNING COST","O/402284.JAH.000",null,null,null,null,null,null,"ADM & HO",null,null,null,null,2387.6021999999998,2495.0442989999997,2607.3212924549994]
["Community Services","MSE:AH:MRC:MUNICIPAL RUNNING COST","O/403066.JAH.000",null,null,null,null,null,null,"ADM & HO",null,null,null,null,6300576.0289500002,6584101.95025275,6880386.5380141232]
["Community Services","MSE:AH:MRC:MUNICIPAL RUNNING COST","O/403066.JAH.000",null,null,null,null,null,null,"ADM & HO",null,null,null,null,525047.72639999993,548674.87408799992,573365.24342195992]
["Community Services","MSE:AH:MRC:MUNICIPAL RUNNING COST","O/403066.JAH.000",null,null,null,null,null,null,"ADM & HO",null,null,null,null,39774.555,41564.409974999995,43434.808423874994]
["Community Services","MSE:AH:MRC:MUNICIPAL RUNNING COST","O/403066.JAH.000",null,null,null,null,null,null,"ADM & HO",null,null,null,null,13004.257049999998,13589.448617249996,14200.973805026246]
["Community Services","MSE:AH:MRC:MUNICIPAL RUNNING COST","O/403066.JAH.000",null,null,null,null,null,null,"ADM & HO",null,null,null,null,134829,140896.30499999999,147236.638725]
["Community Services","MSE:AH:MRC:MUNICIPAL RUNNING COST","O/403066.JAH.000",null,null,null,null,null,null,"ADM & HO",null,null,null,null,430632.59024999995,450011.05681124993,470261.55436775612]
["Community Services","MSE:AH:MRC:MUNICIPAL RUNNING COST","O/403066.JAH.000",null,null,null,null,null,null,"ADM & HO",null,null,null,null,344722.92749999999,360235.45923749998,376446.05490318744]
["Community Services","MSE:AH:MRC:MUNICIPAL RUNNING COST","O/403066.JAH.000",null,null,null,null,null,null,"ADM & HO",null,null,null,null,276834.27885,289291.82139825,302309.95336117124]
["Community Services","MSE:AH:MRC:MUNICIPAL RUNNING COST","O/403066.JAH.000",null,null,null,null,null,null,"ADM & HO",null,null,null,null,123614.60325,129177.26039624999,134990.23711408122]
["Community Services","MSE:AH:MRC:MUNICIPAL RUNNING COST","O/403066.JAH.000",null,null,null,null,null,null,"ADM & HO",null,null,null,null,201634.52234999998,210708.07585574998,220189.93926925873]
["Community Services","MSE:AH:MRC:MUNICIPAL RUNNING COST","O/403066.JAH.000",null,null,null,null,null,null,"ADM & HO",null,null,null,null,443857.06799999997,463830.63605999993,484703.01468269987]
["Community Services","MSE:AH:MRC:MUNICIPAL RUNNING COST","O/403066.JAH.000",null,null,null,null,null,null,"ADM & HO",null,null,null,null,329181.63809999998,343994.81181449996,359474.57834615244]
["Community Services","MSE:AH:MRC:MUNICIPAL RUNNING COST","O/403066.JAH.000",null,null,null,null,null,null,"ADM & HO",null,null,null,null,1601.0997,1673.1491864999998,1748.4408998924996]
["Community Services","MSE:AH:MRC:MUNICIPAL RUNNING COST","O/403066.JAH.000",null,null,null,null,null,null,"ADM & HO",null,null,null,null,484584.41460000002,506390.71325699997,529178.2953535649]
["Community Services","MSE:AH:MRC:MUNICIPAL RUNNING COST","O/403066.JAH.000",null,null,null,null,null,null,"ADM & HO",null,null,null,null,1023371.2160999998,1069422.9208244998,1117546.9522616023]
["Community Services","MSE:AH:MRC:MUNICIPAL RUNNING COST","O/403066.JAH.000",null,null,null,null,null,null,"ADM & HO",null,null,null,null,37430.777549999992,39115.162539749988,40875.344854038733]
["Community Services","WAST:AH:MRC:MUNICIPAL RUNNING COST","O/403068.MAH.000",null,null,null,null,null,null,"ADM & HO",null,null,null,null,5138935.4262000006,5370187.5203790003,5611845.9587960551]
["Community Services","WAST:AH:MRC:MUNICIPAL RUNNING COST","O/403068.MAH.000",null,null,null,null,null,null,"ADM & HO",null,null,null,null,0,0,0]
["Community Services","WAST:AH:MRC:MUNICIPAL RUNNING COST","O/403068.MAH.000",null,null,null,null,null,null,"ADM & HO",null,null,null,null,428243.86979999999,447514.84394099994,467653.01191834488]
["Community Services","WAST:AH:MRC:MUNICIPAL RUNNING COST","O/403068.MAH.000",null,null,null,null,null,null,"ADM & HO",null,null,null,null,0,0,0]
["Community Services","WAST:AH:MRC:MUNICIPAL RUNNING COST","O/403068.MAH.000",null,null,null,null,null,null,"ADM & HO",null,null,null,null,70111.08,73266.078599999993,76563.052136999991]
["Community Services","WAST:AH:MRC:MUNICIPAL RUNNING COST","O/403068.MAH.000",null,null,null,null,null,null,"ADM & HO",null,null,null,null,0,0,0]
["Community Services","WAST:AH:MRC:MUNICIPAL RUNNING COST","O/403068.MAH.000",null,null,null,null,null,null,"ADM & HO",null,null,null,null,39012.77115,40768.345851749997,42602.921415078745]
["Community Services","WAST:AH:MRC:MUNICIPAL RUNNING COST","O/403068.MAH.000",null,null,null,null,null,null,"ADM & HO",null,null,null,null,0,0,0]
["Community Services","WAST:AH:MRC:MUNICIPAL RUNNING COST","O/403068.MAH.000",null,null,null,null,null,null,"ADM & HO",null,null,null,null,438370.65659999999,458097.33614699997,478711.7162736149]
["Community Services","WAST:AH:MRC:MUNICIPAL RUNNING COST","O/403068.MAH.000",null,null,null,null,null,null,"ADM & HO",null,null,null,null,0,0,0]
["Community Services","WAST:AH:MRC:MUNICIPAL RUNNING COST","O/403068.MAH.000",null,null,null,null,null,null,"ADM & HO",null,null,null,null,306124.75020000001,319900.36395899998,334295.88033715496]
["Community Services","WAST:AH:MRC:MUNICIPAL RUNNING COST","O/403068.MAH.000",null,null,null,null,null,null,"ADM & HO",null,null,null,null,0,0,0]
["Community Services","WAST:AH:MRC:MUNICIPAL RUNNING COST","O/403068.MAH.000",null,null,null,null,null,null,"ADM & HO",null,null,null,null,0,0,0]
["Community Services","WAST:AH:MRC:MUNICIPAL RUNNING COST","O/403068.MAH.000",null,null,null,null,null,null,"ADM & HO",null,null,null,null,109455.31109999999,114380.80009949999,119527.93610397748]
["Community Services","WAST:AH:MRC:MUNICIPAL RUNNING COST","O/403068.MAH.000",null,null,null,null,null,null,"ADM & HO",null,null,null,null,0,0,0]
["Community Services","WAST:AH:MRC:MUNICIPAL RUNNING COST","O/403068.MAH.000",null,null,null,null,null,null,"ADM & HO",null,null,null,null,0,0,0]
["Community Services","WAST:AH:MRC:MUNICIPAL RUNNING COST","O/403068.MAH.000",null,null,null,null,null,null,"ADM & HO",null,null,null,null,1601.0997,1673.1491864999998,1748.4408998924996]
["Community Services","WAST:AH:MRC:MUNICIPAL RUNNING COST","O/403068.MAH.000",null,null,null,null,null,null,"ADM & HO",null,null,null,null,0,0,0]
["Community Services","WAST:AH:MRC:MUNICIPAL RUNNING COST","O/403068.MAH.000",null,null,null,null,null,null,"ADM & HO",null,null,null,null,489430.39889999997,511454.76685049996,534470.23135877238]
["Community Services","WAST:AH:MRC:MUNICIPAL RUNNING COST","O/403068.MAH.000",null,null,null,null,null,null,"ADM & HO",null,null,null,null,0,0,0]
["Community Services","WAST:AH:MRC:MUNICIPAL RUNNING COST","O/403068.MAH.000",null,null,null,null,null,null,"ADM & HO",null,null,null,null,1034385.6164999999,1080932.9692424999,1129574.9528584124]
["Community Services","WAST:AH:MRC:MUNICIPAL RUNNING COST","O/403068.MAH.000",null,null,null,null,null,null,"ADM & HO",null,null,null,null,0,0,0]
["Community Services","WAST:AH:MRC:MUNICIPAL RUNNING COST","O/403068.MAH.000",null,null,null,null,null,null,"ADM & HO",null,null,null,null,28656.785699999997,29946.341056499994,31293.926404042493]
["Community Services","WAST:AH:MRC:MUNICIPAL RUNNING COST","O/403068.MAH.000",null,null,null,null,null,null,"ADM & HO",null,null,null,null,0,0,0]
["Community Services","MSE:AH:MRC:MUNICIPAL RUNNING COST","O/403069.JAH.000",null,null,null,null,null,null,"ADM & HO",null,null,null,null,19877277.682499997,20771755.178212497,21706484.161232058]
["Community Services","MSE:AH:MRC:MUNICIPAL RUNNING COST","O/403069.JAH.000",null,null,null,null,null,null,"ADM & HO",null,null,null,null,0,0,0]
["Community Services","MSE:AH:MRC:MUNICIPAL RUNNING COST","O/403069.JAH.000",null,null,null,null,null,null,"ADM & HO",null,null,null,null,1656439.4323499999,1730979.2068057498,1808873.2711120085]
["Community Services","MSE:AH:MRC:MUNICIPAL RUNNING COST","O/403069.JAH.000",null,null,null,null,null,null,"ADM & HO",null,null,null,null,0,0,0]
["Community Services","MSE:AH:MRC:MUNICIPAL RUNNING COST","O/403069.JAH.000",null,null,null,null,null,null,"ADM & HO",null,null,null,null,35729.684999999998,37337.520824999992,39017.70926212499]
["Community Services","MSE:AH:MRC:MUNICIPAL RUNNING COST","O/403069.JAH.000",null,null,null,null,null,null,"ADM & HO",null,null,null,null,0,0,0]
["Community Services","MSE:AH:MRC:MUNICIPAL RUNNING COST","O/403069.JAH.000",null,null,null,null,null,null,"ADM & HO",null,null,null,null,78025.542300000001,81536.691703499993,85205.84283015749]
["Community Services","MSE:AH:MRC:MUNICIPAL RUNNING COST","O/403069.JAH.000",null,null,null,null,null,null,"ADM & HO",null,null,null,null,0,0,0]
["Community Services","MSE:AH:MRC:MUNICIPAL RUNNING COST","O/403069.JAH.000",null,null,null,null,null,null,"ADM & HO",null,null,null,null,0,0,0]
["Community Services","MSE:AH:MRC:MUNICIPAL RUNNING COST","O/403069.JAH.000",null,null,null,null,null,null,"ADM & HO",null,null,null,null,0,0,0]
["Community Services","MSE:AH:MRC:MUNICIPAL RUNNING COST","O/403069.JAH.000",null,null,null,null,null,null,"ADM & HO",null,null,null,null,629048.12879999995,657355.29459599988,686936.28285281977]
["Community Services","MSE:AH:MRC:MUNICIPAL RUNNING COST","O/403069.JAH.000",null,null,null,null,null,null,"ADM & HO",null,null,null,null,0,0,0]
["Community Services","MSE:AH:MRC:MUNICIPAL RUNNING COST","O/403069.JAH.000",null,null,null,null,null,null,"ADM & HO",null,null,null,null,81482.787899999996,85149.513355499992,88981.24145649749]
["Community Services","MSE:AH:MRC:MUNICIPAL RUNNING COST","O/403069.JAH.000",null,null,null,null,null,null,"ADM & HO",null,null,null,null,0,0,0]
["Community Services","MSE:AH:MRC:MUNICIPAL RUNNING COST","O/403069.JAH.000",null,null,null,null,null,null,"ADM & HO",null,null,null,null,372688.70925000001,389459.70116624999,406985.38771873119]
["Community Services","MSE:AH:MRC:MUNICIPAL RUNNING COST","O/403069.JAH.000",null,null,null,null,null,null,"ADM & HO",null,null,null,null,0,0,0]
["Community Services","MSE:AH:MRC:MUNICIPAL RUNNING COST","O/403069.JAH.000",null,null,null,null,null,null,"ADM & HO",null,null,null,null,160197.07634999999,167405.94478574998,174939.21230110872]
["Community Services","MSE:AH:MRC:MUNICIPAL RUNNING COST","O/403069.JAH.000",null,null,null,null,null,null,"ADM & HO",null,null,null,null,0,0,0]
["Community Services","MSE:AH:MRC:MUNICIPAL RUNNING COST","O/403069.JAH.000",null,null,null,null,null,null,"ADM & HO",null,null,null,null,11478.442199999998,11994.972098999997,12534.745843454995]
["Community Services","MSE:AH:MRC:MUNICIPAL RUNNING COST","O/403069.JAH.000",null,null,null,null,null,null,"ADM & HO",null,null,null,null,0,0,0]
["Community Services","MSE:AH:MRC:MUNICIPAL RUNNING COST","O/403069.JAH.000",null,null,null,null,null,null,"ADM & HO",null,null,null,null,1324708.4078999998,1384320.2862554996,1446614.6991369969]
["Community Services","MSE:AH:MRC:MUNICIPAL RUNNING COST","O/403069.JAH.000",null,null,null,null,null,null,"ADM & HO",null,null,null,null,0,0,0]
["Community Services","MSE:AH:MRC:MUNICIPAL RUNNING COST","O/403069.JAH.000",null,null,null,null,null,null,"ADM & HO",null,null,null,null,3728635.3219499998,3896423.9114377494,4071762.9874524479]
["Community Services","MSE:AH:MRC:MUNICIPAL RUNNING COST","O/403069.JAH.000",null,null,null,null,null,null,"ADM & HO",null,null,null,null,0,0,0]
["Community Services","MSE:AH:MRC:MUNICIPAL RUNNING COST","O/403069.JAH.000",null,null,null,null,null,null,"ADM & HO",null,null,null,null,222134.15354999999,232130.19045974998,242576.04903043871]
["Community Services","MSE:AH:MRC:MUNICIPAL RUNNING COST","O/403069.JAH.000",null,null,null,null,null,null,"ADM & HO",null,null,null,null,0,0,0]
["Community Services","LEVS:AH:MRC:MUNICIPAL RUNNING COST","O/403553.BAH.000",null,null,null,null,null,null,"ADM & HO",null,null,null,null,0,0,0]
["Community Services","LEVS:AH:MRC:MUNICIPAL RUNNING COST","O/403553.BAH.000",null,null,null,null,null,null,"ADM & HO",null,null,null,null,294246.31529999996,307487.39948849991,321324.33246548241]
["Community Services","LEVS:AH:MRC:MUNICIPAL RUNNING COST","O/403553.BAH.000",null,null,null,null,null,null,"ADM & HO",null,null,null,null,0,0,0]
["Community Services","LEVS:AH:MRC:MUNICIPAL RUNNING COST","O/403553.BAH.000",null,null,null,null,null,null,"ADM & HO",null,null,null,null,24519.78255,25623.172764749997,26776.215539163746]
["Community Services","LEVS:AH:MRC:MUNICIPAL RUNNING COST","O/403553.BAH.000",null,null,null,null,null,null,"ADM & HO",null,null,null,null,0,0,0]
["Community Services","LEVS:AH:MRC:MUNICIPAL RUNNING COST","O/403553.BAH.000",null,null,null,null,null,null,"ADM & HO",null,null,null,null,152489.35184999998,159351.37268324997,166522.18445399622]
["Community Services","LEVS:AH:MRC:MUNICIPAL RUNNING COST","O/403553.BAH.000",null,null,null,null,null,null,"ADM & HO",null,null,null,null,0,0,0]
["Community Services","LEVS:AH:MRC:MUNICIPAL RUNNING COST","O/403553.BAH.000",null,null,null,null,null,null,"ADM & HO",null,null,null,null,5339.2283999999991,5579.4936779999989,5830.5708935099983]
["Community Services","LEVS:AH:MRC:MUNICIPAL RUNNING COST","O/403553.BAH.000",null,null,null,null,null,null,"ADM & HO",null,null,null,null,0,0,0]
["Community Services","LEVS:AH:MRC:MUNICIPAL RUNNING COST","O/403553.BAH.000",null,null,null,null,null,null,"ADM & HO",null,null,null,null,132.58184999999997,138.54803324999997,144.78269474624997]
["Community Services","LEVS:AH:MRC:MUNICIPAL RUNNING COST","O/403553.BAH.000",null,null,null,null,null,null,"ADM & HO",null,null,null,null,0,0,0]
["Community Services","LEVS:AH:MRC:MUNICIPAL RUNNING COST","O/403553.BAH.000",null,null,null,null,null,null,"ADM & HO",null,null,null,null,26186.038950000002,27364.410702749999,28595.809184373749]
["Community Services","LEVS:AH:MRC:MUNICIPAL RUNNING COST","O/403553.BAH.000",null,null,null,null,null,null,"ADM & HO",null,null,null,null,0,0,0]
["Community Services","LEVS:AH:MRC:MUNICIPAL RUNNING COST","O/403553.BAH.000",null,null,null,null,null,null,"ADM & HO",null,null,null,null,50202.459899999994,52461.570595499994,54822.34127229749]
["Community Services","LEVS:AH:MRC:MUNICIPAL RUNNING COST","O/403553.BAH.000",null,null,null,null,null,null,"ADM & HO",null,null,null,null,0,0,0]
["Community Services","LEVS:AH:MRC:MUNICIPAL RUNNING COST","O/403553.BAH.000",null,null,null,null,null,null,"ADM & HO",null,null,null,null,2387.6021999999998,2495.0442989999997,2607.3212924549994]
["Community Services","MSE:AH:MRC:MUNICIPAL RUNNING COST","O/403553.JAH.000",null,null,null,null,null,null,"ADM & HO",null,null,null,null,1793530.1941499999,1874239.0528867499,1958579.8102666535]
["Community Services","MSE:AH:MRC:MUNICIPAL RUNNING COST","O/403553.JAH.000",null,null,null,null,null,null,"ADM & HO",null,null,null,null,149460.19364999997,156185.90236424995,163214.2679706412]
["Community Services","MSE:AH:MRC:MUNICIPAL RUNNING COST","O/403553.JAH.000",null,null,null,null,null,null,"ADM & HO",null,null,null,null,45841.86,47904.743699999999,50060.457166499997]
["Community Services","MSE:AH:MRC:MUNICIPAL RUNNING COST","O/403553.JAH.000",null,null,null,null,null,null,"ADM & HO",null,null,null,null,0,0,0]
["Community Services","MSE:AH:MRC:MUNICIPAL RUNNING COST","O/403553.JAH.000",null,null,null,null,null,null,"ADM & HO",null,null,null,null,0,0,0]
["Community Services","MSE:AH:MRC:MUNICIPAL RUNNING COST","O/403553.JAH.000",null,null,null,null,null,null,"ADM & HO",null,null,null,null,21822.073649999998,22804.066964249996,23830.249977641244]
["Community Services","MSE:AH:MRC:MUNICIPAL RUNNING COST","O/403553.JAH.000",null,null,null,null,null,null,"ADM & HO",null,null,null,null,620280.81449999998,648193.45115249988,677362.15645436232]
["Community Services","MSE:AH:MRC:MUNICIPAL RUNNING COST","O/403553.JAH.000",null,null,null,null,null,null,"ADM & HO",null,null,null,null,32038.746449999999,33480.490040249999,34987.112092061245]
["Community Services","MSE:AH:MRC:MUNICIPAL RUNNING COST","O/403553.JAH.000",null,null,null,null,null,null,"ADM & HO",null,null,null,null,1067.39625,1115.4290812499999,1165.6233899062497]
["Community Services","MSE:AH:MRC:MUNICIPAL RUNNING COST","O/403553.JAH.000",null,null,null,null,null,null,"ADM & HO",null,null,null,null,109785.64215,114725.99604674999,119888.66586885373]
["Community Services","MSE:AH:MRC:MUNICIPAL RUNNING COST","O/403553.JAH.000",null,null,null,null,null,null,"ADM & HO",null,null,null,null,214299.45974999998,223942.93543874996,234020.3675334937]
["Community Services","MSE:AH:MRC:MUNICIPAL RUNNING COST","O/403553.JAH.000",null,null,null,null,null,null,"ADM & HO",null,null,null,null,24315.291899999997,25409.480035499993,26552.906637097491]
["Community Services","MSE:AH:MRC:MUNICIPAL RUNNING COST","O/404102.JAH.000",null,null,null,null,null,null,"ADM & HO",null,null,null,null,635501.93295000005,664099.51993275003,693983.99832972372]
["Community Services","LEVS:Z4:MRC:MUNICIPAL RUNNING COST","O/404117.BZ4.000",null,null,null,null,null,null,"ZONE4: CENTRAL",null,null,null,null,3472174.8339,3628422.7014254997,3791701.7229896472]
["Community Services","LEVS:Z4:MRC:MUNICIPAL RUNNING COST","O/404117.BZ4.000",null,null,null,null,null,null,"ZONE4: CENTRAL",null,null,null,null,289347.52830000001,302368.16707349999,315974.73459180747]
["Community Services","LEVS:Z4:MRC:MUNICIPAL RUNNING COST","O/404117.BZ4.000",null,null,null,null,null,null,"ZONE4: CENTRAL",null,null,null,null,52583.31,54949.558949999991,57422.289102749986]
["Community Services","LEVS:Z4:MRC:MUNICIPAL RUNNING COST","O/404117.BZ4.000",null,null,null,null,null,null,"ZONE4: CENTRAL",null,null,null,null,13004.257049999998,13589.448617249996,14200.973805026246]
["Community Services","LEVS:Z4:MRC:MUNICIPAL RUNNING COST","O/404117.BZ4.000",null,null,null,null,null,null,"ZONE4: CENTRAL",null,null,null,null,0,0,0]
["Community Services","LEVS:Z4:MRC:MUNICIPAL RUNNING COST","O/404117.BZ4.000",null,null,null,null,null,null,"ZONE4: CENTRAL",null,null,null,null,257009.92154999997,268575.36801974993,280661.25958063867]
["Community Services","LEVS:Z4:MRC:MUNICIPAL RUNNING COST","O/404117.BZ4.000",null,null,null,null,null,null,"ZONE4: CENTRAL",null,null,null,null,39982.421699999999,41781.630676499997,43661.804056942492]
["Community Services","LEVS:Z4:MRC:MUNICIPAL RUNNING COST","O/404117.BZ4.000",null,null,null,null,null,null,"ZONE4: CENTRAL",null,null,null,null,0,0,0]
["Community Services","LEVS:Z4:MRC:MUNICIPAL RUNNING COST","O/404117.BZ4.000",null,null,null,null,null,null,"ZONE4: CENTRAL",null,null,null,null,99525.155249999996,104003.78723624999,108683.95766188123]
["Community Services","LEVS:Z4:MRC:MUNICIPAL RUNNING COST","O/404117.BZ4.000",null,null,null,null,null,null,"ZONE4: CENTRAL",null,null,null,null,10679.5857,11160.167056499999,11662.374574042498]
["Community Services","LEVS:Z4:MRC:MUNICIPAL RUNNING COST","O/404117.BZ4.000",null,null,null,null,null,null,"ZONE4: CENTRAL",null,null,null,null,1334.8070999999998,1394.8734194999997,1457.6427233774996]
["Community Services","LEVS:Z4:MRC:MUNICIPAL RUNNING COST","O/404117.BZ4.000",null,null,null,null,null,null,"ZONE4: CENTRAL",null,null,null,null,291599.17259999999,304721.13536699995,318433.58645851491]
["Community Services","LEVS:Z4:MRC:MUNICIPAL RUNNING COST","O/404117.BZ4.000",null,null,null,null,null,null,"ZONE4: CENTRAL",null,null,null,null,827552.31795000006,864792.17225774995,903707.82000934868]
["Community Services","LEVS:Z4:MRC:MUNICIPAL RUNNING COST","O/404117.BZ4.000",null,null,null,null,null,null,"ZONE4: CENTRAL",null,null,null,null,22400.720099999999,23408.752504499997,24462.146367202495]
["Community Services","LEVS:AH:MRC:MUNICIPAL RUNNING COST","O/404118.BAH.000",null,null,null,null,null,null,"ADM & HO",null,null,null,null,1501771.78275,1569351.51297375,1639972.3310575685]
["Community Services","LEVS:AH:MRC:MUNICIPAL RUNNING COST","O/404118.BAH.000",null,null,null,null,null,null,"ADM & HO",null,null,null,null,125147.6388,130779.28254599999,136664.35026056998]
["Community Services","LEVS:AH:MRC:MUNICIPAL RUNNING COST","O/404118.BAH.000",null,null,null,null,null,null,"ADM & HO",null,null,null,null,18876.059999999998,19725.482699999997,20613.129421499994]
["Community Services","LEVS:AH:MRC:MUNICIPAL RUNNING COST","O/404118.BAH.000",null,null,null,null,null,null,"ADM & HO",null,null,null,null,13004.395500000001,13589.5932975,14201.124995887498]
["Community Services","LEVS:AH:MRC:MUNICIPAL RUNNING COST","O/404118.BAH.000",null,null,null,null,null,null,"ADM & HO",null,null,null,null,156721.99199999997,163774.48163999995,171144.33331379993]
["Community Services","LEVS:AH:MRC:MUNICIPAL RUNNING COST","O/404118.BAH.000",null,null,null,null,null,null,"ADM & HO",null,null,null,null,10679.798699999999,11160.389641499998,11662.607175367497]
["Community Services","LEVS:AH:MRC:MUNICIPAL RUNNING COST","O/404118.BAH.000",null,null,null,null,null,null,"ADM & HO",null,null,null,null,972.11069999999995,1015.8556814999998,1061.5691871674996]
["Community Services","LEVS:AH:MRC:MUNICIPAL RUNNING COST","O/404118.BAH.000",null,null,null,null,null,null,"ADM & HO",null,null,null,null,188490.93135,196973.02326074999,205836.80930748372]
["Community Services","LEVS:AH:MRC:MUNICIPAL RUNNING COST","O/404118.BAH.000",null,null,null,null,null,null,"ADM & HO",null,null,null,null,272534.71409999998,284798.77623449994,297614.72116505244]
["Community Services","LEVS:AH:MRC:MUNICIPAL RUNNING COST","O/404118.BAH.000",null,null,null,null,null,null,"ADM & HO",null,null,null,null,16716.644699999997,17468.893711499997,18254.993928517495]
["Community Services","LEVS:Z5:MRC:MUNICIPAL RUNNING COST","O/404118.BZ5.000",null,null,null,null,null,null,"ZONE5: NORTHERN",null,null,null,null,452886.9474,473266.86003299995,494563.86873448489]
["Community Services","LEVS:Z5:MRC:MUNICIPAL RUNNING COST","O/404118.BZ5.000",null,null,null,null,null,null,"ZONE5: NORTHERN",null,null,null,null,690942.0308999999,722034.42229049979,754525.97129357222]
["Community Services","LEVS:Z5:MRC:MUNICIPAL RUNNING COST","O/404118.BZ5.000",null,null,null,null,null,null,"ZONE5: NORTHERN",null,null,null,null,138873.87,145123.19415,151653.73788674999]
["Community Services","LEVS:Z5:MRC:MUNICIPAL RUNNING COST","O/404118.BZ5.000",null,null,null,null,null,null,"ZONE5: NORTHERN",null,null,null,null,13004.257049999998,13589.448617249996,14200.973805026246]
["Community Services","LEVS:Z5:MRC:MUNICIPAL RUNNING COST","O/404118.BZ5.000",null,null,null,null,null,null,"ZONE5: NORTHERN",null,null,null,null,883958.23244999989,923736.35291024984,965304.48879121104]
["Community Services","LEVS:Z5:MRC:MUNICIPAL RUNNING COST","O/404118.BZ5.000",null,null,null,null,null,null,"ZONE5: NORTHERN",null,null,null,null,94926.357449999996,99198.043535249992,103661.95549433623]
["Community Services","LEVS:Z5:MRC:MUNICIPAL RUNNING COST","O/404118.BZ5.000",null,null,null,null,null,null,"ZONE5: NORTHERN",null,null,null,null,245202.99074999997,256237.12533374995,267767.79597376869]
["Community Services","LEVS:Z5:MRC:MUNICIPAL RUNNING COST","O/404118.BZ5.000",null,null,null,null,null,null,"ZONE5: NORTHERN",null,null,null,null,177537.21464999998,185526.38930924996,193875.0768281662]
["Community Services","LEVS:Z5:MRC:MUNICIPAL RUNNING COST","O/404118.BZ5.000",null,null,null,null,null,null,"ZONE5: NORTHERN",null,null,null,null,419406.95774999994,438280.2708487499,458002.88303694362]
["Community Services","LEVS:Z5:MRC:MUNICIPAL RUNNING COST","O/404118.BZ5.000",null,null,null,null,null,null,"ZONE5: NORTHERN",null,null,null,null,10679.5857,11160.167056499999,11662.374574042498]
["Community Services","LEVS:Z5:MRC:MUNICIPAL RUNNING COST","O/404118.BZ5.000",null,null,null,null,null,null,"ZONE5: NORTHERN",null,null,null,null,2568.0451499999999,2683.6071817499997,2804.3695049287494]
["Community Services","LEVS:Z5:MRC:MUNICIPAL RUNNING COST","O/404118.BZ5.000",null,null,null,null,null,null,"ZONE5: NORTHERN",null,null,null,null,868394.21594999998,907471.95566774998,948308.19367279869]
["Community Services","LEVS:Z5:MRC:MUNICIPAL RUNNING COST","O/404118.BZ5.000",null,null,null,null,null,null,"ZONE5: NORTHERN",null,null,null,null,2059175.9450999999,2151838.8626294998,2248671.611447827]
["Community Services","LEVS:Z5:MRC:MUNICIPAL RUNNING COST","O/404118.BZ5.000",null,null,null,null,null,null,"ZONE5: NORTHERN",null,null,null,null,44310.027900000001,46303.979155499997,48387.658217497497]
["Community Services","LEVS:Z3:MRC:MUNICIPAL RUNNING COST","O/404119.BZ3.000",null,null,null,null,null,null,"ZONE3: IMBALI",null,null,null,null,3705677.3193000001,3872432.7986685,4046692.2746085823]
["Community Services","LEVS:Z3:MRC:MUNICIPAL RUNNING COST","O/404119.BZ3.000",null,null,null,null,null,null,"ZONE3: IMBALI",null,null,null,null,308805.60014999995,322701.85215674993,337223.43550380366]
["Community Services","LEVS:Z3:MRC:MUNICIPAL RUNNING COST","O/404119.BZ3.000",null,null,null,null,null,null,"ZONE3: IMBALI",null,null,null,null,75504.239999999991,78901.930799999987,82452.517685999977]
["Community Services","LEVS:Z3:MRC:MUNICIPAL RUNNING COST","O/404119.BZ3.000",null,null,null,null,null,null,"ZONE3: IMBALI",null,null,null,null,13004.257049999998,13589.448617249996,14200.973805026246]
["Community Services","LEVS:Z3:MRC:MUNICIPAL RUNNING COST","O/404119.BZ3.000",null,null,null,null,null,null,"ZONE3: IMBALI",null,null,null,null,481893.45779999997,503578.66340099991,526239.70325404487]
["Community Services","LEVS:Z3:MRC:MUNICIPAL RUNNING COST","O/404119.BZ3.000",null,null,null,null,null,null,"ZONE3: IMBALI",null,null,null,null,67389.781350000005,70422.32151075,73591.325978733745]
["Community Services","LEVS:Z3:MRC:MUNICIPAL RUNNING COST","O/404119.BZ3.000",null,null,null,null,null,null,"ZONE3: IMBALI",null,null,null,null,296669.87189999997,310020.01613549993,323970.91686159739]
["Community Services","LEVS:Z3:MRC:MUNICIPAL RUNNING COST","O/404119.BZ3.000",null,null,null,null,null,null,"ZONE3: IMBALI",null,null,null,null,42913.823549999994,44844.945609749993,46862.968162188743]
["Community Services","LEVS:Z3:MRC:MUNICIPAL RUNNING COST","O/404119.BZ3.000",null,null,null,null,null,null,"ZONE3: IMBALI",null,null,null,null,5339.2283999999991,5579.4936779999989,5830.5708935099983]
["Community Services","LEVS:Z3:MRC:MUNICIPAL RUNNING COST","O/404119.BZ3.000",null,null,null,null,null,null,"ZONE3: IMBALI",null,null,null,null,1201.107,1255.1568149999998,1311.6388716749998]
["Community Services","LEVS:Z3:MRC:MUNICIPAL RUNNING COST","O/404119.BZ3.000",null,null,null,null,null,null,"ZONE3: IMBALI",null,null,null,null,332762.46630000003,347736.77728350001,363384.93226125749]
["Community Services","LEVS:Z3:MRC:MUNICIPAL RUNNING COST","O/404119.BZ3.000",null,null,null,null,null,null,"ZONE3: IMBALI",null,null,null,null,728919.28125,761720.6489062499,795998.07810703106]
["Community Services","LEVS:Z3:MRC:MUNICIPAL RUNNING COST","O/404119.BZ3.000",null,null,null,null,null,null,"ZONE3: IMBALI",null,null,null,null,20854.680899999999,21793.141540499997,22773.832909822497]
["Community Services","LEVS:Z2:MRC:MUNICIPAL RUNNING COST","O/404120.BZ2.000",null,null,null,null,null,null,"ZONE2: EDENDALE",null,null,null,null,1666676.3295,1741676.7643274998,1820052.218722237]
["Community Services","LEVS:Z2:MRC:MUNICIPAL RUNNING COST","O/404120.BZ2.000",null,null,null,null,null,null,"ZONE2: EDENDALE",null,null,null,null,138889.60005000001,145139.63205225,151670.91549460124]
["Community Services","LEVS:Z2:MRC:MUNICIPAL RUNNING COST","O/404120.BZ2.000",null,null,null,null,null,null,"ZONE2: EDENDALE",null,null,null,null,28314.09,29588.224049999997,30919.694132249995]
["Community Services","LEVS:Z2:MRC:MUNICIPAL RUNNING COST","O/404120.BZ2.000",null,null,null,null,null,null,"ZONE2: EDENDALE",null,null,null,null,13004.257049999998,13589.448617249996,14200.973805026246]
["Community Services","LEVS:Z2:MRC:MUNICIPAL RUNNING COST","O/404120.BZ2.000",null,null,null,null,null,null,"ZONE2: EDENDALE",null,null,null,null,148346.73614999998,155022.33927674996,161998.34454420369]
["Community Services","LEVS:Z2:MRC:MUNICIPAL RUNNING COST","O/404120.BZ2.000",null,null,null,null,null,null,"ZONE2: EDENDALE",null,null,null,null,289878.98460000003,302923.53890699998,316555.09815781494]
["Community Services","LEVS:Z2:MRC:MUNICIPAL RUNNING COST","O/404120.BZ2.000",null,null,null,null,null,null,"ZONE2: EDENDALE",null,null,null,null,44574.467399999994,46580.318432999993,48676.43276248499]
["Community Services","LEVS:Z2:MRC:MUNICIPAL RUNNING COST","O/404120.BZ2.000",null,null,null,null,null,null,"ZONE2: EDENDALE",null,null,null,null,533.70344999999998,557.72010524999996,582.81750998624989]
["Community Services","LEVS:Z2:MRC:MUNICIPAL RUNNING COST","O/404120.BZ2.000",null,null,null,null,null,null,"ZONE2: EDENDALE",null,null,null,null,159246.5319,166412.62583549999,173901.19399809747]
["Community Services","LEVS:Z2:MRC:MUNICIPAL RUNNING COST","O/404120.BZ2.000",null,null,null,null,null,null,"ZONE2: EDENDALE",null,null,null,null,352641.88410000002,368510.76888450002,385093.75348430249]
["Community Services","LEVS:Z2:MRC:MUNICIPAL RUNNING COST","O/404120.BZ2.000",null,null,null,null,null,null,"ZONE2: EDENDALE",null,null,null,null,9163.8776999999991,9576.2521964999978,10007.183545342497]
["Community Services","LEVS:Z1:MRC:MUNICIPAL RUNNING COST","O/404121.BZ1.000",null,null,null,null,null,null,"ZONE1: VULINDLELA",null,null,null,null,1679091.8332499999,1754650.9657462498,1833610.259204831]
["Community Services","LEVS:Z1:MRC:MUNICIPAL RUNNING COST","O/404121.BZ1.000",null,null,null,null,null,null,"ZONE1: VULINDLELA",null,null,null,null,139923.28904999999,146219.83705724997,152799.7297248262]
["Community Services","LEVS:Z1:MRC:MUNICIPAL RUNNING COST","O/404121.BZ1.000",null,null,null,null,null,null,"ZONE1: VULINDLELA",null,null,null,null,34381.394999999997,35928.557774999994,37545.342874874994]
["Community Services","LEVS:Z1:MRC:MUNICIPAL RUNNING COST","O/404121.BZ1.000",null,null,null,null,null,null,"ZONE1: VULINDLELA",null,null,null,null,262176.11940000003,273974.044773,286302.87678778498]
["Community Services","LEVS:Z1:MRC:MUNICIPAL RUNNING COST","O/404121.BZ1.000",null,null,null,null,null,null,"ZONE1: VULINDLELA",null,null,null,null,0,0,0]
["Community Services","LEVS:Z1:MRC:MUNICIPAL RUNNING COST","O/404121.BZ1.000",null,null,null,null,null,null,"ZONE1: VULINDLELA",null,null,null,null,0,0,0]
["Community Services","LEVS:Z1:MRC:MUNICIPAL RUNNING COST","O/404121.BZ1.000",null,null,null,null,null,null,"ZONE1: VULINDLELA",null,null,null,null,25981.548299999999,27150.717973499995,28372.500282307494]
["Community Services","LEVS:Z1:MRC:MUNICIPAL RUNNING COST","O/404121.BZ1.000",null,null,null,null,null,null,"ZONE1: VULINDLELA",null,null,null,null,399.99269999999996,417.99237149999993,436.80202821749992]
["Community Services","LEVS:Z1:MRC:MUNICIPAL RUNNING COST","O/404121.BZ1.000",null,null,null,null,null,null,"ZONE1: VULINDLELA",null,null,null,null,101768.92919999998,106348.53101399998,111134.21490962997]
["Community Services","LEVS:Z1:MRC:MUNICIPAL RUNNING COST","O/404121.BZ1.000",null,null,null,null,null,null,"ZONE1: VULINDLELA",null,null,null,null,244134.87029999998,255120.93946349996,266601.38173935743]
["Community Services","LEVS:Z1:MRC:MUNICIPAL RUNNING COST","O/404121.BZ1.000",null,null,null,null,null,null,"ZONE1: VULINDLELA",null,null,null,null,7163.9142000000002,7486.2903389999992,7823.1734042549988]
["Community Services","MSE:AH:MRC:MUNICIPAL RUNNING COST","O/404166.JAH.000",null,null,null,null,null,null,"ADM & HO",null,null,null,null,10625985.8475,11104155.210637499,11603842.195116185]
["Community Services","MSE:AH:MRC:MUNICIPAL RUNNING COST","O/404166.JAH.000",null,null,null,null,null,null,"ADM & HO",null,null,null,null,0,0,0]
["Community Services","MSE:AH:MRC:MUNICIPAL RUNNING COST","O/404166.JAH.000",null,null,null,null,null,null,"ADM & HO",null,null,null,null,1770996.8921999999,1850691.7523489997,1933972.8812047045]
["Community Services","MSE:AH:MRC:MUNICIPAL RUNNING COST","O/404166.JAH.000",null,null,null,null,null,null,"ADM & HO",null,null,null,null,0,0,0]
["Community Services","MSE:AH:MRC:MUNICIPAL RUNNING COST","O/404166.JAH.000",null,null,null,null,null,null,"ADM & HO",null,null,null,null,102470.04,107081.19179999999,111899.84543099998]
["Community Services","MSE:AH:MRC:MUNICIPAL RUNNING COST","O/404166.JAH.000",null,null,null,null,null,null,"ADM & HO",null,null,null,null,0,0,0]
["Community Services","MSE:AH:MRC:MUNICIPAL RUNNING COST","O/404166.JAH.000",null,null,null,null,null,null,"ADM & HO",null,null,null,null,104034.05639999999,108715.58893799997,113607.79044020997]
["Community Services","MSE:AH:MRC:MUNICIPAL RUNNING COST","O/404166.JAH.000",null,null,null,null,null,null,"ADM & HO",null,null,null,null,0,0,0]
["Community Services","MSE:AH:MRC:MUNICIPAL RUNNING COST","O/404166.JAH.000",null,null,null,null,null,null,"ADM & HO",null,null,null,null,1612997.5391999998,1685582.4284639996,1761433.6377448796]
["Community Services","MSE:AH:MRC:MUNICIPAL RUNNING COST","O/404166.JAH.000",null,null,null,null,null,null,"ADM & HO",null,null,null,null,0,0,0]
["Community Services","MSE:AH:MRC:MUNICIPAL RUNNING COST","O/404166.JAH.000",null,null,null,null,null,null,"ADM & HO",null,null,null,null,33428.6034,34932.890552999997,36504.870627884993]
["Community Services","MSE:AH:MRC:MUNICIPAL RUNNING COST","O/404166.JAH.000",null,null,null,null,null,null,"ADM & HO",null,null,null,null,0,0,0]
["Community Services","MSE:AH:MRC:MUNICIPAL RUNNING COST","O/404166.JAH.000",null,null,null,null,null,null,"ADM & HO",null,null,null,null,348063.32130000001,363726.1707585,380093.84844263247]
["Community Services","MSE:AH:MRC:MUNICIPAL RUNNING COST","O/404166.JAH.000",null,null,null,null,null,null,"ADM & HO",null,null,null,null,0,0,0]
["Community Services","MSE:AH:MRC:MUNICIPAL RUNNING COST","O/404166.JAH.000",null,null,null,null,null,null,"ADM & HO",null,null,null,null,22284.997200000002,23287.822074,24335.77406733]
["Community Services","MSE:AH:MRC:MUNICIPAL RUNNING COST","O/404166.JAH.000",null,null,null,null,null,null,"ADM & HO",null,null,null,null,0,0,0]
["Community Services","MSE:AH:MRC:MUNICIPAL RUNNING COST","O/404166.JAH.000",null,null,null,null,null,null,"ADM & HO",null,null,null,null,99829.649399999995,104321.98362299999,109016.47288603499]
["Community Services","MSE:AH:MRC:MUNICIPAL RUNNING COST","O/404166.JAH.000",null,null,null,null,null,null,"ADM & HO",null,null,null,null,0,0,0]
["Community Services","MSE:AH:MRC:MUNICIPAL RUNNING COST","O/404166.JAH.000",null,null,null,null,null,null,"ADM & HO",null,null,null,null,471195.89490000001,492399.71017049998,514557.69712817244]
["Community Services","MSE:AH:MRC:MUNICIPAL RUNNING COST","O/404166.JAH.000",null,null,null,null,null,null,"ADM & HO",null,null,null,null,0,0,0]
["Community Services","MSE:AH:MRC:MUNICIPAL RUNNING COST","O/404166.JAH.000",null,null,null,null,null,null,"ADM & HO",null,null,null,null,640653.47640000004,669482.88283799996,699609.61256570986]
["Community Services","MSE:AH:MRC:MUNICIPAL RUNNING COST","O/404166.JAH.000",null,null,null,null,null,null,"ADM & HO",null,null,null,null,0,0,0]
["Community Services","MSE:AH:MRC:MUNICIPAL RUNNING COST","O/404166.JAH.000",null,null,null,null,null,null,"ADM & HO",null,null,null,null,0,0,0]
["Community Services","MSE:AH:MRC:MUNICIPAL RUNNING COST","O/404166.JAH.000",null,null,null,null,null,null,"ADM & HO",null,null,null,null,768.52530000000002,803.10893849999991,839.24884073249984]
["Community Services","MSE:AH:MRC:MUNICIPAL RUNNING COST","O/404166.JAH.000",null,null,null,null,null,null,"ADM & HO",null,null,null,null,0,0,0]
["Community Services","MSE:AH:MRC:MUNICIPAL RUNNING COST","O/404166.JAH.000",null,null,null,null,null,null,"ADM & HO",null,null,null,null,0,0,0]
["Community Services","MSE:AH:MRC:MUNICIPAL RUNNING COST","O/404166.JAH.000",null,null,null,null,null,null,"ADM & HO",null,null,null,null,64077.492899999997,66960.980080499998,69974.22418412249]
["Community Services","MSE:AH:MRC:MUNICIPAL RUNNING COST","O/404166.JAH.000",null,null,null,null,null,null,"ADM & HO",null,null,null,null,0,0,0]
["Community Services","MSE:AH:MRC:MUNICIPAL RUNNING COST","O/404166.JAH.000",null,null,null,null,null,null,"ADM & HO",null,null,null,null,9343.6496999999981,9764.1139364999981,10203.499063642497]
["Community Services","MSE:AH:MRC:MUNICIPAL RUNNING COST","O/404166.JAH.000",null,null,null,null,null,null,"ADM & HO",null,null,null,null,0,0,0]
["Community Services","MSE:AH:MRC:MUNICIPAL RUNNING COST","O/404166.JAH.000",null,null,null,null,null,null,"ADM & HO",null,null,null,null,1271077.9259999997,1328276.4326699995,1388048.8721401494]
["Community Services","MSE:AH:MRC:MUNICIPAL RUNNING COST","O/404166.JAH.000",null,null,null,null,null,null,"ADM & HO",null,null,null,null,0,0,0]
["Community Services","MSE:AH:MRC:MUNICIPAL RUNNING COST","O/404166.JAH.000",null,null,null,null,null,null,"ADM & HO",null,null,null,null,4090469.1677999999,4274540.2803509999,4466894.592966795]
["Community Services","MSE:AH:MRC:MUNICIPAL RUNNING COST","O/404166.JAH.000",null,null,null,null,null,null,"ADM & HO",null,null,null,null,898034.08184999996,938445.61553324992,980675.66823224607]
["Community Services","MSE:AH:MRC:MUNICIPAL RUNNING COST","O/404166.JAH.000",null,null,null,null,null,null,"ADM & HO",null,null,null,null,161334.14489999998,168594.18142049998,176180.91958442246]
["Community Services","MSE:AH:MRC:MUNICIPAL RUNNING COST","O/404166.JAH.000",null,null,null,null,null,null,"ADM & HO",null,null,null,null,0,0,0]
["Community Services","MSE:AH:MRC:MUNICIPAL RUNNING COST","O/404182.JAH.000",null,null,null,null,null,null,"ADM & HO",null,null,null,null,16528007.757149998,17271768.106221747,18048997.671001725]
["Community Services","MSE:AH:MRC:MUNICIPAL RUNNING COST","O/404182.JAH.000",null,null,null,null,null,null,"ADM & HO",null,null,null,null,3056789.1563999997,3194344.6684379997,3338090.1785177095]
["Community Services","MSE:AH:MRC:MUNICIPAL RUNNING COST","O/404182.JAH.000",null,null,null,null,null,null,"ADM & HO",null,null,null,null,74155.95,77492.967749999996,80980.151298749988]
["Community Services","MSE:AH:MRC:MUNICIPAL RUNNING COST","O/404182.JAH.000",null,null,null,null,null,null,"ADM & HO",null,null,null,null,117039.44235,122306.21725574999,127809.99703225873]
["Community Services","MSE:AH:MRC:MUNICIPAL RUNNING COST","O/404182.JAH.000",null,null,null,null,null,null,"ADM & HO",null,null,null,null,0,0,0]
["Community Services","MSE:AH:MRC:MUNICIPAL RUNNING COST","O/404182.JAH.000",null,null,null,null,null,null,"ADM & HO",null,null,null,null,202164.84974999999,211262.26798874998,220769.07004824371]
["Community Services","MSE:AH:MRC:MUNICIPAL RUNNING COST","O/404182.JAH.000",null,null,null,null,null,null,"ADM & HO",null,null,null,null,110650.79490000001,115630.0806705,120833.4343006725]
["Community Services","MSE:AH:MRC:MUNICIPAL RUNNING COST","O/404182.JAH.000",null,null,null,null,null,null,"ADM & HO",null,null,null,null,8520000,8903400,9304053]
["Community Services","MSE:AH:MRC:MUNICIPAL RUNNING COST","O/404182.JAH.000",null,null,null,null,null,null,"ADM & HO",null,null,null,null,171431.70809999999,179146.13496449997,187207.71103790245]
["Community Services","MSE:AH:MRC:MUNICIPAL RUNNING COST","O/404182.JAH.000",null,null,null,null,null,null,"ADM & HO",null,null,null,null,934280.70719999995,976323.33902399987,1020257.8892800797]
["Community Services","MSE:AH:MRC:MUNICIPAL RUNNING COST","O/404182.JAH.000",null,null,null,null,null,null,"ADM & HO",null,null,null,null,763813.02644999989,798184.61264024978,834102.92020906101]
["Community Services","MSE:AH:MRC:MUNICIPAL RUNNING COST","O/404182.JAH.000",null,null,null,null,null,null,"ADM & HO",null,null,null,null,584735.39579999994,611048.48861099989,638545.67059849482]
["Community Services","MSE:AH:MRC:MUNICIPAL RUNNING COST","O/404182.JAH.000",null,null,null,null,null,null,"ADM & HO",null,null,null,null,122816.86499999999,128343.62392499998,134119.08700162495]
["Community Services","MSE:AH:MRC:MUNICIPAL RUNNING COST","O/404182.JAH.000",null,null,null,null,null,null,"ADM & HO",null,null,null,null,26695.02375,27896.299818749998,29151.633310593745]
["Community Services","MSE:AH:MRC:MUNICIPAL RUNNING COST","O/404182.JAH.000",null,null,null,null,null,null,"ADM & HO",null,null,null,null,3949559.3798999996,4127289.5519954995,4313017.5818352969]
["Community Services","MSE:AH:MRC:MUNICIPAL RUNNING COST","O/404182.JAH.000",null,null,null,null,null,null,"ADM & HO",null,null,null,null,8110641.8710499993,8475620.7552472483,8857023.6892333739]
["Community Services","MSE:AH:MRC:MUNICIPAL RUNNING COST","O/404182.JAH.000",null,null,null,null,null,null,"ADM & HO",null,null,null,null,481641.77699999994,503315.65696499991,525964.8615284249]
["Community Services","MSE:AH:MRC:MUNICIPAL RUNNING COST","O/404183.JAH.000",null,null,null,null,null,null,"ADM & HO",null,null,null,null,496151.84820000001,518478.681369,541810.22203060496]
["Community Services","MSE:AH:MRC:MUNICIPAL RUNNING COST","O/404183.JAH.000",null,null,null,null,null,null,"ADM & HO",null,null,null,null,1348302.5350500001,1408976.1491272501,1472380.0758379763]
["Community Services","MSU1/O/404185.JAH.000","O/404185.JAH.000",null,null,null,null,null,null,"ADM & HO",null,null,null,null,1418214.0766499999,1482033.7100992498,1548725.2270537161]
["Community Services","WAST:AH:MRC:MUNICIPAL RUNNING COST","O/404185.MAH.000",null,null,null,null,null,null,"ADM & HO",null,null,null,null,178813.59584999998,186860.20766324998,195268.91700809621]
["Community Services","WAST:AH:MRC:MUNICIPAL RUNNING COST","O/404185.MAH.000",null,null,null,null,null,null,"ADM & HO",null,null,null,null,14900.851649999999,15571.389974249998,16272.102523091247]
["Community Services","WAST:AH:MRC:MUNICIPAL RUNNING COST","O/404185.MAH.000",null,null,null,null,null,null,"ADM & HO",null,null,null,null,0,0,0]
["Community Services","WAST:AH:MRC:MUNICIPAL RUNNING COST","O/404185.MAH.000",null,null,null,null,null,null,"ADM & HO",null,null,null,null,61774.1535,64553.990407499994,67458.919975837489]
["Community Services","WAST:AH:MRC:MUNICIPAL RUNNING COST","O/404185.MAH.000",null,null,null,null,null,null,"ADM & HO",null,null,null,null,0,0,0]
["Community Services","WAST:AH:MRC:MUNICIPAL RUNNING COST","O/404185.MAH.000",null,null,null,null,null,null,"ADM & HO",null,null,null,null,132.58184999999997,138.54803324999997,144.78269474624997]
["Community Services","WAST:AH:MRC:MUNICIPAL RUNNING COST","O/404185.MAH.000",null,null,null,null,null,null,"ADM & HO",null,null,null,null,17676.081899999997,18471.505585499996,19302.723336847495]
["Community Services","WAST:AH:MRC:MUNICIPAL RUNNING COST","O/404185.MAH.000",null,null,null,null,null,null,"ADM & HO",null,null,null,null,30508.437299999998,31881.316978499995,33315.976242532495]
["Community Services","WAST:AH:MRC:MUNICIPAL RUNNING COST","O/404185.MAH.000",null,null,null,null,null,null,"ADM & HO",null,null,null,null,2387.6021999999998,2495.0442989999997,2607.3212924549994]
["Community Services","MSE:AH:MRC:MUNICIPAL RUNNING COST","O/404186.JAH.000",null,null,null,null,null,null,"ADM & HO",null,null,null,null,4450283.4647999993,4650546.2207159987,4859820.800648218]
["Community Services","MSE:AH:MRC:MUNICIPAL RUNNING COST","O/404186.JAH.000",null,null,null,null,null,null,"ADM & HO",null,null,null,null,0,0,0]
["Community Services","MSE:AH:MRC:MUNICIPAL RUNNING COST","O/404186.JAH.000",null,null,null,null,null,null,"ADM & HO",null,null,null,null,1323958.9886999999,1383537.1431914999,1445796.3146351173]
["Community Services","MSE:AH:MRC:MUNICIPAL RUNNING COST","O/404186.JAH.000",null,null,null,null,null,null,"ADM & HO",null,null,null,null,50560.875,52836.114374999997,55213.739521874995]
["Community Services","MSE:AH:MRC:MUNICIPAL RUNNING COST","O/404186.JAH.000",null,null,null,null,null,null,"ADM & HO",null,null,null,null,104034.05639999999,108715.58893799997,113607.79044020997]
["Community Services","MSE:AH:MRC:MUNICIPAL RUNNING COST","O/404186.JAH.000",null,null,null,null,null,null,"ADM & HO",null,null,null,null,114979.92404999999,120154.02063224997,125560.95156070121]
["Community Services","MSE:AH:MRC:MUNICIPAL RUNNING COST","O/404186.JAH.000",null,null,null,null,null,null,"ADM & HO",null,null,null,null,4920955.9228499997,5142398.9393782495,5373806.8916502707]
["Community Services","MSE:AH:MRC:MUNICIPAL RUNNING COST","O/404186.JAH.000",null,null,null,null,null,null,"ADM & HO",null,null,null,null,55854.042150000001,58367.474046749994,60994.010378853738]
["Community Services","MSE:AH:MRC:MUNICIPAL RUNNING COST","O/404186.JAH.000",null,null,null,null,null,null,"ADM & HO",null,null,null,null,28770.261450000002,30064.923215250001,31417.844759936248]
["Community Services","MSE:AH:MRC:MUNICIPAL RUNNING COST","O/404186.JAH.000",null,null,null,null,null,null,"ADM & HO",null,null,null,null,470448.72285000002,491618.91537825001,513741.76657027123]
["Community Services","MSE:AH:MRC:MUNICIPAL RUNNING COST","O/404186.JAH.000",null,null,null,null,null,null,"ADM & HO",null,null,null,null,264994.04550000001,276918.77754749998,289380.12253713747]
["Community Services","MSE:AH:MRC:MUNICIPAL RUNNING COST","O/404186.JAH.000",null,null,null,null,null,null,"ADM & HO",null,null,null,null,133497.56894999999,139504.95955274996,145782.68273262371]
["Community Services","MSE:AH:MRC:MUNICIPAL RUNNING COST","O/404186.JAH.000",null,null,null,null,null,null,"ADM & HO",null,null,null,null,11346.989250000001,11857.60376625,12391.19593573125]
["Community Services","MSE:AH:MRC:MUNICIPAL RUNNING COST","O/404186.JAH.000",null,null,null,null,null,null,"ADM & HO",null,null,null,null,5329209.7959000003,5569024.2367155002,5819630.3273676969]
["Community Services","MSE:AH:MRC:MUNICIPAL RUNNING COST","O/404186.JAH.000",null,null,null,null,null,null,"ADM & HO",null,null,null,null,11368409.52045,11879987.948870249,12414587.40656941]
["Community Services","MSE:AH:MRC:MUNICIPAL RUNNING COST","O/404186.JAH.000",null,null,null,null,null,null,"ADM & HO",null,null,null,null,202236.75855,211337.41268474999,220847.59625556372]
["Community Services","MSE:AH:MRC:MUNICIPAL RUNNING COST","O/404291.JAH.000",null,null,null,null,null,null,"ADM & HO",null,null,null,null,1614895.25205,1687565.53839225,1763505.9876199011]
["Community Services","MSE:AH:MRC:MUNICIPAL RUNNING COST","O/404291.JAH.000",null,null,null,null,null,null,"ADM & HO",null,null,null,null,0,0,0]
["Community Services","MSE:AH:MRC:MUNICIPAL RUNNING COST","O/404291.JAH.000",null,null,null,null,null,null,"ADM & HO",null,null,null,null,134573.95379999999,140629.78172099998,146958.12189844498]
["Community Services","MSE:AH:MRC:MUNICIPAL RUNNING COST","O/404291.JAH.000",null,null,null,null,null,null,"ADM & HO",null,null,null,null,0,0,0]
["Community Services","MSE:AH:MRC:MUNICIPAL RUNNING COST","O/404291.JAH.000",null,null,null,null,null,null,"ADM & HO",null,null,null,null,10785.20175,11270.53582875,11777.709941043749]
["Community Services","MSE:AH:MRC:MUNICIPAL RUNNING COST","O/404291.JAH.000",null,null,null,null,null,null,"ADM & HO",null,null,null,null,0,0,0]
["Community Services","MSE:AH:MRC:MUNICIPAL RUNNING COST","O/404291.JAH.000",null,null,null,null,null,null,"ADM & HO",null,null,null,null,72948.112200000003,76230.777248999992,79661.162225204986]
["Community Services","MSE:AH:MRC:MUNICIPAL RUNNING COST","O/404291.JAH.000",null,null,null,null,null,null,"ADM & HO",null,null,null,null,0,0,0]
["Community Services","MSE:AH:MRC:MUNICIPAL RUNNING COST","O/404291.JAH.000",null,null,null,null,null,null,"ADM & HO",null,null,null,null,0,0,0]
["Community Services","MSE:AH:MRC:MUNICIPAL RUNNING COST","O/404291.JAH.000",null,null,null,null,null,null,"ADM & HO",null,null,null,null,25566.954449999997,26717.467400249996,27919.753433261245]
["Community Services","MSE:AH:MRC:MUNICIPAL RUNNING COST","O/404291.JAH.000",null,null,null,null,null,null,"ADM & HO",null,null,null,null,0,0,0]
["Community Services","MSE:AH:MRC:MUNICIPAL RUNNING COST","O/404291.JAH.000",null,null,null,null,null,null,"ADM & HO",null,null,null,null,85609.673549999992,89462.108859749991,93487.903758438741]
["Community Services","MSE:AH:MRC:MUNICIPAL RUNNING COST","O/404291.JAH.000",null,null,null,null,null,null,"ADM & HO",null,null,null,null,0,0,0]
["Community Services","MSE:AH:MRC:MUNICIPAL RUNNING COST","O/404291.JAH.000",null,null,null,null,null,null,"ADM & HO",null,null,null,null,36307.202549999995,37941.026664749988,39648.372864663732]
["Community Services","MSE:AH:MRC:MUNICIPAL RUNNING COST","O/404291.JAH.000",null,null,null,null,null,null,"ADM & HO",null,null,null,null,0,0,0]
["Community Services","MSE:AH:MRC:MUNICIPAL RUNNING COST","O/404291.JAH.000",null,null,null,null,null,null,"ADM & HO",null,null,null,null,47985.641100000001,50144.994949499996,52401.519722227495]
["Community Services","MSE:AH:MRC:MUNICIPAL RUNNING COST","O/404291.JAH.000",null,null,null,null,null,null,"ADM & HO",null,null,null,null,0,0,0]
["Community Services","MSE:AH:MRC:MUNICIPAL RUNNING COST","O/404291.JAH.000",null,null,null,null,null,null,"ADM & HO",null,null,null,null,799.98539999999991,835.98474299999987,873.60405643499985]
["Community Services","MSE:AH:MRC:MUNICIPAL RUNNING COST","O/404291.JAH.000",null,null,null,null,null,null,"ADM & HO",null,null,null,null,0,0,0]
["Community Services","MSE:AH:MRC:MUNICIPAL RUNNING COST","O/404291.JAH.000",null,null,null,null,null,null,"ADM & HO",null,null,null,null,173953.0104,181780.89586799999,189961.03618205996]
["Community Services","MSE:AH:MRC:MUNICIPAL RUNNING COST","O/404291.JAH.000",null,null,null,null,null,null,"ADM & HO",null,null,null,null,0,0,0]
["Community Services","MSE:AH:MRC:MUNICIPAL RUNNING COST","O/404291.JAH.000",null,null,null,null,null,null,"ADM & HO",null,null,null,null,374817.87854999996,391684.68308474991,409310.49382356362]
["Community Services","MSE:AH:MRC:MUNICIPAL RUNNING COST","O/404291.JAH.000",null,null,null,null,null,null,"ADM & HO",null,null,null,null,0,0,0]
["Community Services","MSE:AH:MRC:MUNICIPAL RUNNING COST","O/404291.JAH.000",null,null,null,null,null,null,"ADM & HO",null,null,null,null,13926.717449999998,14553.419735249998,15208.323623336246]
["Community Services","MSE:AH:MRC:MUNICIPAL RUNNING COST","O/404291.JAH.000",null,null,null,null,null,null,"ADM & HO",null,null,null,null,0,0,0]
["Community Services","LEVS:AH:MRC:MUNICIPAL RUNNING COST","O/404293.BAH.000",null,null,null,null,null,null,"ADM & HO",null,null,null,null,484145.10210000002,505931.63169449999,528698.55512075243]
["Community Services","LEVS:AH:MRC:MUNICIPAL RUNNING COST","O/404293.BAH.000",null,null,null,null,null,null,"ADM & HO",null,null,null,null,40345.331100000003,42160.870999500003,44058.1101944775]
["Community Services","LEVS:AH:MRC:MUNICIPAL RUNNING COST","O/404293.BAH.000",null,null,null,null,null,null,"ADM & HO",null,null,null,null,7415.5949999999993,7749.2967749999989,8098.0151298749979]
["Community Services","LEVS:AH:MRC:MUNICIPAL RUNNING COST","O/404293.BAH.000",null,null,null,null,null,null,"ADM & HO",null,null,null,null,52017.028199999993,54357.794468999986,56803.895220104983]
["Community Services","LEVS:AH:MRC:MUNICIPAL RUNNING COST","O/404293.BAH.000",null,null,null,null,null,null,"ADM & HO",null,null,null,null,23788.329899999997,24858.804745499994,25977.450959047492]
["Community Services","LEVS:AH:MRC:MUNICIPAL RUNNING COST","O/404293.BAH.000",null,null,null,null,null,null,"ADM & HO",null,null,null,null,0,0,0]
["Community Services","LEVS:AH:MRC:MUNICIPAL RUNNING COST","O/404293.BAH.000",null,null,null,null,null,null,"ADM & HO",null,null,null,null,0,0,0]
["Community Services","LEVS:AH:MRC:MUNICIPAL RUNNING COST","O/404293.BAH.000",null,null,null,null,null,null,"ADM & HO",null,null,null,null,27534.328949999999,28773.373752749998,30068.175571623746]
["Community Services","LEVS:AH:MRC:MUNICIPAL RUNNING COST","O/404293.BAH.000",null,null,null,null,null,null,"ADM & HO",null,null,null,null,132.58184999999997,138.54803324999997,144.78269474624997]
["Community Services","LEVS:AH:MRC:MUNICIPAL RUNNING COST","O/404293.BAH.000",null,null,null,null,null,null,"ADM & HO",null,null,null,null,64355.010599999994,67250.986076999994,70277.280450464983]
["Community Services","LEVS:AH:MRC:MUNICIPAL RUNNING COST","O/404293.BAH.000",null,null,null,null,null,null,"ADM & HO",null,null,null,null,133672.84664999999,139688.12474924998,145974.09036296624]
["Community Services","LEVS:AH:MRC:MUNICIPAL RUNNING COST","O/404293.BAH.000",null,null,null,null,null,null,"ADM & HO",null,null,null,null,2387.6021999999998,2495.0442989999997,2607.3212924549994]
["Community Services","MSE:AH:MRC:MUNICIPAL RUNNING COST","O/404293.JAH.000",null,null,null,null,null,null,"ADM & HO",null,null,null,null,341055.57869999995,356403.07974149991,372441.21832986741]
["Community Services","MSE:AH:MRC:MUNICIPAL RUNNING COST","O/404293.JAH.000",null,null,null,null,null,null,"ADM & HO",null,null,null,null,28420.834949999997,29699.772522749994,31036.262286273741]
["Community Services","MSE:AH:MRC:MUNICIPAL RUNNING COST","O/404293.JAH.000",null,null,null,null,null,null,"ADM & HO",null,null,null,null,25005.166949999999,26130.399462749996,27306.267438573745]
["Community Services","MSE:AH:MRC:MUNICIPAL RUNNING COST","O/404293.JAH.000",null,null,null,null,null,null,"ADM & HO",null,null,null,null,2669.6141999999995,2789.7468389999995,2915.2854467549992]
["Community Services","MSE:AH:MRC:MUNICIPAL RUNNING COST","O/404294.JAH.000",null,null,null,null,null,null,"ADM & HO",null,null,null,null,26645479.449450001,27844526.02467525,29097529.695785634]
["Community Services","MSE:AH:MRC:MUNICIPAL RUNNING COST","O/404294.JAH.000",null,null,null,null,null,null,"ADM & HO",null,null,null,null,2664206.43885,2784095.7285982501,2909380.0363851711]
["Community Services","MSE:AH:MRC:MUNICIPAL RUNNING COST","O/404294.JAH.000",null,null,null,null,null,null,"ADM & HO",null,null,null,null,131112.2139,137012.26352549999,143177.81538414749]
["Community Services","MSE:AH:MRC:MUNICIPAL RUNNING COST","O/404294.JAH.000",null,null,null,null,null,null,"ADM & HO",null,null,null,null,416139.60164999997,434865.88372424996,454434.84849184117]
["Community Services","MSE:AH:MRC:MUNICIPAL RUNNING COST","O/404294.JAH.000",null,null,null,null,null,null,"ADM & HO",null,null,null,null,580311.88635000004,606425.92123574996,633715.08769135864]
["Community Services","MSE:AH:MRC:MUNICIPAL RUNNING COST","O/404294.JAH.000",null,null,null,null,null,null,"ADM & HO",null,null,null,null,2985366.92295,3119708.43448275,3260095.3140344736]
["Community Services","MSE:AH:MRC:MUNICIPAL RUNNING COST","O/404294.JAH.000",null,null,null,null,null,null,"ADM & HO",null,null,null,null,0,0,0]
["Community Services","MSE:AH:MRC:MUNICIPAL RUNNING COST","O/404294.JAH.000",null,null,null,null,null,null,"ADM & HO",null,null,null,null,1584295.4696999998,1655588.7658364996,1730090.260299142]
["Community Services","MSE:AH:MRC:MUNICIPAL RUNNING COST","O/404294.JAH.000",null,null,null,null,null,null,"ADM & HO",null,null,null,null,9506353.4774999991,9934139.3839874975,10381175.656266933]
["Community Services","MSE:AH:MRC:MUNICIPAL RUNNING COST","O/404294.JAH.000",null,null,null,null,null,null,"ADM & HO",null,null,null,null,2074135.1800499998,2167471.2631522496,2265007.4699941007]
["Community Services","MSE:AH:MRC:MUNICIPAL RUNNING COST","O/404294.JAH.000",null,null,null,null,null,null,"ADM & HO",null,null,null,null,1274762.13375,1332126.42976875,1392072.1191083437]
["Community Services","MSE:AH:MRC:MUNICIPAL RUNNING COST","O/404294.JAH.000",null,null,null,null,null,null,"ADM & HO",null,null,null,null,550.55174999999997,575.32657874999995,601.2162747937499]
["Community Services","MSE:AH:MRC:MUNICIPAL RUNNING COST","O/404294.JAH.000",null,null,null,null,null,null,"ADM & HO",null,null,null,null,0,0,0]
["Community Services","MSE:AH:MRC:MUNICIPAL RUNNING COST","O/404294.JAH.000",null,null,null,null,null,null,"ADM & HO",null,null,null,null,10678.456799999998,11158.987355999998,11661.141787019997]
["Community Services","MSE:AH:MRC:MUNICIPAL RUNNING COST","O/404294.JAH.000",null,null,null,null,null,null,"ADM & HO",null,null,null,null,3899899.6120499996,4075395.0945922495,4258787.8738489002]
["Community Services","MSE:AH:MRC:MUNICIPAL RUNNING COST","O/404294.JAH.000",null,null,null,null,null,null,"ADM & HO",null,null,null,null,7177235.3051999994,7500210.8939339984,7837720.3841610281]
["Community Services","MSE:AH:MRC:MUNICIPAL RUNNING COST","O/404294.JAH.000",null,null,null,null,null,null,"ADM & HO",null,null,null,null,191047.08044999998,199644.19907024998,208628.18802841121]
["Community Services","\"MSE:AH:TWS:CAPBUIL:W/SH","O/404294.JAH.X19",null,null,null,null,null,null,"ADM & HO",null,null,null,null,0,0,0]
["Community Services","\"MSE:AH:TWS:CAPBUIL:W/SH","O/404294.JAH.X19",null,null,null,null,null,null,"ADM & HO",null,null,null,null,0,0,0]
["Community Services","\"MSE:AH:TWS:CAPBUIL:W/SH","O/404294.JAH.X19",null,null,null,null,null,null,"ADM & HO",null,null,null,null,0,0,0]
["Community Services","LEVS:AH:MRC:MUNICIPAL RUNNING COST","O/404295.BAH.000",null,null,null,null,null,null,"ADM & HO",null,null,null,null,125848.27034999999,131511.44251574998,137429.45742895873]
["Community Services","LEVS:AH:MRC:MUNICIPAL RUNNING COST","O/404295.BAH.000",null,null,null,null,null,null,"ADM & HO",null,null,null,null,21114.221399999999,22064.361362999996,23057.257624334994]
["Community Services","LEVS:AH:MRC:MUNICIPAL RUNNING COST","O/404295.BAH.000",null,null,null,null,null,null,"ADM & HO",null,null,null,null,667.40354999999988,697.43670974999986,728.82136168874979]
["Community Services","LEVS:AH:MRC:MUNICIPAL RUNNING COST","O/404295.BAH.000",null,null,null,null,null,null,"ADM & HO",null,null,null,null,241936.03934999998,252823.16112074995,264200.20337118366]
["Community Services","LEVS:AH:MRC:MUNICIPAL RUNNING COST","O/404295.BAH.000",null,null,null,null,null,null,"ADM & HO",null,null,null,null,10025.66505,10476.819977249999,10948.276876226248]
["Community Services","MSE:AH:MRC:MUNICIPAL RUNNING COST","O/404295.JAH.000",null,null,null,null,null,null,"ADM & HO",null,null,null,null,1972496.58555,2061258.9318997499,2154015.5838352386]
["Community Services","MSE:AH:MRC:MUNICIPAL RUNNING COST","O/404295.JAH.000",null,null,null,null,null,null,"ADM & HO",null,null,null,null,164374.5282,171771.38196899998,179501.09415760497]
["Community Services","MSE:AH:MRC:MUNICIPAL RUNNING COST","O/404295.JAH.000",null,null,null,null,null,null,"ADM & HO",null,null,null,null,15504.21675,16201.906503749999,16930.992296418746]
["Community Services","MSE:AH:MRC:MUNICIPAL RUNNING COST","O/404295.JAH.000",null,null,null,null,null,null,"ADM & HO",null,null,null,null,26008.514099999997,27178.897234499993,28401.947610052492]
["Community Services","MSE:AH:MRC:MUNICIPAL RUNNING COST","O/404295.JAH.000",null,null,null,null,null,null,"ADM & HO",null,null,null,null,331301.81880000001,346210.40064599999,361789.86867506994]
["Community Services","MSE:AH:MRC:MUNICIPAL RUNNING COST","O/404295.JAH.000",null,null,null,null,null,null,"ADM & HO",null,null,null,null,90497.224799999996,94569.599915999992,98825.231912219984]
["Community Services","MSE:AH:MRC:MUNICIPAL RUNNING COST","O/404295.JAH.000",null,null,null,null,null,null,"ADM & HO",null,null,null,null,0,0,0]
["Community Services","MSE:AH:MRC:MUNICIPAL RUNNING COST","O/404295.JAH.000",null,null,null,null,null,null,"ADM & HO",null,null,null,null,101749.83374999999,106328.57626874998,111113.36220084372]
["Community Services","MSE:AH:MRC:MUNICIPAL RUNNING COST","O/404295.JAH.000",null,null,null,null,null,null,"ADM & HO",null,null,null,null,103425.07875,108079.20729374999,112942.77162196873]
["Community Services","MSE:AH:MRC:MUNICIPAL RUNNING COST","O/404295.JAH.000",null,null,null,null,null,null,"ADM & HO",null,null,null,null,271323.13815000001,283532.67936675,296291.64993825374]
["Community Services","MSE:AH:MRC:MUNICIPAL RUNNING COST","O/404295.JAH.000",null,null,null,null,null,null,"ADM & HO",null,null,null,null,533.70344999999998,557.72010524999996,582.81750998624989]
["Community Services","MSE:AH:MRC:MUNICIPAL RUNNING COST","O/404295.JAH.000",null,null,null,null,null,null,"ADM & HO",null,null,null,null,1353815.433,1414737.1274849998,1478400.2982218247]
["Community Services","MSE:AH:MRC:MUNICIPAL RUNNING COST","O/404295.JAH.000",null,null,null,null,null,null,"ADM & HO",null,null,null,null,3464699.8757999996,3620611.3702109992,3783538.8818704938]
["Community Services","MSE:AH:MRC:MUNICIPAL RUNNING COST","O/404295.JAH.000",null,null,null,null,null,null,"ADM & HO",null,null,null,null,9551.5163999999986,9981.3346379999984,10430.494696709997]
["Community Services","MSE:AH:MRC:MUNICIPAL RUNNING COST","O/404296.JAH.000",null,null,null,null,null,null,"ADM & HO",null,null,null,null,5464816.0009499993,5710732.7209927486,5967715.6934374217]
["Community Services","MSE:AH:MRC:MUNICIPAL RUNNING COST","O/404296.JAH.000",null,null,null,null,null,null,"ADM & HO",null,null,null,null,455400.67755000002,475893.70803975,497308.9249015387]
["Community Services","MSE:AH:MRC:MUNICIPAL RUNNING COST","O/404296.JAH.000",null,null,null,null,null,null,"ADM & HO",null,null,null,null,21473.7654,22440.084842999997,23449.888660934994]
["Community Services","MSE:AH:MRC:MUNICIPAL RUNNING COST","O/404296.JAH.000",null,null,null,null,null,null,"ADM & HO",null,null,null,null,91029.799350000001,95126.140320749997,99406.816635183743]
["Community Services","MSE:AH:MRC:MUNICIPAL RUNNING COST","O/404296.JAH.000",null,null,null,null,null,null,"ADM & HO",null,null,null,null,475334.02695000003,496724.05816274998,519076.64078007371]
["Community Services","MSE:AH:MRC:MUNICIPAL RUNNING COST","O/404296.JAH.000",null,null,null,null,null,null,"ADM & HO",null,null,null,null,268469.25764999999,280550.37424424995,293175.14108524116]
["Community Services","MSE:AH:MRC:MUNICIPAL RUNNING COST","O/404296.JAH.000",null,null,null,null,null,null,"ADM & HO",null,null,null,null,109004.7522,113909.966049,119035.91452120499]
["Community Services","MSE:AH:MRC:MUNICIPAL RUNNING COST","O/404296.JAH.000",null,null,null,null,null,null,"ADM & HO",null,null,null,null,568262.66804999998,593834.48811224999,620557.04007730121]
["Community Services","MSE:AH:MRC:MUNICIPAL RUNNING COST","O/404296.JAH.000",null,null,null,null,null,null,"ADM & HO",null,null,null,null,1316445.63735,1375685.6910307498,1437591.5471271335]
["Community Services","MSE:AH:MRC:MUNICIPAL RUNNING COST","O/404296.JAH.000",null,null,null,null,null,null,"ADM & HO",null,null,null,null,92575.83855,96741.751284749989,101095.13009256373]
["Community Services","MSE:AH:MRC:MUNICIPAL RUNNING COST","O/404296.JAH.000",null,null,null,null,null,null,"ADM & HO",null,null,null,null,521675.8725,545151.28676249995,569683.09466681245]
["Community Services","MSE:AH:MRC:MUNICIPAL RUNNING COST","O/404296.JAH.000",null,null,null,null,null,null,"ADM & HO",null,null,null,null,2002.21065,2092.31012925,2186.4640850662499]
["Community Services","MSE:AH:MRC:MUNICIPAL RUNNING COST","O/404296.JAH.000",null,null,null,null,null,null,"ADM & HO",null,null,null,null,443731.22759999998,463699.13284199993,484565.59381988988]
["Community Services","MSE:AH:MRC:MUNICIPAL RUNNING COST","O/404296.JAH.000",null,null,null,null,null,null,"ADM & HO",null,null,null,null,1061603.0973,1109375.2366785,1159297.1223290323]
["Community Services","MSE:AH:MRC:MUNICIPAL RUNNING COST","O/404296.JAH.000",null,null,null,null,null,null,"ADM & HO",null,null,null,null,41447.563499999997,43312.703857499997,45261.775531087493]
["Community Services","MSE:AH:MRC:MUNICIPAL RUNNING COST","O/404297.JAH.000",null,null,null,null,null,null,"ADM & HO",null,null,null,null,1714788.9292499998,1791954.4310662497,1872592.3804642309]
["Community Services","MSE:AH:MRC:MUNICIPAL RUNNING COST","O/404297.JAH.000",null,null,null,null,null,null,"ADM & HO",null,null,null,null,142898.51565000002,149328.94885425002,156048.75155269125]
["Community Services","MSE:AH:MRC:MUNICIPAL RUNNING COST","O/404297.JAH.000",null,null,null,null,null,null,"ADM & HO",null,null,null,null,16853.625,17612.038124999999,18404.579840625]
["Community Services","MSE:AH:MRC:MUNICIPAL RUNNING COST","O/404297.JAH.000",null,null,null,null,null,null,"ADM & HO",null,null,null,null,26008.514099999997,27178.897234499993,28401.947610052492]
["Community Services","MSE:AH:MRC:MUNICIPAL RUNNING COST","O/404297.JAH.000",null,null,null,null,null,null,"ADM & HO",null,null,null,null,165300.35399999999,172738.86992999999,180512.11907684998]
["Community Services","MSE:AH:MRC:MUNICIPAL RUNNING COST","O/404297.JAH.000",null,null,null,null,null,null,"ADM & HO",null,null,null,null,235146.27029999997,245727.85246349996,256785.60582435745]
["Community Services","MSE:AH:MRC:MUNICIPAL RUNNING COST","O/404297.JAH.000",null,null,null,null,null,null,"ADM & HO",null,null,null,null,0,0,0]
["Community Services","MSE:AH:MRC:MUNICIPAL RUNNING COST","O/404297.JAH.000",null,null,null,null,null,null,"ADM & HO",null,null,null,null,43768.869449999998,45738.468575249994,47796.699661136241]
["Community Services","MSE:AH:MRC:MUNICIPAL RUNNING COST","O/404297.JAH.000",null,null,null,null,null,null,"ADM & HO",null,null,null,null,256179.5943,267707.67604349996,279754.52146545745]
["Community Services","MSE:AH:MRC:MUNICIPAL RUNNING COST","O/404297.JAH.000",null,null,null,null,null,null,"ADM & HO",null,null,null,null,96406.111049999992,100744.38604724998,105277.88341937622]
["Community Services","MSE:AH:MRC:MUNICIPAL RUNNING COST","O/404297.JAH.000",null,null,null,null,null,null,"ADM & HO",null,null,null,null,178588.88084999999,186625.38048824997,195023.5226102212]
["Community Services","MSE:AH:MRC:MUNICIPAL RUNNING COST","O/404297.JAH.000",null,null,null,null,null,null,"ADM & HO",null,null,null,null,399.99269999999996,417.99237149999993,436.80202821749992]
["Community Services","MSE:AH:MRC:MUNICIPAL RUNNING COST","O/404297.JAH.000",null,null,null,null,null,null,"ADM & HO",null,null,null,null,123247.18889999999,128793.31240049998,134589.01145852247]
["Community Services","MSE:AH:MRC:MUNICIPAL RUNNING COST","O/404297.JAH.000",null,null,null,null,null,null,"ADM & HO",null,null,null,null,473149.79714999994,494441.53802174988,516691.40723272861]
["Community Services","MSE:AH:MRC:MUNICIPAL RUNNING COST","O/404297.JAH.000",null,null,null,null,null,null,"ADM & HO",null,null,null,null,7163.9142000000002,7486.2903389999992,7823.1734042549988]
["Community Services","MSE:AH:MRC:MUNICIPAL RUNNING COST","O/404302.JAH.000",null,null,null,null,null,null,"ADM & HO",null,null,null,null,3793815.3986999998,3964537.0916414997,4142941.2607653667]
["Community Services","MSE:AH:MRC:MUNICIPAL RUNNING COST","O/404302.JAH.000",null,null,null,null,null,null,"ADM & HO",null,null,null,null,316150.41524999996,330377.18393624993,345244.15721338114]
["Community Services","MSE:AH:MRC:MUNICIPAL RUNNING COST","O/404302.JAH.000",null,null,null,null,null,null,"ADM & HO",null,null,null,null,42626.188349999997,44544.366825749996,46548.863332908739]
["Community Services","MSE:AH:MRC:MUNICIPAL RUNNING COST","O/404302.JAH.000",null,null,null,null,null,null,"ADM & HO",null,null,null,null,165313.83689999999,172752.95956049999,180526.84274072247]
["Community Services","MSE:AH:MRC:MUNICIPAL RUNNING COST","O/404302.JAH.000",null,null,null,null,null,null,"ADM & HO",null,null,null,null,328563.67184999998,343349.03708324995,358799.7437519962]
["Community Services","MSE:AH:MRC:MUNICIPAL RUNNING COST","O/404302.JAH.000",null,null,null,null,null,null,"ADM & HO",null,null,null,null,0,0,0]
["Community Services","MSE:AH:MRC:MUNICIPAL RUNNING COST","O/404302.JAH.000",null,null,null,null,null,null,"ADM & HO",null,null,null,null,3248117.1306000003,3394282.4014770002,3547025.1095434651]
["Community Services","MSE:AH:MRC:MUNICIPAL RUNNING COST","O/404302.JAH.000",null,null,null,null,null,null,"ADM & HO",null,null,null,null,805685.30129999993,841941.13985849987,879828.49115213228]
["Community Services","MSE:AH:MRC:MUNICIPAL RUNNING COST","O/404302.JAH.000",null,null,null,null,null,null,"ADM & HO",null,null,null,null,41835.191550000003,43717.775169749999,45685.075052388747]
["Community Services","MSE:AH:MRC:MUNICIPAL RUNNING COST","O/404302.JAH.000",null,null,null,null,null,null,"ADM & HO",null,null,null,null,329313.09104999999,344132.18014724995,359618.12825387617]
["Community Services","MSE:AH:MRC:MUNICIPAL RUNNING COST","O/404302.JAH.000",null,null,null,null,null,null,"ADM & HO",null,null,null,null,1334.8070999999998,1394.8734194999997,1457.6427233774996]
["Community Services","MSE:AH:MRC:MUNICIPAL RUNNING COST","O/404302.JAH.000",null,null,null,null,null,null,"ADM & HO",null,null,null,null,7.4550000000000005E-2,7.7904749999999995E-2,8.1410463749999995E-2]
["Community Services","MSE:AH:MRC:MUNICIPAL RUNNING COST","O/404302.JAH.000",null,null,null,null,null,null,"ADM & HO",null,null,null,null,0,0,0]
["Community Services","MSE:AH:MRC:MUNICIPAL RUNNING COST","O/404302.JAH.000",null,null,null,null,null,null,"ADM & HO",null,null,null,null,23114.184899999997,24154.323220499995,25241.267765422494]
["Community Services","MSE:AH:MRC:MUNICIPAL RUNNING COST","O/404325.JAH.000",null,null,null,null,null,null,"ADM & HO",null,null,null,null,7288189.4653499993,7616157.9912907491,7958885.1008988321]
["Community Services","MSE:AH:MRC:MUNICIPAL RUNNING COST","O/404325.JAH.000",null,null,null,null,null,null,"ADM & HO",null,null,null,null,607348.46624999994,634679.14723124984,663239.70885665598]
["Community Services","MSE:AH:MRC:MUNICIPAL RUNNING COST","O/404325.JAH.000",null,null,null,null,null,null,"ADM & HO",null,null,null,null,9438.0299999999988,9862.7413499999984,10306.564710749997]
["Community Services","MSE:AH:MRC:MUNICIPAL RUNNING COST","O/404325.JAH.000",null,null,null,null,null,null,"ADM & HO",null,null,null,null,26008.514099999997,27178.897234499993,28401.947610052492]
["Community Services","MSE:AH:MRC:MUNICIPAL RUNNING COST","O/404325.JAH.000",null,null,null,null,null,null,"ADM & HO",null,null,null,null,100474.5708,104995.926486,109720.74317786998]
["Community Services","MSE:AH:MRC:MUNICIPAL RUNNING COST","O/404325.JAH.000",null,null,null,null,null,null,"ADM & HO",null,null,null,null,0,0,0]
["Community Services","MSE:AH:MRC:MUNICIPAL RUNNING COST","O/404325.JAH.000",null,null,null,null,null,null,"ADM & HO",null,null,null,null,0,0,0]
["Community Services","MSE:AH:MRC:MUNICIPAL RUNNING COST","O/404325.JAH.000",null,null,null,null,null,null,"ADM & HO",null,null,null,null,29800.585049999998,31141.611377249996,32542.983889226245]
["Community Services","MSE:AH:MRC:MUNICIPAL RUNNING COST","O/404325.JAH.000",null,null,null,null,null,null,"ADM & HO",null,null,null,null,0,0,0]
["Community Services","MSE:AH:MRC:MUNICIPAL RUNNING COST","O/404325.JAH.000",null,null,null,null,null,null,"ADM & HO",null,null,null,null,4004.4213,4184.6202585000001,4372.9281701324999]
["Community Services","MSE:AH:MRC:MUNICIPAL RUNNING COST","O/404325.JAH.000",null,null,null,null,null,null,"ADM & HO",null,null,null,null,294142.94639999996,307379.37898799992,321211.45104245987]
["Community Services","MSE:AH:MRC:MUNICIPAL RUNNING COST","O/404325.JAH.000",null,null,null,null,null,null,"ADM & HO",null,null,null,null,1120957.0702500001,1171400.13841125,1224113.1446397561]
["Community Services","MSE:AH:MRC:MUNICIPAL RUNNING COST","O/404325.JAH.000",null,null,null,null,null,null,"ADM & HO",null,null,null,null,63796.588499999998,66667.434982499995,69667.469556712487]
["Community Services","LEVS:AH:MRC:MUNICIPAL RUNNING COST","O/404327.BAH.000",null,null,null,null,null,null,"ADM & HO",null,null,null,null,0,0,0]
["Community Services","LEVS:AH:MRC:MUNICIPAL RUNNING COST","O/404327.BAH.000",null,null,null,null,null,null,"ADM & HO",null,null,null,null,0,0,0]
["Community Services","MSE:AH:MRC:MUNICIPAL RUNNING COST","O/404327.JAH.000",null,null,null,null,null,null,"ADM & HO",null,null,null,null,41445910.119450003,43310976.07482525,45259969.998192385]
["Community Services","MSE:AH:MRC:MUNICIPAL RUNNING COST","O/404327.JAH.000",null,null,null,null,null,null,"ADM & HO",null,null,null,null,3972469.0741499998,4151230.1824867493,4338035.5406986531]
["Community Services","MSE:AH:MRC:MUNICIPAL RUNNING COST","O/404327.JAH.000",null,null,null,null,null,null,"ADM & HO",null,null,null,null,87180.431399999987,91103.55081299998,95203.210599584971]
["Community Services","MSE:AH:MRC:MUNICIPAL RUNNING COST","O/404327.JAH.000",null,null,null,null,null,null,"ADM & HO",null,null,null,null,169093.54319999999,176702.75264399996,184654.37651297994]
["Community Services","MSE:AH:MRC:MUNICIPAL RUNNING COST","O/404327.JAH.000",null,null,null,null,null,null,"ADM & HO",null,null,null,null,0,0,0]
["Community Services","MSE:AH:MRC:MUNICIPAL RUNNING COST","O/404327.JAH.000",null,null,null,null,null,null,"ADM & HO",null,null,null,null,741780.84959999996,775160.9878319999,810043.23228443984]
["Community Services","MSE:AH:MRC:MUNICIPAL RUNNING COST","O/404327.JAH.000",null,null,null,null,null,null,"ADM & HO",null,null,null,null,1442525.6942999999,1507439.3505434997,1575274.1213179571]
["Community Services","MSE:AH:MRC:MUNICIPAL RUNNING COST","O/404327.JAH.000",null,null,null,null,null,null,"ADM & HO",null,null,null,null,704387.14469999995,736084.56621149986,769208.3716910173]
["Community Services","MSE:AH:MRC:MUNICIPAL RUNNING COST","O/404327.JAH.000",null,null,null,null,null,null,"ADM & HO",null,null,null,null,1806509.0615999999,1887801.9693719998,1972753.0579937396]
["Community Services","MSE:AH:MRC:MUNICIPAL RUNNING COST","O/404327.JAH.000",null,null,null,null,null,null,"ADM & HO",null,null,null,null,367385.09445000003,383917.42370024999,401193.70776676119]
["Community Services","MSE:AH:MRC:MUNICIPAL RUNNING COST","O/404327.JAH.000",null,null,null,null,null,null,"ADM & HO",null,null,null,null,697794.00659999996,729194.73689699988,762008.50005736481]
["Community Services","MSE:AH:MRC:MUNICIPAL RUNNING COST","O/404327.JAH.000",null,null,null,null,null,null,"ADM & HO",null,null,null,null,3244404.8388,3390403.0565459998,3542971.1940905694]
["Community Services","MSE:AH:MRC:MUNICIPAL RUNNING COST","O/404327.JAH.000",null,null,null,null,null,null,"ADM & HO",null,null,null,null,363112.4742,379452.53553899995,396527.89963825489]
["Community Services","MSE:AH:MRC:MUNICIPAL RUNNING COST","O/404327.JAH.000",null,null,null,null,null,null,"ADM & HO",null,null,null,null,23491.706099999996,24548.832874499993,25653.530353852489]
["Community Services","MSE:AH:MRC:MUNICIPAL RUNNING COST","O/404327.JAH.000",null,null,null,null,null,null,"ADM & HO",null,null,null,null,4188064.0211999998,4376526.9021539995,4573470.6127509288]
["Community Services","MSE:AH:MRC:MUNICIPAL RUNNING COST","O/404327.JAH.000",null,null,null,null,null,null,"ADM & HO",null,null,null,null,10582907.183250001,11059138.006496251,11556799.216788581]
["Community Services","MSE:AH:MRC:MUNICIPAL RUNNING COST","O/404327.JAH.000",null,null,null,null,null,null,"ADM & HO",null,null,null,null,406024.05059999996,424295.13287699991,443388.4138564649]
["Community Services","MSE:AH:MRC:MUNICIPAL RUNNING COST","O/404328.JAH.000",null,null,null,null,null,null,"ADM & HO",null,null,null,null,26382162.704399999,27569360.026097998,28809981.227272406]
["Community Services","MSE:AH:MRC:MUNICIPAL RUNNING COST","O/404328.JAH.000",null,null,null,null,null,null,"ADM & HO",null,null,null,null,4136171.7044999995,4322299.4312024992,4516802.9056066116]
["Community Services","MSE:AH:MRC:MUNICIPAL RUNNING COST","O/404328.JAH.000",null,null,null,null,null,null,"ADM & HO",null,null,null,null,169805.88974999997,177447.15478874996,185432.27675424371]
["Community Services","MSE:AH:MRC:MUNICIPAL RUNNING COST","O/404328.JAH.000",null,null,null,null,null,null,"ADM & HO",null,null,null,null,234078.87404999998,244612.42338224998,255619.9824344512]
["Community Services","MSE:AH:MRC:MUNICIPAL RUNNING COST","O/404328.JAH.000",null,null,null,null,null,null,"ADM & HO",null,null,null,null,0,0,0]
["Community Services","MSE:AH:MRC:MUNICIPAL RUNNING COST","O/404328.JAH.000",null,null,null,null,null,null,"ADM & HO",null,null,null,null,1043791.0681499999,1090761.6662167499,1139845.9411965036]
["Community Services","MSE:AH:MRC:MUNICIPAL RUNNING COST","O/404328.JAH.000",null,null,null,null,null,null,"ADM & HO",null,null,null,null,3582803.8815000001,3744030.0561675001,3912511.4086950375]
["Community Services","MSE:AH:MRC:MUNICIPAL RUNNING COST","O/404328.JAH.000",null,null,null,null,null,null,"ADM & HO",null,null,null,null,1519997.3726999999,1588397.2544714999,1659875.1309227173]
["Community Services","MSE:AH:MRC:MUNICIPAL RUNNING COST","O/404328.JAH.000",null,null,null,null,null,null,"ADM & HO",null,null,null,null,1859815.21905,1943506.9039072499,2030964.7145830761]
["Community Services","MSE:AH:MRC:MUNICIPAL RUNNING COST","O/404328.JAH.000",null,null,null,null,null,null,"ADM & HO",null,null,null,null,2542273.8327000001,2656676.1551715001,2776226.5821542172]
["Community Services","MSE:AH:MRC:MUNICIPAL RUNNING COST","O/404328.JAH.000",null,null,null,null,null,null,"ADM & HO",null,null,null,null,1482313.4020499999,1549017.5051422499,1618723.292873651]
["Community Services","MSE:AH:MRC:MUNICIPAL RUNNING COST","O/404328.JAH.000",null,null,null,null,null,null,"ADM & HO",null,null,null,null,2980105.1626499998,3114209.8949692496,3254349.3402428655]
["Community Services","MSE:AH:MRC:MUNICIPAL RUNNING COST","O/404328.JAH.000",null,null,null,null,null,null,"ADM & HO",null,null,null,null,19487.284799999998,20364.212615999997,21280.602183719995]
["Community Services","MSE:AH:MRC:MUNICIPAL RUNNING COST","O/404328.JAH.000",null,null,null,null,null,null,"ADM & HO",null,null,null,null,8320605.8116499996,8695033.0731742494,9086309.5614670906]
["Community Services","MSE:AH:MRC:MUNICIPAL RUNNING COST","O/404328.JAH.000",null,null,null,null,null,null,"ADM & HO",null,null,null,null,22801326.836399999,23827386.544037998,24899618.938519705]
["Community Services","MSE:AH:MRC:MUNICIPAL RUNNING COST","O/404328.JAH.000",null,null,null,null,null,null,"ADM & HO",null,null,null,null,347898.15044999996,363553.56722024991,379913.47774516116]
["Community Services","LEVS:AH:MRC:MUNICIPAL RUNNING COST","O/404357.BAH.000",null,null,null,null,null,null,"ADM & HO",null,null,null,null,8883541.2432000004,9283300.5991440006,9701049.1261054799]
["Community Services","LEVS:AH:MRC:MUNICIPAL RUNNING COST","O/404357.BAH.000",null,null,null,null,null,null,"ADM & HO",null,null,null,null,740362.89795000001,773679.22835774999,808494.79363384866]
["Community Services","LEVS:AH:MRC:MUNICIPAL RUNNING COST","O/404357.BAH.000",null,null,null,null,null,null,"ADM & HO",null,null,null,null,103813.8357,108485.45830649999,113367.30393029249]
["Community Services","LEVS:AH:MRC:MUNICIPAL RUNNING COST","O/404357.BAH.000",null,null,null,null,null,null,"ADM & HO",null,null,null,null,52017.028199999993,54357.794468999986,56803.895220104983]
["Community Services","LEVS:AH:MRC:MUNICIPAL RUNNING COST","O/404357.BAH.000",null,null,null,null,null,null,"ADM & HO",null,null,null,null,696644.59470000002,727993.60146149993,760753.31352726743]
["Community Services","LEVS:AH:MRC:MUNICIPAL RUNNING COST","O/404357.BAH.000",null,null,null,null,null,null,"ADM & HO",null,null,null,null,103319.4627,107968.8385215,112827.4362549675]
["Community Services","LEVS:AH:MRC:MUNICIPAL RUNNING COST","O/404357.BAH.000",null,null,null,null,null,null,"ADM & HO",null,null,null,null,241870.87199999997,252755.06123999995,264129.03899579996]
["Community Services","LEVS:AH:MRC:MUNICIPAL RUNNING COST","O/404357.BAH.000",null,null,null,null,null,null,"ADM & HO",null,null,null,null,0,0,0]
["Community Services","LEVS:AH:MRC:MUNICIPAL RUNNING COST","O/404357.BAH.000",null,null,null,null,null,null,"ADM & HO",null,null,null,null,142255.83074999999,148657.34313374999,155346.92357476873]
["Community Services","LEVS:AH:MRC:MUNICIPAL RUNNING COST","O/404357.BAH.000",null,null,null,null,null,null,"ADM & HO",null,null,null,null,150124.23179999998,156879.82223099997,163939.41423139497]
["Community Services","LEVS:AH:MRC:MUNICIPAL RUNNING COST","O/404357.BAH.000",null,null,null,null,null,null,"ADM & HO",null,null,null,null,2803.3249499999997,2929.4745727499994,3061.300928523749]
["Community Services","LEVS:AH:MRC:MUNICIPAL RUNNING COST","O/404357.BAH.000",null,null,null,null,null,null,"ADM & HO",null,null,null,null,351183.48374999996,366986.74051874992,383501.14384209365]
["Community Services","LEVS:AH:MRC:MUNICIPAL RUNNING COST","O/404357.BAH.000",null,null,null,null,null,null,"ADM & HO",null,null,null,null,1545213.3777000001,1614747.9796964999,1687411.6387828423]
["Community Services","LEVS:AH:MRC:MUNICIPAL RUNNING COST","O/404357.BAH.000",null,null,null,null,null,null,"ADM & HO",null,null,null,null,53191.169399999999,55584.772022999998,58086.086764034997]
["Community Services","MSE:AH:MRC:MUNICIPAL RUNNING COST","O/404359.JAH.000",null,null,null,null,null,null,"ADM & HO",null,null,null,null,638444.70899999992,667174.72090499988,697197.58334572485]
["Community Services","LEVS:AH:MRC:MUNICIPAL RUNNING COST","O/404390.BAH.000",null,null,null,null,null,null,"ADM & HO",null,null,null,null,1054822.3274999999,1102289.3322374998,1151892.3521881872]
["Community Services","LEVS:AH:MRC:MUNICIPAL RUNNING COST","O/404390.BAH.000",null,null,null,null,null,null,"ADM & HO",null,null,null,null,87901.766549999986,91857.346044749982,95990.926616763725]
["Community Services","LEVS:AH:MRC:MUNICIPAL RUNNING COST","O/404390.BAH.000",null,null,null,null,null,null,"ADM & HO",null,null,null,null,21114.221399999999,22064.361362999996,23057.257624334994]
["Community Services","LEVS:AH:MRC:MUNICIPAL RUNNING COST","O/404390.BAH.000",null,null,null,null,null,null,"ADM & HO",null,null,null,null,399.99269999999996,417.99237149999993,436.80202821749992]
["Community Services","LEVS:AH:MRC:MUNICIPAL RUNNING COST","O/404390.BAH.000",null,null,null,null,null,null,"ADM & HO",null,null,null,null,1169690.78865,1222326.87413925,1277331.5834755162]
["Community Services","LEVS:AH:MRC:MUNICIPAL RUNNING COST","O/404390.BAH.000",null,null,null,null,null,null,"ADM & HO",null,null,null,null,6014.5023000000001,6285.1549034999998,6567.9868741574992]
["Community Services","MSE:AH:MRC:MUNICIPAL RUNNING COST","O/404390.JAH.000",null,null,null,null,null,null,"ADM & HO",null,null,null,null,10799873.552099999,11285867.861944498,11793731.915732]
["Community Services","MSE:AH:MRC:MUNICIPAL RUNNING COST","O/404390.JAH.000",null,null,null,null,null,null,"ADM & HO",null,null,null,null,1134341.09565,1185386.44495425,1238728.8349771912]
["Community Services","MSE:AH:MRC:MUNICIPAL RUNNING COST","O/404390.JAH.000",null,null,null,null,null,null,"ADM & HO",null,null,null,null,7415.5949999999993,7749.2967749999989,8098.0151298749979]
["Community Services","MSE:AH:MRC:MUNICIPAL RUNNING COST","O/404390.JAH.000",null,null,null,null,null,null,"ADM & HO",null,null,null,null,13004.257049999998,13589.448617249996,14200.973805026246]
["Community Services","MSE:AH:MRC:MUNICIPAL RUNNING COST","O/404390.JAH.000",null,null,null,null,null,null,"ADM & HO",null,null,null,null,127486.4427,133223.33262149998,139218.38258946748]
["Community Services","MSE:AH:MRC:MUNICIPAL RUNNING COST","O/404390.JAH.000",null,null,null,null,null,null,"ADM & HO",null,null,null,null,0,0,0]
["Community Services","MSE:AH:MRC:MUNICIPAL RUNNING COST","O/404390.JAH.000",null,null,null,null,null,null,"ADM & HO",null,null,null,null,1231886.1709499997,1287321.0486427497,1345250.4958316733]
["Community Services","MSE:AH:MRC:MUNICIPAL RUNNING COST","O/404390.JAH.000",null,null,null,null,null,null,"ADM & HO",null,null,null,null,54892.261949999993,57362.413737749986,59943.722355948732]
["Community Services","MSE:AH:MRC:MUNICIPAL RUNNING COST","O/404390.JAH.000",null,null,null,null,null,null,"ADM & HO",null,null,null,null,0,0,0]
["Community Services","MSE:AH:MRC:MUNICIPAL RUNNING COST","O/404390.JAH.000",null,null,null,null,null,null,"ADM & HO",null,null,null,null,54086.653349999993,56520.552750749986,59063.977624533734]
["Community Services","MSE:AH:MRC:MUNICIPAL RUNNING COST","O/404390.JAH.000",null,null,null,null,null,null,"ADM & HO",null,null,null,null,0,0,0]
["Community Services","MSE:AH:MRC:MUNICIPAL RUNNING COST","O/404390.JAH.000",null,null,null,null,null,null,"ADM & HO",null,null,null,null,352432.89914999995,368292.3796117499,384865.53669427859]
["Community Services","MSE:AH:MRC:MUNICIPAL RUNNING COST","O/404390.JAH.000",null,null,null,null,null,null,"ADM & HO",null,null,null,null,10544.7567,11019.270751499998,11515.137935317498]
["Community Services","MSE:AH:MRC:MUNICIPAL RUNNING COST","O/404390.JAH.000",null,null,null,null,null,null,"ADM & HO",null,null,null,null,1299535.8335999998,1358014.9461119997,1419125.6186870395]
["Community Services","MSE:AH:MRC:MUNICIPAL RUNNING COST","O/404390.JAH.000",null,null,null,null,null,null,"ADM & HO",null,null,null,null,4257676.5533999996,4449271.998302999,4649489.2382266335]
["Community Services","MSE:AH:MRC:MUNICIPAL RUNNING COST","O/404390.JAH.000",null,null,null,null,null,null,"ADM & HO",null,null,null,null,168353.11259999999,175929.00266699999,183845.80778701499]
["Community Services","MSE:AH:MRC:MUNICIPAL RUNNING COST","O/404392.JAH.000",null,null,null,null,null,null,"ADM & HO",null,null,null,null,14770733.464500001,15435416.4704025,16130010.211570611]
["Community Services","MSE:AH:MRC:MUNICIPAL RUNNING COST","O/404392.JAH.000",null,null,null,null,null,null,"ADM & HO",null,null,null,null,0,0,0]
["Community Services","MSE:AH:MRC:MUNICIPAL RUNNING COST","O/404392.JAH.000",null,null,null,null,null,null,"ADM & HO",null,null,null,null,1660120.2640500001,1734825.67593225,1812892.831349201]
["Community Services","MSE:AH:MRC:MUNICIPAL RUNNING COST","O/404392.JAH.000",null,null,null,null,null,null,"ADM & HO",null,null,null,null,23001.827399999998,24036.909632999996,25118.570566484992]
["Community Services","MSE:AH:MRC:MUNICIPAL RUNNING COST","O/404392.JAH.000",null,null,null,null,null,null,"ADM & HO",null,null,null,null,65021.285249999994,67947.24308624999,71004.869025131236]
["Community Services","MSE:AH:MRC:MUNICIPAL RUNNING COST","O/404392.JAH.000",null,null,null,null,null,null,"ADM & HO",null,null,null,null,0,0,0]
["Community Services","MSE:AH:MRC:MUNICIPAL RUNNING COST","O/404392.JAH.000",null,null,null,null,null,null,"ADM & HO",null,null,null,null,52610.275799999996,54977.738210999989,57451.736430494988]
["Community Services","MSE:AH:MRC:MUNICIPAL RUNNING COST","O/404392.JAH.000",null,null,null,null,null,null,"ADM & HO",null,null,null,null,1348306.85895,1408980.66760275,1472384.7976448736]
["Community Services","MSE:AH:MRC:MUNICIPAL RUNNING COST","O/404392.JAH.000",null,null,null,null,null,null,"ADM & HO",null,null,null,null,1338.1831499999998,1398.4013917499997,1461.3294543787495]
["Community Services","MSE:AH:MRC:MUNICIPAL RUNNING COST","O/404392.JAH.000",null,null,null,null,null,null,"ADM & HO",null,null,null,null,0,0,0]
["Community Services","MSE:AH:MRC:MUNICIPAL RUNNING COST","O/404392.JAH.000",null,null,null,null,null,null,"ADM & HO",null,null,null,null,171855.29055000001,179588.77862475,187670.27366286374]
["Community Services","MSE:AH:MRC:MUNICIPAL RUNNING COST","O/404392.JAH.000",null,null,null,null,null,null,"ADM & HO",null,null,null,null,18346.861499999999,19172.470267499997,20035.231429537496]
["Community Services","MSE:AH:MRC:MUNICIPAL RUNNING COST","O/404392.JAH.000",null,null,null,null,null,null,"ADM & HO",null,null,null,null,571369.34759999998,597080.96824199997,623949.61181288993]
["Community Services","MSE:AH:MRC:MUNICIPAL RUNNING COST","O/404392.JAH.000",null,null,null,null,null,null,"ADM & HO",null,null,null,null,16417.677899999999,17156.473405499997,17928.514708747494]
["Community Services","MSE:AH:MRC:MUNICIPAL RUNNING COST","O/404392.JAH.000",null,null,null,null,null,null,"ADM & HO",null,null,null,null,3705489.2296499996,3872236.2449842496,4046486.8760085404]
["Community Services","MSE:AH:MRC:MUNICIPAL RUNNING COST","O/404392.JAH.000",null,null,null,null,null,null,"ADM & HO",null,null,null,null,7204568.1574499998,7528773.7245352492,7867568.5421393346]
["Community Services","MSE:AH:MRC:MUNICIPAL RUNNING COST","O/404392.JAH.000",null,null,null,null,null,null,"ADM & HO",null,null,null,null,246617.97104999999,257715.77974724997,269312.98983587621]
["Community Services","LEVS:AH:MRC:MUNICIPAL RUNNING COST","O/404400.BAH.000",null,null,null,null,null,null,"ADM & HO",null,null,null,null,2512118.1979499999,2625163.5168577498,2743295.8751163483]
["Community Services","LEVS:AH:MRC:MUNICIPAL RUNNING COST","O/404400.BAH.000",null,null,null,null,null,null,"ADM & HO",null,null,null,null,209342.24684999997,218762.64795824996,228606.9671163712]
["Community Services","LEVS:AH:MRC:MUNICIPAL RUNNING COST","O/404400.BAH.000",null,null,null,null,null,null,"ADM & HO",null,null,null,null,9438.0299999999988,9862.7413499999984,10306.564710749997]
["Community Services","LEVS:AH:MRC:MUNICIPAL RUNNING COST","O/404400.BAH.000",null,null,null,null,null,null,"ADM & HO",null,null,null,null,26008.514099999997,27178.897234499993,28401.947610052492]
["Community Services","LEVS:AH:MRC:MUNICIPAL RUNNING COST","O/404400.BAH.000",null,null,null,null,null,null,"ADM & HO",null,null,null,null,0,0,0]
["Community Services","LEVS:AH:MRC:MUNICIPAL RUNNING COST","O/404400.BAH.000",null,null,null,null,null,null,"ADM & HO",null,null,null,null,114591.16709999999,119747.76961949999,125136.41925237748]
["Community Services","LEVS:AH:MRC:MUNICIPAL RUNNING COST","O/404400.BAH.000",null,null,null,null,null,null,"ADM & HO",null,null,null,null,17905.2912,18711.029304,19553.025622679997]
["Community Services","LEVS:AH:MRC:MUNICIPAL RUNNING COST","O/404400.BAH.000",null,null,null,null,null,null,"ADM & HO",null,null,null,null,43695.831749999998,45662.144178749993,47716.940666793736]
["Community Services","LEVS:AH:MRC:MUNICIPAL RUNNING COST","O/404400.BAH.000",null,null,null,null,null,null,"ADM & HO",null,null,null,null,1467.3889499999998,1533.4214527499996,1602.4254181237495]
["Community Services","LEVS:AH:MRC:MUNICIPAL RUNNING COST","O/404400.BAH.000",null,null,null,null,null,null,"ADM & HO",null,null,null,null,174010.30739999999,181840.77123299998,190023.60593848495]
["Community Services","LEVS:AH:MRC:MUNICIPAL RUNNING COST","O/404400.BAH.000",null,null,null,null,null,null,"ADM & HO",null,null,null,null,373250.49674999999,390046.76910374995,407598.87371341867]
["Community Services","LEVS:AH:MRC:MUNICIPAL RUNNING COST","O/404400.BAH.000",null,null,null,null,null,null,"ADM & HO",null,null,null,null,26788.275150000001,27993.747531749999,29253.466170678748]
["Community Services","MSE:AH:MRC:MUNICIPAL RUNNING COST","O/404400.JAH.000",null,null,null,null,null,null,"ADM & HO",null,null,null,null,673243.89284999995,703539.86802824994,735199.16208952118]
["Community Services","MSE:AH:MRC:MUNICIPAL RUNNING COST","O/404400.JAH.000",null,null,null,null,null,null,"ADM & HO",null,null,null,null,56103.4758,58628.132210999996,61266.398160494995]
["Community Services","MSE:AH:MRC:MUNICIPAL RUNNING COST","O/404400.JAH.000",null,null,null,null,null,null,"ADM & HO",null,null,null,null,13105.3788,13695.120846,14311.401284069998]
["Community Services","MSE:AH:MRC:MUNICIPAL RUNNING COST","O/404400.JAH.000",null,null,null,null,null,null,"ADM & HO",null,null,null,null,0,0,0]
["Community Services","MSE:AH:MRC:MUNICIPAL RUNNING COST","O/404400.JAH.000",null,null,null,null,null,null,"ADM & HO",null,null,null,null,0,0,0]
["Community Services","MSE:AH:MRC:MUNICIPAL RUNNING COST","O/404400.JAH.000",null,null,null,null,null,null,"ADM & HO",null,null,null,null,399.99269999999996,417.99237149999993,436.80202821749992]
["Community Services","MSE:AH:MRC:MUNICIPAL RUNNING COST","O/404400.JAH.000",null,null,null,null,null,null,"ADM & HO",null,null,null,null,107855.3403,112708.83061349999,117780.72799110747]
["Community Services","MSE:AH:MRC:MUNICIPAL RUNNING COST","O/404400.JAH.000",null,null,null,null,null,null,"ADM & HO",null,null,null,null,6014.5023000000001,6285.1549034999998,6567.9868741574992]
["Community Services","LEVS:AH:MRC:MUNICIPAL RUNNING COST","O/404402.BAH.000",null,null,null,null,null,null,"ADM & HO",null,null,null,null,7936561.9019999998,8293707.1875899993,8666924.0110315494]
["Community Services","LEVS:AH:MRC:MUNICIPAL RUNNING COST","O/404402.BAH.000",null,null,null,null,null,null,"ADM & HO",null,null,null,null,661380.06975000002,691142.17288874998,722243.57066874369]
["Community Services","LEVS:AH:MRC:MUNICIPAL RUNNING COST","O/404402.BAH.000",null,null,null,null,null,null,"ADM & HO",null,null,null,null,9438.0299999999988,9862.7413499999984,10306.564710749997]
["Community Services","LEVS:AH:MRC:MUNICIPAL RUNNING COST","O/404402.BAH.000",null,null,null,null,null,null,"ADM & HO",null,null,null,null,39012.77115,40768.345851749997,42602.921415078745]
["Community Services","LEVS:AH:MRC:MUNICIPAL RUNNING COST","O/404402.BAH.000",null,null,null,null,null,null,"ADM & HO",null,null,null,null,0,0,0]
["Community Services","LEVS:AH:MRC:MUNICIPAL RUNNING COST","O/404402.BAH.000",null,null,null,null,null,null,"ADM & HO",null,null,null,null,390100.74570000003,407655.27925650001,425999.76682304248]
["Community Services","LEVS:AH:MRC:MUNICIPAL RUNNING COST","O/404402.BAH.000",null,null,null,null,null,null,"ADM & HO",null,null,null,null,65580.825599999996,68531.962751999992,71615.901075839982]
["Community Services","LEVS:AH:MRC:MUNICIPAL RUNNING COST","O/404402.BAH.000",null,null,null,null,null,null,"ADM & HO",null,null,null,null,174238.39845000001,182079.12638025,190272.68706736123]
["Community Services","LEVS:AH:MRC:MUNICIPAL RUNNING COST","O/404402.BAH.000",null,null,null,null,null,null,"ADM & HO",null,null,null,null,5339.2283999999991,5579.4936779999989,5830.5708935099983]
["Community Services","LEVS:AH:MRC:MUNICIPAL RUNNING COST","O/404402.BAH.000",null,null,null,null,null,null,"ADM & HO",null,null,null,null,5471.8102500000005,5718.0417112499999,5975.3535882562492]
["Community Services","LEVS:AH:MRC:MUNICIPAL RUNNING COST","O/404402.BAH.000",null,null,null,null,null,null,"ADM & HO",null,null,null,null,445315.46834999998,465354.66442574997,486295.62432490871]
["Community Services","LEVS:AH:MRC:MUNICIPAL RUNNING COST","O/404402.BAH.000",null,null,null,null,null,null,"ADM & HO",null,null,null,null,1628036.58525,1701298.2315862498,1777856.6520076308]
["Community Services","LEVS:AH:MRC:MUNICIPAL RUNNING COST","O/404402.BAH.000",null,null,null,null,null,null,"ADM & HO",null,null,null,null,86993.917949999988,90908.644257749984,94999.533249348722]
["Community Services","MSE:AH:MRC:MUNICIPAL RUNNING COST","O/404402.JAH.000",null,null,null,null,null,null,"ADM & HO",null,null,null,null,1262312.9227500001,1319117.0042737501,1378477.2694660688]
["Community Services","MSE:AH:MRC:MUNICIPAL RUNNING COST","O/404402.JAH.000",null,null,null,null,null,null,"ADM & HO",null,null,null,null,105192.46755,109926.12858974999,114872.80437628874]
["Community Services","MSE:AH:MRC:MUNICIPAL RUNNING COST","O/404402.JAH.000",null,null,null,null,null,null,"ADM & HO",null,null,null,null,0,0,0]
["Community Services","MSE:AH:MRC:MUNICIPAL RUNNING COST","O/404402.JAH.000",null,null,null,null,null,null,"ADM & HO",null,null,null,null,1067.39625,1115.4290812499999,1165.6233899062497]
["Community Services","MSE:AH:MRC:MUNICIPAL RUNNING COST","O/404402.JAH.000",null,null,null,null,null,null,"ADM & HO",null,null,null,null,0,0,0]
["Community Services","MSE:AH:MRC:MUNICIPAL RUNNING COST","O/404402.JAH.000",null,null,null,null,null,null,"ADM & HO",null,null,null,null,197639.08964999998,206532.84868424997,215826.82687504121]
["Community Services","MSE:AH:MRC:MUNICIPAL RUNNING COST","O/404402.JAH.000",null,null,null,null,null,null,"ADM & HO",null,null,null,null,16041.285599999999,16763.143451999997,17517.484907339996]
["Community Services","MSE:AH:MRC:MUNICIPAL RUNNING COST","O/404404.JAH.000",null,null,null,null,null,null,"ADM & HO",null,null,null,null,23393232.621599998,24445928.089571998,25545994.853602737]
["Community Services","MSE:AH:MRC:MUNICIPAL RUNNING COST","O/404404.JAH.000",null,null,null,null,null,null,"ADM & HO",null,null,null,null,977994.51614999992,1022004.2693767499,1067994.4614987036]
["Community Services","MSE:AH:MRC:MUNICIPAL RUNNING COST","O/404404.JAH.000",null,null,null,null,null,null,"ADM & HO",null,null,null,null,22165.887599999998,23163.352541999997,24205.703406389996]
["Community Services","MSE:AH:MRC:MUNICIPAL RUNNING COST","O/404404.JAH.000",null,null,null,null,null,null,"ADM & HO",null,null,null,null,59894.417849999998,62589.666653249995,65406.201652646239]
["Community Services","MSE:AH:MRC:MUNICIPAL RUNNING COST","O/404404.JAH.000",null,null,null,null,null,null,"ADM & HO",null,null,null,null,844373.74799999991,882370.56665999989,922077.24215969979]
["Community Services","MSE:AH:MRC:MUNICIPAL RUNNING COST","O/404404.JAH.000",null,null,null,null,null,null,"ADM & HO",null,null,null,null,10709.9169,11191.863160499999,11695.497002722499]
["Community Services","MSE:AH:MRC:MUNICIPAL RUNNING COST","O/404404.JAH.000",null,null,null,null,null,null,"ADM & HO",null,null,null,null,93375.823949999991,97577.736027749983,101968.73414899873]
["Community Services","MSE:AH:MRC:MUNICIPAL RUNNING COST","O/404404.JAH.000",null,null,null,null,null,null,"ADM & HO",null,null,null,null,170920.47614999997,178611.89757674997,186649.4329677037]
["Community Services","MSE:AH:MRC:MUNICIPAL RUNNING COST","O/404404.JAH.000",null,null,null,null,null,null,"ADM & HO",null,null,null,null,14030.08635,14661.440235749998,15321.205046358747]
["Community Services","MSE:AH:MRC:MUNICIPAL RUNNING COST","O/404404.JAH.000",null,null,null,null,null,null,"ADM & HO",null,null,null,null,202915.39785000001,212046.59075325,221588.68733714623]
["Community Services","MSE:AH:MRC:MUNICIPAL RUNNING COST","O/404404.JAH.000",null,null,null,null,null,null,"ADM & HO",null,null,null,null,8408.8352999999988,8787.2328884999988,9182.6583684824982]
["Community Services","MSE:AH:MRC:MUNICIPAL RUNNING COST","O/404404.JAH.000",null,null,null,null,null,null,"ADM & HO",null,null,null,null,586966.81575000007,613380.32245874999,640982.43696939375]
["Community Services","MSE:AH:MRC:MUNICIPAL RUNNING COST","O/404404.JAH.000",null,null,null,null,null,null,"ADM & HO",null,null,null,null,2223642.56385,2323706.4792232499,2428273.2707882961]
["Community Services","MSE:AH:MRC:MUNICIPAL RUNNING COST","O/404404.JAH.000",null,null,null,null,null,null,"ADM & HO",null,null,null,null,1005038.9664,1050265.7198880001,1097527.6772829599]
["Community Services","MSE:AH:MRC:MUNICIPAL RUNNING COST","O/404406.JAH.000",null,null,null,null,null,null,"ADM & HO",null,null,null,null,6916246.8098999998,7227477.9163454995,7552714.4225810468]
["Community Services","MSE:AH:MRC:MUNICIPAL RUNNING COST","O/404406.JAH.000",null,null,null,null,null,null,"ADM & HO",null,null,null,null,576353.52630000003,602289.43498349993,629392.45955775736]
["Community Services","MSE:AH:MRC:MUNICIPAL RUNNING COST","O/404406.JAH.000",null,null,null,null,null,null,"ADM & HO",null,null,null,null,28017.466199999999,29278.252178999996,30595.773527054993]
["Community Services","MSE:AH:MRC:MUNICIPAL RUNNING COST","O/404406.JAH.000",null,null,null,null,null,null,"ADM & HO",null,null,null,null,823619.80544999999,860682.69669524988,899413.41804653604]
["Community Services","MSE:AH:MRC:MUNICIPAL RUNNING COST","O/404406.JAH.000",null,null,null,null,null,null,"ADM & HO",null,null,null,null,28115.222549999999,29380.407564749996,30702.525905163744]
["Community Services","MSE:AH:MRC:MUNICIPAL RUNNING COST","O/404406.JAH.000",null,null,null,null,null,null,"ADM & HO",null,null,null,null,109472.15939999999,114398.40657299999,119546.33486878498]
["Community Services","MSE:AH:MRC:MUNICIPAL RUNNING COST","O/404406.JAH.000",null,null,null,null,null,null,"ADM & HO",null,null,null,null,58738.253850000001,61381.475273249998,64143.641660546244]
["Community Services","MSE:AH:MRC:MUNICIPAL RUNNING COST","O/404406.JAH.000",null,null,null,null,null,null,"ADM & HO",null,null,null,null,4404.4139999999998,4602.6126299999996,4809.7301983499992]
["Community Services","MSE:AH:MRC:MUNICIPAL RUNNING COST","O/404406.JAH.000",null,null,null,null,null,null,"ADM & HO",null,null,null,null,447524.41679999995,467663.01555599994,488707.8512560199]
["Community Services","MSE:AH:MRC:MUNICIPAL RUNNING COST","O/404406.JAH.000",null,null,null,null,null,null,"ADM & HO",null,null,null,null,1419642.6357,1483526.5543064999,1550285.2492502923]
["Community Services","MSE:AH:MRC:MUNICIPAL RUNNING COST","O/404406.JAH.000",null,null,null,null,null,null,"ADM & HO",null,null,null,null,79128.892949999994,82689.693132749991,86410.729323723732]
["Community Services","LEVS:AH:MRC:MUNICIPAL RUNNING COST","O/404412.BAH.000",null,null,null,null,null,null,"ADM & HO",null,null,null,null,4062719.1124499999,4245541.4725102494,4436590.8387732105]
["Community Services","LEVS:AH:MRC:MUNICIPAL RUNNING COST","O/404412.BAH.000",null,null,null,null,null,null,"ADM & HO",null,null,null,null,338558.99505000003,353794.14982724999,369714.88656947622]
["Community Services","LEVS:AH:MRC:MUNICIPAL RUNNING COST","O/404412.BAH.000",null,null,null,null,null,null,"ADM & HO",null,null,null,null,42713.827199999992,44635.949423999991,46644.567148079987]
["Community Services","LEVS:AH:MRC:MUNICIPAL RUNNING COST","O/404412.BAH.000",null,null,null,null,null,null,"ADM & HO",null,null,null,null,161902.66319999998,169188.28304399998,176801.75578097996]
["Community Services","LEVS:AH:MRC:MUNICIPAL RUNNING COST","O/404412.BAH.000",null,null,null,null,null,null,"ADM & HO",null,null,null,null,0,0,0]
["Community Services","LEVS:AH:MRC:MUNICIPAL RUNNING COST","O/404412.BAH.000",null,null,null,null,null,null,"ADM & HO",null,null,null,null,120906.78749999999,126347.59293749998,132033.23461968749]
["Community Services","LEVS:AH:MRC:MUNICIPAL RUNNING COST","O/404412.BAH.000",null,null,null,null,null,null,"ADM & HO",null,null,null,null,16018.814099999998,16739.660734499997,17492.945467552498]
["Community Services","LEVS:AH:MRC:MUNICIPAL RUNNING COST","O/404412.BAH.000",null,null,null,null,null,null,"ADM & HO",null,null,null,null,2935.9067999999997,3068.0226059999995,3206.0836232699994]
["Community Services","LEVS:AH:MRC:MUNICIPAL RUNNING COST","O/404412.BAH.000",null,null,null,null,null,null,"ADM & HO",null,null,null,null,473540.80124999996,494850.13730624993,517118.39348503115]
["Community Services","LEVS:AH:MRC:MUNICIPAL RUNNING COST","O/404412.BAH.000",null,null,null,null,null,null,"ADM & HO",null,null,null,null,804481.94714999991,840683.63477174984,878514.39833647851]
["Community Services","LEVS:AH:MRC:MUNICIPAL RUNNING COST","O/404412.BAH.000",null,null,null,null,null,null,"ADM & HO",null,null,null,null,50126.056799999998,52381.729355999996,54738.907177019995]
["Community Services","MSE:AH:MRC:MUNICIPAL RUNNING COST","O/404412.JAH.000",null,null,null,null,null,null,"ADM & HO",null,null,null,null,674537.13299999991,704891.30398499989,736611.41266432486]
["Community Services","MSE:AH:MRC:MUNICIPAL RUNNING COST","O/404412.JAH.000",null,null,null,null,null,null,"ADM & HO",null,null,null,null,56211.338999999993,58740.849254999986,61384.187471474979]
["Community Services","MSE:AH:MRC:MUNICIPAL RUNNING COST","O/404412.JAH.000",null,null,null,null,null,null,"ADM & HO",null,null,null,null,13105.3788,13695.120846,14311.401284069998]
["Community Services","MSE:AH:MRC:MUNICIPAL RUNNING COST","O/404412.JAH.000",null,null,null,null,null,null,"ADM & HO",null,null,null,null,399.99269999999996,417.99237149999993,436.80202821749992]
["Community Services","MSE:AH:MRC:MUNICIPAL RUNNING COST","O/404412.JAH.000",null,null,null,null,null,null,"ADM & HO",null,null,null,null,22877.115900000001,23906.586115499998,24982.382490697495]
["Community Services","MSE:AH:MRC:MUNICIPAL RUNNING COST","O/404412.JAH.000",null,null,null,null,null,null,"ADM & HO",null,null,null,null,96225.210149999999,100555.34460674999,105080.33511405373]
["Community Services","MSE:AH:MRC:MUNICIPAL RUNNING COST","O/404412.JAH.000",null,null,null,null,null,null,"ADM & HO",null,null,null,null,6193.1453999999994,6471.8369429999993,6763.0696054349992]
["Community Services","MSE:AH:MRC:MUNICIPAL RUNNING COST","O/404432.JAH.000",null,null,null,null,null,null,"ADM & HO",null,null,null,null,1177468.3984499997,1230454.4763802497,1285824.927817361]
["Community Services","LEVS:AH:MRC:MUNICIPAL RUNNING COST","O/404504.BAH.000",null,null,null,null,null,null,"ADM & HO",null,null,null,null,66062.844599999997,69035.672606999986,72142.277874314983]
["Community Services","LEVS:AH:MRC:MUNICIPAL RUNNING COST","O/404504.BAH.000",null,null,null,null,null,null,"ADM & HO",null,null,null,null,132.58184999999997,138.54803324999997,144.78269474624997]
["Community Services","LEVS:AH:MRC:MUNICIPAL RUNNING COST","O/404504.BAH.000",null,null,null,null,null,null,"ADM & HO",null,null,null,null,45221.6466,47256.620696999998,49383.168628364998]
["Community Services","LEVS:AH:MRC:MUNICIPAL RUNNING COST","O/404504.BAH.000",null,null,null,null,null,null,"ADM & HO",null,null,null,null,71649.2595,74873.476177499993,78242.782605487489]
["Community Services","LEVS:AH:MRC:MUNICIPAL RUNNING COST","O/404504.BAH.000",null,null,null,null,null,null,"ADM & HO",null,null,null,null,2387.6021999999998,2495.0442989999997,2607.3212924549994]
["Community Services","LEVS:AH:MRC:MUNICIPAL RUNNING COST","O/404504.BAH.000",null,null,null,null,null,null,"ADM & HO",null,null,null,null,419948.52089999994,438846.20434049988,458594.28353582235]
["Community Services","LEVS:AH:MRC:MUNICIPAL RUNNING COST","O/404504.BAH.000",null,null,null,null,null,null,"ADM & HO",null,null,null,null,34994.866949999996,36569.635962749991,38215.269581073735]
["Community Services","LEVS:AH:MRC:MUNICIPAL RUNNING COST","O/404512.BAH.000",null,null,null,null,null,null,"ADM & HO",null,null,null,null,15194633.10345,15878391.593105249,16592919.214794984]
["Community Services","LEVS:AH:MRC:MUNICIPAL RUNNING COST","O/404512.BAH.000",null,null,null,null,null,null,"ADM & HO",null,null,null,null,2756932.8364499998,2880994.8140902496,3010639.5807243106]
["Community Services","LEVS:AH:MRC:MUNICIPAL RUNNING COST","O/404512.BAH.000",null,null,null,null,null,null,"ADM & HO",null,null,null,null,18201.915000000001,19021.001175000001,19876.946227875]
["Community Services","LEVS:AH:MRC:MUNICIPAL RUNNING COST","O/404512.BAH.000",null,null,null,null,null,null,"ADM & HO",null,null,null,null,221074.61699999997,231022.97476499996,241419.00862942493]
["Community Services","LEVS:AH:MRC:MUNICIPAL RUNNING COST","O/404512.BAH.000",null,null,null,null,null,null,"ADM & HO",null,null,null,null,472523.96054999996,493787.5387747499,516007.9780196136]
["Community Services","LEVS:AH:MRC:MUNICIPAL RUNNING COST","O/404512.BAH.000",null,null,null,null,null,null,"ADM & HO",null,null,null,null,1494030.0421500001,1561261.3940467499,1631518.1567788536]
["Community Services","LEVS:AH:MRC:MUNICIPAL RUNNING COST","O/404512.BAH.000",null,null,null,null,null,null,"ADM & HO",null,null,null,null,13348.070999999998,13948.734194999997,14576.427233774995]
["Community Services","LEVS:AH:MRC:MUNICIPAL RUNNING COST","O/404512.BAH.000",null,null,null,null,null,null,"ADM & HO",null,null,null,null,2508902.5263,2621803.1399834999,2739784.2812827574]
["Community Services","LEVS:AH:MRC:MUNICIPAL RUNNING COST","O/404512.BAH.000",null,null,null,null,null,null,"ADM & HO",null,null,null,null,13763857.479599999,14383231.066181999,15030476.464160187]
["Community Services","LEVS:AH:MRC:MUNICIPAL RUNNING COST","O/404512.BAH.000",null,null,null,null,null,null,"ADM & HO",null,null,null,null,237885.54614999998,248590.39572674996,259776.96353445371]
["Community Services","MSE:AH:MRC:MUNICIPAL RUNNING COST","O/404512.JAH.000",null,null,null,null,null,null,"ADM & HO",null,null,null,null,11587081.79565,12108500.476454249,12653382.997894689]
["Community Services","MSE:AH:MRC:MUNICIPAL RUNNING COST","O/404512.JAH.000",null,null,null,null,null,null,"ADM & HO",null,null,null,null,965589.11924999987,1009040.6296162498,1054447.4579489811]
["Community Services","MSE:AH:MRC:MUNICIPAL RUNNING COST","O/404512.JAH.000",null,null,null,null,null,null,"ADM & HO",null,null,null,null,12326.746649999999,12881.450249249998,13461.115510466247]
["Community Services","MSE:AH:MRC:MUNICIPAL RUNNING COST","O/404512.JAH.000",null,null,null,null,null,null,"ADM & HO",null,null,null,null,241671.99389999997,252547.23362549997,263911.85913864744]
["Community Services","MSE:AH:MRC:MUNICIPAL RUNNING COST","O/404512.JAH.000",null,null,null,null,null,null,"ADM & HO",null,null,null,null,62735.933700000001,65559.050716500002,68509.207998742495]
["Community Services","MSE:AH:MRC:MUNICIPAL RUNNING COST","O/404513.JAH.000",null,null,null,null,null,null,"ADM & HO",null,null,null,null,3369346.3788000001,3520966.9658459998,3679410.4793090695]
["Community Services","MSE:AH:MRC:MUNICIPAL RUNNING COST","O/404513.JAH.000",null,null,null,null,null,null,"ADM & HO",null,null,null,null,280778.02710000001,293413.03831949999,306616.62504387746]
["Community Services","MSE:AH:MRC:MUNICIPAL RUNNING COST","O/404513.JAH.000",null,null,null,null,null,null,"ADM & HO",null,null,null,null,27720.842399999998,28968.280307999994,30271.852921859991]
["Community Services","MSE:AH:MRC:MUNICIPAL RUNNING COST","O/404513.JAH.000",null,null,null,null,null,null,"ADM & HO",null,null,null,null,26008.514099999997,27178.897234499993,28401.947610052492]
["Community Services","MSE:AH:MRC:MUNICIPAL RUNNING COST","O/404513.JAH.000",null,null,null,null,null,null,"ADM & HO",null,null,null,null,33208.382700000002,34702.759921500001,36264.3841179675]
["Community Services","MSE:AH:MRC:MUNICIPAL RUNNING COST","O/404513.JAH.000",null,null,null,null,null,null,"ADM & HO",null,null,null,null,24795.053100000001,25910.8304895,27076.817861527499]
["Community Services","MSE:AH:MRC:MUNICIPAL RUNNING COST","O/404513.JAH.000",null,null,null,null,null,null,"ADM & HO",null,null,null,null,0,0,0]
["Community Services","MSE:AH:MRC:MUNICIPAL RUNNING COST","O/404513.JAH.000",null,null,null,null,null,null,"ADM & HO",null,null,null,null,183404.5233,191657.72684849999,200282.32455668249]
["Community Services","MSE:AH:MRC:MUNICIPAL RUNNING COST","O/404513.JAH.000",null,null,null,null,null,null,"ADM & HO",null,null,null,null,9875.1059999999998,10319.485769999999,10783.862629649999]
["Community Services","MSE:AH:MRC:MUNICIPAL RUNNING COST","O/404513.JAH.000",null,null,null,null,null,null,"ADM & HO",null,null,null,null,29519.691299999999,30848.077408499998,32236.240891882495]
["Community Services","MSE:AH:MRC:MUNICIPAL RUNNING COST","O/404513.JAH.000",null,null,null,null,null,null,"ADM & HO",null,null,null,null,5339.2283999999991,5579.4936779999989,5830.5708935099983]
["Community Services","MSE:AH:MRC:MUNICIPAL RUNNING COST","O/404513.JAH.000",null,null,null,null,null,null,"ADM & HO",null,null,null,null,1201.107,1255.1568149999998,1311.6388716749998]
["Community Services","MSE:AH:MRC:MUNICIPAL RUNNING COST","O/404513.JAH.000",null,null,null,null,null,null,"ADM & HO",null,null,null,null,78559.245750000002,82094.411808749996,85788.660340143746]
["Community Services","MSE:AH:MRC:MUNICIPAL RUNNING COST","O/404513.JAH.000",null,null,null,null,null,null,"ADM & HO",null,null,null,null,421046.24835000001,439993.32952574996,459793.02935440867]
["Community Services","MSE:AH:MRC:MUNICIPAL RUNNING COST","O/404513.JAH.000",null,null,null,null,null,null,"ADM & HO",null,null,null,null,36497.092049999999,38139.461192249997,39855.736945901241]
["Infrastructure Services","MSE:AH:MRC:MUNICIPAL RUNNING COST","O/502100.JAH.000",null,null,null,null,null,null,"ADM & HO",null,null,null,null,132.58184999999997,138.54803324999997,144.78269474624997]
["Infrastructure Services","MSE:AH:MRC:MUNICIPAL RUNNING COST","O/502100.JAH.000",null,null,null,null,null,null,"ADM & HO",null,null,null,null,1616641.2875999999,1689390.1455419997,1765412.7020913896]
["Infrastructure Services","MSE:AH:MRC:MUNICIPAL RUNNING COST","O/502100.JAH.000",null,null,null,null,null,null,"ADM & HO",null,null,null,null,0,0,0]
["Infrastructure Services","MSE:AH:MRC:MUNICIPAL RUNNING COST","O/502100.JAH.000",null,null,null,null,null,null,"ADM & HO",null,null,null,null,0,0,0]
["Infrastructure Services","MSE:AH:MRC:MUNICIPAL RUNNING COST","O/502100.JAH.000",null,null,null,null,null,null,"ADM & HO",null,null,null,null,2004.4577999999997,2094.6584009999997,2188.9180290449995]
["Infrastructure Services","MSE:AH:MRC:MUNICIPAL RUNNING COST","O/502100.JAH.000",null,null,null,null,null,null,"ADM & HO",null,null,null,null,132.58184999999997,138.54803324999997,144.78269474624997]
["Infrastructure Services","MSE:AH:MRC:MUNICIPAL RUNNING COST","O/502100.JAH.000",null,null,null,null,null,null,"ADM & HO",null,null,null,null,915234.98204999988,956420.55624224979,999459.481273151]
["Infrastructure Services","MSE:AH:MRC:MUNICIPAL RUNNING COST","O/502100.JAH.000",null,null,null,null,null,null,"ADM & HO",null,null,null,null,76269.399900000004,79701.522895500006,83288.091425797495]
["Infrastructure Services","MSE:AH:MRC:MUNICIPAL RUNNING COST","O/502100.JAH.000",null,null,null,null,null,null,"ADM & HO",null,null,null,null,2696.58,2817.9260999999997,2944.7327744999993]
["Infrastructure Services","MSE:AH:MRC:MUNICIPAL RUNNING COST","O/502100.JAH.000",null,null,null,null,null,null,"ADM & HO",null,null,null,null,13004.257049999998,13589.448617249996,14200.973805026246]
["Infrastructure Services","MSE:AH:MRC:MUNICIPAL RUNNING COST","O/502100.JAH.000",null,null,null,null,null,null,"ADM & HO",null,null,null,null,0,0,0]
["Infrastructure Services","MSE:AH:MRC:MUNICIPAL RUNNING COST","O/502100.JAH.000",null,null,null,null,null,null,"ADM & HO",null,null,null,null,0,0,0]
["Infrastructure Services","MSE:AH:MRC:MUNICIPAL RUNNING COST","O/502100.JAH.000",null,null,null,null,null,null,"ADM & HO",null,null,null,null,22450.157399999996,23460.414482999993,24516.133134734991]
["Infrastructure Services","MSE:AH:MRC:MUNICIPAL RUNNING COST","O/502100.JAH.000",null,null,null,null,null,null,"ADM & HO",null,null,null,null,49511.455949999996,51739.471467749994,54067.747683798741]
["Infrastructure Services","MSE:AH:MRC:MUNICIPAL RUNNING COST","O/502100.JAH.000",null,null,null,null,null,null,"ADM & HO",null,null,null,null,0,0,0]
["Infrastructure Services","MSE:AH:MRC:MUNICIPAL RUNNING COST","O/502100.JAH.000",null,null,null,null,null,null,"ADM & HO",null,null,null,null,399.99269999999996,417.99237149999993,436.80202821749992]
["Infrastructure Services","MSE:AH:MRC:MUNICIPAL RUNNING COST","O/502100.JAH.000",null,null,null,null,null,null,"ADM & HO",null,null,null,null,61108.997099999993,63858.901969499988,66732.552558127485]
["Infrastructure Services","MSE:AH:MRC:MUNICIPAL RUNNING COST","O/502100.JAH.000",null,null,null,null,null,null,"ADM & HO",null,null,null,null,256697.56769999999,268248.95824649994,280320.1613675924]
["Infrastructure Services","MSE:AH:MRC:MUNICIPAL RUNNING COST","O/502100.JAH.000",null,null,null,null,null,null,"ADM & HO",null,null,null,null,8498.7212999999992,8881.1637584999989,9280.816127632499]
["Infrastructure Services","NONF:AH:DEFAULT TRANSACTIONS","O/503094.AAH.999",null,null,null,null,null,null,"ADM & HO",null,null,null,null,0,0,0]
["Infrastructure Services","NONF:AH:DEFAULT TRANSACTIONS","O/503094.AAH.999",null,null,null,null,null,null,"ADM & HO",null,null,null,null,1283393.4368999999,1341146.1415604998,1401497.7179307223]
["Infrastructure Services","NONF:AH:DEFAULT TRANSACTIONS","O/503094.AAH.999",null,null,null,null,null,null,"ADM & HO",null,null,null,null,0,0,0]
["Infrastructure Services","NONF:AH:DEFAULT TRANSACTIONS","O/503094.AAH.999",null,null,null,null,null,null,"ADM & HO",null,null,null,null,106948.60994999998,111761.29739774998,116790.55578064872]
["Infrastructure Services","NONF:AH:DEFAULT TRANSACTIONS","O/503094.AAH.999",null,null,null,null,null,null,"ADM & HO",null,null,null,null,9438.0299999999988,9862.7413499999984,10306.564710749997]
["Infrastructure Services","NONF:AH:DEFAULT TRANSACTIONS","O/503094.AAH.999",null,null,null,null,null,null,"ADM & HO",null,null,null,null,13004.257049999998,13589.448617249996,14200.973805026246]
["Infrastructure Services","NONF:AH:DEFAULT TRANSACTIONS","O/503094.AAH.999",null,null,null,null,null,null,"ADM & HO",null,null,null,null,269060.25809999998,281167.96971449995,293820.52835165244]
["Infrastructure Services","NONF:AH:DEFAULT TRANSACTIONS","O/503094.AAH.999",null,null,null,null,null,null,"ADM & HO",null,null,null,null,0,0,0]
["Infrastructure Services","NONF:AH:DEFAULT TRANSACTIONS","O/503094.AAH.999",null,null,null,null,null,null,"ADM & HO",null,null,null,null,13203.135149999998,13797.276231749996,14418.153662178745]
["Infrastructure Services","NONF:AH:DEFAULT TRANSACTIONS","O/503094.AAH.999",null,null,null,null,null,null,"ADM & HO",null,null,null,null,10169.482649999998,10627.109369249998,11105.329290866248]
["Infrastructure Services","NONF:AH:DEFAULT TRANSACTIONS","O/503094.AAH.999",null,null,null,null,null,null,"ADM & HO",null,null,null,null,77324.431500000006,80804.0309175,84440.212308787493]
["Infrastructure Services","NONF:AH:DEFAULT TRANSACTIONS","O/503094.AAH.999",null,null,null,null,null,null,"ADM & HO",null,null,null,null,0,0,0]
["Infrastructure Services","NONF:AH:DEFAULT TRANSACTIONS","O/503094.AAH.999",null,null,null,null,null,null,"ADM & HO",null,null,null,null,399.99269999999996,417.99237149999993,436.80202821749992]
["Infrastructure Services","NONF:AH:DEFAULT TRANSACTIONS","O/503094.AAH.999",null,null,null,null,null,null,"ADM & HO",null,null,null,null,0,0,0]
["Infrastructure Services","NONF:AH:DEFAULT TRANSACTIONS","O/503094.AAH.999",null,null,null,null,null,null,"ADM & HO",null,null,null,null,42236.313150000002,44136.94724175,46123.109867628744]
["Infrastructure Services","NONF:AH:DEFAULT TRANSACTIONS","O/503094.AAH.999",null,null,null,null,null,null,"ADM & HO",null,null,null,null,0,0,0]
["Infrastructure Services","NONF:AH:DEFAULT TRANSACTIONS","O/503094.AAH.999",null,null,null,null,null,null,"ADM & HO",null,null,null,null,223961.0865,234039.33539249998,244571.10548516246]
["Infrastructure Services","NONF:AH:DEFAULT TRANSACTIONS","O/503094.AAH.999",null,null,null,null,null,null,"ADM & HO",null,null,null,null,0,0,0]
["Infrastructure Services","NONF:AH:DEFAULT TRANSACTIONS","O/503094.AAH.999",null,null,null,null,null,null,"ADM & HO",null,null,null,null,11194.18305,11697.921287249999,12224.327745176248]
["Infrastructure Services","NONF:AH:MSE:MUNICIPAL RUNNING COST","O/503094.JAH.000",null,null,null,null,null,null,"ADM & HO",null,null,null,null,0,0,0]
["Infrastructure Services","NONF:AH:MSE:MUNICIPAL RUNNING COST","O/503094.JAH.000",null,null,null,null,null,null,"ADM & HO",null,null,null,null,16726235.802449999,17478916.413560249,18265467.652170461]
["Infrastructure Services","NONF:AH:MSE:MUNICIPAL RUNNING COST","O/503094.JAH.000",null,null,null,null,null,null,"ADM & HO",null,null,null,null,0,0,0]
["Infrastructure Services","NONF:AH:MSE:MUNICIPAL RUNNING COST","O/503094.JAH.000",null,null,null,null,null,null,"ADM & HO",null,null,null,null,2054571.4921500001,2147027.2092967499,2243643.4337151037]
["Infrastructure Services","NONF:AH:MSE:MUNICIPAL RUNNING COST","O/503094.JAH.000",null,null,null,null,null,null,"ADM & HO",null,null,null,null,0,0,0]
["Infrastructure Services","NONF:AH:MSE:MUNICIPAL RUNNING COST","O/503094.JAH.000",null,null,null,null,null,null,"ADM & HO",null,null,null,null,59998.904999999999,62698.855724999994,65520.304232624992]
["Infrastructure Services","NONF:AH:MSE:MUNICIPAL RUNNING COST","O/503094.JAH.000",null,null,null,null,null,null,"ADM & HO",null,null,null,null,0,0,0]
["Infrastructure Services","NONF:AH:MSE:MUNICIPAL RUNNING COST","O/503094.JAH.000",null,null,null,null,null,null,"ADM & HO",null,null,null,null,39012.77115,40768.345851749997,42602.921415078745]
["Infrastructure Services","NONF:AH:MSE:MUNICIPAL RUNNING COST","O/503094.JAH.000",null,null,null,null,null,null,"ADM & HO",null,null,null,null,0,0,0]
["Infrastructure Services","NONF:AH:MSE:MUNICIPAL RUNNING COST","O/503094.JAH.000",null,null,null,null,null,null,"ADM & HO",null,null,null,null,0,0,0]
["Infrastructure Services","NONF:AH:MSE:MUNICIPAL RUNNING COST","O/503094.JAH.000",null,null,null,null,null,null,"ADM & HO",null,null,null,null,997053.71354999999,1041921.13065975,1088807.5815394386]
["Infrastructure Services","NONF:AH:MSE:MUNICIPAL RUNNING COST","O/503094.JAH.000",null,null,null,null,null,null,"ADM & HO",null,null,null,null,0,0,0]
["Infrastructure Services","NONF:AH:MSE:MUNICIPAL RUNNING COST","O/503094.JAH.000",null,null,null,null,null,null,"ADM & HO",null,null,null,null,331546.54514999996,346466.13968174992,362057.11596742866]
["Infrastructure Services","NONF:AH:MSE:MUNICIPAL RUNNING COST","O/503094.JAH.000",null,null,null,null,null,null,"ADM & HO",null,null,null,null,0,0,0]
["Infrastructure Services","NONF:AH:MSE:MUNICIPAL RUNNING COST","O/503094.JAH.000",null,null,null,null,null,null,"ADM & HO",null,null,null,null,0,0,0]
["Infrastructure Services","NONF:AH:MSE:MUNICIPAL RUNNING COST","O/503094.JAH.000",null,null,null,null,null,null,"ADM & HO",null,null,null,null,513655.79414999997,536770.30488674995,560924.96860665362]
["Infrastructure Services","NONF:AH:MSE:MUNICIPAL RUNNING COST","O/503094.JAH.000",null,null,null,null,null,null,"ADM & HO",null,null,null,null,0,0,0]
["Infrastructure Services","NONF:AH:MSE:MUNICIPAL RUNNING COST","O/503094.JAH.000",null,null,null,null,null,null,"ADM & HO",null,null,null,null,533926.21604999993,557952.8957722499,583060.77608200116]
["Infrastructure Services","NONF:AH:MSE:MUNICIPAL RUNNING COST","O/503094.JAH.000",null,null,null,null,null,null,"ADM & HO",null,null,null,null,0,0,0]
["Infrastructure Services","NONF:AH:MSE:MUNICIPAL RUNNING COST","O/503094.JAH.000",null,null,null,null,null,null,"ADM & HO",null,null,null,null,404071.27724999998,422254.48472624994,441255.93653893116]
["Infrastructure Services","NONF:AH:MSE:MUNICIPAL RUNNING COST","O/503094.JAH.000",null,null,null,null,null,null,"ADM & HO",null,null,null,null,0,0,0]
["Infrastructure Services","NONF:AH:MSE:MUNICIPAL RUNNING COST","O/503094.JAH.000",null,null,null,null,null,null,"ADM & HO",null,null,null,null,993698.71859999991,1038415.1609369998,1085143.8431791647]
["Infrastructure Services","NONF:AH:MSE:MUNICIPAL RUNNING COST","O/503094.JAH.000",null,null,null,null,null,null,"ADM & HO",null,null,null,null,0,0,0]
["Infrastructure Services","NONF:AH:MSE:MUNICIPAL RUNNING COST","O/503094.JAH.000",null,null,null,null,null,null,"ADM & HO",null,null,null,null,0,0,0]
["Infrastructure Services","NONF:AH:MSE:MUNICIPAL RUNNING COST","O/503094.JAH.000",null,null,null,null,null,null,"ADM & HO",null,null,null,null,133497.56894999999,139504.95955274996,145782.68273262371]
["Infrastructure Services","NONF:AH:MSE:MUNICIPAL RUNNING COST","O/503094.JAH.000",null,null,null,null,null,null,"ADM & HO",null,null,null,null,0,0,0]
["Infrastructure Services","NONF:AH:MSE:MUNICIPAL RUNNING COST","O/503094.JAH.000",null,null,null,null,null,null,"ADM & HO",null,null,null,null,14148.056399999999,14784.718937999998,15450.031290209998]
["Infrastructure Services","NONF:AH:MSE:MUNICIPAL RUNNING COST","O/503094.JAH.000",null,null,null,null,null,null,"ADM & HO",null,null,null,null,0,0,0]
["Infrastructure Services","NONF:AH:MSE:MUNICIPAL RUNNING COST","O/503094.JAH.000",null,null,null,null,null,null,"ADM & HO",null,null,null,null,1588594.6084499997,1660081.3658302496,1734785.0272926108]
["Infrastructure Services","NONF:AH:MSE:MUNICIPAL RUNNING COST","O/503094.JAH.000",null,null,null,null,null,null,"ADM & HO",null,null,null,null,5990404.1615999993,6259972.3488719985,6541671.1045712382]
["Infrastructure Services","NONF:AH:MSE:MUNICIPAL RUNNING COST","O/503094.JAH.000",null,null,null,null,null,null,"ADM & HO",null,null,null,null,225598.12995,235750.04579774998,246358.7978586487]
["Infrastructure Services","WATR:AH:MRC:MUNICIPAL RUNNING COST","O/503096.ZAH.000",null,null,null,null,null,null,"ADM & HO",null,null,null,null,58737245.667750001,61380421.72279875,64142540.700324692]
["Infrastructure Services","WATR:AH:MRC:MUNICIPAL RUNNING COST","O/503096.ZAH.000",null,null,null,null,null,null,"ADM & HO",null,null,null,null,4983520.2850499991,5207778.6978772487,5442128.7392817242]
["Infrastructure Services","WATR:AH:MRC:MUNICIPAL RUNNING COST","O/503096.ZAH.000",null,null,null,null,null,null,"ADM & HO",null,null,null,null,360667.57499999995,376897.6158749999,393858.00858937489]
["Infrastructure Services","WATR:AH:MRC:MUNICIPAL RUNNING COST","O/503096.ZAH.000",null,null,null,null,null,null,"ADM & HO",null,null,null,null,156052.21349999998,163074.56310749997,170412.91844733746]
["Infrastructure Services","WATR:AH:MRC:MUNICIPAL RUNNING COST","O/503096.ZAH.000",null,null,null,null,null,null,"ADM & HO",null,null,null,null,0,0,0]
["Infrastructure Services","WATR:AH:MRC:MUNICIPAL RUNNING COST","O/503096.ZAH.000",null,null,null,null,null,null,"ADM & HO",null,null,null,null,413165.49329999997,431757.94049849996,451187.04782093241]
["Infrastructure Services","WATR:AH:MRC:MUNICIPAL RUNNING COST","O/503096.ZAH.000",null,null,null,null,null,null,"ADM & HO",null,null,null,null,18236868.747300003,19057527.840928502,19915116.593770284]
["Infrastructure Services","WATR:AH:MRC:MUNICIPAL RUNNING COST","O/503096.ZAH.000",null,null,null,null,null,null,"ADM & HO",null,null,null,null,0,0,0]
["Infrastructure Services","WATR:AH:MRC:MUNICIPAL RUNNING COST","O/503096.ZAH.000",null,null,null,null,null,null,"ADM & HO",null,null,null,null,181589.94434999998,189761.49184574996,198300.75897880871]
["Infrastructure Services","WATR:AH:MRC:MUNICIPAL RUNNING COST","O/503096.ZAH.000",null,null,null,null,null,null,"ADM & HO",null,null,null,null,2087059.6685999997,2180977.3536869995,2279121.3346029143]
["Infrastructure Services","WATR:AH:MRC:MUNICIPAL RUNNING COST","O/503096.ZAH.000",null,null,null,null,null,null,"ADM & HO",null,null,null,null,938997.47505000001,981252.36142724997,1025408.7176914761]
["Infrastructure Services","WATR:AH:MRC:MUNICIPAL RUNNING COST","O/503096.ZAH.000",null,null,null,null,null,null,"ADM & HO",null,null,null,null,446470.50344999996,466561.67610524991,487556.95152998611]
["Infrastructure Services","WATR:AH:MRC:MUNICIPAL RUNNING COST","O/503096.ZAH.000",null,null,null,null,null,null,"ADM & HO",null,null,null,null,5067906.3907499993,5295962.1783337491,5534280.4763587676]
["Infrastructure Services","WATR:AH:MRC:MUNICIPAL RUNNING COST","O/503096.ZAH.000",null,null,null,null,null,null,"ADM & HO",null,null,null,null,6087.5293499999998,6361.4681707499994,6647.7342384337489]
["Infrastructure Services","WATR:AH:MRC:MUNICIPAL RUNNING COST","O/503096.ZAH.000",null,null,null,null,null,null,"ADM & HO",null,null,null,null,0,0,0]
["Infrastructure Services","WATR:AH:MRC:MUNICIPAL RUNNING COST","O/503096.ZAH.000",null,null,null,null,null,null,"ADM & HO",null,null,null,null,672827.05184999993,703104.26918324991,734743.9612964961]
["Infrastructure Services","WATR:AH:MRC:MUNICIPAL RUNNING COST","O/503096.ZAH.000",null,null,null,null,null,null,"ADM & HO",null,null,null,null,37373.48055,39055.287174749996,40812.775097613739]
["Infrastructure Services","WATR:AH:MRC:MUNICIPAL RUNNING COST","O/503096.ZAH.000",null,null,null,null,null,null,"ADM & HO",null,null,null,null,4090526.4754499998,4274600.1668452499,4466957.1743532857]
["Infrastructure Services","WATR:AH:MRC:MUNICIPAL RUNNING COST","O/503096.ZAH.000",null,null,null,null,null,null,"ADM & HO",null,null,null,null,12405278.099249998,12963515.613716247,13546873.816333476]
["Infrastructure Services","WATR:AH:MRC:MUNICIPAL RUNNING COST","O/503096.ZAH.000",null,null,null,null,null,null,"ADM & HO",null,null,null,null,640353.48719999997,669169.39412399998,699282.01685957995]
["Infrastructure Services","WATR:AH:MRC:MUNICIPAL RUNNING COST","O/504080.ZAH.000",null,null,null,null,null,null,"ADM & HO",null,null,null,null,1732584.1100999999,1810550.3950544999,1892025.1628319523]
["Infrastructure Services","WATR:AH:MRC:MUNICIPAL RUNNING COST","O/504080.ZAH.000",null,null,null,null,null,null,"ADM & HO",null,null,null,null,144381.63464999996,150878.80820924995,157668.35457866619]
["Infrastructure Services","WATR:AH:MRC:MUNICIPAL RUNNING COST","O/504080.ZAH.000",null,null,null,null,null,null,"ADM & HO",null,null,null,null,18876.059999999998,19725.482699999997,20613.129421499994]
["Infrastructure Services","WATR:AH:MRC:MUNICIPAL RUNNING COST","O/504080.ZAH.000",null,null,null,null,null,null,"ADM & HO",null,null,null,null,13004.257049999998,13589.448617249996,14200.973805026246]
["Infrastructure Services","WATR:AH:MRC:MUNICIPAL RUNNING COST","O/504080.ZAH.000",null,null,null,null,null,null,"ADM & HO",null,null,null,null,293023.86570000002,306209.93965650001,319989.3869410425]
["Infrastructure Services","WATR:AH:MRC:MUNICIPAL RUNNING COST","O/504080.ZAH.000",null,null,null,null,null,null,"ADM & HO",null,null,null,null,0,0,0]
["Infrastructure Services","WATR:AH:MRC:MUNICIPAL RUNNING COST","O/504080.ZAH.000",null,null,null,null,null,null,"ADM & HO",null,null,null,null,86222.027249999985,90102.018476249985,94156.609307681225]
["Infrastructure Services","WATR:AH:MRC:MUNICIPAL RUNNING COST","O/504080.ZAH.000",null,null,null,null,null,null,"ADM & HO",null,null,null,null,107776.69005,112626.64110225,117694.83995185123]
["Infrastructure Services","WATR:AH:MRC:MUNICIPAL RUNNING COST","O/504080.ZAH.000",null,null,null,null,null,null,"ADM & HO",null,null,null,null,399.99269999999996,417.99237149999993,436.80202821749992]
["Infrastructure Services","WATR:AH:MRC:MUNICIPAL RUNNING COST","O/504080.ZAH.000",null,null,null,null,null,null,"ADM & HO",null,null,null,null,75387.388200000001,78779.820668999993,82324.91259910498]
["Infrastructure Services","WATR:AH:MRC:MUNICIPAL RUNNING COST","O/504080.ZAH.000",null,null,null,null,null,null,"ADM & HO",null,null,null,null,421473.20684999996,440439.50115824991,460259.27871037112]
["Infrastructure Services","WATR:AH:MRC:MUNICIPAL RUNNING COST","O/504080.ZAH.000",null,null,null,null,null,null,"ADM & HO",null,null,null,null,7163.9142000000002,7486.2903389999992,7823.1734042549988]
["Infrastructure Services","MSE:AH:MRC:MUNICIPAL RUNNING COST","O/504093.JAH.000",null,null,null,null,null,null,"ADM & HO",null,null,null,null,6044687.4352499992,6316698.3698362485,6600949.7964788796]
["Infrastructure Services","MSE:AH:MRC:MUNICIPAL RUNNING COST","O/504093.JAH.000",null,null,null,null,null,null,"ADM & HO",null,null,null,null,503723.39114999998,526390.94375174993,550078.53622057859]
["Infrastructure Services","MSE:AH:MRC:MUNICIPAL RUNNING COST","O/504093.JAH.000",null,null,null,null,null,null,"ADM & HO",null,null,null,null,25617.51,26770.297949999996,27974.961357749995]
["Infrastructure Services","MSE:AH:MRC:MUNICIPAL RUNNING COST","O/504093.JAH.000",null,null,null,null,null,null,"ADM & HO",null,null,null,null,65021.285249999994,67947.24308624999,71004.869025131236]
["Infrastructure Services","MSE:AH:MRC:MUNICIPAL RUNNING COST","O/504093.JAH.000",null,null,null,null,null,null,"ADM & HO",null,null,null,null,315803.22524999996,330014.37038624991,344865.01705363113]
["Infrastructure Services","MSE:AH:MRC:MUNICIPAL RUNNING COST","O/504093.JAH.000",null,null,null,null,null,null,"ADM & HO",null,null,null,null,108205.89569999999,113075.16100649998,118163.54325179248]
["Infrastructure Services","MSE:AH:MRC:MUNICIPAL RUNNING COST","O/504093.JAH.000",null,null,null,null,null,null,"ADM & HO",null,null,null,null,57179.860650000002,59752.954379249997,62441.837326316243]
["Infrastructure Services","MSE:AH:MRC:MUNICIPAL RUNNING COST","O/504093.JAH.000",null,null,null,null,null,null,"ADM & HO",null,null,null,null,213026.4546,222612.64505699999,232630.21408456497]
["Infrastructure Services","MSE:AH:MRC:MUNICIPAL RUNNING COST","O/504093.JAH.000",null,null,null,null,null,null,"ADM & HO",null,null,null,null,1467.3889499999998,1533.4214527499996,1602.4254181237495]
["Infrastructure Services","MSE:AH:MRC:MUNICIPAL RUNNING COST","O/504093.JAH.000",null,null,null,null,null,null,"ADM & HO",null,null,null,null,245194.40684999997,256228.15515824995,267758.42214037117]
["Infrastructure Services","MSE:AH:MRC:MUNICIPAL RUNNING COST","O/504093.JAH.000",null,null,null,null,null,null,"ADM & HO",null,null,null,null,940471.60545000003,982792.82769524993,1027018.5049415361]
["Infrastructure Services","MSE:AH:MRC:MUNICIPAL RUNNING COST","O/504093.JAH.000",null,null,null,null,null,null,"ADM & HO",null,null,null,null,24353.493449999998,25449.400655249996,26594.623684736245]
["Infrastructure Services","WATR:AH:MRC:MUNICIPAL RUNNING COST","O/504095.ZAH.000",null,null,null,null,null,null,"ADM & HO",null,null,null,null,6505579.0291499998,6798330.0854617497,7104254.9393075276]
["Infrastructure Services","WATR:AH:MRC:MUNICIPAL RUNNING COST","O/504095.ZAH.000",null,null,null,null,null,null,"ADM & HO",null,null,null,null,542130.56070000003,566526.43593150005,592020.12554841756]
["Infrastructure Services","WATR:AH:MRC:MUNICIPAL RUNNING COST","O/504095.ZAH.000",null,null,null,null,null,null,"ADM & HO",null,null,null,null,210333.24,219798.23579999997,229689.15641099995]
["Infrastructure Services","WATR:AH:MRC:MUNICIPAL RUNNING COST","O/504095.ZAH.000",null,null,null,null,null,null,"ADM & HO",null,null,null,null,26008.514099999997,27178.897234499993,28401.947610052492]
["Infrastructure Services","WATR:AH:MRC:MUNICIPAL RUNNING COST","O/504095.ZAH.000",null,null,null,null,null,null,"ADM & HO",null,null,null,null,0,0,0]
["Infrastructure Services","WATR:AH:MRC:MUNICIPAL RUNNING COST","O/504095.ZAH.000",null,null,null,null,null,null,"ADM & HO",null,null,null,null,639636.64635000005,668420.29543575004,698499.20873035875]
["Infrastructure Services","WATR:AH:MRC:MUNICIPAL RUNNING COST","O/504095.ZAH.000",null,null,null,null,null,null,"ADM & HO",null,null,null,null,34710.607799999998,36272.585150999992,37904.851482794991]
["Infrastructure Services","WATR:AH:MRC:MUNICIPAL RUNNING COST","O/504095.ZAH.000",null,null,null,null,null,null,"ADM & HO",null,null,null,null,93610.656449999995,97823.135990249983,102225.17710981122]
["Infrastructure Services","WATR:AH:MRC:MUNICIPAL RUNNING COST","O/504095.ZAH.000",null,null,null,null,null,null,"ADM & HO",null,null,null,null,332422.02839999995,347381.01967799995,363013.16556350992]
["Infrastructure Services","WATR:AH:MRC:MUNICIPAL RUNNING COST","O/504095.ZAH.000",null,null,null,null,null,null,"ADM & HO",null,null,null,null,100493.67689999999,105015.89236049999,109741.60751672248]
["Infrastructure Services","WATR:AH:MRC:MUNICIPAL RUNNING COST","O/504095.ZAH.000",null,null,null,null,null,null,"ADM & HO",null,null,null,null,1734.7998,1812.8657909999999,1894.4447515949998]
["Infrastructure Services","WATR:AH:MRC:MUNICIPAL RUNNING COST","O/504095.ZAH.000",null,null,null,null,null,null,"ADM & HO",null,null,null,null,383697.49710000004,400963.88446949999,419007.25927062746]
["Infrastructure Services","WATR:AH:MRC:MUNICIPAL RUNNING COST","O/504095.ZAH.000",null,null,null,null,null,null,"ADM & HO",null,null,null,null,1274516.0654999998,1331869.2884474997,1391803.4064276372]
["Infrastructure Services","WATR:AH:MRC:MUNICIPAL RUNNING COST","O/504095.ZAH.000",null,null,null,null,null,null,"ADM & HO",null,null,null,null,31230.890699999996,32636.280781499994,34104.913416667492]
["Infrastructure Services","MSE:AH:MRC:MUNICIPAL RUNNING COST","O/504124.JAH.000",null,null,null,null,null,null,"ADM & HO",null,null,null,null,4425092.2742999997,4624221.4266434992,4832311.3908424564]
["Infrastructure Services","MSE:AH:MRC:MUNICIPAL RUNNING COST","O/504124.JAH.000",null,null,null,null,null,null,"ADM & HO",null,null,null,null,368757.315,385351.39417499996,402692.20691287494]
["Infrastructure Services","MSE:AH:MRC:MUNICIPAL RUNNING COST","O/504124.JAH.000",null,null,null,null,null,null,"ADM & HO",null,null,null,null,23595.074999999997,24656.853374999995,25766.411776874993]
["Infrastructure Services","MSE:AH:MRC:MUNICIPAL RUNNING COST","O/504124.JAH.000",null,null,null,null,null,null,"ADM & HO",null,null,null,null,13004.257049999998,13589.448617249996,14200.973805026246]
["Infrastructure Services","MSE:AH:MRC:MUNICIPAL RUNNING COST","O/504124.JAH.000",null,null,null,null,null,null,"ADM & HO",null,null,null,null,0,0,0]
["Infrastructure Services","MSE:AH:MRC:MUNICIPAL RUNNING COST","O/504124.JAH.000",null,null,null,null,null,null,"ADM & HO",null,null,null,null,536123.92874999996,560249.5055437499,585460.73329321865]
["Infrastructure Services","MSE:AH:MRC:MUNICIPAL RUNNING COST","O/504124.JAH.000",null,null,null,null,null,null,"ADM & HO",null,null,null,null,0,0,0]
["Infrastructure Services","MSE:AH:MRC:MUNICIPAL RUNNING COST","O/504124.JAH.000",null,null,null,null,null,null,"ADM & HO",null,null,null,null,0,0,0]
["Infrastructure Services","MSE:AH:MRC:MUNICIPAL RUNNING COST","O/504124.JAH.000",null,null,null,null,null,null,"ADM & HO",null,null,null,null,28186.002449999996,29454.372560249994,30779.819325461242]
["Infrastructure Services","MSE:AH:MRC:MUNICIPAL RUNNING COST","O/504124.JAH.000",null,null,null,null,null,null,"ADM & HO",null,null,null,null,224868.9351,234988.03717949998,245562.49885257747]
["Infrastructure Services","MSE:AH:MRC:MUNICIPAL RUNNING COST","O/504124.JAH.000",null,null,null,null,null,null,"ADM & HO",null,null,null,null,0,0,0]
["Infrastructure Services","MSE:AH:MRC:MUNICIPAL RUNNING COST","O/504124.JAH.000",null,null,null,null,null,null,"ADM & HO",null,null,null,null,1201.107,1255.1568149999998,1311.6388716749998]
["Infrastructure Services","MSE:AH:MRC:MUNICIPAL RUNNING COST","O/504124.JAH.000",null,null,null,null,null,null,"ADM & HO",null,null,null,null,218229.72510000001,228050.0627295,238312.31555232749]
["Infrastructure Services","MSE:AH:MRC:MUNICIPAL RUNNING COST","O/504124.JAH.000",null,null,null,null,null,null,"ADM & HO",null,null,null,null,653802.6799499999,683223.80054774985,713968.87157239858]
["Infrastructure Services","MSE:AH:MRC:MUNICIPAL RUNNING COST","O/504124.JAH.000",null,null,null,null,null,null,"ADM & HO",null,null,null,null,23013.063149999998,24048.650991749997,25130.840286378745]
["Infrastructure Services","MSE:AH:MRC:MUNICIPAL RUNNING COST","O/504131.JAH.000",null,null,null,null,null,null,"ADM & HO",null,null,null,null,690995.25959999987,722090.04628199979,754584.09836468974]
["Infrastructure Services","MSE:AH:MRC:MUNICIPAL RUNNING COST","O/504131.JAH.000",null,null,null,null,null,null,"ADM & HO",null,null,null,null,57582.100499999993,60173.295022499988,62881.093298512482]
["Infrastructure Services","MSE:AH:MRC:MUNICIPAL RUNNING COST","O/504131.JAH.000",null,null,null,null,null,null,"ADM & HO",null,null,null,null,6741.45,7044.8152499999997,7361.8319362499988]
["Infrastructure Services","MSE:AH:MRC:MUNICIPAL RUNNING COST","O/504131.JAH.000",null,null,null,null,null,null,"ADM & HO",null,null,null,null,162407.1537,169715.47561649999,177352.67201924248]
["Infrastructure Services","MSE:AH:MRC:MUNICIPAL RUNNING COST","O/504131.JAH.000",null,null,null,null,null,null,"ADM & HO",null,null,null,null,13098.637349999999,13688.076030749999,14304.039452133748]
["Infrastructure Services","MSE:AH:MRC:MUNICIPAL RUNNING COST","O/504131.JAH.000",null,null,null,null,null,null,"ADM & HO",null,null,null,null,65496.5628,68443.908125999995,71523.883991669994]
["Infrastructure Services","MSE:AH:MRC:MUNICIPAL RUNNING COST","O/504131.JAH.000",null,null,null,null,null,null,"ADM & HO",null,null,null,null,132.58184999999997,138.54803324999997,144.78269474624997]
["Infrastructure Services","MSE:AH:MRC:MUNICIPAL RUNNING COST","O/504131.JAH.000",null,null,null,null,null,null,"ADM & HO",null,null,null,null,46223.875499999995,48303.949897499988,50477.627642887484]
["Infrastructure Services","MSE:AH:MRC:MUNICIPAL RUNNING COST","O/504131.JAH.000",null,null,null,null,null,null,"ADM & HO",null,null,null,null,120252.86685000001,125664.24585825,131319.13692187125]
["Infrastructure Services","MSE:AH:MRC:MUNICIPAL RUNNING COST","O/504131.JAH.000",null,null,null,null,null,null,"ADM & HO",null,null,null,null,2387.6021999999998,2495.0442989999997,2607.3212924549994]
["Infrastructure Services","MSE:AH:MRC:MUNICIPAL RUNNING COST","O/504136.JAH.000",null,null,null,null,null,null,"ADM & HO",null,null,null,null,15004811.571749998,15680028.092478747,16385629.356640289]
["Infrastructure Services","MSE:AH:MRC:MUNICIPAL RUNNING COST","O/504136.JAH.000",null,null,null,null,null,null,"ADM & HO",null,null,null,null,2137900.3084499999,2234105.8223302499,2334640.5843351111]
["Infrastructure Services","MSE:AH:MRC:MUNICIPAL RUNNING COST","O/504136.JAH.000",null,null,null,null,null,null,"ADM & HO",null,null,null,null,18201.915000000001,19021.001175000001,19876.946227875]
["Infrastructure Services","MSE:AH:MRC:MUNICIPAL RUNNING COST","O/504136.JAH.000",null,null,null,null,null,null,"ADM & HO",null,null,null,null,39012.77115,40768.345851749997,42602.921415078745]
["Infrastructure Services","MSE:AH:MRC:MUNICIPAL RUNNING COST","O/504136.JAH.000",null,null,null,null,null,null,"ADM & HO",null,null,null,null,61101.1374,63850.688582999996,66723.969569234992]
["Infrastructure Services","MSE:AH:MRC:MUNICIPAL RUNNING COST","O/504136.JAH.000",null,null,null,null,null,null,"ADM & HO",null,null,null,null,247869.6336,259023.76711199997,270679.83663203998]
["Infrastructure Services","MSE:AH:MRC:MUNICIPAL RUNNING COST","O/504136.JAH.000",null,null,null,null,null,null,"ADM & HO",null,null,null,null,165667.76835,173122.81792574999,180913.34473240873]
["Infrastructure Services","MSE:AH:MRC:MUNICIPAL RUNNING COST","O/504136.JAH.000",null,null,null,null,null,null,"ADM & HO",null,null,null,null,0,0,0]
["Infrastructure Services","MSE:AH:MRC:MUNICIPAL RUNNING COST","O/504136.JAH.000",null,null,null,null,null,null,"ADM & HO",null,null,null,null,0,0,0]
["Infrastructure Services","MSE:AH:MRC:MUNICIPAL RUNNING COST","O/504136.JAH.000",null,null,null,null,null,null,"ADM & HO",null,null,null,null,53399.025450000001,55801.981595249999,58313.070767036246]
["Infrastructure Services","MSE:AH:MRC:MUNICIPAL RUNNING COST","O/504136.JAH.000",null,null,null,null,null,null,"ADM & HO",null,null,null,null,11212.160249999999,11716.707461249998,12243.959297006248]
["Infrastructure Services","MSE:AH:MRC:MUNICIPAL RUNNING COST","O/504136.JAH.000",null,null,null,null,null,null,"ADM & HO",null,null,null,null,485367.55169999995,507209.09152649989,530033.50064519234]
["Infrastructure Services","MSE:AH:MRC:MUNICIPAL RUNNING COST","O/504136.JAH.000",null,null,null,null,null,null,"ADM & HO",null,null,null,null,4620235.9091999996,4828146.5251139989,5045413.1187441284]
["Infrastructure Services","MSE:AH:MRC:MUNICIPAL RUNNING COST","O/504136.JAH.000",null,null,null,null,null,null,"ADM & HO",null,null,null,null,171700.2372,179426.74787399999,187500.95152832998]
["Infrastructure Services","WATR:AH:MRC:MUNICIPAL RUNNING COST","O/504136.ZAH.000",null,null,null,null,null,null,"ADM & HO",null,null,null,null,682466.19644999993,713177.17529024987,745270.14817831106]
["Infrastructure Services","WATR:AH:MRC:MUNICIPAL RUNNING COST","O/504136.ZAH.000",null,null,null,null,null,null,"ADM & HO",null,null,null,null,56872.001100000001,59431.241149499998,62105.647001227495]
["Infrastructure Services","WATR:AH:MRC:MUNICIPAL RUNNING COST","O/504136.ZAH.000",null,null,null,null,null,null,"ADM & HO",null,null,null,null,10193.072399999999,10651.760657999999,11131.089887609998]
["Infrastructure Services","WATR:AH:MRC:MUNICIPAL RUNNING COST","O/504136.ZAH.000",null,null,null,null,null,null,"ADM & HO",null,null,null,null,266.29259999999999,278.27576699999997,290.79817651499997]
["Infrastructure Services","WATR:AH:MRC:MUNICIPAL RUNNING COST","O/504136.ZAH.000",null,null,null,null,null,null,"ADM & HO",null,null,null,null,109332.8361,114252.8137245,119394.19034210249]
["Infrastructure Services","WATR:AH:MRC:MUNICIPAL RUNNING COST","O/504136.ZAH.000",null,null,null,null,null,null,"ADM & HO",null,null,null,null,4010.0445,4190.4965025000001,4379.0688451124997]
["Infrastructure Services","MSE:AH:MRC:MUNICIPAL RUNNING COST","O/504167.JAH.000",null,null,null,null,null,null,"ADM & HO",null,null,null,null,1112602.16655,1162669.2640447498,1214989.3809267634]
["Infrastructure Services","MSE:AH:MRC:MUNICIPAL RUNNING COST","O/504167.JAH.000",null,null,null,null,null,null,"ADM & HO",null,null,null,null,92716.29075,96888.52383374999,101248.50740626873]
["Infrastructure Services","MSE:AH:MRC:MUNICIPAL RUNNING COST","O/504167.JAH.000",null,null,null,null,null,null,"ADM & HO",null,null,null,null,25617.51,26770.297949999996,27974.961357749995]
["Infrastructure Services","MSE:AH:MRC:MUNICIPAL RUNNING COST","O/504167.JAH.000",null,null,null,null,null,null,"ADM & HO",null,null,null,null,239022.60404999999,249778.62123224998,261018.65918770121]
["Infrastructure Services","MSE:AH:MRC:MUNICIPAL RUNNING COST","O/504167.JAH.000",null,null,null,null,null,null,"ADM & HO",null,null,null,null,89252.346300000005,93268.701883500005,97465.7934682575]
["Infrastructure Services","MSE:AH:MRC:MUNICIPAL RUNNING COST","O/504167.JAH.000",null,null,null,null,null,null,"ADM & HO",null,null,null,null,105459.8784,110205.57292799999,115164.82370975999]
["Infrastructure Services","MSE:AH:MRC:MUNICIPAL RUNNING COST","O/504167.JAH.000",null,null,null,null,null,null,"ADM & HO",null,null,null,null,42320.938049999997,44225.380262249993,46215.522374051237]
["Infrastructure Services","MSE:AH:MRC:MUNICIPAL RUNNING COST","O/504167.JAH.000",null,null,null,null,null,null,"ADM & HO",null,null,null,null,5339.8993499999997,5580.1948207499991,5831.3035876837484]
["Infrastructure Services","MSE:AH:MRC:MUNICIPAL RUNNING COST","O/504167.JAH.000",null,null,null,null,null,null,"ADM & HO",null,null,null,null,821.78594999999996,858.76631774999987,897.41080204874982]
["Infrastructure Services","MSE:AH:MRC:MUNICIPAL RUNNING COST","O/504167.JAH.000",null,null,null,null,null,null,"ADM & HO",null,null,null,null,72798.671399999992,76074.611612999986,79497.969135584979]
["Infrastructure Services","MSE:AH:MRC:MUNICIPAL RUNNING COST","O/504167.JAH.000",null,null,null,null,null,null,"ADM & HO",null,null,null,null,189827.99625,198370.25608124997,207296.91760490619]
["Infrastructure Services","MSE:AH:MRC:MUNICIPAL RUNNING COST","O/504167.JAH.000",null,null,null,null,null,null,"ADM & HO",null,null,null,null,4775.1937499999995,4990.0774687499988,5214.6309548437484]
["Infrastructure Services","WATR:AH:MRC:MUNICIPAL RUNNING COST","O/504167.ZAH.000",null,null,null,null,null,null,"ADM & HO",null,null,null,null,499906.61219999997,522402.40974899993,545910.51818770485]
["Infrastructure Services","WATR:AH:MRC:MUNICIPAL RUNNING COST","O/504167.ZAH.000",null,null,null,null,null,null,"ADM & HO",null,null,null,null,17854778.324549999,18658243.349154748,19497864.29986671]
["Infrastructure Services","WATR:AH:MRC:MUNICIPAL RUNNING COST","O/504167.ZAH.000",null,null,null,null,null,null,"ADM & HO",null,null,null,null,41658.795599999998,43533.441401999997,45492.446265089995]
["Infrastructure Services","WATR:AH:MRC:MUNICIPAL RUNNING COST","O/504167.ZAH.000",null,null,null,null,null,null,"ADM & HO",null,null,null,null,1487898.1981499998,1554853.6170667498,1624822.0298347534]
["Infrastructure Services","WATR:AH:MRC:MUNICIPAL RUNNING COST","O/504167.ZAH.000",null,null,null,null,null,null,"ADM & HO",null,null,null,null,13105.3788,13695.120846,14311.401284069998]
["Infrastructure Services","WATR:AH:MRC:MUNICIPAL RUNNING COST","O/504167.ZAH.000",null,null,null,null,null,null,"ADM & HO",null,null,null,null,16179.48,16907.5566,17668.396646999998]
["Infrastructure Services","WATR:AH:MRC:MUNICIPAL RUNNING COST","O/504167.ZAH.000",null,null,null,null,null,null,"ADM & HO",null,null,null,null,142211.04749999999,148610.54463749999,155298.01914618746]
["Infrastructure Services","WATR:AH:MRC:MUNICIPAL RUNNING COST","O/504167.ZAH.000",null,null,null,null,null,null,"ADM & HO",null,null,null,null,64049.707049999997,66931.943867249996,69943.881341276239]
["Infrastructure Services","WATR:AH:MRC:MUNICIPAL RUNNING COST","O/504167.ZAH.000",null,null,null,null,null,null,"ADM & HO",null,null,null,null,536126.75100000005,560252.45479500003,585463.81526077504]
["Infrastructure Services","WATR:AH:MRC:MUNICIPAL RUNNING COST","O/504167.ZAH.000",null,null,null,null,null,null,"ADM & HO",null,null,null,null,451767.62174999999,472097.16472874995,493341.53714154364]
["Infrastructure Services","WATR:AH:MRC:MUNICIPAL RUNNING COST","O/504167.ZAH.000",null,null,null,null,null,null,"ADM & HO",null,null,null,null,544670.06384999992,569180.21672324988,594793.32647579606]
["Infrastructure Services","WATR:AH:MRC:MUNICIPAL RUNNING COST","O/504167.ZAH.000",null,null,null,null,null,null,"ADM & HO",null,null,null,null,266.29259999999999,278.27576699999997,290.79817651499997]
["Infrastructure Services","WATR:AH:MRC:MUNICIPAL RUNNING COST","O/504167.ZAH.000",null,null,null,null,null,null,"ADM & HO",null,null,null,null,16035.215099999999,16756.799779499997,17510.855769577494]
["Infrastructure Services","WATR:AH:MRC:MUNICIPAL RUNNING COST","O/504167.ZAH.000",null,null,null,null,null,null,"ADM & HO",null,null,null,null,1243643.8241999999,1299607.7962889997,1358090.1471220045]
["Infrastructure Services","WATR:AH:MRC:MUNICIPAL RUNNING COST","O/504167.ZAH.000",null,null,null,null,null,null,"ADM & HO",null,null,null,null,80086.178849999982,83690.056898249983,87456.109458671228]
["Infrastructure Services","WATR:AH:MRC:MUNICIPAL RUNNING COST","O/504167.ZAH.000",null,null,null,null,null,null,"ADM & HO",null,null,null,null,3716911.6741499999,3884172.6994867497,4058960.4709636532]
["Infrastructure Services","WATR:AH:MRC:MUNICIPAL RUNNING COST","O/504167.ZAH.000",null,null,null,null,null,null,"ADM & HO",null,null,null,null,4010.0445,4190.4965025000001,4379.0688451124997]
["Infrastructure Services","WATR:AH:MRC:MUNICIPAL RUNNING COST","O/504167.ZAH.000",null,null,null,null,null,null,"ADM & HO",null,null,null,null,237520.69845,248209.12988024997,259378.5407248612]
["Infrastructure Services","WWAT:AH:MRC:MUNICIPAL RUNNING COST","O/504168.WAH.000",null,null,null,null,null,null,"ADM & HO",null,null,null,null,5287831.5851999996,5525784.006533999,5774444.286828029]
["Infrastructure Services","WWAT:AH:MRC:MUNICIPAL RUNNING COST","O/504168.WAH.000",null,null,null,null,null,null,"ADM & HO",null,null,null,null,440652.63209999999,460482.00054449996,481203.69056900241]
["Infrastructure Services","WWAT:AH:MRC:MUNICIPAL RUNNING COST","O/504168.WAH.000",null,null,null,null,null,null,"ADM & HO",null,null,null,null,51909.165000000001,54245.077424999996,56686.105909124992]
["Infrastructure Services","WWAT:AH:MRC:MUNICIPAL RUNNING COST","O/504168.WAH.000",null,null,null,null,null,null,"ADM & HO",null,null,null,null,13004.257049999998,13589.448617249996,14200.973805026246]
["Infrastructure Services","WWAT:AH:MRC:MUNICIPAL RUNNING COST","O/504168.WAH.000",null,null,null,null,null,null,"ADM & HO",null,null,null,null,3194664.1735499999,3338424.0613597496,3488653.1441209381]
["Infrastructure Services","WWAT:AH:MRC:MUNICIPAL RUNNING COST","O/504168.WAH.000",null,null,null,null,null,null,"ADM & HO",null,null,null,null,141342.36959999998,147702.77623199997,154349.40116243996]
["Infrastructure Services","WWAT:AH:MRC:MUNICIPAL RUNNING COST","O/504168.WAH.000",null,null,null,null,null,null,"ADM & HO",null,null,null,null,183241.59959999999,191487.47158199997,200104.40780318994]
["Infrastructure Services","WWAT:AH:MRC:MUNICIPAL RUNNING COST","O/504168.WAH.000",null,null,null,null,null,null,"ADM & HO",null,null,null,null,706881.48119999992,738691.14785399986,771932.24950742978]
["Infrastructure Services","WWAT:AH:MRC:MUNICIPAL RUNNING COST","O/504168.WAH.000",null,null,null,null,null,null,"ADM & HO",null,null,null,null,3603.3103499999997,3765.4593157499994,3934.9049849587491]
["Infrastructure Services","WWAT:AH:MRC:MUNICIPAL RUNNING COST","O/504168.WAH.000",null,null,null,null,null,null,"ADM & HO",null,null,null,null,267882.75150000001,279937.47531750001,292534.66170678748]
["Infrastructure Services","WWAT:AH:MRC:MUNICIPAL RUNNING COST","O/504168.WAH.000",null,null,null,null,null,null,"ADM & HO",null,null,null,null,1418188.7296500001,1482007.2224842501,1548697.5474960413]
["Infrastructure Services","WWAT:AH:MRC:MUNICIPAL RUNNING COST","O/504168.WAH.000",null,null,null,null,null,null,"ADM & HO",null,null,null,null,63143.796749999994,65985.267603749991,68954.604645918735]
["Infrastructure Services","WATR:AH:MRC:MUNICIPAL RUNNING COST","O/504169.ZAH.000",null,null,null,null,null,null,"ADM & HO",null,null,null,null,1616372.7478499997,1689109.5215032496,1765119.4499708957]
["Infrastructure Services","WATR:AH:MRC:MUNICIPAL RUNNING COST","O/504169.ZAH.000",null,null,null,null,null,null,"ADM & HO",null,null,null,null,134697.54704999999,140758.93666724997,147093.08881727621]
["Infrastructure Services","WATR:AH:MRC:MUNICIPAL RUNNING COST","O/504169.ZAH.000",null,null,null,null,null,null,"ADM & HO",null,null,null,null,8811.0751499999988,9207.5735317499984,9621.914340678748]
["Infrastructure Services","WATR:AH:MRC:MUNICIPAL RUNNING COST","O/504169.ZAH.000",null,null,null,null,null,null,"ADM & HO",null,null,null,null,39012.77115,40768.345851749997,42602.921415078745]
["Infrastructure Services","WATR:AH:MRC:MUNICIPAL RUNNING COST","O/504169.ZAH.000",null,null,null,null,null,null,"ADM & HO",null,null,null,null,102375.6597,106982.5643865,111796.77978389249]
["Infrastructure Services","WATR:AH:MRC:MUNICIPAL RUNNING COST","O/504169.ZAH.000",null,null,null,null,null,null,"ADM & HO",null,null,null,null,747042.54599999997,780659.46056999988,815789.13629564981]
["Infrastructure Services","WATR:AH:MRC:MUNICIPAL RUNNING COST","O/504169.ZAH.000",null,null,null,null,null,null,"ADM & HO",null,null,null,null,307925.84625,321782.50933124998,336262.72225115623]
["Infrastructure Services","WATR:AH:MRC:MUNICIPAL RUNNING COST","O/504169.ZAH.000",null,null,null,null,null,null,"ADM & HO",null,null,null,null,667.40354999999988,697.43670974999986,728.82136168874979]
["Infrastructure Services","WATR:AH:MRC:MUNICIPAL RUNNING COST","O/504169.ZAH.000",null,null,null,null,null,null,"ADM & HO",null,null,null,null,250498.7991,261771.24505949998,273550.95108717744]
["Infrastructure Services","WATR:AH:MRC:MUNICIPAL RUNNING COST","O/504169.ZAH.000",null,null,null,null,null,null,"ADM & HO",null,null,null,null,332250.11609999998,347201.37132449995,362825.43303410243]
["Infrastructure Services","WATR:AH:MRC:MUNICIPAL RUNNING COST","O/504169.ZAH.000",null,null,null,null,null,null,"ADM & HO",null,null,null,null,11940.236849999999,12477.547508249998,13039.037146121247]
["Infrastructure Services","WWAT:AH:MRC:MUNICIPAL RUNNING COST","O/504171.WAH.000",null,null,null,null,null,null,"ADM & HO",null,null,null,null,19976333.747850001,20875268.766503248,21814655.860995892]
["Infrastructure Services","WWAT:AH:MRC:MUNICIPAL RUNNING COST","O/504171.WAH.000",null,null,null,null,null,null,"ADM & HO",null,null,null,null,2108443.548,2203323.5076599997,2302473.0655046995]
["Infrastructure Services","WWAT:AH:MRC:MUNICIPAL RUNNING COST","O/504171.WAH.000",null,null,null,null,null,null,"ADM & HO",null,null,null,null,23595.074999999997,24656.853374999995,25766.411776874993]
["Infrastructure Services","WWAT:AH:MRC:MUNICIPAL RUNNING COST","O/504171.WAH.000",null,null,null,null,null,null,"ADM & HO",null,null,null,null,52017.028199999993,54357.794468999986,56803.895220104983]
["Infrastructure Services","WWAT:AH:MRC:MUNICIPAL RUNNING COST","O/504171.WAH.000",null,null,null,null,null,null,"ADM & HO",null,null,null,null,123899.99129999999,129475.49090849998,135301.88799938248]
["Infrastructure Services","WWAT:AH:MRC:MUNICIPAL RUNNING COST","O/504171.WAH.000",null,null,null,null,null,null,"ADM & HO",null,null,null,null,847991.26545000006,886150.87239525001,926027.66165303625]
["Infrastructure Services","WWAT:AH:MRC:MUNICIPAL RUNNING COST","O/504171.WAH.000",null,null,null,null,null,null,"ADM & HO",null,null,null,null,0,0,0]
["Infrastructure Services","WWAT:AH:MRC:MUNICIPAL RUNNING COST","O/504171.WAH.000",null,null,null,null,null,null,"ADM & HO",null,null,null,null,0,0,0]
["Infrastructure Services","WWAT:AH:MRC:MUNICIPAL RUNNING COST","O/504171.WAH.000",null,null,null,null,null,null,"ADM & HO",null,null,null,null,621890.90279999992,649875.99342599988,679120.41313016985]
["Infrastructure Services","WWAT:AH:MRC:MUNICIPAL RUNNING COST","O/504171.WAH.000",null,null,null,null,null,null,"ADM & HO",null,null,null,null,142453.57995000001,148863.99104774999,155562.87064489874]
["Infrastructure Services","WWAT:AH:MRC:MUNICIPAL RUNNING COST","O/504171.WAH.000",null,null,null,null,null,null,"ADM & HO",null,null,null,null,747935.79345,781592.90415524994,816764.58484223613]
["Infrastructure Services","WWAT:AH:MRC:MUNICIPAL RUNNING COST","O/504171.WAH.000",null,null,null,null,null,null,"ADM & HO",null,null,null,null,0,0,0]
["Infrastructure Services","WWAT:AH:MRC:MUNICIPAL RUNNING COST","O/504171.WAH.000",null,null,null,null,null,null,"ADM & HO",null,null,null,null,571369.34759999998,597080.96824199997,623949.61181288993]
["Infrastructure Services","WWAT:AH:MRC:MUNICIPAL RUNNING COST","O/504171.WAH.000",null,null,null,null,null,null,"ADM & HO",null,null,null,null,18819.881249999999,19666.775906249997,20551.780822031247]
["Infrastructure Services","WWAT:AH:MRC:MUNICIPAL RUNNING COST","O/504171.WAH.000",null,null,null,null,null,null,"ADM & HO",null,null,null,null,1324178.0804999999,1383766.0941224999,1446035.5683580122]
["Infrastructure Services","WWAT:AH:MRC:MUNICIPAL RUNNING COST","O/504171.WAH.000",null,null,null,null,null,null,"ADM & HO",null,null,null,null,4640184.9780000001,4848993.3020099998,5067198.0006004497]
["Infrastructure Services","WWAT:AH:MRC:MUNICIPAL RUNNING COST","O/504171.WAH.000",null,null,null,null,null,null,"ADM & HO",null,null,null,null,282573.49994999997,295289.30744774995,308577.32628289866]
["Infrastructure Services","WATR:AH:MRC:MUNICIPAL RUNNING COST","O/504172.ZAH.000",null,null,null,null,null,null,"ADM & HO",null,null,null,null,926267.94539999997,967950.00294299994,1011507.7530754348]
["Infrastructure Services","LEVS:AH:MRC:MUNICIPAL RUNNING COST","O/504527.BAH.000",null,null,null,null,null,null,"ADM & HO",null,null,null,null,5286209.1429000003,5524088.5543304998,5772672.5392753724]
["Infrastructure Services","LEVS:AH:MRC:MUNICIPAL RUNNING COST","O/504527.BAH.000",null,null,null,null,null,null,"ADM & HO",null,null,null,null,440516.68484999996,460339.93566824991,481055.2327733211]
["Infrastructure Services","LEVS:AH:MRC:MUNICIPAL RUNNING COST","O/504527.BAH.000",null,null,null,null,null,null,"ADM & HO",null,null,null,null,59324.759999999995,61994.374199999991,64784.121038999983]
["Infrastructure Services","LEVS:AH:MRC:MUNICIPAL RUNNING COST","O/504527.BAH.000",null,null,null,null,null,null,"ADM & HO",null,null,null,null,26008.514099999997,27178.897234499993,28401.947610052492]
["Infrastructure Services","LEVS:AH:MRC:MUNICIPAL RUNNING COST","O/504527.BAH.000",null,null,null,null,null,null,"ADM & HO",null,null,null,null,529028.54729999998,552834.83192849997,577712.39936528238]
["Infrastructure Services","LEVS:AH:MRC:MUNICIPAL RUNNING COST","O/504527.BAH.000",null,null,null,null,null,null,"ADM & HO",null,null,null,null,43340.782049999994,45291.117242249988,47329.217518151236]
["Infrastructure Services","LEVS:AH:MRC:MUNICIPAL RUNNING COST","O/504527.BAH.000",null,null,null,null,null,null,"ADM & HO",null,null,null,null,206676.00870000001,215976.4290915,225695.36840061747]
["Infrastructure Services","LEVS:AH:MRC:MUNICIPAL RUNNING COST","O/504527.BAH.000",null,null,null,null,null,null,"ADM & HO",null,null,null,null,1601.0997,1673.1491864999998,1748.4408998924996]
["Infrastructure Services","LEVS:AH:MRC:MUNICIPAL RUNNING COST","O/504527.BAH.000",null,null,null,null,null,null,"ADM & HO",null,null,null,null,225380.15639999998,235522.26343799997,246120.76529270996]
["Infrastructure Services","LEVS:AH:MRC:MUNICIPAL RUNNING COST","O/504527.BAH.000",null,null,null,null,null,null,"ADM & HO",null,null,null,null,972180.0101999999,1015928.1106589999,1061644.8756386547]
["Infrastructure Services","LEVS:AH:MRC:MUNICIPAL RUNNING COST","O/504527.BAH.000",null,null,null,null,null,null,"ADM & HO",null,null,null,null,26742.213899999999,27945.613525499997,29203.166134147494]
["Infrastructure Services","WATR:AH:MRC:MUNICIPAL RUNNING COST","O/504786.ZAH.000",null,null,null,null,null,null,"ADM & HO",null,null,null,null,1111243.7697000001,1161249.7393364999,1213505.9776066423]
["Infrastructure Services","WATR:AH:MRC:MUNICIPAL RUNNING COST","O/504786.ZAH.000",null,null,null,null,null,null,"ADM & HO",null,null,null,null,92602.804350000006,96769.930545750001,101124.57742030875]
["Infrastructure Services","WATR:AH:MRC:MUNICIPAL RUNNING COST","O/504786.ZAH.000",null,null,null,null,null,null,"ADM & HO",null,null,null,null,20224.349999999999,21134.445749999995,22085.495808749994]
["Infrastructure Services","WATR:AH:MRC:MUNICIPAL RUNNING COST","O/504786.ZAH.000",null,null,null,null,null,null,"ADM & HO",null,null,null,null,26008.514099999997,27178.897234499993,28401.947610052492]
["Infrastructure Services","WATR:AH:MRC:MUNICIPAL RUNNING COST","O/504786.ZAH.000",null,null,null,null,null,null,"ADM & HO",null,null,null,null,80592.916500000007,84219.597742500002,88009.479640912497]
["Infrastructure Services","WATR:AH:MRC:MUNICIPAL RUNNING COST","O/504786.ZAH.000",null,null,null,null,null,null,"ADM & HO",null,null,null,null,351667.73924999998,367492.78751624998,384029.96295448119]
["Infrastructure Services","WATR:AH:MRC:MUNICIPAL RUNNING COST","O/504786.ZAH.000",null,null,null,null,null,null,"ADM & HO",null,null,null,null,43443.032699999996,45397.969171499994,47440.87778421749]
["Infrastructure Services","WATR:AH:MRC:MUNICIPAL RUNNING COST","O/504786.ZAH.000",null,null,null,null,null,null,"ADM & HO",null,null,null,null,226813.83809999996,237020.46081449994,247686.38155115242]
["Infrastructure Services","WATR:AH:MRC:MUNICIPAL RUNNING COST","O/504786.ZAH.000",null,null,null,null,null,null,"ADM & HO",null,null,null,null,266.29259999999999,278.27576699999997,290.79817651499997]
["Infrastructure Services","WATR:AH:MRC:MUNICIPAL RUNNING COST","O/504786.ZAH.000",null,null,null,null,null,null,"ADM & HO",null,null,null,null,113338.3863,118438.61368349999,123768.35129925748]
["Infrastructure Services","WATR:AH:MRC:MUNICIPAL RUNNING COST","O/504786.ZAH.000",null,null,null,null,null,null,"ADM & HO",null,null,null,null,210909.63929999998,220400.57306849997,230318.59885658245]
["Infrastructure Services","WATR:AH:MRC:MUNICIPAL RUNNING COST","O/504786.ZAH.000",null,null,null,null,null,null,"ADM & HO",null,null,null,null,6110.0008499999994,6384.9508882499986,6672.2736782212478]
["Infrastructure Services","WATR:AH:MRC:MUNICIPAL RUNNING COST","O/504788.ZAH.000",null,null,null,null,null,null,"ADM & HO",null,null,null,null,514086.79964999994,537220.70563424996,561395.63738779118]
["Infrastructure Services","WATR:AH:MRC:MUNICIPAL RUNNING COST","O/504788.ZAH.000",null,null,null,null,null,null,"ADM & HO",null,null,null,null,1561891.0859999999,1632176.1848699998,1705624.1131891496]
["Infrastructure Services","WATR:AH:MRC:MUNICIPAL RUNNING COST","O/504789.ZAH.000",null,null,null,null,null,null,"ADM & HO",null,null,null,null,167965.47389999998,175523.92022549998,183422.49663564746]
["Infrastructure Services","WATR:AH:MRC:MUNICIPAL RUNNING COST","O/504789.ZAH.000",null,null,null,null,null,null,"ADM & HO",null,null,null,null,13996.379099999998,14626.216159499998,15284.395886677497]
["Infrastructure Services","WATR:AH:MRC:MUNICIPAL RUNNING COST","O/504789.ZAH.000",null,null,null,null,null,null,"ADM & HO",null,null,null,null,27623.096699999998,28866.136051499998,30165.112173817495]
["Infrastructure Services","WATR:AH:MRC:MUNICIPAL RUNNING COST","O/504789.ZAH.000",null,null,null,null,null,null,"ADM & HO",null,null,null,null,20767.04205,21701.558942249998,22678.129094651245]
["Infrastructure Services","WATR:AH:MRC:MUNICIPAL RUNNING COST","O/504789.ZAH.000",null,null,null,null,null,null,"ADM & HO",null,null,null,null,6475.1680500000002,6766.5506122500001,7071.0453898012493]
["Infrastructure Services","WATR:AH:MRC:MUNICIPAL RUNNING COST","O/504789.ZAH.000",null,null,null,null,null,null,"ADM & HO",null,null,null,null,873000.92669999995,912285.96840149991,953338.83697956731]
["Infrastructure Services","WATR:AH:MRC:MUNICIPAL RUNNING COST","O/504789.ZAH.000",null,null,null,null,null,null,"ADM & HO",null,null,null,null,1071657.5492999998,1119882.1390184998,1170276.8352743322]
["Infrastructure Services","WATR:AH:MRC:MUNICIPAL RUNNING COST","O/504789.ZAH.000",null,null,null,null,null,null,"ADM & HO",null,null,null,null,14317.72155,14962.01901975,15635.309875638748]
["Sustainable Development","MSE:AH:MRC:MUNICIPAL RUNNING COST","O/602097.JAH.000",null,null,null,null,null,null,"ADM & HO",null,null,null,null,1144102.7152500001,1195587.3374362499,1249388.7676208811]
["Sustainable Development","MSE:AH:MRC:MUNICIPAL RUNNING COST","O/602097.JAH.000",null,null,null,null,null,null,"ADM & HO",null,null,null,null,16179.48,16907.5566,17668.396646999998]
["Sustainable Development","MSE:AH:MRC:MUNICIPAL RUNNING COST","O/602097.JAH.000",null,null,null,null,null,null,"ADM & HO",null,null,null,null,380386.31624999997,397503.70048124995,415391.36700290616]
["Sustainable Development","MSE:AH:MRC:MUNICIPAL RUNNING COST","O/602097.JAH.000",null,null,null,null,null,null,"ADM & HO",null,null,null,null,66285.312449999998,69268.151510249998,72385.218328211238]
["Sustainable Development","MSE:AH:MRC:MUNICIPAL RUNNING COST","O/602097.JAH.000",null,null,null,null,null,null,"ADM & HO",null,null,null,null,2004.4577999999997,2094.6584009999997,2188.9180290449995]
["Sustainable Development","MSE:AH:MRC:MUNICIPAL RUNNING COST","O/602097.JAH.000",null,null,null,null,null,null,"ADM & HO",null,null,null,null,132.58184999999997,138.54803324999997,144.78269474624997]
["Sustainable Development","MSE:AH:MRC:MUNICIPAL RUNNING COST","O/602097.JAH.000",null,null,null,null,null,null,"ADM & HO",null,null,null,null,410086.89779999998,428540.80820099992,447825.14457004488]
["Sustainable Development","MSE:AH:MRC:MUNICIPAL RUNNING COST","O/602097.JAH.000",null,null,null,null,null,null,"ADM & HO",null,null,null,null,34173.538950000002,35711.348202749999,37318.358871873745]
["Sustainable Development","MSE:AH:MRC:MUNICIPAL RUNNING COST","O/602097.JAH.000",null,null,null,null,null,null,"ADM & HO",null,null,null,null,9438.0299999999988,9862.7413499999984,10306.564710749997]
["Sustainable Development","MSE:AH:MRC:MUNICIPAL RUNNING COST","O/602097.JAH.000",null,null,null,null,null,null,"ADM & HO",null,null,null,null,132.58184999999997,138.54803324999997,144.78269474624997]
["Sustainable Development","MSE:AH:MRC:MUNICIPAL RUNNING COST","O/602097.JAH.000",null,null,null,null,null,null,"ADM & HO",null,null,null,null,20232.22035,21142.670265749999,22094.090427708747]
["Sustainable Development","MSE:AH:MRC:MUNICIPAL RUNNING COST","O/602097.JAH.000",null,null,null,null,null,null,"ADM & HO",null,null,null,null,53058.587549999997,55446.223989749989,57941.304069288737]
["Sustainable Development","MSE:AH:MRC:MUNICIPAL RUNNING COST","O/602097.JAH.000",null,null,null,null,null,null,"ADM & HO",null,null,null,null,2387.6021999999998,2495.0442989999997,2607.3212924549994]
["Sustainable Development","MSE:AH:MRC:MUNICIPAL RUNNING COST","O/603098.JAH.000",null,null,null,null,null,null,"ADM & HO",null,null,null,null,294246.31529999996,307487.39948849991,321324.33246548241]
["Sustainable Development","MSE:AH:MRC:MUNICIPAL RUNNING COST","O/603098.JAH.000",null,null,null,null,null,null,"ADM & HO",null,null,null,null,24519.78255,25623.172764749997,26776.215539163746]
["Sustainable Development","MSE:AH:MRC:MUNICIPAL RUNNING COST","O/603098.JAH.000",null,null,null,null,null,null,"ADM & HO",null,null,null,null,132.58184999999997,138.54803324999997,144.78269474624997]
["Sustainable Development","MSE:AH:MRC:MUNICIPAL RUNNING COST","O/603098.JAH.000",null,null,null,null,null,null,"ADM & HO",null,null,null,null,26186.038950000002,27364.410702749999,28595.809184373749]
["Sustainable Development","MSE:AH:MRC:MUNICIPAL RUNNING COST","O/603098.JAH.000",null,null,null,null,null,null,"ADM & HO",null,null,null,null,50202.459899999994,52461.570595499994,54822.34127229749]
["Sustainable Development","MSE:AH:MRC:MUNICIPAL RUNNING COST","O/603098.JAH.000",null,null,null,null,null,null,"ADM & HO",null,null,null,null,2387.6021999999998,2495.0442989999997,2607.3212924549994]
["Sustainable Development","MSE:AH:MRC:MUNICIPAL RUNNING COST","O/603114.JAH.000",null,null,null,null,null,null,"ADM & HO",null,null,null,null,819143.48265000002,856004.93936924997,894525.16164086619]
["Sustainable Development","MSE:AH:MRC:MUNICIPAL RUNNING COST","O/603114.JAH.000",null,null,null,null,null,null,"ADM & HO",null,null,null,null,68261.67555,71333.450949749997,74543.456242488741]
["Sustainable Development","MSE:AH:MRC:MUNICIPAL RUNNING COST","O/603114.JAH.000",null,null,null,null,null,null,"ADM & HO",null,null,null,null,2696.58,2817.9260999999997,2944.7327744999993]
["Sustainable Development","MSE:AH:MRC:MUNICIPAL RUNNING COST","O/603114.JAH.000",null,null,null,null,null,null,"ADM & HO",null,null,null,null,266.29259999999999,278.27576699999997,290.79817651499997]
["Sustainable Development","MSE:AH:MRC:MUNICIPAL RUNNING COST","O/603114.JAH.000",null,null,null,null,null,null,"ADM & HO",null,null,null,null,57088.84575,59657.843808749996,62342.446780143742]
["Sustainable Development","MSE:AH:MRC:MUNICIPAL RUNNING COST","O/603114.JAH.000",null,null,null,null,null,null,"ADM & HO",null,null,null,null,139758.12885000001,146047.24464824999,152619.37065742124]
["Sustainable Development","MSE:AH:MRC:MUNICIPAL RUNNING COST","O/603114.JAH.000",null,null,null,null,null,null,"ADM & HO",null,null,null,null,4775.1937499999995,4990.0774687499988,5214.6309548437484]
["Sustainable Development","MSE:AH:MRC:MUNICIPAL RUNNING COST","O/603116.JAH.000",null,null,null,null,null,null,"ADM & HO",null,null,null,null,1757549.9465999999,1836639.6941969998,1919288.4804358645]
["Sustainable Development","MSE:AH:MRC:MUNICIPAL RUNNING COST","O/603116.JAH.000",null,null,null,null,null,null,"ADM & HO",null,null,null,null,146462.49554999999,153053.30784974998,159940.70670298871]
["Sustainable Development","MSE:AH:MRC:MUNICIPAL RUNNING COST","O/603116.JAH.000",null,null,null,null,null,null,"ADM & HO",null,null,null,null,12808.754999999999,13385.148974999998,13987.480678874997]
["Sustainable Development","MSE:AH:MRC:MUNICIPAL RUNNING COST","O/603116.JAH.000",null,null,null,null,null,null,"ADM & HO",null,null,null,null,13004.257049999998,13589.448617249996,14200.973805026246]
["Sustainable Development","MSE:AH:MRC:MUNICIPAL RUNNING COST","O/603116.JAH.000",null,null,null,null,null,null,"ADM & HO",null,null,null,null,148346.73614999998,155022.33927674996,161998.34454420369]
["Sustainable Development","MSE:AH:MRC:MUNICIPAL RUNNING COST","O/603116.JAH.000",null,null,null,null,null,null,"ADM & HO",null,null,null,null,38213.914649999999,39933.540809249993,41730.550145666239]
["Sustainable Development","MSE:AH:MRC:MUNICIPAL RUNNING COST","O/603116.JAH.000",null,null,null,null,null,null,"ADM & HO",null,null,null,null,399.99269999999996,417.99237149999993,436.80202821749992]
["Sustainable Development","MSE:AH:MRC:MUNICIPAL RUNNING COST","O/603116.JAH.000",null,null,null,null,null,null,"ADM & HO",null,null,null,null,64280.854649999994,67173.49310924999,70196.300299166236]
["Sustainable Development","MSE:AH:MRC:MUNICIPAL RUNNING COST","O/603116.JAH.000",null,null,null,null,null,null,"ADM & HO",null,null,null,null,280665.66960000002,293295.624732,306493.92784493999]
["Sustainable Development","MSE:AH:MRC:MUNICIPAL RUNNING COST","O/603116.JAH.000",null,null,null,null,null,null,"ADM & HO",null,null,null,null,7163.9142000000002,7486.2903389999992,7823.1734042549988]
["Sustainable Development","MSE:AH:MRC:MUNICIPAL RUNNING COST","O/604101.JAH.000",null,null,null,null,null,null,"ADM & HO",null,null,null,null,7708536.8500499995,8055421.008302249,8417914.9536758494]
["Sustainable Development","MSE:AH:MRC:MUNICIPAL RUNNING COST","O/604101.JAH.000",null,null,null,null,null,null,"ADM & HO",null,null,null,null,642377.04044999997,671284.00727024989,701491.78759741108]
["Sustainable Development","MSE:AH:MRC:MUNICIPAL RUNNING COST","O/604101.JAH.000",null,null,null,null,null,null,"ADM & HO",null,null,null,null,72807.66,76084.004700000005,79507.784911499999]
["Sustainable Development","MSE:AH:MRC:MUNICIPAL RUNNING COST","O/604101.JAH.000",null,null,null,null,null,null,"ADM & HO",null,null,null,null,65021.285249999994,67947.24308624999,71004.869025131236]
["Sustainable Development","MSE:AH:MRC:MUNICIPAL RUNNING COST","O/604101.JAH.000",null,null,null,null,null,null,"ADM & HO",null,null,null,null,796157.38529999997,831984.46763849992,869423.76868223236]
["Sustainable Development","MSE:AH:MRC:MUNICIPAL RUNNING COST","O/604101.JAH.000",null,null,null,null,null,null,"ADM & HO",null,null,null,null,139785.09464999998,146075.42390924998,152648.81798516621]
["Sustainable Development","MSE:AH:MRC:MUNICIPAL RUNNING COST","O/604101.JAH.000",null,null,null,null,null,null,"ADM & HO",null,null,null,null,82340.070299999992,86045.373463499986,89917.415269357472]
["Sustainable Development","MSE:AH:MRC:MUNICIPAL RUNNING COST","O/604101.JAH.000",null,null,null,null,null,null,"ADM & HO",null,null,null,null,454463.61599999998,474914.47871999996,496285.63026239991]
["Sustainable Development","MSE:AH:MRC:MUNICIPAL RUNNING COST","O/604101.JAH.000",null,null,null,null,null,null,"ADM & HO",null,null,null,null,16018.814099999998,16739.660734499997,17492.945467552498]
["Sustainable Development","MSE:AH:MRC:MUNICIPAL RUNNING COST","O/604101.JAH.000",null,null,null,null,null,null,"ADM & HO",null,null,null,null,1868.51055,1952.5935247499999,2040.4602333637497]
["Sustainable Development","MSE:AH:MRC:MUNICIPAL RUNNING COST","O/604101.JAH.000",null,null,null,null,null,null,"ADM & HO",null,null,null,null,361363.07324999996,377624.41154624993,394617.51006583113]
["Sustainable Development","MSE:AH:MRC:MUNICIPAL RUNNING COST","O/604101.JAH.000",null,null,null,null,null,null,"ADM & HO",null,null,null,null,1260737.6705999998,1317470.8657769999,1376757.0547369646]
["Sustainable Development","MSE:AH:MRC:MUNICIPAL RUNNING COST","O/604101.JAH.000",null,null,null,null,null,null,"ADM & HO",null,null,null,null,46096.916849999994,48171.278108249993,50338.98562312124]
["Sustainable Development","MSE:AH:MRC:MUNICIPAL RUNNING COST","O/604111.JAH.000",null,null,null,null,null,null,"ADM & HO",null,null,null,null,3978681.3256499995,4157721.9853042495,4344819.4746429408]
["Sustainable Development","MSE:AH:MRC:MUNICIPAL RUNNING COST","O/604111.JAH.000",null,null,null,null,null,null,"ADM & HO",null,null,null,null,331555.74674999999,346475.75535374996,362067.16434466868]
["Sustainable Development","MSE:AH:MRC:MUNICIPAL RUNNING COST","O/604111.JAH.000",null,null,null,null,null,null,"ADM & HO",null,null,null,null,24269.219999999998,25361.334899999994,26502.594970499991]
["Sustainable Development","MSE:AH:MRC:MUNICIPAL RUNNING COST","O/604111.JAH.000",null,null,null,null,null,null,"ADM & HO",null,null,null,null,26008.514099999997,27178.897234499993,28401.947610052492]
["Sustainable Development","MSE:AH:MRC:MUNICIPAL RUNNING COST","O/604111.JAH.000",null,null,null,null,null,null,"ADM & HO",null,null,null,null,461084.84879999998,481833.66699599993,503516.1820108199]
["Sustainable Development","MSE:AH:MRC:MUNICIPAL RUNNING COST","O/604111.JAH.000",null,null,null,null,null,null,"ADM & HO",null,null,null,null,451544.56815000001,471864.07371674996,493097.95703400369]
["Sustainable Development","MSE:AH:MRC:MUNICIPAL RUNNING COST","O/604111.JAH.000",null,null,null,null,null,null,"ADM & HO",null,null,null,null,49033.941899999998,51240.469285499996,53546.290403347492]
["Sustainable Development","MSE:AH:MRC:MUNICIPAL RUNNING COST","O/604111.JAH.000",null,null,null,null,null,null,"ADM & HO",null,null,null,null,1067.39625,1115.4290812499999,1165.6233899062497]
["Sustainable Development","MSE:AH:MRC:MUNICIPAL RUNNING COST","O/604111.JAH.000",null,null,null,null,null,null,"ADM & HO",null,null,null,null,250635.87524999998,261914.48963624996,273700.64166988118]
["Sustainable Development","MSE:AH:MRC:MUNICIPAL RUNNING COST","O/604111.JAH.000",null,null,null,null,null,null,"ADM & HO",null,null,null,null,523645.63259999995,547209.68606699992,571834.12194001488]
["Sustainable Development","MSE:AH:MRC:MUNICIPAL RUNNING COST","O/604111.JAH.000",null,null,null,null,null,null,"ADM & HO",null,null,null,null,746299.86825000006,779883.36232125002,814978.11362570617]
["Sustainable Development","MSE:AH:MRC:MUNICIPAL RUNNING COST","O/604111.JAH.000",null,null,null,null,null,null,"ADM & HO",null,null,null,null,991571.02964999992,1036191.7259842498,1082820.3536535411]
["Sustainable Development","MSE:AH:MRC:MUNICIPAL RUNNING COST","O/604111.JAH.000",null,null,null,null,null,null,"ADM & HO",null,null,null,null,19104.151049999997,19963.837847249994,20862.210550376243]
["Sustainable Development","LEVS:AH:MRC:MUNICIPAL RUNNING COST","O/604115.BAH.000",null,null,null,null,null,null,"ADM & HO",null,null,null,null,3140771.8933499996,3282106.6285507493,3429801.4268355328]
["Sustainable Development","LEVS:AH:MRC:MUNICIPAL RUNNING COST","O/604115.BAH.000",null,null,null,null,null,null,"ADM & HO",null,null,null,null,261730.05480000001,273507.90726599999,285815.76309296995]
["Sustainable Development","LEVS:AH:MRC:MUNICIPAL RUNNING COST","O/604115.BAH.000",null,null,null,null,null,null,"ADM & HO",null,null,null,null,47190.149999999994,49313.70674999999,51532.823553749986]
["Sustainable Development","LEVS:AH:MRC:MUNICIPAL RUNNING COST","O/604115.BAH.000",null,null,null,null,null,null,"ADM & HO",null,null,null,null,13004.257049999998,13589.448617249996,14200.973805026246]
["Sustainable Development","LEVS:AH:MRC:MUNICIPAL RUNNING COST","O/604115.BAH.000",null,null,null,null,null,null,"ADM & HO",null,null,null,null,616555.03980000003,644300.01659100002,673293.517337595]
["Sustainable Development","LEVS:AH:MRC:MUNICIPAL RUNNING COST","O/604115.BAH.000",null,null,null,null,null,null,"ADM & HO",null,null,null,null,257598.67484999998,269190.61521824996,281304.19290307118]
["Sustainable Development","LEVS:AH:MRC:MUNICIPAL RUNNING COST","O/604115.BAH.000",null,null,null,null,null,null,"ADM & HO",null,null,null,null,799.98539999999991,835.98474299999987,873.60405643499985]
["Sustainable Development","LEVS:AH:MRC:MUNICIPAL RUNNING COST","O/604115.BAH.000",null,null,null,null,null,null,"ADM & HO",null,null,null,null,134451.47880000001,140501.795346,146824.37613656998]
["Sustainable Development","LEVS:AH:MRC:MUNICIPAL RUNNING COST","O/604115.BAH.000",null,null,null,null,null,null,"ADM & HO",null,null,null,null,522492.71684999997,546004.88910824992,570575.10911812109]
["Sustainable Development","LEVS:AH:MRC:MUNICIPAL RUNNING COST","O/604115.BAH.000",null,null,null,null,null,null,"ADM & HO",null,null,null,null,15662.6355,16367.4540975,17103.989531887499]
["Sustainable Development","MSE:AH:MRC:MUNICIPAL RUNNING COST","O/604247.JAH.000",null,null,null,null,null,null,"ADM & HO",null,null,null,null,532312.76234999998,556266.83665574994,581298.84430525859]
["Sustainable Development","MSE:AH:MRC:MUNICIPAL RUNNING COST","O/604247.JAH.000",null,null,null,null,null,null,"ADM & HO",null,null,null,null,44358.741000000002,46354.884344999999,48440.854140524993]
["Sustainable Development","MSE:AH:MRC:MUNICIPAL RUNNING COST","O/604247.JAH.000",null,null,null,null,null,null,"ADM & HO",null,null,null,null,4719.0149999999994,4931.3706749999992,5153.2823553749986]
["Sustainable Development","MSE:AH:MRC:MUNICIPAL RUNNING COST","O/604247.JAH.000",null,null,null,null,null,null,"ADM & HO",null,null,null,null,66875.183999999994,69884.567279999988,73029.372807599982]
["Sustainable Development","MSE:AH:MRC:MUNICIPAL RUNNING COST","O/604247.JAH.000",null,null,null,null,null,null,"ADM & HO",null,null,null,null,132.58184999999997,138.54803324999997,144.78269474624997]
["Sustainable Development","MSE:AH:MRC:MUNICIPAL RUNNING COST","O/604247.JAH.000",null,null,null,null,null,null,"ADM & HO",null,null,null,null,48764.283899999995,50958.676675499992,53251.817125897491]
["Sustainable Development","MSE:AH:MRC:MUNICIPAL RUNNING COST","O/604247.JAH.000",null,null,null,null,null,null,"ADM & HO",null,null,null,null,90820.814399999988,94907.751047999976,99178.599845159973]
["Sustainable Development","MSE:AH:MRC:MUNICIPAL RUNNING COST","O/604247.JAH.000",null,null,null,null,null,null,"ADM & HO",null,null,null,null,2387.6021999999998,2495.0442989999997,2607.3212924549994]
["Sustainable Development","\"MSE:AH:TWS:CAPBUIL:W/SH","O/604247.JAH.X19",null,null,null,null,null,null,"ADM & HO",null,null,null,null,783841.87439999997,819114.75874799991,855974.92289165989]
["Sustainable Development","\"MSE:AH:TWS:CAPBUIL:W/SH","O/604247.JAH.X19",null,null,null,null,null,null,"ADM & HO",null,null,null,null,0,0,0]
["Sustainable Development","\"MSE:AH:TWS:CAPBUIL:W/SH","O/604247.JAH.X19",null,null,null,null,null,null,"ADM & HO",null,null,null,null,65320.156199999998,68259.563228999992,71331.243574304986]
["Sustainable Development","\"MSE:AH:TWS:CAPBUIL:W/SH","O/604247.JAH.X19",null,null,null,null,null,null,"ADM & HO",null,null,null,null,0,0,0]
["Sustainable Development","\"MSE:AH:TWS:CAPBUIL:W/SH","O/604247.JAH.X19",null,null,null,null,null,null,"ADM & HO",null,null,null,null,12013.263899999998,12553.860775499998,13118.784510397496]
["Sustainable Development","\"MSE:AH:TWS:CAPBUIL:W/SH","O/604247.JAH.X19",null,null,null,null,null,null,"ADM & HO",null,null,null,null,0,0,0]
["Sustainable Development","MSE:AH:MRC:MUNICIPAL RUNNING COST","O/604265.JAH.000",null,null,null,null,null,null,"ADM & HO",null,null,null,null,511583.92184999998,534605.19833324989,558662.43225824612]
["Sustainable Development","MSE:AH:MRC:MUNICIPAL RUNNING COST","O/604265.JAH.000",null,null,null,null,null,null,"ADM & HO",null,null,null,null,42631.811549999999,44550.243069749995,46555.00400788874]
["Sustainable Development","MSE:AH:MRC:MUNICIPAL RUNNING COST","O/604265.JAH.000",null,null,null,null,null,null,"ADM & HO",null,null,null,null,4004.4213,4184.6202585000001,4372.9281701324999]
["Sustainable Development","MSE:AH:MRC:MUNICIPAL RUNNING COST","O/604285.JAH.000",null,null,null,null,null,null,"ADM & HO",null,null,null,null,3749432.6952,3918157.1664839997,4094474.2389757796]
["Sustainable Development","MSE:AH:MRC:MUNICIPAL RUNNING COST","O/604285.JAH.000",null,null,null,null,null,null,"ADM & HO",null,null,null,null,312452.72460000002,326513.09720700001,341206.18658131501]
["Sustainable Development","MSE:AH:MRC:MUNICIPAL RUNNING COST","O/604285.JAH.000",null,null,null,null,null,null,"ADM & HO",null,null,null,null,21572.639999999999,22543.408799999997,23557.862195999995]
["Sustainable Development","MSE:AH:MRC:MUNICIPAL RUNNING COST","O/604285.JAH.000",null,null,null,null,null,null,"ADM & HO",null,null,null,null,0,0,0]
["Sustainable Development","MSE:AH:MRC:MUNICIPAL RUNNING COST","O/604285.JAH.000",null,null,null,null,null,null,"ADM & HO",null,null,null,null,0,0,0]
["Sustainable Development","MSE:AH:MRC:MUNICIPAL RUNNING COST","O/604285.JAH.000",null,null,null,null,null,null,"ADM & HO",null,null,null,null,383445.81630000001,400700.87803349999,418732.41754500748]
["Sustainable Development","MSE:AH:MRC:MUNICIPAL RUNNING COST","O/604285.JAH.000",null,null,null,null,null,null,"ADM & HO",null,null,null,null,18415.394250000001,19244.086991249998,20110.070905856246]
["Sustainable Development","MSE:AH:MRC:MUNICIPAL RUNNING COST","O/604285.JAH.000",null,null,null,null,null,null,"ADM & HO",null,null,null,null,0,0,0]
["Sustainable Development","MSE:AH:MRC:MUNICIPAL RUNNING COST","O/604285.JAH.000",null,null,null,null,null,null,"ADM & HO",null,null,null,null,20767.04205,21701.558942249998,22678.129094651245]
["Sustainable Development","MSE:AH:MRC:MUNICIPAL RUNNING COST","O/604285.JAH.000",null,null,null,null,null,null,"ADM & HO",null,null,null,null,462688.185,483509.15332499996,505267.06522462494]
["Sustainable Development","MSE:AH:MRC:MUNICIPAL RUNNING COST","O/604285.JAH.000",null,null,null,null,null,null,"ADM & HO",null,null,null,null,39590.288700000005,41371.8516915,43233.585017617494]
["Sustainable Development","MSE:AH:MRC:MUNICIPAL RUNNING COST","O/604285.JAH.000",null,null,null,null,null,null,"ADM & HO",null,null,null,null,59568.581100000003,62249.167249500002,65050.379775727495]
["Sustainable Development","MSE:AH:MRC:MUNICIPAL RUNNING COST","O/604285.JAH.000",null,null,null,null,null,null,"ADM & HO",null,null,null,null,533.70344999999998,557.72010524999996,582.81750998624989]
["Sustainable Development","MSE:AH:MRC:MUNICIPAL RUNNING COST","O/604285.JAH.000",null,null,null,null,null,null,"ADM & HO",null,null,null,null,165564.39945,173014.79742525,180800.46330938625]
["Sustainable Development","MSE:AH:MRC:MUNICIPAL RUNNING COST","O/604285.JAH.000",null,null,null,null,null,null,"ADM & HO",null,null,null,null,459207.34964999999,479871.68038424995,501465.90600154118]
["Sustainable Development","MSE:AH:MRC:MUNICIPAL RUNNING COST","O/604285.JAH.000",null,null,null,null,null,null,"ADM & HO",null,null,null,null,18507.527399999999,19340.366132999996,20210.682608984993]
["Sustainable Development","MSE:AH:MRC:MUNICIPAL RUNNING COST","O/604347.JAH.000",null,null,null,null,null,null,"ADM & HO",null,null,null,null,10900944.87435,11391487.393695749,11904104.326412058]
["Sustainable Development","MSE:AH:MRC:MUNICIPAL RUNNING COST","O/604347.JAH.000",null,null,null,null,null,null,"ADM & HO",null,null,null,null,908411.51639999996,949290.03463799995,992008.08619670989]
["Sustainable Development","MSE:AH:MRC:MUNICIPAL RUNNING COST","O/604347.JAH.000",null,null,null,null,null,null,"ADM & HO",null,null,null,null,84268.125,88060.190624999988,92022.89920312498]
["Sustainable Development","MSE:AH:MRC:MUNICIPAL RUNNING COST","O/604347.JAH.000",null,null,null,null,null,null,"ADM & HO",null,null,null,null,117039.44235,122306.21725574999,127809.99703225873]
["Sustainable Development","MSE:AH:MRC:MUNICIPAL RUNNING COST","O/604347.JAH.000",null,null,null,null,null,null,"ADM & HO",null,null,null,null,1485727.9411499999,1552585.6985017497,1622452.0549343282]
["Sustainable Development","MSE:AH:MRC:MUNICIPAL RUNNING COST","O/604347.JAH.000",null,null,null,null,null,null,"ADM & HO",null,null,null,null,45664.335149999992,47719.230231749985,49866.595592178732]
["Sustainable Development","MSE:AH:MRC:MUNICIPAL RUNNING COST","O/604347.JAH.000",null,null,null,null,null,null,"ADM & HO",null,null,null,null,290746.38449999999,303829.97180249996,317502.32053361245]
["Sustainable Development","MSE:AH:MRC:MUNICIPAL RUNNING COST","O/604347.JAH.000",null,null,null,null,null,null,"ADM & HO",null,null,null,null,64078.611149999997,66962.148651749987,69975.445341078725]
["Sustainable Development","MSE:AH:MRC:MUNICIPAL RUNNING COST","O/604347.JAH.000",null,null,null,null,null,null,"ADM & HO",null,null,null,null,4671.8248499999991,4882.056968249999,5101.7495318212486]
["Sustainable Development","MSE:AH:MRC:MUNICIPAL RUNNING COST","O/604347.JAH.000",null,null,null,null,null,null,"ADM & HO",null,null,null,null,961522.90665000002,1004791.4374492499,1050007.0521344661]
["Sustainable Development","MSE:AH:MRC:MUNICIPAL RUNNING COST","O/604347.JAH.000",null,null,null,null,null,null,"ADM & HO",null,null,null,null,2497066.7872499996,2609434.7926762495,2726859.3583466806]
["Sustainable Development","MSE:AH:MRC:MUNICIPAL RUNNING COST","O/604347.JAH.000",null,null,null,null,null,null,"ADM & HO",null,null,null,null,78588.458699999988,82124.939341499979,85820.561611867466]
["Sustainable Development","MSE:AH:MRC:MUNICIPAL RUNNING COST","O/604480.JAH.000",null,null,null,null,null,null,"ADM & HO",null,null,null,null,2143365.3772499999,2239816.8192262496,2340608.5760914306]
["Sustainable Development","MSE:AH:MRC:MUNICIPAL RUNNING COST","O/604480.JAH.000",null,null,null,null,null,null,"ADM & HO",null,null,null,null,191815.60574999999,200447.30800874997,209467.43686914371]
["Sustainable Development","MSE:AH:MRC:MUNICIPAL RUNNING COST","O/604480.JAH.000",null,null,null,null,null,null,"ADM & HO",null,null,null,null,26008.514099999997,27178.897234499993,28401.947610052492]
["Sustainable Development","MSE:AH:MRC:MUNICIPAL RUNNING COST","O/604480.JAH.000",null,null,null,null,null,null,"ADM & HO",null,null,null,null,0,0,0]
["Sustainable Development","MSE:AH:MRC:MUNICIPAL RUNNING COST","O/604480.JAH.000",null,null,null,null,null,null,"ADM & HO",null,null,null,null,33538.713749999995,35047.955868749996,36625.11388284374]
["Sustainable Development","MSE:AH:MRC:MUNICIPAL RUNNING COST","O/604480.JAH.000",null,null,null,null,null,null,"ADM & HO",null,null,null,null,47799.127649999995,49950.088394249993,52197.842371991239]
["Sustainable Development","MSE:AH:MRC:MUNICIPAL RUNNING COST","O/604480.JAH.000",null,null,null,null,null,null,"ADM & HO",null,null,null,null,667.40354999999988,697.43670974999986,728.82136168874979]
["Sustainable Development","MSE:AH:MRC:MUNICIPAL RUNNING COST","O/604480.JAH.000",null,null,null,null,null,null,"ADM & HO",null,null,null,null,114890.03804999999,120060.08976224998,125462.79380155122]
["Sustainable Development","MSE:AH:MRC:MUNICIPAL RUNNING COST","O/604480.JAH.000",null,null,null,null,null,null,"ADM & HO",null,null,null,null,407864.46645000001,426218.36744025,445398.19397506124]
["Sustainable Development","MSE:AH:MRC:MUNICIPAL RUNNING COST","O/604480.JAH.000",null,null,null,null,null,null,"ADM & HO",null,null,null,null,11940.236849999999,12477.547508249998,13039.037146121247]
["Sustainable Development","MSE:AH:MRC:MUNICIPAL RUNNING COST","O/604508.JAH.000",null,null,null,null,null,null,"ADM & HO",null,null,null,null,1923976.1227500001,2010555.0482737499,2101030.0254460685]
["Sustainable Development","MSE:AH:MRC:MUNICIPAL RUNNING COST","O/604508.JAH.000",null,null,null,null,null,null,"ADM & HO",null,null,null,null,160330.78709999999,167545.67251949999,175085.22778287748]
["Sustainable Development","MSE:AH:MRC:MUNICIPAL RUNNING COST","O/604508.JAH.000",null,null,null,null,null,null,"ADM & HO",null,null,null,null,57976.469999999994,60585.411149999993,63311.754651749987]
["Sustainable Development","MSE:AH:MRC:MUNICIPAL RUNNING COST","O/604508.JAH.000",null,null,null,null,null,null,"ADM & HO",null,null,null,null,127654.97894999999,133399.45300274997,139402.42838787372]
["Sustainable Development","MSE:AH:MRC:MUNICIPAL RUNNING COST","O/604508.JAH.000",null,null,null,null,null,null,"ADM & HO",null,null,null,null,38800.4208,40546.439736,42371.02952412]
["Sustainable Development","MSE:AH:MRC:MUNICIPAL RUNNING COST","O/604508.JAH.000",null,null,null,null,null,null,"ADM & HO",null,null,null,null,350890.22535000002,366680.28549074999,383180.8983378337]
["Sustainable Development","MSE:AH:MRC:MUNICIPAL RUNNING COST","O/604508.JAH.000",null,null,null,null,null,null,"ADM & HO",null,null,null,null,933.69614999999999,975.71247674999995,1019.6195382037499]
["Sustainable Development","MSE:AH:MRC:MUNICIPAL RUNNING COST","O/604508.JAH.000",null,null,null,null,null,null,"ADM & HO",null,null,null,null,73430.120549999992,76734.475974749992,80187.527393613738]
["Sustainable Development","MSE:AH:MRC:MUNICIPAL RUNNING COST","O/604508.JAH.000",null,null,null,null,null,null,"ADM & HO",null,null,null,null,301088.88705000002,314637.88696724997,328796.59188077622]
["Sustainable Development","MSE:AH:MRC:MUNICIPAL RUNNING COST","O/604508.JAH.000",null,null,null,null,null,null,"ADM & HO",null,null,null,null,16270.494899999998,17002.667170499997,17767.787193172495]
["Sustainable Development","MSE:AH:MRC:MUNICIPAL RUNNING COST","O/604511.JAH.000",null,null,null,null,null,null,"ADM & HO",null,null,null,null,772421.4534,807180.41880299989,843503.53764913487]
["Sustainable Development","MSE:AH:MRC:MUNICIPAL RUNNING COST","O/604514.JAH.000",null,null,null,null,null,null,"ADM & HO",null,null,null,null,324733.39934999996,339346.40232074994,354616.99042518367]
["Sustainable Development","MSE:AH:MRC:MUNICIPAL RUNNING COST","O/604514.JAH.000",null,null,null,null,null,null,"ADM & HO",null,null,null,null,27060.180299999996,28277.888413499993,29550.393392107489]
["Sustainable Development","MSE:AH:MRC:MUNICIPAL RUNNING COST","O/604514.JAH.000",null,null,null,null,null,null,"ADM & HO",null,null,null,null,0,0,0]
["Sustainable Development","MSE:AH:MRC:MUNICIPAL RUNNING COST","O/604514.JAH.000",null,null,null,null,null,null,"ADM & HO",null,null,null,null,5339.2283999999991,5579.4936779999989,5830.5708935099983]
["Sustainable Development","MSE:AH:MRC:MUNICIPAL RUNNING COST","O/604515.JAH.000",null,null,null,null,null,null,"ADM & HO",null,null,null,null,799.98539999999991,835.98474299999987,873.60405643499985]
["Sustainable Development","MSE:AH:MRC:MUNICIPAL RUNNING COST","O/604515.JAH.000",null,null,null,null,null,null,"ADM & HO",null,null,null,null,218666.80109999998,228506.80714949997,238789.61347122747]
["Sustainable Development","MSE:AH:MRC:MUNICIPAL RUNNING COST","O/604515.JAH.000",null,null,null,null,null,null,"ADM & HO",null,null,null,null,0,0,0]
["Sustainable Development","MSE:AH:MRC:MUNICIPAL RUNNING COST","O/604515.JAH.000",null,null,null,null,null,null,"ADM & HO",null,null,null,null,259572.79079999999,271253.56638599996,283459.97687336995]
["Sustainable Development","MSE:AH:MRC:MUNICIPAL RUNNING COST","O/604515.JAH.000",null,null,null,null,null,null,"ADM & HO",null,null,null,null,29662.379999999997,30997.187099999996,32392.060519499992]
["Sustainable Development","MSE:AH:MRC:MUNICIPAL RUNNING COST","O/604515.JAH.000",null,null,null,null,null,null,"ADM & HO",null,null,null,null,39012.77115,40768.345851749997,42602.921415078745]
["Sustainable Development","MSE:AH:MRC:MUNICIPAL RUNNING COST","O/604515.JAH.000",null,null,null,null,null,null,"ADM & HO",null,null,null,null,244980.9276,256005.06934199997,267525.29746238998]
["Sustainable Development","MSE:AH:MRC:MUNICIPAL RUNNING COST","O/604515.JAH.000",null,null,null,null,null,null,"ADM & HO",null,null,null,null,132416.68979999999,138375.44084099997,144602.33567884497]
["Sustainable Development","MSE:AH:MRC:MUNICIPAL RUNNING COST","O/604515.JAH.000",null,null,null,null,null,null,"ADM & HO",null,null,null,null,0,0,0]
["Sustainable Development","MSE:AH:MRC:MUNICIPAL RUNNING COST","O/604515.JAH.000",null,null,null,null,null,null,"ADM & HO",null,null,null,null,0,0,0]
["Sustainable Development","MSE:AH:MRC:MUNICIPAL RUNNING COST","O/604515.JAH.000",null,null,null,null,null,null,"ADM & HO",null,null,null,null,949854.53234999988,992597.98630574986,1037264.8956895085]
["Sustainable Development","MSE:AH:MRC:MUNICIPAL RUNNING COST","O/604515.JAH.000",null,null,null,null,null,null,"ADM & HO",null,null,null,null,0,0,0]
["Sustainable Development","MSE:AH:MRC:MUNICIPAL RUNNING COST","O/604515.JAH.000",null,null,null,null,null,null,"ADM & HO",null,null,null,null,3114874.6184999999,3255043.9763324996,3401520.9552674619]
["Sustainable Development","MSE:AH:MRC:MUNICIPAL RUNNING COST","O/604515.JAH.000",null,null,null,null,null,null,"ADM & HO",null,null,null,null,917732.69459999993,959030.66585699981,1002187.0458205647]
["Sustainable Development","MSE:AH:MRC:MUNICIPAL RUNNING COST","O/604515.JAH.000",null,null,null,null,null,null,"ADM & HO",null,null,null,null,16997.442599999998,17762.327516999998,18561.632255264998]
["Sustainable Development","MSE:AH:MRC:MUNICIPAL RUNNING COST","O/604546.JAH.000",null,null,null,null,null,null,"ADM & HO",null,null,null,null,2705225.9149499997,2826961.0811227495,2954174.3297732729]
["Sustainable Development","MSE:AH:MRC:MUNICIPAL RUNNING COST","O/604546.JAH.000",null,null,null,null,null,null,"ADM & HO",null,null,null,null,225427.34654999999,235571.57714474996,246172.2981162637]
["Sustainable Development","MSE:AH:MRC:MUNICIPAL RUNNING COST","O/604546.JAH.000",null,null,null,null,null,null,"ADM & HO",null,null,null,null,0,0,0]
["Sustainable Development","MSE:AH:MRC:MUNICIPAL RUNNING COST","O/604546.JAH.000",null,null,null,null,null,null,"ADM & HO",null,null,null,null,39012.77115,40768.345851749997,42602.921415078745]
["Sustainable Development","MSE:AH:MRC:MUNICIPAL RUNNING COST","O/604546.JAH.000",null,null,null,null,null,null,"ADM & HO",null,null,null,null,425722.5675,444880.08303749998,464899.68677418743]
["Sustainable Development","MSE:AH:MRC:MUNICIPAL RUNNING COST","O/604546.JAH.000",null,null,null,null,null,null,"ADM & HO",null,null,null,null,70853.768400000001,74042.187978000002,77374.086437010003]
["Sustainable Development","MSE:AH:MRC:MUNICIPAL RUNNING COST","O/604546.JAH.000",null,null,null,null,null,null,"ADM & HO",null,null,null,null,30498.319799999997,31870.744190999994,33304.927679594992]
["Sustainable Development","MSE:AH:MRC:MUNICIPAL RUNNING COST","O/604546.JAH.000",null,null,null,null,null,null,"ADM & HO",null,null,null,null,667.40354999999988,697.43670974999986,728.82136168874979]
["Sustainable Development","MSE:AH:MRC:MUNICIPAL RUNNING COST","O/604546.JAH.000",null,null,null,null,null,null,"ADM & HO",null,null,null,null,193394.22329999998,202096.96334849996,211191.32669918245]
["Sustainable Development","MSE:AH:MRC:MUNICIPAL RUNNING COST","O/604546.JAH.000",null,null,null,null,null,null,"ADM & HO",null,null,null,null,527747.67179999989,551496.31703099981,576313.65129739477]
["Sustainable Development","MSE:AH:MRC:MUNICIPAL RUNNING COST","O/604546.JAH.000",null,null,null,null,null,null,"ADM & HO",null,null,null,null,13275.043949999999,13872.420927749998,14496.679869498746]
["Sustainable Development","MSE:AH:MRC:MUNICIPAL RUNNING COST","O/604547.JAH.000",null,null,null,null,null,null,"ADM & HO",null,null,null,null,8796855.184799999,9192713.6681159977,9606385.7831812166]
["Sustainable Development","MSE:AH:MRC:MUNICIPAL RUNNING COST","O/604547.JAH.000",null,null,null,null,null,null,"ADM & HO",null,null,null,null,733070.89619999996,766059.08652899985,800531.74542280473]
["Sustainable Development","MSE:AH:MRC:MUNICIPAL RUNNING COST","O/604547.JAH.000",null,null,null,null,null,null,"ADM & HO",null,null,null,null,74830.095000000001,78197.449274999992,81716.334492374983]
["Sustainable Development","MSE:AH:MRC:MUNICIPAL RUNNING COST","O/604547.JAH.000",null,null,null,null,null,null,"ADM & HO",null,null,null,null,104034.05639999999,108715.58893799997,113607.79044020997]
["Sustainable Development","MSE:AH:MRC:MUNICIPAL RUNNING COST","O/604547.JAH.000",null,null,null,null,null,null,"ADM & HO",null,null,null,null,1319542.2100499999,1378921.6095022499,1440973.0819298511]
["Sustainable Development","MSE:AH:MRC:MUNICIPAL RUNNING COST","O/604547.JAH.000",null,null,null,null,null,null,"ADM & HO",null,null,null,null,322228.95600000001,336729.25902,351882.07567589998]
["Sustainable Development","MSE:AH:MRC:MUNICIPAL RUNNING COST","O/604547.JAH.000",null,null,null,null,null,null,"ADM & HO",null,null,null,null,183426.99480000001,191681.209566,200306.86399647]
["Sustainable Development","MSE:AH:MRC:MUNICIPAL RUNNING COST","O/604547.JAH.000",null,null,null,null,null,null,"ADM & HO",null,null,null,null,3069.6069000000002,3207.7392104999999,3352.0874749724999]
["Sustainable Development","MSE:AH:MRC:MUNICIPAL RUNNING COST","O/604547.JAH.000",null,null,null,null,null,null,"ADM & HO",null,null,null,null,751693.02824999997,785519.21452124987,820867.57917470601]
["Sustainable Development","MSE:AH:MRC:MUNICIPAL RUNNING COST","O/604547.JAH.000",null,null,null,null,null,null,"ADM & HO",null,null,null,null,1695771.2988,1772081.0072459998,1851824.6525720695]
["Sustainable Development","MSE:AH:MRC:MUNICIPAL RUNNING COST","O/604547.JAH.000",null,null,null,null,null,null,"ADM & HO",null,null,null,null,56260.77629999999,58792.511233499987,61438.17423900748]
["Sustainable Development","MSE:AH:MRC:MUNICIPAL RUNNING COST","O/604548.JAH.000",null,null,null,null,null,null,"ADM & HO",null,null,null,null,14549310.102599999,15204029.057216998,15888210.364791762]
["Sustainable Development","MSE:AH:MRC:MUNICIPAL RUNNING COST","O/604548.JAH.000",null,null,null,null,null,null,"ADM & HO",null,null,null,null,1212368.8851000001,1266925.4849294999,1323937.1317513273]
["Sustainable Development","MSE:AH:MRC:MUNICIPAL RUNNING COST","O/604548.JAH.000",null,null,null,null,null,null,"ADM & HO",null,null,null,null,28314.09,29588.224049999997,30919.694132249995]
["Sustainable Development","MSE:AH:MRC:MUNICIPAL RUNNING COST","O/604548.JAH.000",null,null,null,null,null,null,"ADM & HO",null,null,null,null,130042.57049999999,135894.48617249998,142009.73805026247]
["Sustainable Development","MSE:AH:MRC:MUNICIPAL RUNNING COST","O/604548.JAH.000",null,null,null,null,null,null,"ADM & HO",null,null,null,null,1286423.7239999999,1344312.7915799997,1404806.8672010996]
["Sustainable Development","MSE:AH:MRC:MUNICIPAL RUNNING COST","O/604548.JAH.000",null,null,null,null,null,null,"ADM & HO",null,null,null,null,2231186.2464000001,2331589.6274879999,2436511.1607249598]
["Sustainable Development","MSE:AH:MRC:MUNICIPAL RUNNING COST","O/604548.JAH.000",null,null,null,null,null,null,"ADM & HO",null,null,null,null,24768.087299999996,25882.651228499995,27047.370533782494]
["Sustainable Development","MSE:AH:MRC:MUNICIPAL RUNNING COST","O/604548.JAH.000",null,null,null,null,null,null,"ADM & HO",null,null,null,null,0,0,0]
["Sustainable Development","MSE:AH:MRC:MUNICIPAL RUNNING COST","O/604548.JAH.000",null,null,null,null,null,null,"ADM & HO",null,null,null,null,3737.0210999999999,3905.1870494999998,4080.9204667274994]
["Sustainable Development","MSE:AH:MRC:MUNICIPAL RUNNING COST","O/604548.JAH.000",null,null,null,null,null,null,"ADM & HO",null,null,null,null,952443.30239999993,995303.25100799988,1040091.8973033598]
["Sustainable Development","MSE:AH:MRC:MUNICIPAL RUNNING COST","O/604548.JAH.000",null,null,null,null,null,null,"ADM & HO",null,null,null,null,3327265.2042,3476992.1383889997,3633456.7846165043]
["Sustainable Development","MSE:AH:MRC:MUNICIPAL RUNNING COST","O/604548.JAH.000",null,null,null,null,null,null,"ADM & HO",null,null,null,null,72129.020699999994,75374.826631499993,78766.69382991748]
["Sustainable Development","MSE:AH:MRC:MUNICIPAL RUNNING COST","O/604549.JAH.000",null,null,null,null,null,null,"ADM & HO",null,null,null,null,78383.968049999996,81911.24661224999,85597.252709801236]
["Sustainable Development","MSE:AH:MRC:MUNICIPAL RUNNING COST","O/604549.JAH.000",null,null,null,null,null,null,"ADM & HO",null,null,null,null,6531.3468000000003,6825.2574059999997,7132.3939892699991]
["Sustainable Development","MSE:AH:MRC:MUNICIPAL RUNNING COST","O/604549.JAH.000",null,null,null,null,null,null,"ADM & HO",null,null,null,null,672709.6142999999,702981.54694349982,734615.71655595722]
["Sustainable Development","MSE:AH:MRC:MUNICIPAL RUNNING COST","O/604549.JAH.000",null,null,null,null,null,null,"ADM & HO",null,null,null,null,1334.8070999999998,1394.8734194999997,1457.6427233774996]
["Sustainable Development","MSE:AH:MRC:MUNICIPAL RUNNING COST","O/604560.JAH.000",null,null,null,null,null,null,"ADM & HO",null,null,null,null,294246.31529999996,307487.39948849991,321324.33246548241]
["Sustainable Development","MSE:AH:MRC:MUNICIPAL RUNNING COST","O/604560.JAH.000",null,null,null,null,null,null,"ADM & HO",null,null,null,null,24519.78255,25623.172764749997,26776.215539163746]
["Sustainable Development","MSE:AH:MRC:MUNICIPAL RUNNING COST","O/604560.JAH.000",null,null,null,null,null,null,"ADM & HO",null,null,null,null,75851.429999999993,79264.744349999994,82831.657845749985]
["Sustainable Development","MSE:AH:MRC:MUNICIPAL RUNNING COST","O/604560.JAH.000",null,null,null,null,null,null,"ADM & HO",null,null,null,null,20232.22035,21142.670265749999,22094.090427708747]
["Sustainable Development","MSE:AH:MRC:MUNICIPAL RUNNING COST","O/604560.JAH.000",null,null,null,null,null,null,"ADM & HO",null,null,null,null,50202.459899999994,52461.570595499994,54822.34127229749]
["Sustainable Development","MSE:AH:MRC:MUNICIPAL RUNNING COST","O/604560.JAH.000",null,null,null,null,null,null,"ADM & HO",null,null,null,null,1334.8070999999998,1394.8734194999997,1457.6427233774996]
["Sustainable Development","MSE:AH:MRC:MUNICIPAL RUNNING COST","O/604745.JAH.000",null,null,null,null,null,null,"ADM & HO",null,null,null,null,8711111.8111499995,9103111.842651749,9512751.8755710777]
["Sustainable Development","MSE:AH:MRC:MUNICIPAL RUNNING COST","O/604745.JAH.000",null,null,null,null,null,null,"ADM & HO",null,null,null,null,725924.95920000004,758591.58236400003,792728.20357037999]
["Sustainable Development","MSE:AH:MRC:MUNICIPAL RUNNING COST","O/604745.JAH.000",null,null,null,null,null,null,"ADM & HO",null,null,null,null,25617.51,26770.297949999996,27974.961357749995]
["Sustainable Development","MSE:AH:MRC:MUNICIPAL RUNNING COST","O/604745.JAH.000",null,null,null,null,null,null,"ADM & HO",null,null,null,null,4404.4139999999998,4602.6126299999996,4809.7301983499992]
["Sustainable Development","MSE:AH:MRC:MUNICIPAL RUNNING COST","O/604745.JAH.000",null,null,null,null,null,null,"ADM & HO",null,null,null,null,1159178.8446,1211341.892607,1265852.2777743149]
["Sustainable Development","MSE:AH:MRC:MUNICIPAL RUNNING COST","O/604745.JAH.000",null,null,null,null,null,null,"ADM & HO",null,null,null,null,1741015.4168999998,1819361.1106604997,1901232.360640222]
["Sustainable Development","MSE:AH:MRC:MUNICIPAL RUNNING COST","O/604745.JAH.000",null,null,null,null,null,null,"ADM & HO",null,null,null,null,92707.302150000003,96879.130746750001,101238.69163035374]
["Sustainable Development","MSE:AH:MRC:MUNICIPAL RUNNING COST","O/604745.JAH.000",null,null,null,null,null,null,"ADM & HO",null,null,null,null,39012.77115,40768.345851749997,42602.921415078745]
["Sustainable Development","MSE:AH:MRC:MUNICIPAL RUNNING COST","O/604745.JAH.000",null,null,null,null,null,null,"ADM & HO",null,null,null,null,65416.783649999998,68360.538914249992,71436.763165391239]
["Sustainable Development","MSE:AH:MRC:MUNICIPAL RUNNING COST","O/604745.JAH.000",null,null,null,null,null,null,"ADM & HO",null,null,null,null,794374.26644999988,830121.10844024981,867476.55832006095]
["Sustainable Development","MSE:AH:MRC:MUNICIPAL RUNNING COST","O/604745.JAH.000",null,null,null,null,null,null,"ADM & HO",null,null,null,null,64033.668149999998,66915.183216749996,69926.366461503741]
["Sustainable Development","MSE:AH:MRC:MUNICIPAL RUNNING COST","O/604745.JAH.000",null,null,null,null,null,null,"ADM & HO",null,null,null,null,177511.36709999997,185499.37861949997,193846.85065737745]
["Sustainable Development","MSE:AH:MRC:MUNICIPAL RUNNING COST","O/604745.JAH.000",null,null,null,null,null,null,"ADM & HO",null,null,null,null,148709.64554999999,155401.57959974997,162394.65068173871]
["Sustainable Development","MSE:AH:MRC:MUNICIPAL RUNNING COST","O/604745.JAH.000",null,null,null,null,null,null,"ADM & HO",null,null,null,null,16018.814099999998,16739.660734499997,17492.945467552498]
["Sustainable Development","MSE:AH:MRC:MUNICIPAL RUNNING COST","O/604745.JAH.000",null,null,null,null,null,null,"ADM & HO",null,null,null,null,1252702.7141999998,1309074.3363389997,1367982.6814742545]
["Sustainable Development","MSE:AH:MRC:MUNICIPAL RUNNING COST","O/604745.JAH.000",null,null,null,null,null,null,"ADM & HO",null,null,null,null,1763163.1355999999,1842505.4767019998,1925418.2231535895]
["Sustainable Development","MSE:AH:MRC:MUNICIPAL RUNNING COST","O/604844.JAH.000",null,null,null,null,null,null,"ADM & HO",null,null,null,null,646668,675768.05999999994,706177.62269999983]
["Electricity","MSU1/O/702100.JAH.000","O/702100.JAH.000",null,null,null,null,null,null,"ADM & HO",null,null,null,null,29430424.970249999,30754794.093911245,32138759.828137249]
["Electricity","MSU1/O/702100.JAH.000","O/702100.JAH.000",null,null,null,null,null,null,"ADM & HO",null,null,null,null,3023556.0550500001,3159616.0775272497,3301798.8010159759]
["Electricity","MSU1/O/702100.JAH.000","O/702100.JAH.000",null,null,null,null,null,null,"ADM & HO",null,null,null,null,208310.80499999999,217684.79122499996,227480.60683012495]
["Electricity","MSU1/O/702100.JAH.000","O/702100.JAH.000",null,null,null,null,null,null,"ADM & HO",null,null,null,null,65021.285249999994,67947.24308624999,71004.869025131236]
["Electricity","MSU1/O/702100.JAH.000","O/702100.JAH.000",null,null,null,null,null,null,"ADM & HO",null,null,null,null,134829,140896.30499999999,147236.638725]
["Electricity","MSU1/O/702100.JAH.000","O/702100.JAH.000",null,null,null,null,null,null,"ADM & HO",null,null,null,null,842319.45885000005,880223.83449825004,919833.90705067129]
["Electricity","MSU1/O/702100.JAH.000","O/702100.JAH.000",null,null,null,null,null,null,"ADM & HO",null,null,null,null,15414.330749999999,16107.975633749998,16832.834537268747]
["Electricity","MSU1/O/702100.JAH.000","O/702100.JAH.000",null,null,null,null,null,null,"ADM & HO",null,null,null,null,72972.830849999998,76256.608238249988,79688.155608971225]
["Electricity","MSU1/O/702100.JAH.000","O/702100.JAH.000",null,null,null,null,null,null,"ADM & HO",null,null,null,null,342894.86564999999,358325.13460424996,374449.7656614412]
["Electricity","MSU1/O/702100.JAH.000","O/702100.JAH.000",null,null,null,null,null,null,"ADM & HO",null,null,null,null,1291188.8002500001,1349292.29626125,1410010.4495930062]
["Electricity","MSU1/O/702100.JAH.000","O/702100.JAH.000",null,null,null,null,null,null,"ADM & HO",null,null,null,null,2424642.27165,2533751.1738742497,2647769.9766985909]
["Electricity","MSU1/O/702100.JAH.000","O/702100.JAH.000",null,null,null,null,null,null,"ADM & HO",null,null,null,null,4675.2008999999998,4885.5849404999999,5105.4362628224999]
["Electricity","MSU1/O/702100.JAH.000","O/702100.JAH.000",null,null,null,null,null,null,"ADM & HO",null,null,null,null,74758.186199999996,78122.304578999989,81637.808285054984]
["Electricity","MSU1/O/702100.JAH.000","O/702100.JAH.000",null,null,null,null,null,null,"ADM & HO",null,null,null,null,14549.178,15203.891009999999,15888.066105449998]
["Electricity","MSU1/O/702100.JAH.000","O/702100.JAH.000",null,null,null,null,null,null,"ADM & HO",null,null,null,null,4406057.7955499999,4604330.3963497495,4811525.2641854882]
["Electricity","MSU1/O/702100.JAH.000","O/702100.JAH.000",null,null,null,null,null,null,"ADM & HO",null,null,null,null,6958441.5454499992,7271571.4149952484,7598792.128670034]
["Electricity","MSU1/O/702100.JAH.000","O/702100.JAH.000",null,null,null,null,null,null,"ADM & HO",null,null,null,null,257459.35154999999,269045.02236974996,281152.04837638867]
["Electricity","MSU1/O/703093.JAH.000","O/703093.JAH.000",null,null,null,null,null,null,"ADM & HO",null,null,null,null,18817374.559500001,19664156.414677501,20549043.453337986]
["Electricity","MSU1/O/703093.JAH.000","O/703093.JAH.000",null,null,null,null,null,null,"ADM & HO",null,null,null,null,1568114.08335,1638679.21710075,1712419.7818702837]
["Electricity","MSU1/O/703093.JAH.000","O/703093.JAH.000",null,null,null,null,null,null,"ADM & HO",null,null,null,null,132132.41999999998,138078.37889999998,144291.90595049996]
["Electricity","MSU1/O/703093.JAH.000","O/703093.JAH.000",null,null,null,null,null,null,"ADM & HO",null,null,null,null,91029.799350000001,95126.140320749997,99406.816635183743]
["Electricity","MSU1/O/703093.JAH.000","O/703093.JAH.000",null,null,null,null,null,null,"ADM & HO",null,null,null,null,3384291.0445499998,3536584.1415547496,3695730.4279247131]
["Electricity","MSU1/O/703093.JAH.000","O/703093.JAH.000",null,null,null,null,null,null,"ADM & HO",null,null,null,null,306626.99354999996,320425.20825974992,334844.34263143863]
["Electricity","MSU1/O/703093.JAH.000","O/703093.JAH.000",null,null,null,null,null,null,"ADM & HO",null,null,null,null,366618.0282,383115.839469,400356.05224510498]
["Electricity","MSU1/O/703093.JAH.000","O/703093.JAH.000",null,null,null,null,null,null,"ADM & HO",null,null,null,null,183310.14300000001,191559.09943500001,200179.258909575]
["Electricity","MSU1/O/703093.JAH.000","O/703093.JAH.000",null,null,null,null,null,null,"ADM & HO",null,null,null,null,794587.74569999997,830344.19425649988,867709.68299804232]
["Electricity","MSU1/O/703093.JAH.000","O/703093.JAH.000",null,null,null,null,null,null,"ADM & HO",null,null,null,null,259735.71449999997,271423.82165249996,283637.89362686244]
["Electricity","MSU1/O/703093.JAH.000","O/703093.JAH.000",null,null,null,null,null,null,"ADM & HO",null,null,null,null,1653.9023999999999,1728.3280079999997,1806.1027683599996]
["Electricity","MSU1/O/703093.JAH.000","O/703093.JAH.000",null,null,null,null,null,null,"ADM & HO",null,null,null,null,5605.5209999999997,5857.769444999999,6121.3690700249981]
["Electricity","MSU1/O/703093.JAH.000","O/703093.JAH.000",null,null,null,null,null,null,"ADM & HO",null,null,null,null,780992.48820000002,816137.15016899991,852863.32192660484]
["Electricity","MSU1/O/703093.JAH.000","O/703093.JAH.000",null,null,null,null,null,null,"ADM & HO",null,null,null,null,3458057.1193500003,3613669.6897207499,3776284.8257581834]
["Electricity","MSU1/O/703093.JAH.000","O/703093.JAH.000",null,null,null,null,null,null,"ADM & HO",null,null,null,null,94358.957399999999,98605.110482999997,103042.34045473499]
["Electricity","MSU1/O/704066.JAH.000","O/704066.JAH.000",null,null,null,null,null,null,"ADM & HO",null,null,null,null,2038643.60775,2130382.5700987498,2226249.7857531933]
["Electricity","MSU1/O/704066.JAH.000","O/704066.JAH.000",null,null,null,null,null,null,"ADM & HO",null,null,null,null,4813609.6738499999,5030222.1091732495,5256582.1040860452]
["Electricity","MSU1/O/704077.JAH.000","O/704077.JAH.000",null,null,null,null,null,null,"ADM & HO",null,null,null,null,19906894.001249999,20802704.231306247,21738825.921715029]
["Electricity","MSU1/O/704077.JAH.000","O/704077.JAH.000",null,null,null,null,null,null,"ADM & HO",null,null,null,null,1658906.80305,1733557.6091872498,1811567.7016006759]
["Electricity","MSU1/O/704077.JAH.000","O/704077.JAH.000",null,null,null,null,null,null,"ADM & HO",null,null,null,null,62021.34,64812.300299999995,67728.853813499984]
["Electricity","MSU1/O/704077.JAH.000","O/704077.JAH.000",null,null,null,null,null,null,"ADM & HO",null,null,null,null,39012.77115,40768.345851749997,42602.921415078745]
["Electricity","MSU1/O/704077.JAH.000","O/704077.JAH.000",null,null,null,null,null,null,"ADM & HO",null,null,null,null,134829,140896.30499999999,147236.638725]
["Electricity","MSU1/O/704077.JAH.000","O/704077.JAH.000",null,null,null,null,null,null,"ADM & HO",null,null,null,null,121346.09999999999,126806.67449999998,132512.97485249996]
["Electricity","MSU1/O/704077.JAH.000","O/704077.JAH.000",null,null,null,null,null,null,"ADM & HO",null,null,null,null,12808616.901449999,13385004.662015248,13987329.871805932]
["Electricity","MSU1/O/704077.JAH.000","O/704077.JAH.000",null,null,null,null,null,null,"ADM & HO",null,null,null,null,82695.12,86416.400399999984,90305.138417999973]
["Electricity","MSU1/O/704077.JAH.000","O/704077.JAH.000",null,null,null,null,null,null,"ADM & HO",null,null,null,null,207177.12315,216500.09369174999,226242.59790787872]
["Electricity","MSU1/O/704077.JAH.000","O/704077.JAH.000",null,null,null,null,null,null,"ADM & HO",null,null,null,null,503809.91174999997,526481.35777874989,550173.01887879358]
["Electricity","MSU1/O/704077.JAH.000","O/704077.JAH.000",null,null,null,null,null,null,"ADM & HO",null,null,null,null,1534638.2897999999,1603697.0128409998,1675863.3784188447]
["Electricity","MSU1/O/704077.JAH.000","O/704077.JAH.000",null,null,null,null,null,null,"ADM & HO",null,null,null,null,5969.5592999999999,6238.1894684999997,6518.9079945824997]
["Electricity","MSU1/O/704077.JAH.000","O/704077.JAH.000",null,null,null,null,null,null,"ADM & HO",null,null,null,null,117477.6366,122764.13024699999,128288.51610811499]
["Electricity","MSU1/O/704077.JAH.000","O/704077.JAH.000",null,null,null,null,null,null,"ADM & HO",null,null,null,null,9609.9422999999988,10042.389703499997,10494.297240157497]
["Electricity","MSU1/O/704077.JAH.000","O/704077.JAH.000",null,null,null,null,null,null,"ADM & HO",null,null,null,null,859462.96619999991,898138.79967899981,938555.04566455469]
["Electricity","MSU1/O/704077.JAH.000","O/704077.JAH.000",null,null,null,null,null,null,"ADM & HO",null,null,null,null,3975469.0193999996,4154365.1252729995,4341311.5559102846]
["Electricity","MSU1/O/704077.JAH.000","O/704077.JAH.000",null,null,null,null,null,null,"ADM & HO",null,null,null,null,158274.64484999998,165397.00386824997,172839.8690423212]
["Electricity","MSU1/O/704078.JAH.000","O/704078.JAH.000",null,null,null,null,null,null,"ADM & HO",null,null,null,null,10893234.9027,11383430.473321499,11895684.844620965]
["Electricity","MSU1/O/704078.JAH.000","O/704078.JAH.000",null,null,null,null,null,null,"ADM & HO",null,null,null,null,907768.83149999997,948618.42891749996,991306.25821878738]
["Electricity","MSU1/O/704078.JAH.000","O/704078.JAH.000",null,null,null,null,null,null,"ADM & HO",null,null,null,null,33033.104999999996,34519.594724999995,36072.97648762499]
["Electricity","MSU1/O/704078.JAH.000","O/704078.JAH.000",null,null,null,null,null,null,"ADM & HO",null,null,null,null,373108.92629999999,389898.82798349997,407444.27524275746]
["Electricity","MSU1/O/704078.JAH.000","O/704078.JAH.000",null,null,null,null,null,null,"ADM & HO",null,null,null,null,4047922.3006499996,4230078.8041792493,4420432.3503673151]
["Electricity","MSU1/O/704078.JAH.000","O/704078.JAH.000",null,null,null,null,null,null,"ADM & HO",null,null,null,null,30828.650849999998,32215.940138249996,33665.657444471246]
["Electricity","MSU1/O/704078.JAH.000","O/704078.JAH.000",null,null,null,null,null,null,"ADM & HO",null,null,null,null,87097.286850000004,91016.664758250001,95112.414672371247]
["Electricity","MSU1/O/704078.JAH.000","O/704078.JAH.000",null,null,null,null,null,null,"ADM & HO",null,null,null,null,126265.11134999999,131947.04136074998,137884.65822198373]
["Electricity","MSU1/O/704078.JAH.000","O/704078.JAH.000",null,null,null,null,null,null,"ADM & HO",null,null,null,null,285615.01214999997,298467.68769674993,311898.73364310362]
["Electricity","MSU1/O/704078.JAH.000","O/704078.JAH.000",null,null,null,null,null,null,"ADM & HO",null,null,null,null,550015.81004999997,574766.52150224987,600631.01496985112]
["Electricity","MSU1/O/704078.JAH.000","O/704078.JAH.000",null,null,null,null,null,null,"ADM & HO",null,null,null,null,2205.5830499999997,2304.8342872499998,2408.5518301762495]
["Electricity","MSU1/O/704078.JAH.000","O/704078.JAH.000",null,null,null,null,null,null,"ADM & HO",null,null,null,null,26699.518049999999,27900.996362249996,29156.541198551244]
["Electricity","MSU1/O/704078.JAH.000","O/704078.JAH.000",null,null,null,null,null,null,"ADM & HO",null,null,null,null,4538.124749999999,4742.3403637499987,4955.7456801187482]
["Electricity","MSU1/O/704078.JAH.000","O/704078.JAH.000",null,null,null,null,null,null,"ADM & HO",null,null,null,null,536343.0205499999,560478.45647474984,585699.98701611359]
["Electricity","MSU1/O/704078.JAH.000","O/704078.JAH.000",null,null,null,null,null,null,"ADM & HO",null,null,null,null,2186966.8287,2285380.3359914999,2388222.4511111174]
["Electricity","MSU1/O/704078.JAH.000","O/704078.JAH.000",null,null,null,null,null,null,"ADM & HO",null,null,null,null,74391.900750000001,77739.53628375,81237.815416518744]
["Electricity","MSU1/O/704079.JAH.000","O/704079.JAH.000",null,null,null,null,null,null,"ADM & HO",null,null,null,null,12027958.013849998,12569216.124473248,13134830.850074543]
["Electricity","MSU1/O/704079.JAH.000","O/704079.JAH.000",null,null,null,null,null,null,"ADM & HO",null,null,null,null,1002328.9035,1047433.7041574999,1094568.2208445873]
["Electricity","MSU1/O/704079.JAH.000","O/704079.JAH.000",null,null,null,null,null,null,"ADM & HO",null,null,null,null,35055.54,36633.039299999997,38281.526068499996]
["Electricity","MSU1/O/704079.JAH.000","O/704079.JAH.000",null,null,null,null,null,null,"ADM & HO",null,null,null,null,39012.77115,40768.345851749997,42602.921415078745]
["Electricity","MSU1/O/704079.JAH.000","O/704079.JAH.000",null,null,null,null,null,null,"ADM & HO",null,null,null,null,120566.33894999999,125991.82420274998,131661.45629187371]
["Electricity","MSU1/O/704079.JAH.000","O/704079.JAH.000",null,null,null,null,null,null,"ADM & HO",null,null,null,null,6271682.4937499994,6553908.2059687488,6848834.0752373422]
["Electricity","MSU1/O/704079.JAH.000","O/704079.JAH.000",null,null,null,null,null,null,"ADM & HO",null,null,null,null,55723.707450000002,58231.274285250001,60851.681628086248]
["Electricity","MSU1/O/704079.JAH.000","O/704079.JAH.000",null,null,null,null,null,null,"ADM & HO",null,null,null,null,316322.31689999998,330556.82116049994,345431.87811272242]
["Electricity","MSU1/O/704079.JAH.000","O/704079.JAH.000",null,null,null,null,null,null,"ADM & HO",null,null,null,null,234458.64239999998,245009.28130799998,256034.69896685996]
["Electricity","MSU1/O/704079.JAH.000","O/704079.JAH.000",null,null,null,null,null,null,"ADM & HO",null,null,null,null,422519.26049999997,441532.62722249993,461401.5954475124]
["Electricity","MSU1/O/704079.JAH.000","O/704079.JAH.000",null,null,null,null,null,null,"ADM & HO",null,null,null,null,1289410.1757,1347433.6336065,1408068.1471187924]
["Electricity","MSU1/O/704079.JAH.000","O/704079.JAH.000",null,null,null,null,null,null,"ADM & HO",null,null,null,null,3572.9684999999999,3733.7520824999997,3901.7709262124995]
["Electricity","MSU1/O/704079.JAH.000","O/704079.JAH.000",null,null,null,null,null,null,"ADM & HO",null,null,null,null,117477.6366,122764.13024699999,128288.51610811499]
["Electricity","MSU1/O/704079.JAH.000","O/704079.JAH.000",null,null,null,null,null,null,"ADM & HO",null,null,null,null,5471.8102500000005,5718.0417112499999,5975.3535882562492]
["Electricity","MSU1/O/704079.JAH.000","O/704079.JAH.000",null,null,null,null,null,null,"ADM & HO",null,null,null,null,1035895.7013,1082511.0078584999,1131224.0032121323]
["Electricity","MSU1/O/704079.JAH.000","O/704079.JAH.000",null,null,null,null,null,null,"ADM & HO",null,null,null,null,2115413.0784,2210606.6669279998,2310083.9669397594]
["Electricity","MSU1/O/704079.JAH.000","O/704079.JAH.000",null,null,null,null,null,null,"ADM & HO",null,null,null,null,139221.06,145486.00769999999,152032.87804649997]
["Electricity","MSU1/O/704081.BAH.000","O/704081.BAH.000",null,null,null,null,null,null,"ADM & HO",null,null,null,null,12850331.769300001,13428596.698918499,14032883.550369831]
["Electricity","MSU1/O/704081.BAH.000","O/704081.BAH.000",null,null,null,null,null,null,"ADM & HO",null,null,null,null,1070860.2370499999,1119048.9477172499,1169406.1503645261]
["Electricity","MSU1/O/704081.BAH.000","O/704081.BAH.000",null,null,null,null,null,null,"ADM & HO",null,null,null,null,145615.32,152168.00940000001,159015.569823]
["Electricity","MSU1/O/704081.BAH.000","O/704081.BAH.000",null,null,null,null,null,null,"ADM & HO",null,null,null,null,52017.028199999993,54357.794468999986,56803.895220104983]
["Electricity","MSU1/O/704081.BAH.000","O/704081.BAH.000",null,null,null,null,null,null,"ADM & HO",null,null,null,null,134829,140896.30499999999,147236.638725]
["Electricity","MSU1/O/704081.BAH.000","O/704081.BAH.000",null,null,null,null,null,null,"ADM & HO",null,null,null,null,105105.94695,109835.71456274998,114778.32171807373]
["Electricity","MSU1/O/704081.BAH.000","O/704081.BAH.000",null,null,null,null,null,null,"ADM & HO",null,null,null,null,778739.72564999992,813783.01330424985,850403.24890294101]
["Electricity","MSU1/O/704081.BAH.000","O/704081.BAH.000",null,null,null,null,null,null,"ADM & HO",null,null,null,null,187888.7058,196343.69756099998,205179.16395124496]
["Electricity","MSU1/O/704081.BAH.000","O/704081.BAH.000",null,null,null,null,null,null,"ADM & HO",null,null,null,null,520319.72279999999,543734.11032599991,568202.14529066987]
["Electricity","MSU1/O/704081.BAH.000","O/704081.BAH.000",null,null,null,null,null,null,"ADM & HO",null,null,null,null,203746.84334999998,212915.45130074996,222496.64660928369]
["Electricity","MSU1/O/704081.BAH.000","O/704081.BAH.000",null,null,null,null,null,null,"ADM & HO",null,null,null,null,553649.45160000003,578563.67692200001,604599.04238349001]
["Electricity","MSU1/O/704081.BAH.000","O/704081.BAH.000",null,null,null,null,null,null,"ADM & HO",null,null,null,null,6029.1034499999996,6300.4131052499988,6583.9316949862487]
["Electricity","MSU1/O/704081.BAH.000","O/704081.BAH.000",null,null,null,null,null,null,"ADM & HO",null,null,null,null,48058.678799999994,50221.319345999989,52481.278716569985]
["Electricity","MSU1/O/704081.BAH.000","O/704081.BAH.000",null,null,null,null,null,null,"ADM & HO",null,null,null,null,5471.8102500000005,5718.0417112499999,5975.3535882562492]
["Electricity","MSU1/O/704081.BAH.000","O/704081.BAH.000",null,null,null,null,null,null,"ADM & HO",null,null,null,null,941955.84269999992,984343.85562149982,1028639.3291244672]
["Electricity","MSU1/O/704081.BAH.000","O/704081.BAH.000",null,null,null,null,null,null,"ADM & HO",null,null,null,null,2207322.6422999999,2306652.1612034999,2410451.5084576574]
["Electricity","MSU1/O/704081.BAH.000","O/704081.BAH.000",null,null,null,null,null,null,"ADM & HO",null,null,null,null,119357.37224999999,124728.45400124998,130341.23443130622]
["Electricity","MSU1/O/704086.JAH.000","O/704086.JAH.000",null,null,null,null,null,null,"ADM & HO",null,null,null,null,7852752.1956000002,8206126.0444019996,8575401.7164000887]
["Electricity","MSU1/O/704086.JAH.000","O/704086.JAH.000",null,null,null,null,null,null,"ADM & HO",null,null,null,null,654395.92755000002,683843.74428975,714616.71278278867]
["Electricity","MSU1/O/704086.JAH.000","O/704086.JAH.000",null,null,null,null,null,null,"ADM & HO",null,null,null,null,14157.045,14794.112024999999,15459.847066124998]
["Electricity","MSU1/O/704086.JAH.000","O/704086.JAH.000",null,null,null,null,null,null,"ADM & HO",null,null,null,null,26008.514099999997,27178.897234499993,28401.947610052492]
["Electricity","MSU1/O/704086.JAH.000","O/704086.JAH.000",null,null,null,null,null,null,"ADM & HO",null,null,null,null,1711040.6830499999,1788037.5137872498,1868499.2019076759]
["Electricity","MSU1/O/704086.JAH.000","O/704086.JAH.000",null,null,null,null,null,null,"ADM & HO",null,null,null,null,1056555.9983999999,1104101.0183279999,1153785.5641527597]
["Electricity","MSU1/O/704086.JAH.000","O/704086.JAH.000",null,null,null,null,null,null,"ADM & HO",null,null,null,null,70703.209350000005,73884.853770749993,77209.672190433732]
["Electricity","MSU1/O/704086.JAH.000","O/704086.JAH.000",null,null,null,null,null,null,"ADM & HO",null,null,null,null,159508.33019999997,166686.20505899994,174187.08428665492]
["Electricity","MSU1/O/704086.JAH.000","O/704086.JAH.000",null,null,null,null,null,null,"ADM & HO",null,null,null,null,707321.92260000005,739151.40911699994,772413.22252726485]
["Electricity","MSU1/O/704086.JAH.000","O/704086.JAH.000",null,null,null,null,null,null,"ADM & HO",null,null,null,null,550.55174999999997,575.32657874999995,601.2162747937499]
["Electricity","MSU1/O/704086.JAH.000","O/704086.JAH.000",null,null,null,null,null,null,"ADM & HO",null,null,null,null,5339.2283999999991,5579.4936779999989,5830.5708935099983]
["Electricity","MSU1/O/704086.JAH.000","O/704086.JAH.000",null,null,null,null,null,null,"ADM & HO",null,null,null,null,2802.19605,2928.29487225,3060.06814150125]
["Electricity","MSU1/O/704086.JAH.000","O/704086.JAH.000",null,null,null,null,null,null,"ADM & HO",null,null,null,null,196654.83794999999,205504.30565774997,214751.9994123487]
["Electricity","MSU1/O/704086.JAH.000","O/704086.JAH.000",null,null,null,null,null,null,"ADM & HO",null,null,null,null,1467781.0829999999,1533831.2317349997,1602853.6371630745]
["Electricity","MSU1/O/704086.JAH.000","O/704086.JAH.000",null,null,null,null,null,null,"ADM & HO",null,null,null,null,45275.578199999996,47312.979218999993,49442.063283854986]
["City Finance","LEVS:NR:DEFAULT TRANSACTIONS","R/204020.BNR.99R",null,null,null,null,null,null,"ADM & HO"]
["City Finance","LEVS:AH:MRC:MUNICIPAL RUNNING COST","O/204022.BAH.000",null,null,null,null,null,null,"ADM & HO",null,null,null,null,313500000,327607500,342349837.5]
["CITY MANAGER","NONF:AH:MRC:MUNICIPAL RUNNING COST","O/101011.AAH.000",null,null,null,null,null,null,"ADM & HO",null,null,null,null,1503.36835,1571.0199257499999,1641.7158224087498]
["CITY MANAGER","NONF:AH:MRC:MUNICIPAL RUNNING COST","O/101011.AAH.000",null,null,null,null,null,null,"ADM & HO",null,null,null,null,7034.0935499999987,7350.6277597499984,7681.4060089387476]
["CITY MANAGER","NONF:AH:MRC:MUNICIPAL RUNNING COST","O/101011.AAH.000",null,null,null,null,null,null,"ADM & HO",null,null,null,null,34849.9349,36418.181970499994,38057.000159172494]
["CITY MANAGER","NONF:AH:MRC:MUNICIPAL RUNNING COST","O/101011.AAH.000",null,null,null,null,null,null,"ADM & HO",null,null,null,null,35195.192449999995,36778.976110249991,38434.030035211239]
["CITY MANAGER","NONF:AH:MRC:MUNICIPAL RUNNING COST","O/101011.AAH.000",null,null,null,null,null,null,"ADM & HO",null,null,null,null,826653.22739999986,863852.62263299979,902725.9906514847]
["CITY MANAGER","NONF:AH:MRC:MUNICIPAL RUNNING COST","O/101011.AAH.000",null,null,null,null,null,null,"ADM & HO",null,null,null,null,23930.09245,25006.946610249997,26132.259207711246]
["CITY MANAGER","NONF:AH:MRC:MUNICIPAL RUNNING COST","O/101011.AAH.000",null,null,null,null,null,null,"ADM & HO",null,null,null,null,26461.709449999998,27652.486375249995,28896.848262136242]
["CITY MANAGER","NONF:AH:MRC:MUNICIPAL RUNNING COST","O/103036.AAH.000",null,null,null,null,null,null,"ADM & HO",null,null,null,null,29345.219749999997,30665.754638749993,32045.713597493741]
["CITY MANAGER","NONF:AH:MRC:MUNICIPAL RUNNING COST","O/103036.AAH.000",null,null,null,null,null,null,"ADM & HO",null,null,null,null,31168.577549999998,32571.163539749996,34036.865899038741]
["CITY MANAGER","NONF:AH:MRC:MUNICIPAL RUNNING COST","O/103036.AAH.000",null,null,null,null,null,null,"ADM & HO",null,null,null,null,33839.357199999999,35362.128273999995,36953.424046329994]
["CITY MANAGER","NONF:AH:MRC:MUNICIPAL RUNNING COST","O/104010.AAH.000",null,null,null,null,null,null,"ADM & HO",null,null,null,null,67.026299999999992,70.042483499999989,73.194395257499977]
["CITY MANAGER","NONF:AH:MRC:MUNICIPAL RUNNING COST","O/104010.AAH.000",null,null,null,null,null,null,"ADM & HO",null,null,null,null,24557.050649999997,25662.117929249995,26816.913236066244]
["CITY MANAGER","NONF:AH:MRC:MUNICIPAL RUNNING COST","O/104010.AAH.000",null,null,null,null,null,null,"ADM & HO",null,null,null,null,308845.15199999994,322743.1838399999,337266.62711279985]
["CITY MANAGER","NONF:AH:MRC:MUNICIPAL RUNNING COST","O/104010.AAH.000",null,null,null,null,null,null,"ADM & HO",null,null,null,null,36194.985749999993,37823.760108749986,39525.829313643735]
["CITY MANAGER","NONF:AH:MRC:MUNICIPAL RUNNING COST","O/104010.AAH.000",null,null,null,null,null,null,"ADM & HO",null,null,null,null,458609.90175000002,479247.34732875001,500813.47795854375]
["CITY MANAGER","NONF:AH:MRC:MUNICIPAL RUNNING COST","O/104010.AAH.000",null,null,null,null,null,null,"ADM & HO",null,null,null,null,141532.08299999998,147901.02673499996,154556.57293807494]
["CITY MANAGER","NONF:AH:MRC:MUNICIPAL RUNNING COST","O/104010.AAH.000",null,null,null,null,null,null,"ADM & HO",null,null,null,null,0,0,0]
["CITY MANAGER","NONF:AH:MRC:MUNICIPAL RUNNING COST","O/104013.AAH.000",null,null,null,null,null,null,"ADM & HO",null,null,null,null,10449.8328,10920.075276,11411.478663419999]
["CITY MANAGER","NONF:AH:MRC:MUNICIPAL RUNNING COST","O/104013.AAH.000",null,null,null,null,null,null,"ADM & HO",null,null,null,null,13123.109999999999,13713.649949999997,14330.764197749997]
["CITY MANAGER","NONF:AH:MRC:MUNICIPAL RUNNING COST","O/104013.AAH.000",null,null,null,null,null,null,"ADM & HO",null,null,null,null,4069.7002499999994,4252.8367612499987,4444.2144155062488]
["CITY MANAGER","NONF:AH:MRC:MUNICIPAL RUNNING COST","O/104013.AAH.000",null,null,null,null,null,null,"ADM & HO",null,null,null,null,0,0,0]
["CITY MANAGER","LEVS:AH:MRC:MUNICIPAL RUNNING COST","O/104014.BAH.000",null,null,null,null,null,null,"ADM & HO",null,null,null,null,9981.5369499999979,10430.706112749996,10900.087887823745]
["CITY MANAGER","LEVS:AH:MRC:MUNICIPAL RUNNING COST","O/104014.BAH.000",null,null,null,null,null,null,"ADM & HO",null,null,null,null,13593.339099999999,14205.039359499999,14844.266130677497]
["CITY MANAGER","LEVS:AH:MRC:MUNICIPAL RUNNING COST","O/104014.BAH.000",null,null,null,null,null,null,"ADM & HO",null,null,null,null,4689.5524499999992,4900.582310249999,5121.1085142112488]
["CITY MANAGER","MSU1/O/104018.AAH.000","O/104018.AAH.000",null,null,null,null,null,null,"ADM & HO",null,null,null,null,0,0,0]
["CITY MANAGER","MSU1/O/104018.AAH.000","O/104018.AAH.000",null,null,null,null,null,null,"ADM & HO",null,null,null,null,0,0,0]
["CITY MANAGER","NONF:AH:DEFAULT TRANSACTION","O/104019.AAH.000",null,null,null,null,null,null,"ADM & HO",null,null,null,null,0,0,0]
["CITY MANAGER","LEVS:AH:MRC:MUNICIPAL RUNNING COST","O/104019.BAH.000",null,null,null,null,null,null,"ADM & HO",null,null,null,null,19109.6224,19969.555408,20868.185401359999]
["CITY MANAGER","NONF:AH:MRC:MUNICIPAL RUNNING COST","O/104503.AAH.000",null,null,null,null,null,null,"ADM & HO",null,null,null,null,5653.4290999999994,5907.8334094999991,6173.685912927499]
["CITY MANAGER","NONF:AH:MRC:MUNICIPAL RUNNING COST","O/104503.AAH.000",null,null,null,null,null,null,"ADM & HO",null,null,null,null,501.44324999999998,524.00819624999997,547.58856508124995]
["CITY MANAGER","NONF:AH:MRC:MUNICIPAL RUNNING COST","O/104503.AAH.000",null,null,null,null,null,null,"ADM & HO",null,null,null,null,6647.0986999999996,6946.2181414999986,7258.7979578674976]
["CITY MANAGER","NONF:AH:MRC:MUNICIPAL RUNNING COST","O/104509.AAH.000",null,null,null,null,null,null,"ADM & HO",null,null,null,null,124.34454999999998,129.94005474999997,135.78735721374997]
["CITY MANAGER","NONF:AH:MRC:MUNICIPAL RUNNING COST","O/104509.AAH.000",null,null,null,null,null,null,"ADM & HO",null,null,null,null,2202.6196499999996,2301.7375342499995,2405.3157232912495]
["CITY MANAGER","NONF:AH:MRC:MUNICIPAL RUNNING COST","O/104510.AAH.000",null,null,null,null,null,null,"ADM & HO",null,null,null,null,6656.8589999999995,6956.4176549999993,7269.4564494749984]
["CITY MANAGER","NONF:AH:MRC:MUNICIPAL RUNNING COST","O/104510.AAH.000",null,null,null,null,null,null,"ADM & HO",null,null,null,null,5962.0280499999999,6230.3193122499997,6510.6836813012496]
["CITY MANAGER","NONF:AH:MRC:MUNICIPAL RUNNING COST","O/104510.AAH.000",null,null,null,null,null,null,"ADM & HO",null,null,null,null,2087.6174000000001,2181.5601830000001,2279.7303912349998]
["CITY MANAGER","NONF:AH:MRC:MUNICIPAL RUNNING COST","O/104528.AAH.000",null,null,null,null,null,null,"ADM & HO",null,null,null,null,8383.0735999999997,8760.3119119999992,9154.5259480399982]
["CITY MANAGER","NONF:AH:MRC:MUNICIPAL RUNNING COST","O/104528.AAH.000",null,null,null,null,null,null,"ADM & HO",null,null,null,null,762.58875,796.90524374999995,832.76597971874992]
["CITY MANAGER","NONF:AH:MRC:MUNICIPAL RUNNING COST","O/104528.AAH.000",null,null,null,null,null,null,"ADM & HO",null,null,null,null,3446.2428,3601.3237259999996,3763.3832936699991]
["City Finance","NONF:AH:MRC:MUNICIPAL RUNNING COST","O/202035.AAH.000",null,null,null,null,null,null,"ADM & HO",null,null,null,null,15756024.430299999,16465045.529663498,17205972.578498352]
["City Finance","NONF:AH:MRC:MUNICIPAL RUNNING COST","O/202035.AAH.000",null,null,null,null,null,null,"ADM & HO",null,null,null,null,248477.7592,259659.25836399998,271343.92499037995]
["City Finance","NONF:AH:MRC:MUNICIPAL RUNNING COST","O/202035.AAH.000",null,null,null,null,null,null,"ADM & HO",null,null,null,null,324319.74189999996,338914.13028549997,354165.26614834747]
["City Finance","NONF:AH:MRC:MUNICIPAL RUNNING COST","O/202035.AAH.000",null,null,null,null,null,null,"ADM & HO",null,null,null,null,0,0,0]
["City Finance","NONF:AH:MRC:MUNICIPAL RUNNING COST","O/202035.AAH.000",null,null,null,null,null,null,"ADM & HO",null,null,null,null,0,0,0]
["City Finance","NONF:AH:MRC:MUNICIPAL RUNNING COST","O/202035.AAH.000",null,null,null,null,null,null,"ADM & HO",null,null,null,null,3457.2779999999998,3612.8555099999994,3775.4340079499993]
["City Finance","NONF:AH:MRC:MUNICIPAL RUNNING COST","O/202035.AAH.000",null,null,null,null,null,null,"ADM & HO",null,null,null,null,36783.090849999993,38438.32993824999,40168.054785471235]
["City Finance","NONF:AH:MRC:MUNICIPAL RUNNING COST","O/202035.AAH.000",null,null,null,null,null,null,"ADM & HO",null,null,null,null,181926.5998,190113.29679099997,198668.39514659496]
["City Finance","NONF:AH:MRC:MUNICIPAL RUNNING COST","O/203012.AAH.000",null,null,null,null,null,null,"ADM & HO",null,null,null,null,61831.406449999995,64613.819740249994,67521.441628561239]
["City Finance","NONF:AH:MRC:MUNICIPAL RUNNING COST","O/203012.AAH.000",null,null,null,null,null,null,"ADM & HO",null,null,null,null,17697.252649999999,18493.629019249998,19325.842325116246]
["City Finance","NONF:AH:MRC:MUNICIPAL RUNNING COST","O/203012.AAH.000",null,null,null,null,null,null,"ADM & HO",null,null,null,null,19455.621899999998,20331.124885499998,21246.025505347498]
["City Finance","NONF:AH:MRC:MUNICIPAL RUNNING COST","O/203012.AAH.000",null,null,null,null,null,null,"ADM & HO",null,null,null,null,2519.65175,2633.0360787499999,2751.5227022937497]
["City Finance","NONF:AH:MRC:MUNICIPAL RUNNING COST","O/203045.AAH.000",null,null,null,null,null,null,"ADM & HO",null,null,null,null,0.9405,0.98282249999999993,1.0270495124999999]
["City Finance","NONF:AH:MRC:MUNICIPAL RUNNING COST","O/203045.AAH.000",null,null,null,null,null,null,"ADM & HO",null,null,null,null,1643.0116999999998,1716.9472264999997,1794.2098516924996]
["City Finance","NONF:AH:MRC:MUNICIPAL RUNNING COST","O/203045.AAH.000",null,null,null,null,null,null,"ADM & HO",null,null,null,null,215.75069999999999,225.45948149999998,235.60515816749995]
["City Finance","NONF:AH:MRC:MUNICIPAL RUNNING COST","O/203045.AAH.000",null,null,null,null,null,null,"ADM & HO",null,null,null,null,214.47579999999999,224.12721099999999,234.21293549499998]
["City Finance","NONF:AH:MRC:MUNICIPAL RUNNING COST","O/203047.AAH.000",null,null,null,null,null,null,"ADM & HO",null,null,null,null,20575.443899999998,21501.338875499998,22468.899124897496]
["City Finance","NONF:AH:MRC:MUNICIPAL RUNNING COST","O/203047.AAH.000",null,null,null,null,null,null,"ADM & HO",null,null,null,null,8052.9685499999987,8415.3521347499973,8794.0429808137469]
["City Finance","NONF:AH:MRC:MUNICIPAL RUNNING COST","O/203047.AAH.000",null,null,null,null,null,null,"ADM & HO",null,null,null,null,1134.7027999999998,1185.7644259999997,1239.1238251699997]
["City Finance","NONF:AH:MRC:MUNICIPAL RUNNING COST","O/203060.AAH.000",null,null,null,null,null,null,"ADM & HO",null,null,null,null,1.5361499999999999,1.6052767499999998,1.6775142037499997]
["City Finance","NONF:AH:MRC:MUNICIPAL RUNNING COST","O/203060.AAH.000",null,null,null,null,null,null,"ADM & HO",null,null,null,null,65.375199999999992,68.317083999999994,71.391352779999991]
["City Finance","NONF:AH:MRC:MUNICIPAL RUNNING COST","O/203554.AAH.000",null,null,null,null,null,null,"ADM & HO",null,null,null,null,28874.792099999999,30174.157744499997,31531.994843002496]
["City Finance","NONF:AH:MRC:MUNICIPAL RUNNING COST","O/203554.AAH.000",null,null,null,null,null,null,"ADM & HO",null,null,null,null,1880.3102999999999,1964.9242634999998,2053.3458553574997]
["City Finance","NONF:AH:MRC:MUNICIPAL RUNNING COST","O/203554.AAH.000",null,null,null,null,null,null,"ADM & HO",null,null,null,null,6927.1900500000002,7238.9136022499997,7564.6647143512491]
["City Finance","NONF:AH:MRC:MUNICIPAL RUNNING COST","O/204020.AAH.000",null,null,null,null,null,null,"ADM & HO",null,null,null,null,91664.29634999999,95789.189685749981,100099.70322160872]
["City Finance","NONF:AH:MRC:MUNICIPAL RUNNING COST","O/204020.AAH.000",null,null,null,null,null,null,"ADM & HO",null,null,null,null,153196.34164999999,160090.17702424998,167294.23499034121]
["City Finance","NONF:AH:MRC:MUNICIPAL RUNNING COST","O/204020.AAH.000",null,null,null,null,null,null,"ADM & HO",null,null,null,null,47042.514199999998,49159.427338999994,51371.601569254992]
["City Finance","NONF:AH:MRC:MUNICIPAL RUNNING COST","O/204020.AAH.000",null,null,null,null,null,null,"ADM & HO",null,null,null,null,164284.50224999999,171677.30485124997,179402.7835695562]
["City Finance","NONF:AH:MRC:MUNICIPAL RUNNING COST","O/204020.AAH.000",null,null,null,null,null,null,"ADM & HO",null,null,null,null,0,0,0]
["City Finance","NONF:AH:MRC:MUNICIPAL RUNNING COST","O/204021.AAH.000",null,null,null,null,null,null,"ADM & HO",null,null,null,null,26409.313149999998,27597.732241749996,28839.630192628745]
["City Finance","NONF:AH:MRC:MUNICIPAL RUNNING COST","O/204021.AAH.000",null,null,null,null,null,null,"ADM & HO",null,null,null,null,11029.452499999999,11525.777862499999,12044.437866312499]
["City Finance","NONF:AH:MRC:MUNICIPAL RUNNING COST","O/204021.AAH.000",null,null,null,null,null,null,"ADM & HO",null,null,null,null,16756.9303,17510.992163499999,18298.986810857499]
["City Finance","NONF:AH:MRC:MUNICIPAL RUNNING COST","O/204022.AAH.000",null,null,null,null,null,null,"ADM & HO",null,null,null,null,28223.119649999997,29493.160034249995,30820.352235791244]
["City Finance","NONF:AH:MRC:MUNICIPAL RUNNING COST","O/204022.AAH.000",null,null,null,null,null,null,"ADM & HO",null,null,null,null,15789.082649999998,16499.591369249996,17242.072980866244]
["City Finance","NONF:AH:MRC:MUNICIPAL RUNNING COST","O/204022.AAH.000",null,null,null,null,null,null,"ADM & HO",null,null,null,null,20505.14675,21427.878353749998,22392.132879668749]
["City Finance","NONF:AH:MRC:MUNICIPAL RUNNING COST","O/204023.AAH.000",null,null,null,null,null,null,"ADM & HO",null,null,null,null,921.99304999999993,963.4827372499999,1006.8394604262498]
["City Finance","NONF:AH:MRC:MUNICIPAL RUNNING COST","O/204023.AAH.000",null,null,null,null,null,null,"ADM & HO",null,null,null,null,761.27204999999992,795.52929224999991,831.32811040124989]
["City Finance","NONF:AH:MRC:MUNICIPAL RUNNING COST","O/204023.AAH.000",null,null,null,null,null,null,"ADM & HO",null,null,null,null,5178.4347999999991,5411.4643659999983,5654.9802624699978]
["City Finance","NONF:AH:MRC:MUNICIPAL RUNNING COST","O/204024.AAH.000",null,null,null,null,null,null,"ADM & HO",null,null,null,null,26031.796449999998,27203.227290249997,28427.372518311244]
["City Finance","NONF:AH:MRC:MUNICIPAL RUNNING COST","O/204024.AAH.000",null,null,null,null,null,null,"ADM & HO",null,null,null,null,6063.9155499999997,6336.7917497499993,6621.9473784887487]
["City Finance","NONF:AH:MRC:MUNICIPAL RUNNING COST","O/204024.AAH.000",null,null,null,null,null,null,"ADM & HO",null,null,null,null,18942.286549999997,19794.689444749994,20685.450469763742]
["City Finance","NONF:AH:MRC:MUNICIPAL RUNNING COST","O/204026.AAH.000",null,null,null,null,null,null,"ADM & HO",null,null,null,null,0,0,0]
["City Finance","NONF:AH:MRC:MUNICIPAL RUNNING COST","O/204026.AAH.000",null,null,null,null,null,null,"ADM & HO",null,null,null,null,0,0,0]
["City Finance","NONF:AH:MRC:MUNICIPAL RUNNING COST","O/204026.AAH.000",null,null,null,null,null,null,"ADM & HO",null,null,null,null,6483.7860999999994,6775.5564744999992,7080.4565158524983]
["City Finance","NONF:AH:MRC:MUNICIPAL RUNNING COST","O/204037.AAH.000",null,null,null,null,null,null,"ADM & HO",null,null,null,null,33622.760049999997,35135.784252249992,36716.894543601236]
["City Finance","NONF:AH:MRC:MUNICIPAL RUNNING COST","O/204037.AAH.000",null,null,null,null,null,null,"ADM & HO",null,null,null,null,1635324.1157,1708913.7009064998,1785814.8174472922]
["City Finance","NONF:AH:MRC:MUNICIPAL RUNNING COST","O/204037.AAH.000",null,null,null,null,null,null,"ADM & HO",null,null,null,null,31222.562249999995,32627.577551249993,34095.818541056244]
["City Finance","NONF:AH:MRC:MUNICIPAL RUNNING COST","O/204037.AAH.000",null,null,null,null,null,null,"ADM & HO",null,null,null,null,25225.944699999996,26361.112211499996,27547.362261017493]
["City Finance","NONF:AH:MRC:MUNICIPAL RUNNING COST","O/204037.AAH.000",null,null,null,null,null,null,"ADM & HO",null,null,null,null,250970.95154999997,262264.64436974993,274066.55336638866]
["City Finance","NONF:AH:MRC:MUNICIPAL RUNNING COST","O/204037.AAH.000",null,null,null,null,null,null,"ADM & HO",null,null,null,null,91068.54184999998,95166.626233249975,99449.12441374622]
["City Finance","NONF:AH:MRC:MUNICIPAL RUNNING COST","O/204037.AAH.000",null,null,null,null,null,null,"ADM & HO",null,null,null,null,120481.13274999999,125902.78372374998,131568.40899131872]
["City Finance","NONF:AH:MRC:MUNICIPAL RUNNING COST","O/204039.AAH.000",null,null,null,null,null,null,"ADM & HO",null,null,null,null,14811.077600000001,15477.576091999999,16174.067016139998]
["City Finance","NONF:AH:MRC:MUNICIPAL RUNNING COST","O/204039.AAH.000",null,null,null,null,null,null,"ADM & HO",null,null,null,null,3963.7581500000001,4142.1272667499998,4328.5229937537497]
["City Finance","NONF:AH:MRC:MUNICIPAL RUNNING COST","O/204039.AAH.000",null,null,null,null,null,null,"ADM & HO",null,null,null,null,1141.6415999999999,1193.0154719999998,1246.7011682399998]
["City Finance","NONF:AH:MRC:MUNICIPAL RUNNING COST","O/204040.AAH.000",null,null,null,null,null,null,"ADM & HO",null,null,null,null,36071.748899999999,37694.977600499995,39391.251592522494]
["City Finance","NONF:AH:MRC:MUNICIPAL RUNNING COST","O/204040.AAH.000",null,null,null,null,null,null,"ADM & HO",null,null,null,null,29790.954049999997,31131.546982249994,32532.466596451242]
["City Finance","NONF:AH:MRC:MUNICIPAL RUNNING COST","O/204040.AAH.000",null,null,null,null,null,null,"ADM & HO",null,null,null,null,65.009450000000001,67.93487524999999,70.991944636249983]
["City Finance","NONF:AH:MRC:MUNICIPAL RUNNING COST","O/204041.AAH.000",null,null,null,null,null,null,"ADM & HO",null,null,null,null,179.5728,187.65357599999999,196.09798691999998]
["City Finance","NONF:AH:MRC:MUNICIPAL RUNNING COST","O/204041.AAH.000",null,null,null,null,null,null,"ADM & HO",null,null,null,null,38337.162599999996,40062.334916999993,41865.139988264993]
["City Finance","NONF:AH:MRC:MUNICIPAL RUNNING COST","O/204041.AAH.000",null,null,null,null,null,null,"ADM & HO",null,null,null,null,6982.7109,7296.9328904999993,7625.2948705724984]
["City Finance","NONF:AH:MRC:MUNICIPAL RUNNING COST","O/204041.AAH.000",null,null,null,null,null,null,"ADM & HO",null,null,null,null,12187.15575,12735.57775875,13308.678757893749]
["City Finance","NONF:AH:MRC:MUNICIPAL RUNNING COST","O/204043.AAH.000",null,null,null,null,null,null,"ADM & HO",null,null,null,null,37863.8194,39567.691272999997,41348.237380284991]
["City Finance","NONF:AH:MRC:MUNICIPAL RUNNING COST","O/204043.AAH.000",null,null,null,null,null,null,"ADM & HO",null,null,null,null,16299.523349999998,17033.001900749998,17799.486986283748]
["City Finance","NONF:AH:MRC:MUNICIPAL RUNNING COST","O/204043.AAH.000",null,null,null,null,null,null,"ADM & HO",null,null,null,null,14071.646049999999,14704.870122249999,15366.589277751247]
["City Finance","NONF:AH:MRC:MUNICIPAL RUNNING COST","O/204046.AAH.000",null,null,null,null,null,null,"ADM & HO",null,null,null,null,7.7747999999999999,8.1246659999999995,8.490275969999999]
["City Finance","NONF:AH:MRC:MUNICIPAL RUNNING COST","O/204046.AAH.000",null,null,null,null,null,null,"ADM & HO",null,null,null,null,33824.737649999995,35346.850844249995,36937.459132241245]
["City Finance","NONF:AH:MRC:MUNICIPAL RUNNING COST","O/204046.AAH.000",null,null,null,null,null,null,"ADM & HO",null,null,null,null,5640.2307499999997,5894.0411337499991,6159.2729847687488]
["City Finance","NONF:AH:MRC:MUNICIPAL RUNNING COST","O/204046.AAH.000",null,null,null,null,null,null,"ADM & HO",null,null,null,null,6861.1773999999996,7169.930382999999,7492.5772502349982]
["City Finance","NONF:AH:MRC:MUNICIPAL RUNNING COST","O/204046.AAH.000",null,null,null,null,null,null,"ADM & HO",null,null,null,null,295.18115,308.46430175,322.34519532874998]
["City Finance","NONF:AH:MRC:MUNICIPAL RUNNING COST","O/204051.AAH.000",null,null,null,null,null,null,"ADM & HO",null,null,null,null,0,0,0]
["City Finance","NONF:AH:MRC:MUNICIPAL RUNNING COST","O/204051.AAH.000",null,null,null,null,null,null,"ADM & HO",null,null,null,null,8909.7118000000009,9310.6488310000004,9729.628028395]
["City Finance","NONF:AH:MRC:MUNICIPAL RUNNING COST","O/204051.AAH.000",null,null,null,null,null,null,"ADM & HO",null,null,null,null,1402.2855,1465.3883474999998,1531.3308231374997]
["City Finance","NONF:AH:MRC:MUNICIPAL RUNNING COST","O/204104.AAH.000",null,null,null,null,null,null,"ADM & HO",null,null,null,null,4824.0230499999998,5041.1040872499998,5267.9537711762496]
["City Finance","NONF:AH:MRC:MUNICIPAL RUNNING COST","O/204104.AAH.000",null,null,null,null,null,null,"ADM & HO",null,null,null,null,2688.1161999999999,2809.0814289999998,2935.4900933049998]
["City Finance","NONF:AH:MRC:MUNICIPAL RUNNING COST","O/204104.AAH.000",null,null,null,null,null,null,"ADM & HO",null,null,null,null,1021.2366999999999,1067.1923514999999,1115.2160073174998]
["City Finance","NONF:AH:MRC:MUNICIPAL RUNNING COST","O/204160.AAH.000",null,null,null,null,null,null,"ADM & HO",null,null,null,null,24.494799999999998,25.597065999999995,26.748933969999992]
["City Finance","NONF:AH:MRC:MUNICIPAL RUNNING COST","O/204160.AAH.000",null,null,null,null,null,null,"ADM & HO",null,null,null,null,125036.91475,130663.57591374998,136543.43682986873]
["City Finance","NONF:AH:MRC:MUNICIPAL RUNNING COST","O/204160.AAH.000",null,null,null,null,null,null,"ADM & HO",null,null,null,null,9094.4050999999999,9503.653329499999,9931.3177293274985]
["City Finance","NONF:AH:MRC:MUNICIPAL RUNNING COST","O/204160.AAH.000",null,null,null,null,null,null,"ADM & HO",null,null,null,null,1937117.7226499999,2024288.0201692497,2115380.9810768659]
["City Finance","NONF:AH:MRC:MUNICIPAL RUNNING COST","O/204160.AAH.000",null,null,null,null,null,null,"ADM & HO",null,null,null,null,16384173.407799998,17121461.211150996,17891926.96565279]
["City Finance","NONF:AH:MRC:MUNICIPAL RUNNING COST","O/204160.AAH.000",null,null,null,null,null,null,"ADM & HO",null,null,null,null,16691.502849999997,17442.620478249995,18227.538399771245]
["City Finance","NONF:AH:MRC:MUNICIPAL RUNNING COST","O/204160.AAH.000",null,null,null,null,null,null,"ADM & HO",null,null,null,null,270834.11299999995,283021.64808499994,295757.62224882492]
["City Finance","NONF:AH:MRC:MUNICIPAL RUNNING COST","O/204160.AAH.000",null,null,null,null,null,null,"ADM & HO",null,null,null,null,468.56754999999993,489.65308974999988,511.68747878874984]
["City Finance","NONF:AH:MRC:MUNICIPAL RUNNING COST","O/204170.AAH.000",null,null,null,null,null,null,"ADM & HO",null,null,null,null,612.93429999999989,640.51634349999983,669.33957895749973]
["City Finance","NONF:AH:MRC:MUNICIPAL RUNNING COST","O/204170.AAH.000",null,null,null,null,null,null,"ADM & HO",null,null,null,null,153.94939999999997,160.87712299999995,168.11659353499994]
["City Finance","NONF:AH:MRC:MUNICIPAL RUNNING COST","O/204170.AAH.000",null,null,null,null,null,null,"ADM & HO",null,null,null,null,375.00869999999998,391.88409149999995,409.51887561749993]
["City Finance","NONF:AH:MRC:MUNICIPAL RUNNING COST","O/204170.AAH.000",null,null,null,null,null,null,"ADM & HO",null,null,null,null,5309.2060999999994,5548.1203744999993,5797.7857913524986]
["City Finance","NONF:AH:MRC:MUNICIPAL RUNNING COST","O/204170.AAH.000",null,null,null,null,null,null,"ADM & HO",null,null,null,null,115762.91595,120972.24716774999,126415.99829029872]
["City Finance","NONF:AH:MRC:MUNICIPAL RUNNING COST","O/204240.AAH.000",null,null,null,null,null,null,"ADM & HO",null,null,null,null,13424.414849999999,14028.513518249998,14659.796626571248]
["City Finance","NONF:AH:MRC:MUNICIPAL RUNNING COST","O/204240.AAH.000",null,null,null,null,null,null,"ADM & HO",null,null,null,null,40451.291649999999,42271.599774249997,44173.821764091241]
["City Finance","NONF:AH:MRC:MUNICIPAL RUNNING COST","O/204240.AAH.000",null,null,null,null,null,null,"ADM & HO",null,null,null,null,7274.9346999999998,7602.3067614999991,7944.4105657674982]
["City Finance","NONF:AH:MRC:MUNICIPAL RUNNING COST","O/204240.AAH.000",null,null,null,null,null,null,"ADM & HO",null,null,null,null,3182.4743499999995,3325.6856957499995,3475.3415520587491]
["City Finance","NONF:AH:MRC:MUNICIPAL RUNNING COST","O/204240.AAH.000",null,null,null,null,null,null,"ADM & HO",null,null,null,null,1650.7655999999999,1725.0500519999998,1802.6773043399996]
["City Finance","NONF:AH:MRC:MUNICIPAL RUNNING COST","O/204242.AAH.000",null,null,null,null,null,null,"ADM & HO",null,null,null,null,17846.186049999997,18649.264422249995,19488.481321251242]
["City Finance","NONF:AH:MRC:MUNICIPAL RUNNING COST","O/204242.AAH.000",null,null,null,null,null,null,"ADM & HO",null,null,null,null,35640.205699999999,37244.014956499996,38919.995629542493]
["City Finance","NONF:AH:MRC:MUNICIPAL RUNNING COST","O/204242.AAH.000",null,null,null,null,null,null,"ADM & HO",null,null,null,null,138259.25795,144480.92455775,150982.56616284873]
["City Finance","NONF:AH:MRC:MUNICIPAL RUNNING COST","O/204242.AAH.000",null,null,null,null,null,null,"ADM & HO",null,null,null,null,686490.64824999997,717382.72742124996,749664.95015520614]
["City Finance","NONF:AH:MRC:MUNICIPAL RUNNING COST","O/204242.AAH.000",null,null,null,null,null,null,"ADM & HO",null,null,null,null,35211.598949999992,36796.120902749986,38451.946343373733]
["City Finance","NONF:AH:MRC:MUNICIPAL RUNNING COST","O/204242.AAH.000",null,null,null,null,null,null,"ADM & HO",null,null,null,null,81226.125750000007,84881.301408750005,88700.959972143755]
["City Finance","NONF:AH:MRC:MUNICIPAL RUNNING COST","O/204246.AAH.000",null,null,null,null,null,null,"ADM & HO",null,null,null,null,717.67464999999993,749.97000924999986,783.71865966624978]
["City Finance","NONF:AH:MRC:MUNICIPAL RUNNING COST","O/204246.AAH.000",null,null,null,null,null,null,"ADM & HO",null,null,null,null,1787.5665499999998,1868.0070447499997,1952.0673617637497]
["City Finance","NONF:AH:MRC:MUNICIPAL RUNNING COST","O/204246.AAH.000",null,null,null,null,null,null,"ADM & HO",null,null,null,null,1551.1666499999999,1620.9691492499999,1693.9127609662498]
["City Finance","NONF:AH:MRC:MUNICIPAL RUNNING COST","O/204246.AAH.000",null,null,null,null,null,null,"ADM & HO",null,null,null,null,272869.69984999998,285148.83634324995,297980.53397869616]
["City Finance","NONF:AH:MUNICIPAL RUNNING COST","O/204825.AAH.000",null,null,null,null,null,null,"ADM & HO",null,null,null,null,4020.1045499999996,4201.0092547499989,4390.0546712137484]
["City Finance","NONF:AH:MUNICIPAL RUNNING COST","O/204825.AAH.000",null,null,null,null,null,null,"ADM & HO",null,null,null,null,0,0,0]
["Corporate Services","NONF:AH:MRC:MUNICIPAL RUNNING COST","O/302501.AAH.000",null,null,null,null,null,null,"ADM & HO",null,null,null,null,934.11504999999988,976.15022724999983,1020.0769874762498]
["Corporate Services","NONF:AH:MRC:MUNICIPAL RUNNING COST","O/302501.AAH.000",null,null,null,null,null,null,"ADM & HO",null,null,null,null,16905.330750000001,17666.070633750001,18461.043812268752]
["Corporate Services","NONF:AH:MRC:MUNICIPAL RUNNING COST","O/302501.AAH.000",null,null,null,null,null,null,"ADM & HO",null,null,null,null,5621.2117499999995,5874.166278749999,6138.5037612937485]
["Corporate Services","NONF:AH:MRC:MUNICIPAL RUNNING COST","O/302501.AAH.000",null,null,null,null,null,null,"ADM & HO",null,null,null,null,6497.9144999999999,6790.3206524999996,7095.8850818624987]
["Corporate Services","NONF:AH:MRC:MUNICIPAL RUNNING COST","O/302501.AAH.000",null,null,null,null,null,null,"ADM & HO",null,null,null,null,18111.208499999997,18926.212882499996,19777.892462212494]
["Corporate Services","NONF:AH:MRC:MUNICIPAL RUNNING COST","O/302501.AAH.000",null,null,null,null,null,null,"ADM & HO",null,null,null,null,630.91874999999993,659.31009374999985,688.9790479687498]
["Corporate Services","NONF:AH:MRC:MUNICIPAL RUNNING COST","O/304038.AAH.000",null,null,null,null,null,null,"ADM & HO",null,null,null,null,5290.1243999999997,5528.1799979999996,5776.948097909999]
["Corporate Services","NONF:AH:MRC:MUNICIPAL RUNNING COST","O/304038.AAH.000",null,null,null,null,null,null,"ADM & HO",null,null,null,null,3311.5109499999994,3460.5289427499993,3616.2527451737492]
["Corporate Services","NONF:AH:MRC:MUNICIPAL RUNNING COST","O/304038.AAH.000",null,null,null,null,null,null,"ADM & HO",null,null,null,null,2112.97955,2208.06362975,2307.4264930887498]
["Corporate Services","NONF:AH:MRC:MUNICIPAL RUNNING COST","O/304103.AAH.000",null,null,null,null,null,null,"ADM & HO",null,null,null,null,54.862499999999997,57.331312499999996,59.911221562499989]
["Corporate Services","NONF:AH:MRC:MUNICIPAL RUNNING COST","O/304346.AAH.000",null,null,null,null,null,null,"ADM & HO",null,null,null,null,65.834999999999994,68.797574999999995,71.89346587499999]
["Corporate Services","NONF:AH:MRC:MUNICIPAL RUNNING COST","O/304346.AAH.000",null,null,null,null,null,null,"ADM & HO",null,null,null,null,60787.649999999994,63523.094249999987,66381.633491249988]
["Corporate Services","NONF:AH:MRC:MUNICIPAL RUNNING COST","O/304346.AAH.000",null,null,null,null,null,null,"ADM & HO",null,null,null,null,92595.109199999992,96761.889113999991,101116.17412412999]
["Corporate Services","NONF:AH:MRC:MUNICIPAL RUNNING COST","O/304346.AAH.000",null,null,null,null,null,null,"ADM & HO",null,null,null,null,31386.574999999997,32798.970874999992,34274.924564374989]
["Corporate Services","NONF:AH:MRC:MUNICIPAL RUNNING COST","O/304346.AAH.000",null,null,null,null,null,null,"ADM & HO",null,null,null,null,2851.7527499999997,2980.0816237499994,3114.1852968187491]
["Corporate Services","NONF:AH:MRC:MUNICIPAL RUNNING COST","O/304502.AAH.000",null,null,null,null,null,null,"ADM & HO",null,null,null,null,0,0,0]
["Corporate Services","NONF:AH:MRC:MUNICIPAL RUNNING COST","O/304502.AAH.000",null,null,null,null,null,null,"ADM & HO",null,null,null,null,37724.552250000001,39422.157101249999,41196.154170806243]
["Corporate Services","NONF:AH:MRC:MUNICIPAL RUNNING COST","O/304502.AAH.000",null,null,null,null,null,null,"ADM & HO",null,null,null,null,8482.8397499999992,8864.5675387499978,9263.4730779937472]
["Corporate Services","NONF:AH:MRC:MUNICIPAL RUNNING COST","O/304502.AAH.000",null,null,null,null,null,null,"ADM & HO",null,null,null,null,5168.0474999999997,5400.6096374999997,5643.6370711874997]
["Corporate Services","NONF:AH:MRC:MUNICIPAL RUNNING COST","O/304505.AAH.000",null,null,null,null,null,null,"ADM & HO",null,null,null,null,0,0,0]
["Corporate Services","NONF:AH:MRC:MUNICIPAL RUNNING COST","O/304505.AAH.000",null,null,null,null,null,null,"ADM & HO",null,null,null,null,28.5076,29.790441999999999,31.131011889999996]
["Corporate Services","NONF:AH:MRC:MUNICIPAL RUNNING COST","O/304505.AAH.000",null,null,null,null,null,null,"ADM & HO",null,null,null,null,753.38229999999999,787.28450349999991,822.71230615749982]
["Corporate Services","NONF:AH:MRC:MUNICIPAL RUNNING COST","O/304506.AAH.000",null,null,null,null,null,null,"ADM & HO",null,null,null,null,8708.8732500000006,9100.7725462500002,9510.3073108312492]
["Corporate Services","NONF:AH:MRC:MUNICIPAL RUNNING COST","O/304506.AAH.000",null,null,null,null,null,null,"ADM & HO",null,null,null,null,3581.9778499999998,3743.1668532499993,3911.609361646249]
["Corporate Services","NONF:AH:MRC:MUNICIPAL RUNNING COST","O/304506.AAH.000",null,null,null,null,null,null,"ADM & HO",null,null,null,null,62715.518249999994,65537.716571249985,68486.913816956236]
["Corporate Services","NONF:AH:MRC:MUNICIPAL RUNNING COST","O/304507.AAH.000",null,null,null,null,null,null,"ADM & HO",null,null,null,null,71098.508249999999,74297.941121249998,77641.348471706238]
["Corporate Services","NONF:AH:MRC:MUNICIPAL RUNNING COST","O/304507.AAH.000",null,null,null,null,null,null,"ADM & HO",null,null,null,null,40951.167399999998,42793.969932999993,44719.698579984986]
["Corporate Services","NONF:AH:MRC:MUNICIPAL RUNNING COST","O/304507.AAH.000",null,null,null,null,null,null,"ADM & HO",null,null,null,null,35263.054750000003,36849.892213749998,38508.137363368747]
["Corporate Services","NONF:AH:MRC:MUNICIPAL RUNNING COST","O/304525.AAH.000",null,null,null,null,null,null,"ADM & HO",null,null,null,null,2051.8575000000001,2144.1910874999999,2240.6796864374996]
["Corporate Services","NONF:AH:MRC:MUNICIPAL RUNNING COST","O/304525.AAH.000",null,null,null,null,null,null,"ADM & HO",null,null,null,null,81514.702499999999,85182.864112499999,89016.092997562489]
["Corporate Services","NONF:AH:MRC:MUNICIPAL RUNNING COST","O/304525.AAH.000",null,null,null,null,null,null,"ADM & HO",null,null,null,null,28671.142499999998,29961.343912499997,31309.604388562493]
["Corporate Services","NONF:AH:MRC:MUNICIPAL RUNNING COST","O/304525.AAH.000",null,null,null,null,null,null,"ADM & HO",null,null,null,null,30891.976499999997,32282.115442499995,33734.810637412491]
["Corporate Services","NONF:AH:MRC:MUNICIPAL RUNNING COST","O/304526.AAH.000",null,null,null,null,null,null,"ADM & HO",null,null,null,null,56475.457499999997,59016.853087499992,61672.611476437487]
["Corporate Services","NONF:AH:MRC:MUNICIPAL RUNNING COST","O/304526.AAH.000",null,null,null,null,null,null,"ADM & HO",null,null,null,null,6519.8594999999996,6813.2531774999989,7119.8495704874986]
["Corporate Services","NONF:AH:MRC:MUNICIPAL RUNNING COST","O/304526.AAH.000",null,null,null,null,null,null,"ADM & HO",null,null,null,null,6993998.7809999995,7308728.7261449993,7637621.5188215235]
["Corporate Services","NONF:AH:MRC:MUNICIPAL RUNNING COST","O/304526.AAH.000",null,null,null,null,null,null,"ADM & HO",null,null,null,null,69176.126250000001,72289.051931249996,75542.059268156241]
["Corporate Services","NONF:AH:MRC:MUNICIPAL RUNNING COST","O/304526.AAH.000",null,null,null,null,null,null,"ADM & HO",null,null,null,null,294307.68674999999,307551.53265374998,321391.35162316868]
["Corporate Services","NONF:AH:MRC:MUNICIPAL RUNNING COST","O/304526.AAH.000",null,null,null,null,null,null,"ADM & HO",null,null,null,null,86668.485750000007,90568.567608750003,94644.15315114375]
["Corporate Services","NONF:AH:MRC:MUNICIPAL RUNNING COST","O/304530.AAH.000",null,null,null,null,null,null,"ADM & HO",null,null,null,null,199917.35114999997,208913.63195174997,218314.74538957869]
["Corporate Services","NONF:AH:MRC:MUNICIPAL RUNNING COST","O/304530.AAH.000",null,null,null,null,null,null,"ADM & HO",null,null,null,null,15341.7495,16032.128227499999,16753.573997737498]
["Corporate Services","NONF:AH:MRC:MUNICIPAL RUNNING COST","O/304530.AAH.000",null,null,null,null,null,null,"ADM & HO",null,null,null,null,28753.436249999999,30047.340881249998,31399.471220906245]
["Community Services","NONF:AH:MRC:MUNICIPAL RUNNING COST","O/402284.AAH.000",null,null,null,null,null,null,"ADM & HO",null,null,null,null,21718.0887,22695.402691499999,23716.695812617498]
["Community Services","NONF:AH:MRC:MUNICIPAL RUNNING COST","O/402284.AAH.000",null,null,null,null,null,null,"ADM & HO",null,null,null,null,8346.4045499999993,8721.9927547499992,9114.482428713749]
["Community Services","NONF:AH:MRC:MUNICIPAL RUNNING COST","O/402284.AAH.000",null,null,null,null,null,null,"ADM & HO",null,null,null,null,4745.7420999999995,4959.3004944999993,5182.4690167524986]
["Community Services","NONF:AH:MRC:MUNICIPAL RUNNING COST","O/403243.AAH.000",null,null,null,null,null,null,"ADM & HO",null,null,null,null,5411293.5294000003,5654801.7382230004,5909267.8164430354]
["Community Services","NONF:AH:MRC:MUNICIPAL RUNNING COST","O/403243.AAH.000",null,null,null,null,null,null,"ADM & HO",null,null,null,null,3971.5015999999996,4150.2191719999992,4336.9790347399985]
["Community Services","NONF:AH:MRC:MUNICIPAL RUNNING COST","O/403243.AAH.000",null,null,null,null,null,null,"ADM & HO",null,null,null,null,24205.596249999999,25294.848081249998,26433.116244906247]
["Community Services","NONF:AH:MRC:MUNICIPAL RUNNING COST","O/403243.AAH.000",null,null,null,null,null,null,"ADM & HO",null,null,null,null,15705.848399999999,16412.611577999996,17151.179099009994]
["Community Services","NONF:AH:MRC:MUNICIPAL RUNNING COST","O/403243.AAH.000",null,null,null,null,null,null,"ADM & HO",null,null,null,null,18812.737899999996,19659.311105499994,20543.98010524749]
["Community Services","NONF:AH:MRC:MUNICIPAL RUNNING COST","O/403243.AAH.000",null,null,null,null,null,null,"ADM & HO",null,null,null,null,5009.99125,5235.4408562499993,5471.0356947812488]
["Community Services","NONF:AH:MRC:MUNICIPAL RUNNING COST","O/403243.AAH.000",null,null,null,null,null,null,"ADM & HO",null,null,null,null,2974849.4654999999,3108717.6914474997,3248609.9875626368]
["Community Services","NONF:AH:MRC:MUNICIPAL RUNNING COST","O/403243.AAH.000",null,null,null,null,null,null,"ADM & HO",null,null,null,null,416635.26134999999,435383.84811074997,454976.12127573369]
["Community Services","NONF:AH:MRC:MUNICIPAL RUNNING COST","O/403243.AAH.000",null,null,null,null,null,null,"ADM & HO",null,null,null,null,2308.8334499999996,2412.7309552499996,2521.3038482362495]
["Community Services","NONF:AH:MRC:MUNICIPAL RUNNING COST","O/403243.AAH.000",null,null,null,null,null,null,"ADM & HO",null,null,null,null,1673.3898499999998,1748.6923932499997,1827.3835509462494]
["Community Services","NONF:AH:MRC:MUNICIPAL RUNNING COST","O/403243.AAH.000",null,null,null,null,null,null,"ADM & HO",null,null,null,null,259972.29939999999,271671.05287299998,283896.25025228498]
["Community Services","NONF:AH:MRC:MUNICIPAL RUNNING COST","O/403552.AAH.000",null,null,null,null,null,null,"ADM & HO",null,null,null,null,14453.321849999998,15103.721333249998,15783.388793246246]
["Community Services","NONF:AH:MRC:MUNICIPAL RUNNING COST","O/403552.AAH.000",null,null,null,null,null,null,"ADM & HO",null,null,null,null,16387.355599999999,17124.786601999996,17895.401999089994]
["Community Services","NONF:AH:MRC:MUNICIPAL RUNNING COST","O/403552.AAH.000",null,null,null,null,null,null,"ADM & HO",null,null,null,null,42739.507250000002,44662.785076250002,46672.610404681247]
["Community Services","NONF:AH:MRC:MUNICIPAL RUNNING COST","O/403553.AAH.000",null,null,null,null,null,null,"ADM & HO",null,null,null,null,48.728349999999999,50.921125749999995,53.212576408749989]
["Community Services","NONF:AH:MRC:MUNICIPAL RUNNING COST","O/403553.AAH.000",null,null,null,null,null,null,"ADM & HO",null,null,null,null,0,0,0]
["Community Services","NONF:AH:MRC:MUNICIPAL RUNNING COST","O/403553.AAH.000",null,null,null,null,null,null,"ADM & HO",null,null,null,null,65295.936749999993,68234.253903749996,71304.795329418746]
["Community Services","NONF:AH:MRC:MUNICIPAL RUNNING COST","O/403553.AAH.000",null,null,null,null,null,null,"ADM & HO",null,null,null,null,106764.77625,111569.19118124999,116589.80478440622]
["Community Services","NONF:AH:MRC:MUNICIPAL RUNNING COST","O/403553.AAH.000",null,null,null,null,null,null,"ADM & HO",null,null,null,null,36391.194949999997,38028.798722749998,39740.094665273748]
["Community Services","NONF:AH:MRC:MUNICIPAL RUNNING COST","O/403553.AAH.000",null,null,null,null,null,null,"ADM & HO",null,null,null,null,51466.772499999999,53782.777262499993,56203.002239312489]
["Community Services","NONF:AH:MRC:MUNICIPAL RUNNING COST","O/403553.AAH.000",null,null,null,null,null,null,"ADM & HO",null,null,null,null,207915.68709999998,217271.89301949996,227049.12820537743]
["Community Services","NONF:AH:MRC:MUNICIPAL RUNNING COST","O/403553.AAH.000",null,null,null,null,null,null,"ADM & HO",null,null,null,null,368746.23444999999,385339.81500024995,402680.10667526117]
["Community Services","NONF:AH:MRC:MUNICIPAL RUNNING COST","O/403553.AAH.000",null,null,null,null,null,null,"ADM & HO",null,null,null,null,33533.705149999994,35042.721881749989,36619.644366428736]
["Community Services","NONF:AH:MRC:MUNICIPAL RUNNING COST","O/403553.AAH.000",null,null,null,null,null,null,"ADM & HO",null,null,null,null,145288.37729999999,151826.35427849999,158658.54022103248]
["Community Services","NONF:AH:MRC:MUNICIPAL RUNNING COST","O/403553.AAH.000",null,null,null,null,null,null,"ADM & HO",null,null,null,null,5333.2201999999997,5573.2151089999998,5824.0097889049994]
["Community Services","NONF:AH:MRC:MUNICIPAL RUNNING COST","O/404102.AAH.000",null,null,null,null,null,null,"ADM & HO",null,null,null,null,43.963149999999999,45.941491749999997,48.008858878749997]
["Community Services","NONF:AH:MRC:MUNICIPAL RUNNING COST","O/404102.AAH.000",null,null,null,null,null,null,"ADM & HO",null,null,null,null,372.34394999999995,389.0994277499999,406.6089019987499]
["Community Services","NONF:AH:MRC:MUNICIPAL RUNNING COST","O/404102.AAH.000",null,null,null,null,null,null,"ADM & HO",null,null,null,null,998.83190000000002,1043.7793354999999,1090.7494055974998]
["Community Services","NONF:AH:MRC:MUNICIPAL RUNNING COST","O/404102.AAH.000",null,null,null,null,null,null,"ADM & HO",null,null,null,null,844.6421499999999,882.65104674999986,922.37034385374977]
["Community Services","NONF:AH:MRC:MUNICIPAL RUNNING COST","O/404106.AAH.000",null,null,null,null,null,null,"ADM & HO",null,null,null,null,2136167.5252499999,2232295.0638862499,2332748.3417611308]
["Community Services","NONF:AH:MRC:MUNICIPAL RUNNING COST","O/404106.AAH.000",null,null,null,null,null,null,"ADM & HO",null,null,null,null,3994.8364499999998,4174.6040902499999,4362.4612743112493]
["Community Services","NONF:AH:MRC:MUNICIPAL RUNNING COST","O/404106.AAH.000",null,null,null,null,null,null,"ADM & HO",null,null,null,null,6593.9290999999994,6890.6559094999993,7200.7354254274987]
["Community Services","NONF:AH:MRC:MUNICIPAL RUNNING COST","O/404106.AAH.000",null,null,null,null,null,null,"ADM & HO",null,null,null,null,7620.84015,7963.7779567499992,8322.1479648037493]
["Community Services","NONF:AH:MRC:MUNICIPAL RUNNING COST","O/404106.AAH.000",null,null,null,null,null,null,"ADM & HO",null,null,null,null,47029.671149999995,49146.006351749988,51357.576637578735]
["Community Services","NONF:AH:MRC:MUNICIPAL RUNNING COST","O/404106.AAH.000",null,null,null,null,null,null,"ADM & HO",null,null,null,null,5869.9739999999993,6134.1228299999984,6410.1583573499984]
["Community Services","NONF:AH:MRC:MUNICIPAL RUNNING COST","O/404166.AAH.000",null,null,null,null,null,null,"ADM & HO",null,null,null,null,20.220749999999999,21.130683749999996,22.081564518749992]
["Community Services","NONF:AH:MRC:MUNICIPAL RUNNING COST","O/404166.AAH.000",null,null,null,null,null,null,"ADM & HO",null,null,null,null,11962.480749999999,12500.792383749998,13063.328041018747]
["Community Services","NONF:AH:MRC:MUNICIPAL RUNNING COST","O/404166.AAH.000",null,null,null,null,null,null,"ADM & HO",null,null,null,null,11836.756799999999,12369.410855999999,12926.034344519998]
["Community Services","NONF:AH:MRC:MUNICIPAL RUNNING COST","O/404166.AAH.000",null,null,null,null,null,null,"ADM & HO",null,null,null,null,121697.11564999999,127173.48585424999,132896.29271769122]
["Community Services","NONF:AH:MRC:MUNICIPAL RUNNING COST","O/404173.AAH.000",null,null,null,null,null,null,"ADM & HO",null,null,null,null,599.21344999999997,626.17805524999994,654.35606773624988]
["Community Services","NONF:AH:MRC:MUNICIPAL RUNNING COST","O/404173.AAH.000",null,null,null,null,null,null,"ADM & HO",null,null,null,null,1383.48595,1445.7428177499999,1510.8012445487498]
["Community Services","NONF:AH:MRC:MUNICIPAL RUNNING COST","O/404173.AAH.000",null,null,null,null,null,null,"ADM & HO",null,null,null,null,91.813699999999997,95.94531649999999,100.26285574249998]
["Community Services","NONF:AH:MRC:MUNICIPAL RUNNING COST","O/404174.AAH.000",null,null,null,null,null,null,"ADM & HO",null,null,null,null,15955.174949999999,16673.157822749996,17423.449924773744]
["Community Services","NONF:AH:MRC:MUNICIPAL RUNNING COST","O/404174.AAH.000",null,null,null,null,null,null,"ADM & HO",null,null,null,null,4952.2340999999988,5175.0846344999982,5407.9634430524975]
["Community Services","NONF:AH:MRC:MUNICIPAL RUNNING COST","O/404174.AAH.000",null,null,null,null,null,null,"ADM & HO",null,null,null,null,80310.016049999991,83923.966772249987,87700.545277001234]
["Community Services","NONF:AH:MRC:MUNICIPAL RUNNING COST","O/404174.AAH.000",null,null,null,null,null,null,"ADM & HO",null,null,null,null,1075.1064499999998,1123.4862402499996,1174.0431210612494]
["Community Services","NONF:AH:MRC:MUNICIPAL RUNNING COST","O/404181.AAH.000",null,null,null,null,null,null,"ADM & HO",null,null,null,null,208.93729999999999,218.33947849999998,228.16475503249995]
["Community Services","NONF:AH:MRC:MUNICIPAL RUNNING COST","O/404181.AAH.000",null,null,null,null,null,null,"ADM & HO",null,null,null,null,5601.3253999999997,5853.3850429999993,6116.7873699349984]
["Community Services","NONF:AH:MRC:MUNICIPAL RUNNING COST","O/404181.AAH.000",null,null,null,null,null,null,"ADM & HO",null,null,null,null,582.55615,608.77117675,636.16587970374997]
["Community Services","NONF:AH:MRC:MUNICIPAL RUNNING COST","O/404182.AAH.000",null,null,null,null,null,null,"ADM & HO",null,null,null,null,1865.3249999999998,1949.2646249999996,2036.9815331249995]
["Community Services","NONF:AH:MRC:MUNICIPAL RUNNING COST","O/404182.AAH.000",null,null,null,null,null,null,"ADM & HO",null,null,null,null,0,0,0]
["Community Services","NONF:AH:MRC:MUNICIPAL RUNNING COST","O/404182.AAH.000",null,null,null,null,null,null,"ADM & HO",null,null,null,null,392.41839999999996,410.07722799999993,428.53070325999988]
["Community Services","NONF:AH:MRC:MUNICIPAL RUNNING COST","O/404182.AAH.000",null,null,null,null,null,null,"ADM & HO",null,null,null,null,213430.29839999997,223034.66182799995,233071.22161025993]
["Community Services","NONF:AH:MRC:MUNICIPAL RUNNING COST","O/404183.AAH.000",null,null,null,null,null,null,"ADM & HO",null,null,null,null,306597.58689999999,320394.47831049998,334812.22983447247]
["Community Services","NONF:AH:MRC:MUNICIPAL RUNNING COST","O/404184.AAH.000",null,null,null,null,null,null,"ADM & HO",null,null,null,null,28221.426749999999,29491.390953749997,30818.503546668744]
["Community Services","NONF:AH:MRC:MUNICIPAL RUNNING COST","O/404184.AAH.000",null,null,null,null,null,null,"ADM & HO",null,null,null,null,11580.585499999999,12101.711847499999,12646.288880637498]
["Community Services","NONF:AH:MRC:MUNICIPAL RUNNING COST","O/404184.AAH.000",null,null,null,null,null,null,"ADM & HO",null,null,null,null,16088.9036,16812.904262,17569.484953789997]
["Community Services","NONF:AH:MRC:MUNICIPAL RUNNING COST","O/404184.AAH.000",null,null,null,null,null,null,"ADM & HO",null,null,null,null,342767.05374999996,358191.57116874994,374310.19187134365]
["Community Services","NONF:AH:MRC:MUNICIPAL RUNNING COST","O/404185.AAH.000",null,null,null,null,null,null,"ADM & HO",null,null,null,null,0,0,0]
["Community Services","NONF:AH:MRC:MUNICIPAL RUNNING COST","O/404185.AAH.000",null,null,null,null,null,null,"ADM & HO",null,null,null,null,6753.8872499999998,7057.8121762499995,7375.4137241812487]
["Community Services","NONF:AH:MRC:MUNICIPAL RUNNING COST","O/404185.AAH.000",null,null,null,null,null,null,"ADM & HO",null,null,null,null,4953.3731499999994,5176.274941749999,5409.2073141287483]
["Community Services","NONF:AH:MRC:MUNICIPAL RUNNING COST","O/404185.AAH.000",null,null,null,null,null,null,"ADM & HO",null,null,null,null,1154200.5667499998,1206139.5922537497,1260415.8739051684]
["Community Services","NONF:AH:MRC:MUNICIPAL RUNNING COST","O/404185.AAH.000",null,null,null,null,null,null,"ADM & HO",null,null,null,null,1130.9721499999998,1181.8658967499998,1235.0498621037498]
["Community Services","NONF:AH:MRC:MUNICIPAL RUNNING COST","O/404185.AAH.000",null,null,null,null,null,null,"ADM & HO",null,null,null,null,359655.89439999999,375840.40964799997,392753.22808215994]
["Community Services","NONF:AH:MRC:MUNICIPAL RUNNING COST","O/404185.AAH.000",null,null,null,null,null,null,"ADM & HO",null,null,null,null,54878.822899999999,57348.369930499997,59929.046577372494]
["Community Services","NONF:AH:MRC:MUNICIPAL RUNNING COST","O/404185.AAH.000",null,null,null,null,null,null,"ADM & HO",null,null,null,null,1048.68885,1095.8798482499999,1145.1944414212498]
["Community Services","NONF:AH:MRC:MUNICIPAL RUNNING COST","O/404186.AAH.000",null,null,null,null,null,null,"ADM & HO",null,null,null,null,20425.455049999997,21344.600527249997,22305.107550976245]
["Community Services","NONF:AH:MRC:MUNICIPAL RUNNING COST","O/404186.AAH.000",null,null,null,null,null,null,"ADM & HO",null,null,null,null,43914.139499999997,45890.275777499992,47955.33818748749]
["Community Services","NONF:AH:MRC:MUNICIPAL RUNNING COST","O/404186.AAH.000",null,null,null,null,null,null,"ADM & HO",null,null,null,null,0,0,0]
["Community Services","NONF:AH:MRC:MUNICIPAL RUNNING COST","O/404220.AAH.000",null,null,null,null,null,null,"ADM & HO",null,null,null,null,10305580.0386,10769331.140337,11253951.041652163]
["Community Services","NONF:AH:MRC:MUNICIPAL RUNNING COST","O/404220.AAH.000",null,null,null,null,null,null,"ADM & HO",null,null,null,null,7702.0784499999991,8048.6719802499983,8410.8622193612482]
["Community Services","NONF:AH:MRC:MUNICIPAL RUNNING COST","O/404220.AAH.000",null,null,null,null,null,null,"ADM & HO",null,null,null,null,3386.3747499999999,3538.7616137499999,3698.0058863687495]
["Community Services","NONF:AH:MRC:MUNICIPAL RUNNING COST","O/404220.AAH.000",null,null,null,null,null,null,"ADM & HO",null,null,null,null,22797.939449999998,23823.846725249998,24895.919827886246]
["Community Services","NONF:AH:MRC:MUNICIPAL RUNNING COST","O/404220.AAH.000",null,null,null,null,null,null,"ADM & HO",null,null,null,null,17895.2906,18700.578676999998,19542.104717464998]
["Community Services","NONF:AH:MRC:MUNICIPAL RUNNING COST","O/404220.AAH.000",null,null,null,null,null,null,"ADM & HO",null,null,null,null,1823.1905999999999,1905.2341769999998,1990.9697149649996]
["Community Services","NONF:AH:MRC:MUNICIPAL RUNNING COST","O/404266.AAH.000",null,null,null,null,null,null,"ADM & HO",null,null,null,null,316.97984999999994,331.24394324999992,346.14992069624986]
["Community Services","NONF:AH:MRC:MUNICIPAL RUNNING COST","O/404266.AAH.000",null,null,null,null,null,null,"ADM & HO",null,null,null,null,189624.14295000001,198157.22938275,207074.30470497374]
["Community Services","NONF:AH:MRC:MUNICIPAL RUNNING COST","O/404266.AAH.000",null,null,null,null,null,null,"ADM & HO",null,null,null,null,19169.197849999997,20031.811753249996,20933.243282146246]
["Community Services","NONF:AH:MRC:MUNICIPAL RUNNING COST","O/404266.AAH.000",null,null,null,null,null,null,"ADM & HO",null,null,null,null,548659.01474999997,573348.67041374999,599149.36058236868]
["Community Services","NONF:AH:MRC:MUNICIPAL RUNNING COST","O/404291.AAH.000",null,null,null,null,null,null,"ADM & HO",null,null,null,null,723.28629999999998,755.83418349999988,789.84672175749984]
["Community Services","NONF:AH:MRC:MUNICIPAL RUNNING COST","O/404291.AAH.000",null,null,null,null,null,null,"ADM & HO",null,null,null,null,1587.2922999999998,1658.7204534999996,1733.3628739074995]
["Community Services","NONF:AH:MRC:MUNICIPAL RUNNING COST","O/404291.AAH.000",null,null,null,null,null,null,"ADM & HO",null,null,null,null,25240.428399999997,26376.247677999996,27563.178823509996]
["Community Services","NONF:AH:MRC:MUNICIPAL RUNNING COST","O/404292.AAH.000",null,null,null,null,null,null,"ADM & HO",null,null,null,null,16458.760449999998,17199.404670249998,17973.377880411248]
["Community Services","NONF:AH:MRC:MUNICIPAL RUNNING COST","O/404293.AAH.000",null,null,null,null,null,null,"ADM & HO",null,null,null,null,10205.323699999999,10664.563266499998,11144.468613492496]
["Community Services","NONF:AH:MRC:MUNICIPAL RUNNING COST","O/404293.AAH.000",null,null,null,null,null,null,"ADM & HO",null,null,null,null,9197.013649999999,9610.8792642499975,10043.368831141246]
["Community Services","NONF:AH:MRC:MUNICIPAL RUNNING COST","O/404293.AAH.000",null,null,null,null,null,null,"ADM & HO",null,null,null,null,25134.5281,26265.581864499996,27447.533048402493]
["Community Services","NONF:AH:MRC:MUNICIPAL RUNNING COST","O/404293.AAH.000",null,null,null,null,null,null,"ADM & HO",null,null,null,null,713.27519999999993,745.37258399999985,778.91435027999978]
["Community Services","NONF:AH:MRC:MUNICIPAL RUNNING COST","O/404294.AAH.000",null,null,null,null,null,null,"ADM & HO",null,null,null,null,13119.2017,13709.565776499998,14326.496236442497]
["Community Services","NONF:AH:MRC:MUNICIPAL RUNNING COST","O/404294.AAH.000",null,null,null,null,null,null,"ADM & HO",null,null,null,null,5717.9264999999996,5975.2331924999989,6244.1186861624983]
["Community Services","NONF:AH:MRC:MUNICIPAL RUNNING COST","O/404294.AAH.000",null,null,null,null,null,null,"ADM & HO",null,null,null,null,6353.8089999999993,6639.7304049999984,6938.5182732249978]
["Community Services","NONF:AH:MRC:MUNICIPAL RUNNING COST","O/404294.AAH.000",null,null,null,null,null,null,"ADM & HO",null,null,null,null,368724.25809999998,385316.84971449996,402656.10795165243]
["Community Services","NONF:AH:MRC:MUNICIPAL RUNNING COST","O/404294.AAH.000",null,null,null,null,null,null,"ADM & HO",null,null,null,null,1142.4880499999999,1193.9000122499999,1247.6255128012499]
["Community Services","NONF:AH:MRC:MUNICIPAL RUNNING COST","O/404294.AAH.000",null,null,null,null,null,null,"ADM & HO",null,null,null,null,876.53554999999994,915.97964974999991,957.19873398874984]
["Community Services","NONF:AH:MRC:MUNICIPAL RUNNING COST","O/404295.AAH.000",null,null,null,null,null,null,"ADM & HO",null,null,null,null,24855.962449999999,25974.480760249997,27143.332394461246]
["Community Services","NONF:AH:MRC:MUNICIPAL RUNNING COST","O/404295.AAH.000",null,null,null,null,null,null,"ADM & HO",null,null,null,null,11638.0605,12161.773222499998,12709.053017512497]
["Community Services","NONF:AH:MRC:MUNICIPAL RUNNING COST","O/404295.AAH.000",null,null,null,null,null,null,"ADM & HO",null,null,null,null,52493.829849999995,54856.052193249991,57324.574541946233]
["Community Services","NONF:AH:MRC:MUNICIPAL RUNNING COST","O/404295.AAH.000",null,null,null,null,null,null,"ADM & HO",null,null,null,null,70891.75499999999,74081.88397499999,77415.568753874977]
["Community Services","NONF:AH:MRC:MUNICIPAL RUNNING COST","O/404295.AAH.000",null,null,null,null,null,null,"ADM & HO",null,null,null,null,174.20149999999998,182.04056749999998,190.23239303749997]
["Community Services","NONF:AH:MRC:MUNICIPAL RUNNING COST","O/404296.AAH.000",null,null,null,null,null,null,"ADM & HO",null,null,null,null,6687.6969499999996,6988.6433127499995,7303.1322618237491]
["Community Services","NONF:AH:MRC:MUNICIPAL RUNNING COST","O/404296.AAH.000",null,null,null,null,null,null,"ADM & HO",null,null,null,null,3454.3519999999999,3609.7978399999997,3772.2387427999993]
["Community Services","NONF:AH:MRC:MUNICIPAL RUNNING COST","O/404297.AAH.000",null,null,null,null,null,null,"ADM & HO",null,null,null,null,3744.9664999999995,3913.4899924999991,4089.5970421624988]
["Community Services","NONF:AH:MRC:MUNICIPAL RUNNING COST","O/404297.AAH.000",null,null,null,null,null,null,"ADM & HO",null,null,null,null,670.70190000000002,700.88348550000001,732.42324234749992]
["Community Services","NONF:AH:MRC:MUNICIPAL RUNNING COST","O/404297.AAH.000",null,null,null,null,null,null,"ADM & HO",null,null,null,null,3007.1128999999996,3142.4329804999993,3283.8424646224989]
["Community Services","NONF:AH:MRC:MUNICIPAL RUNNING COST","O/404298.AAH.000",null,null,null,null,null,null,"ADM & HO",null,null,null,null,372.65744999999998,389.42703524999996,406.95125183624992]
["Community Services","NONF:AH:MRC:MUNICIPAL RUNNING COST","O/404298.AAH.000",null,null,null,null,null,null,"ADM & HO",null,null,null,null,9253.5167999999994,9669.9250559999982,10105.071683519998]
["Community Services","NONF:AH:MRC:MUNICIPAL RUNNING COST","O/404298.AAH.000",null,null,null,null,null,null,"ADM & HO",null,null,null,null,238769.73009999999,249514.36795449996,260742.51451245244]
["Community Services","NONF:AH:MRC:MUNICIPAL RUNNING COST","O/404301.AAH.000",null,null,null,null,null,null,"ADM & HO",null,null,null,null,1.3375999999999999,1.3977919999999997,1.4606926399999995]
["Community Services","NONF:AH:MRC:MUNICIPAL RUNNING COST","O/404301.AAH.000",null,null,null,null,null,null,"ADM & HO",null,null,null,null,440.08084999999994,459.88448824999989,480.57929022124983]
["Community Services","NONF:AH:MRC:MUNICIPAL RUNNING COST","O/404301.AAH.000",null,null,null,null,null,null,"ADM & HO",null,null,null,null,6.9283499999999991,7.2401257499999989,7.5659314087499983]
["Community Services","NONF:AH:MRC:MUNICIPAL RUNNING COST","O/404302.AAH.000",null,null,null,null,null,null,"ADM & HO",null,null,null,null,557.8314499999999,582.93386524999983,609.16588918624973]
["Community Services","NONF:AH:MRC:MUNICIPAL RUNNING COST","O/404302.AAH.000",null,null,null,null,null,null,"ADM & HO",null,null,null,null,37593.436099999999,39285.140724499994,41052.972057102488]
["Community Services","NONF:AH:MRC:MUNICIPAL RUNNING COST","O/404302.AAH.000",null,null,null,null,null,null,"ADM & HO",null,null,null,null,11040.8848,11537.724616,12056.922223719999]
["Community Services","NONF:AH:MRC:MUNICIPAL RUNNING COST","O/404302.AAH.000",null,null,null,null,null,null,"ADM & HO",null,null,null,null,227633.54130000001,237877.0506585,248581.51793813249]
["Community Services","NONF:AH:MRC:MUNICIPAL RUNNING COST","O/404302.AAH.000",null,null,null,null,null,null,"ADM & HO",null,null,null,null,350214.05815,365973.69076674996,382442.50685125368]
["Community Services","NONF:AH:MRC:MUNICIPAL RUNNING COST","O/404302.AAH.000",null,null,null,null,null,null,"ADM & HO",null,null,null,null,500.04294999999996,522.54488274999994,546.05940247374986]
["Community Services","NONF:AH:MRC:MUNICIPAL RUNNING COST","O/404302.AAH.000",null,null,null,null,null,null,"ADM & HO",null,null,null,null,2029.7243999999998,2121.0619979999997,2216.5097879099994]
["Community Services","NONF:AH:MRC:MUNICIPAL RUNNING COST","O/404325.AAH.000",null,null,null,null,null,null,"ADM & HO",null,null,null,null,2.37215,2.4788967499999996,2.5904471037499994]
["Community Services","NONF:AH:MRC:MUNICIPAL RUNNING COST","O/404325.AAH.000",null,null,null,null,null,null,"ADM & HO",null,null,null,null,199802.62059999997,208793.73852699995,218189.45676071494]
["Community Services","NONF:AH:MRC:MUNICIPAL RUNNING COST","O/404325.AAH.000",null,null,null,null,null,null,"ADM & HO",null,null,null,null,7706.4151999999995,8053.2038839999987,8415.5980587799986]
["Community Services","NONF:AH:MRC:MUNICIPAL RUNNING COST","O/404325.AAH.000",null,null,null,null,null,null,"ADM & HO",null,null,null,null,4690.0227000000004,4901.0737214999999,5121.6220389675]
["Community Services","NONF:AH:MRC:MUNICIPAL RUNNING COST","O/404325.AAH.000",null,null,null,null,null,null,"ADM & HO",null,null,null,null,3867.1478999999995,4041.1695554999992,4223.0221854974989]
["Community Services","NONF:AH:MRC:MUNICIPAL RUNNING COST","O/404327.AAH.000",null,null,null,null,null,null,"ADM & HO",null,null,null,null,564.81205,590.22859224999991,616.78887890124986]
["Community Services","NONF:AH:MRC:MUNICIPAL RUNNING COST","O/404327.AAH.000",null,null,null,null,null,null,"ADM & HO",null,null,null,null,2464.4130499999997,2575.3116372499994,2691.2006609262494]
["Community Services","NONF:AH:MRC:MUNICIPAL RUNNING COST","O/404327.AAH.000",null,null,null,null,null,null,"ADM & HO",null,null,null,null,103731.60105,108399.52309724998,113277.50163662623]
["Community Services","NONF:AH:MRC:MUNICIPAL RUNNING COST","O/404327.AAH.000",null,null,null,null,null,null,"ADM & HO",null,null,null,null,30310.71615,31674.698376749999,33100.059803703749]
["Community Services","NONF:AH:MRC:MUNICIPAL RUNNING COST","O/404327.AAH.000",null,null,null,null,null,null,"ADM & HO",null,null,null,null,441270.19584999996,461127.35466324992,481878.08562309615]
["Community Services","NONF:AH:MRC:MUNICIPAL RUNNING COST","O/404327.AAH.000",null,null,null,null,null,null,"ADM & HO",null,null,null,null,57054.377049999996,59621.824017249994,62304.806098026238]
["Community Services","NONF:AH:MRC:MUNICIPAL RUNNING COST","O/404327.AAH.000",null,null,null,null,null,null,"ADM & HO",null,null,null,null,37353.702649999999,39034.619269249997,40791.177136366241]
["Community Services","NONF:AH:MRC:MUNICIPAL RUNNING COST","O/404328.AAH.000",null,null,null,null,null,null,"ADM & HO",null,null,null,null,70.537499999999994,73.711687499999982,77.028713437499974]
["Community Services","NONF:AH:MRC:MUNICIPAL RUNNING COST","O/404328.AAH.000",null,null,null,null,null,null,"ADM & HO",null,null,null,null,9385.2808499999992,9807.6184882499983,10248.961320221248]
["Community Services","NONF:AH:MRC:MUNICIPAL RUNNING COST","O/404328.AAH.000",null,null,null,null,null,null,"ADM & HO",null,null,null,null,7325.606749999999,7655.2590537499982,7999.7457111687472]
["Community Services","NONF:AH:MRC:MUNICIPAL RUNNING COST","O/404328.AAH.000",null,null,null,null,null,null,"ADM & HO",null,null,null,null,7405.7478000000001,7739.0064509999993,8087.2617412949985]
["Community Services","NONF:AH:MRC:MUNICIPAL RUNNING COST","O/404328.AAH.000",null,null,null,null,null,null,"ADM & HO",null,null,null,null,52135.885999999999,54482.000869999996,56933.690909149991]
["Community Services","NONF:AH:MRC:MUNICIPAL RUNNING COST","O/404328.AAH.000",null,null,null,null,null,null,"ADM & HO",null,null,null,null,0,0,0]
["Community Services","NONF:AH:MRC:MUNICIPAL RUNNING COST","O/404328.AAH.000",null,null,null,null,null,null,"ADM & HO",null,null,null,null,251.12394999999998,262.42452774999998,274.23363149874996]
["Community Services","NONF:AH:MRC:MUNICIPAL RUNNING COST","O/404359.AAH.000",null,null,null,null,null,null,"ADM & HO",null,null,null,null,582.84875,609.07694374999994,636.48540621874986]
["Community Services","NONF:AH:MRC:MUNICIPAL RUNNING COST","O/404390.AAH.000",null,null,null,null,null,null,"ADM & HO",null,null,null,null,1320.4619999999998,1379.8827899999997,1441.9775155499995]
["Community Services","NONF:AH:MRC:MUNICIPAL RUNNING COST","O/404390.AAH.000",null,null,null,null,null,null,"ADM & HO",null,null,null,null,18382.6577,19209.877296499999,20074.321774842498]
["Community Services","NONF:AH:MRC:MUNICIPAL RUNNING COST","O/404390.AAH.000",null,null,null,null,null,null,"ADM & HO",null,null,null,null,22752.147549999998,23775.994189749996,24845.913928288745]
["Community Services","NONF:AH:MRC:MUNICIPAL RUNNING COST","O/404390.AAH.000",null,null,null,null,null,null,"ADM & HO",null,null,null,null,249050.16839999997,260257.42597799996,271969.01014700992]
["Community Services","NONF:AH:MRC:MUNICIPAL RUNNING COST","O/404390.AAH.000",null,null,null,null,null,null,"ADM & HO",null,null,null,null,800.50134999999989,836.5239107499998,874.16748673374968]
["Community Services","NONF:AH:MRC:MUNICIPAL RUNNING COST","O/404390.AAH.000",null,null,null,null,null,null,"ADM & HO",null,null,null,null,60449.60295,63169.835082749996,66012.477661473735]
["Community Services","NONF:AH:MRC:MUNICIPAL RUNNING COST","O/404390.AAH.000",null,null,null,null,null,null,"ADM & HO",null,null,null,null,8566.0530999999992,8951.525489499998,9354.3441365274975]
["Community Services","NONF:AH:MRC:MUNICIPAL RUNNING COST","O/404390.AAH.000",null,null,null,null,null,null,"ADM & HO",null,null,null,null,793.05049999999994,828.73777249999989,866.03097226249986]
["Community Services","NONF:AH:MRC:MUNICIPAL RUNNING COST","O/404390.AAH.000",null,null,null,null,null,null,"ADM & HO",null,null,null,null,2405823.7664999999,2514085.8359924997,2627219.6986121619]
["Community Services","NONF:AH:MRC:MUNICIPAL RUNNING COST","O/404390.AAH.000",null,null,null,null,null,null,"ADM & HO",null,null,null,null,2067.9400500000002,2160.9973522499999,2258.2422331012499]
["Community Services","NONF:AH:MRC:MUNICIPAL RUNNING COST","O/404390.AAH.000",null,null,null,null,null,null,"ADM & HO",null,null,null,null,1006.1782499999999,1051.4562712499999,1098.7718034562497]
["Community Services","NONF:AH:MRC:MUNICIPAL RUNNING COST","O/404390.AAH.000",null,null,null,null,null,null,"ADM & HO",null,null,null,null,4855.9791499999992,5074.4982117499985,5302.8506312787476]
["Community Services","NONF:AH:MRC:MUNICIPAL RUNNING COST","O/404392.AAH.000",null,null,null,null,null,null,"ADM & HO",null,null,null,null,0,0,0]
["Community Services","NONF:AH:MRC:MUNICIPAL RUNNING COST","O/404392.AAH.000",null,null,null,null,null,null,"ADM & HO",null,null,null,null,2157.4233999999997,2254.5074529999997,2355.9602883849993]
["Community Services","NONF:AH:MRC:MUNICIPAL RUNNING COST","O/404392.AAH.000",null,null,null,null,null,null,"ADM & HO",null,null,null,null,8696.8243999999995,9088.1814979999981,9497.1496654099974]
["Community Services","NONF:AH:MRC:MUNICIPAL RUNNING COST","O/404392.AAH.000",null,null,null,null,null,null,"ADM & HO",null,null,null,null,54352.03839999999,56797.880127999983,59353.784733759974]
["Community Services","NONF:AH:MRC:MUNICIPAL RUNNING COST","O/404392.AAH.000",null,null,null,null,null,null,"ADM & HO",null,null,null,null,0,0,0]
["Community Services","NONF:AH:MRC:MUNICIPAL RUNNING COST","O/404394.AAH.000",null,null,null,null,null,null,"ADM & HO",null,null,null,null,18994.923199999997,19849.694743999997,20742.931007479994]
["Community Services","NONF:AH:MRC:MUNICIPAL RUNNING COST","O/404394.AAH.000",null,null,null,null,null,null,"ADM & HO",null,null,null,null,185.92639999999997,194.29308799999995,203.03627695999995]
["Community Services","NONF:AH:MRC:MUNICIPAL RUNNING COST","O/404394.AAH.000",null,null,null,null,null,null,"ADM & HO",null,null,null,null,0,0,0]
["Community Services","NONF:AH:MRC:MUNICIPAL RUNNING COST","O/404394.AAH.000",null,null,null,null,null,null,"ADM & HO",null,null,null,null,67016.748699999996,70032.502391499991,73183.964999117481]
["Community Services","NONF:AH:MRC:MUNICIPAL RUNNING COST","O/404394.AAH.000",null,null,null,null,null,null,"ADM & HO",null,null,null,null,368671.07804999995,385261.27656224993,402598.03400755115]
["Community Services","NONF:AH:MRC:MUNICIPAL RUNNING COST","O/404394.AAH.000",null,null,null,null,null,null,"ADM & HO",null,null,null,null,1324.6210999999998,1384.2290494999997,1446.5193567274996]
["Community Services","NONF:AH:MRC:MUNICIPAL RUNNING COST","O/404396.AAH.000",null,null,null,null,null,null,"ADM & HO",null,null,null,null,3103.3991999999998,3243.0521639999997,3388.9895113799994]
["Community Services","NONF:AH:MRC:MUNICIPAL RUNNING COST","O/404396.AAH.000",null,null,null,null,null,null,"ADM & HO",null,null,null,null,1238.0533,1293.7656984999999,1351.9851549324999]
["Community Services","NONF:AH:MRC:MUNICIPAL RUNNING COST","O/404396.AAH.000",null,null,null,null,null,null,"ADM & HO",null,null,null,null,6912.9780499999997,7224.0620622499991,7549.1448550512487]
["Community Services","NONF:AH:MRC:MUNICIPAL RUNNING COST","O/404396.AAH.000",null,null,null,null,null,null,"ADM & HO",null,null,null,null,16679.0569,17429.614460499997,18213.947111222496]
["Community Services","NONF:AH:MRC:MUNICIPAL RUNNING COST","O/404398.AAH.000",null,null,null,null,null,null,"ADM & HO",null,null,null,null,4701.131049999999,4912.6819472499983,5133.7526348762476]
["Community Services","NONF:AH:MRC:MUNICIPAL RUNNING COST","O/404398.AAH.000",null,null,null,null,null,null,"ADM & HO",null,null,null,null,1063.5278499999999,1111.3866032499998,1161.3990003962497]
["Community Services","NONF:AH:MRC:MUNICIPAL RUNNING COST","O/404398.AAH.000",null,null,null,null,null,null,"ADM & HO",null,null,null,null,11033.747450000001,11530.266085249999,12049.128059086248]
["Community Services","NONF:AH:MRC:MUNICIPAL RUNNING COST","O/404398.AAH.000",null,null,null,null,null,null,"ADM & HO",null,null,null,null,321703.36494999996,336180.01637274993,351308.11710952368]
["Community Services","NONF:AH:MRC:MUNICIPAL RUNNING COST","O/404398.AAH.000",null,null,null,null,null,null,"ADM & HO",null,null,null,null,16341.866749999999,17077.250753749999,17845.727037668748]
["Community Services","NONF:AH:MRC:MUNICIPAL RUNNING COST","O/404400.AAH.000",null,null,null,null,null,null,"ADM & HO",null,null,null,null,933.38355000000001,975.38580974999991,1019.2781711887499]
["Community Services","NONF:AH:MRC:MUNICIPAL RUNNING COST","O/404400.AAH.000",null,null,null,null,null,null,"ADM & HO",null,null,null,null,10415.326899999998,10884.016610499997,11373.797357972497]
["Community Services","NONF:AH:MRC:MUNICIPAL RUNNING COST","O/404400.AAH.000",null,null,null,null,null,null,"ADM & HO",null,null,null,null,4924.2907999999998,5145.8838859999996,5377.448660869999]
["Community Services","NONF:AH:MRC:MUNICIPAL RUNNING COST","O/404400.AAH.000",null,null,null,null,null,null,"ADM & HO",null,null,null,null,12112.0098,12657.050240999999,13226.617501844998]
["Community Services","NONF:AH:MRC:MUNICIPAL RUNNING COST","O/404400.AAH.000",null,null,null,null,null,null,"ADM & HO",null,null,null,null,93097.127200000003,97286.497923999996,101664.39033057999]
["Community Services","NONF:AH:MRC:MUNICIPAL RUNNING COST","O/404400.AAH.000",null,null,null,null,null,null,"ADM & HO",null,null,null,null,2907.6079999999997,3038.4503599999994,3175.1806261999991]
["Community Services","NONF:AH:MRC:MUNICIPAL RUNNING COST","O/404400.AAH.000",null,null,null,null,null,null,"ADM & HO",null,null,null,null,0,0,0]
["Community Services","NONF:AH:MRC:MUNICIPAL RUNNING COST","O/404402.AAH.000",null,null,null,null,null,null,"ADM & HO",null,null,null,null,41.559649999999998,43.429834249999992,45.384176791249992]
["Community Services","NONF:AH:MRC:MUNICIPAL RUNNING COST","O/404402.AAH.000",null,null,null,null,null,null,"ADM & HO",null,null,null,null,10924.21055,11415.800024749999,11929.511025863747]
["Community Services","NONF:AH:MRC:MUNICIPAL RUNNING COST","O/404402.AAH.000",null,null,null,null,null,null,"ADM & HO",null,null,null,null,1959.3749999999998,2047.5468749999995,2139.6864843749995]
["Community Services","NONF:AH:MRC:MUNICIPAL RUNNING COST","O/404402.AAH.000",null,null,null,null,null,null,"ADM & HO",null,null,null,null,31833.761849999999,33266.281133249999,34763.263784246243]
["Community Services","NONF:AH:MRC:MUNICIPAL RUNNING COST","O/404402.AAH.000",null,null,null,null,null,null,"ADM & HO",null,null,null,null,201357.16259999998,210418.23491699997,219887.05548826494]
["Community Services","NONF:AH:MRC:MUNICIPAL RUNNING COST","O/404402.AAH.000",null,null,null,null,null,null,"ADM & HO",null,null,null,null,200556.26414999997,209581.29603674996,219012.45435840369]
["Community Services","NONF:AH:MRC:MUNICIPAL RUNNING COST","O/404402.AAH.000",null,null,null,null,null,null,"ADM & HO",null,null,null,null,4904.7074999999995,5125.4193374999995,5356.063207687499]
["Community Services","NONF:AH:MRC:MUNICIPAL RUNNING COST","O/404402.AAH.000",null,null,null,null,null,null,"ADM & HO",null,null,null,null,8690.0737000000008,9081.1270165000005,9489.777732242499]
["Community Services","NONF:AH:MRC:MUNICIPAL RUNNING COST","O/404404.AAH.000",null,null,null,null,null,null,"ADM & HO",null,null,null,null,321.04489999999998,335.49192049999994,350.58905692249994]
["Community Services","NONF:AH:MRC:MUNICIPAL RUNNING COST","O/404404.AAH.000",null,null,null,null,null,null,"ADM & HO",null,null,null,null,129927.27439999999,135774.00174799998,141883.83182665997]
["Community Services","NONF:AH:MRC:MUNICIPAL RUNNING COST","O/404404.AAH.000",null,null,null,null,null,null,"ADM & HO",null,null,null,null,58139.233349999995,60755.498850749987,63489.49629903373]
["Community Services","NONF:AH:MRC:MUNICIPAL RUNNING COST","O/404404.AAH.000",null,null,null,null,null,null,"ADM & HO",null,null,null,null,4666.1862499999997,4876.1646312499997,5095.5920396562497]
["Community Services","NONF:AH:MRC:MUNICIPAL RUNNING COST","O/404408.AAH.000",null,null,null,null,null,null,"ADM & HO",null,null,null,null,22274.791549999998,23277.157169749997,24324.629242388746]
["Community Services","NONF:AH:MRC:MUNICIPAL RUNNING COST","O/404408.AAH.000",null,null,null,null,null,null,"ADM & HO",null,null,null,null,939087.21224999998,981346.13680124993,1025506.7129573061]
["Community Services","NONF:AH:MRC:MUNICIPAL RUNNING COST","O/404408.AAH.000",null,null,null,null,null,null,"ADM & HO",null,null,null,null,433.04799999999994,452.53515999999991,472.89924219999989]
["Community Services","NONF:AH:MRC:MUNICIPAL RUNNING COST","O/404408.AAH.000",null,null,null,null,null,null,"ADM & HO",null,null,null,null,2496.2123999999994,2608.5419579999993,2725.926346109999]
["Community Services","NONF:AH:MRC:MUNICIPAL RUNNING COST","O/404408.AAH.000",null,null,null,null,null,null,"ADM & HO",null,null,null,null,2826503.0211,2953695.6570494999,3086611.9616167271]
["Community Services","NONF:AH:MRC:MUNICIPAL RUNNING COST","O/404408.AAH.000",null,null,null,null,null,null,"ADM & HO",null,null,null,null,0,0,0]
["Community Services","NONF:AH:MRC:MUNICIPAL RUNNING COST","O/404408.AAH.000",null,null,null,null,null,null,"ADM & HO",null,null,null,null,0,0,0]
["Community Services","NONF:AH:MRC:MUNICIPAL RUNNING COST","O/404408.AAH.000",null,null,null,null,null,null,"ADM & HO",null,null,null,null,286348.09940000001,299233.76387299999,312699.28324728494]
["Community Services","NONF:AH:MRC:MUNICIPAL RUNNING COST","O/404408.AAH.000",null,null,null,null,null,null,"ADM & HO",null,null,null,null,431760.00614999991,451189.20642674988,471492.72071595362]
["Community Services","NONF:AH:MRC:MUNICIPAL RUNNING COST","O/404408.AAH.000",null,null,null,null,null,null,"ADM & HO",null,null,null,null,12557.817249999998,13122.919026249998,13713.450382431247]
["Community Services","NONF:AH:MRC:MUNICIPAL RUNNING COST","O/404408.AAH.000",null,null,null,null,null,null,"ADM & HO",null,null,null,null,4171.0652499999997,4358.7631862499993,4554.9075296312494]
["Community Services","NONF:AH:MRC:MUNICIPAL RUNNING COST","O/404412.AAH.000",null,null,null,null,null,null,"ADM & HO",null,null,null,null,2197.5513999999998,2296.4412129999996,2399.7810675849996]
["Community Services","NONF:AH:MRC:MUNICIPAL RUNNING COST","O/404412.AAH.000",null,null,null,null,null,null,"ADM & HO",null,null,null,null,13251.32105,13847.63049725,14470.77386962625]
["Community Services","NONF:AH:MRC:MUNICIPAL RUNNING COST","O/404412.AAH.000",null,null,null,null,null,null,"ADM & HO",null,null,null,null,21889.740399999999,22874.778717999998,23904.143760309995]
["Community Services","NONF:AH:MRC:MUNICIPAL RUNNING COST","O/404412.AAH.000",null,null,null,null,null,null,"ADM & HO",null,null,null,null,140964.10459999999,147307.48930699998,153936.32632581497]
["Community Services","NONF:AH:MRC:MUNICIPAL RUNNING COST","O/404412.AAH.000",null,null,null,null,null,null,"ADM & HO",null,null,null,null,3713.6896499999998,3880.8056842499996,4055.4419400412494]
["Community Services","NONF:AH:MRC:MUNICIPAL RUNNING COST","O/404412.AAH.000",null,null,null,null,null,null,"ADM & HO",null,null,null,null,2027.7075499999999,2118.9543897499998,2214.3073372887497]
["Community Services","NONF:AH:MRC:MUNICIPAL RUNNING COST","O/404430.AAH.000",null,null,null,null,null,null,"ADM & HO",null,null,null,null,186048.07979999998,194420.24339099997,203169.15434359494]
["Community Services","NONF:AH:MRC:MUNICIPAL RUNNING COST","O/404430.AAH.000",null,null,null,null,null,null,"ADM & HO",null,null,null,null,3624.7496999999994,3787.8634364999989,3958.3172911424986]
["Community Services","NONF:AH:MRC:MUNICIPAL RUNNING COST","O/404431.AAH.000",null,null,null,null,null,null,"ADM & HO",null,null,null,null,42834.299200000001,44761.842663999996,46776.125583879992]
["Community Services","NONF:AH:MRC:MUNICIPAL RUNNING COST","O/404431.AAH.000",null,null,null,null,null,null,"ADM & HO",null,null,null,null,1281.4521499999998,1339.1174967499996,1399.3777841037495]
["Community Services","NONF:AH:MRC:MUNICIPAL RUNNING COST","O/404431.AAH.000",null,null,null,null,null,null,"ADM & HO",null,null,null,null,165739.83194999999,173198.12438774999,180992.03998519873]
["Community Services","NONF:AH:MRC:MUNICIPAL RUNNING COST","O/404431.AAH.000",null,null,null,null,null,null,"ADM & HO",null,null,null,null,1602.5910999999999,1674.7076994999998,1750.0695459774997]
["Community Services","NONF:AH:MRC:MUNICIPAL RUNNING COST","O/404431.AAH.000",null,null,null,null,null,null,"ADM & HO",null,null,null,null,1886.6221,1971.5200944999999,2060.2384987524997]
["Community Services","NONF:AH:MRC:MUNICIPAL RUNNING COST","O/404431.AAH.000",null,null,null,null,null,null,"ADM & HO",null,null,null,null,38855.200449999997,40603.684470249995,42430.85027141124]
["Community Services","NONF:AH:MRC:MUNICIPAL RUNNING COST","O/404431.AAH.000",null,null,null,null,null,null,"ADM & HO",null,null,null,null,25678.2834,26833.806152999998,28041.327429884997]
["Community Services","NONF:AH:MRC:MUNICIPAL RUNNING COST","O/404431.AAH.000",null,null,null,null,null,null,"ADM & HO",null,null,null,null,4116400.3908499996,4301638.4084382495,4495212.1368179703]
["Community Services","NONF:AH:MRC:MUNICIPAL RUNNING COST","O/404431.AAH.000",null,null,null,null,null,null,"ADM & HO",null,null,null,null,17042.0272,17808.918424,18610.319753079999]
["Community Services","NONF:AH:MRC:MUNICIPAL RUNNING COST","O/404431.AAH.000",null,null,null,null,null,null,"ADM & HO",null,null,null,null,104.71944999999998,109.43182524999997,114.35625738624996]
["Community Services","NONF:AH:MRC:MUNICIPAL RUNNING COST","O/404432.AAH.000",null,null,null,null,null,null,"ADM & HO",null,null,null,null,155.30789999999999,162.29675549999999,169.60010949749997]
["Community Services","NONF:AH:MRC:MUNICIPAL RUNNING COST","O/404432.AAH.000",null,null,null,null,null,null,"ADM & HO",null,null,null,null,8690.7215999999989,9081.804071999999,9490.4852552399989]
["Community Services","NONF:AH:MRC:MUNICIPAL RUNNING COST","O/404432.AAH.000",null,null,null,null,null,null,"ADM & HO",null,null,null,null,327780.42659999995,342530.54579699994,357944.42035786493]
["Community Services","NONF:AH:MRC:MUNICIPAL RUNNING COST","O/404434.AAH.000",null,null,null,null,null,null,"ADM & HO",null,null,null,null,246.96484999999998,258.07826824999995,269.69179032124993]
["Community Services","NONF:AH:MRC:MUNICIPAL RUNNING COST","O/404434.AAH.000",null,null,null,null,null,null,"ADM & HO",null,null,null,null,490.02139999999997,512.07236299999988,535.11561933499979]
["Community Services","NONF:AH:MRC:MUNICIPAL RUNNING COST","O/404434.AAH.000",null,null,null,null,null,null,"ADM & HO",null,null,null,null,163565.41684999998,170925.86060824996,178617.52433562119]
["Community Services","NONF:AH:MRC:MUNICIPAL RUNNING COST","O/404435.AAH.000",null,null,null,null,null,null,"ADM & HO",null,null,null,null,840.71294999999998,878.5450327499999,918.07955922374981]
["Community Services","NONF:AH:MRC:MUNICIPAL RUNNING COST","O/404436.AAH.000",null,null,null,null,null,null,"ADM & HO",null,null,null,null,560.15134999999998,585.35816074999991,611.69927798374988]
["Community Services","NONF:AH:MRC:MUNICIPAL RUNNING COST","O/404436.AAH.000",null,null,null,null,null,null,"ADM & HO",null,null,null,null,482.2466,503.94769699999995,526.62534336499994]
["Community Services","NONF:AH:MRC:MUNICIPAL RUNNING COST","O/404437.AAH.000",null,null,null,null,null,null,"ADM & HO",null,null,null,null,1575.2747999999999,1646.1621659999998,1720.2394634699997]
["Community Services","NONF:AH:MRC:MUNICIPAL RUNNING COST","O/404437.AAH.000",null,null,null,null,null,null,"ADM & HO",null,null,null,null,343322.70114999992,358772.22270174988,374916.97272332862]
["Community Services","NONF:AH:MRC:MUNICIPAL RUNNING COST","O/404438.AAH.000",null,null,null,null,null,null,"ADM & HO",null,null,null,null,18.141199999999998,18.957553999999995,19.810643929999994]
["Community Services","NONF:AH:MRC:MUNICIPAL RUNNING COST","O/404438.AAH.000",null,null,null,null,null,null,"ADM & HO",null,null,null,null,1112.7264499999999,1162.7991402499997,1215.1251015612497]
["Community Services","NONF:AH:MRC:MUNICIPAL RUNNING COST","O/404438.AAH.000",null,null,null,null,null,null,"ADM & HO",null,null,null,null,116185.87969999999,121414.24428649998,126877.88527939246]
["Community Services","NONF:AH:MRC:MUNICIPAL RUNNING COST","O/404443.AAH.000",null,null,null,null,null,null,"ADM & HO",null,null,null,null,325.88324999999998,340.54799624999993,355.87265608124989]
["Community Services","NONF:AH:MRC:MUNICIPAL RUNNING COST","O/404443.AAH.000",null,null,null,null,null,null,"ADM & HO",null,null,null,null,660.55494999999996,690.27992274999997,721.34251927374987]
["Community Services","NONF:AH:MRC:MUNICIPAL RUNNING COST","O/404443.AAH.000",null,null,null,null,null,null,"ADM & HO",null,null,null,null,109539.09449999999,114468.35375249998,119619.42967136248]
["Community Services","NONF:AH:MRC:MUNICIPAL RUNNING COST","O/404444.AAH.000",null,null,null,null,null,null,"ADM & HO",null,null,null,null,32035.8753,33477.489688499998,34983.976724482498]
["Community Services","NONF:AH:MRC:MUNICIPAL RUNNING COST","O/404446.AAH.000",null,null,null,null,null,null,"ADM & HO",null,null,null,null,79163.985449999993,82726.364795249989,86449.051211036232]
["Community Services","NONF:AH:MRC:MUNICIPAL RUNNING COST","O/404447.AAH.000",null,null,null,null,null,null,"ADM & HO",null,null,null,null,18141.868799999997,18958.252895999995,19811.374276319992]
["Community Services","NONF:AH:MRC:MUNICIPAL RUNNING COST","O/404449.AAH.000",null,null,null,null,null,null,"ADM & HO",null,null,null,null,7160.1205499999996,7482.3259747499987,7819.030643613748]
["Community Services","NONF:AH:MRC:MUNICIPAL RUNNING COST","O/404450.AAH.000",null,null,null,null,null,null,"ADM & HO",null,null,null,null,396.37894999999997,414.21600274999997,432.85572287374993]
["Community Services","NONF:AH:MRC:MUNICIPAL RUNNING COST","O/404450.AAH.000",null,null,null,null,null,null,"ADM & HO",null,null,null,null,1868.4495499999998,1952.5297797499998,2040.3936198387496]
["Community Services","NONF:AH:MRC:MUNICIPAL RUNNING COST","O/404450.AAH.000",null,null,null,null,null,null,"ADM & HO",null,null,null,null,2049.0255499999998,2141.2316997499997,2237.5871262387495]
["Community Services","NONF:AH:MRC:MUNICIPAL RUNNING COST","O/404450.AAH.000",null,null,null,null,null,null,"ADM & HO",null,null,null,null,267707.05499999999,279753.87247499998,292342.79673637496]
["Community Services","NONF:AH:MRC:MUNICIPAL RUNNING COST","O/404451.AAH.000",null,null,null,null,null,null,"ADM & HO",null,null,null,null,3.3544499999999999,3.5054002499999997,3.6631432612499992]
["Community Services","NONF:AH:MRC:MUNICIPAL RUNNING COST","O/404451.AAH.000",null,null,null,null,null,null,"ADM & HO",null,null,null,null,356.8048,372.86101599999995,389.63976171999991]
["Community Services","NONF:AH:MRC:MUNICIPAL RUNNING COST","O/404451.AAH.000",null,null,null,null,null,null,"ADM & HO",null,null,null,null,63014.618149999995,65850.275966749992,68813.538385253734]
["Community Services","NONF:AH:MRC:MUNICIPAL RUNNING COST","O/404452.AAH.000",null,null,null,null,null,null,"ADM & HO",null,null,null,null,54092.439499999993,56526.59927749999,59070.296244987483]
["Community Services","NONF:AH:MRC:MUNICIPAL RUNNING COST","O/404453.AAH.000",null,null,null,null,null,null,"ADM & HO",null,null,null,null,35.812150000000003,37.423696749999998,39.107763103749996]
["Community Services","NONF:AH:MRC:MUNICIPAL RUNNING COST","O/404453.AAH.000",null,null,null,null,null,null,"ADM & HO",null,null,null,null,17695.476149999999,18491.772576749998,19323.902342703746]
["Community Services","NONF:AH:MRC:MUNICIPAL RUNNING COST","O/404453.AAH.000",null,null,null,null,null,null,"ADM & HO",null,null,null,null,24987.872799999997,26112.327075999994,27287.381794419991]
["Community Services","NONF:AH:MRC:MUNICIPAL RUNNING COST","O/404454.AAH.000",null,null,null,null,null,null,"ADM & HO",null,null,null,null,13572.062900000001,14182.8057305,14821.031988372499]
["Community Services","NONF:AH:MRC:MUNICIPAL RUNNING COST","O/404457.AAH.000",null,null,null,null,null,null,"ADM & HO",null,null,null,null,25322.419099999999,26461.927959499997,27652.714717677496]
["Community Services","NONF:AH:MRC:MUNICIPAL RUNNING COST","O/404458.AAH.000",null,null,null,null,null,null,"ADM & HO",null,null,null,null,5467.6803499999987,5713.7259657499981,5970.843634208748]
["Community Services","NONF:AH:MRC:MUNICIPAL RUNNING COST","O/404459.AAH.000",null,null,null,null,null,null,"ADM & HO",null,null,null,null,1166.9305999999999,1219.4424769999998,1274.3173884649998]
["Community Services","NONF:AH:MRC:MUNICIPAL RUNNING COST","O/404459.AAH.000",null,null,null,null,null,null,"ADM & HO",null,null,null,null,43636.681549999994,45600.332219749987,47652.347169638735]
["Community Services","NONF:AH:MRC:MUNICIPAL RUNNING COST","O/404459.AAH.000",null,null,null,null,null,null,"ADM & HO",null,null,null,null,705.15554999999995,736.88754974999995,770.04748948874987]
["Community Services","NONF:AH:MRC:MUNICIPAL RUNNING COST","O/404460.AAH.000",null,null,null,null,null,null,"ADM & HO",null,null,null,null,63942.160149999996,66819.557356749996,69826.437437803746]
["Community Services","NONF:AH:MRC:MUNICIPAL RUNNING COST","O/404461.AAH.000",null,null,null,null,null,null,"ADM & HO",null,null,null,null,71.363050000000001,74.574387250000001,77.930234676249995]
["Community Services","NONF:AH:MRC:MUNICIPAL RUNNING COST","O/404461.AAH.000",null,null,null,null,null,null,"ADM & HO",null,null,null,null,433904.85820000002,453430.57681900001,473834.95277585497]
["Community Services","NONF:AH:MRC:MUNICIPAL RUNNING COST","O/404461.AAH.000",null,null,null,null,null,null,"ADM & HO",null,null,null,null,7296.137749999999,7624.4639487499981,7967.5648264437477]
["Community Services","NONF:AH:MRC:MUNICIPAL RUNNING COST","O/404461.AAH.000",null,null,null,null,null,null,"ADM & HO",null,null,null,null,15237.34355,15923.024009749999,16639.560090188748]
["Community Services","NONF:AH:MRC:MUNICIPAL RUNNING COST","O/404462.AAH.000",null,null,null,null,null,null,"ADM & HO",null,null,null,null,115.2426,120.42851699999999,125.84780026499998]
["Community Services","NONF:AH:MRC:MUNICIPAL RUNNING COST","O/404462.AAH.000",null,null,null,null,null,null,"ADM & HO",null,null,null,null,15328.122699999998,16017.888221499998,16738.693191467497]
["Community Services","NONF:AH:MRC:MUNICIPAL RUNNING COST","O/404462.AAH.000",null,null,null,null,null,null,"ADM & HO",null,null,null,null,98062.392449999999,102475.20011024999,107086.58411521124]
["Community Services","NONF:AH:MRC:MUNICIPAL RUNNING COST","O/404464.AAH.000",null,null,null,null,null,null,"ADM & HO",null,null,null,null,769.8201499999999,804.46205674999987,840.66284930374979]
["Community Services","NONF:AH:MRC:MUNICIPAL RUNNING COST","O/404464.AAH.000",null,null,null,null,null,null,"ADM & HO",null,null,null,null,123760.08149999999,129329.28516749997,135149.10300003746]
["Community Services","NONF:AH:MRC:MUNICIPAL RUNNING COST","O/404464.AAH.000",null,null,null,null,null,null,"ADM & HO",null,null,null,null,817.32584999999995,854.10551324999983,892.54026134624974]
["Community Services","NONF:AH:MRC:MUNICIPAL RUNNING COST","O/404464.AAH.000",null,null,null,null,null,null,"ADM & HO",null,null,null,null,1260.53125,1317.2551562499998,1376.5316382812498]
["Community Services","NONF:AH:MRC:MUNICIPAL RUNNING COST","O/404465.AAH.000",null,null,null,null,null,null,"ADM & HO",null,null,null,null,520354.66724999994,543770.62727624993,568240.30550368119]
["Community Services","NONF:AH:MRC:MUNICIPAL RUNNING COST","O/404465.AAH.000",null,null,null,null,null,null,"ADM & HO",null,null,null,null,10434.565349999999,10904.120790749997,11394.806226333747]
["Community Services","NONF:AH:MRC:MUNICIPAL RUNNING COST","O/404466.AAH.000",null,null,null,null,null,null,"ADM & HO",null,null,null,null,299.47609999999997,312.95252449999992,327.03538810249989]
["Community Services","NONF:AH:MRC:MUNICIPAL RUNNING COST","O/404466.AAH.000",null,null,null,null,null,null,"ADM & HO",null,null,null,null,5220.9140499999994,5455.8551822499994,5701.3686654512494]
["Community Services","NONF:AH:MRC:MUNICIPAL RUNNING COST","O/404466.AAH.000",null,null,null,null,null,null,"ADM & HO",null,null,null,null,3723.0632999999993,3890.601148499999,4065.6782001824986]
["Community Services","NONF:AH:MRC:MUNICIPAL RUNNING COST","O/404467.AAH.000",null,null,null,null,null,null,"ADM & HO",null,null,null,null,151948.83109999998,158786.52849949998,165931.92228197746]
["Community Services","NONF:AH:MRC:MUNICIPAL RUNNING COST","O/404467.AAH.000",null,null,null,null,null,null,"ADM & HO",null,null,null,null,617.69949999999994,645.49597749999987,674.54329648749979]
["Community Services","NONF:AH:MRC:MUNICIPAL RUNNING COST","O/404467.AAH.000",null,null,null,null,null,null,"ADM & HO",null,null,null,null,436.38154999999995,456.01871974999989,476.53956213874983]
["Community Services","NONF:AH:MRC:MUNICIPAL RUNNING COST","O/404469.AAH.000",null,null,null,null,null,null,"ADM & HO",null,null,null,null,200902.29499999998,209942.89827499996,219390.32869737493]
["Community Services","NONF:AH:MRC:MUNICIPAL RUNNING COST","O/404469.AAH.000",null,null,null,null,null,null,"ADM & HO",null,null,null,null,3088.9050499999998,3227.9057772499996,3373.1615372262495]
["Community Services","NONF:AH:MRC:MUNICIPAL RUNNING COST","O/404472.AAH.000",null,null,null,null,null,null,"ADM & HO",null,null,null,null,5396.3904499999999,5639.2280202499996,5892.9932811612489]
["Community Services","NONF:AH:MRC:MUNICIPAL RUNNING COST","O/404473.AAH.000",null,null,null,null,null,null,"ADM & HO",null,null,null,null,140.60475,146.93196374999999,153.54390211875]
["Community Services","NONF:AH:MRC:MUNICIPAL RUNNING COST","O/404473.AAH.000",null,null,null,null,null,null,"ADM & HO",null,null,null,null,692.12440000000004,723.26999799999999,755.8171479099999]
["Community Services","NONF:AH:MRC:MUNICIPAL RUNNING COST","O/404473.AAH.000",null,null,null,null,null,null,"ADM & HO",null,null,null,null,50.389899999999997,52.657445499999994,55.02703054749999]
["Community Services","NONF:AH:MRC:MUNICIPAL RUNNING COST","O/404504.AAH.000",null,null,null,null,null,null,"ADM & HO",null,null,null,null,283328.36289999995,296078.13923049992,309401.65549587237]
["Community Services","NONF:AH:MRC:MUNICIPAL RUNNING COST","O/404504.AAH.000",null,null,null,null,null,null,"ADM & HO",null,null,null,null,7582.4781999999996,7923.6897189999991,8280.2557563549981]
["Community Services","NONF:AH:MRC:MUNICIPAL RUNNING COST","O/404504.AAH.000",null,null,null,null,null,null,"ADM & HO",null,null,null,null,27177.680749999996,28400.676383749993,29678.706821018739]
["Community Services","NONF:AH:MRC:MUNICIPAL RUNNING COST","O/404504.AAH.000",null,null,null,null,null,null,"ADM & HO",null,null,null,null,91417.153849999988,95530.925773249983,99829.817433046221]
["Community Services","NONF:AH:MRC:MUNICIPAL RUNNING COST","O/404504.AAH.000",null,null,null,null,null,null,"ADM & HO",null,null,null,null,268403.17129999999,280481.31400849996,293102.97313888243]
["Community Services","NONF:AH:MRC:MUNICIPAL RUNNING COST","O/404512.AAH.000",null,null,null,null,null,null,"ADM & HO",null,null,null,null,36535.781149999995,38179.891301749994,39897.98641032874]
["Community Services","NONF:AH:MRC:MUNICIPAL RUNNING COST","O/404512.AAH.000",null,null,null,null,null,null,"ADM & HO",null,null,null,null,70919.342999999993,74110.713434999983,77445.695539574983]
["Community Services","NONF:AH:MRC:MUNICIPAL RUNNING COST","O/404512.AAH.000",null,null,null,null,null,null,"ADM & HO",null,null,null,null,142875.1588,149304.54094599999,156023.24528856997]
["Community Services","NONF:AH:MRC:MUNICIPAL RUNNING COST","O/404512.AAH.000",null,null,null,null,null,null,"ADM & HO",null,null,null,null,84.509150000000005,88.312061749999998,92.286104528749988]
["Community Services","NONF:AH:MRC:MUNICIPAL RUNNING COST","O/404512.AAH.000",null,null,null,null,null,null,"ADM & HO",null,null,null,null,846.35594999999989,884.44196774999978,924.24185629874967]
["Community Services","NONF:AH:MRC:MUNICIPAL RUNNING COST","O/404512.AAH.000",null,null,null,null,null,null,"ADM & HO",null,null,null,null,17546.291949999999,18335.875087749999,19160.989466698746]
["Community Services","NONF:AH:MRC:MUNICIPAL RUNNING COST","O/404513.AAH.000",null,null,null,null,null,null,"ADM & HO",null,null,null,null,237.77929999999998,248.47936849999996,259.66094008249996]
["Community Services","NONF:AH:MRC:MUNICIPAL RUNNING COST","O/404513.AAH.000",null,null,null,null,null,null,"ADM & HO",null,null,null,null,777483.11409999989,812469.85423449986,849030.99767505226]
["Community Services","NONF:AH:MRC:MUNICIPAL RUNNING COST","O/404513.AAH.000",null,null,null,null,null,null,"ADM & HO",null,null,null,null,205731.59529999999,214989.51708849997,224664.04535748245]
["Community Services","NONF:AH:MRC:MUNICIPAL RUNNING COST","O/404513.AAH.000",null,null,null,null,null,null,"ADM & HO",null,null,null,null,4340.6791999999996,4536.0097639999994,4740.1302033799993]
["Community Services","NONF:AH:MRC:MUNICIPAL RUNNING COST","O/404513.AAH.000",null,null,null,null,null,null,"ADM & HO",null,null,null,null,584027.48909999989,610308.72610949981,637772.61878442729]
["Community Services","NONF:AH:MRC:MUNICIPAL RUNNING COST","O/404513.AAH.000",null,null,null,null,null,null,"ADM & HO",null,null,null,null,346561.19795,362156.45185774995,378453.49219134869]
["Community Services","NONF:AH:MRC:MUNICIPAL RUNNING COST","O/404513.AAH.000",null,null,null,null,null,null,"ADM & HO",null,null,null,null,2968818.3211500002,3102415.1456017499,3242023.8271538285]
["Community Services","NONF:AH:MRC:MUNICIPAL RUNNING COST","O/404513.AAH.000",null,null,null,null,null,null,"ADM & HO",null,null,null,null,246140.57489999998,257216.90077049995,268791.66130517243]
["Community Services","NONF:AH:MRC:MUNICIPAL RUNNING COST","O/404513.AAH.000",null,null,null,null,null,null,"ADM & HO",null,null,null,null,9.3422999999999981,9.7627034999999971,10.202025157499996]
["Infrastructure Services","NONF:AH:MRC:MUNICIPAL RUNNING COST","O/502100.AAH.000",null,null,null,null,null,null,"ADM & HO",null,null,null,null,3775.7835499999997,3945.6938097499992,4123.2500311887488]
["Infrastructure Services","NONF:AH:MRC:MUNICIPAL RUNNING COST","O/502100.AAH.000",null,null,null,null,null,null,"ADM & HO",null,null,null,null,3468.9401999999995,3625.0425089999994,3788.1694219049991]
["Infrastructure Services","NONF:AH:MRC:MUNICIPAL RUNNING COST","O/502100.AAH.000",null,null,null,null,null,null,"ADM & HO",null,null,null,null,1789.0817999999999,1869.5904809999997,1953.7220526449996]
["Infrastructure Services","NONF:AH:MRC:MUNICIPAL RUNNING COST","O/504124.AAH.000",null,null,null,null,null,null,"ADM & HO",null,null,null,null,51914.753550000001,54250.917459749995,56692.208745438744]
["Infrastructure Services","NONF:AH:MRC:MUNICIPAL RUNNING COST","O/504124.AAH.000",null,null,null,null,null,null,"ADM & HO",null,null,null,null,26812.338299999999,28018.893523499999,29279.743732057497]
["Infrastructure Services","NONF:AH:MRC:MUNICIPAL RUNNING COST","O/504124.AAH.000",null,null,null,null,null,null,"ADM & HO",null,null,null,null,17639.976200000001,18433.775129000001,19263.295009804999]
["Infrastructure Services","NONF:AH:MRC:MUNICIPAL RUNNING COST","O/504124.AAH.000",null,null,null,null,null,null,"ADM & HO",null,null,null,null,50530.901849999995,52804.79243324999,55181.008092746233]
["Infrastructure Services","NONF:AH:MRC:MUNICIPAL RUNNING COST","O/504124.AAH.000",null,null,null,null,null,null,"ADM & HO",null,null,null,null,13.59545,14.207245249999998,14.846571286249997]
["Infrastructure Services","NONF:AH:MRC:MUNICIPAL RUNNING COST","O/504124.AAH.000",null,null,null,null,null,null,"ADM & HO",null,null,null,null,248391.88109999997,259569.51574949996,271250.14395822742]
["Infrastructure Services","NONF:AH:MRC:MUNICIPAL RUNNING COST","O/504124.AAH.000",null,null,null,null,null,null,"ADM & HO",null,null,null,null,26269.220449999997,27451.335370249995,28686.645461911245]
["Infrastructure Services","NONF:AH:MRC:MUNICIPAL RUNNING COST","O/504124.AAH.000",null,null,null,null,null,null,"ADM & HO",null,null,null,null,723.45349999999985,756.00890749999974,790.02930833749963]
["Infrastructure Services","NONF:AH:MRC:MUNICIPAL RUNNING COST","O/504125.AAH.000",null,null,null,null,null,null,"ADM & HO",null,null,null,null,5320.7010999999993,5560.1326494999985,5810.3386187274982]
["Infrastructure Services","NONF:AH:MRC:MUNICIPAL RUNNING COST","O/504125.AAH.000",null,null,null,null,null,null,"ADM & HO",null,null,null,null,14277.803649999998,14920.304814249997,15591.718530891247]
["Infrastructure Services","NONF:AH:MRC:MUNICIPAL RUNNING COST","O/504125.AAH.000",null,null,null,null,null,null,"ADM & HO",null,null,null,null,1757.4496499999998,1836.5348842499995,1919.1789540412494]
["Infrastructure Services","NONF:AH:MRC:MUNICIPAL RUNNING COST","O/504125.AAH.000",null,null,null,null,null,null,"ADM & HO",null,null,null,null,107319621.81104998,112149004.79254723,117195710.00821184]
["Infrastructure Services","NONF:AH:MRC:MUNICIPAL RUNNING COST","O/504125.AAH.000",null,null,null,null,null,null,"ADM & HO",null,null,null,null,5746.4340999999995,6005.0236344999994,6275.2496980524993]
["Infrastructure Services","NONF:AH:MRC:MUNICIPAL RUNNING COST","O/504125.AAH.000",null,null,null,null,null,null,"ADM & HO",null,null,null,null,11716.257849999998,12243.489453249997,12794.446478646245]
["Infrastructure Services","NONF:AH:MRC:MUNICIPAL RUNNING COST","O/504125.AAH.000",null,null,null,null,null,null,"ADM & HO",null,null,null,null,10237.29025,10697.968311249999,11179.376885256248]
["Infrastructure Services","NONF:AH:MRC:MUNICIPAL RUNNING COST","O/504125.AAH.000",null,null,null,null,null,null,"ADM & HO",null,null,null,null,592196.2122999999,618845.04185349983,646693.06873690733]
["Infrastructure Services","NONF:AH:MRC:MUNICIPAL RUNNING COST","O/504125.AAH.000",null,null,null,null,null,null,"ADM & HO",null,null,null,null,1560242.9138999998,1630453.8450254996,1703824.2680516469]
["Infrastructure Services","NONF:AH:MRC:MUNICIPAL RUNNING COST","O/504126.AAH.000",null,null,null,null,null,null,"ADM & HO",null,null,null,null,21694.2418,22670.482680999998,23690.654401644995]
["Infrastructure Services","NONF:AH:MRC:MUNICIPAL RUNNING COST","O/504126.AAH.000",null,null,null,null,null,null,"ADM & HO",null,null,null,null,7002249.3067999994,7317350.5256059989,7646631.2992582684]
["Infrastructure Services","NONF:AH:MRC:MUNICIPAL RUNNING COST","O/504126.AAH.000",null,null,null,null,null,null,"ADM & HO",null,null,null,null,7944796.5244999994,8302312.3681024984,8675916.4246671107]
["Infrastructure Services","NONF:AH:MRC:MUNICIPAL RUNNING COST","O/504127.AAH.000",null,null,null,null,null,null,"ADM & HO",null,null,null,null,4404.56005,4602.7652522499993,4809.889688601249]
["Infrastructure Services","NONF:AH:MRC:MUNICIPAL RUNNING COST","O/504128.AAH.000",null,null,null,null,null,null,"ADM & HO",null,null,null,null,114792.77975,119958.45483875,125356.58530649374]
["Infrastructure Services","NONF:AH:MRC:MUNICIPAL RUNNING COST","O/504129.AAH.000",null,null,null,null,null,null,"ADM & HO",null,null,null,null,170913.70009999999,178604.81660449997,186642.03335170244]
["Infrastructure Services","NONF:AH:MRC:MUNICIPAL RUNNING COST","O/504129.AAH.000",null,null,null,null,null,null,"ADM & HO",null,null,null,null,82.952099999999987,86.684944499999986,90.585767002499978]
["Infrastructure Services","NONF:AH:MRC:MUNICIPAL RUNNING COST","O/504130.AAH.000",null,null,null,null,null,null,"ADM & HO",null,null,null,null,311.13830000000002,325.1395235,339.77080205749996]
["Infrastructure Services","NONF:AH:MRC:MUNICIPAL RUNNING COST","O/504131.AAH.000",null,null,null,null,null,null,"ADM & HO",null,null,null,null,1621047.69145,1693994.83756525,1770224.6052556862]
["Infrastructure Services","NONF:AH:MRC:MUNICIPAL RUNNING COST","O/504131.AAH.000",null,null,null,null,null,null,"ADM & HO",null,null,null,null,89974.071549999993,94022.904769749992,98253.935484388741]
["Infrastructure Services","NONF:AH:MRC:MUNICIPAL RUNNING COST","O/504131.AAH.000",null,null,null,null,null,null,"ADM & HO",null,null,null,null,29126.9715,30437.685217499999,31807.381052287496]
["Infrastructure Services","NONF:AH:MRC:MUNICIPAL RUNNING COST","O/504131.AAH.000",null,null,null,null,null,null,"ADM & HO",null,null,null,null,506572.14134999999,529367.88771074999,553189.44265773369]
["Infrastructure Services","NONF:AH:MRC:MUNICIPAL RUNNING COST","O/504131.AAH.000",null,null,null,null,null,null,"ADM & HO",null,null,null,null,144429.06334999998,150928.37120074997,157720.14790478372]
["Infrastructure Services","NONF:AH:MRC:MUNICIPAL RUNNING COST","O/504131.AAH.000",null,null,null,null,null,null,"ADM & HO",null,null,null,null,11778.059149999999,12308.071811749998,12861.935043278747]
["Infrastructure Services","NONF:AH:MRC:MUNICIPAL RUNNING COST","O/504131.AAH.000",null,null,null,null,null,null,"ADM & HO",null,null,null,null,25954.163399999998,27122.100752999995,28342.595286884993]
["Infrastructure Services","NONF:AH:MRC:MUNICIPAL RUNNING COST","O/504131.AAH.000",null,null,null,null,null,null,"ADM & HO",null,null,null,null,2152.5850499999997,2249.4513772499995,2350.6766892262494]
["Infrastructure Services","NONF:AH:MRC:MUNICIPAL RUNNING COST","O/504133.AAH.000",null,null,null,null,null,null,"ADM & HO",null,null,null,null,1074.4272000000001,1122.7764239999999,1173.3013630799999]
["Infrastructure Services","NONF:AH:MRC:MUNICIPAL RUNNING COST","O/504133.AAH.000",null,null,null,null,null,null,"ADM & HO",null,null,null,null,168.54804999999999,176.13271224999997,184.05868430124997]
["Infrastructure Services","NONF:AH:MRC:MUNICIPAL RUNNING COST","O/504133.AAH.000",null,null,null,null,null,null,"ADM & HO",null,null,null,null,8469.6831999999995,8850.8189439999987,9249.1057964799984]
["Infrastructure Services","NONF:AH:MRC:MUNICIPAL RUNNING COST","O/504133.AAH.000",null,null,null,null,null,null,"ADM & HO",null,null,null,null,5791.8184499999998,6052.4502802499992,6324.8105428612489]
["Infrastructure Services","NONF:AH:MRC:MUNICIPAL RUNNING COST","O/504136.AAH.000",null,null,null,null,null,null,"ADM & HO",null,null,null,null,2.1004499999999995,2.1949702499999995,2.2937439112499991]
["Infrastructure Services","NONF:AH:MRC:MUNICIPAL RUNNING COST","O/504136.AAH.000",null,null,null,null,null,null,"ADM & HO",null,null,null,null,4791.1682499999997,5006.7708212499992,5232.0755082062487]
["Infrastructure Services","NONF:AH:MRC:MUNICIPAL RUNNING COST","O/504136.AAH.000",null,null,null,null,null,null,"ADM & HO",null,null,null,null,1733.58185,1811.59303325,1893.1147197462499]
["Infrastructure Services","NONF:AH:MRC:MUNICIPAL RUNNING COST","O/504136.AAH.000",null,null,null,null,null,null,"ADM & HO",null,null,null,null,259.70339999999999,271.39005299999997,283.60260538499995]
["Infrastructure Services","NONF:AH:MRC:MUNICIPAL RUNNING COST","O/504136.AAH.000",null,null,null,null,null,null,"ADM & HO",null,null,null,null,29423.072249999997,30747.110501249994,32130.730473806241]
["Infrastructure Services","NONF:AH:MRC:MUNICIPAL RUNNING COST","O/504137.AAH.000",null,null,null,null,null,null,"ADM & HO",null,null,null,null,28137.638650000001,29403.832389249998,30727.004846766245]
["Infrastructure Services","NONF:AH:MRC:MUNICIPAL RUNNING COST","O/504140.AAH.000",null,null,null,null,null,null,"ADM & HO",null,null,null,null,2091.3689499999996,2185.4805527499993,2283.8271776237493]
["Infrastructure Services","NONF:AH:MRC:MUNICIPAL RUNNING COST","O/504140.AAH.000",null,null,null,null,null,null,"ADM & HO",null,null,null,null,233.78739999999999,244.30783299999999,255.30168548499998]
["Infrastructure Services","NONF:AH:MRC:MUNICIPAL RUNNING COST","O/504140.AAH.000",null,null,null,null,null,null,"ADM & HO",null,null,null,null,1141.27585,1192.6332632499998,1246.3017600962496]
["Infrastructure Services","NONF:AH:MRC:MUNICIPAL RUNNING COST","O/504140.AAH.000",null,null,null,null,null,null,"ADM & HO",null,null,null,null,9324.3259999999991,9743.9206699999977,10182.397100149998]
["Infrastructure Services","NONF:AH:MRC:MUNICIPAL RUNNING COST","O/504141.AAH.000",null,null,null,null,null,null,"ADM & HO",null,null,null,null,1038708.10725,1085449.97207625,1134295.2208196812]
["Infrastructure Services","NONF:AH:MRC:MUNICIPAL RUNNING COST","O/504141.AAH.000",null,null,null,null,null,null,"ADM & HO",null,null,null,null,28.758399999999998,30.052527999999995,31.404891759999995]
["Infrastructure Services","NONF:AH:MRC:MUNICIPAL RUNNING COST","O/504141.AAH.000",null,null,null,null,null,null,"ADM & HO",null,null,null,null,67880.106799999994,70934.711605999983,74126.773628269977]
["Infrastructure Services","NONF:AH:MRC:MUNICIPAL RUNNING COST","O/504141.AAH.000",null,null,null,null,null,null,"ADM & HO",null,null,null,null,35047.429449999996,36624.56377524999,38272.669145136235]
["Infrastructure Services","NONF:AH:MRC:MUNICIPAL RUNNING COST","O/404504.AAH.000",null,null,null,null,null,null,"ADM & HO",null,null,null,null,4707094.4260999998,4918913.6752744997,5140264.7906618519]
["Infrastructure Services","NONF:AH:MRC:MUNICIPAL RUNNING COST","O/504143.AAH.000",null,null,null,null,null,null,"ADM & HO",null,null,null,null,107775.81374999999,112625.72536874998,117693.88301034372]
["Infrastructure Services","NONF:AH:MRC:MUNICIPAL RUNNING COST","O/504143.AAH.000",null,null,null,null,null,null,"ADM & HO",null,null,null,null,3950.1,4127.8544999999995,4313.6079524999996]
["Infrastructure Services","NONF:AH:MRC:MUNICIPAL RUNNING COST","O/504143.AAH.000",null,null,null,null,null,null,"ADM & HO",null,null,null,null,32431.501849999997,33890.919433249997,35416.010807746243]
["Infrastructure Services","NONF:AH:MRC:MUNICIPAL RUNNING COST","O/504143.AAH.000",null,null,null,null,null,null,"ADM & HO",null,null,null,null,3162980.2511999998,3305314.3625039994,3454053.508816679]
["Infrastructure Services","NONF:AH:MRC:MUNICIPAL RUNNING COST","O/504143.AAH.000",null,null,null,null,null,null,"ADM & HO",null,null,null,null,8731.1212999999989,9124.0217584999973,9534.6027376324964]
["Infrastructure Services","NONF:AH:MRC:MUNICIPAL RUNNING COST","O/504167.AAH.000",null,null,null,null,null,null,"ADM & HO",null,null,null,null,3276.16905,3423.5966572499997,3577.6585068262493]
["Infrastructure Services","NONF:AH:MRC:MUNICIPAL RUNNING COST","O/504167.AAH.000",null,null,null,null,null,null,"ADM & HO",null,null,null,null,376.56574999999998,393.51120874999998,411.21921314374993]
["Infrastructure Services","NONF:AH:MRC:MUNICIPAL RUNNING COST","O/504167.AAH.000",null,null,null,null,null,null,"ADM & HO",null,null,null,null,978.59024999999997,1022.6268112499999,1068.6450177562499]
["Infrastructure Services","NONF:AH:MRC:MUNICIPAL RUNNING COST","O/504169.AAH.000",null,null,null,null,null,null,"ADM & HO",null,null,null,null,647.07444999999996,676.19280024999989,706.62147626124988]
["Infrastructure Services","NONF:AH:MRC:MUNICIPAL RUNNING COST","O/504169.AAH.000",null,null,null,null,null,null,"ADM & HO",null,null,null,null,307.95104999999995,321.80884724999993,336.29024537624991]
["Infrastructure Services","NONF:AH:MRC:MUNICIPAL RUNNING COST","O/504175.AAH.000",null,null,null,null,null,null,"ADM & HO",null,null,null,null,177.3783,185.36032349999999,193.70153805749999]
["Infrastructure Services","NONF:AH:MRC:MUNICIPAL RUNNING COST","O/504175.AAH.000",null,null,null,null,null,null,"ADM & HO",null,null,null,null,554.67554999999993,579.6359497499999,605.71956748874982]
["Infrastructure Services","NONF:AH:MRC:MUNICIPAL RUNNING COST","O/504202.AAH.000",null,null,null,null,null,null,"ADM & HO",null,null,null,null,21147439.457650002,22099074.233244251,23093532.57374024]
["Infrastructure Services","NONF:AH:MRC:MUNICIPAL RUNNING COST","O/504202.AAH.000",null,null,null,null,null,null,"ADM & HO",null,null,null,null,757813.27764999995,791914.87514424988,827551.04452574102]
["Infrastructure Services","NONF:AH:MRC:MUNICIPAL RUNNING COST","O/504202.AAH.000",null,null,null,null,null,null,"ADM & HO",null,null,null,null,475380.19760000001,496772.306492,519127.06028414]
["Infrastructure Services","NONF:AH:MRC:MUNICIPAL RUNNING COST","O/504202.AAH.000",null,null,null,null,null,null,"ADM & HO",null,null,null,null,200711.41529999999,209743.42898849997,219181.88329298247]
["Infrastructure Services","NONF:AH:MRC:MUNICIPAL RUNNING COST","O/504202.AAH.000",null,null,null,null,null,null,"ADM & HO",null,null,null,null,21229.906500000001,22185.252292500001,23183.588645662501]
["Infrastructure Services","NONF:AH:MRC:MUNICIPAL RUNNING COST","O/504202.AAH.000",null,null,null,null,null,null,"ADM & HO",null,null,null,null,47128.778949999993,49249.574002749992,51465.804832873735]
["Infrastructure Services","NONF:AH:MRC:MUNICIPAL RUNNING COST","O/504202.AAH.000",null,null,null,null,null,null,"ADM & HO",null,null,null,null,6721.8997999999992,7024.3852909999987,7340.4826290949977]
["Infrastructure Services","NONF:AH:MRC:MUNICIPAL RUNNING COST","O/504205.AAH.000",null,null,null,null,null,null,"ADM & HO",null,null,null,null,15.131599999999999,15.812521999999998,16.524085489999997]
["Infrastructure Services","NONF:AH:MRC:MUNICIPAL RUNNING COST","O/504205.AAH.000",null,null,null,null,null,null,"ADM & HO",null,null,null,null,7342.3685499999992,7672.7751347499989,8018.0500158137484]
["Infrastructure Services","NONF:AH:MRC:MUNICIPAL RUNNING COST","O/504205.AAH.000",null,null,null,null,null,null,"ADM & HO",null,null,null,null,1265.9548,1322.9227659999999,1382.4542904699997]
["Infrastructure Services","NONF:AH:MRC:MUNICIPAL RUNNING COST","O/504205.AAH.000",null,null,null,null,null,null,"ADM & HO",null,null,null,null,978.75744999999995,1022.8015352499999,1068.8276043362498]
["Infrastructure Services","NONF:AH:MRC:MUNICIPAL RUNNING COST","O/504205.AAH.000",null,null,null,null,null,null,"ADM & HO",null,null,null,null,320.4597,334.88038649999999,349.95000389249998]
["Infrastructure Services","NONF:AH:MRC:MUNICIPAL RUNNING COST","O/504207.AAH.000",null,null,null,null,null,null,"ADM & HO",null,null,null,null,7400.031649999999,7733.0330742499982,8081.0195625912474]
["Infrastructure Services","NONF:AH:MRC:MUNICIPAL RUNNING COST","O/504207.AAH.000",null,null,null,null,null,null,"ADM & HO",null,null,null,null,3256.9096999999997,3403.4706364999993,3556.6268151424988]
["Infrastructure Services","NONF:AH:MRC:MUNICIPAL RUNNING COST","O/504207.AAH.000",null,null,null,null,null,null,"ADM & HO",null,null,null,null,1708.4077999999997,1785.2861509999996,1865.6240277949994]
["Infrastructure Services","NONF:AH:MRC:MUNICIPAL RUNNING COST","O/504207.AAH.000",null,null,null,null,null,null,"ADM & HO",null,null,null,null,10142.508749999999,10598.921643749998,11075.873117718747]
["Infrastructure Services","NONF:AH:MRC:MUNICIPAL RUNNING COST","O/504207.AAH.000",null,null,null,null,null,null,"ADM & HO",null,null,null,null,43594.233649999995,45555.974164249994,47605.99300164124]
["Infrastructure Services","NONF:AH:MRC:MUNICIPAL RUNNING COST","O/504207.AAH.000",null,null,null,null,null,null,"ADM & HO",null,null,null,null,929.76784999999995,971.60740324999983,1015.3297363962498]
["Infrastructure Services","NONF:AH:MRC:MUNICIPAL RUNNING COST","O/504527.AAH.000",null,null,null,null,null,null,"ADM & HO",null,null,null,null,287202.23014999996,300126.33050674992,313632.01537955366]
["Infrastructure Services","NONF:AH:MRC:MUNICIPAL RUNNING COST","O/504527.AAH.000",null,null,null,null,null,null,"ADM & HO",null,null,null,null,46806.908499999998,48913.219382499992,51114.314254712488]
["Infrastructure Services","NONF:AH:MRC:MUNICIPAL RUNNING COST","O/504527.AAH.000",null,null,null,null,null,null,"ADM & HO",null,null,null,null,9357.2121499999994,9778.2866967499995,10218.30959810375]
["Infrastructure Services","NONF:AH:MRC:MUNICIPAL RUNNING COST","O/504527.AAH.000",null,null,null,null,null,null,"ADM & HO",null,null,null,null,13289.42175,13887.445728749999,14512.380786543748]
["Infrastructure Services","NONF:AH:MRC:MUNICIPAL RUNNING COST","O/504714.AAH.000",null,null,null,null,null,null,"ADM & HO",null,null,null,null,14936.508949999998,15608.651852749996,16311.041186123744]
["Infrastructure Services","NONF:AH:MRC:MUNICIPAL RUNNING COST","O/504786.AAH.000",null,null,null,null,null,null,"ADM & HO",null,null,null,null,206.4084,215.69677799999999,225.40313300999998]
["Infrastructure Services","NONF:AH:MRC:MUNICIPAL RUNNING COST","O/504786.AAH.000",null,null,null,null,null,null,"ADM & HO",null,null,null,null,32408.010249999999,33866.370711249998,35390.357393256243]
["Infrastructure Services","NONF:AH:MRC:MUNICIPAL RUNNING COST","O/504786.AAH.000",null,null,null,null,null,null,"ADM & HO",null,null,null,null,9.7707499999999996,10.210433749999998,10.669903268749998]
["Infrastructure Services","NONF:AH:MRC:MUNICIPAL RUNNING COST","O/504787.AAH.000",null,null,null,null,null,null,"ADM & HO",null,null,null,null,4.3053999999999997,4.4991429999999992,4.7016044349999992]
["Infrastructure Services","NONF:AH:MRC:MUNICIPAL RUNNING COST","O/504787.AAH.000",null,null,null,null,null,null,"ADM & HO",null,null,null,null,21229.216799999998,22184.531555999998,23182.835476019998]
["Infrastructure Services","NONF:AH:MRC:MUNICIPAL RUNNING COST","O/504787.AAH.000",null,null,null,null,null,null,"ADM & HO",null,null,null,null,5550.5384000000004,5800.3126279999997,6061.3266962599992]
["Infrastructure Services","NONF:AH:MRC:MUNICIPAL RUNNING COST","O/504787.AAH.000",null,null,null,null,null,null,"ADM & HO",null,null,null,null,139116.47144999998,145376.71266524997,151918.6647351862]
["Infrastructure Services","NONF:AH:MRC:MUNICIPAL RUNNING COST","O/504787.AAH.000",null,null,null,null,null,null,"ADM & HO",null,null,null,null,11539155.4509,12058417.446190499,12601046.231269071]
["Infrastructure Services","NONF:AH:MRC:MUNICIPAL RUNNING COST","O/504787.AAH.000",null,null,null,null,null,null,"ADM & HO",null,null,null,null,34219625.102849998,35759508.232478246,37368686.102939762]
["Infrastructure Services","NONF:AH:MRC:MUNICIPAL RUNNING COST","O/504787.AAH.000",null,null,null,null,null,null,"ADM & HO",null,null,null,null,276239.89799999999,288670.69340999995,301660.87461344991]
["Infrastructure Services","NONF:AH:MRC:MUNICIPAL RUNNING COST","O/504787.AAH.000",null,null,null,null,null,null,"ADM & HO",null,null,null,null,8546916.9554999992,8931528.218497498,9333446.9883298855]
["Infrastructure Services","NONF:AH:MRC:MUNICIPAL RUNNING COST","O/504787.AAH.000",null,null,null,null,null,null,"ADM & HO",null,null,null,null,54710.483849999997,57172.455623249996,59745.21612629624]
["Infrastructure Services","NONF:AH:MRC:MUNICIPAL RUNNING COST","O/504787.AAH.000",null,null,null,null,null,null,"ADM & HO",null,null,null,null,115115.03684999999,120295.21350824999,125708.49811612123]
["Infrastructure Services","NONF:AH:MRC:MUNICIPAL RUNNING COST","O/504787.AAH.000",null,null,null,null,null,null,"ADM & HO",null,null,null,null,423322.28949999996,442371.7925274999,462278.52319123736]
["Infrastructure Services","NONF:AH:MRC:MUNICIPAL RUNNING COST","O/504787.AAH.000",null,null,null,null,null,null,"ADM & HO",null,null,null,null,15688402.313099999,16394380.417189498,17132127.535963025]
["Infrastructure Services","NONF:AH:MRC:MUNICIPAL RUNNING COST","O/504787.AAH.000",null,null,null,null,null,null,"ADM & HO",null,null,null,null,1585.9338,1657.3008209999998,1731.8793579449996]
["Infrastructure Services","NONF:AH:MRC:MUNICIPAL RUNNING COST","O/504788.AAH.000",null,null,null,null,null,null,"ADM & HO",null,null,null,null,39962.252549999997,41760.553914749995,43639.778840913743]
["Infrastructure Services","NONF:AH:MRC:MUNICIPAL RUNNING COST","O/504788.AAH.000",null,null,null,null,null,null,"ADM & HO",null,null,null,null,9252.9106999999985,9669.2916814999971,10104.409807167496]
["Infrastructure Services","NONF:AH:MRC:MUNICIPAL RUNNING COST","O/504788.AAH.000",null,null,null,null,null,null,"ADM & HO",null,null,null,null,79766.908649999998,83356.419539249997,87107.458418516238]
["Infrastructure Services","NONF:AH:MRC:MUNICIPAL RUNNING COST","O/504789.AAH.000",null,null,null,null,null,null,"ADM & HO",null,null,null,null,13719.81545,14337.207145249999,14982.381466786248]
["Infrastructure Services","NONF:AH:MRC:MUNICIPAL RUNNING COST","O/504789.AAH.000",null,null,null,null,null,null,"ADM & HO",null,null,null,null,64621.472849999998,67529.43912825,70568.26388902124]
["Infrastructure Services","NONF:AH:MRC:MUNICIPAL RUNNING COST","O/504789.AAH.000",null,null,null,null,null,null,"ADM & HO",null,null,null,null,24449.624649999998,25549.857759249997,26699.601358416247]
["Infrastructure Services","NONF:AH:MRC:MUNICIPAL RUNNING COST","O/504789.AAH.000",null,null,null,null,null,null,"ADM & HO",null,null,null,null,86333.437849999988,90218.442553249974,94278.272468146213]
["Infrastructure Services","NONF:AH:MRC:MUNICIPAL RUNNING COST","O/504789.AAH.000",null,null,null,null,null,null,"ADM & HO",null,null,null,null,8193.4688000000006,8562.1748960000004,8947.4727663199992]
["Sustainable Development","NONF:AH:MRC:MUNICIPAL RUNNING COST","O/604101.AAH.000",null,null,null,null,null,null,"ADM & HO",null,null,null,null,6036.3797999999988,6308.0168909999984,6591.8776510949983]
["Sustainable Development","NONF:AH:MRC:MUNICIPAL RUNNING COST","O/604101.AAH.000",null,null,null,null,null,null,"ADM & HO",null,null,null,null,20125.811750000001,21031.47327875,21977.88957629375]
["Sustainable Development","NONF:AH:MRC:MUNICIPAL RUNNING COST","O/604101.AAH.000",null,null,null,null,null,null,"ADM & HO",null,null,null,null,7366.9782999999989,7698.4923234999978,8044.9244780574973]
["Sustainable Development","NONF:AH:MRC:MUNICIPAL RUNNING COST","O/604101.AAH.000",null,null,null,null,null,null,"ADM & HO",null,null,null,null,42992.512199999997,44927.175248999993,46948.898135204989]
["Sustainable Development","NONF:AH:MRC:MUNICIPAL RUNNING COST","O/604101.AAH.000",null,null,null,null,null,null,"ADM & HO",null,null,null,null,37345.081399999995,39025.610062999993,40781.762515834991]
["Sustainable Development","NONF:AH.000: NON-FUNDING TRANSACTIONS","O/604115.AAH.000",null,null,null,null,null,null,"ADM & HO",null,null,null,null,168.91379999999998,176.51492099999996,184.45809244499995]
["Sustainable Development","NONF:AH.000: NON-FUNDING TRANSACTIONS","O/604115.AAH.000",null,null,null,null,null,null,"ADM & HO",null,null,null,null,96.652049999999988,101.00139224999998,105.54645490124997]
["Sustainable Development","NONF:AH:MRC:MUNICIPAL RUNNING COST","O/604241.AAH.000",null,null,null,null,null,null,"ADM & HO",null,null,null,null,10431.7125,10901.139562499999,11391.690842812497]
["Sustainable Development","NONF:AH:MRC:MUNICIPAL RUNNING COST","O/604241.AAH.000",null,null,null,null,null,null,"ADM & HO",null,null,null,null,5129.2988999999998,5360.1173504999997,5601.3226312724992]
["Sustainable Development","NONF:AH:MRC:MUNICIPAL RUNNING COST","O/604265.AAH.000",null,null,null,null,null,null,"ADM & HO",null,null,null,null,736294.33459999994,769427.57965699991,804051.82074156485]
["Sustainable Development","NONF:AH:MRC:MUNICIPAL RUNNING COST","O/604265.AAH.000",null,null,null,null,null,null,"ADM & HO",null,null,null,null,1057.75945,1105.3586252499999,1155.0997633862498]
["Sustainable Development","NONF:AH:MRC:MUNICIPAL RUNNING COST","O/604265.AAH.000",null,null,null,null,null,null,"ADM & HO",null,null,null,null,1126.0501999999999,1176.7224589999998,1229.6749696549998]
["Sustainable Development","NONF:AH:MRC:MUNICIPAL RUNNING COST","O/604265.AAH.000",null,null,null,null,null,null,"ADM & HO",null,null,null,null,4069.4180999999994,4252.5419144999987,4443.9063006524984]
["Sustainable Development","NONF:AH:MRC:MUNICIPAL RUNNING COST","O/604265.AAH.000",null,null,null,null,null,null,"ADM & HO",null,null,null,null,42127.293999999994,44023.022229999988,46004.058230349983]
["Sustainable Development","NONF:AH:MRC:MUNICIPAL RUNNING COST","O/604270.AAH.000",null,null,null,null,null,null,"ADM & HO",null,null,null,null,54929.944299999996,57401.791793499993,59984.87242420749]
["Sustainable Development","NONF:AH:MRC:MUNICIPAL RUNNING COST","O/604270.AAH.000",null,null,null,null,null,null,"ADM & HO",null,null,null,null,123717.82169999999,129285.12367649998,135102.95424194247]
["Sustainable Development","NONF:AH:MRC:MUNICIPAL RUNNING COST","O/604270.AAH.000",null,null,null,null,null,null,"ADM & HO",null,null,null,null,585.12684999999988,611.45755824999981,638.97314837124975]
["Sustainable Development","NONF:AH:MRC:MUNICIPAL RUNNING COST","O/604285.AAH.000",null,null,null,null,null,null,"ADM & HO",null,null,null,null,19362.3243,20233.628893499998,21144.142193707496]
["Sustainable Development","NONF:AH:MRC:MUNICIPAL RUNNING COST","O/604285.AAH.000",null,null,null,null,null,null,"ADM & HO",null,null,null,null,20080.051199999998,20983.653503999998,21927.917911679997]
["Sustainable Development","NONF:AH:MRC:MUNICIPAL RUNNING COST","O/604285.AAH.000",null,null,null,null,null,null,"ADM & HO",null,null,null,null,8435.8147499999995,8815.4264137499995,9212.1206023687482]
["Sustainable Development","NONF:AH:MRC:MUNICIPAL RUNNING COST","O/604285.AAH.000",null,null,null,null,null,null,"ADM & HO",null,null,null,null,91972.22649999999,96110.976692499986,100435.97064366248]
["Sustainable Development","NONF:AH:MRC:MUNICIPAL RUNNING COST","O/604285.AAH.000",null,null,null,null,null,null,"ADM & HO",null,null,null,null,1527619.4037499998,1596362.2769187498,1668198.5793800934]
["Sustainable Development","NONF:AH:MRC:MUNICIPAL RUNNING COST","O/604285.AAH.000",null,null,null,null,null,null,"ADM & HO",null,null,null,null,18007.575850000001,18817.916763249999,19664.723017596247]
["Sustainable Development","NONF:AH:MRC:MUNICIPAL RUNNING COST","O/604285.AAH.000",null,null,null,null,null,null,"ADM & HO",null,null,null,null,25012.837849999996,26138.415553249994,27314.644253146242]
["Sustainable Development","NONF:AH:MRC:MUNICIPAL RUNNING COST","O/604285.AAH.000",null,null,null,null,null,null,"ADM & HO",null,null,null,null,75966.546699999992,79385.041301499979,82957.368160067475]
["Sustainable Development","NONF:AH:MRC:MUNICIPAL RUNNING COST","O/604285.AAH.000",null,null,null,null,null,null,"ADM & HO",null,null,null,null,844571.57069999992,882577.29138149985,922293.26949366729]
["Sustainable Development","NONF:AH:MRC:MUNICIPAL RUNNING COST","O/604285.AAH.000",null,null,null,null,null,null,"ADM & HO",null,null,null,null,49533.344850000001,51762.345368249997,54091.650909821241]
["Sustainable Development","NONF:AH:MRC:MUNICIPAL RUNNING COST","O/604347.AAH.000",null,null,null,null,null,null,"ADM & HO",null,null,null,null,23015.1636,24050.845961999999,25133.134030289999]
["Sustainable Development","NONF:AH:MRC:MUNICIPAL RUNNING COST","O/604347.AAH.000",null,null,null,null,null,null,"ADM & HO",null,null,null,null,54777.029449999995,57241.99577524999,59817.885585136239]
["Sustainable Development","NONF:AH:MRC:MUNICIPAL RUNNING COST","O/604347.AAH.000",null,null,null,null,null,null,"ADM & HO",null,null,null,null,45783.362349999996,47843.613655749992,49996.576270258738]
["Sustainable Development","NONF:AH:MRC:MUNICIPAL RUNNING COST","O/604347.AAH.000",null,null,null,null,null,null,"ADM & HO",null,null,null,null,233430.09359999996,243934.44781199994,254911.49796353991]
["Sustainable Development","NONF:AH:MRC:MUNICIPAL RUNNING COST","O/604480.AAH.000",null,null,null,null,null,null,"ADM & HO",null,null,null,null,20037.927249999997,20939.633976249996,21881.917505181245]
["Sustainable Development","NONF:AH:MRC:MUNICIPAL RUNNING COST","O/604480.AAH.000",null,null,null,null,null,null,"ADM & HO",null,null,null,null,70243.823649999991,73404.79571424998,76708.011521391221]
["Sustainable Development","NONF:AH:MRC:MUNICIPAL RUNNING COST","O/604480.AAH.000",null,null,null,null,null,null,"ADM & HO",null,null,null,null,156722.00444999998,163774.49465024998,171144.34690951122]
["Sustainable Development","NONF:AH:MRC:MUNICIPAL RUNNING COST","O/604480.AAH.000",null,null,null,null,null,null,"ADM & HO",null,null,null,null,56.680799999999998,59.231435999999995,61.896850619999988]
["Sustainable Development","NONF:AH:MRC:MUNICIPAL RUNNING COST","O/604480.AAH.000",null,null,null,null,null,null,"ADM & HO",null,null,null,null,104719.20965,109431.57408424999,114355.99491804124]
["Sustainable Development","NONF:AH:MRC:MUNICIPAL RUNNING COST","O/604508.AAH.000",null,null,null,null,null,null,"ADM & HO",null,null,null,null,390283.94569999998,407846.72325649997,426199.82580304245]
["Sustainable Development","NONF:AH:MRC:MUNICIPAL RUNNING COST","O/604508.AAH.000",null,null,null,null,null,null,"ADM & HO",null,null,null,null,22885.238749999997,23915.074493749995,24991.252845968742]
["Sustainable Development","NONF:AH:MRC:MUNICIPAL RUNNING COST","O/604508.AAH.000",null,null,null,null,null,null,"ADM & HO",null,null,null,null,17362.883999999998,18144.213779999998,18960.703400099996]
["Sustainable Development","NONF:AH:MRC:MUNICIPAL RUNNING COST","O/604508.AAH.000",null,null,null,null,null,null,"ADM & HO",null,null,null,null,725480.50739999989,758127.1302329998,792242.85109348479]
["Sustainable Development","NONF:AH:MRC:MUNICIPAL RUNNING COST","O/604508.AAH.000",null,null,null,null,null,null,"ADM & HO",null,null,null,null,5015738.4260499999,5241446.6552222492,5477311.7547072498]
["Sustainable Development","NONF:AH:MRC:MUNICIPAL RUNNING COST","O/604508.AAH.000",null,null,null,null,null,null,"ADM & HO",null,null,null,null,55110.697950000002,57590.679357749999,60182.259928848747]
["Sustainable Development","NONF:AH:MRC:MUNICIPAL RUNNING COST","O/604508.AAH.000",null,null,null,null,null,null,"ADM & HO",null,null,null,null,5114.1359499999999,5344.2720677499992,5584.7643107987487]
["Sustainable Development","NONF:AH:MRC:MUNICIPAL RUNNING COST","O/604511.AAH.000",null,null,null,null,null,null,"ADM & HO",null,null,null,null,119.9451,125.34262949999999,130.98304782749997]
["Sustainable Development","NONF:AH:MRC:MUNICIPAL RUNNING COST","O/604511.AAH.000",null,null,null,null,null,null,"ADM & HO",null,null,null,null,19088.210349999998,19947.179815749994,20844.802907458743]
["Sustainable Development","NONF:AH:MRC:MUNICIPAL RUNNING COST","O/604511.AAH.000",null,null,null,null,null,null,"ADM & HO",null,null,null,null,11223.279099999998,11728.326659499997,12256.101359177495]
["Sustainable Development","NONF:AH:MRC:MUNICIPAL RUNNING COST","O/604511.AAH.000",null,null,null,null,null,null,"ADM & HO",null,null,null,null,22005.829449999997,22996.091775249995,24030.915905136244]
["Sustainable Development","NONF:AH:MRC:MUNICIPAL RUNNING COST","O/604511.AAH.000",null,null,null,null,null,null,"ADM & HO",null,null,null,null,1142147.0978499998,1193543.7172532496,1247253.1845296458]
["Sustainable Development","MSE:AH:MRC:MUNICIPAL RUNNING COST","O/604511.JAH.000",null,null,null,null,null,null,"ADM & HO",null,null,null,null,6937.2011499999999,7249.3752017499992,7575.5970858287483]
["Sustainable Development","NONF:AH: MRC:MUNICIPAL RUNNING COST","O/604514.AAH.000",null,null,null,null,null,null,"ADM & HO",null,null,null,null,19159.479349999998,20021.655920749996,20922.630437183743]
["Sustainable Development","NONF:AH: MRC:MUNICIPAL RUNNING COST","O/604514.AAH.000",null,null,null,null,null,null,"ADM & HO",null,null,null,null,37088.3249,38757.299520499997,40501.377998922493]
["Sustainable Development","NONF:AH: MRC:MUNICIPAL RUNNING COST","O/604514.AAH.000",null,null,null,null,null,null,"ADM & HO",null,null,null,null,7349.0983499999993,7679.8077757499987,8025.3991256587478]
["Sustainable Development","NONF:AH:MRC:MUNICIPAL RUNNING COST","O/604515.AAH.000",null,null,null,null,null,null,"ADM & HO",null,null,null,null,219.5127,229.39077149999997,239.71335621749995]
["Sustainable Development","NONF:AH:MRC:MUNICIPAL RUNNING COST","O/604515.AAH.000",null,null,null,null,null,null,"ADM & HO",null,null,null,null,6169.7531499999996,6447.3920417499994,6737.5246836287488]
["Sustainable Development","NONF:AH:MRC:MUNICIPAL RUNNING COST","O/604517.AAH.000",null,null,null,null,null,null,"ADM & HO",null,null,null,null,6030.7785999999996,6302.1636369999987,6585.7610006649984]
["Sustainable Development","NONF:AH:MRC:MUNICIPAL RUNNING COST","O/604517.AAH.000",null,null,null,null,null,null,"ADM & HO",null,null,null,null,94000.884999999995,98230.924824999995,102651.31644212498]
["Sustainable Development","NONF:AH:MRC:MUNICIPAL RUNNING COST","O/604545.AAH.000",null,null,null,null,null,null,"ADM & HO",null,null,null,null,12.069749999999999,12.612888749999998,13.180468743749998]
["Sustainable Development","NONF:AH:MRC:MUNICIPAL RUNNING COST","O/604545.AAH.000",null,null,null,null,null,null,"ADM & HO",null,null,null,null,6479.0731499999993,6770.6314417499989,7075.3098566287481]
["Sustainable Development","NONF:AH:MRC:MUNICIPAL RUNNING COST","O/604545.AAH.000",null,null,null,null,null,null,"ADM & HO",null,null,null,null,1445.7470499999999,1510.8056672499999,1578.7919222762498]
["Sustainable Development","NONF:AH:MRC:MUNICIPAL RUNNING COST","O/604545.AAH.000",null,null,null,null,null,null,"ADM & HO",null,null,null,null,5019.9187499999998,5245.8150937499995,5481.8767729687488]
["Sustainable Development","NONF:AH:MRC:MUNICIPAL RUNNING COST","O/604546.AAH.000",null,null,null,null,null,null,"ADM & HO",null,null,null,null,8900.0768999999982,9300.5803604999983,9719.106476722498]
["Sustainable Development","NONF:AH:MRC:MUNICIPAL RUNNING COST","O/604546.AAH.000",null,null,null,null,null,null,"ADM & HO",null,null,null,null,2292.42695,2395.5861627499999,2503.3875400737497]
["Sustainable Development","NONF:AH:MRC:MUNICIPAL RUNNING COST","O/604546.AAH.000",null,null,null,null,null,null,"ADM & HO",null,null,null,null,2813.9551000000001,2940.5830794999997,3072.9093180774994]
["Sustainable Development","NONF:AH:MRC:MUNICIPAL RUNNING COST","O/604547.AAH.000",null,null,null,null,null,null,"ADM & HO",null,null,null,null,50637.272399999994,52915.94965799999,55297.167392609983]
["Sustainable Development","NONF:AH:MRC:MUNICIPAL RUNNING COST","O/604547.AAH.000",null,null,null,null,null,null,"ADM & HO",null,null,null,null,7185.8484499999995,7509.211630249999,7847.1261536112488]
["Sustainable Development","NONF:AH:MRC:MUNICIPAL RUNNING COST","O/604547.AAH.000",null,null,null,null,null,null,"ADM & HO",null,null,null,null,20582.4872,21508.699123999999,22476.590584579997]
["Sustainable Development","NONF:AH:MRC:MUNICIPAL RUNNING COST","O/604548.AAH.000",null,null,null,null,null,null,"ADM & HO",null,null,null,null,1875.5032999999999,1959.9009484999997,2048.0964911824994]
["Sustainable Development","NONF:AH:MRC:MUNICIPAL RUNNING COST","O/604548.AAH.000",null,null,null,null,null,null,"ADM & HO",null,null,null,null,51816.126449999996,54147.85214024999,56584.505486561233]
["Sustainable Development","NONF:AH:MRC:MUNICIPAL RUNNING COST","O/604548.AAH.000",null,null,null,null,null,null,"ADM & HO",null,null,null,null,69287.962150000007,72405.920446749995,75664.186866853735]
["Sustainable Development","NONF:AH:MRC:MUNICIPAL RUNNING COST","O/604548.AAH.000",null,null,null,null,null,null,"ADM & HO",null,null,null,null,17391.287100000001,18173.8950195,18991.720295377498]
["Sustainable Development","NONF:AH:MRC:MUNICIPAL RUNNING COST","O/604548.AAH.000",null,null,null,null,null,null,"ADM & HO",null,null,null,null,9726.4210999999996,10164.110049499999,10621.495001727499]
["Sustainable Development","NONF:AH:MRC:MUNICIPAL RUNNING COST","O/604549.AAH.000",null,null,null,null,null,null,"ADM & HO",null,null,null,null,2114.3380499999998,2209.4832622499998,2308.9100090512497]
["Sustainable Development","NONF:AH:MRC:MUNICIPAL RUNNING COST","O/604549.AAH.000",null,null,null,null,null,null,"ADM & HO",null,null,null,null,396.48345,414.32520524999995,432.9698394862499]
["Sustainable Development","NONF:AH:MRC:MUNICIPAL RUNNING COST","O/604549.AAH.000",null,null,null,null,null,null,"ADM & HO",null,null,null,null,6326.9211500000001,6611.6326017499996,6909.1560688287491]
["Sustainable Development","NONF:AH:MRC:MUNICIPAL RUNNING COST","O/604560.AAH.000",null,null,null,null,null,null,"ADM & HO",null,null,null,null,47285.790199999996,49413.650758999989,51637.265043154985]
["Sustainable Development","NONF:AH:MRC:MUNICIPAL RUNNING COST","O/604560.AAH.000",null,null,null,null,null,null,"ADM & HO",null,null,null,null,163285.87934999997,170633.74392074996,178312.26239718369]
["Sustainable Development","NONF:AH:MRC:MUNICIPAL RUNNING COST","O/604560.AAH.000",null,null,null,null,null,null,"ADM & HO",null,null,null,null,124879.89304999998,130499.48823724997,136371.9652079262]
["Sustainable Development","NONF:AH:MRC:MUNICIPAL RUNNING COST","O/604560.AAH.000",null,null,null,null,null,null,"ADM & HO",null,null,null,null,672310.75064999994,702564.73442924989,734180.14747856604]
["Sustainable Development","NONF:AH:MRC:MUNICIPAL RUNNING COST","O/604560.AAH.000",null,null,null,null,null,null,"ADM & HO",null,null,null,null,437045.99235000001,456713.06200574996,477265.14979600866]
["Sustainable Development","NONF:AH:MRC:MUNICIPAL RUNNING COST","O/604560.AAH.000",null,null,null,null,null,null,"ADM & HO",null,null,null,null,126572.61539999998,132268.38309299998,138220.46033218497]
["Sustainable Development","NONF:AH:MRC:MUNICIPAL RUNNING COST","O/604560.AAH.000",null,null,null,null,null,null,"ADM & HO",null,null,null,null,26080.838299999999,27254.476023499996,28480.927444557492]
["Sustainable Development","NONF:AH:MRC:MUNICIPAL RUNNING COST","O/604735.AAH.000",null,null,null,null,null,null,"ADM & HO",null,null,null,null,1002.0504999999999,1047.1427724999999,1094.2641972624997]
["Sustainable Development","NONF:AH:MRC:MUNICIPAL RUNNING COST","O/604735.AAH.000",null,null,null,null,null,null,"ADM & HO",null,null,null,null,3721.44355,3888.9085097499997,4063.9093926887494]
["Sustainable Development","NONF:AH:MRC:MUNICIPAL RUNNING COST","O/604735.AAH.000",null,null,null,null,null,null,"ADM & HO",null,null,null,null,38663.202599999997,40403.046716999997,42221.183819264996]
["Sustainable Development","NONF:AH:MRC:MUNICIPAL RUNNING COST","O/604735.AAH.000",null,null,null,null,null,null,"ADM & HO",null,null,null,null,2857.1135999999997,2985.6837119999996,3120.0394790399992]
["Sustainable Development","NONF:AH:MRC:MUNICIPAL RUNNING COST","O/604735.AAH.000",null,null,null,null,null,null,"ADM & HO",null,null,null,null,15232.108099999999,15917.552964499999,16633.842847902499]
["Sustainable Development","NONF:AH:MRC:MUNICIPAL RUNNING COST","O/604735.AAH.000",null,null,null,null,null,null,"ADM & HO",null,null,null,null,139.27759999999998,145.54509199999995,152.09462113999993]
["Sustainable Development","NONF:AH:MRC:MUNICIPAL RUNNING COST","O/604735.AAH.000",null,null,null,null,null,null,"ADM & HO",null,null,null,null,38725.003899999996,40467.629075499994,42288.672383897494]
["Sustainable Development","NONF:AH:MRC:MUNICIPAL RUNNING COST","O/604735.AAH.000",null,null,null,null,null,null,"ADM & HO",null,null,null,null,9818.4542499999989,10260.284691249999,10721.997502356247]
["Sustainable Development","NONF:AH:MRC:MUNICIPAL RUNNING COST","O/604745.AAH.000",null,null,null,null,null,null,"ADM & HO",null,null,null,null,41.496949999999998,43.364312749999996,45.315706823749991]
["Sustainable Development","NONF:AH:MRC:MUNICIPAL RUNNING COST","O/604745.AAH.000",null,null,null,null,null,null,"ADM & HO",null,null,null,null,48092.248049999995,50256.399212249991,52517.937176801235]
["Sustainable Development","NONF:AH:MRC:MUNICIPAL RUNNING COST","O/604745.AAH.000",null,null,null,null,null,null,"ADM & HO",null,null,null,null,18585.136899999998,19421.468060499996,20295.434123222494]
["Sustainable Development","NONF:AH:MRC:MUNICIPAL RUNNING COST","O/604745.AAH.000",null,null,null,null,null,null,"ADM & HO",null,null,null,null,204176.71890000001,213364.67125049999,222966.08145677246]
["Sustainable Development","NONF:AH:MRC:MUNICIPAL RUNNING COST","O/604745.AAH.000",null,null,null,null,null,null,"ADM & HO",null,null,null,null,4052.8861999999999,4235.266079,4425.8530525549995]
["Sustainable Development","NONF:AH:MRC:MUNICIPAL RUNNING COST","O/604745.AAH.000",null,null,null,null,null,null,"ADM & HO",null,null,null,null,6138169.2998999991,6414386.9183954988,6703034.3297232958]
["Sustainable Development","NONF:AH:MRC:MUNICIPAL RUNNING COST","O/604745.AAH.000",null,null,null,null,null,null,"ADM & HO",null,null,null,null,323631.04509999999,338194.44212949998,353413.19202532747]
["Electricity","MSU1/O/702100.AAH.000","O/702100.AAH.000",null,null,null,null,null,null,"ADM & HO",null,null,null,null,2539.56945,2653.8500752499999,2773.2733286362495]
["Electricity","MSU1/O/702100.AAH.000","O/702100.AAH.000",null,null,null,null,null,null,"ADM & HO",null,null,null,null,921.47054999999989,962.93672474999983,1006.2688773637498]
["Electricity","MSU1/O/702100.AAH.000","O/702100.AAH.000",null,null,null,null,null,null,"ADM & HO",null,null,null,null,206083.00789999997,215356.74325549995,225047.79670199743]
["Electricity","MSU1/O/702100.AAH.000","O/702100.AAH.000",null,null,null,null,null,null,"ADM & HO",null,null,null,null,32939.194199999998,34421.457938999993,35970.423546254991]
["Electricity","MSU1/O/702100.AAH.000","O/702100.AAH.000",null,null,null,null,null,null,"ADM & HO",null,null,null,null,1246317.52575,1302401.81440875,1361009.8960571438]
["Electricity","MSU1/O/702100.AAH.000","O/702100.AAH.000",null,null,null,null,null,null,"ADM & HO",null,null,null,null,1950775.53825,2038560.4374712498,2130295.657157456]
["Electricity","MSU1/O/702100.AAH.000","O/702100.AAH.000",null,null,null,null,null,null,"ADM & HO",null,null,null,null,1915.7880499999999,2001.9985122499997,2092.0884453012495]
["Electricity","MSU1/O/702100.AAH.000","O/702100.AAH.000",null,null,null,null,null,null,"ADM & HO",null,null,null,null,2361276.5137499999,2467533.9568687496,2578572.9849278433]
["Electricity","MSU1/O/702100.AAH.000","O/702100.AAH.000",null,null,null,null,null,null,"ADM & HO",null,null,null,null,1007323.0997499999,1052652.6392387499,1100022.0080044935]
["Electricity","MSU1/O/702100.AAH.000","O/702100.AAH.000",null,null,null,null,null,null,"ADM & HO",null,null,null,null,102590.16845,107206.72603024999,112031.02870161124]
["Electricity","MSU1/O/702100.AAH.000","O/702100.AAH.000",null,null,null,null,null,null,"ADM & HO",null,null,null,null,144839.70654999997,151357.49334474996,158168.58054526371]
["Electricity","MSU1/O/702100.AAH.000","O/702100.AAH.000",null,null,null,null,null,null,"ADM & HO",null,null,null,null,896943.5639999999,937306.02437999984,979484.79547709972]
["Electricity","MSU1/O/702100.AAH.000","O/702100.AAH.000",null,null,null,null,null,null,"ADM & HO",null,null,null,null,348956.223,364659.253035,381068.91942157497]
["Electricity","MSU1/O/702100.AAH.000","O/702100.AAH.000",null,null,null,null,null,null,"ADM & HO",null,null,null,null,1734.3551499999999,1812.4011317499996,1893.9591826787496]
["Electricity","MSU1/O/702100.AAH.000","O/702100.AAH.000",null,null,null,null,null,null,"ADM & HO",null,null,null,null,5866786.1125499988,6130791.4876147481,6406677.1045574117]
["Electricity","MSU1/O/702100.AAH.000","O/702100.AAH.000",null,null,null,null,null,null,"ADM & HO",null,null,null,null,2259485.7284999997,2361162.5862824996,2467414.9026652118]
["Electricity","MSU1/O/704065.AAH.000","O/704065.AAH.000",null,null,null,null,null,null,"ADM & HO",null,null,null,null,1715.8899999999999,1793.1050499999997,1873.7947772499995]
["Electricity","MSU1/O/704065.AAH.000","O/704065.AAH.000",null,null,null,null,null,null,"ADM & HO",null,null,null,null,64.789999999999992,67.705549999999988,70.752299749999978]
["Electricity","MSU1/O/704065.AAH.000","O/704065.AAH.000",null,null,null,null,null,null,"ADM & HO",null,null,null,null,1325.06,1384.6876999999999,1446.9986464999999]
["Electricity","MSU1/O/704067.AAH.000","O/704067.AAH.000",null,null,null,null,null,null,"ADM & HO",null,null,null,null,532892.10699999996,556872.25181499997,581931.50314667495]
["Electricity","MSU1/O/704067.AAH.000","O/704067.AAH.000",null,null,null,null,null,null,"ADM & HO",null,null,null,null,5500068.1081499998,5747571.1730167493,6006211.875802503]
["Electricity","MSU1/O/704067.AAH.000","O/704067.AAH.000",null,null,null,null,null,null,"ADM & HO",null,null,null,null,6759.9168999999993,7064.1131604999991,7381.9982527224984]
["Electricity","MSU1/O/704077.AAH.000","O/704077.AAH.000",null,null,null,null,null,null,"ADM & HO",null,null,null,null,591077.99959999998,617676.50958199997,645471.95251318987]
["Electricity","MSU1/O/704077.AAH.000","O/704077.AAH.000",null,null,null,null,null,null,"ADM & HO",null,null,null,null,6604698.8595500002,6901910.30822975,7212496.2721000882]
["Electricity","MSU1/O/704078.AAH.000","O/704078.AAH.000",null,null,null,null,null,null,"ADM & HO",null,null,null,null,49695204.09534999,51931488.279640734,54268405.252224565]
["Electricity","MSU1/O/704079.AAH.000","O/704079.AAH.000",null,null,null,null,null,null,"ADM & HO",null,null,null,null,290.20694999999995,303.26626274999995,316.91324457374992]
["Electricity","MSU1/O/704079.AAH.000","O/704079.AAH.000",null,null,null,null,null,null,"ADM & HO",null,null,null,null,558497.88829999999,583630.29327349993,609893.65647080739]
["Electricity","MSU1/O/704079.AAH.000","O/704079.AAH.000",null,null,null,null,null,null,"ADM & HO",null,null,null,null,336638.56764999998,351787.30319424998,367617.73183799122]
["Electricity","MSU1/O/704079.AAH.000","O/704079.AAH.000",null,null,null,null,null,null,"ADM & HO",null,null,null,null,15639.344599999999,16343.115106999998,17078.555286814997]
["Electricity","MSU1/O/704079.AAH.000","O/704079.AAH.000",null,null,null,null,null,null,"ADM & HO",null,null,null,null,26080511.058249999,27254134.055871248,28480570.088385452]
["Electricity","MSU1/O/704079.AAH.000","O/704079.AAH.000",null,null,null,null,null,null,"ADM & HO",null,null,null,null,132946.08085,138928.65448825,145180.44394022124]
["Electricity","MSU1/O/704081.AAH.000","O/704081.AAH.000",null,null,null,null,null,null,"ADM & HO",null,null,null,null,13237.203099999999,13832.877239499998,14455.356715277496]
["Electricity","MSU1/O/704081.AAH.000","O/704081.AAH.000",null,null,null,null,null,null,"ADM & HO",null,null,null,null,4863.9420499999997,5082.8194422499992,5311.5463171512483]
["Electricity","MSU1/O/704081.AAH.000","O/704081.AAH.000",null,null,null,null,null,null,"ADM & HO",null,null,null,null,2489.3571999999995,2601.3782739999992,2718.440296329999]
["Electricity","MSU1/O/704081.AAH.000","O/704081.AAH.000",null,null,null,null,null,null,"ADM & HO",null,null,null,null,31990.543199999996,33430.117643999991,34934.47293797999]
["Electricity","MSU1/O/704081.AAH.000","O/704081.AAH.000",null,null,null,null,null,null,"ADM & HO",null,null,null,null,3.8247,3.9968114999999997,4.1766680174999991]
["Electricity","MSU1/O/704081.AAH.000","O/704081.AAH.000",null,null,null,null,null,null,"ADM & HO",null,null,null,null,108240.13859999999,113110.94483699999,118200.93735466497]
["Electricity","MSU1/O/704081.AAH.000","O/704081.AAH.000",null,null,null,null,null,null,"ADM & HO",null,null,null,null,10960.5661,11453.791574499999,11969.212195352498]
["Electricity","MSU1/O/704082.AAH.000","O/704082.AAH.000",null,null,null,null,null,null,"ADM & HO",null,null,null,null,1716.36025,1793.5964612499997,1874.3083020062495]
["Electricity","MSU1/O/704082.AAH.000","O/704082.AAH.000",null,null,null,null,null,null,"ADM & HO",null,null,null,null,64.518299999999996,67.421623499999995,70.455596557499987]
["Electricity","MSU1/O/704082.AAH.000","O/704082.AAH.000",null,null,null,null,null,null,"ADM & HO",null,null,null,null,1325.53025,1385.17911125,1447.51217125625]
["Community Services","IGM:AH:MRC:MUNICIPAL RUNNING COST","O/402284.LAH.000",null,null,null,null,null,null,"ADM & HO",null,null,null,null,4979000,0,0]
["City Finance","LEVS:AH:MRC:MUNICIPAL RUNNING COST","O/203554.BAH.000",null,null,null,null,null,null,"ADM & HO",null,null,null,null,2150000,2255350,2361351.4499999997]
["City Finance","LEVS:AH:MRC:MUNICIPAL RUNNING COST","O/203554.BAH.000",null,null,null,null,null,null,"ADM & HO",null,null,null,null,20136,21122.663999999997,22115.429207999994]
["City Finance","LEVS:AH:MRC:MUNICIPAL RUNNING COST","O/203554.BAH.000",null,null,null,null,null,null,"ADM & HO",null,null,null,null,43784,45929.415999999997,48088.098551999996]
["City Finance","LEVS:AH:MRC:MUNICIPAL RUNNING COST","O/203554.BAH.000",null,null,null,null,null,null,"ADM & HO",null,null,null,null,47262.964050000002,49578.849288450001,51909.055205007149]
["City Finance","LEVS:AH:MRC:MUNICIPAL RUNNING COST","O/204026.BAH.000",null,null,null,null,null,null,"ADM & HO",null,null,null,null,27113.440949999997,28441.999556549996,29778.773535707842]
["City Finance","LEVS:AH:MRC:MUNICIPAL RUNNING COST","O/204170.BAH.000",null,null,null,null,null,null,"ADM & HO",null,null,null,null,11500,12063.5,12630.484499999999]
["City Finance","LEVS:AH:MRC:MUNICIPAL RUNNING COST","O/204160.BAH.000",null,null,null,null,null,null,"ADM & HO",null,null,null,null,20049,21031.400999999998,22019.876846999996]
["City Finance","LEVS:AH:MRC:MUNICIPAL RUNNING COST","O/204160.BAH.000",null,null,null,null,null,null,"ADM & HO",null,null,null,null,537,563.31299999999999,589.78871099999992]
["City Finance","LEVS:AH:MRC:MUNICIPAL RUNNING COST","O/204160.BAH.000",null,null,null,null,null,null,"ADM & HO",null,null,null,null,105242,110398.85799999999,115587.60432599999]
["City Finance","LEVS:AH:TWS:ASSETPR:VEHICLE MGMT SYST","O/204160.BAH.X08",null,null,null,null,null,null,"ADM & HO",null,null,null,null,143812,150858.788,157949.151036]
["City Finance","LEVS:AH:NIF:TRANSPORT ASSETS:PL","M/204160.BAH.E45",null,null,null,null,null,null,"ADM & HO",null,null,null,null,2450000,2570050,2690842.3499999996]
["City Finance","LEVS:AH:MRC:MUNICIPAL RUNNING COST","O/204160.BAH.000",null,null,null,null,null,null,"ADM & HO",null,null,null,null,3000,3147,3294.9089999999997]
["City Finance","LEVS:AH:MRC:MUNICIPAL RUNNING COST","O/204160.BAH.000",null,null,null,null,null,null,"ADM & HO",null,null,null,null,3436790,3605192.71,3774636.7673699996]
["City Finance","LEVS:AH:MRC:MUNICIPAL RUNNING COST","O/204160.BAH.000",null,null,null,null,null,null,"ADM & HO",null,null,null,null,16428,17232.971999999998,18042.921683999997]
["City Finance","LEVS:AH:MRC:MUNICIPAL RUNNING COST","O/204160.BAH.000",null,null,null,null,null,null,"ADM & HO",null,null,null,null,61805.262149999995,64833.719995349988,67880.904835131427]
["City Finance","LEVS:AH:MRC:MUNICIPAL RUNNING COST","O/204160.BAH.000",null,null,null,null,null,null,"ADM & HO",null,null,null,null,63640,66758.36,69896.002919999999]
["City Finance","LEVS:AH:MRC:MUNICIPAL RUNNING COST","O/204160.BAH.000",null,null,null,null,null,null,"ADM & HO",null,null,null,null,2550212,2675172.3879999998,2800905.4902359997]
["City Finance","LEVS:AH:MRC:MUNICIPAL RUNNING COST","O/204040.BAH.000",null,null,null,null,null,null,"ADM & HO",null,null,null,null,9600000,10070400,10543708.799999999]
["City Finance","LEVS:AH:MRC:MUNICIPAL RUNNING COST","O/204040.BAH.000",null,null,null,null,null,null,"ADM & HO",null,null,null,null,1500,1573.5,1647.4544999999998]
["City Finance","LEVS:AH:MRC:MUNICIPAL RUNNING COST","O/204025.BAH.000",null,null,null,null,null,null,"ADM & HO",null,null,null,null,11517.208200000001,12081.551401799999,12649.384317684598]
["City Finance","MSE:AH:MRC:MUNICIPAL RUNNING COST","O/204242.JAH.000",null,null,null,null,null,null,"ADM & HO",null,null,null,null,3055000,3204695,3355315.6649999996]
["City Finance","MSE:AH:MRC:MUNICIPAL RUNNING COST","O/204242.JAH.000",null,null,null,null,null,null,"ADM & HO",null,null,null,null,93521.5,98104.053499999995,102714.94401449998]
["City Finance","MSE:AH:MRC:MUNICIPAL RUNNING COST","O/204242.JAH.000",null,null,null,null,null,null,"ADM & HO",null,null,null,null,8596,9017.2039999999997,9441.0125879999996]
["City Finance","MSE:AH:MRC:MUNICIPAL RUNNING COST","O/204242.JAH.000",null,null,null,null,null,null,"ADM & HO",null,null,null,null,202000,211898,221857.20599999998]
["City Finance","MSE:AH:MRC:MUNICIPAL RUNNING COST","O/204242.JAH.000",null,null,null,null,null,null,"ADM & HO",null,null,null,null,73595.387249999985,77201.561225249985,80830.034602836735]
["City Finance","MSE:AH:MRC:MUNICIPAL RUNNING COST","O/204240.JAH.000",null,null,null,null,null,null,"ADM & HO",null,null,null,null,33951,35614.598999999995,37288.485152999994]
["City Finance","MSE:AH:MRC:MUNICIPAL RUNNING COST","O/204240.JAH.000",null,null,null,null,null,null,"ADM & HO",null,null,null,null,3212952,3370386.6479999996,3528794.8204559991]
["City Finance","MSE:AH:NIF:BUILD & OTHER STRUCT:PL","M/204240.JAH.E27",null,null,null,null,null,null,"ADM & HO",null,null,null,null,500000,524500,549151.5]
["City Finance","MSE:AH:MRC:MUNICIPAL RUNNING COST","O/204240.JAH.000",null,null,null,null,null,null,"ADM & HO",null,null,null,null,1500000,1573500,1647454.5]
["City Finance","MSE:AH:MRC:MUNICIPAL RUNNING COST","O/204240.JAH.000",null,null,null,null,null,null,"ADM & HO",null,null,null,null,21024,22054.175999999999,23090.722271999999]
["City Finance","MSE:AH:MRC:MUNICIPAL RUNNING COST","O/204240.JAH.000",null,null,null,null,null,null,"ADM & HO",null,null,null,null,46542.12,48822.683879999997,51117.350022359991]
["City Finance",null,"O/204242.JAH.000",null,null,null,null,null,null,"ADM & HO",null,null,null,null,20000,20980,21966.059999999998]
["City Finance",null,"O/204242.JAH.000",null,null,null,null,null,null,"ADM & HO",null,null,null,null,51348,53864.051999999996,56395.662443999994]
["City Finance",null,"M/204240.JAH.E45",null,null,null,null,null,null,"ADM & HO",null,null,null,null,6000,6294,6589.8179999999993]
["City Finance","LEVS:AH:MRC:MUNICIPAL RUNNING COST","O/203047.BAH.000",null,null,null,null,null,null,"ADM & HO",null,null,null,null,4761.2528999999995,4994.5542920999987,5229.2983438286983]
["City Finance","LEVS:AH:MRC:MUNICIPAL RUNNING COST","O/204027.BAH.000",null,null,null,null,null,null,"ADM & HO",null,null,null,null,50000,52450,54915.149999999994]
["City Finance","LEVS:AH:MRC:MUNICIPAL RUNNING COST","O/204027.BAH.000",null,null,null,null,null,null,"ADM & HO",null,null,null,null,1500000,1573500,1647454.5]
["City Finance","LEVS:AH:MRC:MUNICIPAL RUNNING COST","O/204027.BAH.000",null,null,null,null,null,null,"ADM & HO",null,null,null,null,10600,11119.4,11642.011799999998]
["City Finance","LEVS:AH:MRC:MUNICIPAL RUNNING COST","O/204027.BAH.000",null,null,null,null,null,null,"ADM & HO",null,null,null,null,53000,55597,58210.058999999994]
["City Finance","LEVS:AH:MRC:MUNICIPAL RUNNING COST","O/204027.BAH.000",null,null,null,null,null,null,"ADM & HO",null,null,null,null,26500,27798.5,29105.029499999997]
["City Finance","LEVS:AH:MRC:MUNICIPAL RUNNING COST","O/204027.BAH.000",null,null,null,null,null,null,"ADM & HO",null,null,null,null,3710,3891.79,4074.7041299999996]
["City Finance","LEVS:AH:MRC:MUNICIPAL RUNNING COST","O/204027.BAH.000",null,null,null,null,null,null,"ADM & HO",null,null,null,null,371000,389179,407470.413]
["City Finance","LEVS:AH:MRC:MUNICIPAL RUNNING COST","O/204027.BAH.000",null,null,null,null,null,null,"ADM & HO",null,null,null,null,36419.549400000004,38204.1073206,39999.700364668199]
["City Finance","LEVS:AH:MRC:MUNICIPAL RUNNING COST","O/204048.BAH.000",null,null,null,null,null,null,"ADM & HO",null,null,null,null,3710,3891.79,4074.7041299999996]
["City Finance","LEVS:AH:MRC:MUNICIPAL RUNNING COST","O/204048.BAH.000",null,null,null,null,null,null,"ADM & HO",null,null,null,null,75230.428499999995,78916.719496499994,82625.805312835495]
["City Finance","LEVS:AH:MRC:MUNICIPAL RUNNING COST","O/204104.BAH.000",null,null,null,null,null,null,"ADM & HO",null,null,null,null,4125,4327.125,4530.4998749999995]
["City Finance","LEVS:AH:MRC:MUNICIPAL RUNNING COST","O/204104.BAH.000",null,null,null,null,null,null,"ADM & HO",null,null,null,null,18000,18882,19769.453999999998]
["City Finance","LEVS:AH:MRC:MUNICIPAL RUNNING COST","O/204104.BAH.000",null,null,null,null,null,null,"ADM & HO",null,null,null,null,26868.512249999996,28185.069350249993,29509.76760971174]
["City Finance","LEVS:AH:MRC:MUNICIPAL RUNNING COST","O/202035.BAH.000",null,null,null,null,null,null,"ADM & HO",null,null,null,null,135000,141615,148270.905]
["City Finance","LEVS:AH:MRC:MUNICIPAL RUNNING COST","O/202035.BAH.000",null,null,null,null,null,null,"ADM & HO",null,null,null,null,1500000,1573500,1647454.5]
["City Finance","LEVS:AH:NIF:BUILD & OTHER STRUCT:PL","M/202035.BAH.E27",null,null,null,null,null,null,"ADM & HO",null,null,null,null,200000,209800,219660.59999999998]
["City Finance","LEVS:AH:TWS:PUBLIC PROTECT & SAFETY","O/202035.BAH.Y78",null,null,null,null,null,null,"ADM & HO",null,null,null,null,350000,367150,384406.05]
["City Finance","LEVS:AH:MRC:MUNICIPAL RUNNING COST","O/202035.BAH.000",null,null,null,null,null,null,"ADM & HO",null,null,null,null,104534,109656.166,114810.00580199999]
["City Finance","LEVS:AH:MRC:MUNICIPAL RUNNING COST","O/202035.BAH.000",null,null,null,null,null,null,"ADM & HO",null,null,null,null,12518647.42,13132061.143579999,13749268.017328259]
["City Finance","LEVS:AH:MRC:MUNICIPAL RUNNING COST","O/202035.BAH.000",null,null,null,null,null,null,"ADM & HO",null,null,null,null,7814,8196.8859999999986,8582.1396419999983]
["City Finance","LEVS:AH:MRC:MUNICIPAL RUNNING COST","O/202035.BAH.000",null,null,null,null,null,null,"ADM & HO",null,null,null,null,800000,839200,878642.39999999991]
["City Finance","LEVS:AH:MRC:MUNICIPAL RUNNING COST","O/202035.BAH.000",null,null,null,null,null,null,"ADM & HO",null,null,null,null,250000,262250,274575.75]
["City Finance","LEVS:AH:MRC:MUNICIPAL RUNNING COST","O/202035.BAH.000",null,null,null,null,null,null,"ADM & HO",null,null,null,null,80000,83920,87864.239999999991]
["City Finance","LEVS:AH:MRC:MUNICIPAL RUNNING COST","O/202035.BAH.000",null,null,null,null,null,null,"ADM & HO",null,null,null,null,50625,53105.625,55601.589374999996]
["City Finance","\"LEVS:AH:TWS:CAPBUIL:W/SH","O/202035.BAH.X19",null,null,null,null,null,null,"ADM & HO",null,null,null,null,49500,51925.5,54365.998499999994]
["City Finance","\"LEVS:AH:TWS:CAPBUIL:W/SH","O/202035.BAH.X19",null,null,null,null,null,null,"ADM & HO",null,null,null,null,10000,10490,10983.029999999999]
["City Finance","\"LEVS:AH:TWS:CAPBUIL:W/SH","O/202035.BAH.X19",null,null,null,null,null,null,"ADM & HO",null,null,null,null,40000,41960,43932.119999999995]
["City Finance","LEVS:AH:MRC:MUNICIPAL RUNNING COST","O/202035.BAH.000",null,null,null,null,null,null,"ADM & HO",null,null,null,null,64542.12,67704.683879999997,70886.804022359996]
["City Finance","LEVS:AH:MRC:MUNICIPAL RUNNING COST","O/204043.BAH.000",null,null,null,null,null,null,"ADM & HO",null,null,null,null,50000,52450,54915.149999999994]
["City Finance","LEVS:AH:MRC:MUNICIPAL RUNNING COST","O/204043.BAH.000",null,null,null,null,null,null,"ADM & HO",null,null,null,null,33678.479999999996,35328.725519999993,36989.175619439993]
["City Finance","LEVS:AH:MRC:MUNICIPAL RUNNING COST","O/204043.BAH.000",null,null,null,null,null,null,"ADM & HO",null,null,null,null,67096.118249999985,70383.828044249982,73691.867962329721]
["City Finance","LEVS:AH:MRC:MUNICIPAL RUNNING COST","O/204043.BAH.000",null,null,null,null,null,null,"ADM & HO",null,null,null,null,46542.12,48822.683879999997,51117.350022359991]
["City Finance","LEVS:AH:MRC:MUNICIPAL RUNNING COST","O/203030.BAH.000",null,null,null,null,null,null,"ADM & HO",null,null,null,null,18276.294599999997,19171.833035399995,20072.909188063793]
["City Finance","LEVS:AH:MRC:MUNICIPAL RUNNING COST","O/203045.BAH.000",null,null,null,null,null,null,"ADM & HO",null,null,null,null,22625,23733.625,24849.105374999999]
["City Finance","LEVS:AH:MRC:MUNICIPAL RUNNING COST","O/203045.BAH.000",null,null,null,null,null,null,"ADM & HO",null,null,null,null,20812000,21831788,22857882.035999998]
["City Finance","LEVS:AH:MRC:MUNICIPAL RUNNING COST","O/203045.BAH.000",null,null,null,null,null,null,"ADM & HO",null,null,null,null,3500000,3671499.9999999995,3844060.4999999991]
["City Finance","LEVS:AH:MRC:MUNICIPAL RUNNING COST","O/203045.BAH.000",null,null,null,null,null,null,"ADM & HO",null,null,null,null,1500000,1573500,1647454.5]
["City Finance","LEVS:AH:MRC:MUNICIPAL RUNNING COST","O/204041.BAH.000",null,null,null,null,null,null,"ADM & HO",null,null,null,null,7125,7474.1249999999991,7825.4088749999983]
["City Finance","LEVS:AH:MRC:MUNICIPAL RUNNING COST","O/204041.BAH.000",null,null,null,null,null,null,"ADM & HO",null,null,null,null,48000,50352,52718.543999999994]
["City Finance","LEVS:AH:MRC:MUNICIPAL RUNNING COST","O/204041.BAH.000",null,null,null,null,null,null,"ADM & HO",null,null,null,null,65424,68629.775999999998,71855.375472]
["City Finance","LEVS:AH:MRC:MUNICIPAL RUNNING COST","O/204041.BAH.000",null,null,null,null,null,null,"ADM & HO",null,null,null,null,47711.28645,50049.139486049993,52401.449041894339]
["City Finance","LEVS:AH:MRC:MUNICIPAL RUNNING COST","O/204041.BAH.000",null,null,null,null,null,null,"ADM & HO",null,null,null,null,46542.12,48822.683879999997,51117.350022359991]
["City Finance","LEVS:AH:MRC:MUNICIPAL RUNNING COST","O/204032.BAH.000",null,null,null,null,null,null,"ADM & HO",null,null,null,null,27102.38625,28430.403176249998,29766.632125533746]
["City Finance","LEVS:AH:MRC:MUNICIPAL RUNNING COST","O/204039.BAH.000",null,null,null,null,null,null,"ADM & HO",null,null,null,null,8155,8554.5949999999993,8956.6609649999991]
["City Finance","LEVS:AH:MRC:MUNICIPAL RUNNING COST","O/204039.BAH.000",null,null,null,null,null,null,"ADM & HO",null,null,null,null,1000000,1049000,1098303]
["City Finance","LEVS:AH:MRC:MUNICIPAL RUNNING COST","O/204039.BAH.000",null,null,null,null,null,null,"ADM & HO",null,null,null,null,4600000,4825400,5052193.8]
["City Finance","LEVS:AH:MRC:MUNICIPAL RUNNING COST","O/204039.BAH.000",null,null,null,null,null,null,"ADM & HO",null,null,null,null,14643.100349999999,15360.612267149998,16082.561043706046]
["City Finance","LEVS:AH:MRC:MUNICIPAL RUNNING COST","O/204033.BAH.000",null,null,null,null,null,null,"ADM & HO",null,null,null,null,7579,7950.3709999999992,8324.0384369999992]
["City Finance","LEVS:AH:MRC:MUNICIPAL RUNNING COST","O/204033.BAH.000",null,null,null,null,null,null,"ADM & HO",null,null,null,null,41983.066800000001,44040.237073199998,46110.128215640398]
["City Finance","LEVS:AH:MRC:MUNICIPAL RUNNING COST","O/203031.BAH.000",null,null,null,null,null,null,"ADM & HO",null,null,null,null,32232.469949999999,33811.860977549994,35401.018443494839]
["City Finance","LEVS:AH:MRC:MUNICIPAL RUNNING COST","O/204046.BAH.000",null,null,null,null,null,null,"ADM & HO",null,null,null,null,5990,6283.5099999999993,6578.834969999999]
["City Finance","LEVS:AH:MRC:MUNICIPAL RUNNING COST","O/204046.BAH.000",null,null,null,null,null,null,"ADM & HO",null,null,null,null,484466.24,508205.08575999993,532090.72479071992]
["City Finance","LEVS:AH:MRC:MUNICIPAL RUNNING COST","O/204046.BAH.000",null,null,null,null,null,null,"ADM & HO",null,null,null,null,6600,6923.4,7248.7997999999989]
["City Finance","LEVS:AH:MRC:MUNICIPAL RUNNING COST","O/204024.BAH.000",null,null,null,null,null,null,"ADM & HO",null,null,null,null,41684,43726.515999999996,45781.662251999995]
["City Finance","LEVS:AH:MRC:MUNICIPAL RUNNING COST","O/204024.BAH.000",null,null,null,null,null,null,"ADM & HO",null,null,null,null,280000,293720,307524.83999999997]
["City Finance","LEVS:AH:MRC:MUNICIPAL RUNNING COST","O/204024.BAH.000",null,null,null,null,null,null,"ADM & HO",null,null,null,null,600000,629400,658981.79999999993]
["City Finance","LEVS:AH:NIF:MACH & EQUIPMENT:PL","M/204024.BAH.E43",null,null,null,null,null,null,"ADM & HO",null,null,null,null,250000,262250,274575.75]
["City Finance","LEVS:AH:TWS:CAPBUIL:W/SH","O/204024.BAH.X19",null,null,null,null,null,null,"ADM & HO",null,null,null,null,3500000,3671499.9999999995,3844060.4999999991]
["City Finance","LEVS:AH:MRC:MUNICIPAL RUNNING COST","O/204024.BAH.000",null,null,null,null,null,null,"ADM & HO",null,null,null,null,12500000,13112500,13728787.5]
["City Finance","LEVS:AH:MRC:MUNICIPAL RUNNING COST","O/204024.BAH.000",null,null,null,null,null,null,"ADM & HO",null,null,null,null,75000,78675,82372.724999999991]
["City Finance","LEVS:AH:MRC:MUNICIPAL RUNNING COST","O/204024.BAH.000",null,null,null,null,null,null,"ADM & HO",null,null,null,null,89696,94091.103999999992,98513.38588799999]
["City Finance","LEVS:AH:MRC:MUNICIPAL RUNNING COST","O/204024.BAH.000",null,null,null,null,null,null,"ADM & HO",null,null,null,null,182531.40434999997,191475.44316314996,200474.788991818]
["City Finance","LEVS:AH:MRC:MUNICIPAL RUNNING COST","O/204024.BAH.000",null,null,null,null,null,null,"ADM & HO",null,null,null,null,182531.40434999997,191475.44316314996,200474.788991818]
["City Finance","LEVS:AH:MRC:MUNICIPAL RUNNING COST","O/204024.BAH.000",null,null,null,null,null,null,"ADM & HO",null,null,null,null,250000,262250,274575.75]
["City Finance","LEVS:AH:MRC:MUNICIPAL RUNNING COST","O/204024.BAH.000",null,null,null,null,null,null,"ADM & HO",null,null,null,null,186168.6,195290.86139999999,204469.53188579998]
["City Finance","LEVS:AH:MRC:MUNICIPAL RUNNING COST","O/204023.BAH.000",null,null,null,null,null,null,"ADM & HO",null,null,null,null,22125,23209.125,24299.953874999999]
["City Finance","LEVS:AH:MRC:MUNICIPAL RUNNING COST","O/204023.BAH.000",null,null,null,null,null,null,"ADM & HO",null,null,null,null,19000000,19931000,20867757]
["City Finance","LEVS:AH:MRC:MUNICIPAL RUNNING COST","O/204023.BAH.000",null,null,null,null,null,null,"ADM & HO",null,null,null,null,115840,121516.15999999999,127227.41951999998]
["City Finance","LEVS:AH:MRC:MUNICIPAL RUNNING COST","O/204023.BAH.000",null,null,null,null,null,null,"ADM & HO",null,null,null,null,106884.98685,112122.35120564999,117392.10171231553]
["City Finance","LEVS:AH:MRC:MUNICIPAL RUNNING COST","O/204022.BAH.000",null,null,null,null,null,null,"ADM & HO",null,null,null,null,16125,16915.125,17710.135875]
["City Finance","LEVS:AH:MRC:MUNICIPAL RUNNING COST","O/204022.BAH.000",null,null,null,null,null,null,"ADM & HO",null,null,null,null,8907,9343.4429999999993,9782.5848209999986]
["City Finance","LEVS:AH:MRC:MUNICIPAL RUNNING COST","O/204022.BAH.000",null,null,null,null,null,null,"ADM & HO",null,null,null,null,11876,12457.923999999999,13043.446427999997]
["City Finance","LEVS:AH:MRC:MUNICIPAL RUNNING COST","O/204022.BAH.000",null,null,null,null,null,null,"ADM & HO",null,null,null,null,17424,18277.775999999998,19136.831471999998]
["City Finance","LEVS:AH:MRC:MUNICIPAL RUNNING COST","O/204022.BAH.000",null,null,null,null,null,null,"ADM & HO",null,null,null,null,29898.075150000001,31363.080832349999,32837.145631470448]
["City Finance","LEVS:AH:MRC:MUNICIPAL RUNNING COST","O/204022.BAH.000",null,null,null,null,null,null,"ADM & HO",null,null,null,null,46542.12,48822.683879999997,51117.350022359991]
["City Finance","LEVS:AH:MRC:MUNICIPAL RUNNING COST","O/203049.BAH.000",null,null,null,null,null,null,"ADM & HO",null,null,null,null,59284.534949999994,62189.477162549992,65112.382589189838]
["City Finance","MSU1/O/204075.BAH.000","O/204075.BAH.000",null,null,null,null,null,null,"ADM & HO",null,null,null,null,50000,52450,54915.149999999994]
["City Finance","MSU1/O/204075.BAH.000","O/204075.BAH.000",null,null,null,null,null,null,"ADM & HO",null,null,null,null,10000,10490,10983.029999999999]
["City Finance","LEVS:AH:MRC:MUNICIPAL RUNNING COST","O/204020.BAH.000",null,null,null,null,null,null,"ADM & HO",null,null,null,null,161160,169056.84,177002.51147999999]
["City Finance","LEVS:AH:MRC:MUNICIPAL RUNNING COST","O/204020.BAH.000",null,null,null,null,null,null,"ADM & HO",null,null,null,null,1200000,1258800,1317963.5999999999]
["City Finance","LEVS:AH:MRC:MUNICIPAL RUNNING COST","O/204020.BAH.000",null,null,null,null,null,null,"ADM & HO",null,null,null,null,28478,29873.421999999999,31277.472833999997]
["City Finance","LEVS:AH:NIF:BUILD & OTHER STRUCT:PL","M/204020.BAH.E27",null,null,null,null,null,null,"ADM & HO",null,null,null,null,300000,314700,329490.89999999997]
["City Finance","LEVS:AH:NIF:TRANSPORT ASSETS:PL","M/204020.BAH.E45",null,null,null,null,null,null,"ADM & HO",null,null,null,null,171132,179517.46799999999,187954.78899599999]
["City Finance","LEVS:AH:MRC:MUNICIPAL RUNNING COST","O/204020.BAH.000",null,null,null,null,null,null,"ADM & HO",null,null,null,null,40391.5,42370.683499999999,44362.105624499993]
["City Finance","LEVS:AH:MRC:MUNICIPAL RUNNING COST","O/204020.BAH.000",null,null,null,null,null,null,"ADM & HO",null,null,null,null,59379,62288.570999999996,65216.133836999994]
["City Finance","LEVS:AH:MRC:MUNICIPAL RUNNING COST","O/204020.BAH.000",null,null,null,null,null,null,"ADM & HO",null,null,null,null,3000000,3147000,3294909]
["City Finance","LEVS:AH:MRC:MUNICIPAL RUNNING COST","O/204020.BAH.000",null,null,null,null,null,null,"ADM & HO",null,null,null,null,30000,31469.999999999996,32949.089999999997]
["City Finance","LEVS:AH:MRC:MUNICIPAL RUNNING COST","O/204020.BAH.000",null,null,null,null,null,null,"ADM & HO",null,null,null,null,25409,26654.040999999997,27906.780926999996]
["City Finance","LEVS:AH:MRC:MUNICIPAL RUNNING COST","O/204020.BAH.000",null,null,null,null,null,null,"ADM & HO",null,null,null,null,243800,255746.19999999998,267766.27139999997]
["City Finance","LEVS:AH:MRC:MUNICIPAL RUNNING COST","O/204020.BAH.000",null,null,null,null,null,null,"ADM & HO",null,null,null,null,372003.88229999994,390232.07253269991,408572.97994173679]
["City Finance","LEVS:AH:MRC:MUNICIPAL RUNNING COST","O/204020.BAH.000",null,null,null,null,null,null,"ADM & HO",null,null,null,null,500000,524500,549151.5]
["City Finance","LEVS:AH:MRC:MUNICIPAL RUNNING COST","O/204020.BAH.000",null,null,null,null,null,null,"ADM & HO",null,null,null,null,168324.84,176572.75715999998,184871.67674651995]
["City Finance","LEVS:AH:MRC:MUNICIPAL RUNNING COST","O/204051.BAH.000",null,null,null,null,null,null,"ADM & HO",null,null,null,null,33784,35439.415999999997,37105.068551999997]
["City Finance","LEVS:AH:MRC:MUNICIPAL RUNNING COST","O/204051.BAH.000",null,null,null,null,null,null,"ADM & HO",null,null,null,null,174695,183255.05499999999,191868.04258499999]
["City Finance","LEVS:AH:MRC:MUNICIPAL RUNNING COST","O/204051.BAH.000",null,null,null,null,null,null,"ADM & HO",null,null,null,null,856272,898229.32799999998,940446.10641599994]
["City Finance","LEVS:AH:MRC:MUNICIPAL RUNNING COST","O/204051.BAH.000",null,null,null,null,null,null,"ADM & HO",null,null,null,null,87679,91975.270999999993,96298.108736999988]
["City Finance","LEVS:AH:MRC:MUNICIPAL RUNNING COST","O/204051.BAH.000",null,null,null,null,null,null,"ADM & HO",null,null,null,null,73332.918000000005,76926.230981999994,80541.763838153987]
["City Finance","LEVS:AH:MRC:MUNICIPAL RUNNING COST","O/204051.BAH.000",null,null,null,null,null,null,"ADM & HO",null,null,null,null,72000,75528,79077.815999999992]
["City Finance","LEVS:AH:MRC:MUNICIPAL RUNNING COST","O/204050.BAH.000",null,null,null,null,null,null,"ADM & HO",null,null,null,null,38700.140399999997,40596.447279599997,42504.480301741198]
["City Finance","LEVS:AH:MRC:MUNICIPAL RUNNING COST","O/204037.BAH.000",null,null,null,null,null,null,"ADM & HO",null,null,null,null,85971,90183.578999999998,94422.207212999987]
["City Finance","LEVS:AH:MRC:MUNICIPAL RUNNING COST","O/204037.BAH.000",null,null,null,null,null,null,"ADM & HO",null,null,null,null,1390000,1458110,1526641.17]
["City Finance","LEVS:AH:NIF:BUILD & OTHER STRUCT:PL","M/204037.BAH.E27",null,null,null,null,null,null,"ADM & HO",null,null,null,null,132769,139274.68099999998,145820.59100699998]
["City Finance","LEVS:AH:NIF:MACH & EQUIPMENT:PL","M/204037.BAH.E43",null,null,null,null,null,null,"ADM & HO",null,null,null,null,160094,167938.606,175831.72048199998]
["City Finance","LEVS:AH:NIF:TRANSPORT ASSETS:PL","M/204037.BAH.E45",null,null,null,null,null,null,"ADM & HO",null,null,null,null,7125,7474.1249999999991,7825.4088749999983]
["City Finance","LEVS:AH:MRC:MUNICIPAL RUNNING COST","O/204037.BAH.000",null,null,null,null,null,null,"ADM & HO",null,null,null,null,39949,41906.500999999997,43876.106546999996]
["City Finance","LEVS:AH:MRC:MUNICIPAL RUNNING COST","O/204037.BAH.000",null,null,null,null,null,null,"ADM & HO",null,null,null,null,113934.17925,119516.95403324999,125134.25087281273]
["City Finance","LEVS:AH:MRC:MUNICIPAL RUNNING COST","O/204037.BAH.000",null,null,null,null,null,null,"ADM & HO",null,null,null,null,85366,89548.933999999994,93757.733897999991]
["City Finance","LEVS:AH:MRC:MUNICIPAL RUNNING COST","O/204037.BAH.000",null,null,null,null,null,null,"ADM & HO",null,null,null,null,46542.12,48822.683879999997,51117.350022359991]
["City Finance","LEVS:AH:MRC:MUNICIPAL RUNNING COST","O/204165.BAH.000",null,null,null,null,null,null,"ADM & HO",null,null,null,null,39000000,40911000,42833817]
["City Finance","LEVS:AH:MRC:MUNICIPAL RUNNING COST","O/204165.BAH.000",null,null,null,null,null,null,"ADM & HO",null,null,null,null,2559.3866999999996,2684.7966482999996,2810.9820907700991]
["City Finance","LEVS:AH:MRC:MUNICIPAL RUNNING COST","O/203012.BAH.000",null,null,null,null,null,null,"ADM & HO",null,null,null,null,200000,209800,219660.59999999998]
["City Finance","LEVS:AH:MRC:MUNICIPAL RUNNING COST","O/203012.BAH.000",null,null,null,null,null,null,"ADM & HO",null,null,null,null,30874.371299999999,32387.215493699998,33909.414621903896]
["INFRASTRUCTURE","EQBS:ZA:EFREE SERVICES:ELECTRICITY","O/504704.NZA.99F",null,null,null,null,null,null,"ALL ZONES",null,null,null,null,5170723.8448054874,5424089.3132009562,5679021.510921401]
["COMMUNITY SERVICES","EQBS:ZA:EFREE SERVICES:WASTE MGMT","O/404182.NZA.99F",null,null,null,null,null,null,"ALL ZONES",null,null,null,null,7899124.4185502129,8286181.5150591731,8675632.0462669544]
["INFRASTRUCTURE","EQBS:ZA:EFREE SERVICES:WASTE WATER","O/504202.NZA.99F",null,null,null,null,null,null,"ALL ZONES",null,null,null,null,19217183.396081448,20158825.382489435,21106290.175466437]
["INFRASTRUCTURE","EQBS:ZA:EFREE SERVICES:WATER","O/504787.NZA.99F",null,null,null,null,null,null,"ALL ZONES",null,null,null,null,238780546.43678865,250480793.21219128,262253390.49316427]
["COMMUNITY SERVICES","MSU1/M/404513.QAH.E27","M/404513.QAH.E27",null,null,null,null,null,null,"ADM & HO",null,null,null,null,2500000,1700000,3000000]
["COMMUNITY SERVICES","CLSG:AH:MRC:MUNICIPAL RUNNING COST","O/404513.QAH.000",null,null,null,null,null,null,"ADM & HO",null,null,null,null,5680542,6807669,6692903]
["COMMUNITY SERVICES","MSU1/M/404513.QAH.E45","M/404513.QAH.E27",null,null,null,null,null,null,"ADM & HO",null,null,null,null,200000,350000,370000]
["COMMUNITY SERVICES","CLSG:AH:MRC:MUNICIPAL RUNNING COST","O/404513.QAH.000",null,null,null,null,null,null,"ADM & HO",null,null,null,null,4626076.79,4857380.6294999998,5100249.6609749999]
["COMMUNITY SERVICES","CLSG:AH:MRC:MUNICIPAL RUNNING COST","O/404513.QAH.000",null,null,null,null,null,null,"ADM & HO",null,null,null,null,49942.46,52439.582999999999,55061.562149999998]
["COMMUNITY SERVICES","CLSG:AH:MRC:MUNICIPAL RUNNING COST","O/404513.QAH.000",null,null,null,null,null,null,"ADM & HO",null,null,null,null,159097.54,167052.41700000002,175405.03785000002]
["COMMUNITY SERVICES","CLSG:AH:MRC:MUNICIPAL RUNNING COST","O/404513.QAH.000",null,null,null,null,null,null,"ADM & HO",null,null,null,null,322341.12,338458.17600000004,355381.08480000007]
["Sustainable Development",null,"O/604508.A24.000",null,null,null,null,null,null,"ADM & HO",null,null,null,null,200000,0,0]
["Sustainable Development",null,"O/604480.B9H.000",null,null,null,null,null,null,"ADM & HO",null,null,null,null,10000,10000,10000]
["Sustainable Development",null,"O/604480.B9H.000",null,null,null,null,null,null,"ADM & HO",null,null,null,null,50000,50000,50000]
["Sustainable Development",null,"O/604480.B9H.000",null,null,null,null,null,null,"ADM & HO",null,null,null,null,5000,5000,5000]
["Sustainable Development",null,"O/604480.B9H.000",null,null,null,null,null,null,"ADM & HO",null,null,null,null,5000,5000,5000]
["Sustainable Development",null,"O/604480.B9H.000",null,null,null,null,null,null,"ADM & HO",null,null,null,null,10000,10000,10000]
["Sustainable Development",null,"O/604480.B9H.000",null,null,null,null,null,null,"ADM & HO",null,null,null,null,10000,10000,10000]
["Sustainable Development",null,"O/604480.B9H.000",null,null,null,null,null,null,"ADM & HO",null,null,null,null,30000,30000,30000]
["CITY MANAGER","LEVS:AH:MRC:MUNICIPAL RUNNING COST","O/104013.BAH.000",null,null,null,null,null,null,"ADM & HO",null,null,null,null,157950,165689.54999999999,173476.95884999997]
["City Finance","LEVS:AH:MRC:MUNICIPAL RUNNING COST","O/203060.BAH.000",null,null,null,null,null,null,"ADM & HO",null,null,null,null,542814.84503999993,569412.77244695986,596175.17275196698]
["City Finance","LEVS:AH:MRC:MUNICIPAL RUNNING COST","O/203060.BAH.000",null,null,null,null,null,null,"ADM & HO",null,null,null,null,40633866.818599999,42624926.292711399,44628297.828468829]
["City Finance","LEVS:AH:MRC:MUNICIPAL RUNNING COST","O/203060.BAH.000",null,null,null,null,null,null,"ADM & HO",null,null,null,null,380118.11254999996,398743.90006494994,417484.86336800258]
["City Finance","LEVS:AH:MRC:MUNICIPAL RUNNING COST","O/204020.BAH.000",null,null,null,null,null,null,"ADM & HO",null,null,null,null,1377252.4936499998,1444737.8658388497,1512640.5455332755]
["City Finance","LEVS:AH:MRC:MUNICIPAL RUNNING COST","O/204020.BAH.000",null,null,null,null,null,null,"ADM & HO",null,null,null,null,3373027.9681999995,3538306.3386417991,3704606.7365579633]
["City Finance","LEVS:AH:MRC:MUNICIPAL RUNNING COST","O/204020.BAH.000",null,null,null,null,null,null,"ADM & HO",null,null,null,null,403207.14719999995,422964.2974127999,442843.61939120147]
["City Finance","MSE:AH:MRC:MUNICIPAL RUNNING COST","O/204065.JAH.000",null,null,null,null,null,null,"ADM & HO",null,null,null,null,80205.84,84135.926159999988,88090.314689519975]
["COMMUNITY SERVICES","MSE:AH:MRC:MUNICIPAL RUNNING COST","O/403553.JAH.000",null,null,null,null,null,null,"ADM & HO",null,null,null,null,6520.7999999999993,6840.319199999999,7161.8142023999981]
["COMMUNITY SERVICES","MSE:AH:MRC:MUNICIPAL RUNNING COST","O/404327.JAH.000",null,null,null,null,null,null,"ADM & HO",null,null,null,null,121642.85924999998,127603.35935324997,133600.7172428527]
["COMMUNITY SERVICES","MSE:AH:MRC:MUNICIPAL RUNNING COST","O/404328.JAH.000",null,null,null,null,null,null,"ADM & HO",null,null,null,null,145567.52815,152700.33702934999,159877.25286972942]
["Sustainable Development","MSE:AH:MRC:MUNICIPAL RUNNING COST","O/604265.JAH.000",null,null,null,null,null,null,"ADM & HO",null,null,null,null,1431497.0120000001,1501640.365588,1572217.462770636]
["Sustainable Development","MSE:AH:MRC:MUNICIPAL RUNNING COST","O/604265.JAH.000",null,null,null,null,null,null,"ADM & HO",null,null,null,null,56779.866000000002,59562.079433999999,62361.497167397996]
["Sustainable Development","MSE:AH:MRC:MUNICIPAL RUNNING COST","O/604745.JAH.000",null,null,null,null,null,null,"ADM & HO",null,null,null,null,777083.73600000003,815160.83906399994,853473.39850000793]
[]
[]
[]
[]
[]
[]
[]
[]
[]
[]
[]
[]
[]
[]
[]
[]
[]
[]
[]
[]
[]
[]
[]
[]
[]
[]
[]
[]
[]
[]
[]
[]
[]
[]
[]
[]
[]
[]
[]
[]
[]
[]
[]
[]
[]
[]
[]
[]
[]
[]
[]
[]
[]
[]
[]
[]
[]
[]
[]
[]
[]
[]
[]
[]
[]
[]
[]
[]
[]
[]
[]
["Parent Operational expenditure",null,null,null,null,null,null,null,null,null,null,null,{"$f":"SUM(M7:M4129)","v":6949419417},{"$f":"SUM(N7:N4129)","v":6623210257.3479986},{"$f":"SUM(O7:O4129)","v":7894461717.9521713},{"$f":"SUM(P7:P4129)","v":8483171594.9640789},{"$f":"SUM(Q7:Q4129)","v":9179058937.4515553}]
[]
["Entities:"]
["List all Operational projects grouped by Entity"]
[]
["Entity A"]
["Water project A"]
[]
["Entity B"]
["Electricity project B"]
[]
[]
[]
["Entity Operational expenditure",null,null,null,null,null,null,null,null,null,null,null,{"$f":"SUM(M4135:M4142)","v":0},{"$f":"SUM(N4135:N4142)","v":0},{"$f":"SUM(O4135:O4142)","v":0},{"$f":"SUM(P4135:P4142)","v":0},{"$f":"SUM(Q4135:Q4142)","v":0}]
["Total Operational expenditure",null,null,null,null,null,null,null,null,null,null,null,{"$f":"SUM(M7:M4129)+SUM(M4135:M4142)","v":6949419417},{"$f":"SUM(N7:N4129)+SUM(N4135:N4142)","v":6623210257.3479986},{"$f":"SUM(O7:O4129)+SUM(O4135:O4142)","v":7894461717.9521713},{"$f":"SUM(P7:P4129)+SUM(P4135:P4142)","v":8483171594.9640789},{"$f":"SUM(Q7:Q4129)+SUM(Q4135:Q4142)","v":9179058937.4515553}]
[{"$f":"head27a","v":"References"}]
["Must reconcile with Budgeted Operating Expenditure"]
["Asset class as per table A9 and asset sub-class as per table SA34"]
["GPS coordinates correct to seconds. Provide a logical starting point on networked infrastructure."]
["Project Number consists of MSCOA Project Longcode and seq No (sample PO001001002001002001002_00066)",null,null,null,null,null,null,null,null,null,null,"check",{"$f":"+'A4-FinPerf RE'!E47-'SA38'!M4144","v":0},{"$f":"+'A4-FinPerf RE'!H47-'SA38'!N4144","v":0},{"$f":"+'A4-FinPerf RE'!J47-'SA38'!O4144","v":-190673922.95217133},{"$f":"+'A4-FinPerf RE'!K47-'SA38'!P4144","v":4056948.0359210968},{"$f":"+'A4-FinPerf RE'!L47-'SA38'!Q4144","v":4634020.5484447479}]

{"sheet":"LGDB_EXPORT","index":63,"n_rows":2876,"n_cols":23,"rows_kept":2876,"cut":false,"hidden":false,"merged":[]}
["FORM","YEAR END","MUNCDE","ITEMCODE","SEQ","DESCRIPTION",null,null,null,null,null,null,null,null,null,null,null,null,null,null,null,null,"~"]
["BSD",{"$f":"+MTREF","v":2023},{"$f":"LEFT(muni,(FIND(\" \",muni,1)-1))","v":{"$error":"#VALUE!"}},"1000",1,"Household service targets (000)",null,null,null,null,null,null,null,null,null,null,null,null,null,null,null,null,"~"]
["BSD",2023,{"$error":"#VALUE!"},"1100",2,"Water:",null,null,null,null,null,null,null,null,null,null,null,null,null,null,null,null,"~"]
["BSD",2023,{"$error":"#VALUE!"},"1101",3,"Piped water inside dwelling",null,null,null,null,null,null,null,null,null,null,null,null,null,null,null,null,"~"]
["BSD",2023,{"$error":"#VALUE!"},"1102",4,"Piped water inside yard (but not in dwelling)",null,null,null,null,null,null,null,null,null,null,null,null,null,null,null,null,"~"]
["BSD",2023,{"$error":"#VALUE!"},"1103",5,"Using public tap (at least min.service level)",null,null,null,null,null,null,null,null,null,null,null,null,null,null,null,null,"~"]
["BSD",2023,{"$error":"#VALUE!"},"1104",6,"Other water supply (at least min.service level)",null,null,null,null,null,null,null,null,null,null,null,null,null,null,null,null,"~"]
["BSD",2023,{"$error":"#VALUE!"},"1105",7,"Minimum Service Level and Above sub-total",null,null,null,null,null,null,null,null,null,null,null,null,null,null,null,null,"~"]
["BSD",2023,{"$error":"#VALUE!"},"1106",8,"Using public tap (< min.service level)",null,null,null,null,null,null,null,null,null,null,null,null,null,null,null,null,"~"]
["BSD",2023,{"$error":"#VALUE!"},"1107",9,"Other water supply (< min.service level)",null,null,null,null,null,null,null,null,null,null,null,null,null,null,null,null,"~"]
["BSD",2023,{"$error":"#VALUE!"},"1108",10,"No water supply",null,null,null,null,null,null,null,null,null,null,null,null,null,null,null,null,"~"]
["BSD",2023,{"$error":"#VALUE!"},"1109",11,"Below Minimum Service Level sub-total",null,null,null,null,null,null,null,null,null,null,null,null,null,null,null,null,"~"]
["BSD",2023,{"$error":"#VALUE!"},"1110",12,"Total number of households",null,null,null,null,null,null,null,null,null,null,null,null,null,null,null,null,"~"]
["BSD",2023,{"$error":"#VALUE!"},"1200",13,"Sanitation/sewerage:",null,null,null,null,null,null,null,null,null,null,null,null,null,null,null,null,"~"]
["BSD",2023,{"$error":"#VALUE!"},"1201",14,"Flush toilet (connected to sewerage)",null,null,null,null,null,null,null,null,null,null,null,null,null,null,null,null,"~"]
["BSD",2023,{"$error":"#VALUE!"},"1202",15,"Flush toilet (with septic tank)",null,null,null,null,null,null,null,null,null,null,null,null,null,null,null,null,"~"]
["BSD",2023,{"$error":"#VALUE!"},"1203",16,"Chemical toilet",null,null,null,null,null,null,null,null,null,null,null,null,null,null,null,null,"~"]
["BSD",2023,{"$error":"#VALUE!"},"1204",17,"Pit toilet (ventilated)",null,null,null,null,null,null,null,null,null,null,null,null,null,null,null,null,"~"]
["BSD",2023,{"$error":"#VALUE!"},"1205",18,"Other toilet provisions (> min.service level)",null,null,null,null,null,null,null,null,null,null,null,null,null,null,null,null,"~"]
["BSD",2023,{"$error":"#VALUE!"},"1206",19,"Minimum Service Level and Above sub-total",null,null,null,null,null,null,null,null,null,null,null,null,null,null,null,null,"~"]
["BSD",2023,{"$error":"#VALUE!"},"1207",20,"Bucket toilet",null,null,null,null,null,null,null,null,null,null,null,null,null,null,null,null,"~"]
["BSD",2023,{"$error":"#VALUE!"},"1208",21,"Other toilet provisions (< min.service level)",null,null,null,null,null,null,null,null,null,null,null,null,null,null,null,null,"~"]
["BSD",2023,{"$error":"#VALUE!"},"1209",22,"No toilet provisions",null,null,null,null,null,null,null,null,null,null,null,null,null,null,null,null,"~"]
["BSD",2023,{"$error":"#VALUE!"},"1210",23,"Below Minimum Service Level sub-total",null,null,null,null,null,null,null,null,null,null,null,null,null,null,null,null,"~"]
["BSD",2023,{"$error":"#VALUE!"},"1211",24,"Total number of households",null,null,null,null,null,null,null,null,null,null,null,null,null,null,null,null,"~"]
["BSD",2023,{"$error":"#VALUE!"},"1300",25,"Energy:",null,null,null,null,null,null,null,null,null,null,null,null,null,null,null,null,"~"]
["BSD",2023,{"$error":"#VALUE!"},"1301",26,"Electricity (at least min.service level)",null,null,null,null,null,null,null,null,null,null,null,null,null,null,null,null,"~"]
["BSD",2023,{"$error":"#VALUE!"},"1302",27,"Electricity - prepaid (min.service level)",null,null,null,null,null,null,null,null,null,null,null,null,null,null,null,null,"~"]
["BSD",2023,{"$error":"#VALUE!"},"1303",28,"Minimum Service Level and Above sub-total",null,null,null,null,null,null,null,null,null,null,null,null,null,null,null,null,"~"]
["BSD",2023,{"$error":"#VALUE!"},"1304",29,"Electricity (< min.service level)",null,null,null,null,null,null,null,null,null,null,null,null,null,null,null,null,"~"]
["BSD",2023,{"$error":"#VALUE!"},"1305",30,"Electricity - prepaid (< min. service level)",null,null,null,null,null,null,null,null,null,null,null,null,null,null,null,null,"~"]
["BSD",2023,{"$error":"#VALUE!"},"1306",31,"Other energy sources",null,null,null,null,null,null,null,null,null,null,null,null,null,null,null,null,"~"]
["BSD",2023,{"$error":"#VALUE!"},"1307",32,"Below Minimum Service Level sub-total",null,null,null,null,null,null,null,null,null,null,null,null,null,null,null,null,"~"]
["BSD",2023,{"$error":"#VALUE!"},"1308",33,"Total number of households",null,null,null,null,null,null,null,null,null,null,null,null,null,null,null,null,"~"]
["BSD",2023,{"$error":"#VALUE!"},"1400",34,"Refuse:",null,null,null,null,null,null,null,null,null,null,null,null,null,null,null,null,"~"]
["BSD",2023,{"$error":"#VALUE!"},"1401",35,"Removed at least once a week",null,null,null,null,null,null,null,null,null,null,null,null,null,null,null,null,"~"]
["BSD",2023,{"$error":"#VALUE!"},"1402",36,"Minimum Service Level and Above sub-total",null,null,null,null,null,null,null,null,null,null,null,null,null,null,null,null,"~"]
["BSD",2023,{"$error":"#VALUE!"},"1403",37,"Removed less frequently than once a week",null,null,null,null,null,null,null,null,null,null,null,null,null,null,null,null,"~"]
["BSD",2023,{"$error":"#VALUE!"},"1404",38,"Using communal refuse dump",null,null,null,null,null,null,null,null,null,null,null,null,null,null,null,null,"~"]
["BSD",2023,{"$error":"#VALUE!"},"1405",39,"Using own refuse dump",null,null,null,null,null,null,null,null,null,null,null,null,null,null,null,null,"~"]
["BSD",2023,{"$error":"#VALUE!"},"1406",40,"Other rubbish disposal",null,null,null,null,null,null,null,null,null,null,null,null,null,null,null,null,"~"]
["BSD",2023,{"$error":"#VALUE!"},"1407",41,"No rubbish disposal",null,null,null,null,null,null,null,null,null,null,null,null,null,null,null,null,"~"]
["BSD",2023,{"$error":"#VALUE!"},"1408",42,"Below Minimum Service Level sub-total",null,null,null,null,null,null,null,null,null,null,null,null,null,null,null,null,"~"]
["BSD",2023,{"$error":"#VALUE!"},"1409",43,"Total number of households",null,null,null,null,null,null,null,null,null,null,null,null,null,null,null,null,"~"]
["BSD",2023,{"$error":"#VALUE!"},null,null,null,null,null,null,null,null,null,null,null,null,null,null,null,null,null,null,null,"~"]
["BSD",2023,{"$error":"#VALUE!"},"1500",45,"Households receiving Free Basic Service",null,null,null,null,null,null,null,null,null,null,null,null,null,null,null,null,"~"]
["BSD",2023,{"$error":"#VALUE!"},"1501",46,"Water (6 kilolitres per household per month)",null,null,null,null,null,null,null,null,null,null,null,null,null,null,null,null,"~"]
["BSD",2023,{"$error":"#VALUE!"},"1502",47,"Sanitation (free minimum level service)",null,null,null,null,null,null,null,null,null,null,null,null,null,null,null,null,"~"]
["BSD",2023,{"$error":"#VALUE!"},"1503",48,"Electricity/other energy (50kwh per household per month)",null,null,null,null,null,null,null,null,null,null,null,null,null,null,null,null,"~"]
["BSD",2023,{"$error":"#VALUE!"},"1504",49,"Refuse (removed at least once a week)",null,null,null,null,null,null,null,null,null,null,null,null,null,null,null,null,"~"]
["BSD",2023,{"$error":"#VALUE!"},null,null,null,null,null,null,null,null,null,null,null,null,null,null,null,null,null,null,null,"~"]
["BSD",2023,{"$error":"#VALUE!"},"1600",51,"Cost of Free Basic Services provided - Formal Settlements (R'000)",null,null,null,null,null,null,null,null,null,null,null,null,null,null,null,null,"~"]
["BSD",2023,{"$error":"#VALUE!"},"1601",52,"Water (6 kilolitres per indigent household per month)",null,null,null,null,null,null,null,null,null,null,null,null,null,null,null,null,"~"]
["BSD",2023,{"$error":"#VALUE!"},"1602",53,"Sanitation (free sanitation service to indigent households)",null,null,null,null,null,null,null,null,null,null,null,null,null,null,null,null,"~"]
["BSD",2023,{"$error":"#VALUE!"},"1603",54,"Electricity/other energy (50kwh per indigent household per month)",null,null,null,null,null,null,null,null,null,null,null,null,null,null,null,null,"~"]
["BSD",2023,{"$error":"#VALUE!"},"1604",55,"Refuse (removed once a week for indigent households)",null,null,null,null,null,null,null,null,null,null,null,null,null,null,null,null,"~"]
["BSD",2023,{"$error":"#VALUE!"},1606,56,"Cost of Free Basic Services provided - Informal Formal Settlements (R'000)",null,null,null,null,null,null,null,null,null,null,null,null,null,null,null,null,"~"]
["BSD",2023,{"$error":"#VALUE!"},1607,57,"Total cost of FBS provided  ",null,null,null,null,null,null,null,null,null,null,null,null,null,null,null,null,"~"]
["BSD",2023,{"$error":"#VALUE!"},null,null,null,null,null,null,null,null,null,null,null,null,null,null,null,null,null,null,null,"~"]
["BSD",2023,{"$error":"#VALUE!"},"1700",58,"Highest level of free service provided per household",null,null,null,null,null,null,null,null,null,null,null,null,null,null,null,null,"~"]
["BSD",2023,{"$error":"#VALUE!"},"1701",59,"Property rates (R value threshold)",null,null,null,null,null,null,null,null,null,null,null,null,null,null,null,null,"~"]
["BSD",2023,{"$error":"#VALUE!"},"1702",60,"Water (kilolitres per household per month)",null,null,null,null,null,null,null,null,null,null,null,null,null,null,null,null,"~"]
["BSD",2023,{"$error":"#VALUE!"},"1703",61,"Sanitation (kilolitres per household per month)",null,null,null,null,null,null,null,null,null,null,null,null,null,null,null,null,"~"]
["BSD",2023,{"$error":"#VALUE!"},"1704",62,"Sanitation (Rand per household per month)",null,null,null,null,null,null,null,null,null,null,null,null,null,null,null,null,"~"]
["BSD",2023,{"$error":"#VALUE!"},"1705",63,"Electricity (kwh per household per month)",null,null,null,null,null,null,null,null,null,null,null,null,null,null,null,null,"~"]
["BSD",{"$f":"+MTREF","v":2023},{"$f":"LEFT(muni,(FIND(\" \",muni,1)-1))","v":{"$error":"#VALUE!"}},"1706",64,"Refuse (average litres per week)",null,null,null,null,null,null,null,null,null,null,null,null,null,null,null,null,"~"]
["BSD",2023,{"$error":"#VALUE!"},"1707",65,"Revenue  cost of subsidised services provided (R'000)",null,null,null,null,null,null,null,null,null,null,null,null,null,null,null,null,"~"]
["BSD",2023,{"$error":"#VALUE!"},"1708",66,"Property rates (tariff adjustment) ( impermissable values per section 17 of MPRA)",null,null,null,null,null,null,null,null,null,null,null,null,null,null,null,null,"~"]
["BSD",2023,{"$error":"#VALUE!"},"1709",67,"Property rates  exemptions, reductions and rebates and impermissable values in excess of section 17 of MPRA)",null,null,null,null,null,null,null,null,null,null,null,null,null,null,null,null,"~"]
["BSD",2023,{"$error":"#VALUE!"},"1710",68,"Water (in excess of 6 kilolitres per indigent household per month)",null,null,null,null,null,null,null,null,null,null,null,null,null,null,null,null,"~"]
["BSD",2023,{"$error":"#VALUE!"},"1711",69,"Sanitation (in excess of free sanitation service to indigent households)",null,null,null,null,null,null,null,null,null,null,null,null,null,null,null,null,"~"]
["BSD",2023,{"$error":"#VALUE!"},"1712",70,"Electricity/other energy (in excess of 50 kwh per indigent household per month)",null,null,null,null,null,null,null,null,null,null,null,null,null,null,null,null,"~"]
["BSD",2023,{"$error":"#VALUE!"},"1713",71,"Refuse (in excess of one removal a week for indigent households)",null,null,null,null,null,null,null,null,null,null,null,null,null,null,null,null,"~"]
["BSD",2023,{"$error":"#VALUE!"},"1714",72,"Municipal Housing - rental rebates",null,null,null,null,null,null,null,null,null,null,null,null,null,null,null,null,"~"]
["BSD",2023,{"$error":"#VALUE!"},"1715",73,"Housing - top structure subsidies",null,null,null,null,null,null,null,null,null,null,null,null,null,null,null,null,"~"]
["BSD",2023,{"$error":"#VALUE!"},"1716",74,"Other",null,null,null,null,null,null,null,null,null,null,null,null,null,null,null,null,"~"]
["BSD",2023,{"$error":"#VALUE!"},"1717",75,"Total revenue cost of subsidised services provided ",null,null,null,null,null,null,null,null,null,null,null,null,null,null,null,null,"~"]
["SA11",2023,{"$error":"#VALUE!"},1000,"T","Valuation:",null,null,null,null,null,null,null,null,null,null,null,null,null,null,null,null,"~"]
["SA11",2023,{"$error":"#VALUE!"},1001,"T","Date of valuation:",null,null,null,null,null,null,null,null,null,null,null,null,null,null,null,null,"~"]
["SA11",2023,{"$error":"#VALUE!"},1002,"T","Financial year valuation used",null,null,null,null,null,null,null,null,null,null,null,null,null,null,null,null,"~"]
["SA11",2023,{"$error":"#VALUE!"},1003,"T","Municipal by-laws s6 in place? (Y/N)",null,null,null,null,null,null,null,null,null,null,null,null,null,null,null,null,"~"]
["SA11",2023,{"$error":"#VALUE!"},1004,"T","Municipal/assistant valuer appointed? (Y/N)",null,null,null,null,null,null,null,null,null,null,null,null,null,null,null,null,"~"]
["SA11",2023,{"$error":"#VALUE!"},1005,"T","Municipal partnership s38 used? (Y/N)",null,null,null,null,null,null,null,null,null,null,null,null,null,null,null,null,"~"]
["SA11",2023,{"$error":"#VALUE!"},1006,"V","No. of assistant valuers (FTE)",null,null,null,null,null,null,null,null,null,null,null,null,null,null,null,null,"~"]
["SA11",2023,{"$error":"#VALUE!"},1007,"V","No. of data collectors (FTE)",null,null,null,null,null,null,null,null,null,null,null,null,null,null,null,null,"~"]
["SA11",2023,{"$error":"#VALUE!"},1008,"V","No. of internal valuers (FTE)",null,null,null,null,null,null,null,null,null,null,null,null,null,null,null,null,"~"]
["SA11",2023,{"$error":"#VALUE!"},1009,"V","No. of external valuers (FTE)",null,null,null,null,null,null,null,null,null,null,null,null,null,null,null,null,"~"]
["SA11",2023,{"$error":"#VALUE!"},1010,"V","No. of additional valuers (FTE)",null,null,null,null,null,null,null,null,null,null,null,null,null,null,null,null,"~"]
["SA11",2023,{"$error":"#VALUE!"},1011,"T","Valuation appeal board established? (Y/N)",null,null,null,null,null,null,null,null,null,null,null,null,null,null,null,null,"~"]
["SA11",2023,{"$error":"#VALUE!"},1012,"V","Implementation time of new valuation roll (mths)",null,null,null,null,null,null,null,null,null,null,null,null,null,null,null,null,"~"]
["SA11",2023,{"$error":"#VALUE!"},1020,"V","No. of properties",null,null,null,null,null,null,null,null,null,null,null,null,null,null,null,null,"~"]
["SA11",2023,{"$error":"#VALUE!"},1021,"V","No. of sectional title values",null,null,null,null,null,null,null,null,null,null,null,null,null,null,null,null,"~"]
["SA11",2023,{"$error":"#VALUE!"},1022,"V","No. of unreasonably difficult properties s7(2)",null,null,null,null,null,null,null,null,null,null,null,null,null,null,null,null,"~"]
["SA11",2023,{"$error":"#VALUE!"},1023,"V","No. of supplementary valuations",null,null,null,null,null,null,null,null,null,null,null,null,null,null,null,null,"~"]
["SA11",2023,{"$error":"#VALUE!"},1024,"V","No. of valuation roll amendments",null,null,null,null,null,null,null,null,null,null,null,null,null,null,null,null,"~"]
["SA11",2023,{"$error":"#VALUE!"},1025,"V","No. of objections by rate payers",null,null,null,null,null,null,null,null,null,null,null,null,null,null,null,null,"~"]
["SA11",2023,{"$error":"#VALUE!"},1026,"V","No. of appeals by rate payers",null,null,null,null,null,null,null,null,null,null,null,null,null,null,null,null,"~"]
["SA11",2023,{"$error":"#VALUE!"},1028,"V","No. of successful objections",null,null,null,null,null,null,null,null,null,null,null,null,null,null,null,null,"~"]
["SA11",2023,{"$error":"#VALUE!"},1029,"V","No. of successful objections > 10%",null,null,null,null,null,null,null,null,null,null,null,null,null,null,null,null,"~"]
["SA11",2023,{"$error":"#VALUE!"},1030,"V","Supplementary valuation",null,null,null,null,null,null,null,null,null,null,null,null,null,null,null,null,"~"]
["SA11",2023,{"$error":"#VALUE!"},1031,"V","Public service infrastructure value ",null,null,null,null,null,null,null,null,null,null,null,null,null,null,null,null,"~"]
["SA11",2023,{"$error":"#VALUE!"},1032,"V","Municipality owned property value ",null,null,null,null,null,null,null,null,null,null,null,null,null,null,null,null,"~"]
["SA11",2023,{"$error":"#VALUE!"},1100,"T","Valuation reductions:",null,null,null,null,null,null,null,null,null,null,null,null,null,null,null,null,"~"]
["SA11",2023,{"$error":"#VALUE!"},1101,"V","Valuation reductions-public infrastructure",null,null,null,null,null,null,null,null,null,null,null,null,null,null,null,null,"~"]
["SA11",2023,{"$error":"#VALUE!"},1102,"V","Valuation reductions-nature reserves/park",null,null,null,null,null,null,null,null,null,null,null,null,null,null,null,null,"~"]
["SA11",2023,{"$error":"#VALUE!"},1103,"V","Valuation reductions-mineral rights",null,null,null,null,null,null,null,null,null,null,null,null,null,null,null,null,"~"]
["SA11",2023,{"$error":"#VALUE!"},1104,"V","Valuation reductions-R15,000 threshold",null,null,null,null,null,null,null,null,null,null,null,null,null,null,null,null,"~"]
["SA11",2023,{"$error":"#VALUE!"},1105,"V","Valuation reductions-public worship ",null,null,null,null,null,null,null,null,null,null,null,null,null,null,null,null,"~"]
["SA11",2023,{"$error":"#VALUE!"},1106,"V","Valuation reductions-other",null,null,null,null,null,null,null,null,null,null,null,null,null,null,null,null,"~"]
["SA11",2023,{"$error":"#VALUE!"},1107,"V","Total valuation reductions:",null,null,null,null,null,null,null,null,null,null,null,null,null,null,null,null,"~"]
["SA11",2023,{"$error":"#VALUE!"},1108,"V","Total value used for rating",null,null,null,null,null,null,null,null,null,null,null,null,null,null,null,null,"~"]
["SA11",2023,{"$error":"#VALUE!"},1109,"V","Total land value ",null,null,null,null,null,null,null,null,null,null,null,null,null,null,null,null,"~"]
["SA11",2023,{"$error":"#VALUE!"},1110,"V","Total value of improvements",null,null,null,null,null,null,null,null,null,null,null,null,null,null,null,null,"~"]
["SA11",2023,{"$error":"#VALUE!"},1111,"V","Total market value",null,null,null,null,null,null,null,null,null,null,null,null,null,null,null,null,"~"]
["SA11",2023,{"$error":"#VALUE!"},null,null,null,null,null,null,null,null,null,null,null,null,null,null,null,null,null,null,null,"~"]
["SA11",2023,{"$error":"#VALUE!"},1200,"T","Rating:",null,null,null,null,null,null,null,null,null,null,null,null,null,null,null,null,"~"]
["SA11",2023,{"$error":"#VALUE!"},1202,"T","Residential rate used to determine rate for other categories? (Y/N)",null,null,null,null,null,null,null,null,null,null,null,null,null,null,null,null,"~"]
["SA11",2023,{"$error":"#VALUE!"},1203,"T","Differential rates used? (Y/N)",null,null,null,null,null,null,null,null,null,null,null,null,null,null,null,null,"~"]
["SA11",2023,{"$error":"#VALUE!"},1204,"T","Limit on annual rate increase (s20)? (Y/N)",null,null,null,null,null,null,null,null,null,null,null,null,null,null,null,null,"~"]
["SA11",2023,{"$error":"#VALUE!"},1205,"T","Special rating area used? (Y/N)",null,null,null,null,null,null,null,null,null,null,null,null,null,null,null,null,"~"]
["SA11",2023,{"$error":"#VALUE!"},1206,"V","Phasing-in properties s21 (number)",null,null,null,null,null,null,null,null,null,null,null,null,null,null,null,null,"~"]
["SA11",2023,{"$error":"#VALUE!"},1207,"T","Rates policy accompanying budget? (Y/N)",null,null,null,null,null,null,null,null,null,null,null,null,null,null,null,null,"~"]
["SA11",2023,{"$error":"#VALUE!"},1208,"V","Fixed amount minimum value",null,null,null,null,null,null,null,null,null,null,null,null,null,null,null,null,"~"]
["SA11",2023,{"$error":"#VALUE!"},1209,"P","Non-residential prescribed ratio s19? (%)",null,null,null,null,null,null,null,null,null,null,null,null,null,null,null,null,"~"]
["SA11",2023,{"$error":"#VALUE!"},null,null,null,null,null,null,null,null,null,null,null,null,null,null,null,null,null,null,null,"~"]
["SA11",2023,{"$error":"#VALUE!"},1300,"T","Rate revenue:",null,null,null,null,null,null,null,null,null,null,null,null,null,null,null,null,"~"]
["SA11",2023,{"$error":"#VALUE!"},1301,"V","Rate revenue budget ",null,null,null,null,null,null,null,null,null,null,null,null,null,null,null,null,"~"]
["SA11",2023,{"$error":"#VALUE!"},1302,"V","Rate revenue expected to collect",null,null,null,null,null,null,null,null,null,null,null,null,null,null,null,null,"~"]
["SA11",2023,{"$error":"#VALUE!"},1303,"P","Expected cash collection rate (%)",null,null,null,null,null,null,null,null,null,null,null,null,null,null,null,null,"~"]
["SA11",{"$f":"+MTREF","v":2023},{"$f":"LEFT(muni,(FIND(\" \",muni,1)-1))","v":{"$error":"#VALUE!"}},1304,"V","Special rating areas",null,null,null,null,null,null,null,null,null,null,null,null,null,null,null,null,"~"]
["SA11",2023,{"$error":"#VALUE!"},1305,"V","Rebates, exemptions - indigent",null,null,null,null,null,null,null,null,null,null,null,null,null,null,null,null,"~"]
["SA11",2023,{"$error":"#VALUE!"},1306,"V","Rebates, exemptions - pensioners",null,null,null,null,null,null,null,null,null,null,null,null,null,null,null,null,"~"]
["SA11",2023,{"$error":"#VALUE!"},1307,"V","Rebates, exemptions - bona fide farm",null,null,null,null,null,null,null,null,null,null,null,null,null,null,null,null,"~"]
["SA11",2023,{"$error":"#VALUE!"},1308,"V","Rebates, exemptions - other",null,null,null,null,null,null,null,null,null,null,null,null,null,null,null,null,"~"]
["SA11",2023,{"$error":"#VALUE!"},1309,"V","Phase-in reductions/discounts",null,null,null,null,null,null,null,null,null,null,null,null,null,null,null,null,"~"]
["SA11",2023,{"$error":"#VALUE!"},1310,"V","Total rebates,exemptns,reductns,discs",null,null,null,null,null,null,null,null,null,null,null,null,null,null,null,null,"~"]
["SA12",2023,{"$error":"#VALUE!"},1000,"T","Valuation:",null,null,null,null,null,null,null,null,null,null,null,null,null,null,null,null,"~"]
["SA12",2023,{"$error":"#VALUE!"},1020,"V","No. of properties",null,null,null,null,null,null,null,null,null,null,null,null,null,null,null,null,"~"]
["SA12",2023,{"$error":"#VALUE!"},1021,"V","No. of sectional title property values",null,null,null,null,null,null,null,null,null,null,null,null,null,null,null,null,"~"]
["SA12",2023,{"$error":"#VALUE!"},1022,"V","No. of unreasonably difficult properties s7(2)",null,null,null,null,null,null,null,null,null,null,null,null,null,null,null,null,"~"]
["SA12",2023,{"$error":"#VALUE!"},1023,"V","No. of supplementary valuations",null,null,null,null,null,null,null,null,null,null,null,null,null,null,null,null,"~"]
["SA12",2023,{"$error":"#VALUE!"},1030,"V","Supplementary valuation ",null,null,null,null,null,null,null,null,null,null,null,null,null,null,null,null,"~"]
["SA12",2023,{"$error":"#VALUE!"},1024,"V","No. of valuation roll amendments",null,null,null,null,null,null,null,null,null,null,null,null,null,null,null,null,"~"]
["SA12",2023,{"$error":"#VALUE!"},1025,"V","No. of objections by rate-payers",null,null,null,null,null,null,null,null,null,null,null,null,null,null,null,null,"~"]
["SA12",2023,{"$error":"#VALUE!"},1026,"V","No. of appeals by rate-payers",null,null,null,null,null,null,null,null,null,null,null,null,null,null,null,null,"~"]
["SA12",2023,{"$error":"#VALUE!"},1027,"V","No. of appeals by rate-payers finalised",null,null,null,null,null,null,null,null,null,null,null,null,null,null,null,null,"~"]
["SA12",2023,{"$error":"#VALUE!"},1028,"V","No. of successful objections",null,null,null,null,null,null,null,null,null,null,null,null,null,null,null,null,"~"]
["SA12",2023,{"$error":"#VALUE!"},1029,"V","No. of successful objections > 10%",null,null,null,null,null,null,null,null,null,null,null,null,null,null,null,null,"~"]
["SA12",2023,{"$error":"#VALUE!"},1040,"V","Estimated no. of properties not valued",null,null,null,null,null,null,null,null,null,null,null,null,null,null,null,null,"~"]
["SA12",2023,{"$error":"#VALUE!"},1041,"T","Years since last valuation",null,null,null,null,null,null,null,null,null,null,null,null,null,null,null,null,"~"]
["SA12",2023,{"$error":"#VALUE!"},1042,"T","Frequency of valuation ",null,null,null,null,null,null,null,null,null,null,null,null,null,null,null,null,"~"]
["SA12",2023,{"$error":"#VALUE!"},1043,"T","Method of valuation used",null,null,null,null,null,null,null,null,null,null,null,null,null,null,null,null,"~"]
["SA12",2023,{"$error":"#VALUE!"},1044,"T","Base of valuation",null,null,null,null,null,null,null,null,null,null,null,null,null,null,null,null,"~"]
["SA12",2023,{"$error":"#VALUE!"},1206,"V","Phasing-in properties s21 (number)",null,null,null,null,null,null,null,null,null,null,null,null,null,null,null,null,"~"]
["SA12",2023,{"$error":"#VALUE!"},1046,"T","Combination of rating types used? (Y/N)",null,null,null,null,null,null,null,null,null,null,null,null,null,null,null,null,"~"]
["SA12",2023,{"$error":"#VALUE!"},1047,"T","Flat rate used? (Y/N)",null,null,null,null,null,null,null,null,null,null,null,null,null,null,null,null,"~"]
["SA12",2023,{"$error":"#VALUE!"},1048,"T","Is balance rated by uniform rate/variable rate?",null,null,null,null,null,null,null,null,null,null,null,null,null,null,null,null,"~"]
["SA12",2023,{"$error":"#VALUE!"},1100,"T","Valuation reductions:",null,null,null,null,null,null,null,null,null,null,null,null,null,null,null,null,"~"]
["SA12",2023,{"$error":"#VALUE!"},1101,"V","Valuation reductions-public infrastructure",null,null,null,null,null,null,null,null,null,null,null,null,null,null,null,null,"~"]
["SA12",2023,{"$error":"#VALUE!"},1102,"V","Valuation reductions-nature reserves/park",null,null,null,null,null,null,null,null,null,null,null,null,null,null,null,null,"~"]
["SA12",2023,{"$error":"#VALUE!"},1103,"V","Valuation reductions-mineral rights",null,null,null,null,null,null,null,null,null,null,null,null,null,null,null,null,"~"]
["SA12",2023,{"$error":"#VALUE!"},1104,"V","Valuation reductions-R15,000 threshold ",null,null,null,null,null,null,null,null,null,null,null,null,null,null,null,null,"~"]
["SA12",2023,{"$error":"#VALUE!"},1105,"V","Valuation reductions-public worship",null,null,null,null,null,null,null,null,null,null,null,null,null,null,null,null,"~"]
["SA12",2023,{"$error":"#VALUE!"},1106,"V","Valuation reductions-other",null,null,null,null,null,null,null,null,null,null,null,null,null,null,null,null,"~"]
["SA12",2023,{"$error":"#VALUE!"},1107,"V","Total valuation reductions:",null,null,null,null,null,null,null,null,null,null,null,null,null,null,null,null,"~"]
["SA12",2023,{"$error":"#VALUE!"},1108,"V","Total value used for rating",null,null,null,null,null,null,null,null,null,null,null,null,null,null,null,null,"~"]
["SA12",2023,{"$error":"#VALUE!"},1109,"V","Total land value ",null,null,null,null,null,null,null,null,null,null,null,null,null,null,null,null,"~"]
["SA12",2023,{"$error":"#VALUE!"},1110,"V","Total value of improvements",null,null,null,null,null,null,null,null,null,null,null,null,null,null,null,null,"~"]
["SA12",2023,{"$error":"#VALUE!"},1111,"V","Total market value ",null,null,null,null,null,null,null,null,null,null,null,null,null,null,null,null,"~"]
["SA12",2023,{"$error":"#VALUE!"},1200,"T","Rating:",null,null,null,null,null,null,null,null,null,null,null,null,null,null,null,null,"~"]
["SA12",2023,{"$error":"#VALUE!"},1201,"V","Average rate",null,null,null,null,null,null,null,null,null,null,null,null,null,null,null,null,"~"]
["SA12",2023,{"$error":"#VALUE!"},1301,"V","Rate revenue budget ",null,null,null,null,null,null,null,null,null,null,null,null,null,null,null,null,"~"]
["SA12",2023,{"$error":"#VALUE!"},1302,"V","Rate revenue expected to collect",null,null,null,null,null,null,null,null,null,null,null,null,null,null,null,null,"~"]
["SA12",2023,{"$error":"#VALUE!"},1303,"P","Expected cash collection rate (%)",null,null,null,null,null,null,null,null,null,null,null,null,null,null,null,null,"~"]
["SA12",2023,{"$error":"#VALUE!"},1304,"V","Special rating areas",null,null,null,null,null,null,null,null,null,null,null,null,null,null,null,null,"~"]
["SA12",2023,{"$error":"#VALUE!"},1305,"V","Rebates, exemptions - indigent",null,null,null,null,null,null,null,null,null,null,null,null,null,null,null,null,"~"]
["SA12",2023,{"$error":"#VALUE!"},1306,"V","Rebates, exemptions - pensioners",null,null,null,null,null,null,null,null,null,null,null,null,null,null,null,null,"~"]
["SA12",2023,{"$error":"#VALUE!"},1307,"V","Rebates, exemptions - bona fide farm. ",null,null,null,null,null,null,null,null,null,null,null,null,null,null,null,null,"~"]
["SA12",2023,{"$error":"#VALUE!"},1308,"V","Rebates, exemptions - other ",null,null,null,null,null,null,null,null,null,null,null,null,null,null,null,null,"~"]
["SA12",2023,{"$error":"#VALUE!"},1309,"V","Phase-in reductions/discounts ",null,null,null,null,null,null,null,null,null,null,null,null,null,null,null,null,"~"]
["SA12",2023,{"$error":"#VALUE!"},1310,"V","Total rebates,exemptns,reductns,discs",null,null,null,null,null,null,null,null,null,null,null,null,null,null,null,null,"~"]
["SA12",2023,{"$error":"#VALUE!"},null,null,null,null,null,null,null,null,null,null,null,null,null,null,null,null,null,null,null,"~"]
["SA12",2023,{"$error":"#VALUE!"},null,null,null,null,null,null,null,null,null,null,null,null,null,null,null,null,null,null,null,"~"]
["SA12",2023,{"$error":"#VALUE!"},null,null,null,null,null,null,null,null,null,null,null,null,null,null,null,null,null,null,null,"~"]
["SA12",2023,{"$error":"#VALUE!"},null,null,null,null,null,null,null,null,null,null,null,null,null,null,null,null,null,null,null,"~"]
["SA12",2023,{"$error":"#VALUE!"},1000,"T","Valuation:",null,null,null,null,null,null,null,null,null,null,null,null,null,null,null,null,"~"]
["SA12",2023,{"$error":"#VALUE!"},1020,"V","No. of properties",null,null,null,null,null,null,null,null,null,null,null,null,null,null,null,null,"~"]
["SA12",2023,{"$error":"#VALUE!"},1021,"V","No. of sectional title property values",null,null,null,null,null,null,null,null,null,null,null,null,null,null,null,null,"~"]
["SA12",2023,{"$error":"#VALUE!"},1022,"V","No. of unreasonably difficult properties s7(2)",null,null,null,null,null,null,null,null,null,null,null,null,null,null,null,null,"~"]
["SA12",2023,{"$error":"#VALUE!"},1023,"V","No. of supplementary valuations",null,null,null,null,null,null,null,null,null,null,null,null,null,null,null,null,"~"]
["SA12",2023,{"$error":"#VALUE!"},1030,"V","Supplementary valuation ",null,null,null,null,null,null,null,null,null,null,null,null,null,null,null,null,"~"]
["SA12",2023,{"$error":"#VALUE!"},1024,"V","No. of valuation roll amendments",null,null,null,null,null,null,null,null,null,null,null,null,null,null,null,null,"~"]
["SA12",2023,{"$error":"#VALUE!"},1025,"V","No. of objections by rate-payers",null,null,null,null,null,null,null,null,null,null,null,null,null,null,null,null,"~"]
["SA12",{"$f":"+MTREF","v":2023},{"$f":"LEFT(muni,(FIND(\" \",muni,1)-1))","v":{"$error":"#VALUE!"}},1026,"V","No. of appeals by rate-payers",null,null,null,null,null,null,null,null,null,null,null,null,null,null,null,null,"~"]
["SA12",2023,{"$error":"#VALUE!"},1027,"V","No. of appeals by rate-payers finalised",null,null,null,null,null,null,null,null,null,null,null,null,null,null,null,null,"~"]
["SA12",2023,{"$error":"#VALUE!"},1028,"V","No. of successful objections",null,null,null,null,null,null,null,null,null,null,null,null,null,null,null,null,"~"]
["SA12",2023,{"$error":"#VALUE!"},1029,"V","No. of successful objections > 10%",null,null,null,null,null,null,null,null,null,null,null,null,null,null,null,null,"~"]
["SA12",2023,{"$error":"#VALUE!"},1040,"V","Estimated no. of properties not valued",null,null,null,null,null,null,null,null,null,null,null,null,null,null,null,null,"~"]
["SA12",2023,{"$error":"#VALUE!"},1041,"T","Years since last valuation",null,null,null,null,null,null,null,null,null,null,null,null,null,null,null,null,"~"]
["SA12",2023,{"$error":"#VALUE!"},1042,"T","Frequency of valuation ",null,null,null,null,null,null,null,null,null,null,null,null,null,null,null,null,"~"]
["SA12",2023,{"$error":"#VALUE!"},1043,"T","Method of valuation used",null,null,null,null,null,null,null,null,null,null,null,null,null,null,null,null,"~"]
["SA12",2023,{"$error":"#VALUE!"},1044,"T","Base of valuation",null,null,null,null,null,null,null,null,null,null,null,null,null,null,null,null,"~"]
["SA12",2023,{"$error":"#VALUE!"},1206,"V","Phasing-in properties s21 (number)",null,null,null,null,null,null,null,null,null,null,null,null,null,null,null,null,"~"]
["SA12",2023,{"$error":"#VALUE!"},1046,"T","Combination of rating types used? (Y/N)",null,null,null,null,null,null,null,null,null,null,null,null,null,null,null,null,"~"]
["SA12",2023,{"$error":"#VALUE!"},1047,"T","Flat rate used? (Y/N)",null,null,null,null,null,null,null,null,null,null,null,null,null,null,null,null,"~"]
["SA12",2023,{"$error":"#VALUE!"},1048,"T","Is balance rated by uniform rate/variable rate?",null,null,null,null,null,null,null,null,null,null,null,null,null,null,null,null,"~"]
["SA12",2023,{"$error":"#VALUE!"},1100,"T","Valuation reductions:",null,null,null,null,null,null,null,null,null,null,null,null,null,null,null,null,"~"]
["SA12",2023,{"$error":"#VALUE!"},1101,"V","Valuation reductions-public infrastructure",null,null,null,null,null,null,null,null,null,null,null,null,null,null,null,null,"~"]
["SA12",2023,{"$error":"#VALUE!"},1102,"V","Valuation reductions-nature reserves/park",null,null,null,null,null,null,null,null,null,null,null,null,null,null,null,null,"~"]
["SA12",2023,{"$error":"#VALUE!"},1103,"V","Valuation reductions-mineral rights",null,null,null,null,null,null,null,null,null,null,null,null,null,null,null,null,"~"]
["SA12",2023,{"$error":"#VALUE!"},1104,"V","Valuation reductions-R15,000 threshold ",null,null,null,null,null,null,null,null,null,null,null,null,null,null,null,null,"~"]
["SA12",2023,{"$error":"#VALUE!"},1105,"V","Valuation reductions-public worship",null,null,null,null,null,null,null,null,null,null,null,null,null,null,null,null,"~"]
["SA12",2023,{"$error":"#VALUE!"},1106,"V","Valuation reductions-other",null,null,null,null,null,null,null,null,null,null,null,null,null,null,null,null,"~"]
["SA12",2023,{"$error":"#VALUE!"},1107,"V","Total valuation reductions:",null,null,null,null,null,null,null,null,null,null,null,null,null,null,null,null,"~"]
["SA12",2023,{"$error":"#VALUE!"},1108,"V","Total value used for rating",null,null,null,null,null,null,null,null,null,null,null,null,null,null,null,null,"~"]
["SA12",2023,{"$error":"#VALUE!"},1109,"V","Total land value ",null,null,null,null,null,null,null,null,null,null,null,null,null,null,null,null,"~"]
["SA12",2023,{"$error":"#VALUE!"},1110,"V","Total value of improvements",null,null,null,null,null,null,null,null,null,null,null,null,null,null,null,null,"~"]
["SA12",2023,{"$error":"#VALUE!"},1111,"V","Total market value ",null,null,null,null,null,null,null,null,null,null,null,null,null,null,null,null,"~"]
["SA12",2023,{"$error":"#VALUE!"},1200,"T","Rating:",null,null,null,null,null,null,null,null,null,null,null,null,null,null,null,null,"~"]
["SA12",2023,{"$error":"#VALUE!"},1201,"V","Average rate",null,null,null,null,null,null,null,null,null,null,null,null,null,null,null,null,"~"]
["SA12",2023,{"$error":"#VALUE!"},1301,"V","Rate revenue budget ",null,null,null,null,null,null,null,null,null,null,null,null,null,null,null,null,"~"]
["SA12",2023,{"$error":"#VALUE!"},1302,"V","Rate revenue expected to collect",null,null,null,null,null,null,null,null,null,null,null,null,null,null,null,null,"~"]
["SA12",2023,{"$error":"#VALUE!"},1303,"P","Expected cash collection rate (%)",null,null,null,null,null,null,null,null,null,null,null,null,null,null,null,null,"~"]
["SA12",2023,{"$error":"#VALUE!"},1304,"V","Special rating areas",null,null,null,null,null,null,null,null,null,null,null,null,null,null,null,null,"~"]
["SA12",2023,{"$error":"#VALUE!"},1305,"V","Rebates, exemptions - indigent",null,null,null,null,null,null,null,null,null,null,null,null,null,null,null,null,"~"]
["SA12",2023,{"$error":"#VALUE!"},1306,"V","Rebates, exemptions - pensioners",null,null,null,null,null,null,null,null,null,null,null,null,null,null,null,null,"~"]
["SA12",2023,{"$error":"#VALUE!"},1307,"V","Rebates, exemptions - bona fide farm. ",null,null,null,null,null,null,null,null,null,null,null,null,null,null,null,null,"~"]
["SA12",2023,{"$error":"#VALUE!"},1308,"V","Rebates, exemptions - other ",null,null,null,null,null,null,null,null,null,null,null,null,null,null,null,null,"~"]
["SA12",2023,{"$error":"#VALUE!"},1309,"V","Phase-in reductions/discounts ",null,null,null,null,null,null,null,null,null,null,null,null,null,null,null,null,"~"]
["SA12",2023,{"$error":"#VALUE!"},1310,"V","Total rebates,exemptns,reductns,discs",null,null,null,null,null,null,null,null,null,null,null,null,null,null,null,null,"~"]
["SA13",2023,{"$error":"#VALUE!"},1000,1,"Property rates (rate in the Rand)",null,null,null,null,null,null,null,null,null,null,null,null,null,null,null,null,"~"]
["SA13",2023,{"$error":"#VALUE!"},1001,2,"Residential properties",null,null,null,null,null,null,null,null,null,null,null,null,null,null,null,null,"~"]
["SA13",2023,{"$error":"#VALUE!"},1002,3,"Residential properties - vacant land",null,null,null,null,null,null,null,null,null,null,null,null,null,null,null,null,"~"]
["SA13",2023,{"$error":"#VALUE!"},1003,4,"Formal/informal settlements",null,null,null,null,null,null,null,null,null,null,null,null,null,null,null,null,"~"]
["SA13",2023,{"$error":"#VALUE!"},1004,5,"Small holdings",null,null,null,null,null,null,null,null,null,null,null,null,null,null,null,null,"~"]
["SA13",2023,{"$error":"#VALUE!"},1005,6,"Farm properties - used",null,null,null,null,null,null,null,null,null,null,null,null,null,null,null,null,"~"]
["SA13",2023,{"$error":"#VALUE!"},1006,7,"Farm properties - not used",null,null,null,null,null,null,null,null,null,null,null,null,null,null,null,null,"~"]
["SA13",2023,{"$error":"#VALUE!"},1007,8,"Industrial properties",null,null,null,null,null,null,null,null,null,null,null,null,null,null,null,null,"~"]
["SA13",2023,{"$error":"#VALUE!"},1008,9,"Business and commercial properties",null,null,null,null,null,null,null,null,null,null,null,null,null,null,null,null,"~"]
["SA13",2023,{"$error":"#VALUE!"},1009,10,"Communal land - residential",null,null,null,null,null,null,null,null,null,null,null,null,null,null,null,null,"~"]
["SA13",2023,{"$error":"#VALUE!"},1010,11,"Communal land - small holdings",null,null,null,null,null,null,null,null,null,null,null,null,null,null,null,null,"~"]
["SA13",2023,{"$error":"#VALUE!"},1011,12,"Communal land - farm property",null,null,null,null,null,null,null,null,null,null,null,null,null,null,null,null,"~"]
["SA13",2023,{"$error":"#VALUE!"},1012,13,"Communal land - business and commercial",null,null,null,null,null,null,null,null,null,null,null,null,null,null,null,null,"~"]
["SA13",2023,{"$error":"#VALUE!"},1013,14,"Communal land - other",null,null,null,null,null,null,null,null,null,null,null,null,null,null,null,null,"~"]
["SA13",2023,{"$error":"#VALUE!"},1014,15,"State-owned properties",null,null,null,null,null,null,null,null,null,null,null,null,null,null,null,null,"~"]
["SA13",2023,{"$error":"#VALUE!"},1015,16,"Municipal properties",null,null,null,null,null,null,null,null,null,null,null,null,null,null,null,null,"~"]
["SA13",2023,{"$error":"#VALUE!"},1016,17,"Public service infrastructure",null,null,null,null,null,null,null,null,null,null,null,null,null,null,null,null,"~"]
["SA13",2023,{"$error":"#VALUE!"},1017,18,"Privately owned towns serviced by the owner",null,null,null,null,null,null,null,null,null,null,null,null,null,null,null,null,"~"]
["SA13",2023,{"$error":"#VALUE!"},1018,19,"State trust land",null,null,null,null,null,null,null,null,null,null,null,null,null,null,null,null,"~"]
["SA13",2023,{"$error":"#VALUE!"},1019,20,"Restitution and redistribution properties",null,null,null,null,null,null,null,null,null,null,null,null,null,null,null,null,"~"]
["SA13",2023,{"$error":"#VALUE!"},1020,21,"Protected areas",null,null,null,null,null,null,null,null,null,null,null,null,null,null,null,null,"~"]
["SA13",2023,{"$error":"#VALUE!"},1021,22,"National monuments properties",null,null,null,null,null,null,null,null,null,null,null,null,null,null,null,null,"~"]
["SA13",2023,{"$error":"#VALUE!"},null,null,null,null,null,null,null,null,null,null,null,null,null,null,null,null,null,null,null,"~"]
["SA13",2023,{"$error":"#VALUE!"},1030,23,"Exemptions, reductions and rebates (Rands)",null,null,null,null,null,null,null,null,null,null,null,null,null,null,null,null,"~"]
["SA13",2023,{"$error":"#VALUE!"},1031,24,"Residential properties",null,null,null,null,null,null,null,null,null,null,null,null,null,null,null,null,"~"]
["SA13",2023,{"$error":"#VALUE!"},1032,25,"R15 000 threshhold rebate",null,null,null,null,null,null,null,null,null,null,null,null,null,null,null,null,"~"]
["SA13",2023,{"$error":"#VALUE!"},1033,26,"General residential rebate",null,null,null,null,null,null,null,null,null,null,null,null,null,null,null,null,"~"]
["SA13",{"$f":"+MTREF","v":2023},{"$f":"LEFT(muni,(FIND(\" \",muni,1)-1))","v":{"$error":"#VALUE!"}},1034,27,"Indigent rebate or exemption",null,null,null,null,null,null,null,null,null,null,null,null,null,null,null,null,"~"]
["SA13",2023,{"$error":"#VALUE!"},1035,28,"Pensioners/social grants rebate or exemption ",null,null,null,null,null,null,null,null,null,null,null,null,null,null,null,null,"~"]
["SA13",2023,{"$error":"#VALUE!"},1036,29,"Temporary relief rebate or exemption",null,null,null,null,null,null,null,null,null,null,null,null,null,null,null,null,"~"]
["SA13",2023,{"$error":"#VALUE!"},1037,30," Bona fide farmers rebate or exemption",null,null,null,null,null,null,null,null,null,null,null,null,null,null,null,null,"~"]
["SA13",2023,{"$error":"#VALUE!"},1038,31,"Other rebates or exemptions",null,null,null,null,null,null,null,null,null,null,null,null,null,null,null,null,"~"]
["SA13",2023,{"$error":"#VALUE!"},null,null,null,null,null,null,null,null,null,null,null,null,null,null,null,null,null,null,null,"~"]
["SA13",2023,{"$error":"#VALUE!"},1100,32,"Water tariffs",null,null,null,null,null,null,null,null,null,null,null,null,null,null,null,null,"~"]
["SA13",2023,{"$error":"#VALUE!"},1101,33,"Domestic",null,null,null,null,null,null,null,null,null,null,null,null,null,null,null,null,"~"]
["SA13",2023,{"$error":"#VALUE!"},1102,34,"Basic charge/fixed fee (Rands/month)",null,null,null,null,null,null,null,null,null,null,null,null,null,null,null,null,"~"]
["SA13",2023,{"$error":"#VALUE!"},1103,35,"Service point - vacant land (Rands/month)",null,null,null,null,null,null,null,null,null,null,null,null,null,null,null,null,"~"]
["SA13",2023,{"$error":"#VALUE!"},1104,36,"Water usage - flat rate tariff (c/kl)",null,null,null,null,null,null,null,null,null,null,null,null,null,null,null,null,"~"]
["SA13",2023,{"$error":"#VALUE!"},1105,37,"Water usage - life line tariff",null,null,null,null,null,null,null,null,null,null,null,null,null,null,null,null,"~"]
["SA13",2023,{"$error":"#VALUE!"},1106,38,"Water usage - Block 1 (c/kl)",null,null,null,null,null,null,null,null,null,null,null,null,null,null,null,null,"~"]
["SA13",2023,{"$error":"#VALUE!"},1107,39,"Water usage - Block 2 (c/kl)",null,null,null,null,null,null,null,null,null,null,null,null,null,null,null,null,"~"]
["SA13",2023,{"$error":"#VALUE!"},1108,40,"Water usage - Block 3 (c/kl)",null,null,null,null,null,null,null,null,null,null,null,null,null,null,null,null,"~"]
["SA13",2023,{"$error":"#VALUE!"},1109,41,"Water usage - Block 4 (c/kl)",null,null,null,null,null,null,null,null,null,null,null,null,null,null,null,null,"~"]
["SA13",2023,{"$error":"#VALUE!"},1110,42,"Other",null,null,null,null,null,null,null,null,null,null,null,null,null,null,null,null,"~"]
["SA13",2023,{"$error":"#VALUE!"},null,null,null,null,null,null,null,null,null,null,null,null,null,null,null,null,null,null,null,"~"]
["SA13",2023,{"$error":"#VALUE!"},1200,43,"Waste water tariffs",null,null,null,null,null,null,null,null,null,null,null,null,null,null,null,null,"~"]
["SA13",2023,{"$error":"#VALUE!"},1201,44,"Domestic",null,null,null,null,null,null,null,null,null,null,null,null,null,null,null,null,"~"]
["SA13",2023,{"$error":"#VALUE!"},1202,45,"Basic charge/fixed fee (Rands/month)",null,null,null,null,null,null,null,null,null,null,null,null,null,null,null,null,"~"]
["SA13",2023,{"$error":"#VALUE!"},1203,46,"Service point - vacant land (Rands/month)",null,null,null,null,null,null,null,null,null,null,null,null,null,null,null,null,"~"]
["SA13",2023,{"$error":"#VALUE!"},1204,47,"Waste water - flat rate tariff (c/kl)",null,null,null,null,null,null,null,null,null,null,null,null,null,null,null,null,"~"]
["SA13",2023,{"$error":"#VALUE!"},1205,48,"Volumetric charge - Block 1 (c/kl)",null,null,null,null,null,null,null,null,null,null,null,null,null,null,null,null,"~"]
["SA13",2023,{"$error":"#VALUE!"},1206,49,"Volumetric charge - Block 2 (c/kl)",null,null,null,null,null,null,null,null,null,null,null,null,null,null,null,null,"~"]
["SA13",2023,{"$error":"#VALUE!"},1207,50,"Volumetric charge - Block 3 (c/kl)",null,null,null,null,null,null,null,null,null,null,null,null,null,null,null,null,"~"]
["SA13",2023,{"$error":"#VALUE!"},1208,51,"Volumetric charge - Block 4 (c/kl)",null,null,null,null,null,null,null,null,null,null,null,null,null,null,null,null,"~"]
["SA13",2023,{"$error":"#VALUE!"},1209,52,"Other",null,null,null,null,null,null,null,null,null,null,null,null,null,null,null,null,"~"]
["SA13",2023,{"$error":"#VALUE!"},null,null,null,null,null,null,null,null,null,null,null,null,null,null,null,null,null,null,null,"~"]
["SA13",2023,{"$error":"#VALUE!"},1300,53,"Electricity tariffs",null,null,null,null,null,null,null,null,null,null,null,null,null,null,null,null,"~"]
["SA13",2023,{"$error":"#VALUE!"},1301,54,"Domestic",null,null,null,null,null,null,null,null,null,null,null,null,null,null,null,null,"~"]
["SA13",2023,{"$error":"#VALUE!"},1302,55,"Basic charge/fixed fee (Rands/month)",null,null,null,null,null,null,null,null,null,null,null,null,null,null,null,null,"~"]
["SA13",2023,{"$error":"#VALUE!"},1303,56,"Service point - vacant land (Rands/month)",null,null,null,null,null,null,null,null,null,null,null,null,null,null,null,null,"~"]
["SA13",2023,{"$error":"#VALUE!"},1304,57,"FBE",null,null,null,null,null,null,null,null,null,null,null,null,null,null,null,null,"~"]
["SA13",2023,{"$error":"#VALUE!"},1305,58,"Life-line tariff - meter",null,null,null,null,null,null,null,null,null,null,null,null,null,null,null,null,"~"]
["SA13",2023,{"$error":"#VALUE!"},1306,59,"Life-line tariff - prepaid",null,null,null,null,null,null,null,null,null,null,null,null,null,null,null,null,"~"]
["SA13",2023,{"$error":"#VALUE!"},1307,60,"Flat rate tariff - meter (c/kwh)",null,null,null,null,null,null,null,null,null,null,null,null,null,null,null,null,"~"]
["SA13",2023,{"$error":"#VALUE!"},1308,61,"Flat rate tariff - prepaid(c/kwh)",null,null,null,null,null,null,null,null,null,null,null,null,null,null,null,null,"~"]
["SA13",2023,{"$error":"#VALUE!"},1309,62,"Meter - IBT Block 1 (c/kwh)",null,null,null,null,null,null,null,null,null,null,null,null,null,null,null,null,"~"]
["SA13",2023,{"$error":"#VALUE!"},1310,63,"Meter - IBT Block 2 (c/kwh)",null,null,null,null,null,null,null,null,null,null,null,null,null,null,null,null,"~"]
["SA13",2023,{"$error":"#VALUE!"},1311,64,"Meter - IBT Block 3 (c/kwh)",null,null,null,null,null,null,null,null,null,null,null,null,null,null,null,null,"~"]
["SA13",2023,{"$error":"#VALUE!"},1312,65,"Meter - IBT Block 4 (c/kwh)",null,null,null,null,null,null,null,null,null,null,null,null,null,null,null,null,"~"]
["SA13",2023,{"$error":"#VALUE!"},1313,66,"Meter - IBT Block 5 (c/kwh)",null,null,null,null,null,null,null,null,null,null,null,null,null,null,null,null,"~"]
["SA13",2023,{"$error":"#VALUE!"},1314,67,"Prepaid - IBT Block 1 (c/kwh)",null,null,null,null,null,null,null,null,null,null,null,null,null,null,null,null,"~"]
["SA13",2023,{"$error":"#VALUE!"},1315,68,"Prepaid - IBT Block 2 (c/kwh)",null,null,null,null,null,null,null,null,null,null,null,null,null,null,null,null,"~"]
["SA13",2023,{"$error":"#VALUE!"},1316,69,"Prepaid - IBT Block 3 (c/kwh)",null,null,null,null,null,null,null,null,null,null,null,null,null,null,null,null,"~"]
["SA13",2023,{"$error":"#VALUE!"},1317,70,"Prepaid - IBT Block 4 (c/kwh)",null,null,null,null,null,null,null,null,null,null,null,null,null,null,null,null,"~"]
["SA13",2023,{"$error":"#VALUE!"},1318,71,"Prepaid - IBT Block 5 (c/kwh)",null,null,null,null,null,null,null,null,null,null,null,null,null,null,null,null,"~"]
["SA13",2023,{"$error":"#VALUE!"},1319,72,"Other",null,null,null,null,null,null,null,null,null,null,null,null,null,null,null,null,"~"]
["SA13",2023,{"$error":"#VALUE!"},null,null,null,null,null,null,null,null,null,null,null,null,null,null,null,null,null,null,null,"~"]
["SA13",2023,{"$error":"#VALUE!"},1400,73,"Waste management tariffs",null,null,null,null,null,null,null,null,null,null,null,null,null,null,null,null,"~"]
["SA13",2023,{"$error":"#VALUE!"},1401,74,"Domestic",null,null,null,null,null,null,null,null,null,null,null,null,null,null,null,null,"~"]
["SA13",2023,{"$error":"#VALUE!"},1402,75,"Street cleaning charge",null,null,null,null,null,null,null,null,null,null,null,null,null,null,null,null,"~"]
["SA13",2023,{"$error":"#VALUE!"},1403,76,"Basic charge/fixed fee",null,null,null,null,null,null,null,null,null,null,null,null,null,null,null,null,"~"]
["SA13",2023,{"$error":"#VALUE!"},1404,77,"80l bin - once a week",null,null,null,null,null,null,null,null,null,null,null,null,null,null,null,null,"~"]
["SA13",2023,{"$error":"#VALUE!"},1405,78,"250l bin - once a week",null,null,null,null,null,null,null,null,null,null,null,null,null,null,null,null,"~"]
["SA14",2023,{"$error":"#VALUE!"},1000,1,"Monthly Account for Household - 'Middle Income Range'",null,null,null,null,null,null,null,null,null,null,null,null,null,null,null,null,"~"]
["SA14",2023,{"$error":"#VALUE!"},1001,2,"Rates and services charges:",null,null,null,null,null,null,null,null,null,null,null,null,null,null,null,null,"~"]
["SA14",2023,{"$error":"#VALUE!"},1002,3,"Property rates",null,null,null,null,null,null,null,null,null,null,null,null,null,null,null,null,"~"]
["SA14",2023,{"$error":"#VALUE!"},1003,4,"Electricity: Basic levy",null,null,null,null,null,null,null,null,null,null,null,null,null,null,null,null,"~"]
["SA14",2023,{"$error":"#VALUE!"},1004,5,"Electricity: Consumption",null,null,null,null,null,null,null,null,null,null,null,null,null,null,null,null,"~"]
["SA14",2023,{"$error":"#VALUE!"},1005,6,"Water: Basic levy",null,null,null,null,null,null,null,null,null,null,null,null,null,null,null,null,"~"]
["SA14",2023,{"$error":"#VALUE!"},1006,7,"Water: Consumption",null,null,null,null,null,null,null,null,null,null,null,null,null,null,null,null,"~"]
["SA14",2023,{"$error":"#VALUE!"},1007,8,"Sanitation",null,null,null,null,null,null,null,null,null,null,null,null,null,null,null,null,"~"]
["SA14",{"$f":"+MTREF","v":2023},{"$f":"LEFT(muni,(FIND(\" \",muni,1)-1))","v":{"$error":"#VALUE!"}},1008,9,"Refuse removal",null,null,null,null,null,null,null,null,null,null,null,null,null,null,null,null,"~"]
["SA14",2023,{"$error":"#VALUE!"},1009,10,"Other",null,null,null,null,null,null,null,null,null,null,null,null,null,null,null,null,"~"]
["SA14",2023,{"$error":"#VALUE!"},1090,11,"sub-total",null,null,null,null,null,null,null,null,null,null,null,null,null,null,null,null,"~"]
["SA14",2023,{"$error":"#VALUE!"},1091,12,"VAT on Services",null,null,null,null,null,null,null,null,null,null,null,null,null,null,null,null,"~"]
["SA14",2023,{"$error":"#VALUE!"},1095,13,"Total large household bill:",null,null,null,null,null,null,null,null,null,null,null,null,null,null,null,null,"~"]
["SA14",2023,{"$error":"#VALUE!"},1096,14,"% increase/-decrease",null,null,null,null,null,null,null,null,null,null,null,null,null,null,null,null,"~"]
["SA14",2023,{"$error":"#VALUE!"},null,null,null,null,null,null,null,null,null,null,null,null,null,null,null,null,null,null,null,"~"]
["SA14",2023,{"$error":"#VALUE!"},1100,15,"Monthly Account for Household - 'Affordable Range' ",null,null,null,null,null,null,null,null,null,null,null,null,null,null,null,null,"~"]
["SA14",2023,{"$error":"#VALUE!"},1101,16,"Rates and services charges:",null,null,null,null,null,null,null,null,null,null,null,null,null,null,null,null,"~"]
["SA14",2023,{"$error":"#VALUE!"},1102,17,"Property rates",null,null,null,null,null,null,null,null,null,null,null,null,null,null,null,null,"~"]
["SA14",2023,{"$error":"#VALUE!"},1103,18,"Electricity: Basic levy",null,null,null,null,null,null,null,null,null,null,null,null,null,null,null,null,"~"]
["SA14",2023,{"$error":"#VALUE!"},1110,19,"Electricity: Consumption",null,null,null,null,null,null,null,null,null,null,null,null,null,null,null,null,"~"]
["SA14",2023,{"$error":"#VALUE!"},1107,20,"Water: Basic levy",null,null,null,null,null,null,null,null,null,null,null,null,null,null,null,null,"~"]
["SA14",2023,{"$error":"#VALUE!"},1104,21,"Water: Consumption",null,null,null,null,null,null,null,null,null,null,null,null,null,null,null,null,"~"]
["SA14",2023,{"$error":"#VALUE!"},1105,22,"Sanitation",null,null,null,null,null,null,null,null,null,null,null,null,null,null,null,null,"~"]
["SA14",2023,{"$error":"#VALUE!"},1106,23,"Refuse removal",null,null,null,null,null,null,null,null,null,null,null,null,null,null,null,null,"~"]
["SA14",2023,{"$error":"#VALUE!"},1108,24,"Other",null,null,null,null,null,null,null,null,null,null,null,null,null,null,null,null,"~"]
["SA14",2023,{"$error":"#VALUE!"},1190,25,"sub-total",null,null,null,null,null,null,null,null,null,null,null,null,null,null,null,null,"~"]
["SA14",2023,{"$error":"#VALUE!"},1191,26,"VAT on Services",null,null,null,null,null,null,null,null,null,null,null,null,null,null,null,null,"~"]
["SA14",2023,{"$error":"#VALUE!"},1195,27,"Total small household bill:",null,null,null,null,null,null,null,null,null,null,null,null,null,null,null,null,"~"]
["SA14",2023,{"$error":"#VALUE!"},1196,28,"% increase/-decrease",null,null,null,null,null,null,null,null,null,null,null,null,null,null,null,null,"~"]
["SA14",2023,{"$error":"#VALUE!"},null,null,null,null,null,null,null,null,null,null,null,null,null,null,null,null,null,null,null,"~"]
["SA14",2023,{"$error":"#VALUE!"},1200,29,"Monthly Account for Household - 'Indigent' HH receiving FBS",null,null,null,null,null,null,null,null,null,null,null,null,null,null,null,null,"~"]
["SA14",2023,{"$error":"#VALUE!"},1201,30,"Rates and services charges:",null,null,null,null,null,null,null,null,null,null,null,null,null,null,null,null,"~"]
["SA14",2023,{"$error":"#VALUE!"},1202,31,"Property rates",null,null,null,null,null,null,null,null,null,null,null,null,null,null,null,null,"~"]
["SA14",2023,{"$error":"#VALUE!"},1203,32,"Electricity: Basic levy",null,null,null,null,null,null,null,null,null,null,null,null,null,null,null,null,"~"]
["SA14",2023,{"$error":"#VALUE!"},1207,33,"Electricity: Consumption",null,null,null,null,null,null,null,null,null,null,null,null,null,null,null,null,"~"]
["SA14",2023,{"$error":"#VALUE!"},1208,34,"Water: Basic levy",null,null,null,null,null,null,null,null,null,null,null,null,null,null,null,null,"~"]
["SA14",2023,{"$error":"#VALUE!"},1204,35,"Water: Consumption",null,null,null,null,null,null,null,null,null,null,null,null,null,null,null,null,"~"]
["SA14",2023,{"$error":"#VALUE!"},1205,36,"Sanitation",null,null,null,null,null,null,null,null,null,null,null,null,null,null,null,null,"~"]
["SA14",2023,{"$error":"#VALUE!"},1206,37,"Refuse removal",null,null,null,null,null,null,null,null,null,null,null,null,null,null,null,null,"~"]
["SA14",2023,{"$error":"#VALUE!"},1209,38,"Other",null,null,null,null,null,null,null,null,null,null,null,null,null,null,null,null,"~"]
["SA14",2023,{"$error":"#VALUE!"},1290,39,"sub-total",null,null,null,null,null,null,null,null,null,null,null,null,null,null,null,null,"~"]
["SA14",2023,{"$error":"#VALUE!"},1291,40,"VAT on Services",null,null,null,null,null,null,null,null,null,null,null,null,null,null,null,null,"~"]
["SA14",2023,{"$error":"#VALUE!"},1295,41,"Total small household bill:",null,null,null,null,null,null,null,null,null,null,null,null,null,null,null,null,"~"]
["SA14",2023,{"$error":"#VALUE!"},1296,42,"% increase/-decrease",null,null,null,null,null,null,null,null,null,null,null,null,null,null,null,null,"~"]
["SA22",2023,{"$error":"#VALUE!"},1000,1,"Councillors (Political Office Bearers plus Other)",null,null,null,null,null,null,null,null,null,null,null,null,null,null,null,null,"~"]
["SA22",2023,{"$error":"#VALUE!"},1001,2,"Basic Salaries and Wages",null,null,null,null,null,null,null,null,null,null,null,null,null,null,null,null,"~"]
["SA22",2023,{"$error":"#VALUE!"},1002,3,"Pension and UIF Contributions",null,null,null,null,null,null,null,null,null,null,null,null,null,null,null,null,"~"]
["SA22",2023,{"$error":"#VALUE!"},1003,4,"Medical Aid Contributions",null,null,null,null,null,null,null,null,null,null,null,null,null,null,null,null,"~"]
["SA22",2023,{"$error":"#VALUE!"},1004,5,"Motor Vehicle Allowance",null,null,null,null,null,null,null,null,null,null,null,null,null,null,null,null,"~"]
["SA22",2023,{"$error":"#VALUE!"},1005,6,"Cellphone Allowance",null,null,null,null,null,null,null,null,null,null,null,null,null,null,null,null,"~"]
["SA22",2023,{"$error":"#VALUE!"},1006,7,"Housing Allowances",null,null,null,null,null,null,null,null,null,null,null,null,null,null,null,null,"~"]
["SA22",2023,{"$error":"#VALUE!"},1007,8,"Other benefits and allowances",null,null,null,null,null,null,null,null,null,null,null,null,null,null,null,null,"~"]
["SA22",2023,{"$error":"#VALUE!"},1090,9,"Sub Total - Councillors",null,null,null,null,null,null,null,null,null,null,null,null,null,null,null,null,"~"]
["SA22",2023,{"$error":"#VALUE!"},1091,10,"% increase",null,null,null,null,null,null,null,null,null,null,null,null,null,null,null,null,"~"]
["SA22",2023,{"$error":"#VALUE!"},null,null,null,null,null,null,null,null,null,null,null,null,null,null,null,null,null,null,null,"~"]
["SA22",2023,{"$error":"#VALUE!"},1100,11,"Senior Managers of the Municipality",null,null,null,null,null,null,null,null,null,null,null,null,null,null,null,null,"~"]
["SA22",2023,{"$error":"#VALUE!"},1101,12,"Basic Salaries and Wages",null,null,null,null,null,null,null,null,null,null,null,null,null,null,null,null,"~"]
["SA22",2023,{"$error":"#VALUE!"},1102,13,"Pension and UIF Contributions",null,null,null,null,null,null,null,null,null,null,null,null,null,null,null,null,"~"]
["SA22",2023,{"$error":"#VALUE!"},1103,14,"Medical Aid Contributions",null,null,null,null,null,null,null,null,null,null,null,null,null,null,null,null,"~"]
["SA22",2023,{"$error":"#VALUE!"},1110,15,"Overtime",null,null,null,null,null,null,null,null,null,null,null,null,null,null,null,null,"~"]
["SA22",2023,{"$error":"#VALUE!"},1107,16,"Performance Bonus",null,null,null,null,null,null,null,null,null,null,null,null,null,null,null,null,"~"]
["SA22",2023,{"$error":"#VALUE!"},1104,17,"Motor Vehicle Allowance",null,null,null,null,null,null,null,null,null,null,null,null,null,null,null,null,"~"]
["SA22",2023,{"$error":"#VALUE!"},1105,18,"Cellphone Allowance",null,null,null,null,null,null,null,null,null,null,null,null,null,null,null,null,"~"]
["SA22",2023,{"$error":"#VALUE!"},1106,19,"Housing Allowances",null,null,null,null,null,null,null,null,null,null,null,null,null,null,null,null,"~"]
["SA22",2023,{"$error":"#VALUE!"},1108,20,"Other benefits and allowances",null,null,null,null,null,null,null,null,null,null,null,null,null,null,null,null,"~"]
["SA22",2023,{"$error":"#VALUE!"},1111,21,"Payments in lieu of leave",null,null,null,null,null,null,null,null,null,null,null,null,null,null,null,null,"~"]
["SA22",2023,{"$error":"#VALUE!"},1112,22,"Long service awards",null,null,null,null,null,null,null,null,null,null,null,null,null,null,null,null,"~"]
["SA22",2023,{"$error":"#VALUE!"},1113,23,"Post-retirement benefit obligations",null,null,null,null,null,null,null,null,null,null,null,null,null,null,null,null,"~"]
["SA22",2023,{"$error":"#VALUE!"},1190,24,"Sub Total - Senior Managers of Municipality",null,null,null,null,null,null,null,null,null,null,null,null,null,null,null,null,"~"]
["SA22",2023,{"$error":"#VALUE!"},1191,25,"% increase",null,null,null,null,null,null,null,null,null,null,null,null,null,null,null,null,"~"]
["SA22",2023,{"$error":"#VALUE!"},null,null,null,null,null,null,null,null,null,null,null,null,null,null,null,null,null,null,null,"~"]
["SA22",2023,{"$error":"#VALUE!"},1200,26,"Other Municipal Staff",null,null,null,null,null,null,null,null,null,null,null,null,null,null,null,null,"~"]
["SA22",{"$f":"+MTREF","v":2023},{"$f":"LEFT(muni,(FIND(\" \",muni,1)-1))","v":{"$error":"#VALUE!"}},1201,27,"Basic Salaries and Wages",null,null,null,null,null,null,null,null,null,null,null,null,null,null,null,null,"~"]
["SA22",2023,{"$error":"#VALUE!"},1202,28,"Pension and UIF Contributions",null,null,null,null,null,null,null,null,null,null,null,null,null,null,null,null,"~"]
["SA22",2023,{"$error":"#VALUE!"},1203,29,"Medical Aid Contributions",null,null,null,null,null,null,null,null,null,null,null,null,null,null,null,null,"~"]
["SA22",2023,{"$error":"#VALUE!"},1207,30,"Overtime",null,null,null,null,null,null,null,null,null,null,null,null,null,null,null,null,"~"]
["SA22",2023,{"$error":"#VALUE!"},1208,31,"Performance Bonus",null,null,null,null,null,null,null,null,null,null,null,null,null,null,null,null,"~"]
["SA22",2023,{"$error":"#VALUE!"},1204,32,"Motor Vehicle Allowance",null,null,null,null,null,null,null,null,null,null,null,null,null,null,null,null,"~"]
["SA22",2023,{"$error":"#VALUE!"},1205,33,"Cellphone Allowance",null,null,null,null,null,null,null,null,null,null,null,null,null,null,null,null,"~"]
["SA22",2023,{"$error":"#VALUE!"},1206,34,"Housing Allowances",null,null,null,null,null,null,null,null,null,null,null,null,null,null,null,null,"~"]
["SA22",2023,{"$error":"#VALUE!"},1209,35,"Other benefits and allowances",null,null,null,null,null,null,null,null,null,null,null,null,null,null,null,null,"~"]
["SA22",2023,{"$error":"#VALUE!"},1211,36,"Payments in lieu of leave",null,null,null,null,null,null,null,null,null,null,null,null,null,null,null,null,"~"]
["SA22",2023,{"$error":"#VALUE!"},1212,37,"Long service awards",null,null,null,null,null,null,null,null,null,null,null,null,null,null,null,null,"~"]
["SA22",2023,{"$error":"#VALUE!"},1213,38,"Post-retirement benefit obligations",null,null,null,null,null,null,null,null,null,null,null,null,null,null,null,null,"~"]
["SA22",2023,{"$error":"#VALUE!"},1290,39,"Sub Total - Other Municipal Staff",null,null,null,null,null,null,null,null,null,null,null,null,null,null,null,null,"~"]
["SA22",2023,{"$error":"#VALUE!"},1291,40,"% increase",null,null,null,null,null,null,null,null,null,null,null,null,null,null,null,null,"~"]
["SA22",2023,{"$error":"#VALUE!"},null,null,null,null,null,null,null,null,null,null,null,null,null,null,null,null,null,null,null,"~"]
["SA22",2023,{"$error":"#VALUE!"},1295,41,"Total Parent Municipality",null,null,null,null,null,null,null,null,null,null,null,null,null,null,null,null,"~"]
["SA22",2023,{"$error":"#VALUE!"},1297,42,"% increase",null,null,null,null,null,null,null,null,null,null,null,null,null,null,null,null,"~"]
["SA22",2023,{"$error":"#VALUE!"},null,null,null,null,null,null,null,null,null,null,null,null,null,null,null,null,null,null,null,"~"]
["SA22",2023,{"$error":"#VALUE!"},2000,43,"Board Members of Entities",null,null,null,null,null,null,null,null,null,null,null,null,null,null,null,null,"~"]
["SA22",2023,{"$error":"#VALUE!"},2001,44,"Basic Salaries and Wages",null,null,null,null,null,null,null,null,null,null,null,null,null,null,null,null,"~"]
["SA22",2023,{"$error":"#VALUE!"},2002,45,"Pension and UIF Contributions",null,null,null,null,null,null,null,null,null,null,null,null,null,null,null,null,"~"]
["SA22",2023,{"$error":"#VALUE!"},2003,46,"Medical Aid Contributions",null,null,null,null,null,null,null,null,null,null,null,null,null,null,null,null,"~"]
["SA22",2023,{"$error":"#VALUE!"},2010,47,"Overtime",null,null,null,null,null,null,null,null,null,null,null,null,null,null,null,null,"~"]
["SA22",2023,{"$error":"#VALUE!"},2011,48,"Performance Bonus",null,null,null,null,null,null,null,null,null,null,null,null,null,null,null,null,"~"]
["SA22",2023,{"$error":"#VALUE!"},2004,49,"Motor Vehicle Allowance",null,null,null,null,null,null,null,null,null,null,null,null,null,null,null,null,"~"]
["SA22",2023,{"$error":"#VALUE!"},2005,50,"Cellphone Allowance",null,null,null,null,null,null,null,null,null,null,null,null,null,null,null,null,"~"]
["SA22",2023,{"$error":"#VALUE!"},2006,51,"Housing Allowances",null,null,null,null,null,null,null,null,null,null,null,null,null,null,null,null,"~"]
["SA22",2023,{"$error":"#VALUE!"},2008,52,"Other benefits and allowances",null,null,null,null,null,null,null,null,null,null,null,null,null,null,null,null,"~"]
["SA22",2023,{"$error":"#VALUE!"},2007,53,"Board Fees",null,null,null,null,null,null,null,null,null,null,null,null,null,null,null,null,"~"]
["SA22",2023,{"$error":"#VALUE!"},2012,54,"Payments in lieu of leave",null,null,null,null,null,null,null,null,null,null,null,null,null,null,null,null,"~"]
["SA22",2023,{"$error":"#VALUE!"},2013,55,"Long service awards",null,null,null,null,null,null,null,null,null,null,null,null,null,null,null,null,"~"]
["SA22",2023,{"$error":"#VALUE!"},2014,56,"Post-retirement benefit obligations",null,null,null,null,null,null,null,null,null,null,null,null,null,null,null,null,"~"]
["SA22",2023,{"$error":"#VALUE!"},2090,57,"Sub Total - Board Members of Entities",null,null,null,null,null,null,null,null,null,null,null,null,null,null,null,null,"~"]
["SA22",2023,{"$error":"#VALUE!"},2091,58,"% increase",null,null,null,null,null,null,null,null,null,null,null,null,null,null,null,null,"~"]
["SA22",2023,{"$error":"#VALUE!"},null,null,null,null,null,null,null,null,null,null,null,null,null,null,null,null,null,null,null,"~"]
["SA22",2023,{"$error":"#VALUE!"},2100,59,"Senior Managers of Entities",null,null,null,null,null,null,null,null,null,null,null,null,null,null,null,null,"~"]
["SA22",2023,{"$error":"#VALUE!"},2101,60,"Basic Salaries and Wages",null,null,null,null,null,null,null,null,null,null,null,null,null,null,null,null,"~"]
["SA22",2023,{"$error":"#VALUE!"},2102,61,"Pension and UIF Contributions",null,null,null,null,null,null,null,null,null,null,null,null,null,null,null,null,"~"]
["SA22",2023,{"$error":"#VALUE!"},2103,62,"Medical Aid Contributions",null,null,null,null,null,null,null,null,null,null,null,null,null,null,null,null,"~"]
["SA22",2023,{"$error":"#VALUE!"},2110,63,"Overtime",null,null,null,null,null,null,null,null,null,null,null,null,null,null,null,null,"~"]
["SA22",2023,{"$error":"#VALUE!"},2107,64,"Performance Bonus",null,null,null,null,null,null,null,null,null,null,null,null,null,null,null,null,"~"]
["SA22",2023,{"$error":"#VALUE!"},2104,65,"Motor Vehicle Allowance",null,null,null,null,null,null,null,null,null,null,null,null,null,null,null,null,"~"]
["SA22",2023,{"$error":"#VALUE!"},2105,66,"Cellphone Allowance",null,null,null,null,null,null,null,null,null,null,null,null,null,null,null,null,"~"]
["SA22",2023,{"$error":"#VALUE!"},2106,67,"Housing Allowances",null,null,null,null,null,null,null,null,null,null,null,null,null,null,null,null,"~"]
["SA22",2023,{"$error":"#VALUE!"},2108,68,"Other benefits and allowances",null,null,null,null,null,null,null,null,null,null,null,null,null,null,null,null,"~"]
["SA22",2023,{"$error":"#VALUE!"},2111,69,"Payments in lieu of leave",null,null,null,null,null,null,null,null,null,null,null,null,null,null,null,null,"~"]
["SA22",2023,{"$error":"#VALUE!"},2112,70,"Long service awards",null,null,null,null,null,null,null,null,null,null,null,null,null,null,null,null,"~"]
["SA22",2023,{"$error":"#VALUE!"},2113,71,"Post-retirement benefit obligations",null,null,null,null,null,null,null,null,null,null,null,null,null,null,null,null,"~"]
["SA22",2023,{"$error":"#VALUE!"},2190,72,"Sub Total - Senior Managers of Entities",null,null,null,null,null,null,null,null,null,null,null,null,null,null,null,null,"~"]
["SA22",2023,{"$error":"#VALUE!"},2191,73,"% increase",null,null,null,null,null,null,null,null,null,null,null,null,null,null,null,null,"~"]
["SA22",2023,{"$error":"#VALUE!"},null,null,null,null,null,null,null,null,null,null,null,null,null,null,null,null,null,null,null,"~"]
["SA22",2023,{"$error":"#VALUE!"},2200,74,"Other Staff of Entities",null,null,null,null,null,null,null,null,null,null,null,null,null,null,null,null,"~"]
["SA22",2023,{"$error":"#VALUE!"},2201,75,"Basic Salaries and Wages",null,null,null,null,null,null,null,null,null,null,null,null,null,null,null,null,"~"]
["SA22",2023,{"$error":"#VALUE!"},2202,76,"Pension and UIF Contributions",null,null,null,null,null,null,null,null,null,null,null,null,null,null,null,null,"~"]
["SA22",2023,{"$error":"#VALUE!"},2203,77,"Medical Aid Contributions",null,null,null,null,null,null,null,null,null,null,null,null,null,null,null,null,"~"]
["SA22",2023,{"$error":"#VALUE!"},2207,78,"Overtime",null,null,null,null,null,null,null,null,null,null,null,null,null,null,null,null,"~"]
["SA22",2023,{"$error":"#VALUE!"},2208,79,"Performance Bonus",null,null,null,null,null,null,null,null,null,null,null,null,null,null,null,null,"~"]
["SA22",2023,{"$error":"#VALUE!"},2204,80,"Motor Vehicle Allowance",null,null,null,null,null,null,null,null,null,null,null,null,null,null,null,null,"~"]
["SA22",2023,{"$error":"#VALUE!"},2205,81,"Cellphone Allowance",null,null,null,null,null,null,null,null,null,null,null,null,null,null,null,null,"~"]
["SA22",2023,{"$error":"#VALUE!"},2206,82,"Housing Allowances",null,null,null,null,null,null,null,null,null,null,null,null,null,null,null,null,"~"]
["SA22",2023,{"$error":"#VALUE!"},2209,83,"Other benefits and allowances",null,null,null,null,null,null,null,null,null,null,null,null,null,null,null,null,"~"]
["SA22",2023,{"$error":"#VALUE!"},2211,84,"Payments in lieu of leave",null,null,null,null,null,null,null,null,null,null,null,null,null,null,null,null,"~"]
["SA22",2023,{"$error":"#VALUE!"},2212,85,"Long service awards",null,null,null,null,null,null,null,null,null,null,null,null,null,null,null,null,"~"]
["SA22",2023,{"$error":"#VALUE!"},2213,86,"Post-retirement benefit obligations",null,null,null,null,null,null,null,null,null,null,null,null,null,null,null,null,"~"]
["SA22",{"$f":"+MTREF","v":2023},{"$f":"LEFT(muni,(FIND(\" \",muni,1)-1))","v":{"$error":"#VALUE!"}},2290,87,"Sub Total - Other Staff of Entities",null,null,null,null,null,null,null,null,null,null,null,null,null,null,null,null,"~"]
["SA22",2023,{"$error":"#VALUE!"},2291,89,"% increase",null,null,null,null,null,null,null,null,null,null,null,null,null,null,null,null,"~"]
["SA22",2023,{"$error":"#VALUE!"},null,null,null,null,null,null,null,null,null,null,null,null,null,null,null,null,null,null,null,"~"]
["SA22",2023,{"$error":"#VALUE!"},2295,90,"Total Municipal Entities",null,null,null,null,null,null,null,null,null,null,null,null,null,null,null,null,"~"]
["SA22",2023,{"$error":"#VALUE!"},null,null,null,null,null,null,null,null,null,null,null,null,null,null,null,null,null,null,null,"~"]
["SA22",2023,{"$error":"#VALUE!"},2296,91,"TOTAL SALARY, ALLOWANCES & BENEFITS",null,null,null,null,null,null,null,null,null,null,null,null,null,null,null,null,"~"]
["SA22",2023,{"$error":"#VALUE!"},2297,92,"% increase",null,null,null,null,null,null,null,null,null,null,null,null,null,null,null,null,"~"]
["SA22",2023,{"$error":"#VALUE!"},2298,93,"TOTAL MANAGERS AND STAFF",null,null,null,null,null,null,null,null,null,null,null,null,null,null,null,null,"~"]
["SA23",2023,{"$error":"#VALUE!"},1000,1,null,null,null,null,null,null,null,null,null,null,null,null,null,null,null,null,null,"~"]
["SA23",2023,{"$error":"#VALUE!"},1001,2,null,null,null,null,null,null,null,null,null,null,null,null,null,null,null,null,null,"~"]
["SA23",2023,{"$error":"#VALUE!"},1002,3,null,null,null,null,null,null,null,null,null,null,null,null,null,null,null,null,null,"~"]
["SA23",2023,{"$error":"#VALUE!"},1003,4,null,null,null,null,null,null,null,null,null,null,null,null,null,null,null,null,null,"~"]
["SA23",2023,{"$error":"#VALUE!"},1004,5,null,null,null,null,null,null,null,null,null,null,null,null,null,null,null,null,null,"~"]
["SA23",2023,{"$error":"#VALUE!"},1005,6,null,null,null,null,null,null,null,null,null,null,null,null,null,null,null,null,null,"~"]
["SA23",2023,{"$error":"#VALUE!"},1006,7,null,null,null,null,null,null,null,null,null,null,null,null,null,null,null,null,null,"~"]
["SA23",2023,{"$error":"#VALUE!"},1090,8,null,null,null,null,null,null,null,null,null,null,null,null,null,null,null,null,null,"~"]
["SA23",2023,{"$error":"#VALUE!"},null,null,null,null,null,null,null,null,null,null,null,null,null,null,null,null,null,null,null,"~"]
["SA23",2023,{"$error":"#VALUE!"},null,null,null,null,null,null,null,null,null,null,null,null,null,null,null,null,null,null,null,"~"]
["SA23",2023,{"$error":"#VALUE!"},null,null,null,null,null,null,null,null,null,null,null,null,null,null,null,null,null,null,null,"~"]
["SA23",2023,{"$error":"#VALUE!"},null,null,null,null,null,null,null,null,null,null,null,null,null,null,null,null,null,null,null,"~"]
["SA23",2023,{"$error":"#VALUE!"},null,null,null,null,null,null,null,null,null,null,null,null,null,null,null,null,null,null,null,"~"]
["SA23",2023,{"$error":"#VALUE!"},null,null,null,null,null,null,null,null,null,null,null,null,null,null,null,null,null,null,null,"~"]
["SA23",2023,{"$error":"#VALUE!"},null,null,null,null,null,null,null,null,null,null,null,null,null,null,null,null,null,null,null,"~"]
["SA23",2023,{"$error":"#VALUE!"},null,null,null,null,null,null,null,null,null,null,null,null,null,null,null,null,null,null,null,"~"]
["SA23",2023,{"$error":"#VALUE!"},null,null,null,null,null,null,null,null,null,null,null,null,null,null,null,null,null,null,null,"~"]
["SA23",2023,{"$error":"#VALUE!"},null,null,null,null,null,null,null,null,null,null,null,null,null,null,null,null,null,null,null,"~"]
["SA23",2023,{"$error":"#VALUE!"},null,null,null,null,null,null,null,null,null,null,null,null,null,null,null,null,null,null,null,"~"]
["SA23",2023,{"$error":"#VALUE!"},null,null,null,null,null,null,null,null,null,null,null,null,null,null,null,null,null,null,null,"~"]
["SA23",2023,{"$error":"#VALUE!"},null,null,null,null,null,null,null,null,null,null,null,null,null,null,null,null,null,null,null,"~"]
["SA23",2023,{"$error":"#VALUE!"},null,null,null,null,null,null,null,null,null,null,null,null,null,null,null,null,null,null,null,"~"]
["SA23",2023,{"$error":"#VALUE!"},null,null,null,null,null,null,null,null,null,null,null,null,null,null,null,null,null,null,null,"~"]
["SA23",2023,{"$error":"#VALUE!"},null,null,null,null,null,null,null,null,null,null,null,null,null,null,null,null,null,null,null,"~"]
["SA23",2023,{"$error":"#VALUE!"},null,null,null,null,null,null,null,null,null,null,null,null,null,null,null,null,null,null,null,"~"]
["SA23",2023,{"$error":"#VALUE!"},null,null,null,null,null,null,null,null,null,null,null,null,null,null,null,null,null,null,null,"~"]
["SA23",2023,{"$error":"#VALUE!"},null,null,null,null,null,null,null,null,null,null,null,null,null,null,null,null,null,null,null,"~"]
["SA23",2023,{"$error":"#VALUE!"},null,null,null,null,null,null,null,null,null,null,null,null,null,null,null,null,null,null,null,"~"]
["SA23",2023,{"$error":"#VALUE!"},null,null,null,null,null,null,null,null,null,null,null,null,null,null,null,null,null,null,null,"~"]
["SA23",2023,{"$error":"#VALUE!"},null,null,null,null,null,null,null,null,null,null,null,null,null,null,null,null,null,null,null,"~"]
["SA23",2023,{"$error":"#VALUE!"},null,null,null,null,null,null,null,null,null,null,null,null,null,null,null,null,null,null,null,"~"]
["SA23",2023,{"$error":"#VALUE!"},null,null,null,null,null,null,null,null,null,null,null,null,null,null,null,null,null,null,null,"~"]
["SA23",2023,{"$error":"#VALUE!"},null,null,null,null,null,null,null,null,null,null,null,null,null,null,null,null,null,null,null,"~"]
["SA23",2023,{"$error":"#VALUE!"},null,null,null,null,null,null,null,null,null,null,null,null,null,null,null,null,null,null,null,"~"]
["SA23",2023,{"$error":"#VALUE!"},null,null,null,null,null,null,null,null,null,null,null,null,null,null,null,null,null,null,null,"~"]
["SA23",2023,{"$error":"#VALUE!"},null,null,null,null,null,null,null,null,null,null,null,null,null,null,null,null,null,null,null,"~"]
["SA23",2023,{"$error":"#VALUE!"},null,null,null,null,null,null,null,null,null,null,null,null,null,null,null,null,null,null,null,"~"]
["SA23",2023,{"$error":"#VALUE!"},null,null,null,null,null,null,null,null,null,null,null,null,null,null,null,null,null,null,null,"~"]
["SA23",2023,{"$error":"#VALUE!"},null,null,null,null,null,null,null,null,null,null,null,null,null,null,null,null,null,null,null,"~"]
["SA23",2023,{"$error":"#VALUE!"},null,null,null,null,null,null,null,null,null,null,null,null,null,null,null,null,null,null,null,"~"]
["SA23",2023,{"$error":"#VALUE!"},null,null,null,null,null,null,null,null,null,null,null,null,null,null,null,null,null,null,null,"~"]
["SA23",2023,{"$error":"#VALUE!"},null,null,null,null,null,null,null,null,null,null,null,null,null,null,null,null,null,null,null,"~"]
["SA23",2023,{"$error":"#VALUE!"},null,null,null,null,null,null,null,null,null,null,null,null,null,null,null,null,null,null,null,"~"]
["SA23",2023,{"$error":"#VALUE!"},null,null,null,null,null,null,null,null,null,null,null,null,null,null,null,null,null,null,null,"~"]
["SA23",2023,{"$error":"#VALUE!"},null,null,null,null,null,null,null,null,null,null,null,null,null,null,null,null,null,null,null,"~"]
["SA23",2023,{"$error":"#VALUE!"},null,null,null,null,null,null,null,null,null,null,null,null,null,null,null,null,null,null,null,"~"]
["SA23",2023,{"$error":"#VALUE!"},null,null,null,null,null,null,null,null,null,null,null,null,null,null,null,null,null,null,null,"~"]
["SA23",2023,{"$error":"#VALUE!"},null,null,null,null,null,null,null,null,null,null,null,null,null,null,null,null,null,null,null,"~"]
["SA23",2023,{"$error":"#VALUE!"},null,null,null,null,null,null,null,null,null,null,null,null,null,null,null,null,null,null,null,"~"]
["SA23",2023,{"$error":"#VALUE!"},null,null,null,null,null,null,null,null,null,null,null,null,null,null,null,null,null,null,null,"~"]
["SA23",2023,{"$error":"#VALUE!"},null,null,null,null,null,null,null,null,null,null,null,null,null,null,null,null,null,null,null,"~"]
["SA23",2023,{"$error":"#VALUE!"},null,null,null,null,null,null,null,null,null,null,null,null,null,null,null,null,null,null,null,"~"]
["SA23",2023,{"$error":"#VALUE!"},null,null,null,null,null,null,null,null,null,null,null,null,null,null,null,null,null,null,null,"~"]
["SA23",2023,{"$error":"#VALUE!"},null,null,null,null,null,null,null,null,null,null,null,null,null,null,null,null,null,null,null,"~"]
["SA23",2023,{"$error":"#VALUE!"},null,null,null,null,null,null,null,null,null,null,null,null,null,null,null,null,null,null,null,"~"]
["SA23",2023,{"$error":"#VALUE!"},null,null,null,null,null,null,null,null,null,null,null,null,null,null,null,null,null,null,null,"~"]
["SA23",{"$f":"+MTREF","v":2023},{"$f":"LEFT(muni,(FIND(\" \",muni,1)-1))","v":{"$error":"#VALUE!"}},null,null,null,null,null,null,null,null,null,null,null,null,null,null,null,null,null,null,null,"~"]
["SA23",2023,{"$error":"#VALUE!"},null,null,null,null,null,null,null,null,null,null,null,null,null,null,null,null,null,null,null,"~"]
["SA23",2023,{"$error":"#VALUE!"},null,null,null,null,null,null,null,null,null,null,null,null,null,null,null,null,null,null,null,"~"]
["SA23",2023,{"$error":"#VALUE!"},null,null,null,null,null,null,null,null,null,null,null,null,null,null,null,null,null,null,null,"~"]
["SA23",2023,{"$error":"#VALUE!"},null,null,null,null,null,null,null,null,null,null,null,null,null,null,null,null,null,null,null,"~"]
["SA23",2023,{"$error":"#VALUE!"},null,null,null,null,null,null,null,null,null,null,null,null,null,null,null,null,null,null,null,"~"]
["SA23",2023,{"$error":"#VALUE!"},null,null,null,null,null,null,null,null,null,null,null,null,null,null,null,null,null,null,null,"~"]
["SA23",2023,{"$error":"#VALUE!"},null,null,null,null,null,null,null,null,null,null,null,null,null,null,null,null,null,null,null,"~"]
["SA23",2023,{"$error":"#VALUE!"},null,null,null,null,null,null,null,null,null,null,null,null,null,null,null,null,null,null,null,"~"]
["SA23",2023,{"$error":"#VALUE!"},null,null,null,null,null,null,null,null,null,null,null,null,null,null,null,null,null,null,null,"~"]
["SA23",2023,{"$error":"#VALUE!"},null,null,null,null,null,null,null,null,null,null,null,null,null,null,null,null,null,null,null,"~"]
["SA23",2023,{"$error":"#VALUE!"},null,null,null,null,null,null,null,null,null,null,null,null,null,null,null,null,null,null,null,"~"]
["SA23",2023,{"$error":"#VALUE!"},null,null,null,null,null,null,null,null,null,null,null,null,null,null,null,null,null,null,null,"~"]
["SA23",2023,{"$error":"#VALUE!"},null,null,null,null,null,null,null,null,null,null,null,null,null,null,null,null,null,null,null,"~"]
["SA23",2023,{"$error":"#VALUE!"},null,null,null,null,null,null,null,null,null,null,null,null,null,null,null,null,null,null,null,"~"]
["SA23",2023,{"$error":"#VALUE!"},null,null,null,null,null,null,null,null,null,null,null,null,null,null,null,null,null,null,null,"~"]
["SA23",2023,{"$error":"#VALUE!"},null,null,null,null,null,null,null,null,null,null,null,null,null,null,null,null,null,null,null,"~"]
["SA23",2023,{"$error":"#VALUE!"},null,null,null,null,null,null,null,null,null,null,null,null,null,null,null,null,null,null,null,"~"]
["SA23",2023,{"$error":"#VALUE!"},null,null,null,null,null,null,null,null,null,null,null,null,null,null,null,null,null,null,null,"~"]
["SA23",2023,{"$error":"#VALUE!"},null,null,null,null,null,null,null,null,null,null,null,null,null,null,null,null,null,null,null,"~"]
["SA23",2023,{"$error":"#VALUE!"},null,null,null,null,null,null,null,null,null,null,null,null,null,null,null,null,null,null,null,"~"]
["SA23",2023,{"$error":"#VALUE!"},null,null,null,null,null,null,null,null,null,null,null,null,null,null,null,null,null,null,null,"~"]
["SA23",2023,{"$error":"#VALUE!"},null,null,null,null,null,null,null,null,null,null,null,null,null,null,null,null,null,null,null,"~"]
["SA23",2023,{"$error":"#VALUE!"},null,null,null,null,null,null,null,null,null,null,null,null,null,null,null,null,null,null,null,"~"]
["SA23",2023,{"$error":"#VALUE!"},null,null,null,null,null,null,null,null,null,null,null,null,null,null,null,null,null,null,null,"~"]
["SA23",2023,{"$error":"#VALUE!"},null,null,null,null,null,null,null,null,null,null,null,null,null,null,null,null,null,null,null,"~"]
["SA23",2023,{"$error":"#VALUE!"},null,null,null,null,null,null,null,null,null,null,null,null,null,null,null,null,null,null,null,"~"]
["SA23",2023,{"$error":"#VALUE!"},null,null,null,null,null,null,null,null,null,null,null,null,null,null,null,null,null,null,null,"~"]
["SA23",2023,{"$error":"#VALUE!"},null,null,null,null,null,null,null,null,null,null,null,null,null,null,null,null,null,null,null,"~"]
["SA23",2023,{"$error":"#VALUE!"},null,null,null,null,null,null,null,null,null,null,null,null,null,null,null,null,null,null,null,"~"]
["SA23",2023,{"$error":"#VALUE!"},null,null,null,null,null,null,null,null,null,null,null,null,null,null,null,null,null,null,null,"~"]
["SA23",2023,{"$error":"#VALUE!"},null,null,null,null,null,null,null,null,null,null,null,null,null,null,null,null,null,null,null,"~"]
["SA23",2023,{"$error":"#VALUE!"},null,null,null,null,null,null,null,null,null,null,null,null,null,null,null,null,null,null,null,"~"]
["SA23",2023,{"$error":"#VALUE!"},null,null,null,null,null,null,null,null,null,null,null,null,null,null,null,null,null,null,null,"~"]
["SA23",2023,{"$error":"#VALUE!"},null,null,null,null,null,null,null,null,null,null,null,null,null,null,null,null,null,null,null,"~"]
["SA23",2023,{"$error":"#VALUE!"},null,null,null,null,null,null,null,null,null,null,null,null,null,null,null,null,null,null,null,"~"]
["SA23",2023,{"$error":"#VALUE!"},null,null,null,null,null,null,null,null,null,null,null,null,null,null,null,null,null,null,null,"~"]
["SA23",2023,{"$error":"#VALUE!"},null,null,null,null,null,null,null,null,null,null,null,null,null,null,null,null,null,null,null,"~"]
["SA23",2023,{"$error":"#VALUE!"},null,null,null,null,null,null,null,null,null,null,null,null,null,null,null,null,null,null,null,"~"]
["SA23",2023,{"$error":"#VALUE!"},null,null,null,null,null,null,null,null,null,null,null,null,null,null,null,null,null,null,null,"~"]
["SA23",2023,{"$error":"#VALUE!"},null,null,null,null,null,null,null,null,null,null,null,null,null,null,null,null,null,null,null,"~"]
["SA23",2023,{"$error":"#VALUE!"},null,null,null,null,null,null,null,null,null,null,null,null,null,null,null,null,null,null,null,"~"]
["SA23",2023,{"$error":"#VALUE!"},null,null,null,null,null,null,null,null,null,null,null,null,null,null,null,null,null,null,null,"~"]
["SA24",2023,{"$error":"#VALUE!"},1000,1,"Municipal Council and Boards of Municipal Entities",null,null,null,null,null,null,null,null,null,null,null,null,null,null,null,null,"~"]
["SA24",2023,{"$error":"#VALUE!"},1001,2,"Councillors (Political Office Bearers and Other Councillors)",null,null,null,null,null,null,null,null,null,null,null,null,null,null,null,null,"~"]
["SA24",2023,{"$error":"#VALUE!"},1002,3,"Board Members of municipal entities",null,null,null,null,null,null,null,null,null,null,null,null,null,null,null,null,"~"]
["SA24",2023,{"$error":"#VALUE!"},1100,4,"Municipal employees",null,null,null,null,null,null,null,null,null,null,null,null,null,null,null,null,"~"]
["SA24",2023,{"$error":"#VALUE!"},1101,5,"Municipal Manager and Senior Managers",null,null,null,null,null,null,null,null,null,null,null,null,null,null,null,null,"~"]
["SA24",2023,{"$error":"#VALUE!"},1102,6,"Other Managers",null,null,null,null,null,null,null,null,null,null,null,null,null,null,null,null,"~"]
["SA24",2023,{"$error":"#VALUE!"},1103,7,"Professionals",null,null,null,null,null,null,null,null,null,null,null,null,null,null,null,null,"~"]
["SA24",2023,{"$error":"#VALUE!"},1104,8,"Finance",null,null,null,null,null,null,null,null,null,null,null,null,null,null,null,null,"~"]
["SA24",2023,{"$error":"#VALUE!"},1105,9,"Spatial/town planning",null,null,null,null,null,null,null,null,null,null,null,null,null,null,null,null,"~"]
["SA24",2023,{"$error":"#VALUE!"},1106,10,"Information Technology",null,null,null,null,null,null,null,null,null,null,null,null,null,null,null,null,"~"]
["SA24",2023,{"$error":"#VALUE!"},1107,11,"Roads",null,null,null,null,null,null,null,null,null,null,null,null,null,null,null,null,"~"]
["SA24",2023,{"$error":"#VALUE!"},1108,12,"Electricity",null,null,null,null,null,null,null,null,null,null,null,null,null,null,null,null,"~"]
["SA24",2023,{"$error":"#VALUE!"},1109,13,"Water",null,null,null,null,null,null,null,null,null,null,null,null,null,null,null,null,"~"]
["SA24",2023,{"$error":"#VALUE!"},1110,14,"Sanitation",null,null,null,null,null,null,null,null,null,null,null,null,null,null,null,null,"~"]
["SA24",2023,{"$error":"#VALUE!"},1111,15,"Refuse",null,null,null,null,null,null,null,null,null,null,null,null,null,null,null,null,"~"]
["SA24",2023,{"$error":"#VALUE!"},1112,16,"Other",null,null,null,null,null,null,null,null,null,null,null,null,null,null,null,null,"~"]
["SA24",2023,{"$error":"#VALUE!"},1113,17,"Technicians",null,null,null,null,null,null,null,null,null,null,null,null,null,null,null,null,"~"]
["SA24",2023,{"$error":"#VALUE!"},1114,18,"Finance",null,null,null,null,null,null,null,null,null,null,null,null,null,null,null,null,"~"]
["SA24",2023,{"$error":"#VALUE!"},1115,19,"Spatial/town planning",null,null,null,null,null,null,null,null,null,null,null,null,null,null,null,null,"~"]
["SA24",2023,{"$error":"#VALUE!"},1116,20,"Information Technology",null,null,null,null,null,null,null,null,null,null,null,null,null,null,null,null,"~"]
["SA24",2023,{"$error":"#VALUE!"},1117,21,"Roads",null,null,null,null,null,null,null,null,null,null,null,null,null,null,null,null,"~"]
["SA24",{"$f":"+MTREF","v":2023},{"$f":"LEFT(muni,(FIND(\" \",muni,1)-1))","v":{"$error":"#VALUE!"}},1118,22,"Electricity",null,null,null,null,null,null,null,null,null,null,null,null,null,null,null,null,"~"]
["SA24",2023,{"$error":"#VALUE!"},1119,23,"Water",null,null,null,null,null,null,null,null,null,null,null,null,null,null,null,null,"~"]
["SA24",2023,{"$error":"#VALUE!"},1120,24,"Sanitation",null,null,null,null,null,null,null,null,null,null,null,null,null,null,null,null,"~"]
["SA24",2023,{"$error":"#VALUE!"},1121,25,"Refuse",null,null,null,null,null,null,null,null,null,null,null,null,null,null,null,null,"~"]
["SA24",2023,{"$error":"#VALUE!"},1122,26,"Other",null,null,null,null,null,null,null,null,null,null,null,null,null,null,null,null,"~"]
["SA24",2023,{"$error":"#VALUE!"},1123,27,"Clerks (Clerical and administrative)",null,null,null,null,null,null,null,null,null,null,null,null,null,null,null,null,"~"]
["SA24",2023,{"$error":"#VALUE!"},1124,28,"Service and sales workers",null,null,null,null,null,null,null,null,null,null,null,null,null,null,null,null,"~"]
["SA24",2023,{"$error":"#VALUE!"},1125,29,"Skilled agricultural and fishery workers",null,null,null,null,null,null,null,null,null,null,null,null,null,null,null,null,"~"]
["SA24",2023,{"$error":"#VALUE!"},1126,30,"Craft and related trades",null,null,null,null,null,null,null,null,null,null,null,null,null,null,null,null,"~"]
["SA24",2023,{"$error":"#VALUE!"},1127,31,"Plant and Machine Operators",null,null,null,null,null,null,null,null,null,null,null,null,null,null,null,null,"~"]
["SA24",2023,{"$error":"#VALUE!"},1128,32,"Elementary Occupations",null,null,null,null,null,null,null,null,null,null,null,null,null,null,null,null,"~"]
["SA24",2023,{"$error":"#VALUE!"},1190,33,"TOTAL PERSONNEL NUMBERS",null,null,null,null,null,null,null,null,null,null,null,null,null,null,null,null,"~"]
["SA24",2023,{"$error":"#VALUE!"},1191,34,"% increase",null,null,null,null,null,null,null,null,null,null,null,null,null,null,null,null,"~"]
["SA24",2023,{"$error":"#VALUE!"},null,null,null,null,null,null,null,null,null,null,null,null,null,null,null,null,null,null,null,"~"]
["SA24",2023,{"$error":"#VALUE!"},1200,35,"Total municipal employees headcount",null,null,null,null,null,null,null,null,null,null,null,null,null,null,null,null,"~"]
["SA24",2023,{"$error":"#VALUE!"},1201,36,"Finance personnel headcount",null,null,null,null,null,null,null,null,null,null,null,null,null,null,null,null,"~"]
["SA24",2023,{"$error":"#VALUE!"},1202,37,"Human Resources personnel headcount",null,null,null,null,null,null,null,null,null,null,null,null,null,null,null,null,"~"]
["OTHER",2023,{"$error":"#VALUE!"},"1001",1,"Unspent conditional transfers",null,null,null,null,null,null,null,null,null,null,null,null,null,null,null,null,"~"]
["OTHER",2023,{"$error":"#VALUE!"},"1002",2,"Unspent borrowing",null,null,null,null,null,null,null,null,null,null,null,null,null,null,null,null,"~"]
["OTHER",2023,{"$error":"#VALUE!"},"1003",3,"Statutory requirements",null,null,null,null,null,null,null,null,null,null,null,null,null,null,null,null,"~"]
["OTHER",2023,{"$error":"#VALUE!"},"1005",5,"Other provisions",null,null,null,null,null,null,null,null,null,null,null,null,null,null,null,null,"~"]
["OTHER",2023,{"$error":"#VALUE!"},"1006",6,"Long term investments committed",null,null,null,null,null,null,null,null,null,null,null,null,null,null,null,null,"~"]
["OTHER",2023,{"$error":"#VALUE!"},"1007",7,"Reserves to be backed by cash/investments",null,null,null,null,null,null,null,null,null,null,null,null,null,null,null,null,"~"]
["OTHER",2023,{"$error":"#VALUE!"},"1008",8,"Estimate of other debtors > 90 days",null,null,null,null,null,null,null,null,null,null,null,null,null,null,null,null,"~"]
["OTHER",2023,{"$error":"#VALUE!"},2001,9,"Contributions recognised - capital",null,null,null,null,null,null,null,null,null,null,null,null,null,null,null,null,"~"]
["OTHER",2023,{"$error":"#VALUE!"},"3001",10,"Depreciation offsets",null,null,null,null,null,null,null,null,null,null,null,null,null,null,null,null,"~"]
["OTHER",2023,{"$error":"#VALUE!"},"4001",11,"Fixed operational expenditure % assumption",null,null,null,null,null,null,null,null,null,null,null,null,null,null,null,null,"~"]
["OTHER",2023,{"$error":"#VALUE!"},5000,50,"Repairs and Maintenance by Expenditure Item",null,null,null,null,null,null,null,null,null,null,null,null,null,null,null,null,"~"]
["OTHER",2023,{"$error":"#VALUE!"},5001,51,"Employee related costs",null,null,null,null,null,null,null,null,null,null,null,null,null,null,null,null,"~"]
["OTHER",2023,{"$error":"#VALUE!"},5002,52,"Other materials",null,null,null,null,null,null,null,null,null,null,null,null,null,null,null,null,"~"]
["OTHER",2023,{"$error":"#VALUE!"},5003,53,"Contracted Services",null,null,null,null,null,null,null,null,null,null,null,null,null,null,null,null,"~"]
["OTHER",2023,{"$error":"#VALUE!"},5004,54,"Other Expenditure",null,null,null,null,null,null,null,null,null,null,null,null,null,null,null,null,"~"]
["OTHER",2023,{"$error":"#VALUE!"},5005,55,"Total Repairs and Maintenance Expenditure",null,null,null,null,null,null,null,null,null,null,null,null,null,null,null,null,"~"]
["OTHER",2023,{"$error":"#VALUE!"},6001,61,"Volume Electricity Distribution Losses",null,null,null,null,null,null,null,null,null,null,null,null,null,null,null,null,"~"]
["OTHER",2023,{"$error":"#VALUE!"},6002,62,"Cost Electiricty Distribution Losses",null,null,null,null,null,null,null,null,null,null,null,null,null,null,null,null,"~"]
["OTHER",2023,{"$error":"#VALUE!"},null,null,null,null,null,null,null,null,null,null,null,null,null,null,null,null,null,null,null,"~"]
["OTHER",2023,{"$error":"#VALUE!"},6003,63,"Volume Water Distribution Losses",null,null,null,null,null,null,null,null,null,null,null,null,null,null,null,null,"~"]
["OTHER",2023,{"$error":"#VALUE!"},6004,64,"Cost Water Distribution Losses",null,null,null,null,null,null,null,null,null,null,null,null,null,null,null,null,"~"]
["OTHER",2023,{"$error":"#VALUE!"},null,null,null,null,null,null,null,null,null,null,null,null,null,null,null,null,null,null,null,"~"]
["OTHER",2023,{"$error":"#VALUE!"},7001,71,"Consultant Fees",null,null,null,null,null,null,null,null,null,null,null,null,null,null,null,null,"~"]
["OTHER",2023,{"$error":"#VALUE!"},7002,72,"Audit Fees",null,null,null,null,null,null,null,null,null,null,null,null,null,null,null,null,"~"]
["SA36",2023,{"$error":"#VALUE!"},1,null,null,null,null,null,null,null,null,null,null,null,null,null,null,null,null,null,null,"~"]
["SA36",2023,{"$error":"#VALUE!"},2,null,null,null,null,null,null,null,null,null,null,null,null,null,null,null,null,null,null,"~"]
["SA36",2023,{"$error":"#VALUE!"},3,null,null,null,null,null,null,null,null,null,null,null,null,null,null,null,null,null,null,"~"]
["SA36",2023,{"$error":"#VALUE!"},4,null,null,null,null,null,null,null,null,null,null,null,null,null,null,null,null,null,null,"~"]
["SA36",2023,{"$error":"#VALUE!"},5,null,null,null,null,null,null,null,null,null,null,null,null,null,null,null,null,null,null,"~"]
["SA36",2023,{"$error":"#VALUE!"},6,null,null,null,null,null,null,null,null,null,null,null,null,null,null,null,null,null,null,"~"]
["SA36",2023,{"$error":"#VALUE!"},7,null,null,null,null,null,null,null,null,null,null,null,null,null,null,null,null,null,null,"~"]
["SA36",2023,{"$error":"#VALUE!"},8,null,null,null,null,null,null,null,null,null,null,null,null,null,null,null,null,null,null,"~"]
["SA36",2023,{"$error":"#VALUE!"},9,null,null,null,null,null,null,null,null,null,null,null,null,null,null,null,null,null,null,"~"]
["SA36",2023,{"$error":"#VALUE!"},10,null,null,null,null,null,null,null,null,null,null,null,null,null,null,null,null,null,null,"~"]
["SA36",2023,{"$error":"#VALUE!"},11,null,null,null,null,null,null,null,null,null,null,null,null,null,null,null,null,null,null,"~"]
["SA36",2023,{"$error":"#VALUE!"},12,null,null,null,null,null,null,null,null,null,null,null,null,null,null,null,null,null,null,"~"]
["SA36",2023,{"$error":"#VALUE!"},13,null,null,null,null,null,null,null,null,null,null,null,null,null,null,null,null,null,null,"~"]
["SA36",2023,{"$error":"#VALUE!"},14,null,null,null,null,null,null,null,null,null,null,null,null,null,null,null,null,null,null,"~"]
["SA36",2023,{"$error":"#VALUE!"},15,null,null,null,null,null,null,null,null,null,null,null,null,null,null,null,null,null,null,"~"]
["SA36",2023,{"$error":"#VALUE!"},16,null,null,null,null,null,null,null,null,null,null,null,null,null,null,null,null,null,null,"~"]
["SA36",2023,{"$error":"#VALUE!"},17,null,null,null,null,null,null,null,null,null,null,null,0,0,null,null,0,null,null,"~"]
["SA36",2023,{"$error":"#VALUE!"},18,null,null,null,null,null,null,null,null,null,null,null,null,null,null,null,null,null,null,"~"]
["SA36",2023,{"$error":"#VALUE!"},19,null,null,null,null,null,null,null,null,null,null,null,null,null,null,null,null,null,null,"~"]
["SA36",2023,{"$error":"#VALUE!"},20,null,null,null,null,null,null,null,null,null,null,null,null,null,null,null,null,null,null,"~"]
["SA36",2023,{"$error":"#VALUE!"},21,null,null,null,null,null,null,null,null,null,null,null,null,null,null,null,null,null,null,"~"]
["SA36",2023,{"$error":"#VALUE!"},22,null,null,null,null,null,null,null,null,null,null,null,null,null,null,null,null,null,null,"~"]
["SA36",2023,{"$error":"#VALUE!"},23,null,null,null,null,null,null,null,null,null,null,null,null,null,null,null,null,null,null,"~"]
["SA36",{"$f":"+MTREF","v":2023},{"$f":"LEFT(muni,(FIND(\" \",muni,1)-1))","v":{"$error":"#VALUE!"}},24,null,null,null,null,null,null,null,null,null,null,null,null,null,null,null,null,null,null,"~"]
["SA36",2023,{"$error":"#VALUE!"},25,null,null,null,null,null,null,null,null,null,null,null,null,null,null,null,null,null,null,"~"]
["SA36",2023,{"$error":"#VALUE!"},26,null,null,null,null,null,null,null,null,null,null,null,null,null,null,null,null,null,null,"~"]
["SA36",2023,{"$error":"#VALUE!"},27,null,null,null,null,null,null,null,null,null,null,null,null,null,null,null,null,null,null,"~"]
["SA36",2023,{"$error":"#VALUE!"},28,null,null,null,null,null,null,null,null,null,null,null,null,null,null,null,null,null,null,"~"]
["SA36",2023,{"$error":"#VALUE!"},29,null,null,null,null,null,null,null,null,null,null,null,null,null,null,null,null,null,null,"~"]
["SA36",2023,{"$error":"#VALUE!"},30,null,null,null,null,null,null,null,null,null,0,0,0,0,null,null,null,null,null,"~"]
["SA36",2023,{"$error":"#VALUE!"},31,null,null,null,null,null,null,null,null,null,0,0,0,0,null,null,null,null,null,"~"]
["SA36",2023,{"$error":"#VALUE!"},32,null,null,null,null,null,null,null,null,null,null,null,null,null,null,null,null,null,null,"~"]
["SA36",2023,{"$error":"#VALUE!"},33,null,null,null,null,null,null,null,null,null,null,null,null,null,null,null,null,null,null,"~"]
["SA36",2023,{"$error":"#VALUE!"},34,null,null,null,null,null,null,null,null,null,null,null,null,null,null,null,null,null,null,"~"]
["SA36",2023,{"$error":"#VALUE!"},35,null,null,null,null,null,null,null,null,null,null,null,null,null,null,null,null,null,null,"~"]
["SA36",2023,{"$error":"#VALUE!"},36,null,null,null,null,null,null,null,null,null,null,null,null,null,null,null,null,null,null,"~"]
["SA36",2023,{"$error":"#VALUE!"},37,null,null,null,null,null,null,null,null,null,null,null,null,null,null,null,null,null,null,"~"]
["SA36",2023,{"$error":"#VALUE!"},38,null,null,null,null,null,null,null,null,"Check",0,null,null,null,null,null,null,null,null,"~"]
["SA36",2023,{"$error":"#VALUE!"},39,null,null,null,null,null,null,null,null,null,null,null,null,null,null,null,null,null,null,"~"]
["SA36",2023,{"$error":"#VALUE!"},40,null,null,null,null,null,null,null,null,null,null,null,null,null,null,null,null,null,null,"~"]
["SA36",2023,{"$error":"#VALUE!"},41,null,null,null,null,null,null,null,null,null,null,null,null,null,null,null,null,null,null,"~"]
["SA36",2023,{"$error":"#VALUE!"},42,null,null,null,null,null,null,null,null,null,null,null,null,null,null,null,null,null,null,"~"]
["SA36",2023,{"$error":"#VALUE!"},43,null,null,null,null,null,null,null,null,null,null,null,null,null,null,null,null,null,null,"~"]
["SA36",2023,{"$error":"#VALUE!"},44,null,null,null,null,null,null,null,null,null,null,null,null,null,null,null,null,null,null,"~"]
["SA36",2023,{"$error":"#VALUE!"},45,null,null,null,null,null,null,null,null,null,null,null,null,null,null,null,null,null,null,"~"]
["SA36",2023,{"$error":"#VALUE!"},46,null,null,null,null,null,null,null,null,null,null,null,null,null,null,null,null,null,null,"~"]
["SA36",2023,{"$error":"#VALUE!"},47,null,null,null,null,null,null,null,null,null,null,null,null,null,null,null,null,null,null,"~"]
["SA36",2023,{"$error":"#VALUE!"},48,null,null,null,null,null,null,null,null,null,null,null,null,null,null,null,null,null,null,"~"]
["SA36",2023,{"$error":"#VALUE!"},49,null,null,null,null,null,null,null,null,null,null,null,null,null,null,null,null,null,null,"~"]
["SA36",2023,{"$error":"#VALUE!"},50,null,null,null,null,null,null,null,null,null,null,null,null,null,null,null,null,null,null,"~"]
["SA36",2023,{"$error":"#VALUE!"},51,null,null,null,null,null,null,null,null,null,null,null,null,null,null,null,null,null,null,"~"]
["SA36",2023,{"$error":"#VALUE!"},52,null,null,null,null,null,null,null,null,null,null,null,null,null,null,null,null,null,null,"~"]
["SA36",2023,{"$error":"#VALUE!"},53,null,null,null,null,null,null,null,null,null,null,null,null,null,null,null,null,null,null,"~"]
["SA36",2023,{"$error":"#VALUE!"},54,null,null,null,null,null,null,null,null,null,null,null,null,null,null,null,null,null,null,"~"]
["SA36",2023,{"$error":"#VALUE!"},55,null,null,null,null,null,null,null,null,null,null,null,null,null,null,null,null,null,null,"~"]
["SA36",2023,{"$error":"#VALUE!"},56,null,null,null,null,null,null,null,null,null,null,null,null,null,null,null,null,null,null,"~"]
["SA36",2023,{"$error":"#VALUE!"},57,null,null,null,null,null,null,null,null,null,null,null,null,null,null,null,null,null,null,"~"]
["SA36",2023,{"$error":"#VALUE!"},58,null,null,null,null,null,null,null,null,null,null,null,null,null,null,null,null,null,null,"~"]
["SA36",2023,{"$error":"#VALUE!"},59,null,null,null,null,null,null,null,null,null,null,null,null,null,null,null,null,null,null,"~"]
["SA36",2023,{"$error":"#VALUE!"},60,null,null,null,null,null,null,null,null,null,null,null,null,null,null,null,null,null,null,"~"]
["SA36",2023,{"$error":"#VALUE!"},61,null,null,null,null,null,null,null,null,null,null,null,null,null,null,null,null,null,null,"~"]
["SA36",2023,{"$error":"#VALUE!"},62,null,null,null,null,null,null,null,null,null,null,null,null,null,null,null,null,null,null,"~"]
["SA36",2023,{"$error":"#VALUE!"},63,null,null,null,null,null,null,null,null,null,null,null,null,null,null,null,null,null,null,"~"]
["SA36",2023,{"$error":"#VALUE!"},64,null,null,null,null,null,null,null,null,null,null,null,null,null,null,null,null,null,null,"~"]
["SA36",2023,{"$error":"#VALUE!"},65,null,null,null,null,null,null,null,null,null,null,null,null,null,null,null,null,null,null,"~"]
["SA36",2023,{"$error":"#VALUE!"},66,null,null,null,null,null,null,null,null,null,null,null,null,null,null,null,null,null,null,"~"]
["SA36",2023,{"$error":"#VALUE!"},67,null,null,null,null,null,null,null,null,null,null,null,null,null,null,null,null,null,null,"~"]
["SA36",2023,{"$error":"#VALUE!"},68,null,null,null,null,null,null,null,null,null,null,null,null,null,null,null,null,null,null,"~"]
["SA36",2023,{"$error":"#VALUE!"},69,null,null,null,null,null,null,null,null,null,null,null,null,null,null,null,null,null,null,"~"]
["SA36",2023,{"$error":"#VALUE!"},70,null,null,null,null,null,null,null,null,null,null,null,null,null,null,null,null,null,null,"~"]
["SA36",2023,{"$error":"#VALUE!"},71,null,null,null,null,null,null,null,null,null,null,null,null,null,null,null,null,null,null,"~"]
["SA36",2023,{"$error":"#VALUE!"},72,null,null,null,null,null,null,null,null,null,null,null,null,null,null,null,null,null,null,"~"]
["SA36",2023,{"$error":"#VALUE!"},73,null,null,null,null,null,null,null,null,null,null,null,null,null,null,null,null,null,null,"~"]
["SA36",2023,{"$error":"#VALUE!"},74,null,null,null,null,null,null,null,null,null,null,null,null,null,null,null,null,null,null,"~"]
["SA36",2023,{"$error":"#VALUE!"},75,null,null,null,null,null,null,null,null,null,null,null,null,null,null,null,null,null,null,"~"]
["SA36",2023,{"$error":"#VALUE!"},76,null,null,null,null,null,null,null,null,null,null,null,null,null,null,null,null,null,null,"~"]
["SA36",2023,{"$error":"#VALUE!"},77,null,null,null,null,null,null,null,null,null,null,null,null,null,null,null,null,null,null,"~"]
["SA36",2023,{"$error":"#VALUE!"},78,null,null,null,null,null,null,null,null,null,null,null,null,null,null,null,null,null,null,"~"]
["SA36",2023,{"$error":"#VALUE!"},79,null,null,null,null,null,null,null,null,null,null,null,null,null,null,null,null,null,null,"~"]
["SA36",2023,{"$error":"#VALUE!"},80,null,null,null,null,null,null,null,null,null,null,null,null,null,null,null,null,null,null,"~"]
["SA36",2023,{"$error":"#VALUE!"},81,null,null,null,null,null,null,null,null,null,null,null,null,null,null,null,null,null,null,"~"]
["SA36",2023,{"$error":"#VALUE!"},82,null,null,null,null,null,null,null,null,null,null,null,null,null,null,null,null,null,null,"~"]
["SA36",2023,{"$error":"#VALUE!"},83,null,null,null,null,null,null,null,null,null,null,null,null,null,null,null,null,null,null,"~"]
["SA36",2023,{"$error":"#VALUE!"},84,null,null,null,null,null,null,null,null,null,null,null,null,null,null,null,null,null,null,"~"]
["SA36",2023,{"$error":"#VALUE!"},85,null,null,null,null,null,null,null,null,null,null,null,null,null,null,null,null,null,null,"~"]
["SA36",2023,{"$error":"#VALUE!"},86,null,null,null,null,null,null,null,null,null,null,null,null,null,null,null,null,null,null,"~"]
["SA36",2023,{"$error":"#VALUE!"},87,null,null,null,null,null,null,null,null,null,null,null,null,null,null,null,null,null,null,"~"]
["SA36",{"$f":"+MTREF","v":2023},{"$f":"LEFT(muni,(FIND(\" \",muni,1)-1))","v":{"$error":"#VALUE!"}},88,null,null,null,null,null,null,null,null,null,null,null,null,null,null,null,null,null,null,"~"]
["SA36",2023,{"$error":"#VALUE!"},89,null,null,null,null,null,null,null,null,null,null,null,null,null,null,null,null,null,null,"~"]
["SA36",2023,{"$error":"#VALUE!"},90,null,null,null,null,null,null,null,null,null,null,null,null,null,null,null,null,null,null,"~"]
["SA36",2023,{"$error":"#VALUE!"},91,null,null,null,null,null,null,null,null,null,null,null,null,null,null,null,null,null,null,"~"]
["SA36",2023,{"$error":"#VALUE!"},92,null,null,null,null,null,null,null,null,null,null,null,null,null,null,null,null,null,null,"~"]
["SA36",2023,{"$error":"#VALUE!"},93,null,null,null,null,null,null,null,null,null,null,null,null,null,null,null,null,null,null,"~"]
["SA36",2023,{"$error":"#VALUE!"},94,null,null,null,null,null,null,null,null,null,null,null,null,null,null,null,null,null,null,"~"]
["SA36",2023,{"$error":"#VALUE!"},95,null,null,null,null,null,null,null,null,null,null,null,null,null,null,null,null,null,null,"~"]
["SA36",2023,{"$error":"#VALUE!"},96,null,null,null,null,null,null,null,null,null,null,null,null,null,null,null,null,null,null,"~"]
["SA36",2023,{"$error":"#VALUE!"},97,null,null,null,null,null,null,null,null,null,null,null,null,null,null,null,null,null,null,"~"]
["SA36",2023,{"$error":"#VALUE!"},98,null,null,null,null,null,null,null,null,null,null,null,null,null,null,null,null,null,null,"~"]
["SA36",2023,{"$error":"#VALUE!"},99,null,null,null,null,null,null,null,null,null,null,null,null,null,null,null,null,null,null,"~"]
["SA36",2023,{"$error":"#VALUE!"},100,null,null,null,null,null,null,null,null,null,null,null,null,null,null,null,null,null,null,"~"]
["SA36",2023,{"$error":"#VALUE!"},101,null,null,null,null,null,null,null,null,null,null,null,null,null,null,null,null,null,null,"~"]
["SA36",2023,{"$error":"#VALUE!"},102,null,null,null,null,null,null,null,null,null,null,null,null,null,null,null,null,null,null,"~"]
["SA36",2023,{"$error":"#VALUE!"},103,null,null,null,null,null,null,null,null,null,null,null,null,null,null,null,null,null,null,"~"]
["SA36",2023,{"$error":"#VALUE!"},104,null,null,null,null,null,null,null,null,null,null,null,null,null,null,null,null,null,null,"~"]
["SA36",2023,{"$error":"#VALUE!"},105,null,null,null,null,null,null,null,null,null,null,null,null,null,null,null,null,null,null,"~"]
["SA36",2023,{"$error":"#VALUE!"},106,null,null,null,null,null,null,null,null,null,null,null,null,null,null,null,null,null,null,"~"]
["SA36",2023,{"$error":"#VALUE!"},107,null,null,null,null,null,null,null,null,null,null,null,null,null,null,null,null,null,null,"~"]
["SA36",2023,{"$error":"#VALUE!"},108,null,null,null,null,null,null,null,null,null,null,null,null,null,null,null,null,null,null,"~"]
["SA36",2023,{"$error":"#VALUE!"},109,null,null,null,null,null,null,null,null,null,null,null,null,null,null,null,null,null,null,"~"]
["SA36",2023,{"$error":"#VALUE!"},110,null,null,null,null,null,null,null,null,null,null,null,null,null,null,null,null,null,null,"~"]
["SA36",2023,{"$error":"#VALUE!"},111,null,null,null,null,null,null,null,null,null,null,null,null,null,null,null,null,null,null,"~"]
["SA36",2023,{"$error":"#VALUE!"},112,null,null,null,null,null,null,null,null,null,null,null,null,null,null,null,null,null,null,"~"]
["SA36",2023,{"$error":"#VALUE!"},113,null,null,null,null,null,null,null,null,null,null,null,null,null,null,null,null,null,null,"~"]
["SA36",2023,{"$error":"#VALUE!"},114,null,null,null,null,null,null,null,null,null,null,null,null,null,null,null,null,null,null,"~"]
["SA36",2023,{"$error":"#VALUE!"},115,null,null,null,null,null,null,null,null,null,null,null,null,null,null,null,null,null,null,"~"]
["SA36",2023,{"$error":"#VALUE!"},116,null,null,null,null,null,null,null,null,null,null,null,null,null,null,null,null,null,null,"~"]
["SA36",2023,{"$error":"#VALUE!"},117,null,null,null,null,null,null,null,null,null,null,null,null,null,null,null,null,null,null,"~"]
["SA36",2023,{"$error":"#VALUE!"},118,null,null,null,null,null,null,null,null,null,null,null,null,null,null,null,null,null,null,"~"]
["SA36",2023,{"$error":"#VALUE!"},119,null,null,null,null,null,null,null,null,null,null,null,null,null,null,null,null,null,null,"~"]
["SA36",2023,{"$error":"#VALUE!"},120,null,null,null,null,null,null,null,null,null,null,null,null,null,null,null,null,null,null,"~"]
["SA36",2023,{"$error":"#VALUE!"},121,null,null,null,null,null,null,null,null,null,null,null,null,null,null,null,null,null,null,"~"]
["SA36",2023,{"$error":"#VALUE!"},122,null,null,null,null,null,null,null,null,null,null,null,null,null,null,null,null,null,null,"~"]
["SA36",2023,{"$error":"#VALUE!"},123,null,null,null,null,null,null,null,null,null,null,null,null,null,null,null,null,null,null,"~"]
["SA36",2023,{"$error":"#VALUE!"},124,null,null,null,null,null,null,null,null,null,null,null,null,null,null,null,null,null,null,"~"]
["SA36",2023,{"$error":"#VALUE!"},125,null,null,null,null,null,null,null,null,null,null,null,null,null,null,null,null,null,null,"~"]
["SA36",2023,{"$error":"#VALUE!"},126,null,null,null,null,null,null,null,null,null,null,null,null,null,null,null,null,null,null,"~"]
["SA36",2023,{"$error":"#VALUE!"},127,null,null,null,null,null,null,null,null,null,null,null,null,null,null,null,null,null,null,"~"]
["SA36",2023,{"$error":"#VALUE!"},128,null,null,null,null,null,null,null,null,null,null,null,null,null,null,null,null,null,null,"~"]
["SA36",2023,{"$error":"#VALUE!"},129,null,null,null,null,null,null,null,null,null,null,null,null,null,null,null,null,null,null,"~"]
["SA36",2023,{"$error":"#VALUE!"},130,null,null,null,null,null,null,null,null,null,null,null,null,null,null,null,null,null,null,"~"]
["SA36",2023,{"$error":"#VALUE!"},131,null,null,null,null,null,null,null,null,null,null,null,null,null,null,null,null,null,null,"~"]
["SA36",2023,{"$error":"#VALUE!"},132,null,null,null,null,null,null,null,null,null,null,null,null,null,null,null,null,null,null,"~"]
["SA36",2023,{"$error":"#VALUE!"},133,null,null,null,null,null,null,null,null,null,null,null,null,null,null,null,null,null,null,"~"]
["SA36",2023,{"$error":"#VALUE!"},134,null,null,null,null,null,null,null,null,null,null,null,null,null,null,null,null,null,null,"~"]
["SA36",2023,{"$error":"#VALUE!"},135,null,null,null,null,null,null,null,null,null,null,null,null,null,null,null,null,null,null,"~"]
["SA36",2023,{"$error":"#VALUE!"},136,null,null,null,null,null,null,null,null,null,null,null,null,null,null,null,null,null,null,"~"]
["SA36",2023,{"$error":"#VALUE!"},137,null,null,null,null,null,null,null,null,null,null,null,null,null,null,null,null,null,null,"~"]
["SA36",2023,{"$error":"#VALUE!"},138,null,null,null,null,null,null,null,null,null,null,null,null,null,null,null,null,null,null,"~"]
["SA36",2023,{"$error":"#VALUE!"},139,null,null,null,null,null,null,null,null,null,null,null,null,null,null,null,null,null,null,"~"]
["SA36",2023,{"$error":"#VALUE!"},140,null,null,null,null,null,null,null,null,null,null,null,null,null,null,null,null,null,null,"~"]
["SA36",2023,{"$error":"#VALUE!"},141,null,null,null,null,null,null,null,null,null,null,null,null,null,null,null,null,null,null,"~"]
["SA36",2023,{"$error":"#VALUE!"},142,null,null,null,null,null,null,null,null,null,null,null,null,null,null,null,null,null,null,"~"]
["SA36",2023,{"$error":"#VALUE!"},143,null,null,null,null,null,null,null,null,null,null,null,null,null,null,null,null,null,null,"~"]
["SA36",2023,{"$error":"#VALUE!"},144,null,null,null,null,null,null,null,null,null,null,null,null,null,null,null,null,null,null,"~"]
["SA36",2023,{"$error":"#VALUE!"},145,null,null,null,null,null,null,null,null,null,null,null,null,null,null,null,null,null,null,"~"]
["SA36",2023,{"$error":"#VALUE!"},146,null,null,null,null,null,null,null,null,null,null,null,null,null,null,null,null,null,null,"~"]
["SA36",2023,{"$error":"#VALUE!"},147,null,null,null,null,null,null,null,null,null,null,null,null,null,null,null,null,null,null,"~"]
["SA36",2023,{"$error":"#VALUE!"},148,null,null,null,null,null,null,null,null,null,null,null,null,null,null,null,null,null,null,"~"]
["SA36",2023,{"$error":"#VALUE!"},149,null,null,null,null,null,null,null,null,null,null,null,null,null,null,null,null,null,null,"~"]
["SA36",2023,{"$error":"#VALUE!"},150,null,null,null,null,null,null,null,null,null,null,null,null,null,null,null,null,null,null,"~"]
["SA36",2023,{"$error":"#VALUE!"},151,null,null,null,null,null,null,null,null,null,null,null,null,null,null,null,null,null,null,"~"]
["SA36",{"$f":"+MTREF","v":2023},{"$f":"LEFT(muni,(FIND(\" \",muni,1)-1))","v":{"$error":"#VALUE!"}},152,null,null,null,null,null,null,null,null,null,null,null,null,null,null,null,null,null,null,"~"]
["SA36",2023,{"$error":"#VALUE!"},153,null,null,null,null,null,null,null,null,null,null,null,null,null,null,null,null,null,null,"~"]
["SA36",2023,{"$error":"#VALUE!"},154,null,null,null,null,null,null,null,null,null,null,null,null,null,null,null,null,null,null,"~"]
["SA36",2023,{"$error":"#VALUE!"},155,null,null,null,null,null,null,null,null,null,null,null,null,null,null,null,null,null,null,"~"]
["SA36",2023,{"$error":"#VALUE!"},156,null,null,null,null,null,null,null,null,null,null,null,null,null,null,null,null,null,null,"~"]
["SA36",2023,{"$error":"#VALUE!"},157,null,null,null,null,null,null,null,null,null,null,null,null,null,null,null,null,null,null,"~"]
["SA36",2023,{"$error":"#VALUE!"},158,null,null,null,null,null,null,null,null,null,null,null,null,null,null,null,null,null,null,"~"]
["SA36",2023,{"$error":"#VALUE!"},159,null,null,null,null,null,null,null,null,null,null,null,null,null,null,null,null,null,null,"~"]
["SA36",2023,{"$error":"#VALUE!"},160,null,null,null,null,null,null,null,null,null,null,null,null,null,null,null,null,null,null,"~"]
["SA36",2023,{"$error":"#VALUE!"},161,null,null,null,null,null,null,null,null,null,null,null,null,null,null,null,null,null,null,"~"]
["SA36",2023,{"$error":"#VALUE!"},162,null,null,null,null,null,null,null,null,null,null,null,null,null,null,null,null,null,null,"~"]
["SA36",2023,{"$error":"#VALUE!"},163,null,null,null,null,null,null,null,null,null,null,null,null,null,null,null,null,null,null,"~"]
["SA36",2023,{"$error":"#VALUE!"},164,null,null,null,null,null,null,null,null,null,null,null,null,null,null,null,null,null,null,"~"]
["SA36",2023,{"$error":"#VALUE!"},165,null,null,null,null,null,null,null,null,null,null,null,null,null,null,null,null,null,null,"~"]
["SA36",2023,{"$error":"#VALUE!"},166,null,null,null,null,null,null,null,null,null,null,null,null,null,null,null,null,null,null,"~"]
["SA36",2023,{"$error":"#VALUE!"},167,null,null,null,null,null,null,null,null,null,null,null,null,null,null,null,null,null,null,"~"]
["SA36",2023,{"$error":"#VALUE!"},168,null,null,null,null,null,null,null,null,null,null,null,null,null,null,null,null,null,null,"~"]
["SA36",2023,{"$error":"#VALUE!"},169,null,null,null,null,null,null,null,null,null,null,null,null,null,null,null,null,null,null,"~"]
["SA36",2023,{"$error":"#VALUE!"},170,null,null,null,null,null,null,null,null,null,null,null,null,null,null,null,null,null,null,"~"]
["SA36",2023,{"$error":"#VALUE!"},171,null,null,null,null,null,null,null,null,null,null,null,null,null,null,null,null,null,null,"~"]
["SA36",2023,{"$error":"#VALUE!"},172,null,null,null,null,null,null,null,null,null,null,null,null,null,null,null,null,null,null,"~"]
["SA36",2023,{"$error":"#VALUE!"},173,null,null,null,null,null,null,null,null,null,null,null,null,null,null,null,null,null,null,"~"]
["SA36",2023,{"$error":"#VALUE!"},174,null,null,null,null,null,null,null,null,null,null,null,null,null,null,null,null,null,null,"~"]
["SA36",2023,{"$error":"#VALUE!"},175,null,null,null,null,null,null,null,null,null,null,null,null,null,null,null,null,null,null,"~"]
["SA36",2023,{"$error":"#VALUE!"},176,null,null,null,null,null,null,null,null,null,null,null,null,null,null,null,null,null,null,"~"]
["SA36",2023,{"$error":"#VALUE!"},177,null,null,null,null,null,null,null,null,null,null,null,null,null,null,null,null,null,null,"~"]
["SA36",2023,{"$error":"#VALUE!"},178,null,null,null,null,null,null,null,null,null,null,null,null,null,null,null,null,null,null,"~"]
["SA36",2023,{"$error":"#VALUE!"},179,null,null,null,null,null,null,null,null,null,null,null,null,null,null,null,null,null,null,"~"]
["SA36",2023,{"$error":"#VALUE!"},180,null,null,null,null,null,null,null,null,null,null,null,null,null,null,null,null,null,null,"~"]
["SA36",2023,{"$error":"#VALUE!"},181,null,null,null,null,null,null,null,null,null,null,null,null,null,null,null,null,null,null,"~"]
["SA36",2023,{"$error":"#VALUE!"},182,null,null,null,null,null,null,null,null,null,null,null,null,null,null,null,null,null,null,"~"]
["SA36",2023,{"$error":"#VALUE!"},183,null,null,null,null,null,null,null,null,null,null,null,null,null,null,null,null,null,null,"~"]
["SA36",2023,{"$error":"#VALUE!"},184,null,null,null,null,null,null,null,null,null,null,null,null,null,null,null,null,null,null,"~"]
["SA36",2023,{"$error":"#VALUE!"},185,null,null,null,null,null,null,null,null,null,null,null,null,null,null,null,null,null,null,"~"]
["SA36",2023,{"$error":"#VALUE!"},186,null,null,null,null,null,null,null,null,null,null,null,null,null,null,null,null,null,null,"~"]
["SA36",2023,{"$error":"#VALUE!"},187,null,null,null,null,null,null,null,null,null,null,null,null,null,null,null,null,null,null,"~"]
["SA36",2023,{"$error":"#VALUE!"},188,null,null,null,null,null,null,null,null,null,null,null,null,null,null,null,null,null,null,"~"]
["SA36",2023,{"$error":"#VALUE!"},189,null,null,null,null,null,null,null,null,null,null,null,null,null,null,null,null,null,null,"~"]
["SA36",2023,{"$error":"#VALUE!"},190,null,null,null,null,null,null,null,null,null,null,null,null,null,null,null,null,null,null,"~"]
["SA36",2023,{"$error":"#VALUE!"},191,null,null,null,null,null,null,null,null,null,null,null,null,null,null,null,null,null,null,"~"]
["SA36",2023,{"$error":"#VALUE!"},192,null,null,null,null,null,null,null,null,null,null,null,null,null,null,null,null,null,null,"~"]
["SA36",2023,{"$error":"#VALUE!"},193,null,null,null,null,null,null,null,null,null,null,null,null,null,null,null,null,null,null,"~"]
["SA36",2023,{"$error":"#VALUE!"},194,null,null,null,null,null,null,null,null,null,null,null,null,null,null,null,null,null,null,"~"]
["SA36",2023,{"$error":"#VALUE!"},195,null,null,null,null,null,null,null,null,null,null,null,null,null,null,null,null,null,null,"~"]
["SA36",2023,{"$error":"#VALUE!"},196,null,null,null,null,null,null,null,null,null,null,null,null,null,null,null,null,null,null,"~"]
["SA36",2023,{"$error":"#VALUE!"},197,null,null,null,null,null,null,null,null,null,null,null,null,null,null,null,null,null,null,"~"]
["SA36",2023,{"$error":"#VALUE!"},198,null,null,null,null,null,null,null,null,null,null,null,null,null,null,null,null,null,null,"~"]
["SA36",2023,{"$error":"#VALUE!"},199,null,null,null,null,null,null,null,null,null,null,null,null,null,null,null,null,null,null,"~"]
["SA36",2023,{"$error":"#VALUE!"},200,null,null,null,null,null,null,null,null,null,null,null,null,null,null,null,null,null,null,"~"]
["SA36",2023,{"$error":"#VALUE!"},201,null,null,null,null,null,null,null,null,null,null,null,null,null,null,null,null,null,null,"~"]
["SA36",2023,{"$error":"#VALUE!"},202,null,null,null,null,null,null,null,null,null,null,null,null,null,null,null,null,null,null,"~"]
["SA36",2023,{"$error":"#VALUE!"},203,null,null,null,null,null,null,null,null,null,null,null,null,null,null,null,null,null,null,"~"]
["SA36",2023,{"$error":"#VALUE!"},204,null,null,null,null,null,null,null,null,null,null,null,null,null,null,null,null,null,null,"~"]
["SA36",2023,{"$error":"#VALUE!"},205,null,null,null,null,null,null,null,null,null,null,null,null,null,null,null,null,null,null,"~"]
["SA36",2023,{"$error":"#VALUE!"},206,null,null,null,null,null,null,null,null,null,null,null,null,null,null,null,null,null,null,"~"]
["SA36",2023,{"$error":"#VALUE!"},207,null,null,null,null,null,null,null,null,null,null,null,null,null,null,null,null,null,null,"~"]
["SA36",2023,{"$error":"#VALUE!"},208,null,null,null,null,null,null,null,null,null,null,null,null,null,null,null,null,null,null,"~"]
["SA36",2023,{"$error":"#VALUE!"},209,null,null,null,null,null,null,null,null,null,null,null,null,null,null,null,null,null,null,"~"]
["SA36",2023,{"$error":"#VALUE!"},210,null,null,null,null,null,null,null,null,null,null,null,null,null,null,null,null,null,null,"~"]
["SA36",2023,{"$error":"#VALUE!"},211,null,null,null,null,null,null,null,null,null,null,null,null,null,null,null,null,null,null,"~"]
["SA36",2023,{"$error":"#VALUE!"},212,null,null,null,null,null,null,null,null,null,null,null,null,null,null,null,null,null,null,"~"]
["SA36",2023,{"$error":"#VALUE!"},213,null,null,null,null,null,null,null,null,null,null,null,null,null,null,null,null,null,null,"~"]
["SA36",2023,{"$error":"#VALUE!"},214,null,null,null,null,null,null,null,null,null,null,null,null,null,null,null,null,null,null,"~"]
["SA36",2023,{"$error":"#VALUE!"},215,null,null,null,null,null,null,null,null,null,null,null,null,null,null,null,null,null,null,"~"]
["SA36",{"$f":"+MTREF","v":2023},{"$f":"LEFT(muni,(FIND(\" \",muni,1)-1))","v":{"$error":"#VALUE!"}},216,null,null,null,null,null,null,null,null,null,null,null,null,null,null,null,null,null,null,"~"]
["SA36",2023,{"$error":"#VALUE!"},217,null,null,null,null,null,null,null,null,null,null,null,null,null,null,null,null,null,null,"~"]
["SA36",2023,{"$error":"#VALUE!"},218,null,null,null,null,null,null,null,null,null,null,null,null,null,null,null,null,null,null,"~"]
["SA36",2023,{"$error":"#VALUE!"},219,null,null,null,null,null,null,null,null,null,null,null,null,null,null,null,null,null,null,"~"]
["SA36",2023,{"$error":"#VALUE!"},220,null,null,null,null,null,null,null,null,null,null,null,null,null,null,null,null,null,null,"~"]
["SA36",2023,{"$error":"#VALUE!"},221,null,null,null,null,null,null,null,null,null,null,null,null,null,null,null,null,null,null,"~"]
["SA36",2023,{"$error":"#VALUE!"},222,null,null,null,null,null,null,null,null,null,null,null,null,null,null,null,null,null,null,"~"]
["SA36",2023,{"$error":"#VALUE!"},223,null,null,null,null,null,null,null,null,null,null,null,null,null,null,null,null,null,null,"~"]
["SA36",2023,{"$error":"#VALUE!"},224,null,null,null,null,null,null,null,null,null,null,null,null,null,null,null,null,null,null,"~"]
["SA36",2023,{"$error":"#VALUE!"},225,null,null,null,null,null,null,null,null,null,null,null,null,null,null,null,null,null,null,"~"]
["SA36",2023,{"$error":"#VALUE!"},226,null,null,null,null,null,null,null,null,null,null,null,null,null,null,null,null,null,null,"~"]
["SA36",2023,{"$error":"#VALUE!"},227,null,null,null,null,null,null,null,null,null,null,null,null,null,null,null,null,null,null,"~"]
["SA36",2023,{"$error":"#VALUE!"},228,null,null,null,null,null,null,null,null,null,null,null,null,null,null,null,null,null,null,"~"]
["SA36",2023,{"$error":"#VALUE!"},229,null,null,null,null,null,null,null,null,null,null,null,null,null,null,null,null,null,null,"~"]
["SA36",2023,{"$error":"#VALUE!"},230,null,null,null,null,null,null,null,null,null,null,null,null,null,null,null,null,null,null,"~"]
["SA36",2023,{"$error":"#VALUE!"},231,null,null,null,null,null,null,null,null,null,null,null,null,null,null,null,null,null,null,"~"]
["SA36",2023,{"$error":"#VALUE!"},232,null,null,null,null,null,null,null,null,null,null,null,null,null,null,null,null,null,null,"~"]
["SA36",2023,{"$error":"#VALUE!"},233,null,null,null,null,null,null,null,null,null,null,null,null,null,null,null,null,null,null,"~"]
["SA36",2023,{"$error":"#VALUE!"},234,null,null,null,null,null,null,null,null,null,null,null,null,null,null,null,null,null,null,"~"]
["SA36",2023,{"$error":"#VALUE!"},235,null,null,null,null,null,null,null,null,null,null,null,null,null,null,null,null,null,null,"~"]
["SA36",2023,{"$error":"#VALUE!"},236,null,null,null,null,null,null,null,null,null,null,null,null,null,null,null,null,null,null,"~"]
["SA36",2023,{"$error":"#VALUE!"},237,null,null,null,null,null,null,null,null,null,null,null,null,null,null,null,null,null,null,"~"]
["SA36",2023,{"$error":"#VALUE!"},238,null,null,null,null,null,null,null,null,null,null,null,null,null,null,null,null,null,null,"~"]
["SA36",2023,{"$error":"#VALUE!"},239,null,null,null,null,null,null,null,null,null,null,null,null,null,null,null,null,null,null,"~"]
["SA36",2023,{"$error":"#VALUE!"},240,null,null,null,null,null,null,null,null,null,null,null,null,null,null,null,null,null,null,"~"]
["SA36",2023,{"$error":"#VALUE!"},241,null,null,null,null,null,null,null,null,null,null,null,null,null,null,null,null,null,null,"~"]
["SA36",2023,{"$error":"#VALUE!"},242,null,null,null,null,null,null,null,null,null,null,null,null,null,null,null,null,null,null,"~"]
["SA36",2023,{"$error":"#VALUE!"},243,null,null,null,null,null,null,null,null,null,null,null,null,null,null,null,null,null,null,"~"]
["SA36",2023,{"$error":"#VALUE!"},244,null,null,null,null,null,null,null,null,null,null,null,null,null,null,null,null,null,null,"~"]
["SA36",2023,{"$error":"#VALUE!"},245,null,null,null,null,null,null,null,null,null,null,null,null,null,null,null,null,null,null,"~"]
["SA36",2023,{"$error":"#VALUE!"},246,null,null,null,null,null,null,null,null,null,null,null,null,null,null,null,null,null,null,"~"]
["SA36",2023,{"$error":"#VALUE!"},247,null,null,null,null,null,null,null,null,null,null,null,null,null,null,null,null,null,null,"~"]
["SA36",2023,{"$error":"#VALUE!"},248,null,null,null,null,null,null,null,null,null,null,null,null,null,null,null,null,null,null,"~"]
["SA36",2023,{"$error":"#VALUE!"},249,null,null,null,null,null,null,null,null,null,null,null,null,null,null,null,null,null,null,"~"]
["SA36",2023,{"$error":"#VALUE!"},250,null,null,null,null,null,null,null,null,null,null,null,null,null,null,null,null,null,null,"~"]
["SA36",2023,{"$error":"#VALUE!"},251,null,null,null,null,null,null,null,null,null,null,null,null,null,null,null,null,null,null,"~"]
["SA36",2023,{"$error":"#VALUE!"},252,null,null,null,null,null,null,null,null,null,null,null,null,null,null,null,null,null,null,"~"]
["SA36",2023,{"$error":"#VALUE!"},253,null,null,null,null,null,null,null,null,null,null,null,null,null,null,null,null,null,null,"~"]
["SA36",2023,{"$error":"#VALUE!"},254,null,null,null,null,null,null,null,null,null,null,null,null,null,null,null,null,null,null,"~"]
["SA36",2023,{"$error":"#VALUE!"},255,null,null,null,null,null,null,null,null,null,null,null,null,null,null,null,null,null,null,"~"]
["SA36",2023,{"$error":"#VALUE!"},256,null,null,null,null,null,null,null,null,null,null,null,null,null,null,null,null,null,null,"~"]
["SA36",2023,{"$error":"#VALUE!"},257,null,null,null,null,null,null,null,null,null,null,null,null,null,null,null,null,null,null,"~"]
["SA36",2023,{"$error":"#VALUE!"},258,null,null,null,null,null,null,null,null,null,null,null,null,null,null,null,null,null,null,"~"]
["SA36",2023,{"$error":"#VALUE!"},259,null,null,null,null,null,null,null,null,null,null,null,null,null,null,null,null,null,null,"~"]
["SA36",2023,{"$error":"#VALUE!"},260,null,null,null,null,null,null,null,null,null,null,null,null,null,null,null,null,null,null,"~"]
["SA36",2023,{"$error":"#VALUE!"},261,null,null,null,null,null,null,null,null,null,null,null,null,null,null,null,null,null,null,"~"]
["SA36",2023,{"$error":"#VALUE!"},262,null,null,null,null,null,null,null,null,null,null,null,null,null,null,null,null,null,null,"~"]
["SA36",2023,{"$error":"#VALUE!"},263,null,null,null,null,null,null,null,null,null,null,null,null,null,null,null,null,null,null,"~"]
["SA36",2023,{"$error":"#VALUE!"},264,null,null,null,null,null,null,null,null,null,null,null,null,null,null,null,null,null,null,"~"]
["SA36",2023,{"$error":"#VALUE!"},265,null,null,null,null,null,null,null,null,null,null,null,null,null,null,null,null,null,null,"~"]
["SA36",2023,{"$error":"#VALUE!"},266,null,null,null,null,null,null,null,null,null,null,null,null,null,null,null,null,null,null,"~"]
["SA36",2023,{"$error":"#VALUE!"},267,null,null,null,null,null,null,null,null,null,null,null,null,null,null,null,null,null,null,"~"]
["SA36",2023,{"$error":"#VALUE!"},268,null,null,null,null,null,null,null,null,null,null,null,null,null,null,null,null,null,null,"~"]
["SA36",2023,{"$error":"#VALUE!"},269,null,null,null,null,null,null,null,null,null,null,null,null,null,null,null,null,null,null,"~"]
["SA36",2023,{"$error":"#VALUE!"},270,null,null,null,null,null,null,null,null,null,null,null,null,null,null,null,null,null,null,"~"]
["SA36",2023,{"$error":"#VALUE!"},271,null,null,null,null,null,null,null,null,null,null,null,null,null,null,null,null,null,null,"~"]
["SA36",2023,{"$error":"#VALUE!"},272,null,null,null,null,null,null,null,null,null,null,null,null,null,null,null,null,null,null,"~"]
["SA36",2023,{"$error":"#VALUE!"},273,null,null,null,null,null,null,null,null,null,null,null,null,null,null,null,null,null,null,"~"]
["SA36",2023,{"$error":"#VALUE!"},274,null,null,null,null,null,null,null,null,null,null,null,null,null,null,null,null,null,null,"~"]
["SA36",2023,{"$error":"#VALUE!"},275,null,null,null,null,null,null,null,null,null,null,null,null,null,null,null,null,null,null,"~"]
["SA36",2023,{"$error":"#VALUE!"},276,null,null,null,null,null,null,null,null,null,null,null,null,null,null,null,null,null,null,"~"]
["SA36",2023,{"$error":"#VALUE!"},277,null,null,null,null,null,null,null,null,null,null,null,null,null,null,null,null,null,null,"~"]
["SA36",2023,{"$error":"#VALUE!"},278,null,null,null,null,null,null,null,null,null,null,null,null,null,null,null,null,null,null,"~"]
["SA36",2023,{"$error":"#VALUE!"},279,null,null,null,null,null,null,null,null,null,null,null,null,null,null,null,null,null,null,"~"]
["SA36",{"$f":"+MTREF","v":2023},{"$f":"LEFT(muni,(FIND(\" \",muni,1)-1))","v":{"$error":"#VALUE!"}},280,null,null,null,null,null,null,null,null,null,null,null,null,null,null,null,null,null,null,"~"]
["SA36",2023,{"$error":"#VALUE!"},281,null,null,null,null,null,null,null,null,null,null,null,null,null,null,null,null,null,null,"~"]
["SA36",2023,{"$error":"#VALUE!"},282,null,null,null,null,null,null,null,null,null,null,null,null,null,null,null,null,null,null,"~"]
["SA36",2023,{"$error":"#VALUE!"},283,null,null,null,null,null,null,null,null,null,null,null,null,null,null,null,null,null,null,"~"]
["SA36",2023,{"$error":"#VALUE!"},284,null,null,null,null,null,null,null,null,null,null,null,null,null,null,null,null,null,null,"~"]
["SA36",2023,{"$error":"#VALUE!"},285,null,null,null,null,null,null,null,null,null,null,null,null,null,null,null,null,null,null,"~"]
["SA36",2023,{"$error":"#VALUE!"},286,null,null,null,null,null,null,null,null,null,null,null,null,null,null,null,null,null,null,"~"]
["SA36",2023,{"$error":"#VALUE!"},287,null,null,null,null,null,null,null,null,null,null,null,null,null,null,null,null,null,null,"~"]
["SA36",2023,{"$error":"#VALUE!"},288,null,null,null,null,null,null,null,null,null,null,null,null,null,null,null,null,null,null,"~"]
["SA36",2023,{"$error":"#VALUE!"},289,null,null,null,null,null,null,null,null,null,null,null,null,null,null,null,null,null,null,"~"]
["SA36",2023,{"$error":"#VALUE!"},290,null,null,null,null,null,null,null,null,null,null,null,null,null,null,null,null,null,null,"~"]
["SA36",2023,{"$error":"#VALUE!"},291,null,null,null,null,null,null,null,null,null,null,null,null,null,null,null,null,null,null,"~"]
["SA36",2023,{"$error":"#VALUE!"},292,null,null,null,null,null,null,null,null,null,null,null,null,null,null,null,null,null,null,"~"]
["SA36",2023,{"$error":"#VALUE!"},293,null,null,null,null,null,null,null,null,null,null,null,null,null,null,null,null,null,null,"~"]
["SA36",2023,{"$error":"#VALUE!"},294,null,null,null,null,null,null,null,null,null,null,null,null,null,null,null,null,null,null,"~"]
["SA36",2023,{"$error":"#VALUE!"},295,null,null,null,null,null,null,null,null,null,null,null,null,null,null,null,null,null,null,"~"]
["SA36",2023,{"$error":"#VALUE!"},296,null,null,null,null,null,null,null,null,null,null,null,null,null,null,null,null,null,null,"~"]
["SA36",2023,{"$error":"#VALUE!"},297,null,null,null,null,null,null,null,null,null,null,null,null,null,null,null,null,null,null,"~"]
["SA36",2023,{"$error":"#VALUE!"},298,null,null,null,null,null,null,null,null,null,null,null,null,null,null,null,null,null,null,"~"]
["SA36",2023,{"$error":"#VALUE!"},299,null,null,null,null,null,null,null,null,null,null,null,null,null,null,null,null,null,null,"~"]
["SA36",2023,{"$error":"#VALUE!"},300,null,null,null,null,null,null,null,null,null,null,null,null,null,null,null,null,null,null,"~"]
["SA36",2023,{"$error":"#VALUE!"},301,null,null,null,null,null,null,null,null,null,null,null,null,null,null,null,null,null,null,"~"]
["SA36",2023,{"$error":"#VALUE!"},302,null,null,null,null,null,null,null,null,null,null,null,null,null,null,null,null,null,null,"~"]
["SA36",2023,{"$error":"#VALUE!"},303,null,null,null,null,null,null,null,null,null,null,null,null,null,null,null,null,null,null,"~"]
["SA36",2023,{"$error":"#VALUE!"},304,null,null,null,null,null,null,null,null,null,null,null,null,null,null,null,null,null,null,"~"]
["SA36",2023,{"$error":"#VALUE!"},305,null,null,null,null,null,null,null,null,null,null,null,null,null,null,null,null,null,null,"~"]
["SA36",2023,{"$error":"#VALUE!"},306,null,null,null,null,null,null,null,null,null,null,null,null,null,null,null,null,null,null,"~"]
["SA36",2023,{"$error":"#VALUE!"},307,null,null,null,null,null,null,null,null,null,null,null,null,null,null,null,null,null,null,"~"]
["SA36",2023,{"$error":"#VALUE!"},308,null,null,null,null,null,null,null,null,null,null,null,null,null,null,null,null,null,null,"~"]
["SA36",2023,{"$error":"#VALUE!"},309,null,null,null,null,null,null,null,null,null,null,null,null,null,null,null,null,null,null,"~"]
["SA36",2023,{"$error":"#VALUE!"},310,null,null,null,null,null,null,null,null,null,null,null,null,null,null,null,null,null,null,"~"]
["SA36",2023,{"$error":"#VALUE!"},311,null,null,null,null,null,null,null,null,null,null,null,null,null,null,null,null,null,null,"~"]
["SA36",2023,{"$error":"#VALUE!"},312,null,null,null,null,null,null,null,null,null,null,null,null,null,null,null,null,null,null,"~"]
["SA36",2023,{"$error":"#VALUE!"},313,null,null,null,null,null,null,null,null,null,null,null,null,null,null,null,null,null,null,"~"]
["SA36",2023,{"$error":"#VALUE!"},314,null,null,null,null,null,null,null,null,null,null,null,null,null,null,null,null,null,null,"~"]
["SA36",2023,{"$error":"#VALUE!"},315,null,null,null,null,null,null,null,null,null,null,null,null,null,null,null,null,null,null,"~"]
["SA36",2023,{"$error":"#VALUE!"},316,null,null,null,null,null,null,null,null,null,null,null,null,null,null,null,null,null,null,"~"]
["SA36",2023,{"$error":"#VALUE!"},317,null,null,null,null,null,null,null,null,null,null,null,null,null,null,null,null,null,null,"~"]
["SA36",2023,{"$error":"#VALUE!"},318,null,null,null,null,null,null,null,null,null,null,null,null,null,null,null,null,null,null,"~"]
["SA36",2023,{"$error":"#VALUE!"},319,null,null,null,null,null,null,null,null,null,null,null,null,null,null,null,null,null,null,"~"]
["SA36",2023,{"$error":"#VALUE!"},320,null,null,null,null,null,null,null,null,null,null,null,null,null,null,null,null,null,null,"~"]
["SA36",2023,{"$error":"#VALUE!"},321,null,null,null,null,null,null,null,null,null,null,null,null,null,null,null,null,null,null,"~"]
["SA36",2023,{"$error":"#VALUE!"},322,null,null,null,null,null,null,null,null,null,null,null,null,null,null,null,null,null,null,"~"]
["SA36",2023,{"$error":"#VALUE!"},323,null,null,null,null,null,null,null,null,null,null,null,null,null,null,null,null,null,null,"~"]
["SA36",2023,{"$error":"#VALUE!"},324,null,null,null,null,null,null,null,null,null,null,null,null,null,null,null,null,null,null,"~"]
["SA36",2023,{"$error":"#VALUE!"},325,null,null,null,null,null,null,null,null,null,null,null,null,null,null,null,null,null,null,"~"]
["SA36",2023,{"$error":"#VALUE!"},326,null,null,null,null,null,null,null,null,null,null,null,null,null,null,null,null,null,null,"~"]
["SA36",2023,{"$error":"#VALUE!"},327,null,null,null,null,null,null,null,null,null,null,null,null,null,null,null,null,null,null,"~"]
["SA36",2023,{"$error":"#VALUE!"},328,null,null,null,null,null,null,null,null,null,null,null,null,null,null,null,null,null,null,"~"]
["SA36",2023,{"$error":"#VALUE!"},329,null,null,null,null,null,null,null,null,null,null,null,null,null,null,null,null,null,null,"~"]
["SA36",2023,{"$error":"#VALUE!"},330,null,null,null,null,null,null,null,null,null,null,null,null,null,null,null,null,null,null,"~"]
["SA36",2023,{"$error":"#VALUE!"},331,null,null,null,null,null,null,null,null,null,null,null,null,null,null,null,null,null,null,"~"]
["SA36",2023,{"$error":"#VALUE!"},332,null,null,null,null,null,null,null,null,null,null,null,null,null,null,null,null,null,null,"~"]
["SA36",2023,{"$error":"#VALUE!"},333,null,null,null,null,null,null,null,null,null,null,null,null,null,null,null,null,null,null,"~"]
["SA36",2023,{"$error":"#VALUE!"},334,null,null,null,null,null,null,null,null,null,null,null,null,null,null,null,null,null,null,"~"]
["SA36",2023,{"$error":"#VALUE!"},335,null,null,null,null,null,null,null,null,null,null,null,null,null,null,null,null,null,null,"~"]
["SA36",2023,{"$error":"#VALUE!"},336,null,null,null,null,null,null,null,null,null,null,null,null,null,null,null,null,null,null,"~"]
["SA36",2023,{"$error":"#VALUE!"},337,null,null,null,null,null,null,null,null,null,null,null,null,null,null,null,null,null,null,"~"]
["SA36",2023,{"$error":"#VALUE!"},338,null,null,null,null,null,null,null,null,null,null,null,null,null,null,null,null,null,null,"~"]
["SA36",2023,{"$error":"#VALUE!"},339,null,null,null,null,null,null,null,null,null,null,null,null,null,null,null,null,null,null,"~"]
["SA36",2023,{"$error":"#VALUE!"},340,null,null,null,null,null,null,null,null,null,null,null,null,null,null,null,null,null,null,"~"]
["SA36",2023,{"$error":"#VALUE!"},341,null,null,null,null,null,null,null,null,null,null,null,null,null,null,null,null,null,null,"~"]
["SA36",2023,{"$error":"#VALUE!"},342,null,null,null,null,null,null,null,null,null,null,null,null,null,null,null,null,null,null,"~"]
["SA36",2023,{"$error":"#VALUE!"},343,null,null,null,null,null,null,null,null,null,null,null,null,null,null,null,null,null,null,"~"]
["SA36",{"$f":"+MTREF","v":2023},{"$f":"LEFT(muni,(FIND(\" \",muni,1)-1))","v":{"$error":"#VALUE!"}},344,null,null,null,null,null,null,null,null,null,null,null,null,null,null,null,null,null,null,"~"]
["SA36",2023,{"$error":"#VALUE!"},345,null,null,null,null,null,null,null,null,null,null,null,null,null,null,null,null,null,null,"~"]
["SA36",2023,{"$error":"#VALUE!"},346,null,null,null,null,null,null,null,null,null,null,null,null,null,null,null,null,null,null,"~"]
["SA36",2023,{"$error":"#VALUE!"},347,null,null,null,null,null,null,null,null,null,null,null,null,null,null,null,null,null,null,"~"]
["SA36",2023,{"$error":"#VALUE!"},348,null,null,null,null,null,null,null,null,null,null,null,null,null,null,null,null,null,null,"~"]
["SA36",2023,{"$error":"#VALUE!"},349,null,null,null,null,null,null,null,null,null,null,null,null,null,null,null,null,null,null,"~"]
["SA36",2023,{"$error":"#VALUE!"},350,null,null,null,null,null,null,null,null,null,null,null,null,null,null,null,null,null,null,"~"]
["SA36",2023,{"$error":"#VALUE!"},351,null,null,null,null,null,null,null,null,null,null,null,null,null,null,null,null,null,null,"~"]
["SA36",2023,{"$error":"#VALUE!"},352,null,null,null,null,null,null,null,null,null,null,null,null,null,null,null,null,null,null,"~"]
["SA36",2023,{"$error":"#VALUE!"},353,null,null,null,null,null,null,null,null,null,null,null,null,null,null,null,null,null,null,"~"]
["SA36",2023,{"$error":"#VALUE!"},354,null,null,null,null,null,null,null,null,null,null,null,null,null,null,null,null,null,null,"~"]
["SA36",2023,{"$error":"#VALUE!"},355,null,null,null,null,null,null,null,null,null,null,null,null,null,null,null,null,null,null,"~"]
["SA36",2023,{"$error":"#VALUE!"},356,null,null,null,null,null,null,null,null,null,null,null,null,null,null,null,null,null,null,"~"]
["SA36",2023,{"$error":"#VALUE!"},357,null,null,null,null,null,null,null,null,null,null,null,null,null,null,null,null,null,null,"~"]
["SA36",2023,{"$error":"#VALUE!"},358,null,null,null,null,null,null,null,null,null,null,null,null,null,null,null,null,null,null,"~"]
["SA36",2023,{"$error":"#VALUE!"},359,null,null,null,null,null,null,null,null,null,null,null,null,null,null,null,null,null,null,"~"]
["SA36",2023,{"$error":"#VALUE!"},360,null,null,null,null,null,null,null,null,null,null,null,null,null,null,null,null,null,null,"~"]
["SA36",2023,{"$error":"#VALUE!"},361,null,null,null,null,null,null,null,null,null,null,null,null,null,null,null,null,null,null,"~"]
["SA36",2023,{"$error":"#VALUE!"},362,null,null,null,null,null,null,null,null,null,null,null,null,null,null,null,null,null,null,"~"]
["SA36",2023,{"$error":"#VALUE!"},363,null,null,null,null,null,null,null,null,null,null,null,null,null,null,null,null,null,null,"~"]
["SA36",2023,{"$error":"#VALUE!"},364,null,null,null,null,null,null,null,null,null,null,null,null,null,null,null,null,null,null,"~"]
["SA36",2023,{"$error":"#VALUE!"},365,null,null,null,null,null,null,null,null,null,null,null,null,null,null,null,null,null,null,"~"]
["SA36",2023,{"$error":"#VALUE!"},366,null,null,null,null,null,null,null,null,null,null,null,null,null,null,null,null,null,null,"~"]
["SA36",2023,{"$error":"#VALUE!"},367,null,null,null,null,null,null,null,null,null,null,null,null,null,null,null,null,null,null,"~"]
["SA36",2023,{"$error":"#VALUE!"},368,null,null,null,null,null,null,null,null,null,null,null,null,null,null,null,null,null,null,"~"]
["SA36",2023,{"$error":"#VALUE!"},369,null,null,null,null,null,null,null,null,null,null,null,null,null,null,null,null,null,null,"~"]
["SA36",2023,{"$error":"#VALUE!"},370,null,null,null,null,null,null,null,null,null,null,null,null,null,null,null,null,null,null,"~"]
["SA36",2023,{"$error":"#VALUE!"},371,null,null,null,null,null,null,null,null,null,null,null,null,null,null,null,null,null,null,"~"]
["SA36",2023,{"$error":"#VALUE!"},372,null,null,null,null,null,null,null,null,null,null,null,null,null,null,null,null,null,null,"~"]
["SA36",2023,{"$error":"#VALUE!"},373,null,null,null,null,null,null,null,null,null,null,null,null,null,null,null,null,null,null,"~"]
["SA36",2023,{"$error":"#VALUE!"},374,null,null,null,null,null,null,null,null,null,null,null,null,null,null,null,null,null,null,"~"]
["SA36",2023,{"$error":"#VALUE!"},375,null,null,null,null,null,null,null,null,null,null,null,null,null,null,null,null,null,null,"~"]
["SA36",2023,{"$error":"#VALUE!"},376,null,null,null,null,null,null,null,null,null,null,null,null,null,null,null,null,null,null,"~"]
["SA36",2023,{"$error":"#VALUE!"},377,null,null,null,null,null,null,null,null,null,null,null,null,null,null,null,null,null,null,"~"]
["SA36",2023,{"$error":"#VALUE!"},378,null,null,null,null,null,null,null,null,null,null,null,null,null,null,null,null,null,null,"~"]
["SA36",2023,{"$error":"#VALUE!"},379,null,null,null,null,null,null,null,null,null,null,null,null,null,null,null,null,null,null,"~"]
["SA36",2023,{"$error":"#VALUE!"},380,null,null,null,null,null,null,null,null,null,null,null,null,null,null,null,null,null,null,"~"]
["SA36",2023,{"$error":"#VALUE!"},381,null,null,null,null,null,null,null,null,null,null,null,null,null,null,null,null,null,null,"~"]
["SA36",2023,{"$error":"#VALUE!"},382,null,null,null,null,null,null,null,null,null,null,null,null,null,null,null,null,null,null,"~"]
["SA36",2023,{"$error":"#VALUE!"},383,null,null,null,null,null,null,null,null,null,null,null,null,null,null,null,null,null,null,"~"]
["SA36",2023,{"$error":"#VALUE!"},384,null,null,null,null,null,null,null,null,null,null,null,null,null,null,null,null,null,null,"~"]
["SA36",2023,{"$error":"#VALUE!"},385,null,null,null,null,null,null,null,null,null,null,null,null,null,null,null,null,null,null,"~"]
["SA36",2023,{"$error":"#VALUE!"},386,null,null,null,null,null,null,null,null,null,null,null,null,null,null,null,null,null,null,"~"]
["SA36",2023,{"$error":"#VALUE!"},387,null,null,null,null,null,null,null,null,null,null,null,null,null,null,null,null,null,null,"~"]
["SA36",2023,{"$error":"#VALUE!"},388,null,null,null,null,null,null,null,null,null,null,null,null,null,null,null,null,null,null,"~"]
["SA36",2023,{"$error":"#VALUE!"},389,null,null,null,null,null,null,null,null,null,null,null,null,null,null,null,null,null,null,"~"]
["SA36",2023,{"$error":"#VALUE!"},390,null,null,null,null,null,null,null,null,null,null,null,null,null,null,null,null,null,null,"~"]
["SA36",2023,{"$error":"#VALUE!"},391,null,null,null,null,null,null,null,null,null,null,null,null,null,null,null,null,null,null,"~"]
["SA36",2023,{"$error":"#VALUE!"},392,null,null,null,null,null,null,null,null,null,null,null,null,null,null,null,null,null,null,"~"]
["SA36",2023,{"$error":"#VALUE!"},393,null,null,null,null,null,null,null,null,null,null,null,null,null,null,null,null,null,null,"~"]
["SA36",2023,{"$error":"#VALUE!"},394,null,null,null,null,null,null,null,null,null,null,null,null,null,null,null,null,null,null,"~"]
["SA36",2023,{"$error":"#VALUE!"},395,null,null,null,null,null,null,null,null,null,null,null,null,null,null,null,null,null,null,"~"]
["SA36",2023,{"$error":"#VALUE!"},396,null,null,null,null,null,null,null,null,null,null,null,null,null,null,null,null,null,null,"~"]
["SA36",2023,{"$error":"#VALUE!"},397,null,null,null,null,null,null,null,null,null,null,null,null,null,null,null,null,null,null,"~"]
["SA36",2023,{"$error":"#VALUE!"},398,null,null,null,null,null,null,null,null,null,null,null,null,null,null,null,null,null,null,"~"]
["SA36",2023,{"$error":"#VALUE!"},399,null,null,null,null,null,null,null,null,null,null,null,null,null,null,null,null,null,null,"~"]
["SA36",2023,{"$error":"#VALUE!"},400,null,null,null,null,null,null,null,null,null,null,null,null,null,null,null,null,null,null,"~"]
["SA36",2023,{"$error":"#VALUE!"},401,null,null,null,null,null,null,null,null,null,null,null,null,null,null,null,null,null,null,"~"]
["SA36",2023,{"$error":"#VALUE!"},402,null,null,null,null,null,null,null,null,null,null,null,null,null,null,null,null,null,null,"~"]
["SA36",2023,{"$error":"#VALUE!"},403,null,null,null,null,null,null,null,null,null,null,null,null,null,null,null,null,null,null,"~"]
["SA36",2023,{"$error":"#VALUE!"},404,null,null,null,null,null,null,null,null,null,null,null,null,null,null,null,null,null,null,"~"]
["SA36",2023,{"$error":"#VALUE!"},405,null,null,null,null,null,null,null,null,null,null,null,null,null,null,null,null,null,null,"~"]
["SA36",2023,{"$error":"#VALUE!"},406,null,null,null,null,null,null,null,null,null,null,null,null,null,null,null,null,null,null,"~"]
["SA36",2023,{"$error":"#VALUE!"},407,null,null,null,null,null,null,null,null,null,null,null,null,null,null,null,null,null,null,"~"]
["SA36",{"$f":"+MTREF","v":2023},{"$f":"LEFT(muni,(FIND(\" \",muni,1)-1))","v":{"$error":"#VALUE!"}},408,null,null,null,null,null,null,null,null,null,null,null,null,null,null,null,null,null,null,"~"]
["SA36",2023,{"$error":"#VALUE!"},409,null,null,null,null,null,null,null,null,null,null,null,null,null,null,null,null,null,null,"~"]
["SA36",2023,{"$error":"#VALUE!"},410,null,null,null,null,null,null,null,null,null,null,null,null,null,null,null,null,null,null,"~"]
["SA36",2023,{"$error":"#VALUE!"},411,null,null,null,null,null,null,null,null,null,null,null,null,null,null,null,null,null,null,"~"]
["SA36",2023,{"$error":"#VALUE!"},412,null,null,null,null,null,null,null,null,null,null,null,null,null,null,null,null,null,null,"~"]
["SA36",2023,{"$error":"#VALUE!"},413,null,null,null,null,null,null,null,null,null,null,null,null,null,null,null,null,null,null,"~"]
["SA36",2023,{"$error":"#VALUE!"},414,null,null,null,null,null,null,null,null,null,null,null,null,null,null,null,null,null,null,"~"]
["SA36",2023,{"$error":"#VALUE!"},415,null,null,null,null,null,null,null,null,null,null,null,null,null,null,null,null,null,null,"~"]
["SA36",2023,{"$error":"#VALUE!"},416,null,null,null,null,null,null,null,null,null,null,null,null,null,null,null,null,null,null,"~"]
["SA36",2023,{"$error":"#VALUE!"},417,null,null,null,null,null,null,null,null,null,null,null,null,null,null,null,null,null,null,"~"]
["SA36",2023,{"$error":"#VALUE!"},418,null,null,null,null,null,null,null,null,null,null,null,null,null,null,null,null,null,null,"~"]
["SA36",2023,{"$error":"#VALUE!"},419,null,null,null,null,null,null,null,null,null,null,null,null,null,null,null,null,null,null,"~"]
["SA36",2023,{"$error":"#VALUE!"},420,null,null,null,null,null,null,null,null,null,null,null,null,null,null,null,null,null,null,"~"]
["SA36",2023,{"$error":"#VALUE!"},421,null,null,null,null,null,null,null,null,null,null,null,null,null,null,null,null,null,null,"~"]
["SA36",2023,{"$error":"#VALUE!"},422,null,null,null,null,null,null,null,null,null,null,null,null,null,null,null,null,null,null,"~"]
["SA36",2023,{"$error":"#VALUE!"},423,null,null,null,null,null,null,null,null,null,null,null,null,null,null,null,null,null,null,"~"]
["SA36",2023,{"$error":"#VALUE!"},424,null,null,null,null,null,null,null,null,null,null,null,null,null,null,null,null,null,null,"~"]
["SA36",2023,{"$error":"#VALUE!"},425,null,null,null,null,null,null,null,null,null,null,null,null,null,null,null,null,null,null,"~"]
["SA36",2023,{"$error":"#VALUE!"},426,null,null,null,null,null,null,null,null,null,null,null,null,null,null,null,null,null,null,"~"]
["SA36",2023,{"$error":"#VALUE!"},427,null,null,null,null,null,null,null,null,null,null,null,null,null,null,null,null,null,null,"~"]
["SA36",2023,{"$error":"#VALUE!"},428,null,null,null,null,null,null,null,null,null,null,null,null,null,null,null,null,null,null,"~"]
["SA36",2023,{"$error":"#VALUE!"},429,null,null,null,null,null,null,null,null,null,null,null,null,null,null,null,null,null,null,"~"]
["SA36",2023,{"$error":"#VALUE!"},430,null,null,null,null,null,null,null,null,null,null,null,null,null,null,null,null,null,null,"~"]
["SA36",2023,{"$error":"#VALUE!"},431,null,null,null,null,null,null,null,null,null,null,null,null,null,null,null,null,null,null,"~"]
["SA36",2023,{"$error":"#VALUE!"},432,null,null,null,null,null,null,null,null,null,null,null,null,null,null,null,null,null,null,"~"]
["SA36",2023,{"$error":"#VALUE!"},433,null,null,null,null,null,null,null,null,null,null,null,null,null,null,null,null,null,null,"~"]
["SA36",2023,{"$error":"#VALUE!"},434,null,null,null,null,null,null,null,null,null,null,null,null,null,null,null,null,null,null,"~"]
["SA36",2023,{"$error":"#VALUE!"},435,null,null,null,null,null,null,null,null,null,null,null,null,null,null,null,null,null,null,"~"]
["SA36",2023,{"$error":"#VALUE!"},436,null,null,null,null,null,null,null,null,null,null,null,null,null,null,null,null,null,null,"~"]
["SA36",2023,{"$error":"#VALUE!"},437,null,null,null,null,null,null,null,null,null,null,null,null,null,null,null,null,null,null,"~"]
["SA36",2023,{"$error":"#VALUE!"},438,null,null,null,null,null,null,null,null,null,null,null,null,null,null,null,null,null,null,"~"]
["SA36",2023,{"$error":"#VALUE!"},439,null,null,null,null,null,null,null,null,null,null,null,null,null,null,null,null,null,null,"~"]
["SA36",2023,{"$error":"#VALUE!"},440,null,null,null,null,null,null,null,null,null,null,null,null,null,null,null,null,null,null,"~"]
["SA36",2023,{"$error":"#VALUE!"},441,null,null,null,null,null,null,null,null,null,null,null,null,null,null,null,null,null,null,"~"]
["SA36",2023,{"$error":"#VALUE!"},442,null,null,null,null,null,null,null,null,null,null,null,null,null,null,null,null,null,null,"~"]
["SA36",2023,{"$error":"#VALUE!"},443,null,null,null,null,null,null,null,null,null,null,null,null,null,null,null,null,null,null,"~"]
["SA36",2023,{"$error":"#VALUE!"},444,null,null,null,null,null,null,null,null,null,null,null,null,null,null,null,null,null,null,"~"]
["SA36",2023,{"$error":"#VALUE!"},445,null,null,null,null,null,null,null,null,null,null,null,null,null,null,null,null,null,null,"~"]
["SA36",2023,{"$error":"#VALUE!"},446,null,null,null,null,null,null,null,null,null,null,null,null,null,null,null,null,null,null,"~"]
["SA36",2023,{"$error":"#VALUE!"},447,null,null,null,null,null,null,null,null,null,null,null,null,null,null,null,null,null,null,"~"]
["SA36",2023,{"$error":"#VALUE!"},448,null,null,null,null,null,null,null,null,null,null,null,null,null,null,null,null,null,null,"~"]
["SA36",2023,{"$error":"#VALUE!"},449,null,null,null,null,null,null,null,null,null,null,null,null,null,null,null,null,null,null,"~"]
["SA36",2023,{"$error":"#VALUE!"},450,null,null,null,null,null,null,null,null,null,null,null,null,null,null,null,null,null,null,"~"]
["SA36",2023,{"$error":"#VALUE!"},451,null,null,null,null,null,null,null,null,null,null,null,null,null,null,null,null,null,null,"~"]
["SA36",2023,{"$error":"#VALUE!"},452,null,null,null,null,null,null,null,null,null,null,null,null,null,null,null,null,null,null,"~"]
["SA36",2023,{"$error":"#VALUE!"},453,null,null,null,null,null,null,null,null,null,null,null,null,null,null,null,null,null,null,"~"]
["SA36",2023,{"$error":"#VALUE!"},454,null,null,null,null,null,null,null,null,null,null,null,null,null,null,null,null,null,null,"~"]
["SA36",2023,{"$error":"#VALUE!"},455,null,null,null,null,null,null,null,null,null,null,null,null,null,null,null,null,null,null,"~"]
["SA36",2023,{"$error":"#VALUE!"},456,null,null,null,null,null,null,null,null,null,null,null,null,null,null,null,null,null,null,"~"]
["SA36",2023,{"$error":"#VALUE!"},457,null,null,null,null,null,null,null,null,null,null,null,null,null,null,null,null,null,null,"~"]
["SA36",2023,{"$error":"#VALUE!"},458,null,null,null,null,null,null,null,null,null,null,null,null,null,null,null,null,null,null,"~"]
["SA36",2023,{"$error":"#VALUE!"},459,null,null,null,null,null,null,null,null,null,null,null,null,null,null,null,null,null,null,"~"]
["SA36",2023,{"$error":"#VALUE!"},460,null,null,null,null,null,null,null,null,null,null,null,null,null,null,null,null,null,null,"~"]
["SA36",2023,{"$error":"#VALUE!"},461,null,null,null,null,null,null,null,null,null,null,null,null,null,null,null,null,null,null,"~"]
["SA36",2023,{"$error":"#VALUE!"},462,null,null,null,null,null,null,null,null,null,null,null,null,null,null,null,null,null,null,"~"]
["SA36",2023,{"$error":"#VALUE!"},463,null,null,null,null,null,null,null,null,null,null,null,null,null,null,null,null,null,null,"~"]
["SA36",2023,{"$error":"#VALUE!"},464,null,null,null,null,null,null,null,null,null,null,null,null,null,null,null,null,null,null,"~"]
["SA36",2023,{"$error":"#VALUE!"},465,null,null,null,null,null,null,null,null,null,null,null,null,null,null,null,null,null,null,"~"]
["SA36",2023,{"$error":"#VALUE!"},466,null,null,null,null,null,null,null,null,null,null,null,null,null,null,null,null,null,null,"~"]
["SA36",2023,{"$error":"#VALUE!"},467,null,null,null,null,null,null,null,null,null,null,null,null,null,null,null,null,null,null,"~"]
["SA36",2023,{"$error":"#VALUE!"},468,null,null,null,null,null,null,null,null,null,null,null,null,null,null,null,null,null,null,"~"]
["SA36",2023,{"$error":"#VALUE!"},469,null,null,null,null,null,null,null,null,null,null,null,null,null,null,null,null,null,null,"~"]
["SA36",2023,{"$error":"#VALUE!"},470,null,null,null,null,null,null,null,null,null,null,null,null,null,null,null,null,null,null,"~"]
["SA36",2023,{"$error":"#VALUE!"},471,null,null,null,null,null,null,null,null,null,null,null,null,null,null,null,null,null,null,"~"]
["SA36",{"$f":"+MTREF","v":2023},{"$f":"LEFT(muni,(FIND(\" \",muni,1)-1))","v":{"$error":"#VALUE!"}},472,null,null,null,null,null,null,null,null,null,null,null,null,null,null,null,null,null,null,"~"]
["SA36",2023,{"$error":"#VALUE!"},473,null,null,null,null,null,null,null,null,null,null,null,null,null,null,null,null,null,null,"~"]
["SA36",2023,{"$error":"#VALUE!"},474,null,null,null,null,null,null,null,null,null,null,null,null,null,null,null,null,null,null,"~"]
["SA36",2023,{"$error":"#VALUE!"},475,null,null,null,null,null,null,null,null,null,null,null,null,null,null,null,null,null,null,"~"]
["SA36",2023,{"$error":"#VALUE!"},476,null,null,null,null,null,null,null,null,null,null,null,null,null,null,null,null,null,null,"~"]
["SA36",2023,{"$error":"#VALUE!"},477,null,null,null,null,null,null,null,null,null,null,null,null,null,null,null,null,null,null,"~"]
["SA36",2023,{"$error":"#VALUE!"},478,null,null,null,null,null,null,null,null,null,null,null,null,null,null,null,null,null,null,"~"]
["SA36",2023,{"$error":"#VALUE!"},479,null,null,null,null,null,null,null,null,null,null,null,null,null,null,null,null,null,null,"~"]
["SA36",2023,{"$error":"#VALUE!"},480,null,null,null,null,null,null,null,null,null,null,null,null,null,null,null,null,null,null,"~"]
["SA36",2023,{"$error":"#VALUE!"},481,null,null,null,null,null,null,null,null,null,null,null,null,null,null,null,null,null,null,"~"]
["SA36",2023,{"$error":"#VALUE!"},482,null,null,null,null,null,null,null,null,null,null,null,null,null,null,null,null,null,null,"~"]
["SA36",2023,{"$error":"#VALUE!"},483,null,null,null,null,null,null,null,null,null,null,null,null,null,null,null,null,null,null,"~"]
["SA36",2023,{"$error":"#VALUE!"},484,null,null,null,null,null,null,null,null,null,null,null,null,null,null,null,null,null,null,"~"]
["SA36",2023,{"$error":"#VALUE!"},485,null,null,null,null,null,null,null,null,null,null,null,null,null,null,null,null,null,null,"~"]
["SA36",2023,{"$error":"#VALUE!"},486,null,null,null,null,null,null,null,null,null,null,null,null,null,null,null,null,null,null,"~"]
["SA36",2023,{"$error":"#VALUE!"},487,null,null,null,null,null,null,null,null,null,null,null,null,null,null,null,null,null,null,"~"]
["SA36",2023,{"$error":"#VALUE!"},488,null,null,null,null,null,null,null,null,null,null,null,null,null,null,null,null,null,null,"~"]
["SA36",2023,{"$error":"#VALUE!"},489,null,null,null,null,null,null,null,null,null,null,null,null,null,null,null,null,null,null,"~"]
["SA36",2023,{"$error":"#VALUE!"},490,null,null,null,null,null,null,null,null,null,null,null,null,null,null,null,null,null,null,"~"]
["SA36",2023,{"$error":"#VALUE!"},491,null,null,null,null,null,null,null,null,null,null,null,null,null,null,null,null,null,null,"~"]
["SA36",2023,{"$error":"#VALUE!"},492,null,null,null,null,null,null,null,null,null,null,null,null,null,null,null,null,null,null,"~"]
["SA36",2023,{"$error":"#VALUE!"},493,null,null,null,null,null,null,null,null,null,null,null,null,null,null,null,null,null,null,"~"]
["SA36",2023,{"$error":"#VALUE!"},494,null,null,null,null,null,null,null,null,null,null,null,null,null,null,null,null,null,null,"~"]
["SA36",2023,{"$error":"#VALUE!"},495,null,null,null,null,null,null,null,null,null,null,null,null,null,null,null,null,null,null,"~"]
["SA36",2023,{"$error":"#VALUE!"},496,null,null,null,null,null,null,null,null,null,null,null,null,null,null,null,null,null,null,"~"]
["SA36",2023,{"$error":"#VALUE!"},497,null,null,null,null,null,null,null,null,null,null,null,null,null,null,null,null,null,null,"~"]
["SA36",2023,{"$error":"#VALUE!"},498,null,null,null,null,null,null,null,null,null,null,null,null,null,null,null,null,null,null,"~"]
["SA36",2023,{"$error":"#VALUE!"},499,null,null,null,null,null,null,null,null,null,null,null,null,null,null,null,null,null,null,"~"]
["SA36",2023,{"$error":"#VALUE!"},500,null,null,null,null,null,null,null,null,null,null,null,null,null,null,null,null,null,null,"~"]
["SA36",2023,{"$error":"#VALUE!"},501,null,null,null,null,null,null,null,null,null,null,null,null,null,null,null,null,null,null,"~"]
["SA36",2023,{"$error":"#VALUE!"},502,null,null,null,null,null,null,null,null,null,null,null,null,null,null,null,null,null,null,"~"]
["SA36",2023,{"$error":"#VALUE!"},503,null,null,null,null,null,null,null,null,null,null,null,null,null,null,null,null,null,null,"~"]
["SA36",2023,{"$error":"#VALUE!"},504,null,null,null,null,null,null,null,null,null,null,null,null,null,null,null,null,null,null,"~"]
["SA36",2023,{"$error":"#VALUE!"},505,null,null,null,null,null,null,null,null,null,null,null,null,null,null,null,null,null,null,"~"]
["SA36",2023,{"$error":"#VALUE!"},506,null,null,null,null,null,null,null,null,null,null,null,null,null,null,null,null,null,null,"~"]
["SA36",2023,{"$error":"#VALUE!"},507,null,null,null,null,null,null,null,null,null,null,null,null,null,null,null,null,null,null,"~"]
["SA36",2023,{"$error":"#VALUE!"},508,null,null,null,null,null,null,null,null,null,null,null,null,null,null,null,null,null,null,"~"]
["SA36",2023,{"$error":"#VALUE!"},509,null,null,null,null,null,null,null,null,null,null,null,null,null,null,null,null,null,null,"~"]
["SA36",2023,{"$error":"#VALUE!"},510,null,null,null,null,null,null,null,null,null,null,null,null,null,null,null,null,null,null,"~"]
["SA36",2023,{"$error":"#VALUE!"},511,null,null,null,null,null,null,null,null,null,null,null,null,null,null,null,null,null,null,"~"]
["SA36",2023,{"$error":"#VALUE!"},512,null,null,null,null,null,null,null,null,null,null,null,null,null,null,null,null,null,null,"~"]
["SA36",2023,{"$error":"#VALUE!"},513,null,null,null,null,null,null,null,null,null,null,null,null,null,null,null,null,null,null,"~"]
["SA36",2023,{"$error":"#VALUE!"},514,null,null,null,null,null,null,null,null,null,null,null,null,null,null,null,null,null,null,"~"]
["SA36",2023,{"$error":"#VALUE!"},515,null,null,null,null,null,null,null,null,null,null,null,null,null,null,null,null,null,null,"~"]
["SA36",2023,{"$error":"#VALUE!"},516,null,null,null,null,null,null,null,null,null,null,null,null,null,null,null,null,null,null,"~"]
["SA36",2023,{"$error":"#VALUE!"},517,null,null,null,null,null,null,null,null,null,null,null,null,null,null,null,null,null,null,"~"]
["SA36",2023,{"$error":"#VALUE!"},518,null,null,null,null,null,null,null,null,null,null,null,null,null,null,null,null,null,null,"~"]
["SA36",2023,{"$error":"#VALUE!"},519,null,null,null,null,null,null,null,null,null,null,null,null,null,null,null,null,null,null,"~"]
["SA36",2023,{"$error":"#VALUE!"},520,null,null,null,null,null,null,null,null,null,null,null,null,null,null,null,null,null,null,"~"]
["SA36",2023,{"$error":"#VALUE!"},521,null,null,null,null,null,null,null,null,null,null,null,null,null,null,null,null,null,null,"~"]
["SA36",2023,{"$error":"#VALUE!"},522,null,null,null,null,null,null,null,null,null,null,null,null,null,null,null,null,null,null,"~"]
["SA36",2023,{"$error":"#VALUE!"},523,null,null,null,null,null,null,null,null,null,null,null,null,null,null,null,null,null,null,"~"]
["SA36",2023,{"$error":"#VALUE!"},524,null,null,null,null,null,null,null,null,null,null,null,null,null,null,null,null,null,null,"~"]
["SA36",2023,{"$error":"#VALUE!"},525,null,null,null,null,null,null,null,null,null,null,null,null,null,null,null,null,null,null,"~"]
["SA36",2023,{"$error":"#VALUE!"},526,null,null,null,null,null,null,null,null,null,null,null,null,null,null,null,null,null,null,"~"]
["SA36",2023,{"$error":"#VALUE!"},527,null,null,null,null,null,null,null,null,null,null,null,null,null,null,null,null,null,null,"~"]
["SA36",2023,{"$error":"#VALUE!"},528,null,null,null,null,null,null,null,null,null,null,null,null,null,null,null,null,null,null,"~"]
["SA36",2023,{"$error":"#VALUE!"},529,null,null,null,null,null,null,null,null,null,null,null,null,null,null,null,null,null,null,"~"]
["SA36",2023,{"$error":"#VALUE!"},530,null,null,null,null,null,null,null,null,null,null,null,null,null,null,null,null,null,null,"~"]
["SA36",2023,{"$error":"#VALUE!"},531,null,null,null,null,null,null,null,null,null,null,null,null,null,null,null,null,null,null,"~"]
["SA36",2023,{"$error":"#VALUE!"},532,null,null,null,null,null,null,null,null,null,null,null,null,null,null,null,null,null,null,"~"]
["SA36",2023,{"$error":"#VALUE!"},533,null,null,null,null,null,null,null,null,null,null,null,null,null,null,null,null,null,null,"~"]
["SA36",2023,{"$error":"#VALUE!"},534,null,null,null,null,null,null,null,null,null,null,null,null,null,null,null,null,null,null,"~"]
["SA36",2023,{"$error":"#VALUE!"},535,null,null,null,null,null,null,null,null,null,null,null,null,null,null,null,null,null,null,"~"]
["SA36",{"$f":"+MTREF","v":2023},{"$f":"LEFT(muni,(FIND(\" \",muni,1)-1))","v":{"$error":"#VALUE!"}},536,null,null,null,null,null,null,null,null,null,null,null,null,null,null,null,null,null,null,"~"]
["SA36",2023,{"$error":"#VALUE!"},537,null,null,null,null,null,null,null,null,null,null,null,null,null,null,null,null,null,null,"~"]
["SA36",2023,{"$error":"#VALUE!"},538,null,null,null,null,null,null,null,null,null,null,null,null,null,null,null,null,null,null,"~"]
["SA36",2023,{"$error":"#VALUE!"},539,null,null,null,null,null,null,null,null,null,null,null,null,null,null,null,null,null,null,"~"]
["SA36",2023,{"$error":"#VALUE!"},540,null,null,null,null,null,null,null,null,null,null,null,null,null,null,null,null,null,null,"~"]
["SA36",2023,{"$error":"#VALUE!"},541,null,null,null,null,null,null,null,null,null,null,null,null,null,null,null,null,null,null,"~"]
["SA36",2023,{"$error":"#VALUE!"},542,null,null,null,null,null,null,null,null,null,null,null,null,null,null,null,null,null,null,"~"]
["SA36",2023,{"$error":"#VALUE!"},543,null,null,null,null,null,null,null,null,null,null,null,null,null,null,null,null,null,null,"~"]
["SA36",2023,{"$error":"#VALUE!"},544,null,null,null,null,null,null,null,null,null,null,null,null,null,null,null,null,null,null,"~"]
["SA36",2023,{"$error":"#VALUE!"},545,null,null,null,null,null,null,null,null,null,null,null,null,null,null,null,null,null,null,"~"]
["SA36",2023,{"$error":"#VALUE!"},546,null,null,null,null,null,null,null,null,null,null,null,null,null,null,null,null,null,null,"~"]
["SA36",2023,{"$error":"#VALUE!"},547,null,null,null,null,null,null,null,null,null,null,null,null,null,null,null,null,null,null,"~"]
["SA36",2023,{"$error":"#VALUE!"},548,null,null,null,null,null,null,null,null,null,null,null,null,null,null,null,null,null,null,"~"]
["SA36",2023,{"$error":"#VALUE!"},549,null,null,null,null,null,null,null,null,null,null,null,null,null,null,null,null,null,null,"~"]
["SA36",2023,{"$error":"#VALUE!"},550,null,null,null,null,null,null,null,null,null,null,null,null,null,null,null,null,null,null,"~"]
["SA36",2023,{"$error":"#VALUE!"},551,null,null,null,null,null,null,null,null,null,null,null,null,null,null,null,null,null,null,"~"]
["SA36",2023,{"$error":"#VALUE!"},552,null,null,null,null,null,null,null,null,null,null,null,null,null,null,null,null,null,null,"~"]
["SA36",2023,{"$error":"#VALUE!"},553,null,null,null,null,null,null,null,null,null,null,null,null,null,null,null,null,null,null,"~"]
["SA36",2023,{"$error":"#VALUE!"},554,null,null,null,null,null,null,null,null,null,null,null,null,null,null,null,null,null,null,"~"]
["SA36",2023,{"$error":"#VALUE!"},555,null,null,null,null,null,null,null,null,null,null,null,null,null,null,null,null,null,null,"~"]
["SA36",2023,{"$error":"#VALUE!"},556,null,null,null,null,null,null,null,null,null,null,null,null,null,null,null,null,null,null,"~"]
["SA36",2023,{"$error":"#VALUE!"},557,null,null,null,null,null,null,null,null,null,null,null,null,null,null,null,null,null,null,"~"]
["SA36",2023,{"$error":"#VALUE!"},558,null,null,null,null,null,null,null,null,null,null,null,null,null,null,null,null,null,null,"~"]
["SA36",2023,{"$error":"#VALUE!"},559,null,null,null,null,null,null,null,null,null,null,null,null,null,null,null,null,null,null,"~"]
["SA36",2023,{"$error":"#VALUE!"},560,null,null,null,null,null,null,null,null,null,null,null,null,null,null,null,null,null,null,"~"]
["SA36",2023,{"$error":"#VALUE!"},561,null,null,null,null,null,null,null,null,null,null,null,null,null,null,null,null,null,null,"~"]
["SA36",2023,{"$error":"#VALUE!"},562,null,null,null,null,null,null,null,null,null,null,null,null,null,null,null,null,null,null,"~"]
["SA36",2023,{"$error":"#VALUE!"},563,null,null,null,null,null,null,null,null,null,null,null,null,null,null,null,null,null,null,"~"]
["SA36",2023,{"$error":"#VALUE!"},564,null,null,null,null,null,null,null,null,null,null,null,null,null,null,null,null,null,null,"~"]
["SA36",2023,{"$error":"#VALUE!"},565,null,null,null,null,null,null,null,null,null,null,null,null,null,null,null,null,null,null,"~"]
["SA36",2023,{"$error":"#VALUE!"},566,null,null,null,null,null,null,null,null,null,null,null,null,null,null,null,null,null,null,"~"]
["SA36",2023,{"$error":"#VALUE!"},567,null,null,null,null,null,null,null,null,null,null,null,null,null,null,null,null,null,null,"~"]
["SA36",2023,{"$error":"#VALUE!"},568,null,null,null,null,null,null,null,null,null,null,null,null,null,null,null,null,null,null,"~"]
["SA36",2023,{"$error":"#VALUE!"},569,null,null,null,null,null,null,null,null,null,null,null,null,null,null,null,null,null,null,"~"]
["SA36",2023,{"$error":"#VALUE!"},570,null,null,null,null,null,null,null,null,null,null,null,null,null,null,null,null,null,null,"~"]
["SA36",2023,{"$error":"#VALUE!"},571,null,null,null,null,null,null,null,null,null,null,null,null,null,null,null,null,null,null,"~"]
["SA36",2023,{"$error":"#VALUE!"},572,null,null,null,null,null,null,null,null,null,null,null,null,null,null,null,null,null,null,"~"]
["SA36",2023,{"$error":"#VALUE!"},573,null,null,null,null,null,null,null,null,null,null,null,null,null,null,null,null,null,null,"~"]
["SA36",2023,{"$error":"#VALUE!"},574,null,null,null,null,null,null,null,null,null,null,null,null,null,null,null,null,null,null,"~"]
["SA36",2023,{"$error":"#VALUE!"},575,null,null,null,null,null,null,null,null,null,null,null,null,null,null,null,null,null,null,"~"]
["SA36",2023,{"$error":"#VALUE!"},576,null,null,null,null,null,null,null,null,null,null,null,null,null,null,null,null,null,null,"~"]
["SA36",2023,{"$error":"#VALUE!"},577,null,null,null,null,null,null,null,null,null,null,null,null,null,null,null,null,null,null,"~"]
["SA36",2023,{"$error":"#VALUE!"},578,null,null,null,null,null,null,null,null,null,null,null,null,null,null,null,null,null,null,"~"]
["SA36",2023,{"$error":"#VALUE!"},579,null,null,null,null,null,null,null,null,null,null,null,null,null,null,null,null,null,null,"~"]
["SA36",2023,{"$error":"#VALUE!"},580,null,null,null,null,null,null,null,null,null,null,null,null,null,null,null,null,null,null,"~"]
["SA36",2023,{"$error":"#VALUE!"},581,null,null,null,null,null,null,null,null,null,null,null,null,null,null,null,null,null,null,"~"]
["SA36",2023,{"$error":"#VALUE!"},582,null,null,null,null,null,null,null,null,null,null,null,null,null,null,null,null,null,null,"~"]
["SA36",2023,{"$error":"#VALUE!"},583,null,null,null,null,null,null,null,null,null,null,null,null,null,null,null,null,null,null,"~"]
["SA36",2023,{"$error":"#VALUE!"},584,null,null,null,null,null,null,null,null,null,null,null,null,null,null,null,null,null,null,"~"]
["SA36",2023,{"$error":"#VALUE!"},585,null,null,null,null,null,null,null,null,null,null,null,null,null,null,null,null,null,null,"~"]
["SA36",2023,{"$error":"#VALUE!"},586,null,null,null,null,null,null,null,null,null,null,null,null,null,null,null,null,null,null,"~"]
["SA36",2023,{"$error":"#VALUE!"},587,null,null,null,null,null,null,null,null,null,null,null,null,null,null,null,null,null,null,"~"]
["SA36",2023,{"$error":"#VALUE!"},588,null,null,null,null,null,null,null,null,null,null,null,null,null,null,null,null,null,null,"~"]
["SA36",2023,{"$error":"#VALUE!"},589,null,null,null,null,null,null,null,null,null,null,null,null,null,null,null,null,null,null,"~"]
["SA36",2023,{"$error":"#VALUE!"},590,null,null,null,null,null,null,null,null,null,null,null,null,null,null,null,null,null,null,"~"]
["SA36",2023,{"$error":"#VALUE!"},591,null,null,null,null,null,null,null,null,null,null,null,null,null,null,null,null,null,null,"~"]
["SA36",2023,{"$error":"#VALUE!"},592,null,null,null,null,null,null,null,null,null,null,null,null,null,null,null,null,null,null,"~"]
["SA36",2023,{"$error":"#VALUE!"},593,null,null,null,null,null,null,null,null,null,null,null,null,null,null,null,null,null,null,"~"]
["SA36",2023,{"$error":"#VALUE!"},594,null,null,null,null,null,null,null,null,null,null,null,null,null,null,null,null,null,null,"~"]
["SA36",2023,{"$error":"#VALUE!"},595,null,null,null,null,null,null,null,null,null,null,null,null,null,null,null,null,null,null,"~"]
["SA36",2023,{"$error":"#VALUE!"},596,null,null,null,null,null,null,null,null,null,null,null,null,null,null,null,null,null,null,"~"]
["SA36",2023,{"$error":"#VALUE!"},597,null,null,null,null,null,null,null,null,null,null,null,null,null,null,null,null,null,null,"~"]
["SA36",2023,{"$error":"#VALUE!"},598,null,null,null,null,null,null,null,null,null,null,null,null,null,null,null,null,null,null,"~"]
["SA36",2023,{"$error":"#VALUE!"},599,null,null,null,null,null,null,null,null,null,null,null,null,null,null,null,null,null,null,"~"]
["SA36",{"$f":"+MTREF","v":2023},{"$f":"LEFT(muni,(FIND(\" \",muni,1)-1))","v":{"$error":"#VALUE!"}},600,null,null,null,null,null,null,null,null,null,null,null,null,null,null,null,null,null,null,"~"]
["SA36",2023,{"$error":"#VALUE!"},601,null,null,null,null,null,null,null,null,null,null,null,null,null,null,null,null,null,null,"~"]
["SA36",2023,{"$error":"#VALUE!"},602,null,null,null,null,null,null,null,null,null,null,null,null,null,null,null,null,null,null,"~"]
["SA36",2023,{"$error":"#VALUE!"},603,null,null,null,null,null,null,null,null,null,null,null,null,null,null,null,null,null,null,"~"]
["SA36",2023,{"$error":"#VALUE!"},604,null,null,null,null,null,null,null,null,null,null,null,null,null,null,null,null,null,null,"~"]
["SA36",2023,{"$error":"#VALUE!"},605,null,null,null,null,null,null,null,null,null,null,null,null,null,null,null,null,null,null,"~"]
["SA36",2023,{"$error":"#VALUE!"},606,null,null,null,null,null,null,null,null,null,null,null,null,null,null,null,null,null,null,"~"]
["SA36",2023,{"$error":"#VALUE!"},607,null,null,null,null,null,null,null,null,null,null,null,null,null,null,null,null,null,null,"~"]
["SA36",2023,{"$error":"#VALUE!"},608,null,null,null,null,null,null,null,null,null,null,null,null,null,null,null,null,null,null,"~"]
["SA36",2023,{"$error":"#VALUE!"},609,null,null,null,null,null,null,null,null,null,null,null,null,null,null,null,null,null,null,"~"]
["SA36",2023,{"$error":"#VALUE!"},610,null,null,null,null,null,null,null,null,null,null,null,null,null,null,null,null,null,null,"~"]
["SA36",2023,{"$error":"#VALUE!"},611,null,null,null,null,null,null,null,null,null,null,null,null,null,null,null,null,null,null,"~"]
["SA36",2023,{"$error":"#VALUE!"},612,null,null,null,null,null,null,null,null,null,null,null,null,null,null,null,null,null,null,"~"]
["SA36",2023,{"$error":"#VALUE!"},613,null,null,null,null,null,null,null,null,null,null,null,null,null,null,null,null,null,null,"~"]
["SA36",2023,{"$error":"#VALUE!"},614,null,null,null,null,null,null,null,null,null,null,null,null,null,null,null,null,null,null,"~"]
["SA36",2023,{"$error":"#VALUE!"},615,null,null,null,null,null,null,null,null,null,null,null,null,null,null,null,null,null,null,"~"]
["SA36",2023,{"$error":"#VALUE!"},616,null,null,null,null,null,null,null,null,null,null,null,null,null,null,null,null,null,null,"~"]
["SA36",2023,{"$error":"#VALUE!"},617,null,null,null,null,null,null,null,null,null,null,null,null,null,null,null,null,null,null,"~"]
["SA36",2023,{"$error":"#VALUE!"},618,null,null,null,null,null,null,null,null,null,null,null,null,null,null,null,null,null,null,"~"]
["SA36",2023,{"$error":"#VALUE!"},619,null,null,null,null,null,null,null,null,null,null,null,null,null,null,null,null,null,null,"~"]
["SA36",2023,{"$error":"#VALUE!"},620,null,null,null,null,null,null,null,null,null,null,null,null,null,null,null,null,null,null,"~"]
["SA36",2023,{"$error":"#VALUE!"},621,null,null,null,null,null,null,null,null,null,null,null,null,null,null,null,null,null,null,"~"]
["SA36",2023,{"$error":"#VALUE!"},622,null,null,null,null,null,null,null,null,null,null,null,null,null,null,null,null,null,null,"~"]
["SA36",2023,{"$error":"#VALUE!"},623,null,null,null,null,null,null,null,null,null,null,null,null,null,null,null,null,null,null,"~"]
["SA36",2023,{"$error":"#VALUE!"},624,null,null,null,null,null,null,null,null,null,null,null,null,null,null,null,null,null,null,"~"]
["SA36",2023,{"$error":"#VALUE!"},625,null,null,null,null,null,null,null,null,null,null,null,null,null,null,null,null,null,null,"~"]
["SA36",2023,{"$error":"#VALUE!"},626,null,null,null,null,null,null,null,null,null,null,null,null,null,null,null,null,null,null,"~"]
["SA36",2023,{"$error":"#VALUE!"},627,null,null,null,null,null,null,null,null,null,null,null,null,null,null,null,null,null,null,"~"]
["SA36",2023,{"$error":"#VALUE!"},628,null,null,null,null,null,null,null,null,null,null,null,null,null,null,null,null,null,null,"~"]
["SA36",2023,{"$error":"#VALUE!"},629,null,null,null,null,null,null,null,null,null,null,null,null,null,null,null,null,null,null,"~"]
["SA36",2023,{"$error":"#VALUE!"},630,null,null,null,null,null,null,null,null,null,null,null,null,null,null,null,null,null,null,"~"]
["SA36",2023,{"$error":"#VALUE!"},631,null,null,null,null,null,null,null,null,null,null,null,null,null,null,null,null,null,null,"~"]
["SA36",2023,{"$error":"#VALUE!"},632,null,null,null,null,null,null,null,null,null,null,null,null,null,null,null,null,null,null,"~"]
["SA36",2023,{"$error":"#VALUE!"},633,null,null,null,null,null,null,null,null,null,null,null,null,null,null,null,null,null,null,"~"]
["SA36",2023,{"$error":"#VALUE!"},634,null,null,null,null,null,null,null,null,null,null,null,null,null,null,null,null,null,null,"~"]
["SA36",2023,{"$error":"#VALUE!"},635,null,null,null,null,null,null,null,null,null,null,null,null,null,null,null,null,null,null,"~"]
["SA36",2023,{"$error":"#VALUE!"},636,null,null,null,null,null,null,null,null,null,null,null,null,null,null,null,null,null,null,"~"]
["SA36",2023,{"$error":"#VALUE!"},637,null,null,null,null,null,null,null,null,null,null,null,null,null,null,null,null,null,null,"~"]
["SA36",2023,{"$error":"#VALUE!"},638,null,null,null,null,null,null,null,null,null,null,null,null,null,null,null,null,null,null,"~"]
["SA36",2023,{"$error":"#VALUE!"},639,null,null,null,null,null,null,null,null,null,null,null,null,null,null,null,null,null,null,"~"]
["SA36",2023,{"$error":"#VALUE!"},640,null,null,null,null,null,null,null,null,null,null,null,null,null,null,null,null,null,null,"~"]
["SA36",2023,{"$error":"#VALUE!"},641,null,null,null,null,null,null,null,null,null,null,null,null,null,null,null,null,null,null,"~"]
["SA36",2023,{"$error":"#VALUE!"},642,null,null,null,null,null,null,null,null,null,null,null,null,null,null,null,null,null,null,"~"]
["SA36",2023,{"$error":"#VALUE!"},643,null,null,null,null,null,null,null,null,null,null,null,null,null,null,null,null,null,null,"~"]
["SA36",2023,{"$error":"#VALUE!"},644,null,null,null,null,null,null,null,null,null,null,null,null,null,null,null,null,null,null,"~"]
["SA36",2023,{"$error":"#VALUE!"},645,null,null,null,null,null,null,null,null,null,null,null,null,null,null,null,null,null,null,"~"]
["SA36",2023,{"$error":"#VALUE!"},646,null,null,null,null,null,null,null,null,null,null,null,null,null,null,null,null,null,null,"~"]
["SA36",2023,{"$error":"#VALUE!"},647,null,null,null,null,null,null,null,null,null,null,null,null,null,null,null,null,null,null,"~"]
["SA36",2023,{"$error":"#VALUE!"},648,null,null,null,null,null,null,null,null,null,null,null,null,null,null,null,null,null,null,"~"]
["SA36",2023,{"$error":"#VALUE!"},649,null,null,null,null,null,null,null,null,null,null,null,null,null,null,null,null,null,null,"~"]
["SA36",2023,{"$error":"#VALUE!"},650,null,null,null,null,null,null,null,null,null,null,null,null,null,null,null,null,null,null,"~"]
["SA36",2023,{"$error":"#VALUE!"},651,null,null,null,null,null,null,null,null,null,null,null,null,null,null,null,null,null,null,"~"]
["SA36",2023,{"$error":"#VALUE!"},652,null,null,null,null,null,null,null,null,null,null,null,null,null,null,null,null,null,null,"~"]
["SA36",2023,{"$error":"#VALUE!"},653,null,null,null,null,null,null,null,null,null,null,null,null,null,null,null,null,null,null,"~"]
["SA36",2023,{"$error":"#VALUE!"},654,null,null,null,null,null,null,null,null,null,null,null,null,null,null,null,null,null,null,"~"]
["SA36",2023,{"$error":"#VALUE!"},655,null,null,null,null,null,null,null,null,null,null,null,null,null,null,null,null,null,null,"~"]
["SA36",2023,{"$error":"#VALUE!"},656,null,null,null,null,null,null,null,null,null,null,null,null,null,null,null,null,null,null,"~"]
["SA36",2023,{"$error":"#VALUE!"},657,null,null,null,null,null,null,null,null,null,null,null,null,null,null,null,null,null,null,"~"]
["SA36",2023,{"$error":"#VALUE!"},658,null,null,null,null,null,null,null,null,null,null,null,null,null,null,null,null,null,null,"~"]
["SA36",2023,{"$error":"#VALUE!"},659,null,null,null,null,null,null,null,null,null,null,null,null,null,null,null,null,null,null,"~"]
["SA36",2023,{"$error":"#VALUE!"},660,null,null,null,null,null,null,null,null,null,null,null,null,null,null,null,null,null,null,"~"]
["SA36",2023,{"$error":"#VALUE!"},661,null,null,null,null,null,null,null,null,null,null,null,null,null,null,null,null,null,null,"~"]
["SA36",2023,{"$error":"#VALUE!"},662,null,null,null,null,null,null,null,null,null,null,null,null,null,null,null,null,null,null,"~"]
["SA36",2023,{"$error":"#VALUE!"},663,null,null,null,null,null,null,null,null,null,null,null,null,null,null,null,null,null,null,"~"]
["SA36",{"$f":"+MTREF","v":2023},{"$f":"LEFT(muni,(FIND(\" \",muni,1)-1))","v":{"$error":"#VALUE!"}},664,null,null,null,null,null,null,null,null,null,null,null,null,null,null,null,null,null,null,"~"]
["SA36",2023,{"$error":"#VALUE!"},665,null,null,null,null,null,null,null,null,null,null,null,null,null,null,null,null,null,null,"~"]
["SA36",2023,{"$error":"#VALUE!"},666,null,null,null,null,null,null,null,null,null,null,null,null,null,null,null,null,null,null,"~"]
["SA36",2023,{"$error":"#VALUE!"},667,null,null,null,null,null,null,null,null,null,null,null,null,null,null,null,null,null,null,"~"]
["SA36",2023,{"$error":"#VALUE!"},668,null,null,null,null,null,null,null,null,null,null,null,null,null,null,null,null,null,null,"~"]
["SA36",2023,{"$error":"#VALUE!"},669,null,null,null,null,null,null,null,null,null,null,null,null,null,null,null,null,null,null,"~"]
["SA36",2023,{"$error":"#VALUE!"},670,null,null,null,null,null,null,null,null,null,null,null,null,null,null,null,null,null,null,"~"]
["SA36",2023,{"$error":"#VALUE!"},671,null,null,null,null,null,null,null,null,null,null,null,null,null,null,null,null,null,null,"~"]
["SA36",2023,{"$error":"#VALUE!"},672,null,null,null,null,null,null,null,null,null,null,null,null,null,null,null,null,null,null,"~"]
["SA36",2023,{"$error":"#VALUE!"},673,null,null,null,null,null,null,null,null,null,null,null,null,null,null,null,null,null,null,"~"]
["SA36",2023,{"$error":"#VALUE!"},674,null,null,null,null,null,null,null,null,null,null,null,null,null,null,null,null,null,null,"~"]
["SA36",2023,{"$error":"#VALUE!"},675,null,null,null,null,null,null,null,null,null,null,null,null,null,null,null,null,null,null,"~"]
["SA36",2023,{"$error":"#VALUE!"},676,null,null,null,null,null,null,null,null,null,null,null,null,null,null,null,null,null,null,"~"]
["SA36",2023,{"$error":"#VALUE!"},677,null,null,null,null,null,null,null,null,null,null,null,null,null,null,null,null,null,null,"~"]
["SA36",2023,{"$error":"#VALUE!"},678,null,null,null,null,null,null,null,null,null,null,null,null,null,null,null,null,null,null,"~"]
["SA36",2023,{"$error":"#VALUE!"},679,null,null,null,null,null,null,null,null,null,null,null,null,null,null,null,null,null,null,"~"]
["SA36",2023,{"$error":"#VALUE!"},680,null,null,null,null,null,null,null,null,null,null,null,null,null,null,null,null,null,null,"~"]
["SA36",2023,{"$error":"#VALUE!"},681,null,null,null,null,null,null,null,null,null,null,null,null,null,null,null,null,null,null,"~"]
["SA36",2023,{"$error":"#VALUE!"},682,null,null,null,null,null,null,null,null,null,null,null,null,null,null,null,null,null,null,"~"]
["SA36",2023,{"$error":"#VALUE!"},683,null,null,null,null,null,null,null,null,null,null,null,null,null,null,null,null,null,null,"~"]
["SA36",2023,{"$error":"#VALUE!"},684,null,null,null,null,null,null,null,null,null,null,null,null,null,null,null,null,null,null,"~"]
["SA36",2023,{"$error":"#VALUE!"},685,null,null,null,null,null,null,null,null,null,null,null,null,null,null,null,null,null,null,"~"]
["SA36",2023,{"$error":"#VALUE!"},686,null,null,null,null,null,null,null,null,null,null,null,null,null,null,null,null,null,null,"~"]
["SA36",2023,{"$error":"#VALUE!"},687,null,null,null,null,null,null,null,null,null,null,null,null,null,null,null,null,null,null,"~"]
["SA36",2023,{"$error":"#VALUE!"},688,null,null,null,null,null,null,null,null,null,null,null,null,null,null,null,null,null,null,"~"]
["SA36",2023,{"$error":"#VALUE!"},689,null,null,null,null,null,null,null,null,null,null,null,null,null,null,null,null,null,null,"~"]
["SA36",2023,{"$error":"#VALUE!"},690,null,null,null,null,null,null,null,null,null,null,null,null,null,null,null,null,null,null,"~"]
["SA36",2023,{"$error":"#VALUE!"},691,null,null,null,null,null,null,null,null,null,null,null,null,null,null,null,null,null,null,"~"]
["SA36",2023,{"$error":"#VALUE!"},692,null,null,null,null,null,null,null,null,null,null,null,null,null,null,null,null,null,null,"~"]
["SA36",2023,{"$error":"#VALUE!"},693,null,null,null,null,null,null,null,null,null,null,null,null,null,null,null,null,null,null,"~"]
["SA36",2023,{"$error":"#VALUE!"},694,null,null,null,null,null,null,null,null,null,null,null,null,null,null,null,null,null,null,"~"]
["SA36",2023,{"$error":"#VALUE!"},695,null,null,null,null,null,null,null,null,null,null,null,null,null,null,null,null,null,null,"~"]
["SA36",2023,{"$error":"#VALUE!"},696,null,null,null,null,null,null,null,null,null,null,null,null,null,null,null,null,null,null,"~"]
["SA36",2023,{"$error":"#VALUE!"},697,null,null,null,null,null,null,null,null,null,null,null,null,null,null,null,null,null,null,"~"]
["SA36",2023,{"$error":"#VALUE!"},698,null,null,null,null,null,null,null,null,null,null,null,null,null,null,null,null,null,null,"~"]
["SA36",2023,{"$error":"#VALUE!"},699,null,null,null,null,null,null,null,null,null,null,null,null,null,null,null,null,null,null,"~"]
["SA36",2023,{"$error":"#VALUE!"},700,null,null,null,null,null,null,null,null,null,null,null,null,null,null,null,null,null,null,"~"]
["SA36",2023,{"$error":"#VALUE!"},701,null,null,null,null,null,null,null,null,null,null,null,null,null,null,null,null,null,null,"~"]
["SA36",2023,{"$error":"#VALUE!"},702,null,null,null,null,null,null,null,null,null,null,null,null,null,null,null,null,null,null,"~"]
["SA36",2023,{"$error":"#VALUE!"},703,null,null,null,null,null,null,null,null,null,null,null,null,null,null,null,null,null,null,"~"]
["SA36",2023,{"$error":"#VALUE!"},704,null,null,null,null,null,null,null,null,null,null,null,null,null,null,null,null,null,null,"~"]
["SA36",2023,{"$error":"#VALUE!"},705,null,null,null,null,null,null,null,null,null,null,null,null,null,null,null,null,null,null,"~"]
["SA36",2023,{"$error":"#VALUE!"},706,null,null,null,null,null,null,null,null,null,null,null,null,null,null,null,null,null,null,"~"]
["SA36",2023,{"$error":"#VALUE!"},707,null,null,null,null,null,null,null,null,null,null,null,null,null,null,null,null,null,null,"~"]
["SA36",2023,{"$error":"#VALUE!"},708,null,null,null,null,null,null,null,null,null,null,null,null,null,null,null,null,null,null,"~"]
["SA36",2023,{"$error":"#VALUE!"},709,null,null,null,null,null,null,null,null,null,null,null,null,null,null,null,null,null,null,"~"]
["SA36",2023,{"$error":"#VALUE!"},710,null,null,null,null,null,null,null,null,null,null,null,null,null,null,null,null,null,null,"~"]
["SA36",2023,{"$error":"#VALUE!"},711,null,null,null,null,null,null,null,null,null,null,null,null,null,null,null,null,null,null,"~"]
["SA36",2023,{"$error":"#VALUE!"},712,null,null,null,null,null,null,null,null,null,null,null,null,null,null,null,null,null,null,"~"]
["SA36",2023,{"$error":"#VALUE!"},713,null,null,null,null,null,null,null,null,null,null,null,null,null,null,null,null,null,null,"~"]
["SA36",2023,{"$error":"#VALUE!"},714,null,null,null,null,null,null,null,null,null,null,null,null,null,null,null,null,null,null,"~"]
["SA36",2023,{"$error":"#VALUE!"},715,null,null,null,null,null,null,null,null,null,null,null,null,null,null,null,null,null,null,"~"]
["SA36",2023,{"$error":"#VALUE!"},716,null,null,null,null,null,null,null,null,null,null,null,null,null,null,null,null,null,null,"~"]
["SA36",2023,{"$error":"#VALUE!"},717,null,null,null,null,null,null,null,null,null,null,null,null,null,null,null,null,null,null,"~"]
["SA36",2023,{"$error":"#VALUE!"},718,null,null,null,null,null,null,null,null,null,null,null,null,null,null,null,null,null,null,"~"]
["SA36",2023,{"$error":"#VALUE!"},719,null,null,null,null,null,null,null,null,null,null,null,null,null,null,null,null,null,null,"~"]
["SA36",2023,{"$error":"#VALUE!"},720,null,null,null,null,null,null,null,null,null,null,null,null,null,null,null,null,null,null,"~"]
["SA36",2023,{"$error":"#VALUE!"},721,null,null,null,null,null,null,null,null,null,null,null,null,null,null,null,null,null,null,"~"]
["SA36",2023,{"$error":"#VALUE!"},722,null,null,null,null,null,null,null,null,null,null,null,null,null,null,null,null,null,null,"~"]
["SA36",2023,{"$error":"#VALUE!"},723,null,null,null,null,null,null,null,null,null,null,null,null,null,null,null,null,null,null,"~"]
["SA36",2023,{"$error":"#VALUE!"},724,null,null,null,null,null,null,null,null,null,null,null,null,null,null,null,null,null,null,"~"]
["SA36",2023,{"$error":"#VALUE!"},725,null,null,null,null,null,null,null,null,null,null,null,null,null,null,null,null,null,null,"~"]
["SA36",2023,{"$error":"#VALUE!"},726,null,null,null,null,null,null,null,null,null,null,null,null,null,null,null,null,null,null,"~"]
["SA36",2023,{"$error":"#VALUE!"},727,null,null,null,null,null,null,null,null,null,null,null,null,null,null,null,null,null,null,"~"]
["SA36",{"$f":"+MTREF","v":2023},{"$f":"LEFT(muni,(FIND(\" \",muni,1)-1))","v":{"$error":"#VALUE!"}},728,null,null,null,null,null,null,null,null,null,null,null,null,null,null,null,null,null,null,"~"]
["SA36",2023,{"$error":"#VALUE!"},729,null,null,null,null,null,null,null,null,null,null,null,null,null,null,null,null,null,null,"~"]
["SA36",2023,{"$error":"#VALUE!"},730,null,null,null,null,null,null,null,null,null,null,null,null,null,null,null,null,null,null,"~"]
["SA36",2023,{"$error":"#VALUE!"},731,null,null,null,null,null,null,null,null,null,null,null,null,null,null,null,null,null,null,"~"]
["SA36",2023,{"$error":"#VALUE!"},732,null,null,null,null,null,null,null,null,null,null,null,null,null,null,null,null,null,null,"~"]
["SA36",2023,{"$error":"#VALUE!"},733,null,null,null,null,null,null,null,null,null,null,null,null,null,null,null,null,null,null,"~"]
["SA36",2023,{"$error":"#VALUE!"},734,null,null,null,null,null,null,null,null,null,null,null,null,null,null,null,null,null,null,"~"]
["SA36",2023,{"$error":"#VALUE!"},735,null,null,null,null,null,null,null,null,null,null,null,null,null,null,null,null,null,null,"~"]
["SA36",2023,{"$error":"#VALUE!"},736,null,null,null,null,null,null,null,null,null,null,null,null,null,null,null,null,null,null,"~"]
["SA36",2023,{"$error":"#VALUE!"},737,null,null,null,null,null,null,null,null,null,null,null,null,null,null,null,null,null,null,"~"]
["SA36",2023,{"$error":"#VALUE!"},738,null,null,null,null,null,null,null,null,null,null,null,null,null,null,null,null,null,null,"~"]
["SA36",2023,{"$error":"#VALUE!"},739,null,null,null,null,null,null,null,null,null,null,null,null,null,null,null,null,null,null,"~"]
["SA36",2023,{"$error":"#VALUE!"},740,null,null,null,null,null,null,null,null,null,null,null,null,null,null,null,null,null,null,"~"]
["SA36",2023,{"$error":"#VALUE!"},741,null,null,null,null,null,null,null,null,null,null,null,null,null,null,null,null,null,null,"~"]
["SA36",2023,{"$error":"#VALUE!"},742,null,null,null,null,null,null,null,null,null,null,null,null,null,null,null,null,null,null,"~"]
["SA36",2023,{"$error":"#VALUE!"},743,null,null,null,null,null,null,null,null,null,null,null,null,null,null,null,null,null,null,"~"]
["SA36",2023,{"$error":"#VALUE!"},744,null,null,null,null,null,null,null,null,null,null,null,null,null,null,null,null,null,null,"~"]
["SA36",2023,{"$error":"#VALUE!"},745,null,null,null,null,null,null,null,null,null,null,null,null,null,null,null,null,null,null,"~"]
["SA36",2023,{"$error":"#VALUE!"},746,null,null,null,null,null,null,null,null,null,null,null,null,null,null,null,null,null,null,"~"]
["SA36",2023,{"$error":"#VALUE!"},747,null,null,null,null,null,null,null,null,null,null,null,null,null,null,null,null,null,null,"~"]
["SA36",2023,{"$error":"#VALUE!"},748,null,null,null,null,null,null,null,null,null,null,null,null,null,null,null,null,null,null,"~"]
["SA36",2023,{"$error":"#VALUE!"},749,null,null,null,null,null,null,null,null,null,null,null,null,null,null,null,null,null,null,"~"]
["SA36",2023,{"$error":"#VALUE!"},750,null,null,null,null,null,null,null,null,null,null,null,null,null,null,null,null,null,null,"~"]
["SA36",2023,{"$error":"#VALUE!"},751,null,null,null,null,null,null,null,null,null,null,null,null,null,null,null,null,null,null,"~"]
["SA36",2023,{"$error":"#VALUE!"},752,null,null,null,null,null,null,null,null,null,null,null,null,null,null,null,null,null,null,"~"]
["SA36",2023,{"$error":"#VALUE!"},753,null,null,null,null,null,null,null,null,null,null,null,null,null,null,null,null,null,null,"~"]
["SA36",2023,{"$error":"#VALUE!"},754,null,null,null,null,null,null,null,null,null,null,null,null,null,null,null,null,null,null,"~"]
["SA36",2023,{"$error":"#VALUE!"},755,null,null,null,null,null,null,null,null,null,null,null,null,null,null,null,null,null,null,"~"]
["SA36",2023,{"$error":"#VALUE!"},756,null,null,null,null,null,null,null,null,null,null,null,null,null,null,null,null,null,null,"~"]
["SA36",2023,{"$error":"#VALUE!"},757,null,null,null,null,null,null,null,null,null,null,null,null,null,null,null,null,null,null,"~"]
["SA36",2023,{"$error":"#VALUE!"},758,null,null,null,null,null,null,null,null,null,null,null,null,null,null,null,null,null,null,"~"]
["SA36",2023,{"$error":"#VALUE!"},759,null,null,null,null,null,null,null,null,null,null,null,null,null,null,null,null,null,null,"~"]
["SA36",2023,{"$error":"#VALUE!"},760,null,null,null,null,null,null,null,null,null,null,null,null,null,null,null,null,null,null,"~"]
["SA36",2023,{"$error":"#VALUE!"},761,null,null,null,null,null,null,null,null,null,null,null,null,null,null,null,null,null,null,"~"]
["SA36",2023,{"$error":"#VALUE!"},762,null,null,null,null,null,null,null,null,null,null,null,null,null,null,null,null,null,null,"~"]
["SA36",2023,{"$error":"#VALUE!"},763,null,null,null,null,null,null,null,null,null,null,null,null,null,null,null,null,null,null,"~"]
["SA36",2023,{"$error":"#VALUE!"},764,null,null,null,null,null,null,null,null,null,null,null,null,null,null,null,null,null,null,"~"]
["SA36",2023,{"$error":"#VALUE!"},765,null,null,null,null,null,null,null,null,null,null,null,null,null,null,null,null,null,null,"~"]
["SA36",2023,{"$error":"#VALUE!"},766,null,null,null,null,null,null,null,null,null,null,null,null,null,null,null,null,null,null,"~"]
["SA36",2023,{"$error":"#VALUE!"},767,null,null,null,null,null,null,null,null,null,null,null,null,null,null,null,null,null,null,"~"]
["SA36",2023,{"$error":"#VALUE!"},768,null,null,null,null,null,null,null,null,null,null,null,null,null,null,null,null,null,null,"~"]
["SA36",2023,{"$error":"#VALUE!"},769,null,null,null,null,null,null,null,null,null,null,null,null,null,null,null,null,null,null,"~"]
["SA36",2023,{"$error":"#VALUE!"},770,null,null,null,null,null,null,null,null,null,null,null,null,null,null,null,null,null,null,"~"]
["SA36",2023,{"$error":"#VALUE!"},771,null,null,null,null,null,null,null,null,null,null,null,null,null,null,null,null,null,null,"~"]
["SA36",2023,{"$error":"#VALUE!"},772,null,null,null,null,null,null,null,null,null,null,null,null,null,null,null,null,null,null,"~"]
["SA36",2023,{"$error":"#VALUE!"},773,null,null,null,null,null,null,null,null,null,null,null,null,null,null,null,null,null,null,"~"]
["SA36",2023,{"$error":"#VALUE!"},774,null,null,null,null,null,null,null,null,null,null,null,null,null,null,null,null,null,null,"~"]
["SA36",2023,{"$error":"#VALUE!"},775,null,null,null,null,null,null,null,null,null,null,null,null,null,null,null,null,null,null,"~"]
["SA36",2023,{"$error":"#VALUE!"},776,null,null,null,null,null,null,null,null,null,null,null,null,null,null,null,null,null,null,"~"]
["SA36",2023,{"$error":"#VALUE!"},777,null,null,null,null,null,null,null,null,null,null,null,null,null,null,null,null,null,null,"~"]
["SA36",2023,{"$error":"#VALUE!"},778,null,null,null,null,null,null,null,null,null,null,null,null,null,null,null,null,null,null,"~"]
["SA36",2023,{"$error":"#VALUE!"},779,null,null,null,null,null,null,null,null,null,null,null,null,null,null,null,null,null,null,"~"]
["SA36",2023,{"$error":"#VALUE!"},780,null,null,null,null,null,null,null,null,null,null,null,null,null,null,null,null,null,null,"~"]
["SA36",2023,{"$error":"#VALUE!"},781,null,null,null,null,null,null,null,null,null,null,null,null,null,null,null,null,null,null,"~"]
["SA36",2023,{"$error":"#VALUE!"},782,null,null,null,null,null,null,null,null,null,null,null,null,null,null,null,null,null,null,"~"]
["SA36",2023,{"$error":"#VALUE!"},783,null,null,null,null,null,null,null,null,null,null,null,null,null,null,null,null,null,null,"~"]
["SA36",2023,{"$error":"#VALUE!"},784,null,null,null,null,null,null,null,null,null,null,null,null,null,null,null,null,null,null,"~"]
["SA36",2023,{"$error":"#VALUE!"},785,null,null,null,null,null,null,null,null,null,null,null,null,null,null,null,null,null,null,"~"]
["SA36",2023,{"$error":"#VALUE!"},786,null,null,null,null,null,null,null,null,null,null,null,null,null,null,null,null,null,null,"~"]
["SA36",2023,{"$error":"#VALUE!"},787,null,null,null,null,null,null,null,null,null,null,null,null,null,null,null,null,null,null,"~"]
["SA36",2023,{"$error":"#VALUE!"},788,null,null,null,null,null,null,null,null,null,null,null,null,null,null,null,null,null,null,"~"]
["SA36",2023,{"$error":"#VALUE!"},789,null,null,null,null,null,null,null,null,null,null,null,null,null,null,null,null,null,null,"~"]
["SA36",2023,{"$error":"#VALUE!"},790,null,null,null,null,null,null,null,null,null,null,null,null,null,null,null,null,null,null,"~"]
["SA36",2023,{"$error":"#VALUE!"},791,null,null,null,null,null,null,null,null,null,null,null,null,null,null,null,null,null,null,"~"]
["SA36",{"$f":"+MTREF","v":2023},{"$f":"LEFT(muni,(FIND(\" \",muni,1)-1))","v":{"$error":"#VALUE!"}},792,null,null,null,null,null,null,null,null,null,null,null,null,null,null,null,null,null,null,"~"]
["SA36",2023,{"$error":"#VALUE!"},793,null,null,null,null,null,null,null,null,null,null,null,null,null,null,null,null,null,null,"~"]
["SA36",2023,{"$error":"#VALUE!"},794,null,null,null,null,null,null,null,null,null,null,null,null,null,null,null,null,null,null,"~"]
["SA36",2023,{"$error":"#VALUE!"},795,null,null,null,null,null,null,null,null,null,null,null,null,null,null,null,null,null,null,"~"]
["SA36",2023,{"$error":"#VALUE!"},796,null,null,null,null,null,null,null,null,null,null,null,null,null,null,null,null,null,null,"~"]
["SA36",2023,{"$error":"#VALUE!"},797,null,null,null,null,null,null,null,null,null,null,null,null,null,null,null,null,null,null,"~"]
["SA36",2023,{"$error":"#VALUE!"},798,null,null,null,null,null,null,null,null,null,null,null,null,null,null,null,null,null,null,"~"]
["SA36",2023,{"$error":"#VALUE!"},799,null,null,null,null,null,null,null,null,null,null,null,null,null,null,null,null,null,null,"~"]
["SA36",2023,{"$error":"#VALUE!"},800,null,null,null,null,null,null,null,null,null,null,null,null,null,null,null,null,null,null,"~"]
["SA36",2023,{"$error":"#VALUE!"},801,null,null,null,null,null,null,null,null,null,null,null,null,null,null,null,null,null,null,"~"]
["SA36",2023,{"$error":"#VALUE!"},802,null,null,null,null,null,null,null,null,null,null,null,null,null,null,null,null,null,null,"~"]
["SA36",2023,{"$error":"#VALUE!"},803,null,null,null,null,null,null,null,null,null,null,null,null,null,null,null,null,null,null,"~"]
["SA36",2023,{"$error":"#VALUE!"},804,null,null,null,null,null,null,null,null,null,null,null,null,null,null,null,null,null,null,"~"]
["SA36",2023,{"$error":"#VALUE!"},805,null,null,null,null,null,null,null,null,null,null,null,null,null,null,null,null,null,null,"~"]
["SA36",2023,{"$error":"#VALUE!"},806,null,null,null,null,null,null,null,null,null,null,null,null,null,null,null,null,null,null,"~"]
["SA36",2023,{"$error":"#VALUE!"},807,null,null,null,null,null,null,null,null,null,null,null,null,null,null,null,null,null,null,"~"]
["SA36",2023,{"$error":"#VALUE!"},808,null,null,null,null,null,null,null,null,null,null,null,null,null,null,null,null,null,null,"~"]
["SA36",2023,{"$error":"#VALUE!"},809,null,null,null,null,null,null,null,null,null,null,null,null,null,null,null,null,null,null,"~"]
["SA36",2023,{"$error":"#VALUE!"},810,null,null,null,null,null,null,null,null,null,null,null,null,null,null,null,null,null,null,"~"]
["SA36",2023,{"$error":"#VALUE!"},811,null,null,null,null,null,null,null,null,null,null,null,null,null,null,null,null,null,null,"~"]
["SA36",2023,{"$error":"#VALUE!"},812,null,null,null,null,null,null,null,null,null,null,null,null,null,null,null,null,null,null,"~"]
["SA36",2023,{"$error":"#VALUE!"},813,null,null,null,null,null,null,null,null,null,null,null,null,null,null,null,null,null,null,"~"]
["SA36",2023,{"$error":"#VALUE!"},814,null,null,null,null,null,null,null,null,null,null,null,null,null,null,null,null,null,null,"~"]
["SA36",2023,{"$error":"#VALUE!"},815,null,null,null,null,null,null,null,null,null,null,null,null,null,null,null,null,null,null,"~"]
["SA36",2023,{"$error":"#VALUE!"},816,null,null,null,null,null,null,null,null,null,null,null,null,null,null,null,null,null,null,"~"]
["SA36",2023,{"$error":"#VALUE!"},817,null,null,null,null,null,null,null,null,null,null,null,null,null,null,null,null,null,null,"~"]
["SA36",2023,{"$error":"#VALUE!"},818,null,null,null,null,null,null,null,null,null,null,null,null,null,null,null,null,null,null,"~"]
["SA36",2023,{"$error":"#VALUE!"},819,null,null,null,null,null,null,null,null,null,null,null,null,null,null,null,null,null,null,"~"]
["SA36",2023,{"$error":"#VALUE!"},820,null,null,null,null,null,null,null,null,null,null,null,null,null,null,null,null,null,null,"~"]
["SA36",2023,{"$error":"#VALUE!"},821,null,null,null,null,null,null,null,null,null,null,null,null,null,null,null,null,null,null,"~"]
["SA36",2023,{"$error":"#VALUE!"},822,null,null,null,null,null,null,null,null,null,null,null,null,null,null,null,null,null,null,"~"]
["SA36",2023,{"$error":"#VALUE!"},823,null,null,null,null,null,null,null,null,null,null,null,null,null,null,null,null,null,null,"~"]
["SA36",2023,{"$error":"#VALUE!"},824,null,null,null,null,null,null,null,null,null,null,null,null,null,null,null,null,null,null,"~"]
["SA36",2023,{"$error":"#VALUE!"},825,null,null,null,null,null,null,null,null,null,null,null,null,null,null,null,null,null,null,"~"]
["SA36",2023,{"$error":"#VALUE!"},826,null,null,null,null,null,null,null,null,null,null,null,null,null,null,null,null,null,null,"~"]
["SA36",2023,{"$error":"#VALUE!"},827,null,null,null,null,null,null,null,null,null,null,null,null,null,null,null,null,null,null,"~"]
["SA36",2023,{"$error":"#VALUE!"},828,null,null,null,null,null,null,null,null,null,null,null,null,null,null,null,null,null,null,"~"]
["SA36",2023,{"$error":"#VALUE!"},829,null,null,null,null,null,null,null,null,null,null,null,null,null,null,null,null,null,null,"~"]
["SA36",2023,{"$error":"#VALUE!"},830,null,null,null,null,null,null,null,null,null,null,null,null,null,null,null,null,null,null,"~"]
["SA36",2023,{"$error":"#VALUE!"},831,null,null,null,null,null,null,null,null,null,null,null,null,null,null,null,null,null,null,"~"]
["SA36",2023,{"$error":"#VALUE!"},832,null,null,null,null,null,null,null,null,null,null,null,null,null,null,null,null,null,null,"~"]
["SA36",2023,{"$error":"#VALUE!"},833,null,null,null,null,null,null,null,null,null,null,null,null,null,null,null,null,null,null,"~"]
["SA36",2023,{"$error":"#VALUE!"},834,null,null,null,null,null,null,null,null,null,null,null,null,null,null,null,null,null,null,"~"]
["SA36",2023,{"$error":"#VALUE!"},835,null,null,null,null,null,null,null,null,null,null,null,null,null,null,null,null,null,null,"~"]
["SA36",2023,{"$error":"#VALUE!"},836,null,null,null,null,null,null,null,null,null,null,null,null,null,null,null,null,null,null,"~"]
["SA36",2023,{"$error":"#VALUE!"},837,null,null,null,null,null,null,null,null,null,null,null,null,null,null,null,null,null,null,"~"]
["SA36",2023,{"$error":"#VALUE!"},838,null,null,null,null,null,null,null,null,null,null,null,null,null,null,null,null,null,null,"~"]
["SA36",2023,{"$error":"#VALUE!"},839,null,null,null,null,null,null,null,null,null,null,null,null,null,null,null,null,null,null,"~"]
["SA36",2023,{"$error":"#VALUE!"},840,null,null,null,null,null,null,null,null,null,null,null,null,null,null,null,null,null,null,"~"]
["SA36",2023,{"$error":"#VALUE!"},841,null,null,null,null,null,null,null,null,null,null,null,null,null,null,null,null,null,null,"~"]
["SA36",2023,{"$error":"#VALUE!"},842,null,null,null,null,null,null,null,null,null,null,null,null,null,null,null,null,null,null,"~"]
["SA36",2023,{"$error":"#VALUE!"},843,null,null,null,null,null,null,null,null,null,null,null,null,null,null,null,null,null,null,"~"]
["SA36",2023,{"$error":"#VALUE!"},844,null,null,null,null,null,null,null,null,null,null,null,null,null,null,null,null,null,null,"~"]
["SA36",2023,{"$error":"#VALUE!"},845,null,null,null,null,null,null,null,null,null,null,null,null,null,null,null,null,null,null,"~"]
["SA36",2023,{"$error":"#VALUE!"},846,null,null,null,null,null,null,null,null,null,null,null,null,null,null,null,null,null,null,"~"]
["SA36",2023,{"$error":"#VALUE!"},847,null,null,null,null,null,null,null,null,null,null,null,null,null,null,null,null,null,null,"~"]
["SA36",2023,{"$error":"#VALUE!"},848,null,null,null,null,null,null,null,null,null,null,null,null,null,null,null,null,null,null,"~"]
["SA36",2023,{"$error":"#VALUE!"},849,null,null,null,null,null,null,null,null,null,null,null,null,null,null,null,null,null,null,"~"]
["SA36",2023,{"$error":"#VALUE!"},850,null,null,null,null,null,null,null,null,null,null,null,null,null,null,null,null,null,null,"~"]
["SA36",2023,{"$error":"#VALUE!"},851,null,null,null,null,null,null,null,null,null,null,null,null,null,null,null,null,null,null,"~"]
["SA36",2023,{"$error":"#VALUE!"},852,null,null,null,null,null,null,null,null,null,null,null,null,null,null,null,null,null,null,"~"]
["SA36",2023,{"$error":"#VALUE!"},853,null,null,null,null,null,null,null,null,null,null,null,null,null,null,null,null,null,null,"~"]
["SA36",2023,{"$error":"#VALUE!"},854,null,null,null,null,null,null,null,null,null,null,null,null,null,null,null,null,null,null,"~"]
["SA36",2023,{"$error":"#VALUE!"},855,null,null,null,null,null,null,null,null,null,null,null,null,null,null,null,null,null,null,"~"]
["SA36",{"$f":"+MTREF","v":2023},{"$f":"LEFT(muni,(FIND(\" \",muni,1)-1))","v":{"$error":"#VALUE!"}},856,null,null,null,null,null,null,null,null,null,null,null,null,null,null,null,null,null,null,"~"]
["SA36",2023,{"$error":"#VALUE!"},857,null,null,null,null,null,null,null,null,null,null,null,null,null,null,null,null,null,null,"~"]
["SA36",2023,{"$error":"#VALUE!"},858,null,null,null,null,null,null,null,null,null,null,null,null,null,null,null,null,null,null,"~"]
["SA36",2023,{"$error":"#VALUE!"},859,null,null,null,null,null,null,null,null,null,null,null,null,null,null,null,null,null,null,"~"]
["SA36",2023,{"$error":"#VALUE!"},860,null,null,null,null,null,null,null,null,null,null,null,null,null,null,null,null,null,null,"~"]
["SA36",2023,{"$error":"#VALUE!"},861,null,null,null,null,null,null,null,null,null,null,null,null,null,null,null,null,null,null,"~"]
["SA36",2023,{"$error":"#VALUE!"},862,null,null,null,null,null,null,null,null,null,null,null,null,null,null,null,null,null,null,"~"]
["SA36",2023,{"$error":"#VALUE!"},863,null,null,null,null,null,null,null,null,null,null,null,null,null,null,null,null,null,null,"~"]
["SA36",2023,{"$error":"#VALUE!"},864,null,null,null,null,null,null,null,null,null,null,null,null,null,null,null,null,null,null,"~"]
["SA36",2023,{"$error":"#VALUE!"},865,null,null,null,null,null,null,null,null,null,null,null,null,null,null,null,null,null,null,"~"]
["SA36",2023,{"$error":"#VALUE!"},866,null,null,null,null,null,null,null,null,null,null,null,null,null,null,null,null,null,null,"~"]
["SA36",2023,{"$error":"#VALUE!"},867,null,null,null,null,null,null,null,null,null,null,null,null,null,null,null,null,null,null,"~"]
["SA36",2023,{"$error":"#VALUE!"},868,null,null,null,null,null,null,null,null,null,null,null,null,null,null,null,null,null,null,"~"]
["SA36",2023,{"$error":"#VALUE!"},869,null,null,null,null,null,null,null,null,null,null,null,null,null,null,null,null,null,null,"~"]
["SA36",2023,{"$error":"#VALUE!"},870,null,null,null,null,null,null,null,null,null,null,null,null,null,null,null,null,null,null,"~"]
["SA36",2023,{"$error":"#VALUE!"},871,null,null,null,null,null,null,null,null,null,null,null,null,null,null,null,null,null,null,"~"]
["SA36",2023,{"$error":"#VALUE!"},872,null,null,null,null,null,null,null,null,null,null,null,null,null,null,null,null,null,null,"~"]
["SA36",2023,{"$error":"#VALUE!"},873,null,null,null,null,null,null,null,null,null,null,null,null,null,null,null,null,null,null,"~"]
["SA36",2023,{"$error":"#VALUE!"},874,null,null,null,null,null,null,null,null,null,null,null,null,null,null,null,null,null,null,"~"]
["SA36",2023,{"$error":"#VALUE!"},875,null,null,null,null,null,null,null,null,null,null,null,null,null,null,null,null,null,null,"~"]
["SA36",2023,{"$error":"#VALUE!"},876,null,null,null,null,null,null,null,null,null,null,null,null,null,null,null,null,null,null,"~"]
["SA36",2023,{"$error":"#VALUE!"},877,null,null,null,null,null,null,null,null,null,null,null,null,null,null,null,null,null,null,"~"]
["SA36",2023,{"$error":"#VALUE!"},878,null,null,null,null,null,null,null,null,null,null,null,null,null,null,null,null,null,null,"~"]
["SA36",2023,{"$error":"#VALUE!"},879,null,null,null,null,null,null,null,null,null,null,null,null,null,null,null,null,null,null,"~"]
["SA36",2023,{"$error":"#VALUE!"},880,null,null,null,null,null,null,null,null,null,null,null,null,null,null,null,null,null,null,"~"]
["SA36",2023,{"$error":"#VALUE!"},881,null,null,null,null,null,null,null,null,null,null,null,null,null,null,null,null,null,null,"~"]
["SA36",2023,{"$error":"#VALUE!"},882,null,null,null,null,null,null,null,null,null,null,null,null,null,null,null,null,null,null,"~"]
["SA36",2023,{"$error":"#VALUE!"},883,null,null,null,null,null,null,null,null,null,null,null,null,null,null,null,null,null,null,"~"]
["SA36",2023,{"$error":"#VALUE!"},884,null,null,null,null,null,null,null,null,null,null,null,null,null,null,null,null,null,null,"~"]
["SA36",2023,{"$error":"#VALUE!"},885,null,null,null,null,null,null,null,null,null,null,null,null,null,null,null,null,null,null,"~"]
["SA36",2023,{"$error":"#VALUE!"},886,null,null,null,null,null,null,null,null,null,null,null,null,null,null,null,null,null,null,"~"]
["SA36",2023,{"$error":"#VALUE!"},887,null,null,null,null,null,null,null,null,null,null,null,null,null,null,null,null,null,null,"~"]
["SA36",2023,{"$error":"#VALUE!"},888,null,null,null,null,null,null,null,null,null,null,null,null,null,null,null,null,null,null,"~"]
["SA36",2023,{"$error":"#VALUE!"},889,null,null,null,null,null,null,null,null,null,null,null,null,null,null,null,null,null,null,"~"]
["SA36",2023,{"$error":"#VALUE!"},890,null,null,null,null,null,null,null,null,null,null,null,null,null,null,null,null,null,null,"~"]
["SA36",2023,{"$error":"#VALUE!"},891,null,null,null,null,null,null,null,null,null,null,null,null,null,null,null,null,null,null,"~"]
["SA36",2023,{"$error":"#VALUE!"},892,null,null,null,null,null,null,null,null,null,null,null,null,null,null,null,null,null,null,"~"]
["SA36",2023,{"$error":"#VALUE!"},893,null,null,null,null,null,null,null,null,null,null,null,null,null,null,null,null,null,null,"~"]
["SA36",2023,{"$error":"#VALUE!"},894,null,null,null,null,null,null,null,null,null,null,null,null,null,null,null,null,null,null,"~"]
["SA36",2023,{"$error":"#VALUE!"},895,null,null,null,null,null,null,null,null,null,null,null,null,null,null,null,null,null,null,"~"]
["SA36",2023,{"$error":"#VALUE!"},896,null,null,null,null,null,null,null,null,null,null,null,null,null,null,null,null,null,null,"~"]
["SA36",2023,{"$error":"#VALUE!"},897,null,null,null,null,null,null,null,null,null,null,null,null,null,null,null,null,null,null,"~"]
["SA36",2023,{"$error":"#VALUE!"},898,null,null,null,null,null,null,null,null,null,null,null,null,null,null,null,null,null,null,"~"]
["SA36",2023,{"$error":"#VALUE!"},899,null,null,null,null,null,null,null,null,null,null,null,null,null,null,null,null,null,null,"~"]
["SA36",2023,{"$error":"#VALUE!"},900,null,null,null,null,null,null,null,null,null,null,null,null,null,null,null,null,null,null,"~"]
["SA36",2023,{"$error":"#VALUE!"},901,null,null,null,null,null,null,null,null,null,null,null,null,null,null,null,null,null,null,"~"]
["SA36",2023,{"$error":"#VALUE!"},902,null,null,null,null,null,null,null,null,null,null,null,null,null,null,null,null,null,null,"~"]
["SA36",2023,{"$error":"#VALUE!"},903,null,null,null,null,null,null,null,null,null,null,null,null,null,null,null,null,null,null,"~"]
["SA36",2023,{"$error":"#VALUE!"},904,null,null,null,null,null,null,null,null,null,null,null,null,null,null,null,null,null,null,"~"]
["SA36",2023,{"$error":"#VALUE!"},905,null,null,null,null,null,null,null,null,null,null,null,null,null,null,null,null,null,null,"~"]
["SA36",2023,{"$error":"#VALUE!"},906,null,null,null,null,null,null,null,null,null,null,null,null,null,null,null,null,null,null,"~"]
["SA36",2023,{"$error":"#VALUE!"},907,null,null,null,null,null,null,null,null,null,null,null,null,null,null,null,null,null,null,"~"]
["SA36",2023,{"$error":"#VALUE!"},908,null,null,null,null,null,null,null,null,null,null,null,null,null,null,null,null,null,null,"~"]
["SA36",2023,{"$error":"#VALUE!"},909,null,null,null,null,null,null,null,null,null,null,null,null,null,null,null,null,null,null,"~"]
["SA36",2023,{"$error":"#VALUE!"},910,null,null,null,null,null,null,null,null,null,null,null,null,null,null,null,null,null,null,"~"]
["SA36",2023,{"$error":"#VALUE!"},911,null,null,null,null,null,null,null,null,null,null,null,null,null,null,null,null,null,null,"~"]
["SA36",2023,{"$error":"#VALUE!"},912,null,null,null,null,null,null,null,null,null,null,null,null,null,null,null,null,null,null,"~"]
["SA36",2023,{"$error":"#VALUE!"},913,null,null,null,null,null,null,null,null,null,null,null,null,null,null,null,null,null,null,"~"]
["SA36",2023,{"$error":"#VALUE!"},914,null,null,null,null,null,null,null,null,null,null,null,null,null,null,null,null,null,null,"~"]
["SA36",2023,{"$error":"#VALUE!"},915,null,null,null,null,null,null,null,null,null,null,null,null,null,null,null,null,null,null,"~"]
["SA36",2023,{"$error":"#VALUE!"},916,null,null,null,null,null,null,null,null,null,null,null,null,null,null,null,null,null,null,"~"]
["SA36",2023,{"$error":"#VALUE!"},917,null,null,null,null,null,null,null,null,null,null,null,null,null,null,null,null,null,null,"~"]
["SA36",2023,{"$error":"#VALUE!"},918,null,null,null,null,null,null,null,null,null,null,null,null,null,null,null,null,null,null,"~"]
["SA36",2023,{"$error":"#VALUE!"},919,null,null,null,null,null,null,null,null,null,null,null,null,null,null,null,null,null,null,"~"]
["SA36",{"$f":"+MTREF","v":2023},{"$f":"LEFT(muni,(FIND(\" \",muni,1)-1))","v":{"$error":"#VALUE!"}},920,null,null,null,null,null,null,null,null,null,null,null,null,null,null,null,null,null,null,"~"]
["SA36",2023,{"$error":"#VALUE!"},921,null,null,null,null,null,null,null,null,null,null,null,null,null,null,null,null,null,null,"~"]
["SA36",2023,{"$error":"#VALUE!"},922,null,null,null,null,null,null,null,null,null,null,null,null,null,null,null,null,null,null,"~"]
["SA36",2023,{"$error":"#VALUE!"},923,null,null,null,null,null,null,null,null,null,null,null,null,null,null,null,null,null,null,"~"]
["SA36",2023,{"$error":"#VALUE!"},924,null,null,null,null,null,null,null,null,null,null,null,null,null,null,null,null,null,null,"~"]
["SA36",2023,{"$error":"#VALUE!"},925,null,null,null,null,null,null,null,null,null,null,null,null,null,null,null,null,null,null,"~"]
["SA36",2023,{"$error":"#VALUE!"},926,null,null,null,null,null,null,null,null,null,null,null,null,null,null,null,null,null,null,"~"]
["SA36",2023,{"$error":"#VALUE!"},927,null,null,null,null,null,null,null,null,null,null,null,null,null,null,null,null,null,null,"~"]
["SA36",2023,{"$error":"#VALUE!"},928,null,null,null,null,null,null,null,null,null,null,null,null,null,null,null,null,null,null,"~"]
["SA36",2023,{"$error":"#VALUE!"},929,null,null,null,null,null,null,null,null,null,null,null,null,null,null,null,null,null,null,"~"]
["SA36",2023,{"$error":"#VALUE!"},930,null,null,null,null,null,null,null,null,null,null,null,null,null,null,null,null,null,null,"~"]
["SA36",2023,{"$error":"#VALUE!"},931,null,null,null,null,null,null,null,null,null,null,null,null,null,null,null,null,null,null,"~"]
["SA36",2023,{"$error":"#VALUE!"},932,null,null,null,null,null,null,null,null,null,null,null,null,null,null,null,null,null,null,"~"]
["SA36",2023,{"$error":"#VALUE!"},933,null,null,null,null,null,null,null,null,null,null,null,null,null,null,null,null,null,null,"~"]
["SA36",2023,{"$error":"#VALUE!"},934,null,null,null,null,null,null,null,null,null,null,null,null,null,null,null,null,null,null,"~"]
["SA36",2023,{"$error":"#VALUE!"},935,null,null,null,null,null,null,null,null,null,null,null,null,null,null,null,null,null,null,"~"]
["SA36",2023,{"$error":"#VALUE!"},936,null,null,null,null,null,null,null,null,null,null,null,null,null,null,null,null,null,null,"~"]
["SA36",2023,{"$error":"#VALUE!"},937,null,null,null,null,null,null,null,null,null,null,null,null,null,null,null,null,null,null,"~"]
["SA36",2023,{"$error":"#VALUE!"},938,null,null,null,null,null,null,null,null,null,null,null,null,null,null,null,null,null,null,"~"]
["SA36",2023,{"$error":"#VALUE!"},939,null,null,null,null,null,null,null,null,null,null,null,null,null,null,null,null,null,null,"~"]
["SA36",2023,{"$error":"#VALUE!"},940,null,null,null,null,null,null,null,null,null,null,null,null,null,null,null,null,null,null,"~"]
["SA36",2023,{"$error":"#VALUE!"},941,null,null,null,null,null,null,null,null,null,null,null,null,null,null,null,null,null,null,"~"]
["SA36",2023,{"$error":"#VALUE!"},942,null,null,null,null,null,null,null,null,null,null,null,null,null,null,null,null,null,null,"~"]
["SA36",2023,{"$error":"#VALUE!"},943,null,null,null,null,null,null,null,null,null,null,null,null,null,null,null,null,null,null,"~"]
["SA36",2023,{"$error":"#VALUE!"},944,null,null,null,null,null,null,null,null,null,null,null,null,null,null,null,null,null,null,"~"]
["SA36",2023,{"$error":"#VALUE!"},945,null,null,null,null,null,null,null,null,null,null,null,null,null,null,null,null,null,null,"~"]
["SA36",2023,{"$error":"#VALUE!"},946,null,null,null,null,null,null,null,null,null,null,null,null,null,null,null,null,null,null,"~"]
["SA36",2023,{"$error":"#VALUE!"},947,null,null,null,null,null,null,null,null,null,null,null,null,null,null,null,null,null,null,"~"]
["SA36",2023,{"$error":"#VALUE!"},948,null,null,null,null,null,null,null,null,null,null,null,null,null,null,null,null,null,null,"~"]
["SA36",2023,{"$error":"#VALUE!"},949,null,null,null,null,null,null,null,null,null,null,null,null,null,null,null,null,null,null,"~"]
["SA36",2023,{"$error":"#VALUE!"},950,null,null,null,null,null,null,null,null,null,null,null,null,null,null,null,null,null,null,"~"]
["SA36",2023,{"$error":"#VALUE!"},951,null,null,null,null,null,null,null,null,null,null,null,null,null,null,null,null,null,null,"~"]
["SA36",2023,{"$error":"#VALUE!"},952,null,null,null,null,null,null,null,null,null,null,null,null,null,null,null,null,null,null,"~"]
["SA36",2023,{"$error":"#VALUE!"},953,null,null,null,null,null,null,null,null,null,null,null,null,null,null,null,null,null,null,"~"]
["SA36",2023,{"$error":"#VALUE!"},954,null,null,null,null,null,null,null,null,null,null,null,null,null,null,null,null,null,null,"~"]
["SA36",2023,{"$error":"#VALUE!"},955,null,null,null,null,null,null,null,null,null,null,null,null,null,null,null,null,null,null,"~"]
["SA36",2023,{"$error":"#VALUE!"},956,null,null,null,null,null,null,null,null,null,null,null,null,null,null,null,null,null,null,"~"]
["SA36",2023,{"$error":"#VALUE!"},957,null,null,null,null,null,null,null,null,null,null,null,null,null,null,null,null,null,null,"~"]
["SA36",2023,{"$error":"#VALUE!"},958,null,null,null,null,null,null,null,null,null,null,null,null,null,null,null,null,null,null,"~"]
["SA36",2023,{"$error":"#VALUE!"},959,null,null,null,null,null,null,null,null,null,null,null,null,null,null,null,null,null,null,"~"]
["SA36",2023,{"$error":"#VALUE!"},960,null,null,null,null,null,null,null,null,null,null,null,null,null,null,null,null,null,null,"~"]
["SA36",2023,{"$error":"#VALUE!"},961,null,null,null,null,null,null,null,null,null,null,null,null,null,null,null,null,null,null,"~"]
["SA36",2023,{"$error":"#VALUE!"},962,null,null,null,null,null,null,null,null,null,null,null,null,null,null,null,null,null,null,"~"]
["SA36",2023,{"$error":"#VALUE!"},963,null,null,null,null,null,null,null,null,null,null,null,null,null,null,null,null,null,null,"~"]
["SA36",2023,{"$error":"#VALUE!"},964,null,null,null,null,null,null,null,null,null,null,null,null,null,null,null,null,null,null,"~"]
["SA36",2023,{"$error":"#VALUE!"},965,null,null,null,null,null,null,null,null,null,null,null,null,null,null,null,null,null,null,"~"]
["SA36",2023,{"$error":"#VALUE!"},966,null,null,null,null,null,null,null,null,null,null,null,null,null,null,null,null,null,null,"~"]
["SA36",2023,{"$error":"#VALUE!"},967,null,null,null,null,null,null,null,null,null,null,null,null,null,null,null,null,null,null,"~"]
["SA36",2023,{"$error":"#VALUE!"},968,null,null,null,null,null,null,null,null,null,null,null,null,null,null,null,null,null,null,"~"]
["SA36",2023,{"$error":"#VALUE!"},969,null,null,null,null,null,null,null,null,null,null,null,null,null,null,null,null,null,null,"~"]
["SA36",2023,{"$error":"#VALUE!"},970,null,null,null,null,null,null,null,null,null,null,null,null,null,null,null,null,null,null,"~"]
["SA36",2023,{"$error":"#VALUE!"},971,null,null,null,null,null,null,null,null,null,null,null,null,null,null,null,null,null,null,"~"]
["SA36",2023,{"$error":"#VALUE!"},972,null,null,null,null,null,null,null,null,null,null,null,null,null,null,null,null,null,null,"~"]
["SA36",2023,{"$error":"#VALUE!"},973,null,null,null,null,null,null,null,null,null,null,null,null,null,null,null,null,null,null,"~"]
["SA36",2023,{"$error":"#VALUE!"},974,null,null,null,null,null,null,null,null,null,null,null,null,null,null,null,null,null,null,"~"]
["SA36",2023,{"$error":"#VALUE!"},975,null,null,null,null,null,null,null,null,null,null,null,null,null,null,null,null,null,null,"~"]
["SA36",2023,{"$error":"#VALUE!"},976,null,null,null,null,null,null,null,null,null,null,null,null,null,null,null,null,null,null,"~"]
["SA36",2023,{"$error":"#VALUE!"},977,null,null,null,null,null,null,null,null,null,null,null,null,null,null,null,null,null,null,"~"]
["SA36",2023,{"$error":"#VALUE!"},978,null,null,null,null,null,null,null,null,null,null,null,null,null,null,null,null,null,null,"~"]
["SA36",2023,{"$error":"#VALUE!"},979,null,null,null,null,null,null,null,null,null,null,null,null,null,null,null,null,null,null,"~"]
["SA36",2023,{"$error":"#VALUE!"},980,null,null,null,null,null,null,null,null,null,null,null,null,null,null,null,null,null,null,"~"]
["SA36",2023,{"$error":"#VALUE!"},981,null,null,null,null,null,null,null,null,null,null,null,null,null,null,null,null,null,null,"~"]
["SA36",2023,{"$error":"#VALUE!"},982,null,null,null,null,null,null,null,null,null,null,null,null,null,null,null,null,null,null,"~"]
["SA36",2023,{"$error":"#VALUE!"},983,null,null,null,null,null,null,null,null,null,null,null,null,null,null,null,null,null,null,"~"]
["SA36",{"$f":"+MTREF","v":2023},{"$f":"LEFT(muni,(FIND(\" \",muni,1)-1))","v":{"$error":"#VALUE!"}},984,null,null,null,null,null,null,null,null,null,null,null,null,null,null,null,null,null,null,"~"]
["SA36",2023,{"$error":"#VALUE!"},985,null,null,null,null,null,null,null,null,null,null,null,null,null,null,null,null,null,null,"~"]
["SA36",2023,{"$error":"#VALUE!"},986,null,null,null,null,null,null,null,null,null,null,null,null,null,null,null,null,null,null,"~"]
["SA36",2023,{"$error":"#VALUE!"},987,null,null,null,null,null,null,null,null,null,null,null,null,null,null,null,null,null,null,"~"]
["SA36",2023,{"$error":"#VALUE!"},988,null,null,null,null,null,null,null,null,null,null,null,null,null,null,null,null,null,null,"~"]
["SA36",2023,{"$error":"#VALUE!"},989,null,null,null,null,null,null,null,null,null,null,null,null,null,null,null,null,null,null,"~"]
["SA36",2023,{"$error":"#VALUE!"},990,null,null,null,null,null,null,null,null,null,null,null,null,null,null,null,null,null,null,"~"]
["SA36",2023,{"$error":"#VALUE!"},991,null,null,null,null,null,null,null,null,null,null,null,null,null,null,null,null,null,null,"~"]
["SA36",2023,{"$error":"#VALUE!"},992,null,null,null,null,null,null,null,null,null,null,null,null,null,null,null,null,null,null,"~"]
["SA36",2023,{"$error":"#VALUE!"},993,null,null,null,null,null,null,null,null,null,null,null,null,null,null,null,null,null,null,"~"]
["SA36",2023,{"$error":"#VALUE!"},994,null,null,null,null,null,null,null,null,null,null,null,null,null,null,null,null,null,null,"~"]
["SA36",2023,{"$error":"#VALUE!"},995,null,null,null,null,null,null,null,null,null,null,null,null,null,null,null,null,null,null,"~"]
["SA36",2023,{"$error":"#VALUE!"},996,null,null,null,null,null,null,null,null,null,null,null,null,null,null,null,null,null,null,"~"]
["SA36",2023,{"$error":"#VALUE!"},997,null,null,null,null,null,null,null,null,null,null,null,null,null,null,null,null,null,null,"~"]
["SA36",2023,{"$error":"#VALUE!"},998,null,null,null,null,null,null,null,null,null,null,null,null,null,null,null,null,null,null,"~"]
["SA36",2023,{"$error":"#VALUE!"},999,null,null,null,null,null,null,null,null,null,null,null,null,null,null,null,null,null,null,"~"]
["SA36",2023,{"$error":"#VALUE!"},1000,null,null,null,null,null,null,null,null,null,null,null,null,null,null,null,null,null,null,"~"]
["SA37",2023,{"$error":"#VALUE!"},1,null,null,null,null,null,null,null,null,null,null,null,null,null,null,null,null,null,null,"~"]
["SA37",2023,{"$error":"#VALUE!"},2,null,null,null,null,null,null,null,null,null,null,null,null,null,null,null,null,null,null,"~"]
["SA37",2023,{"$error":"#VALUE!"},3,null,null,null,null,null,null,null,null,null,null,null,null,null,null,null,null,null,null,"~"]
["SA37",2023,{"$error":"#VALUE!"},4,null,null,null,null,null,null,null,null,null,null,null,null,null,null,null,null,null,null,"~"]
["SA37",2023,{"$error":"#VALUE!"},5,null,null,null,null,null,null,null,null,null,null,null,null,null,null,null,null,null,null,"~"]
["SA37",2023,{"$error":"#VALUE!"},6,null,null,null,null,null,null,null,null,null,null,null,null,null,null,null,null,null,null,"~"]
["SA37",2023,{"$error":"#VALUE!"},7,null,null,null,null,null,null,null,null,null,null,null,null,null,null,null,null,null,null,"~"]
["SA37",2023,{"$error":"#VALUE!"},8,null,null,null,null,null,null,null,null,null,null,null,null,null,null,null,null,null,null,"~"]
["SA37",2023,{"$error":"#VALUE!"},9,null,null,null,null,null,null,null,null,null,null,null,null,null,null,null,null,null,null,"~"]
["SA37",2023,{"$error":"#VALUE!"},10,null,null,null,null,null,null,null,null,null,null,null,null,null,null,null,null,null,null,"~"]
["SA37",2023,{"$error":"#VALUE!"},11,null,null,null,null,null,null,null,null,null,null,null,null,null,null,null,null,null,null,"~"]
["SA37",2023,{"$error":"#VALUE!"},12,null,null,null,null,null,null,null,null,null,null,null,null,null,null,null,null,null,null,"~"]
["SA37",2023,{"$error":"#VALUE!"},13,null,null,null,null,null,null,null,null,null,null,null,null,null,null,null,null,null,null,"~"]
["SA37",2023,{"$error":"#VALUE!"},14,null,null,null,null,null,null,null,null,null,null,null,null,null,null,null,null,null,null,"~"]
["SA37",2023,{"$error":"#VALUE!"},15,null,null,null,null,null,null,null,null,null,null,null,null,null,null,null,null,null,null,"~"]
["SA37",2023,{"$error":"#VALUE!"},16,null,null,null,null,null,null,null,null,null,null,null,null,null,null,null,null,null,null,"~"]
["SA37",2023,{"$error":"#VALUE!"},17,null,null,null,null,null,null,null,null,null,null,null,null,null,null,null,null,null,null,"~"]
["SA37",2023,{"$error":"#VALUE!"},18,null,null,null,null,null,null,null,null,null,null,null,null,null,null,null,null,null,null,"~"]
["SA37",2023,{"$error":"#VALUE!"},19,null,null,null,null,null,null,null,null,null,null,null,null,null,null,null,null,null,null,"~"]
["SA37",2023,{"$error":"#VALUE!"},20,null,null,null,null,null,null,null,null,null,null,null,null,null,null,null,null,null,null,"~"]
["SA37",2023,{"$error":"#VALUE!"},21,null,null,null,null,null,null,null,null,null,null,null,null,null,null,null,null,null,null,"~"]
["SA37",2023,{"$error":"#VALUE!"},22,null,null,null,null,null,null,null,null,null,null,null,null,null,null,null,null,null,null,"~"]
["SA37",2023,{"$error":"#VALUE!"},23,null,null,null,null,null,null,null,null,null,null,null,null,null,null,null,null,null,null,"~"]
["SA37",2023,{"$error":"#VALUE!"},24,null,null,null,null,null,null,null,null,null,null,null,null,null,null,null,null,null,null,"~"]
["SA37",2023,{"$error":"#VALUE!"},25,null,null,null,null,null,null,null,null,null,null,null,null,null,null,null,null,null,null,"~"]
["SA37",2023,{"$error":"#VALUE!"},26,null,null,null,null,null,null,null,null,null,null,null,null,null,null,null,null,null,null,"~"]
["SA37",2023,{"$error":"#VALUE!"},27,null,null,null,null,null,null,null,null,null,null,null,null,null,null,null,null,null,null,"~"]
["SA37",2023,{"$error":"#VALUE!"},28,null,null,null,null,null,null,null,null,null,null,null,null,null,null,null,null,null,null,"~"]
["SA37",2023,{"$error":"#VALUE!"},29,null,null,null,null,null,null,null,null,null,null,null,null,null,null,null,null,null,null,"~"]
["SA37",2023,{"$error":"#VALUE!"},30,null,null,null,null,null,null,null,null,null,null,null,null,null,null,null,null,null,null,"~"]
["SA37",2023,{"$error":"#VALUE!"},31,null,null,null,null,null,null,null,null,null,null,null,null,null,null,null,null,null,null,"~"]
["SA37",2023,{"$error":"#VALUE!"},32,null,null,null,null,null,null,null,null,null,null,null,null,null,null,null,null,null,null,"~"]
["SA37",2023,{"$error":"#VALUE!"},33,null,null,null,null,null,null,null,null,null,null,null,null,null,null,null,null,null,null,"~"]
["SA37",2023,{"$error":"#VALUE!"},34,null,null,null,null,null,null,null,null,null,null,null,null,null,null,null,null,null,null,"~"]
["SA37",2023,{"$error":"#VALUE!"},35,null,null,null,null,null,null,null,null,null,null,null,null,null,null,null,null,null,null,"~"]
["SA37",2023,{"$error":"#VALUE!"},36,null,null,null,null,null,null,null,null,null,null,null,null,null,null,null,null,null,null,"~"]
["SA37",2023,{"$error":"#VALUE!"},37,null,null,null,null,null,null,null,null,null,null,null,null,null,null,null,null,null,null,"~"]
["SA37",2023,{"$error":"#VALUE!"},38,null,null,null,null,null,null,null,null,null,null,null,null,null,null,null,null,null,null,"~"]
["SA37",2023,{"$error":"#VALUE!"},39,null,null,null,null,null,null,null,null,null,null,null,null,null,null,null,null,null,null,"~"]
["SA37",2023,{"$error":"#VALUE!"},40,null,null,null,null,null,null,null,null,null,null,null,null,null,null,null,null,null,null,"~"]
["SA37",2023,{"$error":"#VALUE!"},41,null,null,null,null,null,null,null,null,null,null,null,null,null,null,null,null,null,null,"~"]
["SA37",2023,{"$error":"#VALUE!"},42,null,null,null,null,null,null,null,null,null,null,null,null,null,null,null,null,null,null,"~"]
["SA37",2023,{"$error":"#VALUE!"},43,null,null,null,null,null,null,null,null,null,null,null,null,null,null,null,null,null,null,"~"]
["SA37",2023,{"$error":"#VALUE!"},44,null,null,null,null,null,null,null,null,null,null,null,null,null,null,null,null,null,null,"~"]
["SA37",2023,{"$error":"#VALUE!"},45,null,null,null,null,null,null,null,null,null,null,null,null,null,null,null,null,null,null,"~"]
["SA37",2023,{"$error":"#VALUE!"},46,null,null,null,null,null,null,null,null,null,null,null,null,null,null,null,null,null,null,"~"]
["SA37",2023,{"$error":"#VALUE!"},47,null,null,null,null,null,null,null,null,null,null,null,null,null,null,null,null,null,null,"~"]
["SA37",{"$f":"+MTREF","v":2023},{"$f":"LEFT(muni,(FIND(\" \",muni,1)-1))","v":{"$error":"#VALUE!"}},48,null,null,null,null,null,null,null,null,null,null,null,null,null,null,null,null,null,null,"~"]
["SA37",2023,{"$error":"#VALUE!"},49,null,null,null,null,null,null,null,null,null,null,null,null,null,null,null,null,null,null,"~"]
["SA37",2023,{"$error":"#VALUE!"},50,null,null,null,null,null,null,null,null,null,null,null,null,null,null,null,null,null,null,"~"]
["SA37",2023,{"$error":"#VALUE!"},51,null,null,null,null,null,null,null,null,null,null,null,null,null,null,null,null,null,null,"~"]
["SA37",2023,{"$error":"#VALUE!"},52,null,null,null,null,null,null,null,null,null,null,null,null,null,null,null,null,null,null,"~"]
["SA37",2023,{"$error":"#VALUE!"},53,null,null,null,null,null,null,null,null,null,null,null,null,null,null,null,null,null,null,"~"]
["SA37",2023,{"$error":"#VALUE!"},54,null,null,null,null,null,null,null,null,null,null,null,null,null,null,null,null,null,null,"~"]
["SA37",2023,{"$error":"#VALUE!"},55,null,null,null,null,null,null,null,null,null,null,null,null,null,null,null,null,null,null,"~"]
["SA37",2023,{"$error":"#VALUE!"},56,null,null,null,null,null,null,null,null,null,null,null,null,null,null,null,null,null,null,"~"]
["SA37",2023,{"$error":"#VALUE!"},57,null,null,null,null,null,null,null,null,null,null,null,null,null,null,null,null,null,null,"~"]
["SA37",2023,{"$error":"#VALUE!"},58,null,null,null,null,null,null,null,null,null,null,null,null,null,null,null,null,null,null,"~"]
["SA37",2023,{"$error":"#VALUE!"},59,null,null,null,null,null,null,null,null,null,null,null,null,null,null,null,null,null,null,"~"]
["SA37",2023,{"$error":"#VALUE!"},60,null,null,null,null,null,null,null,null,null,null,null,null,null,null,null,null,null,null,"~"]
["SA37",2023,{"$error":"#VALUE!"},61,null,null,null,null,null,null,null,null,null,null,null,null,null,null,null,null,null,null,"~"]
["SA37",2023,{"$error":"#VALUE!"},62,null,null,null,null,null,null,null,null,null,null,null,null,null,null,null,null,null,null,"~"]
["SA37",2023,{"$error":"#VALUE!"},63,null,null,null,null,null,null,null,null,null,null,null,null,null,null,null,null,null,null,"~"]
["SA37",2023,{"$error":"#VALUE!"},64,null,null,null,null,null,null,null,null,null,null,null,null,null,null,null,null,null,null,"~"]
["SA37",2023,{"$error":"#VALUE!"},65,null,null,null,null,null,null,null,null,null,null,null,null,null,null,null,null,null,null,"~"]
["SA37",2023,{"$error":"#VALUE!"},66,null,null,null,null,null,null,null,null,null,null,null,null,null,null,null,null,null,null,"~"]
["SA37",2023,{"$error":"#VALUE!"},67,null,null,null,null,null,null,null,null,null,null,null,null,null,null,null,null,null,null,"~"]
["SA37",2023,{"$error":"#VALUE!"},68,null,null,null,null,null,null,null,null,null,null,null,null,null,null,null,null,null,null,"~"]
["SA37",2023,{"$error":"#VALUE!"},69,null,null,null,null,null,null,null,null,null,null,null,null,null,null,null,null,null,null,"~"]
["SA37",2023,{"$error":"#VALUE!"},70,null,null,null,null,null,null,null,null,null,null,null,null,null,null,null,null,null,null,"~"]
["SA37",2023,{"$error":"#VALUE!"},71,null,null,null,null,null,null,null,null,null,null,null,null,null,null,null,null,null,null,"~"]
["SA37",2023,{"$error":"#VALUE!"},72,null,null,null,null,null,null,null,null,null,null,null,null,null,null,null,null,null,null,"~"]
["SA37",2023,{"$error":"#VALUE!"},73,null,null,null,null,null,null,null,null,null,null,null,null,null,null,null,null,null,null,"~"]
["SA37",2023,{"$error":"#VALUE!"},74,null,null,null,null,null,null,null,null,null,null,null,null,null,null,null,null,null,null,"~"]
["SA37",2023,{"$error":"#VALUE!"},75,null,null,null,null,null,null,null,null,null,null,null,null,null,null,null,null,null,null,"~"]
["SA37",2023,{"$error":"#VALUE!"},76,null,null,null,null,null,null,null,null,null,null,null,null,null,null,null,null,null,null,"~"]
["SA37",2023,{"$error":"#VALUE!"},77,null,null,null,null,null,null,null,null,null,null,null,null,null,null,null,null,null,null,"~"]
["SA37",2023,{"$error":"#VALUE!"},78,null,null,null,null,null,null,null,null,null,null,null,null,null,null,null,null,null,null,"~"]
["SA37",2023,{"$error":"#VALUE!"},79,null,null,null,null,null,null,null,null,null,null,null,null,null,null,null,null,null,null,"~"]
["SA37",2023,{"$error":"#VALUE!"},80,null,null,null,null,null,null,null,null,null,null,null,null,null,null,null,null,null,null,"~"]
["SA37",2023,{"$error":"#VALUE!"},81,null,null,null,null,null,null,null,null,null,null,null,null,null,null,null,null,null,null,"~"]
["SA37",2023,{"$error":"#VALUE!"},82,null,null,null,null,null,null,null,null,null,null,null,null,null,null,null,null,null,null,"~"]
["SA37",2023,{"$error":"#VALUE!"},83,null,null,null,null,null,null,null,null,null,null,null,null,null,null,null,null,null,null,"~"]
["SA37",2023,{"$error":"#VALUE!"},84,null,null,null,null,null,null,null,null,null,null,null,null,null,null,null,null,null,null,"~"]
["SA37",2023,{"$error":"#VALUE!"},85,null,null,null,null,null,null,null,null,null,null,null,null,null,null,null,null,null,null,"~"]
["SA37",2023,{"$error":"#VALUE!"},86,null,null,null,null,null,null,null,null,null,null,null,null,null,null,null,null,null,null,"~"]
["SA37",2023,{"$error":"#VALUE!"},87,null,null,null,null,null,null,null,null,null,null,null,null,null,null,null,null,null,null,"~"]
["SA37",2023,{"$error":"#VALUE!"},88,null,null,null,null,null,null,null,null,null,null,null,null,null,null,null,null,null,null,"~"]
["SA37",2023,{"$error":"#VALUE!"},89,null,null,null,null,null,null,null,null,null,null,null,null,null,null,null,null,null,null,"~"]
["SA37",2023,{"$error":"#VALUE!"},90,null,null,null,null,null,null,null,null,null,null,null,null,null,null,null,null,null,null,"~"]
["SA37",2023,{"$error":"#VALUE!"},91,null,null,null,null,null,null,null,null,null,null,null,null,null,null,null,null,null,null,"~"]
["SA37",2023,{"$error":"#VALUE!"},92,null,null,null,null,null,null,null,null,null,null,null,null,null,null,null,null,null,null,"~"]
["SA37",2023,{"$error":"#VALUE!"},93,null,null,null,null,null,null,null,null,null,null,null,null,null,null,null,null,null,null,"~"]
["SA37",2023,{"$error":"#VALUE!"},94,null,null,null,null,null,null,null,null,null,null,null,null,null,null,null,null,null,null,"~"]
["SA37",2023,{"$error":"#VALUE!"},95,null,null,null,null,null,null,null,null,null,null,null,null,null,null,null,null,null,null,"~"]
["SA37",2023,{"$error":"#VALUE!"},96,null,null,null,null,null,null,null,null,null,null,null,null,null,null,null,null,null,null,"~"]
["SA37",2023,{"$error":"#VALUE!"},97,null,null,null,null,null,null,null,null,null,null,null,null,null,null,null,null,null,null,"~"]
["SA37",2023,{"$error":"#VALUE!"},98,null,null,null,null,null,null,null,null,null,null,null,null,null,null,null,null,null,null,"~"]
["SA37",2023,{"$error":"#VALUE!"},99,null,null,null,null,null,null,null,null,null,null,null,null,null,null,null,null,null,null,"~"]
["SA37",2023,{"$error":"#VALUE!"},100,null,null,null,null,null,null,null,null,null,null,null,null,null,null,null,null,null,null,"~"]
["SA37",2023,{"$error":"#VALUE!"},101,null,null,null,null,null,null,null,null,null,null,null,null,null,null,null,null,null,null,"~"]
["SA37",2023,{"$error":"#VALUE!"},102,null,null,null,null,null,null,null,null,null,null,null,null,null,null,null,null,null,null,"~"]
["SA37",2023,{"$error":"#VALUE!"},103,null,null,null,null,null,null,null,null,null,null,null,null,null,null,null,null,null,null,"~"]
["SA37",2023,{"$error":"#VALUE!"},104,null,null,null,null,null,null,null,null,null,null,null,null,null,null,null,null,null,null,"~"]
["SA37",2023,{"$error":"#VALUE!"},105,null,null,null,null,null,null,null,null,null,null,null,null,null,null,null,null,null,null,"~"]
["SA37",2023,{"$error":"#VALUE!"},106,null,null,null,null,null,null,null,null,null,null,null,null,null,null,null,null,null,null,"~"]
["SA37",2023,{"$error":"#VALUE!"},107,null,null,null,null,null,null,null,null,null,null,null,null,null,null,null,null,null,null,"~"]
["SA37",2023,{"$error":"#VALUE!"},108,null,null,null,null,null,null,null,null,null,null,null,null,null,null,null,null,null,null,"~"]
["SA37",2023,{"$error":"#VALUE!"},109,null,null,null,null,null,null,null,null,null,null,null,null,null,null,null,null,null,null,"~"]
["SA37",2023,{"$error":"#VALUE!"},110,null,null,null,null,null,null,null,null,null,null,null,null,null,null,null,null,null,null,"~"]
["SA37",2023,{"$error":"#VALUE!"},111,null,null,null,null,null,null,null,null,null,null,null,null,null,null,null,null,null,null,"~"]
["SA37",{"$f":"+MTREF","v":2023},{"$f":"LEFT(muni,(FIND(\" \",muni,1)-1))","v":{"$error":"#VALUE!"}},112,null,null,null,null,null,null,null,null,null,null,null,null,null,null,null,null,null,null,"~"]
["SA37",2023,{"$error":"#VALUE!"},113,null,null,null,null,null,null,null,null,null,null,null,null,null,null,null,null,null,null,"~"]
["SA37",2023,{"$error":"#VALUE!"},114,null,null,null,null,null,null,null,null,null,null,null,null,null,null,null,null,null,null,"~"]
["SA37",2023,{"$error":"#VALUE!"},115,null,null,null,null,null,null,null,null,null,null,null,null,null,null,null,null,null,null,"~"]
["SA37",2023,{"$error":"#VALUE!"},116,null,null,null,null,null,null,null,null,null,null,null,null,null,null,null,null,null,null,"~"]
["SA37",2023,{"$error":"#VALUE!"},117,null,null,null,null,null,null,null,null,null,null,null,null,null,null,null,null,null,null,"~"]
["SA37",2023,{"$error":"#VALUE!"},118,null,null,null,null,null,null,null,null,null,null,null,null,null,null,null,null,null,null,"~"]
["SA37",2023,{"$error":"#VALUE!"},119,null,null,null,null,null,null,null,null,null,null,null,null,null,null,null,null,null,null,"~"]
["SA37",2023,{"$error":"#VALUE!"},120,null,null,null,null,null,null,null,null,null,null,null,null,null,null,null,null,null,null,"~"]
["SA37",2023,{"$error":"#VALUE!"},121,null,null,null,null,null,null,null,null,null,null,null,null,null,null,null,null,null,null,"~"]
["SA37",2023,{"$error":"#VALUE!"},122,null,null,null,null,null,null,null,null,null,null,null,null,null,null,null,null,null,null,"~"]
["SA37",2023,{"$error":"#VALUE!"},123,null,null,null,null,null,null,null,null,null,null,null,null,null,null,null,null,null,null,"~"]
["SA37",2023,{"$error":"#VALUE!"},124,null,null,null,null,null,null,null,null,null,null,null,null,null,null,null,null,null,null,"~"]
["SA37",2023,{"$error":"#VALUE!"},125,null,null,null,null,null,null,null,null,null,null,null,null,null,null,null,null,null,null,"~"]
["SA37",2023,{"$error":"#VALUE!"},126,null,null,null,null,null,null,null,null,null,null,null,null,null,null,null,null,null,null,"~"]
["SA37",2023,{"$error":"#VALUE!"},127,null,null,null,null,null,null,null,null,null,null,null,null,null,null,null,null,null,null,"~"]
["SA37",2023,{"$error":"#VALUE!"},128,null,null,null,null,null,null,null,null,null,null,null,null,null,null,null,null,null,null,"~"]
["SA37",2023,{"$error":"#VALUE!"},129,null,null,null,null,null,null,null,null,null,null,null,null,null,null,null,null,null,null,"~"]
["SA37",2023,{"$error":"#VALUE!"},130,null,null,null,null,null,null,null,null,null,null,null,null,null,null,null,null,null,null,"~"]
["SA37",2023,{"$error":"#VALUE!"},131,null,null,null,null,null,null,null,null,null,null,null,null,null,null,null,null,null,null,"~"]
["SA37",2023,{"$error":"#VALUE!"},132,null,null,null,null,null,null,null,null,null,null,null,null,null,null,null,null,null,null,"~"]
["SA37",2023,{"$error":"#VALUE!"},133,null,null,null,null,null,null,null,null,null,null,null,null,null,null,null,null,null,null,"~"]
["SA37",2023,{"$error":"#VALUE!"},134,null,null,null,null,null,null,null,null,null,null,null,null,null,null,null,null,null,null,"~"]
["SA37",2023,{"$error":"#VALUE!"},135,null,null,null,null,null,null,null,null,null,null,null,null,null,null,null,null,null,null,"~"]
["SA37",2023,{"$error":"#VALUE!"},136,null,null,null,null,null,null,null,null,null,null,null,null,null,null,null,null,null,null,"~"]
["SA37",2023,{"$error":"#VALUE!"},137,null,null,null,null,null,null,null,null,null,null,null,null,null,null,null,null,null,null,"~"]
["SA37",2023,{"$error":"#VALUE!"},138,null,null,null,null,null,null,null,null,null,null,null,null,null,null,null,null,null,null,"~"]
["SA37",2023,{"$error":"#VALUE!"},139,null,null,null,null,null,null,null,null,null,null,null,null,null,null,null,null,null,null,"~"]
["SA37",2023,{"$error":"#VALUE!"},140,null,null,null,null,null,null,null,null,null,null,null,null,null,null,null,null,null,null,"~"]
["SA37",2023,{"$error":"#VALUE!"},141,null,null,null,null,null,null,null,null,null,null,null,null,null,null,null,null,null,null,"~"]
["SA37",2023,{"$error":"#VALUE!"},142,null,null,null,null,null,null,null,null,null,null,null,null,null,null,null,null,null,null,"~"]
["SA37",2023,{"$error":"#VALUE!"},143,null,null,null,null,null,null,null,null,null,null,null,null,null,null,null,null,null,null,"~"]
["SA37",2023,{"$error":"#VALUE!"},144,null,null,null,null,null,null,null,null,null,null,null,null,null,null,null,null,null,null,"~"]
["SA37",2023,{"$error":"#VALUE!"},145,null,null,null,null,null,null,null,null,null,null,null,null,null,null,null,null,null,null,"~"]
["SA37",2023,{"$error":"#VALUE!"},146,null,null,null,null,null,null,null,null,null,null,null,null,null,null,null,null,null,null,"~"]
["SA37",2023,{"$error":"#VALUE!"},147,null,null,null,null,null,null,null,null,null,null,null,null,null,null,null,null,null,null,"~"]
["SA37",2023,{"$error":"#VALUE!"},148,null,null,null,null,null,null,null,null,null,null,null,null,null,null,null,null,null,null,"~"]
["SA37",2023,{"$error":"#VALUE!"},149,null,null,null,null,null,null,null,null,null,null,null,null,null,null,null,null,null,null,"~"]
["SA37",2023,{"$error":"#VALUE!"},150,null,null,null,null,null,null,null,null,null,null,null,null,null,null,null,null,null,null,"~"]
["SA37",2023,{"$error":"#VALUE!"},151,null,null,null,null,null,null,null,null,null,null,null,null,null,null,null,null,null,null,"~"]
["SA37",2023,{"$error":"#VALUE!"},152,null,null,null,null,null,null,null,null,null,null,null,null,null,null,null,null,null,null,"~"]
["SA37",2023,{"$error":"#VALUE!"},153,null,null,null,null,null,null,null,null,null,null,null,null,null,null,null,null,null,null,"~"]
["SA37",2023,{"$error":"#VALUE!"},154,null,null,null,null,null,null,null,null,null,null,null,null,null,null,null,null,null,null,"~"]
["SA37",2023,{"$error":"#VALUE!"},155,null,null,null,null,null,null,null,null,null,null,null,null,null,null,null,null,null,null,"~"]
["SA37",2023,{"$error":"#VALUE!"},156,null,null,null,null,null,null,null,null,null,null,null,null,null,null,null,null,null,null,"~"]
["SA37",2023,{"$error":"#VALUE!"},157,null,null,null,null,null,null,null,null,null,null,null,null,null,null,null,null,null,null,"~"]
["SA37",2023,{"$error":"#VALUE!"},158,null,null,null,null,null,null,null,null,null,null,null,null,null,null,null,null,null,null,"~"]
["SA37",2023,{"$error":"#VALUE!"},159,null,null,null,null,null,null,null,null,null,null,null,null,null,null,null,null,null,null,"~"]
["SA37",2023,{"$error":"#VALUE!"},160,null,null,null,null,null,null,null,null,null,null,null,null,null,null,null,null,null,null,"~"]
["SA37",2023,{"$error":"#VALUE!"},161,null,null,null,null,null,null,null,null,null,null,null,null,null,null,null,null,null,null,"~"]
["SA37",2023,{"$error":"#VALUE!"},162,null,null,null,null,null,null,null,null,null,null,null,null,null,null,null,null,null,null,"~"]
["SA37",2023,{"$error":"#VALUE!"},163,null,null,null,null,null,null,null,null,null,null,null,null,null,null,null,null,null,null,"~"]
["SA37",2023,{"$error":"#VALUE!"},164,null,null,null,null,null,null,null,null,null,null,null,null,null,null,null,null,null,null,"~"]
["SA37",2023,{"$error":"#VALUE!"},165,null,null,null,null,null,null,null,null,null,null,null,null,null,null,null,null,null,null,"~"]
["SA37",2023,{"$error":"#VALUE!"},166,null,null,null,null,null,null,null,null,null,null,null,null,null,null,null,null,null,null,"~"]
["SA37",2023,{"$error":"#VALUE!"},167,null,null,null,null,null,null,null,null,null,null,null,null,null,null,null,null,null,null,"~"]
["SA37",2023,{"$error":"#VALUE!"},168,null,null,null,null,null,null,null,null,null,null,null,null,null,null,null,null,null,null,"~"]
["SA37",2023,{"$error":"#VALUE!"},169,null,null,null,null,null,null,null,null,null,null,null,null,null,null,null,null,null,null,"~"]
["SA37",2023,{"$error":"#VALUE!"},170,null,null,null,null,null,null,null,null,null,null,null,null,null,null,null,null,null,null,"~"]
["SA37",2023,{"$error":"#VALUE!"},171,null,null,null,null,null,null,null,null,null,null,null,null,null,null,null,null,null,null,"~"]
["SA37",2023,{"$error":"#VALUE!"},172,null,null,null,null,null,null,null,null,null,null,null,null,null,null,null,null,null,null,"~"]
["SA37",2023,{"$error":"#VALUE!"},173,null,null,null,null,null,null,null,null,null,null,null,null,null,null,null,null,null,null,"~"]
["SA37",2023,{"$error":"#VALUE!"},174,null,null,null,null,null,null,null,null,null,null,null,null,null,null,null,null,null,null,"~"]
["SA37",2023,{"$error":"#VALUE!"},175,null,null,null,null,null,null,null,null,null,null,null,null,null,null,null,null,null,null,"~"]
["SA37",{"$f":"+MTREF","v":2023},{"$f":"LEFT(muni,(FIND(\" \",muni,1)-1))","v":{"$error":"#VALUE!"}},176,null,null,null,null,null,null,null,null,null,null,null,null,null,null,null,null,null,null,"~"]
["SA37",2023,{"$error":"#VALUE!"},177,null,null,null,null,null,null,null,null,null,null,null,null,null,null,null,null,null,null,"~"]
["SA37",2023,{"$error":"#VALUE!"},178,null,null,null,null,null,null,null,null,null,null,null,null,null,null,null,null,null,null,"~"]
["SA37",2023,{"$error":"#VALUE!"},179,null,null,null,null,null,null,null,null,null,null,null,null,null,null,null,null,null,null,"~"]
["SA37",2023,{"$error":"#VALUE!"},180,null,null,null,null,null,null,null,null,null,null,null,null,null,null,null,null,null,null,"~"]
["SA37",2023,{"$error":"#VALUE!"},181,null,null,null,null,null,null,null,null,null,null,null,null,null,null,null,null,null,null,"~"]
["SA37",2023,{"$error":"#VALUE!"},182,null,null,null,null,null,null,null,null,null,null,null,null,null,null,null,null,null,null,"~"]
["SA37",2023,{"$error":"#VALUE!"},183,null,null,null,null,null,null,null,null,null,null,null,null,null,null,null,null,null,null,"~"]
["SA37",2023,{"$error":"#VALUE!"},184,null,null,null,null,null,null,null,null,null,null,null,null,null,null,null,null,null,null,"~"]
["SA37",2023,{"$error":"#VALUE!"},185,null,null,null,null,null,null,null,null,null,null,null,null,null,null,null,null,null,null,"~"]
["SA37",2023,{"$error":"#VALUE!"},186,null,null,null,null,null,null,null,null,null,null,null,null,null,null,null,null,null,null,"~"]
["SA37",2023,{"$error":"#VALUE!"},187,null,null,null,null,null,null,null,null,null,null,null,null,null,null,null,null,null,null,"~"]
["SA37",2023,{"$error":"#VALUE!"},188,null,null,null,null,null,null,null,null,null,null,null,null,null,null,null,null,null,null,"~"]
["SA37",2023,{"$error":"#VALUE!"},189,null,null,null,null,null,null,null,null,null,null,null,null,null,null,null,null,null,null,"~"]
["SA37",2023,{"$error":"#VALUE!"},190,null,null,null,null,null,null,null,null,null,null,null,null,null,null,null,null,null,null,"~"]
["SA37",2023,{"$error":"#VALUE!"},191,null,null,null,null,null,null,null,null,null,null,null,null,null,null,null,null,null,null,"~"]
["SA37",2023,{"$error":"#VALUE!"},192,null,null,null,null,null,null,null,null,null,null,null,null,null,null,null,null,null,null,"~"]
["SA37",2023,{"$error":"#VALUE!"},193,null,null,null,null,null,null,null,null,null,null,null,null,null,null,null,null,null,null,"~"]
["SA37",2023,{"$error":"#VALUE!"},194,null,null,null,null,null,null,null,null,null,null,null,null,null,null,null,null,null,null,"~"]
["SA37",2023,{"$error":"#VALUE!"},195,null,null,null,null,null,null,null,null,null,null,null,null,null,null,null,null,null,null,"~"]
["SA37",2023,{"$error":"#VALUE!"},196,null,null,null,null,null,null,null,null,null,null,null,null,null,null,null,null,null,null,"~"]
["SA37",2023,{"$error":"#VALUE!"},197,null,null,null,null,null,null,null,null,null,null,null,null,null,null,null,null,null,null,"~"]
["SA37",2023,{"$error":"#VALUE!"},198,null,null,null,null,null,null,null,null,null,null,null,null,null,null,null,null,null,null,"~"]
["SA37",2023,{"$error":"#VALUE!"},199,null,null,null,null,null,null,null,null,null,null,null,null,null,null,null,null,null,null,"~"]
["SA37",2023,{"$error":"#VALUE!"},200,null,null,null,null,null,null,null,null,null,null,null,null,null,null,null,null,null,null,"~"]
["SA37",2023,{"$error":"#VALUE!"},201,null,null,null,null,null,null,null,null,null,null,null,null,null,null,null,null,null,null,"~"]
["SA37",2023,{"$error":"#VALUE!"},202,null,null,null,null,null,null,null,null,null,null,null,null,null,null,null,null,null,null,"~"]
["SA37",2023,{"$error":"#VALUE!"},203,null,null,null,null,null,null,null,null,null,null,null,null,null,null,null,null,null,null,"~"]
["SA37",2023,{"$error":"#VALUE!"},204,null,null,null,null,null,null,null,null,null,null,null,null,null,null,null,null,null,null,"~"]
["SA37",2023,{"$error":"#VALUE!"},205,null,null,null,null,null,null,null,null,null,null,null,null,null,null,null,null,null,null,"~"]
["SA37",2023,{"$error":"#VALUE!"},206,null,null,null,null,null,null,null,null,null,null,null,null,null,null,null,null,null,null,"~"]
["SA37",2023,{"$error":"#VALUE!"},207,null,null,null,null,null,null,null,null,null,null,null,null,null,null,null,null,null,null,"~"]
["SA37",2023,{"$error":"#VALUE!"},208,null,null,null,null,null,null,null,null,null,null,null,null,null,null,null,null,null,null,"~"]
["SA37",2023,{"$error":"#VALUE!"},209,null,null,null,null,null,null,null,null,null,null,null,null,null,null,null,null,null,null,"~"]
["SA37",2023,{"$error":"#VALUE!"},210,null,null,null,null,null,null,null,null,null,null,null,null,null,null,null,null,null,null,"~"]
["SA37",2023,{"$error":"#VALUE!"},211,null,null,null,null,null,null,null,null,null,null,null,null,null,null,null,null,null,null,"~"]
["SA37",2023,{"$error":"#VALUE!"},212,null,null,null,null,null,null,null,null,null,null,null,null,null,null,null,null,null,null,"~"]
["SA37",2023,{"$error":"#VALUE!"},213,null,null,null,null,null,null,null,null,null,null,null,null,null,null,null,null,null,null,"~"]
["SA37",2023,{"$error":"#VALUE!"},214,null,null,null,null,null,null,null,null,null,null,null,null,null,null,null,null,null,null,"~"]
["SA37",2023,{"$error":"#VALUE!"},215,null,null,null,null,null,null,null,null,null,null,null,null,null,null,null,null,null,null,"~"]
["SA37",2023,{"$error":"#VALUE!"},216,null,null,null,null,null,null,null,null,null,null,null,null,null,null,null,null,null,null,"~"]
["SA37",2023,{"$error":"#VALUE!"},217,null,null,null,null,null,null,null,null,null,null,null,null,null,null,null,null,null,null,"~"]
["SA37",2023,{"$error":"#VALUE!"},218,null,null,null,null,null,null,null,null,null,null,null,null,null,null,null,null,null,null,"~"]
["SA37",2023,{"$error":"#VALUE!"},219,null,null,null,null,null,null,null,null,null,null,null,null,null,null,null,null,null,null,"~"]
["SA37",2023,{"$error":"#VALUE!"},220,null,null,null,null,null,null,null,null,null,null,null,null,null,null,null,null,null,null,"~"]
["SA37",2023,{"$error":"#VALUE!"},221,null,null,null,null,null,null,null,null,null,null,null,null,null,null,null,null,null,null,"~"]
["SA37",2023,{"$error":"#VALUE!"},222,null,null,null,null,null,null,null,null,null,null,null,null,null,null,null,null,null,null,"~"]
["SA37",2023,{"$error":"#VALUE!"},223,null,null,null,null,null,null,null,null,null,null,null,null,null,null,null,null,null,null,"~"]
["SA37",2023,{"$error":"#VALUE!"},224,null,null,null,null,null,null,null,null,null,null,null,null,null,null,null,null,null,null,"~"]
["SA37",2023,{"$error":"#VALUE!"},225,null,null,null,null,null,null,null,null,null,null,null,null,null,null,null,null,null,null,"~"]
["SA37",2023,{"$error":"#VALUE!"},226,null,null,null,null,null,null,null,null,null,null,null,null,null,null,null,null,null,null,"~"]
["SA37",2023,{"$error":"#VALUE!"},227,null,null,null,null,null,null,null,null,null,null,null,null,null,null,null,null,null,null,"~"]
["SA37",2023,{"$error":"#VALUE!"},228,null,null,null,null,null,null,null,null,null,null,null,null,null,null,null,null,null,null,"~"]
["SA37",2023,{"$error":"#VALUE!"},229,null,null,null,null,null,null,null,null,null,null,null,null,null,null,null,null,null,null,"~"]
["SA37",2023,{"$error":"#VALUE!"},230,null,null,null,null,null,null,null,null,null,null,null,null,null,null,null,null,null,null,"~"]
["SA37",2023,{"$error":"#VALUE!"},231,null,null,null,null,null,null,null,null,null,null,null,null,null,null,null,null,null,null,"~"]
["SA37",2023,{"$error":"#VALUE!"},232,null,null,null,null,null,null,null,null,null,null,null,null,null,null,null,null,null,null,"~"]
["SA37",2023,{"$error":"#VALUE!"},233,null,null,null,null,null,null,null,null,null,null,null,null,null,null,null,null,null,null,"~"]
["SA37",2023,{"$error":"#VALUE!"},234,null,null,null,null,null,null,null,null,null,null,null,null,null,null,null,null,null,null,"~"]
["SA37",2023,{"$error":"#VALUE!"},235,null,null,null,null,null,null,null,null,null,null,null,null,null,null,null,null,null,null,"~"]
["SA37",2023,{"$error":"#VALUE!"},236,null,null,null,null,null,null,null,null,null,null,null,null,null,null,null,null,null,null,"~"]
["SA37",2023,{"$error":"#VALUE!"},237,null,null,null,null,null,null,null,null,null,null,null,null,null,null,null,null,null,null,"~"]
["SA37",2023,{"$error":"#VALUE!"},238,null,null,null,null,null,null,null,null,null,null,null,null,null,null,null,null,null,null,"~"]
["SA37",2023,{"$error":"#VALUE!"},239,null,null,null,null,null,null,null,null,null,null,null,null,null,null,null,null,null,null,"~"]
["SA37",{"$f":"+MTREF","v":2023},{"$f":"LEFT(muni,(FIND(\" \",muni,1)-1))","v":{"$error":"#VALUE!"}},240,null,null,null,null,null,null,null,null,null,null,null,null,null,null,null,null,null,null,"~"]
["SA37",2023,{"$error":"#VALUE!"},241,null,null,null,null,null,null,null,null,null,null,null,null,null,null,null,null,null,null,"~"]
["SA37",2023,{"$error":"#VALUE!"},242,null,null,null,null,null,null,null,null,null,null,null,null,null,null,null,null,null,null,"~"]
["SA37",2023,{"$error":"#VALUE!"},243,null,null,null,null,null,null,null,null,null,null,null,null,null,null,null,null,null,null,"~"]
["SA37",2023,{"$error":"#VALUE!"},244,null,null,null,null,null,null,null,null,null,null,null,null,null,null,null,null,null,null,"~"]
["SA37",2023,{"$error":"#VALUE!"},245,null,null,null,null,null,null,null,null,null,null,null,null,null,null,null,null,null,null,"~"]
["SA37",2023,{"$error":"#VALUE!"},246,null,null,null,null,null,null,null,null,null,null,null,null,null,null,null,null,null,null,"~"]
["SA37",2023,{"$error":"#VALUE!"},247,null,null,null,null,null,null,null,null,null,null,null,null,null,null,null,null,null,null,"~"]
["SA37",2023,{"$error":"#VALUE!"},248,null,null,null,null,null,null,null,null,null,null,null,null,null,null,null,null,null,null,"~"]
["SA37",2023,{"$error":"#VALUE!"},249,null,null,null,null,null,null,null,null,null,null,null,null,null,null,null,null,null,null,"~"]
["SA37",2023,{"$error":"#VALUE!"},250,null,null,null,null,null,null,null,null,null,null,null,null,null,null,null,null,null,null,"~"]
["SA37",2023,{"$error":"#VALUE!"},251,null,null,null,null,null,null,null,null,null,null,null,null,null,null,null,null,null,null,"~"]
["SA37",2023,{"$error":"#VALUE!"},252,null,null,null,null,null,null,null,null,null,null,null,null,null,null,null,null,null,null,"~"]
["SA37",2023,{"$error":"#VALUE!"},253,null,null,null,null,null,null,null,null,null,null,null,null,null,null,null,null,null,null,"~"]
["SA37",2023,{"$error":"#VALUE!"},254,null,null,null,null,null,null,null,null,null,null,null,null,null,null,null,null,null,null,"~"]
["SA37",2023,{"$error":"#VALUE!"},255,null,null,null,null,null,null,null,null,null,null,null,null,null,null,null,null,null,null,"~"]
["SA37",2023,{"$error":"#VALUE!"},256,null,null,null,null,null,null,null,null,null,null,null,null,null,null,null,null,null,null,"~"]
["SA37",2023,{"$error":"#VALUE!"},257,null,null,null,null,null,null,null,null,null,null,null,null,null,null,null,null,null,null,"~"]
["SA37",2023,{"$error":"#VALUE!"},258,null,null,null,null,null,null,null,null,null,null,null,null,null,null,null,null,null,null,"~"]
["SA37",2023,{"$error":"#VALUE!"},259,null,null,null,null,null,null,null,null,null,null,null,null,null,null,null,null,null,null,"~"]
["SA37",2023,{"$error":"#VALUE!"},260,null,null,null,null,null,null,null,null,null,null,null,null,null,null,null,null,null,null,"~"]
["SA37",2023,{"$error":"#VALUE!"},261,null,null,null,null,null,null,null,null,null,null,null,null,null,null,null,null,null,null,"~"]
["SA37",2023,{"$error":"#VALUE!"},262,null,null,null,null,null,null,null,null,null,null,null,null,null,null,null,null,null,null,"~"]
["SA37",2023,{"$error":"#VALUE!"},263,null,null,null,null,null,null,null,null,null,null,null,null,null,null,null,null,null,null,"~"]
["SA37",2023,{"$error":"#VALUE!"},264,null,null,null,null,null,null,null,null,null,null,null,null,null,null,null,null,null,null,"~"]
["SA37",2023,{"$error":"#VALUE!"},265,null,null,null,null,null,null,null,null,null,null,null,null,null,null,null,null,null,null,"~"]
["SA37",2023,{"$error":"#VALUE!"},266,null,null,null,null,null,null,null,null,null,null,null,null,null,null,null,null,null,null,"~"]
["SA37",2023,{"$error":"#VALUE!"},267,null,null,null,null,null,null,null,null,null,null,null,null,null,null,null,null,null,null,"~"]
["SA37",2023,{"$error":"#VALUE!"},268,null,null,null,null,null,null,null,null,null,null,null,null,null,null,null,null,null,null,"~"]
["SA37",2023,{"$error":"#VALUE!"},269,null,null,null,null,null,null,null,null,null,null,null,null,null,null,null,null,null,null,"~"]
["SA37",2023,{"$error":"#VALUE!"},270,null,null,null,null,null,null,null,null,null,null,null,null,null,null,null,null,null,null,"~"]
["SA37",2023,{"$error":"#VALUE!"},271,null,null,null,null,null,null,null,null,null,null,null,null,null,null,null,null,null,null,"~"]
["SA37",2023,{"$error":"#VALUE!"},272,null,null,null,null,null,null,null,null,null,null,null,null,null,null,null,null,null,null,"~"]
["SA37",2023,{"$error":"#VALUE!"},273,null,null,null,null,null,null,null,null,null,null,null,null,null,null,null,null,null,null,"~"]
["SA37",2023,{"$error":"#VALUE!"},274,null,null,null,null,null,null,null,null,null,null,null,null,null,null,null,null,null,null,"~"]
["SA37",2023,{"$error":"#VALUE!"},275,null,null,null,null,null,null,null,null,null,null,null,null,null,null,null,null,null,null,"~"]
["SA37",2023,{"$error":"#VALUE!"},276,null,null,null,null,null,null,null,null,null,null,null,null,null,null,null,null,null,null,"~"]
["SA37",2023,{"$error":"#VALUE!"},277,null,null,null,null,null,null,null,null,null,null,null,null,null,null,null,null,null,null,"~"]
["SA37",2023,{"$error":"#VALUE!"},278,null,null,null,null,null,null,null,null,null,null,null,null,null,null,null,null,null,null,"~"]
["SA37",2023,{"$error":"#VALUE!"},279,null,null,null,null,null,null,null,null,null,null,null,null,null,null,null,null,null,null,"~"]
["SA37",2023,{"$error":"#VALUE!"},280,null,null,null,null,null,null,null,null,null,null,null,null,null,null,null,null,null,null,"~"]
["SA37",2023,{"$error":"#VALUE!"},281,null,null,null,null,null,null,null,null,null,null,null,null,null,null,null,null,null,null,"~"]
["SA37",2023,{"$error":"#VALUE!"},282,null,null,null,null,null,null,null,null,null,null,null,null,null,null,null,null,null,null,"~"]
["SA37",2023,{"$error":"#VALUE!"},283,null,null,null,null,null,null,null,null,null,null,null,null,null,null,null,null,null,null,"~"]
["SA37",2023,{"$error":"#VALUE!"},284,null,null,null,null,null,null,null,null,null,null,null,null,null,null,null,null,null,null,"~"]
["SA37",2023,{"$error":"#VALUE!"},285,null,null,null,null,null,null,null,null,null,null,null,null,null,null,null,null,null,null,"~"]
["SA37",2023,{"$error":"#VALUE!"},286,null,null,null,null,null,null,null,null,null,null,null,null,null,null,null,null,null,null,"~"]
["SA37",2023,{"$error":"#VALUE!"},287,null,null,null,null,null,null,null,null,null,null,null,null,null,null,null,null,null,null,"~"]
["SA37",2023,{"$error":"#VALUE!"},288,null,null,null,null,null,null,null,null,null,null,null,null,null,null,null,null,null,null,"~"]
["SA37",2023,{"$error":"#VALUE!"},289,null,null,null,null,null,null,null,null,null,null,null,null,null,null,null,null,null,null,"~"]
["SA37",2023,{"$error":"#VALUE!"},290,null,null,null,null,null,null,null,null,null,null,null,null,null,null,null,null,null,null,"~"]
["SA37",2023,{"$error":"#VALUE!"},291,null,null,null,null,null,null,null,null,null,null,null,null,null,null,null,null,null,null,"~"]
["SA37",2023,{"$error":"#VALUE!"},292,null,null,null,null,null,null,null,null,null,null,null,null,null,null,null,null,null,null,"~"]
["SA37",2023,{"$error":"#VALUE!"},293,null,null,null,null,null,null,null,null,null,null,null,null,null,null,null,null,null,null,"~"]
["SA37",2023,{"$error":"#VALUE!"},294,null,null,null,null,null,null,null,null,null,null,null,null,null,null,null,null,null,null,"~"]
["SA37",2023,{"$error":"#VALUE!"},295,null,null,null,null,null,null,null,null,null,null,null,null,null,null,null,null,null,null,"~"]
["SA37",2023,{"$error":"#VALUE!"},296,null,null,null,null,null,null,null,null,null,null,null,null,null,null,null,null,null,null,"~"]
["SA37",2023,{"$error":"#VALUE!"},297,null,null,null,null,null,null,null,null,null,null,null,null,null,null,null,null,null,null,"~"]
["SA37",2023,{"$error":"#VALUE!"},298,null,null,null,null,null,null,null,null,null,null,null,null,null,null,null,null,null,null,"~"]
["SA37",2023,{"$error":"#VALUE!"},299,null,null,null,null,null,null,null,null,null,null,null,null,null,null,null,null,null,null,"~"]
["SA37",2023,{"$error":"#VALUE!"},300,null,null,null,null,null,null,null,null,null,null,null,null,null,null,null,null,null,null,"~"]
["SA37",2023,{"$error":"#VALUE!"},301,null,null,null,null,null,null,null,null,null,null,null,null,null,null,null,null,null,null,"~"]
["SA37",2023,{"$error":"#VALUE!"},302,null,null,null,null,null,null,null,null,null,null,null,null,null,null,null,null,null,null,"~"]
["SA37",2023,{"$error":"#VALUE!"},303,null,null,null,null,null,null,null,null,null,null,null,null,null,null,null,null,null,null,"~"]
["SA37",{"$f":"+MTREF","v":2023},{"$f":"LEFT(muni,(FIND(\" \",muni,1)-1))","v":{"$error":"#VALUE!"}},304,null,null,null,null,null,null,null,null,null,null,null,null,null,null,null,null,null,null,"~"]
["SA37",2023,{"$error":"#VALUE!"},305,null,null,null,null,null,null,null,null,null,null,null,null,null,null,null,null,null,null,"~"]
["SA37",2023,{"$error":"#VALUE!"},306,null,null,null,null,null,null,null,null,null,null,null,null,null,null,null,null,null,null,"~"]
["SA37",2023,{"$error":"#VALUE!"},307,null,null,null,null,null,null,null,null,null,null,null,null,null,null,null,null,null,null,"~"]
["SA37",2023,{"$error":"#VALUE!"},308,null,null,null,null,null,null,null,null,null,null,null,null,null,null,null,null,null,null,"~"]
["SA37",2023,{"$error":"#VALUE!"},309,null,null,null,null,null,null,null,null,null,null,null,null,null,null,null,null,null,null,"~"]
["SA37",2023,{"$error":"#VALUE!"},310,null,null,null,null,null,null,null,null,null,null,null,null,null,null,null,null,null,null,"~"]
["SA37",2023,{"$error":"#VALUE!"},311,null,null,null,null,null,null,null,null,null,null,null,null,null,null,null,null,null,null,"~"]
["SA37",2023,{"$error":"#VALUE!"},312,null,null,null,null,null,null,null,null,null,null,null,null,null,null,null,null,null,null,"~"]
["SA37",2023,{"$error":"#VALUE!"},313,null,null,null,null,null,null,null,null,null,null,null,null,null,null,null,null,null,null,"~"]
["SA37",2023,{"$error":"#VALUE!"},314,null,null,null,null,null,null,null,null,null,null,null,null,null,null,null,null,null,null,"~"]
["SA37",2023,{"$error":"#VALUE!"},315,null,null,null,null,null,null,null,null,null,null,null,null,null,null,null,null,null,null,"~"]
["SA37",2023,{"$error":"#VALUE!"},316,null,null,null,null,null,null,null,null,null,null,null,null,null,null,null,null,null,null,"~"]
["SA37",2023,{"$error":"#VALUE!"},317,null,null,null,null,null,null,null,null,null,null,null,null,null,null,null,null,null,null,"~"]
["SA37",2023,{"$error":"#VALUE!"},318,null,null,null,null,null,null,null,null,null,null,null,null,null,null,null,null,null,null,"~"]
["SA37",2023,{"$error":"#VALUE!"},319,null,null,null,null,null,null,null,null,null,null,null,null,null,null,null,null,null,null,"~"]
["SA37",2023,{"$error":"#VALUE!"},320,null,null,null,null,null,null,null,null,null,null,null,null,null,null,null,null,null,null,"~"]
["SA37",2023,{"$error":"#VALUE!"},321,null,null,null,null,null,null,null,null,null,null,null,null,null,null,null,null,null,null,"~"]
["SA37",2023,{"$error":"#VALUE!"},322,null,null,null,null,null,null,null,null,null,null,null,null,null,null,null,null,null,null,"~"]
["SA37",2023,{"$error":"#VALUE!"},323,null,null,null,null,null,null,null,null,null,null,null,null,null,null,null,null,null,null,"~"]
["SA37",2023,{"$error":"#VALUE!"},324,null,null,null,null,null,null,null,null,null,null,null,null,null,null,null,null,null,null,"~"]
["SA37",2023,{"$error":"#VALUE!"},325,null,null,null,null,null,null,null,null,null,null,null,null,null,null,null,null,null,null,"~"]
["SA37",2023,{"$error":"#VALUE!"},326,null,null,null,null,null,null,null,null,null,null,null,null,null,null,null,null,null,null,"~"]
["SA37",2023,{"$error":"#VALUE!"},327,null,null,null,null,null,null,null,null,null,null,null,null,null,null,null,null,null,null,"~"]
["SA37",2023,{"$error":"#VALUE!"},328,null,null,null,null,null,null,null,null,null,null,null,null,null,null,null,null,null,null,"~"]
["SA37",2023,{"$error":"#VALUE!"},329,null,null,null,null,null,null,null,null,null,null,null,null,null,null,null,null,null,null,"~"]
["SA37",2023,{"$error":"#VALUE!"},330,null,null,null,null,null,null,null,null,null,null,null,null,null,null,null,null,null,null,"~"]
["SA37",2023,{"$error":"#VALUE!"},331,null,null,null,null,null,null,null,null,null,null,null,null,null,null,null,null,null,null,"~"]
["SA37",2023,{"$error":"#VALUE!"},332,null,null,null,null,null,null,null,null,null,null,null,null,null,null,null,null,null,null,"~"]
["SA37",2023,{"$error":"#VALUE!"},333,null,null,null,null,null,null,null,null,null,null,null,null,null,null,null,null,null,null,"~"]
["SA37",2023,{"$error":"#VALUE!"},334,null,null,null,null,null,null,null,null,null,null,null,null,null,null,null,null,null,null,"~"]
["SA37",2023,{"$error":"#VALUE!"},335,null,null,null,null,null,null,null,null,null,null,null,null,null,null,null,null,null,null,"~"]
["SA37",2023,{"$error":"#VALUE!"},336,null,null,null,null,null,null,null,null,null,null,null,null,null,null,null,null,null,null,"~"]
["SA37",2023,{"$error":"#VALUE!"},337,null,null,null,null,null,null,null,null,null,null,null,null,null,null,null,null,null,null,"~"]
["SA37",2023,{"$error":"#VALUE!"},338,null,null,null,null,null,null,null,null,null,null,null,null,null,null,null,null,null,null,"~"]
["SA37",2023,{"$error":"#VALUE!"},339,null,null,null,null,null,null,null,null,null,null,null,null,null,null,null,null,null,null,"~"]
["SA37",2023,{"$error":"#VALUE!"},340,null,null,null,null,null,null,null,null,null,null,null,null,null,null,null,null,null,null,"~"]
["SA37",2023,{"$error":"#VALUE!"},341,null,null,null,null,null,null,null,null,null,null,null,null,null,null,null,null,null,null,"~"]
["SA37",2023,{"$error":"#VALUE!"},342,null,null,null,null,null,null,null,null,null,null,null,null,null,null,null,null,null,null,"~"]
["SA37",2023,{"$error":"#VALUE!"},343,null,null,null,null,null,null,null,null,null,null,null,null,null,null,null,null,null,null,"~"]
["SA37",2023,{"$error":"#VALUE!"},344,null,null,null,null,null,null,null,null,null,null,null,null,null,null,null,null,null,null,"~"]
["SA37",2023,{"$error":"#VALUE!"},345,null,null,null,null,null,null,null,null,null,null,null,null,null,null,null,null,null,null,"~"]
["SA37",2023,{"$error":"#VALUE!"},346,null,null,null,null,null,null,null,null,null,null,null,null,null,null,null,null,null,null,"~"]
["SA37",2023,{"$error":"#VALUE!"},347,null,null,null,null,null,null,null,null,null,null,null,null,null,null,null,null,null,null,"~"]
["SA37",2023,{"$error":"#VALUE!"},348,null,null,null,null,null,null,null,null,null,null,null,null,null,null,null,null,null,null,"~"]
["SA37",2023,{"$error":"#VALUE!"},349,null,null,null,null,null,null,null,null,null,null,null,null,null,null,null,null,null,null,"~"]
["SA37",2023,{"$error":"#VALUE!"},350,null,null,null,null,null,null,null,null,null,null,null,null,null,null,null,null,null,null,"~"]
["SA37",2023,{"$error":"#VALUE!"},351,null,null,null,null,null,null,null,null,null,null,null,null,null,null,null,null,null,null,"~"]
["SA37",2023,{"$error":"#VALUE!"},352,null,null,null,null,null,null,null,null,null,null,null,null,null,null,null,null,null,null,"~"]
["SA37",2023,{"$error":"#VALUE!"},353,null,null,null,null,null,null,null,null,null,null,null,null,null,null,null,null,null,null,"~"]
["SA37",2023,{"$error":"#VALUE!"},354,null,null,null,null,null,null,null,null,null,null,null,null,null,null,null,null,null,null,"~"]
["SA37",2023,{"$error":"#VALUE!"},355,null,null,null,null,null,null,null,null,null,null,null,null,null,null,null,null,null,null,"~"]
["SA37",2023,{"$error":"#VALUE!"},356,null,null,null,null,null,null,null,null,null,null,null,null,null,null,null,null,null,null,"~"]
["SA37",2023,{"$error":"#VALUE!"},357,null,null,null,null,null,null,null,null,null,null,null,null,null,null,null,null,null,null,"~"]
["SA37",2023,{"$error":"#VALUE!"},358,null,null,null,null,null,null,null,null,null,null,null,null,null,null,null,null,null,null,"~"]
["SA37",2023,{"$error":"#VALUE!"},359,null,null,null,null,null,null,null,null,null,null,null,null,null,null,null,null,null,null,"~"]
["SA37",2023,{"$error":"#VALUE!"},360,null,null,null,null,null,null,null,null,null,null,null,null,null,null,null,null,null,null,"~"]
["SA37",2023,{"$error":"#VALUE!"},361,null,null,null,null,null,null,null,null,null,null,null,null,null,null,null,null,null,null,"~"]
["SA37",2023,{"$error":"#VALUE!"},362,null,null,null,null,null,null,null,null,null,null,null,null,null,null,null,null,null,null,"~"]
["SA37",2023,{"$error":"#VALUE!"},363,null,null,null,null,null,null,null,null,null,null,null,null,null,null,null,null,null,null,"~"]
["SA37",2023,{"$error":"#VALUE!"},364,null,null,null,null,null,null,null,null,null,null,null,null,null,null,null,null,null,null,"~"]
["SA37",2023,{"$error":"#VALUE!"},365,null,null,null,null,null,null,null,null,null,null,null,null,null,null,null,null,null,null,"~"]
["SA37",2023,{"$error":"#VALUE!"},366,null,null,null,null,null,null,null,null,null,null,null,null,null,null,null,null,null,null,"~"]
["SA37",2023,{"$error":"#VALUE!"},367,null,null,null,null,null,null,null,null,null,null,null,null,null,null,null,null,null,null,"~"]
["SA37",{"$f":"+MTREF","v":2023},{"$f":"LEFT(muni,(FIND(\" \",muni,1)-1))","v":{"$error":"#VALUE!"}},368,null,null,null,null,null,null,null,null,null,null,null,null,null,null,null,null,null,null,"~"]
["SA37",2023,{"$error":"#VALUE!"},369,null,null,null,null,null,null,null,null,null,null,null,null,null,null,null,null,null,null,"~"]
["SA37",2023,{"$error":"#VALUE!"},370,null,null,null,null,null,null,null,null,null,null,null,null,null,null,null,null,null,null,"~"]
["SA37",2023,{"$error":"#VALUE!"},371,null,null,null,null,null,null,null,null,null,null,null,null,null,null,null,null,null,null,"~"]
["SA37",2023,{"$error":"#VALUE!"},372,null,null,null,null,null,null,null,null,null,null,null,null,null,null,null,null,null,null,"~"]
["SA37",2023,{"$error":"#VALUE!"},373,null,null,null,null,null,null,null,null,null,null,null,null,null,null,null,null,null,null,"~"]
["SA37",2023,{"$error":"#VALUE!"},374,null,null,null,null,null,null,null,null,null,null,null,null,null,null,null,null,null,null,"~"]
["SA37",2023,{"$error":"#VALUE!"},375,null,null,null,null,null,null,null,null,null,null,null,null,null,null,null,null,null,null,"~"]
["SA37",2023,{"$error":"#VALUE!"},376,null,null,null,null,null,null,null,null,null,null,null,null,null,null,null,null,null,null,"~"]
["SA37",2023,{"$error":"#VALUE!"},377,null,null,null,null,null,null,null,null,null,null,null,null,null,null,null,null,null,null,"~"]
["SA37",2023,{"$error":"#VALUE!"},378,null,null,null,null,null,null,null,null,null,null,null,null,null,null,null,null,null,null,"~"]
["SA37",2023,{"$error":"#VALUE!"},379,null,null,null,null,null,null,null,null,null,null,null,null,null,null,null,null,null,null,"~"]
["SA37",2023,{"$error":"#VALUE!"},380,null,null,null,null,null,null,null,null,null,null,null,null,null,null,null,null,null,null,"~"]
["SA37",2023,{"$error":"#VALUE!"},381,null,null,null,null,null,null,null,null,null,null,null,null,null,null,null,null,null,null,"~"]
["SA37",2023,{"$error":"#VALUE!"},382,null,null,null,null,null,null,null,null,null,null,null,null,null,null,null,null,null,null,"~"]
["SA37",2023,{"$error":"#VALUE!"},383,null,null,null,null,null,null,null,null,null,null,null,null,null,null,null,null,null,null,"~"]
["SA37",2023,{"$error":"#VALUE!"},384,null,null,null,null,null,null,null,null,null,null,null,null,null,null,null,null,null,null,"~"]
["SA37",2023,{"$error":"#VALUE!"},385,null,null,null,null,null,null,null,null,null,null,null,null,null,null,null,null,null,null,"~"]
["SA37",2023,{"$error":"#VALUE!"},386,null,null,null,null,null,null,null,null,null,null,null,null,null,null,null,null,null,null,"~"]
["SA37",2023,{"$error":"#VALUE!"},387,null,null,null,null,null,null,null,null,null,null,null,null,null,null,null,null,null,null,"~"]
["SA37",2023,{"$error":"#VALUE!"},388,null,null,null,null,null,null,null,null,null,null,null,null,null,null,null,null,null,null,"~"]
["SA37",2023,{"$error":"#VALUE!"},389,null,null,null,null,null,null,null,null,null,null,null,null,null,null,null,null,null,null,"~"]
["SA37",2023,{"$error":"#VALUE!"},390,null,null,null,null,null,null,null,null,null,null,null,null,null,null,null,null,null,null,"~"]
["SA37",2023,{"$error":"#VALUE!"},391,null,null,null,null,null,null,null,null,null,null,null,null,null,null,null,null,null,null,"~"]
["SA37",2023,{"$error":"#VALUE!"},392,null,null,null,null,null,null,null,null,null,null,null,null,null,null,null,null,null,null,"~"]
["SA37",2023,{"$error":"#VALUE!"},393,null,null,null,null,null,null,null,null,null,null,null,null,null,null,null,null,null,null,"~"]
["SA37",2023,{"$error":"#VALUE!"},394,null,null,null,null,null,null,null,null,null,null,null,null,null,null,null,null,null,null,"~"]
["SA37",2023,{"$error":"#VALUE!"},395,null,null,null,null,null,null,null,null,null,null,null,null,null,null,null,null,null,null,"~"]
["SA37",2023,{"$error":"#VALUE!"},396,null,null,null,null,null,null,null,null,null,null,null,null,null,null,null,null,null,null,"~"]
["SA37",2023,{"$error":"#VALUE!"},397,null,null,null,null,null,null,null,null,null,null,null,null,null,null,null,null,null,null,"~"]
["SA37",2023,{"$error":"#VALUE!"},398,null,null,null,null,null,null,null,null,null,null,null,null,null,null,null,null,null,null,"~"]
["SA37",2023,{"$error":"#VALUE!"},399,null,null,null,null,null,null,null,null,null,null,null,null,null,null,null,null,null,null,"~"]
["SA37",2023,{"$error":"#VALUE!"},400,null,null,null,null,null,null,null,null,null,null,null,null,null,null,null,null,null,null,"~"]
["SA37",2023,{"$error":"#VALUE!"},401,null,null,null,null,null,null,null,null,null,null,null,null,null,null,null,null,null,null,"~"]
["SA37",2023,{"$error":"#VALUE!"},402,null,null,null,null,null,null,null,null,null,null,null,null,null,null,null,null,null,null,"~"]
["SA37",2023,{"$error":"#VALUE!"},403,null,null,null,null,null,null,null,null,null,null,null,null,null,null,null,null,null,null,"~"]
["SA37",2023,{"$error":"#VALUE!"},404,null,null,null,null,null,null,null,null,null,null,null,null,null,null,null,null,null,null,"~"]
["SA37",2023,{"$error":"#VALUE!"},405,null,null,null,null,null,null,null,null,null,null,null,null,null,null,null,null,null,null,"~"]
["SA37",2023,{"$error":"#VALUE!"},406,null,null,null,null,null,null,null,null,null,null,null,null,null,null,null,null,null,null,"~"]
["SA37",2023,{"$error":"#VALUE!"},407,null,null,null,null,null,null,null,null,null,null,null,null,null,null,null,null,null,null,"~"]
["SA37",2023,{"$error":"#VALUE!"},408,null,null,null,null,null,null,null,null,null,null,null,null,null,null,null,null,null,null,"~"]
["SA37",2023,{"$error":"#VALUE!"},409,null,null,null,null,null,null,null,null,null,null,null,null,null,null,null,null,null,null,"~"]
["SA37",2023,{"$error":"#VALUE!"},410,null,null,null,null,null,null,null,null,null,null,null,null,null,null,null,null,null,null,"~"]
["SA37",2023,{"$error":"#VALUE!"},411,null,null,null,null,null,null,null,null,null,null,null,null,null,null,null,null,null,null,"~"]
["SA37",2023,{"$error":"#VALUE!"},412,null,null,null,null,null,null,null,null,null,null,null,null,null,null,null,null,null,null,"~"]
["SA37",2023,{"$error":"#VALUE!"},413,null,null,null,null,null,null,null,null,null,null,null,null,null,null,null,null,null,null,"~"]
["SA37",2023,{"$error":"#VALUE!"},414,null,null,null,null,null,null,null,null,null,null,null,null,null,null,null,null,null,null,"~"]
["SA37",2023,{"$error":"#VALUE!"},415,null,null,null,null,null,null,null,null,null,null,null,null,null,null,null,null,null,null,"~"]
["SA37",2023,{"$error":"#VALUE!"},416,null,null,null,null,null,null,null,null,null,null,null,null,null,null,null,null,null,null,"~"]
["SA37",2023,{"$error":"#VALUE!"},417,null,null,null,null,null,null,null,null,null,null,null,null,null,null,null,null,null,null,"~"]
["SA37",2023,{"$error":"#VALUE!"},418,null,null,null,null,null,null,null,null,null,null,null,null,null,null,null,null,null,null,"~"]
["SA37",2023,{"$error":"#VALUE!"},419,null,null,null,null,null,null,null,null,null,null,null,null,null,null,null,null,null,null,"~"]
["SA37",2023,{"$error":"#VALUE!"},420,null,null,null,null,null,null,null,null,null,null,null,null,null,null,null,null,null,null,"~"]
["SA37",2023,{"$error":"#VALUE!"},421,null,null,null,null,null,null,null,null,null,null,null,null,null,null,null,null,null,null,"~"]
["SA37",2023,{"$error":"#VALUE!"},422,null,null,null,null,null,null,null,null,null,null,null,null,null,null,null,null,null,null,"~"]
["SA37",2023,{"$error":"#VALUE!"},423,null,null,null,null,null,null,null,null,null,null,null,null,null,null,null,null,null,null,"~"]
["SA37",2023,{"$error":"#VALUE!"},424,null,null,null,null,null,null,null,null,null,null,null,null,null,null,null,null,null,null,"~"]
["SA37",2023,{"$error":"#VALUE!"},425,null,null,null,null,null,null,null,null,null,null,null,null,null,null,null,null,null,null,"~"]
["SA37",2023,{"$error":"#VALUE!"},426,null,null,null,null,null,null,null,null,null,null,null,null,null,null,null,null,null,null,"~"]
["SA37",2023,{"$error":"#VALUE!"},427,null,null,null,null,null,null,null,null,null,null,null,null,null,null,null,null,null,null,"~"]
["SA37",2023,{"$error":"#VALUE!"},428,null,null,null,null,null,null,null,null,null,null,null,null,null,null,null,null,null,null,"~"]
["SA37",2023,{"$error":"#VALUE!"},429,null,null,null,null,null,null,null,null,null,null,null,null,null,null,null,null,null,null,"~"]
["SA37",2023,{"$error":"#VALUE!"},430,null,null,null,null,null,null,null,null,null,null,null,null,null,null,null,null,null,null,"~"]
["SA37",2023,{"$error":"#VALUE!"},431,null,null,null,null,null,null,null,null,null,null,null,null,null,null,null,null,null,null,"~"]
["SA37",{"$f":"+MTREF","v":2023},{"$f":"LEFT(muni,(FIND(\" \",muni,1)-1))","v":{"$error":"#VALUE!"}},432,null,null,null,null,null,null,null,null,null,null,null,null,null,null,null,null,null,null,"~"]
["SA37",2023,{"$error":"#VALUE!"},433,null,null,null,null,null,null,null,null,null,null,null,null,null,null,null,null,null,null,"~"]
["SA37",2023,{"$error":"#VALUE!"},434,null,null,null,null,null,null,null,null,null,null,null,null,null,null,null,null,null,null,"~"]
["SA37",2023,{"$error":"#VALUE!"},435,null,null,null,null,null,null,null,null,null,null,null,null,null,null,null,null,null,null,"~"]
["SA37",2023,{"$error":"#VALUE!"},436,null,null,null,null,null,null,null,null,null,null,null,null,null,null,null,null,null,null,"~"]
["SA37",2023,{"$error":"#VALUE!"},437,null,null,null,null,null,null,null,null,null,null,null,null,null,null,null,null,null,null,"~"]
["SA37",2023,{"$error":"#VALUE!"},438,null,null,null,null,null,null,null,null,null,null,null,null,null,null,null,null,null,null,"~"]
["SA37",2023,{"$error":"#VALUE!"},439,null,null,null,null,null,null,null,null,null,null,null,null,null,null,null,null,null,null,"~"]
["SA37",2023,{"$error":"#VALUE!"},440,null,null,null,null,null,null,null,null,null,null,null,null,null,null,null,null,null,null,"~"]
["SA37",2023,{"$error":"#VALUE!"},441,null,null,null,null,null,null,null,null,null,null,null,null,null,null,null,null,null,null,"~"]
["SA37",2023,{"$error":"#VALUE!"},442,null,null,null,null,null,null,null,null,null,null,null,null,null,null,null,null,null,null,"~"]
["SA37",2023,{"$error":"#VALUE!"},443,null,null,null,null,null,null,null,null,null,null,null,null,null,null,null,null,null,null,"~"]
["SA37",2023,{"$error":"#VALUE!"},444,null,null,null,null,null,null,null,null,null,null,null,null,null,null,null,null,null,null,"~"]
["SA37",2023,{"$error":"#VALUE!"},445,null,null,null,null,null,null,null,null,null,null,null,null,null,null,null,null,null,null,"~"]
["SA37",2023,{"$error":"#VALUE!"},446,null,null,null,null,null,null,null,null,null,null,null,null,null,null,null,null,null,null,"~"]
["SA37",2023,{"$error":"#VALUE!"},447,null,null,null,null,null,null,null,null,null,null,null,null,null,null,null,null,null,null,"~"]
["SA37",2023,{"$error":"#VALUE!"},448,null,null,null,null,null,null,null,null,null,null,null,null,null,null,null,null,null,null,"~"]
["SA37",2023,{"$error":"#VALUE!"},449,null,null,null,null,null,null,null,null,null,null,null,null,null,null,null,null,null,null,"~"]
["SA37",2023,{"$error":"#VALUE!"},450,null,null,null,null,null,null,null,null,null,null,null,null,null,null,null,null,null,null,"~"]
["SA37",2023,{"$error":"#VALUE!"},451,null,null,null,null,null,null,null,null,null,null,null,null,null,null,null,null,null,null,"~"]
["SA37",2023,{"$error":"#VALUE!"},452,null,null,null,null,null,null,null,null,null,null,null,null,null,null,null,null,null,null,"~"]
["SA37",2023,{"$error":"#VALUE!"},453,null,null,null,null,null,null,null,null,null,null,null,null,null,null,null,null,null,null,"~"]
["SA37",2023,{"$error":"#VALUE!"},454,null,null,null,null,null,null,null,null,null,null,null,null,null,null,null,null,null,null,"~"]
["SA37",2023,{"$error":"#VALUE!"},455,null,null,null,null,null,null,null,null,null,null,null,null,null,null,null,null,null,null,"~"]
["SA37",2023,{"$error":"#VALUE!"},456,null,null,null,null,null,null,null,null,null,null,null,null,null,null,null,null,null,null,"~"]
["SA37",2023,{"$error":"#VALUE!"},457,null,null,null,null,null,null,null,null,null,null,null,null,null,null,null,null,null,null,"~"]
["SA37",2023,{"$error":"#VALUE!"},458,null,null,null,null,null,null,null,null,null,null,null,null,null,null,null,null,null,null,"~"]
["SA37",2023,{"$error":"#VALUE!"},459,null,null,null,null,null,null,null,null,null,null,null,null,null,null,null,null,null,null,"~"]
["SA37",2023,{"$error":"#VALUE!"},460,null,null,null,null,null,null,null,null,null,null,null,null,null,null,null,null,null,null,"~"]
["SA37",2023,{"$error":"#VALUE!"},461,null,null,null,null,null,null,null,null,null,null,null,null,null,null,null,null,null,null,"~"]
["SA37",2023,{"$error":"#VALUE!"},462,null,null,null,null,null,null,null,null,null,null,null,null,null,null,null,null,null,null,"~"]
["SA37",2023,{"$error":"#VALUE!"},463,null,null,null,null,null,null,null,null,null,null,null,null,null,null,null,null,null,null,"~"]
["SA37",2023,{"$error":"#VALUE!"},464,null,null,null,null,null,null,null,null,null,null,null,null,null,null,null,null,null,null,"~"]
["SA37",2023,{"$error":"#VALUE!"},465,null,null,null,null,null,null,null,null,null,null,null,null,null,null,null,null,null,null,"~"]
["SA37",2023,{"$error":"#VALUE!"},466,null,null,null,null,null,null,null,null,null,null,null,null,null,null,null,null,null,null,"~"]
["SA37",2023,{"$error":"#VALUE!"},467,null,null,null,null,null,null,null,null,null,null,null,null,null,null,null,null,null,null,"~"]
["SA37",2023,{"$error":"#VALUE!"},468,null,null,null,null,null,null,null,null,null,null,null,null,null,null,null,null,null,null,"~"]
["SA37",2023,{"$error":"#VALUE!"},469,null,null,null,null,null,null,null,null,null,null,null,null,null,null,null,null,null,null,"~"]
["SA37",2023,{"$error":"#VALUE!"},470,null,null,null,null,null,null,null,null,null,null,null,null,null,null,null,null,null,null,"~"]
["SA37",2023,{"$error":"#VALUE!"},471,null,null,null,null,null,null,null,null,null,null,null,null,null,null,null,null,null,null,"~"]
["SA37",2023,{"$error":"#VALUE!"},472,null,null,null,null,null,null,null,null,null,null,null,null,null,null,null,null,null,null,"~"]
["SA37",2023,{"$error":"#VALUE!"},473,null,null,null,null,null,null,null,null,null,null,null,null,null,null,null,null,null,null,"~"]
["SA37",2023,{"$error":"#VALUE!"},474,null,null,null,null,null,null,null,null,null,null,null,null,null,null,null,null,null,null,"~"]
["SA37",2023,{"$error":"#VALUE!"},475,null,null,null,null,null,null,null,null,null,null,null,null,null,null,null,null,null,null,"~"]
["SA37",2023,{"$error":"#VALUE!"},476,null,null,null,null,null,null,null,null,null,null,null,null,null,null,null,null,null,null,"~"]
["SA37",2023,{"$error":"#VALUE!"},477,null,null,null,null,null,null,null,null,null,null,null,null,null,null,null,null,null,null,"~"]
["SA37",2023,{"$error":"#VALUE!"},478,null,null,null,null,null,null,null,null,null,null,null,null,null,null,null,null,null,null,"~"]
["SA37",2023,{"$error":"#VALUE!"},479,null,null,null,null,null,null,null,null,null,null,null,null,null,null,null,null,null,null,"~"]
["SA37",2023,{"$error":"#VALUE!"},480,null,null,null,null,null,null,null,null,null,null,null,null,null,null,null,null,null,null,"~"]
["SA37",2023,{"$error":"#VALUE!"},481,null,null,null,null,null,null,null,null,null,null,null,null,null,null,null,null,null,null,"~"]
["SA37",2023,{"$error":"#VALUE!"},482,null,null,null,null,null,null,null,null,null,null,null,null,null,null,null,null,null,null,"~"]
["SA37",2023,{"$error":"#VALUE!"},483,null,null,null,null,null,null,null,null,null,null,null,null,null,null,null,null,null,null,"~"]
["SA37",2023,{"$error":"#VALUE!"},484,null,null,null,null,null,null,null,null,null,null,null,null,null,null,null,null,null,null,"~"]
["SA37",2023,{"$error":"#VALUE!"},485,null,null,null,null,null,null,null,null,null,null,null,null,null,null,null,null,null,null,"~"]
["SA37",2023,{"$error":"#VALUE!"},486,null,null,null,null,null,null,null,null,null,null,null,null,null,null,null,null,null,null,"~"]
["SA37",2023,{"$error":"#VALUE!"},487,null,null,null,null,null,null,null,null,null,null,null,null,null,null,null,null,null,null,"~"]
["SA37",2023,{"$error":"#VALUE!"},488,null,null,null,null,null,null,null,null,null,null,null,null,null,null,null,null,null,null,"~"]
["SA37",2023,{"$error":"#VALUE!"},489,null,null,null,null,null,null,null,null,null,null,null,null,null,null,null,null,null,null,"~"]
["SA37",2023,{"$error":"#VALUE!"},490,null,null,null,null,null,null,null,null,null,null,null,null,null,null,null,null,null,null,"~"]
["SA37",2023,{"$error":"#VALUE!"},491,null,null,null,null,null,null,null,null,null,null,null,null,null,null,null,null,null,null,"~"]
["SA37",2023,{"$error":"#VALUE!"},492,null,null,null,null,null,null,null,null,null,null,null,null,null,null,null,null,null,null,"~"]
["SA37",2023,{"$error":"#VALUE!"},493,null,null,null,null,null,null,null,null,null,null,null,null,null,null,null,null,null,null,"~"]
["SA37",2023,{"$error":"#VALUE!"},494,null,null,null,null,null,null,null,null,null,null,null,null,null,null,null,null,null,null,"~"]
["SA37",2023,{"$error":"#VALUE!"},495,null,null,null,null,null,null,null,null,null,null,null,null,null,null,null,null,null,null,"~"]
["SA37",{"$f":"+MTREF","v":2023},{"$f":"LEFT(muni,(FIND(\" \",muni,1)-1))","v":{"$error":"#VALUE!"}},496,null,null,null,null,null,null,null,null,null,null,null,null,null,null,null,null,null,null,"~"]
["SA37",2023,{"$error":"#VALUE!"},497,null,null,null,null,null,null,null,null,null,null,null,null,null,null,null,null,null,null,"~"]
["SA37",2023,{"$error":"#VALUE!"},498,null,null,null,null,null,null,null,null,null,null,null,null,null,null,null,null,null,null,"~"]
["SA37",2023,{"$error":"#VALUE!"},499,null,null,null,null,null,null,null,null,null,null,null,null,null,null,null,null,null,null,"~"]
["SA37",2023,{"$error":"#VALUE!"},500,null,null,null,null,null,null,null,null,null,null,null,null,null,null,null,null,null,null,"~"]
["SA37",2023,{"$error":"#VALUE!"},501,null,null,null,null,null,null,null,null,null,null,null,null,null,null,null,null,null,null,"~"]
["SA37",2023,{"$error":"#VALUE!"},502,null,null,null,null,null,null,null,null,null,null,null,null,null,null,null,null,null,null,"~"]
["SA37",2023,{"$error":"#VALUE!"},503,null,null,null,null,null,null,null,null,null,null,null,null,null,null,null,null,null,null,"~"]
["SA37",2023,{"$error":"#VALUE!"},504,null,null,null,null,null,null,null,null,null,null,null,null,null,null,null,null,null,null,"~"]
["SA37",2023,{"$error":"#VALUE!"},505,null,null,null,null,null,null,null,null,null,null,null,null,null,null,null,null,null,null,"~"]
["SA37",2023,{"$error":"#VALUE!"},506,null,null,null,null,null,null,null,null,null,null,null,null,null,null,null,null,null,null,"~"]
["SA37",2023,{"$error":"#VALUE!"},507,null,null,null,null,null,null,null,null,null,null,null,null,null,null,null,null,null,null,"~"]
["SA37",2023,{"$error":"#VALUE!"},508,null,null,null,null,null,null,null,null,null,null,null,null,null,null,null,null,null,null,"~"]
["SA37",2023,{"$error":"#VALUE!"},509,null,null,null,null,null,null,null,null,null,null,null,null,null,null,null,null,null,null,"~"]
["SA37",2023,{"$error":"#VALUE!"},510,null,null,null,null,null,null,null,null,null,null,null,null,null,null,null,null,null,null,"~"]
["SA37",2023,{"$error":"#VALUE!"},511,null,null,null,null,null,null,null,null,null,null,null,null,null,null,null,null,null,null,"~"]
["SA37",2023,{"$error":"#VALUE!"},512,null,null,null,null,null,null,null,null,null,null,null,null,null,null,null,null,null,null,"~"]
["SA37",2023,{"$error":"#VALUE!"},513,null,null,null,null,null,null,null,null,null,null,null,null,null,null,null,null,null,null,"~"]
["SA37",2023,{"$error":"#VALUE!"},514,null,null,null,null,null,null,null,null,null,null,null,null,null,null,null,null,null,null,"~"]
["SA37",2023,{"$error":"#VALUE!"},515,null,null,null,null,null,null,null,null,null,null,null,null,null,null,null,null,null,null,"~"]
["SA37",2023,{"$error":"#VALUE!"},516,null,null,null,null,null,null,null,null,null,null,null,null,null,null,null,null,null,null,"~"]
["SA37",2023,{"$error":"#VALUE!"},517,null,null,null,null,null,null,null,null,null,null,null,null,null,null,null,null,null,null,"~"]
["SA37",2023,{"$error":"#VALUE!"},518,null,null,null,null,null,null,null,null,null,null,null,null,null,null,null,null,null,null,"~"]
["SA37",2023,{"$error":"#VALUE!"},519,null,null,null,null,null,null,null,null,null,null,null,null,null,null,null,null,null,null,"~"]
["SA37",2023,{"$error":"#VALUE!"},520,null,null,null,null,null,null,null,null,null,null,null,null,null,null,null,null,null,null,"~"]
["SA37",2023,{"$error":"#VALUE!"},521,null,null,null,null,null,null,null,null,null,null,null,null,null,null,null,null,null,null,"~"]
["SA37",2023,{"$error":"#VALUE!"},522,null,null,null,null,null,null,null,null,null,null,null,null,null,null,null,null,null,null,"~"]
["SA37",2023,{"$error":"#VALUE!"},523,null,null,null,null,null,null,null,null,null,null,null,null,null,null,null,null,null,null,"~"]
["SA37",2023,{"$error":"#VALUE!"},524,null,null,null,null,null,null,null,null,null,null,null,null,null,null,null,null,null,null,"~"]
["SA37",2023,{"$error":"#VALUE!"},525,null,null,null,null,null,null,null,null,null,null,null,null,null,null,null,null,null,null,"~"]
["SA37",2023,{"$error":"#VALUE!"},526,null,null,null,null,null,null,null,null,null,null,null,null,null,null,null,null,null,null,"~"]
["SA37",2023,{"$error":"#VALUE!"},527,null,null,null,null,null,null,null,null,null,null,null,null,null,null,null,null,null,null,"~"]
["SA37",2023,{"$error":"#VALUE!"},528,null,null,null,null,null,null,null,null,null,null,null,null,null,null,null,null,null,null,"~"]
["SA37",2023,{"$error":"#VALUE!"},529,null,null,null,null,null,null,null,null,null,null,null,null,null,null,null,null,null,null,"~"]
["SA37",2023,{"$error":"#VALUE!"},530,null,null,null,null,null,null,null,null,null,null,null,null,null,null,null,null,null,null,"~"]
["SA37",2023,{"$error":"#VALUE!"},531,null,null,null,null,null,null,null,null,null,null,null,null,null,null,null,null,null,null,"~"]
["SA37",2023,{"$error":"#VALUE!"},532,null,null,null,null,null,null,null,null,null,null,null,null,null,null,null,null,null,null,"~"]
["SA37",2023,{"$error":"#VALUE!"},533,null,null,null,null,null,null,null,null,null,null,null,null,null,null,null,null,null,null,"~"]
["SA37",2023,{"$error":"#VALUE!"},534,null,null,null,null,null,null,null,null,null,null,null,null,null,null,null,null,null,null,"~"]
["SA37",2023,{"$error":"#VALUE!"},535,null,null,null,null,null,null,null,null,null,null,null,null,null,null,null,null,null,null,"~"]
["SA37",2023,{"$error":"#VALUE!"},536,null,null,null,null,null,null,null,null,null,null,null,null,null,null,null,null,null,null,"~"]
["SA37",2023,{"$error":"#VALUE!"},537,null,null,null,null,null,null,null,null,null,null,null,null,null,null,null,null,null,null,"~"]
["SA37",2023,{"$error":"#VALUE!"},538,null,null,null,null,null,null,null,null,null,null,null,null,null,null,null,null,null,null,"~"]
["SA37",2023,{"$error":"#VALUE!"},539,null,null,null,null,null,null,null,null,null,null,null,null,null,null,null,null,null,null,"~"]
["SA37",2023,{"$error":"#VALUE!"},540,null,null,null,null,null,null,null,null,null,null,null,null,null,null,null,null,null,null,"~"]
["SA37",2023,{"$error":"#VALUE!"},541,null,null,null,null,null,null,null,null,null,null,null,null,null,null,null,null,null,null,"~"]
["SA37",2023,{"$error":"#VALUE!"},542,null,null,null,null,null,null,null,null,null,null,null,null,null,null,null,null,null,null,"~"]
["SA37",2023,{"$error":"#VALUE!"},543,null,null,null,null,null,null,null,null,null,null,null,null,null,null,null,null,null,null,"~"]
["SA37",2023,{"$error":"#VALUE!"},544,null,null,null,null,null,null,null,null,null,null,null,null,null,null,null,null,null,null,"~"]
["SA37",2023,{"$error":"#VALUE!"},545,null,null,null,null,null,null,null,null,null,null,null,null,null,null,null,null,null,null,"~"]
["SA37",2023,{"$error":"#VALUE!"},546,null,null,null,null,null,null,null,null,null,null,null,null,null,null,null,null,null,null,"~"]
["SA37",2023,{"$error":"#VALUE!"},547,null,null,null,null,null,null,null,null,null,null,null,null,null,null,null,null,null,null,"~"]
["SA37",2023,{"$error":"#VALUE!"},548,null,null,null,null,null,null,null,null,null,null,null,null,null,null,null,null,null,null,"~"]
["SA37",2023,{"$error":"#VALUE!"},549,null,null,null,null,null,null,null,null,null,null,null,null,null,null,null,null,null,null,"~"]
["SA37",2023,{"$error":"#VALUE!"},550,null,null,null,null,null,null,null,null,null,null,null,null,null,null,null,null,null,null,"~"]
["SA37",2023,{"$error":"#VALUE!"},551,null,null,null,null,null,null,null,null,null,null,null,null,null,null,null,null,null,null,"~"]
["SA37",2023,{"$error":"#VALUE!"},552,null,null,null,null,null,null,null,null,null,null,null,null,null,null,null,null,null,null,"~"]
["SA37",2023,{"$error":"#VALUE!"},553,null,null,null,null,null,null,null,null,null,null,null,null,null,null,null,null,null,null,"~"]
["SA37",2023,{"$error":"#VALUE!"},554,null,null,null,null,null,null,null,null,null,null,null,null,null,null,null,null,null,null,"~"]
["SA37",2023,{"$error":"#VALUE!"},555,null,null,null,null,null,null,null,null,null,null,null,null,null,null,null,null,null,null,"~"]
["SA37",2023,{"$error":"#VALUE!"},556,null,null,null,null,null,null,null,null,null,null,null,null,null,null,null,null,null,null,"~"]
["SA37",2023,{"$error":"#VALUE!"},557,null,null,null,null,null,null,null,null,null,null,null,null,null,null,null,null,null,null,"~"]
["SA37",2023,{"$error":"#VALUE!"},558,null,null,null,null,null,null,null,null,null,null,null,null,null,null,null,null,null,null,"~"]
["SA37",2023,{"$error":"#VALUE!"},559,null,null,null,null,null,null,null,null,null,null,null,null,null,null,null,null,null,null,"~"]
["SA37",{"$f":"+MTREF","v":2023},{"$f":"LEFT(muni,(FIND(\" \",muni,1)-1))","v":{"$error":"#VALUE!"}},560,null,null,null,null,null,null,null,null,null,null,null,null,null,null,null,null,null,null,"~"]
["SA37",2023,{"$error":"#VALUE!"},561,null,null,null,null,null,null,null,null,null,null,null,null,null,null,null,null,null,null,"~"]
["SA37",2023,{"$error":"#VALUE!"},562,null,null,null,null,null,null,null,null,null,null,null,null,null,null,null,null,null,null,"~"]
["SA37",2023,{"$error":"#VALUE!"},563,null,null,null,null,null,null,null,null,null,null,null,null,null,null,null,null,null,null,"~"]
["SA37",2023,{"$error":"#VALUE!"},564,null,null,null,null,null,null,null,null,null,null,null,null,null,null,null,null,null,null,"~"]
["SA37",2023,{"$error":"#VALUE!"},565,null,null,null,null,null,null,null,null,null,null,null,null,null,null,null,null,null,null,"~"]
["SA37",2023,{"$error":"#VALUE!"},566,null,null,null,null,null,null,null,null,null,null,null,null,null,null,null,null,null,null,"~"]
["SA37",2023,{"$error":"#VALUE!"},567,null,null,null,null,null,null,null,null,null,null,null,null,null,null,null,null,null,null,"~"]
["SA37",2023,{"$error":"#VALUE!"},568,null,null,null,null,null,null,null,null,null,null,null,null,null,null,null,null,null,null,"~"]
["SA37",2023,{"$error":"#VALUE!"},569,null,null,null,null,null,null,null,null,null,null,null,null,null,null,null,null,null,null,"~"]
["SA37",2023,{"$error":"#VALUE!"},570,null,null,null,null,null,null,null,null,null,null,null,null,null,null,null,null,null,null,"~"]
["SA37",2023,{"$error":"#VALUE!"},571,null,null,null,null,null,null,null,null,null,null,null,null,null,null,null,null,null,null,"~"]
["SA37",2023,{"$error":"#VALUE!"},572,null,null,null,null,null,null,null,null,null,null,null,null,null,null,null,null,null,null,"~"]
["SA37",2023,{"$error":"#VALUE!"},573,null,null,null,null,null,null,null,null,null,null,null,null,null,null,null,null,null,null,"~"]
["SA37",2023,{"$error":"#VALUE!"},574,null,null,null,null,null,null,null,null,null,null,null,null,null,null,null,null,null,null,"~"]
["SA37",2023,{"$error":"#VALUE!"},575,null,null,null,null,null,null,null,null,null,null,null,null,null,null,null,null,null,null,"~"]
["SA37",2023,{"$error":"#VALUE!"},576,null,null,null,null,null,null,null,null,null,null,null,null,null,null,null,null,null,null,"~"]
["SA37",2023,{"$error":"#VALUE!"},577,null,null,null,null,null,null,null,null,null,null,null,null,null,null,null,null,null,null,"~"]
["SA37",2023,{"$error":"#VALUE!"},578,null,null,null,null,null,null,null,null,null,null,null,null,null,null,null,null,null,null,"~"]
["SA37",2023,{"$error":"#VALUE!"},579,null,null,null,null,null,null,null,null,null,null,null,null,null,null,null,null,null,null,"~"]
["SA37",2023,{"$error":"#VALUE!"},580,null,null,null,null,null,null,null,null,null,null,null,null,null,null,null,null,null,null,"~"]
["SA37",2023,{"$error":"#VALUE!"},581,null,null,null,null,null,null,null,null,null,null,null,null,null,null,null,null,null,null,"~"]
["SA37",2023,{"$error":"#VALUE!"},582,null,null,null,null,null,null,null,null,null,null,null,null,null,null,null,null,null,null,"~"]
["SA37",2023,{"$error":"#VALUE!"},583,null,null,null,null,null,null,null,null,null,null,null,null,null,null,null,null,null,null,"~"]
["SA37",2023,{"$error":"#VALUE!"},584,null,null,null,null,null,null,null,null,null,null,null,null,null,null,null,null,null,null,"~"]
["SA37",2023,{"$error":"#VALUE!"},585,null,null,null,null,null,null,null,null,null,null,null,null,null,null,null,null,null,null,"~"]
["SA37",2023,{"$error":"#VALUE!"},586,null,null,null,null,null,null,null,null,null,null,null,null,null,null,null,null,null,null,"~"]
["SA37",2023,{"$error":"#VALUE!"},587,null,null,null,null,null,null,null,null,null,null,null,null,null,null,null,null,null,null,"~"]
["SA37",2023,{"$error":"#VALUE!"},588,null,null,null,null,null,null,null,null,null,null,null,null,null,null,null,null,null,null,"~"]
["SA37",2023,{"$error":"#VALUE!"},589,null,null,null,null,null,null,null,null,null,null,null,null,null,null,null,null,null,null,"~"]
["SA37",2023,{"$error":"#VALUE!"},590,null,null,null,null,null,null,null,null,null,null,null,null,null,null,null,null,null,null,"~"]
["SA37",2023,{"$error":"#VALUE!"},591,null,null,null,null,null,null,null,null,null,null,null,null,null,null,null,null,null,null,"~"]
["SA37",2023,{"$error":"#VALUE!"},592,null,null,null,null,null,null,null,null,null,null,null,null,null,null,null,null,null,null,"~"]
["SA37",2023,{"$error":"#VALUE!"},593,null,null,null,null,null,null,null,null,null,null,null,null,null,null,null,null,null,null,"~"]
["SA37",2023,{"$error":"#VALUE!"},594,null,null,null,null,null,null,null,null,null,null,null,null,null,null,null,null,null,null,"~"]
["SA37",2023,{"$error":"#VALUE!"},595,null,null,null,null,null,null,null,null,null,null,null,null,null,null,null,null,null,null,"~"]
["SA37",2023,{"$error":"#VALUE!"},596,null,null,null,null,null,null,null,null,null,null,null,null,null,null,null,null,null,null,"~"]
["SA37",2023,{"$error":"#VALUE!"},597,null,null,null,null,null,null,null,null,null,null,null,null,null,null,null,null,null,null,"~"]
["SA37",2023,{"$error":"#VALUE!"},598,null,null,null,null,null,null,null,null,null,null,null,null,null,null,null,null,null,null,"~"]
["SA37",2023,{"$error":"#VALUE!"},599,null,null,null,null,null,null,null,null,null,null,null,null,null,null,null,null,null,null,"~"]
["SA37",2023,{"$error":"#VALUE!"},600,null,null,null,null,null,null,null,null,null,null,null,null,null,null,null,null,null,null,"~"]
["SA37",2023,{"$error":"#VALUE!"},601,null,null,null,null,null,null,null,null,null,null,null,null,null,null,null,null,null,null,"~"]
["SA37",2023,{"$error":"#VALUE!"},602,null,null,null,null,null,null,null,null,null,null,null,null,null,null,null,null,null,null,"~"]
["SA37",2023,{"$error":"#VALUE!"},603,null,null,null,null,null,null,null,null,null,null,null,null,null,null,null,null,null,null,"~"]
["SA37",2023,{"$error":"#VALUE!"},604,null,null,null,null,null,null,null,null,null,null,null,null,null,null,null,null,null,null,"~"]
["SA37",2023,{"$error":"#VALUE!"},605,null,null,null,null,null,null,null,null,null,null,null,null,null,null,null,null,null,null,"~"]
["SA37",2023,{"$error":"#VALUE!"},606,null,null,null,null,null,null,null,null,null,null,null,null,null,null,null,null,null,null,"~"]
["SA37",2023,{"$error":"#VALUE!"},607,null,null,null,null,null,null,null,null,null,null,null,null,null,null,null,null,null,null,"~"]
["SA37",2023,{"$error":"#VALUE!"},608,null,null,null,null,null,null,null,null,null,null,null,null,null,null,null,null,null,null,"~"]
["SA37",2023,{"$error":"#VALUE!"},609,null,null,null,null,null,null,null,null,null,null,null,null,null,null,null,null,null,null,"~"]
["SA37",2023,{"$error":"#VALUE!"},610,null,null,null,null,null,null,null,null,null,null,null,null,null,null,null,null,null,null,"~"]
["SA37",2023,{"$error":"#VALUE!"},611,null,null,null,null,null,null,null,null,null,null,null,null,null,null,null,null,null,null,"~"]
["SA37",2023,{"$error":"#VALUE!"},612,null,null,null,null,null,null,null,null,null,null,null,null,null,null,null,null,null,null,"~"]
["SA37",2023,{"$error":"#VALUE!"},613,null,null,null,null,null,null,null,null,null,null,null,null,null,null,null,null,null,null,"~"]
["SA37",2023,{"$error":"#VALUE!"},614,null,null,null,null,null,null,null,null,null,null,null,null,null,null,null,null,null,null,"~"]
["SA37",2023,{"$error":"#VALUE!"},615,null,null,null,null,null,null,null,null,null,null,null,null,null,null,null,null,null,null,"~"]
["SA37",2023,{"$error":"#VALUE!"},616,null,null,null,null,null,null,null,null,null,null,null,null,null,null,null,null,null,null,"~"]
["SA37",2023,{"$error":"#VALUE!"},617,null,null,null,null,null,null,null,null,null,null,null,null,null,null,null,null,null,null,"~"]
["SA37",2023,{"$error":"#VALUE!"},618,null,null,null,null,null,null,null,null,null,null,null,null,null,null,null,null,null,null,"~"]
["SA37",2023,{"$error":"#VALUE!"},619,null,null,null,null,null,null,null,null,null,null,null,null,null,null,null,null,null,null,"~"]
["SA37",2023,{"$error":"#VALUE!"},620,null,null,null,null,null,null,null,null,null,null,null,null,null,null,null,null,null,null,"~"]
["SA37",2023,{"$error":"#VALUE!"},621,null,null,null,null,null,null,null,null,null,null,null,null,null,null,null,null,null,null,"~"]
["SA37",2023,{"$error":"#VALUE!"},622,null,null,null,null,null,null,null,null,null,null,null,null,null,null,null,null,null,null,"~"]
["SA37",2023,{"$error":"#VALUE!"},623,null,null,null,null,null,null,null,null,null,null,null,null,null,null,null,null,null,null,"~"]
["SA37",{"$f":"+MTREF","v":2023},{"$f":"LEFT(muni,(FIND(\" \",muni,1)-1))","v":{"$error":"#VALUE!"}},624,null,null,null,null,null,null,null,null,null,null,null,null,null,null,null,null,null,null,"~"]
["SA37",2023,{"$error":"#VALUE!"},625,null,null,null,null,null,null,null,null,null,null,null,null,null,null,null,null,null,null,"~"]
["SA37",2023,{"$error":"#VALUE!"},626,null,null,null,null,null,null,null,null,null,null,null,null,null,null,null,null,null,null,"~"]
["SA37",2023,{"$error":"#VALUE!"},627,null,null,null,null,null,null,null,null,null,null,null,null,null,null,null,null,null,null,"~"]
["SA37",2023,{"$error":"#VALUE!"},628,null,null,null,null,null,null,null,null,null,null,null,null,null,null,null,null,null,null,"~"]
["SA37",2023,{"$error":"#VALUE!"},629,null,null,null,null,null,null,null,null,null,null,null,null,null,null,null,null,null,null,"~"]
["SA37",2023,{"$error":"#VALUE!"},630,null,null,null,null,null,null,null,null,null,null,null,null,null,null,null,null,null,null,"~"]
["SA37",2023,{"$error":"#VALUE!"},631,null,null,null,null,null,null,null,null,null,null,null,null,null,null,null,null,null,null,"~"]
["SA37",2023,{"$error":"#VALUE!"},632,null,null,null,null,null,null,null,null,null,null,null,null,null,null,null,null,null,null,"~"]
["SA37",2023,{"$error":"#VALUE!"},633,null,null,null,null,null,null,null,null,null,null,null,null,null,null,null,null,null,null,"~"]
["SA37",2023,{"$error":"#VALUE!"},634,null,null,null,null,null,null,null,null,null,null,null,null,null,null,null,null,null,null,"~"]
["SA37",2023,{"$error":"#VALUE!"},635,null,null,null,null,null,null,null,null,null,null,null,null,null,null,null,null,null,null,"~"]
["SA37",2023,{"$error":"#VALUE!"},636,null,null,null,null,null,null,null,null,null,null,null,null,null,null,null,null,null,null,"~"]
["SA37",2023,{"$error":"#VALUE!"},637,null,null,null,null,null,null,null,null,null,null,null,null,null,null,null,null,null,null,"~"]
["SA37",2023,{"$error":"#VALUE!"},638,null,null,null,null,null,null,null,null,null,null,null,null,null,null,null,null,null,null,"~"]
["SA37",2023,{"$error":"#VALUE!"},639,null,null,null,null,null,null,null,null,null,null,null,null,null,null,null,null,null,null,"~"]
["SA37",2023,{"$error":"#VALUE!"},640,null,null,null,null,null,null,null,null,null,null,null,null,null,null,null,null,null,null,"~"]
["SA37",2023,{"$error":"#VALUE!"},641,null,null,null,null,null,null,null,null,null,null,null,null,null,null,null,null,null,null,"~"]
["SA37",2023,{"$error":"#VALUE!"},642,null,null,null,null,null,null,null,null,null,null,null,null,null,null,null,null,null,null,"~"]
["SA37",2023,{"$error":"#VALUE!"},643,null,null,null,null,null,null,null,null,null,null,null,null,null,null,null,null,null,null,"~"]
["SA37",2023,{"$error":"#VALUE!"},644,null,null,null,null,null,null,null,null,null,null,null,null,null,null,null,null,null,null,"~"]
["SA37",2023,{"$error":"#VALUE!"},645,null,null,null,null,null,null,null,null,null,null,null,null,null,null,null,null,null,null,"~"]
["SA37",2023,{"$error":"#VALUE!"},646,null,null,null,null,null,null,null,null,null,null,null,null,null,null,null,null,null,null,"~"]
["SA37",2023,{"$error":"#VALUE!"},647,null,null,null,null,null,null,null,null,null,null,null,null,null,null,null,null,null,null,"~"]
["SA37",2023,{"$error":"#VALUE!"},648,null,null,null,null,null,null,null,null,null,null,null,null,null,null,null,null,null,null,"~"]
["SA37",2023,{"$error":"#VALUE!"},649,null,null,null,null,null,null,null,null,null,null,null,null,null,null,null,null,null,null,"~"]
["SA37",2023,{"$error":"#VALUE!"},650,null,null,null,null,null,null,null,null,null,null,null,null,null,null,null,null,null,null,"~"]
["SA37",2023,{"$error":"#VALUE!"},651,null,null,null,null,null,null,null,null,null,null,null,null,null,null,null,null,null,null,"~"]
["SA37",2023,{"$error":"#VALUE!"},652,null,null,null,null,null,null,null,null,null,null,null,null,null,null,null,null,null,null,"~"]
["SA37",2023,{"$error":"#VALUE!"},653,null,null,null,null,null,null,null,null,null,null,null,null,null,null,null,null,null,null,"~"]
["SA37",2023,{"$error":"#VALUE!"},654,null,null,null,null,null,null,null,null,null,null,null,null,null,null,null,null,null,null,"~"]
["SA37",2023,{"$error":"#VALUE!"},655,null,null,null,null,null,null,null,null,null,null,null,null,null,null,null,null,null,null,"~"]
["SA37",2023,{"$error":"#VALUE!"},656,null,null,null,null,null,null,null,null,null,null,null,null,null,null,null,null,null,null,"~"]
["SA37",2023,{"$error":"#VALUE!"},657,null,null,null,null,null,null,null,null,null,null,null,null,null,null,null,null,null,null,"~"]
["SA37",2023,{"$error":"#VALUE!"},658,null,null,null,null,null,null,null,null,null,null,null,null,null,null,null,null,null,null,"~"]
["SA37",2023,{"$error":"#VALUE!"},659,null,null,null,null,null,null,null,null,null,null,null,null,null,null,null,null,null,null,"~"]
["SA37",2023,{"$error":"#VALUE!"},660,null,null,null,null,null,null,null,null,null,null,null,null,null,null,null,null,null,null,"~"]
["SA37",2023,{"$error":"#VALUE!"},661,null,null,null,null,null,null,null,null,null,null,null,null,null,null,null,null,null,null,"~"]
["SA37",2023,{"$error":"#VALUE!"},662,null,null,null,null,null,null,null,null,null,null,null,null,null,null,null,null,null,null,"~"]
["SA37",2023,{"$error":"#VALUE!"},663,null,null,null,null,null,null,null,null,null,null,null,null,null,null,null,null,null,null,"~"]
["SA37",2023,{"$error":"#VALUE!"},664,null,null,null,null,null,null,null,null,null,null,null,null,null,null,null,null,null,null,"~"]
["SA37",2023,{"$error":"#VALUE!"},665,null,null,null,null,null,null,null,null,null,null,null,null,null,null,null,null,null,null,"~"]
["SA37",2023,{"$error":"#VALUE!"},666,null,null,null,null,null,null,null,null,null,null,null,null,null,null,null,null,null,null,"~"]
["SA37",2023,{"$error":"#VALUE!"},667,null,null,null,null,null,null,null,null,null,null,null,null,null,null,null,null,null,null,"~"]
["SA37",2023,{"$error":"#VALUE!"},668,null,null,null,null,null,null,null,null,null,null,null,null,null,null,null,null,null,null,"~"]
["SA37",2023,{"$error":"#VALUE!"},669,null,null,null,null,null,null,null,null,null,null,null,null,null,null,null,null,null,null,"~"]
["SA37",2023,{"$error":"#VALUE!"},670,null,null,null,null,null,null,null,null,null,null,null,null,null,null,null,null,null,null,"~"]
["SA37",2023,{"$error":"#VALUE!"},671,null,null,null,null,null,null,null,null,null,null,null,null,null,null,null,null,null,null,"~"]
["SA37",2023,{"$error":"#VALUE!"},672,null,null,null,null,null,null,null,null,null,null,null,null,null,null,null,null,null,null,"~"]
["SA37",2023,{"$error":"#VALUE!"},673,null,null,null,null,null,null,null,null,null,null,null,null,null,null,null,null,null,null,"~"]
["SA37",2023,{"$error":"#VALUE!"},674,null,null,null,null,null,null,null,null,null,null,null,null,null,null,null,null,null,null,"~"]
["SA37",2023,{"$error":"#VALUE!"},675,null,null,null,null,null,null,null,null,null,null,null,null,null,null,null,null,null,null,"~"]
["SA37",2023,{"$error":"#VALUE!"},676,null,null,null,null,null,null,null,null,null,null,null,null,null,null,null,null,null,null,"~"]
["SA37",2023,{"$error":"#VALUE!"},677,null,null,null,null,null,null,null,null,null,null,null,null,null,null,null,null,null,null,"~"]
["SA37",2023,{"$error":"#VALUE!"},678,null,null,null,null,null,null,null,null,null,null,null,null,null,null,null,null,null,null,"~"]
["SA37",2023,{"$error":"#VALUE!"},679,null,null,null,null,null,null,null,null,null,null,null,null,null,null,null,null,null,null,"~"]
["SA37",2023,{"$error":"#VALUE!"},680,null,null,null,null,null,null,null,null,null,null,null,null,null,null,null,null,null,null,"~"]
["SA37",2023,{"$error":"#VALUE!"},681,null,null,null,null,null,null,null,null,null,null,null,null,null,null,null,null,null,null,"~"]
["SA37",2023,{"$error":"#VALUE!"},682,null,null,null,null,null,null,null,null,null,null,null,null,null,null,null,null,null,null,"~"]
["SA37",2023,{"$error":"#VALUE!"},683,null,null,null,null,null,null,null,null,null,null,null,null,null,null,null,null,null,null,"~"]
["SA37",2023,{"$error":"#VALUE!"},684,null,null,null,null,null,null,null,null,null,null,null,null,null,null,null,null,null,null,"~"]
["SA37",2023,{"$error":"#VALUE!"},685,null,null,null,null,null,null,null,null,null,null,null,null,null,null,null,null,null,null,"~"]
["SA37",2023,{"$error":"#VALUE!"},686,null,null,null,null,null,null,null,null,null,null,null,null,null,null,null,null,null,null,"~"]
["SA37",2023,{"$error":"#VALUE!"},687,null,null,null,null,null,null,null,null,null,null,null,null,null,null,null,null,null,null,"~"]
["SA37",{"$f":"+MTREF","v":2023},{"$f":"LEFT(muni,(FIND(\" \",muni,1)-1))","v":{"$error":"#VALUE!"}},688,null,null,null,null,null,null,null,null,null,null,null,null,null,null,null,null,null,null,"~"]
["SA37",2023,{"$error":"#VALUE!"},689,null,null,null,null,null,null,null,null,null,null,null,null,null,null,null,null,null,null,"~"]
["SA37",2023,{"$error":"#VALUE!"},690,null,null,null,null,null,null,null,null,null,null,null,null,null,null,null,null,null,null,"~"]
["SA37",2023,{"$error":"#VALUE!"},691,null,null,null,null,null,null,null,null,null,null,null,null,null,null,null,null,null,null,"~"]
["SA37",2023,{"$error":"#VALUE!"},692,null,null,null,null,null,null,null,null,null,null,null,null,null,null,null,null,null,null,"~"]
["SA37",2023,{"$error":"#VALUE!"},693,null,null,null,null,null,null,null,null,null,null,null,null,null,null,null,null,null,null,"~"]
["SA37",2023,{"$error":"#VALUE!"},694,null,null,null,null,null,null,null,null,null,null,null,null,null,null,null,null,null,null,"~"]
["SA37",2023,{"$error":"#VALUE!"},695,null,null,null,null,null,null,null,null,null,null,null,null,null,null,null,null,null,null,"~"]
["SA37",2023,{"$error":"#VALUE!"},696,null,null,null,null,null,null,null,null,null,null,null,null,null,null,null,null,null,null,"~"]
["SA37",2023,{"$error":"#VALUE!"},697,null,null,null,null,null,null,null,null,null,null,null,null,null,null,null,null,null,null,"~"]
["SA37",2023,{"$error":"#VALUE!"},698,null,null,null,null,null,null,null,null,null,null,null,null,null,null,null,null,null,null,"~"]
["SA37",2023,{"$error":"#VALUE!"},699,null,null,null,null,null,null,null,null,null,null,null,null,null,null,null,null,null,null,"~"]
["SA37",2023,{"$error":"#VALUE!"},700,null,null,null,null,null,null,null,null,null,null,null,null,null,null,null,null,null,null,"~"]
["SA37",2023,{"$error":"#VALUE!"},701,null,null,null,null,null,null,null,null,null,null,null,null,null,null,null,null,null,null,"~"]
["SA37",2023,{"$error":"#VALUE!"},702,null,null,null,null,null,null,null,null,null,null,null,null,null,null,null,null,null,null,"~"]
["SA37",2023,{"$error":"#VALUE!"},703,null,null,null,null,null,null,null,null,null,null,null,null,null,null,null,null,null,null,"~"]
["SA37",2023,{"$error":"#VALUE!"},704,null,null,null,null,null,null,null,null,null,null,null,null,null,null,null,null,null,null,"~"]
["SA37",2023,{"$error":"#VALUE!"},705,null,null,null,null,null,null,null,null,null,null,null,null,null,null,null,null,null,null,"~"]
["SA37",2023,{"$error":"#VALUE!"},706,null,null,null,null,null,null,null,null,null,null,null,null,null,null,null,null,null,null,"~"]
["SA37",2023,{"$error":"#VALUE!"},707,null,null,null,null,null,null,null,null,null,null,null,null,null,null,null,null,null,null,"~"]
["SA37",2023,{"$error":"#VALUE!"},708,null,null,null,null,null,null,null,null,null,null,null,null,null,null,null,null,null,null,"~"]
["SA37",2023,{"$error":"#VALUE!"},709,null,null,null,null,null,null,null,null,null,null,null,null,null,null,null,null,null,null,"~"]
["SA37",2023,{"$error":"#VALUE!"},710,null,null,null,null,null,null,null,null,null,null,null,null,null,null,null,null,null,null,"~"]
["SA37",2023,{"$error":"#VALUE!"},711,null,null,null,null,null,null,null,null,null,null,null,null,null,null,null,null,null,null,"~"]
["SA37",2023,{"$error":"#VALUE!"},712,null,null,null,null,null,null,null,null,null,null,null,null,null,null,null,null,null,null,"~"]
["SA37",2023,{"$error":"#VALUE!"},713,null,null,null,null,null,null,null,null,null,null,null,null,null,null,null,null,null,null,"~"]
["SA37",2023,{"$error":"#VALUE!"},714,null,null,null,null,null,null,null,null,null,null,null,null,null,null,null,null,null,null,"~"]
["SA37",2023,{"$error":"#VALUE!"},715,null,null,null,null,null,null,null,null,null,null,null,null,null,null,null,null,null,null,"~"]
["SA37",2023,{"$error":"#VALUE!"},716,null,null,null,null,null,null,null,null,null,null,null,null,null,null,null,null,null,null,"~"]
["SA37",2023,{"$error":"#VALUE!"},717,null,null,null,null,null,null,null,null,null,null,null,null,null,null,null,null,null,null,"~"]
["SA37",2023,{"$error":"#VALUE!"},718,null,null,null,null,null,null,null,null,null,null,null,null,null,null,null,null,null,null,"~"]
["SA37",2023,{"$error":"#VALUE!"},719,null,null,null,null,null,null,null,null,null,null,null,null,null,null,null,null,null,null,"~"]
["SA37",2023,{"$error":"#VALUE!"},720,null,null,null,null,null,null,null,null,null,null,null,null,null,null,null,null,null,null,"~"]
["SA37",2023,{"$error":"#VALUE!"},721,null,null,null,null,null,null,null,null,null,null,null,null,null,null,null,null,null,null,"~"]
["SA37",2023,{"$error":"#VALUE!"},722,null,null,null,null,null,null,null,null,null,null,null,null,null,null,null,null,null,null,"~"]
["SA37",2023,{"$error":"#VALUE!"},723,null,null,null,null,null,null,null,null,null,null,null,null,null,null,null,null,null,null,"~"]
["SA37",2023,{"$error":"#VALUE!"},724,null,null,null,null,null,null,null,null,null,null,null,null,null,null,null,null,null,null,"~"]
["SA37",2023,{"$error":"#VALUE!"},725,null,null,null,null,null,null,null,null,null,null,null,null,null,null,null,null,null,null,"~"]
["SA37",2023,{"$error":"#VALUE!"},726,null,null,null,null,null,null,null,null,null,null,null,null,null,null,null,null,null,null,"~"]
["SA37",2023,{"$error":"#VALUE!"},727,null,null,null,null,null,null,null,null,null,null,null,null,null,null,null,null,null,null,"~"]
["SA37",2023,{"$error":"#VALUE!"},728,null,null,null,null,null,null,null,null,null,null,null,null,null,null,null,null,null,null,"~"]
["SA37",2023,{"$error":"#VALUE!"},729,null,null,null,null,null,null,null,null,null,null,null,null,null,null,null,null,null,null,"~"]
["SA37",2023,{"$error":"#VALUE!"},730,null,null,null,null,null,null,null,null,null,null,null,null,null,null,null,null,null,null,"~"]
["SA37",2023,{"$error":"#VALUE!"},731,null,null,null,null,null,null,null,null,null,null,null,null,null,null,null,null,null,null,"~"]
["SA37",2023,{"$error":"#VALUE!"},732,null,null,null,null,null,null,null,null,null,null,null,null,null,null,null,null,null,null,"~"]
["SA37",2023,{"$error":"#VALUE!"},733,null,null,null,null,null,null,null,null,null,null,null,null,null,null,null,null,null,null,"~"]
["SA37",2023,{"$error":"#VALUE!"},734,null,null,null,null,null,null,null,null,null,null,null,null,null,null,null,null,null,null,"~"]
["SA37",2023,{"$error":"#VALUE!"},735,null,null,null,null,null,null,null,null,null,null,null,null,null,null,null,null,null,null,"~"]
["SA37",2023,{"$error":"#VALUE!"},736,null,null,null,null,null,null,null,null,null,null,null,null,null,null,null,null,null,null,"~"]
["SA37",2023,{"$error":"#VALUE!"},737,null,null,null,null,null,null,null,null,null,null,null,null,null,null,null,null,null,null,"~"]
["SA37",2023,{"$error":"#VALUE!"},738,null,null,null,null,null,null,null,null,null,null,null,null,null,null,null,null,null,null,"~"]
["SA37",2023,{"$error":"#VALUE!"},739,null,null,null,null,null,null,null,null,null,null,null,null,null,null,null,null,null,null,"~"]
["SA37",2023,{"$error":"#VALUE!"},740,null,null,null,null,null,null,null,null,null,null,null,null,null,null,null,null,null,null,"~"]
["SA37",2023,{"$error":"#VALUE!"},741,null,null,null,null,null,null,null,null,null,null,null,null,null,null,null,null,null,null,"~"]
["SA37",2023,{"$error":"#VALUE!"},742,null,null,null,null,null,null,null,null,null,null,null,null,null,null,null,null,null,null,"~"]
["SA37",2023,{"$error":"#VALUE!"},743,null,null,null,null,null,null,null,null,null,null,null,null,null,null,null,null,null,null,"~"]
["SA37",2023,{"$error":"#VALUE!"},744,null,null,null,null,null,null,null,null,null,null,null,null,null,null,null,null,null,null,"~"]
["SA37",2023,{"$error":"#VALUE!"},745,null,null,null,null,null,null,null,null,null,null,null,null,null,null,null,null,null,null,"~"]
["SA37",2023,{"$error":"#VALUE!"},746,null,null,null,null,null,null,null,null,null,null,null,null,null,null,null,null,null,null,"~"]
["SA37",2023,{"$error":"#VALUE!"},747,null,null,null,null,null,null,null,null,null,null,null,null,null,null,null,null,null,null,"~"]
["SA37",2023,{"$error":"#VALUE!"},748,null,null,null,null,null,null,null,null,null,null,null,null,null,null,null,null,null,null,"~"]
["SA37",2023,{"$error":"#VALUE!"},749,null,null,null,null,null,null,null,null,null,null,null,null,null,null,null,null,null,null,"~"]
["SA37",2023,{"$error":"#VALUE!"},750,null,null,null,null,null,null,null,null,null,null,null,null,null,null,null,null,null,null,"~"]
["SA37",2023,{"$error":"#VALUE!"},751,null,null,null,null,null,null,null,null,null,null,null,null,null,null,null,null,null,null,"~"]
["SA37",{"$f":"+MTREF","v":2023},{"$f":"LEFT(muni,(FIND(\" \",muni,1)-1))","v":{"$error":"#VALUE!"}},752,null,null,null,null,null,null,null,null,null,null,null,null,null,null,null,null,null,null,"~"]
["SA37",2023,{"$error":"#VALUE!"},753,null,null,null,null,null,null,null,null,null,null,null,null,null,null,null,null,null,null,"~"]
["SA37",2023,{"$error":"#VALUE!"},754,null,null,null,null,null,null,null,null,null,null,null,null,null,null,null,null,null,null,"~"]
["SA37",2023,{"$error":"#VALUE!"},755,null,null,null,null,null,null,null,null,null,null,null,null,null,null,null,null,null,null,"~"]
["SA37",2023,{"$error":"#VALUE!"},756,null,null,null,null,null,null,null,null,null,null,null,null,null,null,null,null,null,null,"~"]
["SA37",2023,{"$error":"#VALUE!"},757,null,null,null,null,null,null,null,null,null,null,null,null,null,null,null,null,null,null,"~"]
["SA37",2023,{"$error":"#VALUE!"},758,null,null,null,null,null,null,null,null,null,null,null,null,null,null,null,null,null,null,"~"]
["SA37",2023,{"$error":"#VALUE!"},759,null,null,null,null,null,null,null,null,null,null,null,null,null,null,null,null,null,null,"~"]
["SA37",2023,{"$error":"#VALUE!"},760,null,null,null,null,null,null,null,null,null,null,null,null,null,null,null,null,null,null,"~"]
["SA37",2023,{"$error":"#VALUE!"},761,null,null,null,null,null,null,null,null,null,null,null,null,null,null,null,null,null,null,"~"]
["SA37",2023,{"$error":"#VALUE!"},762,null,null,null,null,null,null,null,null,null,null,null,null,null,null,null,null,null,null,"~"]
["SA37",2023,{"$error":"#VALUE!"},763,null,null,null,null,null,null,null,null,null,null,null,null,null,null,null,null,null,null,"~"]
["SA37",2023,{"$error":"#VALUE!"},764,null,null,null,null,null,null,null,null,null,null,null,null,null,null,null,null,null,null,"~"]
["SA37",2023,{"$error":"#VALUE!"},765,null,null,null,null,null,null,null,null,null,null,null,null,null,null,null,null,null,null,"~"]
["SA37",2023,{"$error":"#VALUE!"},766,null,null,null,null,null,null,null,null,null,null,null,null,null,null,null,null,null,null,"~"]
["SA37",2023,{"$error":"#VALUE!"},767,null,null,null,null,null,null,null,null,null,null,null,null,null,null,null,null,null,null,"~"]
["SA37",2023,{"$error":"#VALUE!"},768,null,null,null,null,null,null,null,null,null,null,null,null,null,null,null,null,null,null,"~"]
["SA37",2023,{"$error":"#VALUE!"},769,null,null,null,null,null,null,null,null,null,null,null,null,null,null,null,null,null,null,"~"]
["SA37",2023,{"$error":"#VALUE!"},770,null,null,null,null,null,null,null,null,null,null,null,null,null,null,null,null,null,null,"~"]
["SA37",2023,{"$error":"#VALUE!"},771,null,null,null,null,null,null,null,null,null,null,null,null,null,null,null,null,null,null,"~"]
["SA37",2023,{"$error":"#VALUE!"},772,null,null,null,null,null,null,null,null,null,null,null,null,null,null,null,null,null,null,"~"]
["SA37",2023,{"$error":"#VALUE!"},773,null,null,null,null,null,null,null,null,null,null,null,null,null,null,null,null,null,null,"~"]
["SA37",2023,{"$error":"#VALUE!"},774,null,null,null,null,null,null,null,null,null,null,null,null,null,null,null,null,null,null,"~"]
["SA37",2023,{"$error":"#VALUE!"},775,null,null,null,null,null,null,null,null,null,null,null,null,null,null,null,null,null,null,"~"]
["SA37",2023,{"$error":"#VALUE!"},776,null,null,null,null,null,null,null,null,null,null,null,null,null,null,null,null,null,null,"~"]
["SA37",2023,{"$error":"#VALUE!"},777,null,null,null,null,null,null,null,null,null,null,null,null,null,null,null,null,null,null,"~"]
["SA37",2023,{"$error":"#VALUE!"},778,null,null,null,null,null,null,null,null,null,null,null,null,null,null,null,null,null,null,"~"]
["SA37",2023,{"$error":"#VALUE!"},779,null,null,null,null,null,null,null,null,null,null,null,null,null,null,null,null,null,null,"~"]
["SA37",2023,{"$error":"#VALUE!"},780,null,null,null,null,null,null,null,null,null,null,null,null,null,null,null,null,null,null,"~"]
["SA37",2023,{"$error":"#VALUE!"},781,null,null,null,null,null,null,null,null,null,null,null,null,null,null,null,null,null,null,"~"]
["SA37",2023,{"$error":"#VALUE!"},782,null,null,null,null,null,null,null,null,null,null,null,null,null,null,null,null,null,null,"~"]
["SA37",2023,{"$error":"#VALUE!"},783,null,null,null,null,null,null,null,null,null,null,null,null,null,null,null,null,null,null,"~"]
["SA37",2023,{"$error":"#VALUE!"},784,null,null,null,null,null,null,null,null,null,null,null,null,null,null,null,null,null,null,"~"]
["SA37",2023,{"$error":"#VALUE!"},785,null,null,null,null,null,null,null,null,null,null,null,null,null,null,null,null,null,null,"~"]
["SA37",2023,{"$error":"#VALUE!"},786,null,null,null,null,null,null,null,null,null,null,null,null,null,null,null,null,null,null,"~"]
["SA37",2023,{"$error":"#VALUE!"},787,null,null,null,null,null,null,null,null,null,null,null,null,null,null,null,null,null,null,"~"]
["SA37",2023,{"$error":"#VALUE!"},788,null,null,null,null,null,null,null,null,null,null,null,null,null,null,null,null,null,null,"~"]
["SA37",2023,{"$error":"#VALUE!"},789,null,null,null,null,null,null,null,null,null,null,null,null,null,null,null,null,null,null,"~"]
["SA37",2023,{"$error":"#VALUE!"},790,null,null,null,null,null,null,null,null,null,null,null,null,null,null,null,null,null,null,"~"]
["SA37",2023,{"$error":"#VALUE!"},791,null,null,null,null,null,null,null,null,null,null,null,null,null,null,null,null,null,null,"~"]
["SA37",2023,{"$error":"#VALUE!"},792,null,null,null,null,null,null,null,null,null,null,null,null,null,null,null,null,null,null,"~"]
["SA37",2023,{"$error":"#VALUE!"},793,null,null,null,null,null,null,null,null,null,null,null,null,null,null,null,null,null,null,"~"]
["SA37",2023,{"$error":"#VALUE!"},794,null,null,null,null,null,null,null,null,null,null,null,null,null,null,null,null,null,null,"~"]
["SA37",2023,{"$error":"#VALUE!"},795,null,null,null,null,null,null,null,null,null,null,null,null,null,null,null,null,null,null,"~"]
["SA37",2023,{"$error":"#VALUE!"},796,null,null,null,null,null,null,null,null,null,null,null,null,null,null,null,null,null,null,"~"]
["SA37",2023,{"$error":"#VALUE!"},797,null,null,null,null,null,null,null,null,null,null,null,null,null,null,null,null,null,null,"~"]
["SA37",2023,{"$error":"#VALUE!"},798,null,null,null,null,null,null,null,null,null,null,null,null,null,null,null,null,null,null,"~"]
["SA37",2023,{"$error":"#VALUE!"},799,null,null,null,null,null,null,null,null,null,null,null,null,null,null,null,null,null,null,"~"]
["SA37",2023,{"$error":"#VALUE!"},800,null,null,null,null,null,null,null,null,null,null,null,null,null,null,null,null,null,null,"~"]
["SA37",2023,{"$error":"#VALUE!"},801,null,null,null,null,null,null,null,null,null,null,null,null,null,null,null,null,null,null,"~"]
["SA37",2023,{"$error":"#VALUE!"},802,null,null,null,null,null,null,null,null,null,null,null,null,null,null,null,null,null,null,"~"]
["SA37",2023,{"$error":"#VALUE!"},803,null,null,null,null,null,null,null,null,null,null,null,null,null,null,null,null,null,null,"~"]
["SA37",2023,{"$error":"#VALUE!"},804,null,null,null,null,null,null,null,null,null,null,null,null,null,null,null,null,null,null,"~"]
["SA37",2023,{"$error":"#VALUE!"},805,null,null,null,null,null,null,null,null,null,null,null,null,null,null,null,null,null,null,"~"]
["SA37",2023,{"$error":"#VALUE!"},806,null,null,null,null,null,null,null,null,null,null,null,null,null,null,null,null,null,null,"~"]
["SA37",2023,{"$error":"#VALUE!"},807,null,null,null,null,null,null,null,null,null,null,null,null,null,null,null,null,null,null,"~"]
["SA37",2023,{"$error":"#VALUE!"},808,null,null,null,null,null,null,null,null,null,null,null,null,null,null,null,null,null,null,"~"]
["SA37",2023,{"$error":"#VALUE!"},809,null,null,null,null,null,null,null,null,null,null,null,null,null,null,null,null,null,null,"~"]
["SA37",2023,{"$error":"#VALUE!"},810,null,null,null,null,null,null,null,null,null,null,null,null,null,null,null,null,null,null,"~"]
["SA37",2023,{"$error":"#VALUE!"},811,null,null,null,null,null,null,null,null,null,null,null,null,null,null,null,null,null,null,"~"]
["SA37",2023,{"$error":"#VALUE!"},812,null,null,null,null,null,null,null,null,null,null,null,null,null,null,null,null,null,null,"~"]
["SA37",2023,{"$error":"#VALUE!"},813,null,null,null,null,null,null,null,null,null,null,null,null,null,null,null,null,null,null,"~"]
["SA37",2023,{"$error":"#VALUE!"},814,null,null,null,null,null,null,null,null,null,null,null,null,null,null,null,null,null,null,"~"]
["SA37",2023,{"$error":"#VALUE!"},815,null,null,null,null,null,null,null,null,null,null,null,null,null,null,null,null,null,null,"~"]
["SA37",{"$f":"+MTREF","v":2023},{"$f":"LEFT(muni,(FIND(\" \",muni,1)-1))","v":{"$error":"#VALUE!"}},816,null,null,null,null,null,null,null,null,null,null,null,null,null,null,null,null,null,null,"~"]
["SA37",2023,{"$error":"#VALUE!"},817,null,null,null,null,null,null,null,null,null,null,null,null,null,null,null,null,null,null,"~"]
["SA37",2023,{"$error":"#VALUE!"},818,null,null,null,null,null,null,null,null,null,null,null,null,null,null,null,null,null,null,"~"]
["SA37",2023,{"$error":"#VALUE!"},819,null,null,null,null,null,null,null,null,null,null,null,null,null,null,null,null,null,null,"~"]
["SA37",2023,{"$error":"#VALUE!"},820,null,null,null,null,null,null,null,null,null,null,null,null,null,null,null,null,null,null,"~"]
["SA37",2023,{"$error":"#VALUE!"},821,null,null,null,null,null,null,null,null,null,null,null,null,null,null,null,null,null,null,"~"]
["SA37",2023,{"$error":"#VALUE!"},822,null,null,null,null,null,null,null,null,null,null,null,null,null,null,null,null,null,null,"~"]
["SA37",2023,{"$error":"#VALUE!"},823,null,null,null,null,null,null,null,null,null,null,null,null,null,null,null,null,null,null,"~"]
["SA37",2023,{"$error":"#VALUE!"},824,null,null,null,null,null,null,null,null,null,null,null,null,null,null,null,null,null,null,"~"]
["SA37",2023,{"$error":"#VALUE!"},825,null,null,null,null,null,null,null,null,null,null,null,null,null,null,null,null,null,null,"~"]
["SA37",2023,{"$error":"#VALUE!"},826,null,null,null,null,null,null,null,null,null,null,null,null,null,null,null,null,null,null,"~"]
["SA37",2023,{"$error":"#VALUE!"},827,null,null,null,null,null,null,null,null,null,null,null,null,null,null,null,null,null,null,"~"]
["SA37",2023,{"$error":"#VALUE!"},828,null,null,null,null,null,null,null,null,null,null,null,null,null,null,null,null,null,null,"~"]
["SA37",2023,{"$error":"#VALUE!"},829,null,null,null,null,null,null,null,null,null,null,null,null,null,null,null,null,null,null,"~"]
["SA37",2023,{"$error":"#VALUE!"},830,null,null,null,null,null,null,null,null,null,null,null,null,null,null,null,null,null,null,"~"]
["SA37",2023,{"$error":"#VALUE!"},831,null,null,null,null,null,null,null,null,null,null,null,null,null,null,null,null,null,null,"~"]
["SA37",2023,{"$error":"#VALUE!"},832,null,null,null,null,null,null,null,null,null,null,null,null,null,null,null,null,null,null,"~"]
["SA37",2023,{"$error":"#VALUE!"},833,null,null,null,null,null,null,null,null,null,null,null,null,null,null,null,null,null,null,"~"]
["SA37",2023,{"$error":"#VALUE!"},834,null,null,null,null,null,null,null,null,null,null,null,null,null,null,null,null,null,null,"~"]
["SA37",2023,{"$error":"#VALUE!"},835,null,null,null,null,null,null,null,null,null,null,null,null,null,null,null,null,null,null,"~"]
["SA37",2023,{"$error":"#VALUE!"},836,null,null,null,null,null,null,null,null,null,null,null,null,null,null,null,null,null,null,"~"]
["SA37",2023,{"$error":"#VALUE!"},837,null,null,null,null,null,null,null,null,null,null,null,null,null,null,null,null,null,null,"~"]
["SA37",2023,{"$error":"#VALUE!"},838,null,null,null,null,null,null,null,null,null,null,null,null,null,null,null,null,null,null,"~"]
["SA37",2023,{"$error":"#VALUE!"},839,null,null,null,null,null,null,null,null,null,null,null,null,null,null,null,null,null,null,"~"]
["SA37",2023,{"$error":"#VALUE!"},840,null,null,null,null,null,null,null,null,null,null,null,null,null,null,null,null,null,null,"~"]
["SA37",2023,{"$error":"#VALUE!"},841,null,null,null,null,null,null,null,null,null,null,null,null,null,null,null,null,null,null,"~"]
["SA37",2023,{"$error":"#VALUE!"},842,null,null,null,null,null,null,null,null,null,null,null,null,null,null,null,null,null,null,"~"]
["SA37",2023,{"$error":"#VALUE!"},843,null,null,null,null,null,null,null,null,null,null,null,null,null,null,null,null,null,null,"~"]
["SA37",2023,{"$error":"#VALUE!"},844,null,null,null,null,null,null,null,null,null,null,null,null,null,null,null,null,null,null,"~"]
["SA37",2023,{"$error":"#VALUE!"},845,null,null,null,null,null,null,null,null,null,null,null,null,null,null,null,null,null,null,"~"]
["SA37",2023,{"$error":"#VALUE!"},846,null,null,null,null,null,null,null,null,null,null,null,null,null,null,null,null,null,null,"~"]
["SA37",2023,{"$error":"#VALUE!"},847,null,null,null,null,null,null,null,null,null,null,null,null,null,null,null,null,null,null,"~"]
["SA37",2023,{"$error":"#VALUE!"},848,null,null,null,null,null,null,null,null,null,null,null,null,null,null,null,null,null,null,"~"]
["SA37",2023,{"$error":"#VALUE!"},849,null,null,null,null,null,null,null,null,null,null,null,null,null,null,null,null,null,null,"~"]
["SA37",2023,{"$error":"#VALUE!"},850,null,null,null,null,null,null,null,null,null,null,null,null,null,null,null,null,null,null,"~"]
["SA37",2023,{"$error":"#VALUE!"},851,null,null,null,null,null,null,null,null,null,null,null,null,null,null,null,null,null,null,"~"]
["SA37",2023,{"$error":"#VALUE!"},852,null,null,null,null,null,null,null,null,null,null,null,null,null,null,null,null,null,null,"~"]
["SA37",2023,{"$error":"#VALUE!"},853,null,null,null,null,null,null,null,null,null,null,null,null,null,null,null,null,null,null,"~"]
["SA37",2023,{"$error":"#VALUE!"},854,null,null,null,null,null,null,null,null,null,null,null,null,null,null,null,null,null,null,"~"]
["SA37",2023,{"$error":"#VALUE!"},855,null,null,null,null,null,null,null,null,null,null,null,null,null,null,null,null,null,null,"~"]
["SA37",2023,{"$error":"#VALUE!"},856,null,null,null,null,null,null,null,null,null,null,null,null,null,null,null,null,null,null,"~"]
["SA37",2023,{"$error":"#VALUE!"},857,null,null,null,null,null,null,null,null,null,null,null,null,null,null,null,null,null,null,"~"]
["SA37",2023,{"$error":"#VALUE!"},858,null,null,null,null,null,null,null,null,null,null,null,null,null,null,null,null,null,null,"~"]
["SA37",2023,{"$error":"#VALUE!"},859,null,null,null,null,null,null,null,null,null,null,null,null,null,null,null,null,null,null,"~"]
["SA37",2023,{"$error":"#VALUE!"},860,null,null,null,null,null,null,null,null,null,null,null,null,null,null,null,null,null,null,"~"]
["SA37",2023,{"$error":"#VALUE!"},861,null,null,null,null,null,null,null,null,null,null,null,null,null,null,null,null,null,null,"~"]
["SA37",2023,{"$error":"#VALUE!"},862,null,null,null,null,null,null,null,null,null,null,null,null,null,null,null,null,null,null,"~"]
["SA37",2023,{"$error":"#VALUE!"},863,null,null,null,null,null,null,null,null,null,null,null,null,null,null,null,null,null,null,"~"]
["SA37",2023,{"$error":"#VALUE!"},864,null,null,null,null,null,null,null,null,null,null,null,null,null,null,null,null,null,null,"~"]
["SA37",2023,{"$error":"#VALUE!"},865,null,null,null,null,null,null,null,null,null,null,null,null,null,null,null,null,null,null,"~"]
["SA37",2023,{"$error":"#VALUE!"},866,null,null,null,null,null,null,null,null,null,null,null,null,null,null,null,null,null,null,"~"]
["SA37",2023,{"$error":"#VALUE!"},867,null,null,null,null,null,null,null,null,null,null,null,null,null,null,null,null,null,null,"~"]
["SA37",2023,{"$error":"#VALUE!"},868,null,null,null,null,null,null,null,null,null,null,null,null,null,null,null,null,null,null,"~"]
["SA37",2023,{"$error":"#VALUE!"},869,null,null,null,null,null,null,null,null,null,null,null,null,null,null,null,null,null,null,"~"]
["SA37",2023,{"$error":"#VALUE!"},870,null,null,null,null,null,null,null,null,null,null,null,null,null,null,null,null,null,null,"~"]
["SA37",2023,{"$error":"#VALUE!"},871,null,null,null,null,null,null,null,null,null,null,null,null,null,null,null,null,null,null,"~"]
["SA37",2023,{"$error":"#VALUE!"},872,null,null,null,null,null,null,null,null,null,null,null,null,null,null,null,null,null,null,"~"]
["SA37",2023,{"$error":"#VALUE!"},873,null,null,null,null,null,null,null,null,null,null,null,null,null,null,null,null,null,null,"~"]
["SA37",2023,{"$error":"#VALUE!"},874,null,null,null,null,null,null,null,null,null,null,null,null,null,null,null,null,null,null,"~"]
["SA37",2023,{"$error":"#VALUE!"},875,null,null,null,null,null,null,null,null,null,null,null,null,null,null,null,null,null,null,"~"]
["SA37",2023,{"$error":"#VALUE!"},876,null,null,null,null,null,null,null,null,null,null,null,null,null,null,null,null,null,null,"~"]
["SA37",2023,{"$error":"#VALUE!"},877,null,null,null,null,null,null,null,null,null,null,null,null,null,null,null,null,null,null,"~"]
["SA37",2023,{"$error":"#VALUE!"},878,null,null,null,null,null,null,null,null,null,null,null,null,null,null,null,null,null,null,"~"]
["SA37",2023,{"$error":"#VALUE!"},879,null,null,null,null,null,null,null,null,null,null,null,null,null,null,null,null,null,null,"~"]
["SA37",{"$f":"+MTREF","v":2023},{"$f":"LEFT(muni,(FIND(\" \",muni,1)-1))","v":{"$error":"#VALUE!"}},880,null,null,null,null,null,null,null,null,null,null,null,null,null,null,null,null,null,null,"~"]
["SA37",2023,{"$error":"#VALUE!"},881,null,null,null,null,null,null,null,null,null,null,null,null,null,null,null,null,null,null,"~"]
["SA37",2023,{"$error":"#VALUE!"},882,null,null,null,null,null,null,null,null,null,null,null,null,null,null,null,null,null,null,"~"]
["SA37",2023,{"$error":"#VALUE!"},883,null,null,null,null,null,null,null,null,null,null,null,null,null,null,null,null,null,null,"~"]
["SA37",2023,{"$error":"#VALUE!"},884,null,null,null,null,null,null,null,null,null,null,null,null,null,null,null,null,null,null,"~"]
["SA37",2023,{"$error":"#VALUE!"},885,null,null,null,null,null,null,null,null,null,null,null,null,null,null,null,null,null,null,"~"]
["SA37",2023,{"$error":"#VALUE!"},886,null,null,null,null,null,null,null,null,null,null,null,null,null,null,null,null,null,null,"~"]
["SA37",2023,{"$error":"#VALUE!"},887,null,null,null,null,null,null,null,null,null,null,null,null,null,null,null,null,null,null,"~"]
["SA37",2023,{"$error":"#VALUE!"},888,null,null,null,null,null,null,null,null,null,null,null,null,null,null,null,null,null,null,"~"]
["SA37",2023,{"$error":"#VALUE!"},889,null,null,null,null,null,null,null,null,null,null,null,null,null,null,null,null,null,null,"~"]
["SA37",2023,{"$error":"#VALUE!"},890,null,null,null,null,null,null,null,null,null,null,null,null,null,null,null,null,null,null,"~"]
["SA37",2023,{"$error":"#VALUE!"},891,null,null,null,null,null,null,null,null,null,null,null,null,null,null,null,null,null,null,"~"]
["SA37",2023,{"$error":"#VALUE!"},892,null,null,null,null,null,null,null,null,null,null,null,null,null,null,null,null,null,null,"~"]
["SA37",2023,{"$error":"#VALUE!"},893,null,null,null,null,null,null,null,null,null,null,null,null,null,null,null,null,null,null,"~"]
["SA37",2023,{"$error":"#VALUE!"},894,null,null,null,null,null,null,null,null,null,null,null,null,null,null,null,null,null,null,"~"]
["SA37",2023,{"$error":"#VALUE!"},895,null,null,null,null,null,null,null,null,null,null,null,null,null,null,null,null,null,null,"~"]
["SA37",2023,{"$error":"#VALUE!"},896,null,null,null,null,null,null,null,null,null,null,null,null,null,null,null,null,null,null,"~"]
["SA37",2023,{"$error":"#VALUE!"},897,null,null,null,null,null,null,null,null,null,null,null,null,null,null,null,null,null,null,"~"]
["SA37",2023,{"$error":"#VALUE!"},898,null,null,null,null,null,null,null,null,null,null,null,null,null,null,null,null,null,null,"~"]
["SA37",2023,{"$error":"#VALUE!"},899,null,null,null,null,null,null,null,null,null,null,null,null,null,null,null,null,null,null,"~"]
["SA37",2023,{"$error":"#VALUE!"},900,null,null,null,null,null,null,null,null,null,null,null,null,null,null,null,null,null,null,"~"]
["SA37",2023,{"$error":"#VALUE!"},901,null,null,null,null,null,null,null,null,null,null,null,null,null,null,null,null,null,null,"~"]
["SA37",2023,{"$error":"#VALUE!"},902,null,null,null,null,null,null,null,null,null,null,null,null,null,null,null,null,null,null,"~"]
["SA37",2023,{"$error":"#VALUE!"},903,null,null,null,null,null,null,null,null,null,null,null,null,null,null,null,null,null,null,"~"]
["SA37",2023,{"$error":"#VALUE!"},904,null,null,null,null,null,null,null,null,null,null,null,null,null,null,null,null,null,null,"~"]
["SA37",2023,{"$error":"#VALUE!"},905,null,null,null,null,null,null,null,null,null,null,null,null,null,null,null,null,null,null,"~"]
["SA37",2023,{"$error":"#VALUE!"},906,null,null,null,null,null,null,null,null,null,null,null,null,null,null,null,null,null,null,"~"]
["SA37",2023,{"$error":"#VALUE!"},907,null,null,null,null,null,null,null,null,null,null,null,null,null,null,null,null,null,null,"~"]
["SA37",2023,{"$error":"#VALUE!"},908,null,null,null,null,null,null,null,null,null,null,null,null,null,null,null,null,null,null,"~"]
["SA37",2023,{"$error":"#VALUE!"},909,null,null,null,null,null,null,null,null,null,null,null,null,null,null,null,null,null,null,"~"]
["SA37",2023,{"$error":"#VALUE!"},910,null,null,null,null,null,null,null,null,null,null,null,null,null,null,null,null,null,null,"~"]
["SA37",2023,{"$error":"#VALUE!"},911,null,null,null,null,null,null,null,null,null,null,null,null,null,null,null,null,null,null,"~"]
["SA37",2023,{"$error":"#VALUE!"},912,null,null,null,null,null,null,null,null,null,null,null,null,null,null,null,null,null,null,"~"]
["SA37",2023,{"$error":"#VALUE!"},913,null,null,null,null,null,null,null,null,null,null,null,null,null,null,null,null,null,null,"~"]
["SA37",2023,{"$error":"#VALUE!"},914,null,null,null,null,null,null,null,null,null,null,null,null,null,null,null,null,null,null,"~"]
["SA37",2023,{"$error":"#VALUE!"},915,null,null,null,null,null,null,null,null,null,null,null,null,null,null,null,null,null,null,"~"]
["SA37",2023,{"$error":"#VALUE!"},916,null,null,null,null,null,null,null,null,null,null,null,null,null,null,null,null,null,null,"~"]
["SA37",2023,{"$error":"#VALUE!"},917,null,null,null,null,null,null,null,null,null,null,null,null,null,null,null,null,null,null,"~"]
["SA37",2023,{"$error":"#VALUE!"},918,null,null,null,null,null,null,null,null,null,null,null,null,null,null,null,null,null,null,"~"]
["SA37",2023,{"$error":"#VALUE!"},919,null,null,null,null,null,null,null,null,null,null,null,null,null,null,null,null,null,null,"~"]
["SA37",2023,{"$error":"#VALUE!"},920,null,null,null,null,null,null,null,null,null,null,null,null,null,null,null,null,null,null,"~"]
["SA37",2023,{"$error":"#VALUE!"},921,null,null,null,null,null,null,null,null,null,null,null,null,null,null,null,null,null,null,"~"]
["SA37",2023,{"$error":"#VALUE!"},922,null,null,null,null,null,null,null,null,null,null,null,null,null,null,null,null,null,null,"~"]
["SA37",2023,{"$error":"#VALUE!"},923,null,null,null,null,null,null,null,null,null,null,null,null,null,null,null,null,null,null,"~"]
["SA37",2023,{"$error":"#VALUE!"},924,null,null,null,null,null,null,null,null,null,null,null,null,null,null,null,null,null,null,"~"]
["SA37",2023,{"$error":"#VALUE!"},925,null,null,null,null,null,null,null,null,null,null,null,null,null,null,null,null,null,null,"~"]
["SA37",2023,{"$error":"#VALUE!"},926,null,null,null,null,null,null,null,null,null,null,null,null,null,null,null,null,null,null,"~"]
["SA37",2023,{"$error":"#VALUE!"},927,null,null,null,null,null,null,null,null,null,null,null,null,null,null,null,null,null,null,"~"]
["SA37",2023,{"$error":"#VALUE!"},928,null,null,null,null,null,null,null,null,null,null,null,null,null,null,null,null,null,null,"~"]
["SA37",2023,{"$error":"#VALUE!"},929,null,null,null,null,null,null,null,null,null,null,null,null,null,null,null,null,null,null,"~"]
["SA37",2023,{"$error":"#VALUE!"},930,null,null,null,null,null,null,null,null,null,null,null,null,null,null,null,null,null,null,"~"]
["SA37",2023,{"$error":"#VALUE!"},931,null,null,null,null,null,null,null,null,null,null,null,null,null,null,null,null,null,null,"~"]
["SA37",2023,{"$error":"#VALUE!"},932,null,null,null,null,null,null,null,null,null,null,null,null,null,null,null,null,null,null,"~"]
["SA37",2023,{"$error":"#VALUE!"},933,null,null,null,null,null,null,null,null,null,null,null,null,null,null,null,null,null,null,"~"]
["SA37",2023,{"$error":"#VALUE!"},934,null,null,null,null,null,null,null,null,null,null,null,null,null,null,null,null,null,null,"~"]
["SA37",2023,{"$error":"#VALUE!"},935,null,null,null,null,null,null,null,null,null,null,null,null,null,null,null,null,null,null,"~"]
["SA37",2023,{"$error":"#VALUE!"},936,null,null,null,null,null,null,null,null,null,null,null,null,null,null,null,null,null,null,"~"]
["SA37",2023,{"$error":"#VALUE!"},937,null,null,null,null,null,null,null,null,null,null,null,null,null,null,null,null,null,null,"~"]
["SA37",2023,{"$error":"#VALUE!"},938,null,null,null,null,null,null,null,null,null,null,null,null,null,null,null,null,null,null,"~"]
["SA37",2023,{"$error":"#VALUE!"},939,null,null,null,null,null,null,null,null,null,null,null,null,null,null,null,null,null,null,"~"]
["SA37",2023,{"$error":"#VALUE!"},940,null,null,null,null,null,null,null,null,null,null,null,null,null,null,null,null,null,null,"~"]
["SA37",2023,{"$error":"#VALUE!"},941,null,null,null,null,null,null,null,null,null,null,null,null,null,null,null,null,null,null,"~"]
["SA37",2023,{"$error":"#VALUE!"},942,null,null,null,null,null,null,null,null,null,null,null,null,null,null,null,null,null,null,"~"]
["SA37",2023,{"$error":"#VALUE!"},943,null,null,null,null,null,null,null,null,null,null,null,null,null,null,null,null,null,null,"~"]
["SA37",{"$f":"+MTREF","v":2023},{"$f":"LEFT(muni,(FIND(\" \",muni,1)-1))","v":{"$error":"#VALUE!"}},944,null,null,null,null,null,null,null,null,null,null,null,null,null,null,null,null,null,null,"~"]
["SA37",2023,{"$error":"#VALUE!"},945,null,null,null,null,null,null,null,null,null,null,null,null,null,null,null,null,null,null,"~"]
["SA37",2023,{"$error":"#VALUE!"},946,null,null,null,null,null,null,null,null,null,null,null,null,null,null,null,null,null,null,"~"]
["SA37",2023,{"$error":"#VALUE!"},947,null,null,null,null,null,null,null,null,null,null,null,null,null,null,null,null,null,null,"~"]
["SA37",2023,{"$error":"#VALUE!"},948,null,null,null,null,null,null,null,null,null,null,null,null,null,null,null,null,null,null,"~"]
["SA37",2023,{"$error":"#VALUE!"},949,null,null,null,null,null,null,null,null,null,null,null,null,null,null,null,null,null,null,"~"]
["SA37",2023,{"$error":"#VALUE!"},950,null,null,null,null,null,null,null,null,null,null,null,null,null,null,null,null,null,null,"~"]
["SA37",2023,{"$error":"#VALUE!"},951,null,null,null,null,null,null,null,null,null,null,null,null,null,null,null,null,null,null,"~"]
["SA37",2023,{"$error":"#VALUE!"},952,null,null,null,null,null,null,null,null,null,null,null,null,null,null,null,null,null,null,"~"]
["SA37",2023,{"$error":"#VALUE!"},953,null,null,null,null,null,null,null,null,null,null,null,null,null,null,null,null,null,null,"~"]
["SA37",2023,{"$error":"#VALUE!"},954,null,null,null,null,null,null,null,null,null,null,null,null,null,null,null,null,null,null,"~"]
["SA37",2023,{"$error":"#VALUE!"},955,null,null,null,null,null,null,null,null,null,null,null,null,null,null,null,null,null,null,"~"]
["SA37",2023,{"$error":"#VALUE!"},956,null,null,null,null,null,null,null,null,null,null,null,null,null,null,null,null,null,null,"~"]
["SA37",2023,{"$error":"#VALUE!"},957,null,null,null,null,null,null,null,null,null,null,null,null,null,null,null,null,null,null,"~"]
["SA37",2023,{"$error":"#VALUE!"},958,null,null,null,null,null,null,null,null,null,null,null,null,null,null,null,null,null,null,"~"]
["SA37",2023,{"$error":"#VALUE!"},959,null,null,null,null,null,null,null,null,null,null,null,null,null,null,null,null,null,null,"~"]
["SA37",2023,{"$error":"#VALUE!"},960,null,null,null,null,null,null,null,null,null,null,null,null,null,null,null,null,null,null,"~"]
["SA37",2023,{"$error":"#VALUE!"},961,null,null,null,null,null,null,null,null,null,null,null,null,null,null,null,null,null,null,"~"]
["SA37",2023,{"$error":"#VALUE!"},962,null,null,null,null,null,null,null,null,null,null,null,null,null,null,null,null,null,null,"~"]
["SA37",2023,{"$error":"#VALUE!"},963,null,null,null,null,null,null,null,null,null,null,null,null,null,null,null,null,null,null,"~"]
["SA37",2023,{"$error":"#VALUE!"},964,null,null,null,null,null,null,null,null,null,null,null,null,null,null,null,null,null,null,"~"]
["SA37",2023,{"$error":"#VALUE!"},965,null,null,null,null,null,null,null,null,null,null,null,null,null,null,null,null,null,null,"~"]
["SA37",2023,{"$error":"#VALUE!"},966,null,null,null,null,null,null,null,null,null,null,null,null,null,null,null,null,null,null,"~"]
["SA37",2023,{"$error":"#VALUE!"},967,null,null,null,null,null,null,null,null,null,null,null,null,null,null,null,null,null,null,"~"]
["SA37",2023,{"$error":"#VALUE!"},968,null,null,null,null,null,null,null,null,null,null,null,null,null,null,null,null,null,null,"~"]
["SA37",2023,{"$error":"#VALUE!"},969,null,null,null,null,null,null,null,null,null,null,null,null,null,null,null,null,null,null,"~"]
["SA37",2023,{"$error":"#VALUE!"},970,null,null,null,null,null,null,null,null,null,null,null,null,null,null,null,null,null,null,"~"]
["SA37",2023,{"$error":"#VALUE!"},971,null,null,null,null,null,null,null,null,null,null,null,null,null,null,null,null,null,null,"~"]
["SA37",2023,{"$error":"#VALUE!"},972,null,null,null,null,null,null,null,null,null,null,null,null,null,null,null,null,null,null,"~"]
["SA37",2023,{"$error":"#VALUE!"},973,null,null,null,null,null,null,null,null,null,null,null,null,null,null,null,null,null,null,"~"]
["SA37",2023,{"$error":"#VALUE!"},974,null,null,null,null,null,null,null,null,null,null,null,null,null,null,null,null,null,null,"~"]
["SA37",2023,{"$error":"#VALUE!"},975,null,null,null,null,null,null,null,null,null,null,null,null,null,null,null,null,null,null,"~"]
["SA37",2023,{"$error":"#VALUE!"},976,null,null,null,null,null,null,null,null,null,null,null,null,null,null,null,null,null,null,"~"]
["SA37",2023,{"$error":"#VALUE!"},977,null,null,null,null,null,null,null,null,null,null,null,null,null,null,null,null,null,null,"~"]
["SA37",2023,{"$error":"#VALUE!"},978,null,null,null,null,null,null,null,null,null,null,null,null,null,null,null,null,null,null,"~"]
["SA37",2023,{"$error":"#VALUE!"},979,null,null,null,null,null,null,null,null,null,null,null,null,null,null,null,null,null,null,"~"]
["SA37",2023,{"$error":"#VALUE!"},980,null,null,null,null,null,null,null,null,null,null,null,null,null,null,null,null,null,null,"~"]
["SA37",2023,{"$error":"#VALUE!"},981,null,null,null,null,null,null,null,null,null,null,null,null,null,null,null,null,null,null,"~"]
["SA37",2023,{"$error":"#VALUE!"},982,null,null,null,null,null,null,null,null,null,null,null,null,null,null,null,null,null,null,"~"]
["SA37",2023,{"$error":"#VALUE!"},983,null,null,null,null,null,null,null,null,null,null,null,null,null,null,null,null,null,null,"~"]
["SA37",2023,{"$error":"#VALUE!"},984,null,null,null,null,null,null,null,null,null,null,null,null,null,null,null,null,null,null,"~"]
["SA37",2023,{"$error":"#VALUE!"},985,null,null,null,null,null,null,null,null,null,null,null,null,null,null,null,null,null,null,"~"]
["SA37",2023,{"$error":"#VALUE!"},986,null,null,null,null,null,null,null,null,null,null,null,null,null,null,null,null,null,null,"~"]
["SA37",2023,{"$error":"#VALUE!"},987,null,null,null,null,null,null,null,null,null,null,null,null,null,null,null,null,null,null,"~"]
["SA37",2023,{"$error":"#VALUE!"},988,null,null,null,null,null,null,null,null,null,null,null,null,null,null,null,null,null,null,"~"]
["SA37",2023,{"$error":"#VALUE!"},989,null,null,null,null,null,null,null,null,null,null,null,null,null,null,null,null,null,null,"~"]
["SA37",2023,{"$error":"#VALUE!"},990,null,null,null,null,null,null,null,null,null,null,null,null,null,null,null,null,null,null,"~"]
["SA37",2023,{"$error":"#VALUE!"},991,null,null,null,null,null,null,null,null,null,null,null,null,null,null,null,null,null,null,"~"]
["SA37",2023,{"$error":"#VALUE!"},992,null,null,null,null,null,null,null,null,null,null,null,null,null,null,null,null,null,null,"~"]
["SA37",2023,{"$error":"#VALUE!"},993,null,null,null,null,null,null,null,null,null,null,null,null,null,null,null,null,null,null,"~"]
["SA37",2023,{"$error":"#VALUE!"},994,null,null,null,null,null,null,null,null,null,null,null,null,null,null,null,null,null,null,"~"]
["SA37",2023,{"$error":"#VALUE!"},995,null,null,null,null,null,null,null,null,null,null,null,null,null,null,null,null,null,null,"~"]
["SA37",2023,{"$error":"#VALUE!"},996,null,null,null,null,null,null,null,null,null,null,null,null,null,null,null,null,null,null,"~"]
["SA37",2023,{"$error":"#VALUE!"},997,null,null,null,null,null,null,null,null,null,null,null,null,null,null,null,null,null,null,"~"]
["SA37",2023,{"$error":"#VALUE!"},998,null,null,null,null,null,null,null,null,null,null,null,null,null,null,null,null,null,null,"~"]
["SA37",2023,{"$error":"#VALUE!"},999,null,null,null,null,null,null,null,null,null,null,null,null,null,null,null,null,null,null,"~"]
["SA37",2023,{"$error":"#VALUE!"},1000,null,null,null,null,null,null,null,null,null,null,null,null,null,null,null,null,null,null,"~"]
["CONTACT",2023,{"$error":"#VALUE!"},1,null,null,null,null,null,null,null,null,null,null,null,null,null,null,null,null,null,null,"~"]
["CONTACT",2023,{"$error":"#VALUE!"},2,null,null,null,null,null,null,null,null,null,null,null,null,null,null,null,null,null,null,"~"]
["CONTACT",2023,{"$error":"#VALUE!"},3,null,null,null,null,null,null,null,null,null,null,null,null,null,null,null,null,null,null,"~"]
["CONTACT",2023,{"$error":"#VALUE!"},4,null,null,null,null,null,null,null,null,null,null,null,null,null,null,null,null,null,null,"~"]
["CONTACT",2023,{"$error":"#VALUE!"},5,null,null,null,null,null,null,null,null,null,null,null,null,null,null,null,null,null,null,"~"]
["CONTACT",2023,{"$error":"#VALUE!"},6,null,null,null,null,null,null,null,null,null,null,null,null,null,null,null,null,null,null,"~"]
["CONTACT",2023,{"$error":"#VALUE!"},7,null,null,null,null,null,null,null,null,null,null,null,null,null,null,null,null,null,null,"~"]
["CONTACT",{"$f":"+MTREF","v":2023},{"$f":"LEFT(muni,(FIND(\" \",muni,1)-1))","v":{"$error":"#VALUE!"}},8,null,null,null,null,null,null,null,null,null,null,null,null,null,null,null,null,null,null,"~"]
["CONTACT",2023,{"$error":"#VALUE!"},9,null,null,null,null,null,null,null,null,null,null,null,null,null,null,null,null,null,null,"~"]
["CONTACT",2023,{"$error":"#VALUE!"},10,null,null,null,null,null,null,null,null,null,null,null,null,null,null,null,null,null,null,"~"]
["CONTACT",2023,{"$error":"#VALUE!"},11,null,null,null,null,null,null,null,null,null,null,null,null,null,null,null,null,null,null,"~"]
["CONTACT",2023,{"$error":"#VALUE!"},12,null,null,null,null,null,null,null,null,null,null,null,null,null,null,null,null,null,null,"~"]
["CONTACT",2023,{"$error":"#VALUE!"},13,null,null,null,null,null,null,null,null,null,null,null,null,null,null,null,null,null,null,"~"]
["CONTACT",2023,{"$error":"#VALUE!"},14,null,null,null,null,null,null,null,null,null,null,null,null,null,null,null,null,null,null,"~"]
["CONTACT",2023,{"$error":"#VALUE!"},15,null,null,null,null,null,null,null,null,null,null,null,null,null,null,null,null,null,null,"~"]
["CONTACT",2023,{"$error":"#VALUE!"},16,null,null,null,null,null,null,null,null,null,null,null,null,null,null,null,null,null,null,"~"]
["CONTACT",2023,{"$error":"#VALUE!"},17,null,null,null,null,null,null,null,null,null,null,null,null,null,null,null,null,null,null,"~"]
["CONTACT",2023,{"$error":"#VALUE!"},18,null,null,null,null,null,null,null,null,null,null,null,null,null,null,null,null,null,null,"~"]
["CONTACT",2023,{"$error":"#VALUE!"},19,null,null,null,null,null,null,null,null,null,null,null,null,null,null,null,null,null,null,"~"]
["CONTACT",2023,{"$error":"#VALUE!"},20,null,null,null,null,null,null,null,null,null,null,null,null,null,null,null,null,null,null,"~"]
["CONTACT",2023,{"$error":"#VALUE!"},21,null,null,null,null,null,null,null,null,null,null,null,null,null,null,null,null,null,null,"~"]
["CONTACT",2023,{"$error":"#VALUE!"},22,null,null,null,null,null,null,null,null,null,null,null,null,null,null,null,null,null,null,"~"]
["CONTACT",2023,{"$error":"#VALUE!"},23,null,null,null,null,null,null,null,null,null,null,null,null,null,null,null,null,null,null,"~"]
["CONTACT",2023,{"$error":"#VALUE!"},24,null,null,null,null,null,null,null,null,null,null,null,null,null,null,null,null,null,null,"~"]
["CONTACT",2023,{"$error":"#VALUE!"},25,null,null,null,null,null,null,null,null,null,null,null,null,null,null,null,null,null,null,"~"]
["CONTACT",2023,{"$error":"#VALUE!"},26,null,null,null,null,null,null,null,null,null,null,null,null,null,null,null,null,null,null,"~"]
["CONTACT",2023,{"$error":"#VALUE!"},27,null,null,null,null,null,null,null,null,null,null,null,null,null,null,null,null,null,null,"~"]
["CONTACT",2023,{"$error":"#VALUE!"},28,null,null,null,null,null,null,null,null,null,null,null,null,null,null,null,null,null,null,"~"]
["CONTACT",2023,{"$error":"#VALUE!"},29,null,null,null,null,null,null,null,null,null,null,null,null,null,null,null,null,null,null,"~"]
["CONTACT",2023,{"$error":"#VALUE!"},30,null,null,null,null,null,null,null,null,null,null,null,null,null,null,null,null,null,null,"~"]
["CONTACT",2023,{"$error":"#VALUE!"},31,null,null,null,null,null,null,null,null,null,null,null,null,null,null,null,null,null,null,"~"]
["CONTACT",2023,{"$error":"#VALUE!"},32,null,null,null,null,null,null,null,null,null,null,null,null,null,null,null,null,null,null,"~"]
["CONTACT",2023,{"$error":"#VALUE!"},33,null,null,null,null,null,null,null,null,null,null,null,null,null,null,null,null,null,null,"~"]
["CONTACT",2023,{"$error":"#VALUE!"},34,null,null,null,null,null,null,null,null,null,null,null,null,null,null,null,null,null,null,"~"]
["CONTACT",2023,{"$error":"#VALUE!"},35,null,null,null,null,null,null,null,null,null,null,null,null,null,null,null,null,null,null,"~"]
["CONTACT",2023,{"$error":"#VALUE!"},36,null,null,null,null,null,null,null,null,null,null,null,null,null,null,null,null,null,null,"~"]
["CONTACT",2023,{"$error":"#VALUE!"},37,null,null,null,null,null,null,null,null,null,null,null,null,null,null,null,null,null,null,"~"]
["CONTACT",2023,{"$error":"#VALUE!"},38,null,null,null,null,null,null,null,null,null,null,null,null,null,null,null,null,null,null,"~"]
["CONTACT",2023,{"$error":"#VALUE!"},39,null,null,null,null,null,null,null,null,null,null,null,null,null,null,null,null,null,null,"~"]
["CONTACT",2023,{"$error":"#VALUE!"},40,null,null,null,null,null,null,null,null,null,null,null,null,null,null,null,null,null,null,"~"]
["CONTACT",2023,{"$error":"#VALUE!"},41,null,null,null,null,null,null,null,null,null,null,null,null,null,null,null,null,null,null,"~"]
["CONTACT",2023,{"$error":"#VALUE!"},42,null,null,null,null,null,null,null,null,null,null,null,null,null,null,null,null,null,null,"~"]
["CONTACT",2023,{"$error":"#VALUE!"},43,null,null,null,null,null,null,null,null,null,null,null,null,null,null,null,null,null,null,"~"]
["CONTACT",2023,{"$error":"#VALUE!"},44,null,null,null,null,null,null,null,null,null,null,null,null,null,null,null,null,null,null,"~"]
["CONTACT",2023,{"$error":"#VALUE!"},45,null,null,null,null,null,null,null,null,null,null,null,null,null,null,null,null,null,null,"~"]
["CONTACT",2023,{"$error":"#VALUE!"},46,null,null,null,null,null,null,null,null,null,null,null,null,null,null,null,null,null,null,"~"]
["CONTACT",2023,{"$error":"#VALUE!"},47,null,null,null,null,null,null,null,null,null,null,null,null,null,null,null,null,null,null,"~"]
["CONTACT",2023,{"$error":"#VALUE!"},48,null,null,null,null,null,null,null,null,null,null,null,null,null,null,null,null,null,null,"~"]
["CONTACT",2023,{"$error":"#VALUE!"},49,null,null,null,null,null,null,null,null,null,null,null,null,null,null,null,null,null,null,"~"]
["CONTACT",2023,{"$error":"#VALUE!"},50,null,null,null,null,null,null,null,null,null,null,null,null,null,null,null,null,null,null,"~"]
["CONTACT",2023,{"$error":"#VALUE!"},51,null,null,null,null,null,null,null,null,null,null,null,null,null,null,null,null,null,null,"~"]
["CONTACT",2023,{"$error":"#VALUE!"},52,null,null,null,null,null,null,null,null,null,null,null,null,null,null,null,null,null,null,"~"]
["CONTACT",2023,{"$error":"#VALUE!"},53,null,null,null,null,null,null,null,null,null,null,null,null,null,null,null,null,null,null,"~"]
["CONTACT",2023,{"$error":"#VALUE!"},54,null,null,null,null,null,null,null,null,null,null,null,null,null,null,null,null,null,null,"~"]
["CONTACT",2023,{"$error":"#VALUE!"},55,null,null,null,null,null,null,null,null,null,null,null,null,null,null,null,null,null,null,"~"]
["CONTACT",2023,{"$error":"#VALUE!"},56,null,null,null,null,null,null,null,null,null,null,null,null,null,null,null,null,null,null,"~"]
["CONTACT",2023,{"$error":"#VALUE!"},57,null,null,null,null,null,null,null,null,null,null,null,null,null,null,null,null,null,null,"~"]
["CONTACT",2023,{"$error":"#VALUE!"},58,null,null,null,null,null,null,null,null,null,null,null,null,null,null,null,null,null,null,"~"]
["CONTACT",2023,{"$error":"#VALUE!"},59,null,null,null,null,null,null,null,null,null,null,null,null,null,null,null,null,null,null,"~"]
["CONTACT",2023,{"$error":"#VALUE!"},60,null,null,null,null,null,null,null,null,null,null,null,null,null,null,null,null,null,null,"~"]
["CONTACT",2023,{"$error":"#VALUE!"},61,null,null,null,null,null,null,null,null,null,null,null,null,null,null,null,null,null,null,"~"]
["CONTACT",2023,{"$error":"#VALUE!"},62,null,null,null,null,null,null,null,null,null,null,null,null,null,null,null,null,null,null,"~"]
["CONTACT",2023,{"$error":"#VALUE!"},63,null,null,null,null,null,null,null,null,null,null,null,null,null,null,null,null,null,null,"~"]
["CONTACT",2023,{"$error":"#VALUE!"},64,null,null,null,null,null,null,null,null,null,null,null,null,null,null,null,null,null,null,"~"]
["CONTACT",2023,{"$error":"#VALUE!"},65,null,null,null,null,null,null,null,null,null,null,null,null,null,null,null,null,null,null,"~"]
["CONTACT",2023,{"$error":"#VALUE!"},66,null,null,null,null,null,null,null,null,null,null,null,null,null,null,null,null,null,null,"~"]
["CONTACT",2023,{"$error":"#VALUE!"},67,null,null,null,null,null,null,null,null,null,null,null,null,null,null,null,null,null,null,"~"]
["CONTACT",2023,{"$error":"#VALUE!"},68,null,null,null,null,null,null,null,null,null,null,null,null,null,null,null,null,null,null,"~"]
["CONTACT",2023,{"$error":"#VALUE!"},69,null,null,null,null,null,null,null,null,null,null,null,null,null,null,null,null,null,null,"~"]
["CONTACT",2023,{"$error":"#VALUE!"},70,null,null,null,null,null,null,null,null,null,null,null,null,null,null,null,null,null,null,"~"]
["CONTACT",2023,{"$error":"#VALUE!"},71,null,null,null,null,null,null,null,null,null,null,null,null,null,null,null,null,null,null,"~"]
["CONTACT",{"$f":"+MTREF","v":2023},{"$f":"LEFT(muni,(FIND(\" \",muni,1)-1))","v":{"$error":"#VALUE!"}},72,null,null,null,null,null,null,null,null,null,null,null,null,null,null,null,null,null,null,"~"]
["CONTACT",2023,{"$error":"#VALUE!"},73,null,null,null,null,null,null,null,null,null,null,null,null,null,null,null,null,null,null,"~"]
["CONTACT",2023,{"$error":"#VALUE!"},74,null,null,null,null,null,null,null,null,null,null,null,null,null,null,null,null,null,null,"~"]
["CONTACT",2023,{"$error":"#VALUE!"},75,null,null,null,null,null,null,null,null,null,null,null,null,null,null,null,null,null,null,"~"]
["CONTACT",2023,{"$error":"#VALUE!"},76,null,null,null,null,null,null,null,null,null,null,null,null,null,null,null,null,null,null,"~"]
["CONTACT",2023,{"$error":"#VALUE!"},77,null,null,null,null,null,null,null,null,null,null,null,null,null,null,null,null,null,null,"~"]
["CONTACT",2023,{"$error":"#VALUE!"},78,null,null,null,null,null,null,null,null,null,null,null,null,null,null,null,null,null,null,"~"]
["CONTACT",2023,{"$error":"#VALUE!"},79,null,null,null,null,null,null,null,null,null,null,null,null,null,null,null,null,null,null,"~"]
["CONTACT",2023,{"$error":"#VALUE!"},80,null,null,null,null,null,null,null,null,null,null,null,null,null,null,null,null,null,null,"~"]
["CONTACT",2023,{"$error":"#VALUE!"},81,null,null,null,null,null,null,null,null,null,null,null,null,null,null,null,null,null,null,"~"]
["CONTACT",2023,{"$error":"#VALUE!"},82,null,null,null,null,null,null,null,null,null,null,null,null,null,null,null,null,null,null,"~"]
["CONTACT",2023,{"$error":"#VALUE!"},83,null,null,null,null,null,null,null,null,null,null,null,null,null,null,null,null,null,null,"~"]
["CONTACT",2023,{"$error":"#VALUE!"},84,null,null,null,null,null,null,null,null,null,null,null,null,null,null,null,null,null,null,"~"]
["CONTACT",2023,{"$error":"#VALUE!"},85,null,null,null,null,null,null,null,null,null,null,null,null,null,null,null,null,null,null,"~"]
["CONTACT",2023,{"$error":"#VALUE!"},86,null,null,null,null,null,null,null,null,null,null,null,null,null,null,null,null,null,null,"~"]
["CONTACT",2023,{"$error":"#VALUE!"},87,null,null,null,null,null,null,null,null,null,null,null,null,null,null,null,null,null,null,"~"]
["CONTACT",2023,{"$error":"#VALUE!"},88,null,null,null,null,null,null,null,null,null,null,null,null,null,null,null,null,null,null,"~"]
["CONTACT",2023,{"$error":"#VALUE!"},89,null,null,null,null,null,null,null,null,null,null,null,null,null,null,null,null,null,null,"~"]
["CONTACT",2023,{"$error":"#VALUE!"},90,null,null,null,null,null,null,null,null,null,null,null,null,null,null,null,null,null,null,"~"]
["CONTACT",2023,{"$error":"#VALUE!"},91,null,null,null,null,null,null,null,null,null,null,null,null,null,null,null,null,null,null,"~"]
["CONTACT",2023,{"$error":"#VALUE!"},92,null,null,null,null,null,null,null,null,null,null,null,null,null,null,null,null,null,null,"~"]
["CONTACT",2023,{"$error":"#VALUE!"},93,null,null,null,null,null,null,null,null,null,null,null,null,null,null,null,null,null,null,"~"]
["CONTACT",2023,{"$error":"#VALUE!"},94,null,null,null,null,null,null,null,null,null,null,null,null,null,null,null,null,null,null,"~"]
["CONTACT",2023,{"$error":"#VALUE!"},95,null,null,null,null,null,null,null,null,null,null,null,null,null,null,null,null,null,null,"~"]
["CONTACT",2023,{"$error":"#VALUE!"},96,null,null,null,null,null,null,null,null,null,null,null,null,null,null,null,null,null,null,"~"]
["CONTACT",2023,{"$error":"#VALUE!"},97,null,null,null,null,null,null,null,null,null,null,null,null,null,null,null,null,null,null,"~"]
["CONTACT",2023,{"$error":"#VALUE!"},98,null,null,null,null,null,null,null,null,null,null,null,null,null,null,null,null,null,null,"~"]
["CONTACT",2023,{"$error":"#VALUE!"},99,null,null,null,null,null,null,null,null,null,null,null,null,null,null,null,null,null,null,"~"]
["CONTACT",2023,{"$error":"#VALUE!"},100,null,null,null,null,null,null,null,null,null,null,null,null,null,null,null,null,null,null,"~"]
["CONTACT",2023,{"$error":"#VALUE!"},101,null,null,null,null,null,null,null,null,null,null,null,null,null,null,null,null,null,null,"~"]
["CONTACT",2023,{"$error":"#VALUE!"},102,null,null,null,null,null,null,null,null,null,null,null,null,null,null,null,null,null,null,"~"]
["CONTACT",2023,{"$error":"#VALUE!"},103,null,null,null,null,null,null,null,null,null,null,null,null,null,null,null,null,null,null,"~"]
["CONTACT",2023,{"$error":"#VALUE!"},104,null,null,null,null,null,null,null,null,null,null,null,null,null,null,null,null,null,null,"~"]
["CONTACT",2023,{"$error":"#VALUE!"},105,null,null,null,null,null,null,null,null,null,null,null,null,null,null,null,null,null,null,"~"]
["CONTACT",2023,{"$error":"#VALUE!"},106,null,null,null,null,null,null,null,null,null,null,null,null,null,null,null,null,null,null,"~"]
["CONTACT",2023,{"$error":"#VALUE!"},107,null,null,null,null,null,null,null,null,null,null,null,null,null,null,null,null,null,null,"~"]
["CONTACT",2023,{"$error":"#VALUE!"},108,null,null,null,null,null,null,null,null,null,null,null,null,null,null,null,null,null,null,"~"]
["CONTACT",2023,{"$error":"#VALUE!"},109,null,null,null,null,null,null,null,null,null,null,null,null,null,null,null,null,null,null,"~"]
["CONTACT",2023,{"$error":"#VALUE!"},110,null,null,null,null,null,null,null,null,null,null,null,null,null,null,null,null,null,null,"~"]
["CONTACT",2023,{"$error":"#VALUE!"},111,null,null,null,null,null,null,null,null,null,null,null,null,null,null,null,null,null,null,"~"]
["CONTACT",2023,{"$error":"#VALUE!"},112,null,null,null,null,null,null,null,null,null,null,null,null,null,null,null,null,null,null,"~"]
["CONTACT",2023,{"$error":"#VALUE!"},113,null,null,null,null,null,null,null,null,null,null,null,null,null,null,null,null,null,null,"~"]
["CONTACT",2023,{"$error":"#VALUE!"},114,null,null,null,null,null,null,null,null,null,null,null,null,null,null,null,null,null,null,"~"]
["CONTACT",2023,{"$error":"#VALUE!"},115,null,null,null,null,null,null,null,null,null,null,null,null,null,null,null,null,null,null,"~"]
["CONTACT",2023,{"$error":"#VALUE!"},116,null,null,null,null,null,null,null,null,null,null,null,null,null,null,null,null,null,null,"~"]
["CONTACT",2023,{"$error":"#VALUE!"},117,null,null,null,null,null,null,null,null,null,null,null,null,null,null,null,null,null,null,"~"]
["CONTACT",2023,{"$error":"#VALUE!"},118,null,null,null,null,null,null,null,null,null,null,null,null,null,null,null,null,null,null,"~"]
["CONTACT",2023,{"$error":"#VALUE!"},119,null,null,null,null,null,null,null,null,null,null,null,null,null,null,null,null,null,null,"~"]
["CONTACT",2023,{"$error":"#VALUE!"},120,null,null,null,null,null,null,null,null,null,null,null,null,null,null,null,null,null,null,"~"]
["CONTACT",2023,{"$error":"#VALUE!"},121,null,null,null,null,null,null,null,null,null,null,null,null,null,null,null,null,null,null,"~"]
["CONTACT",2023,{"$error":"#VALUE!"},122,null,null,null,null,null,null,null,null,null,null,null,null,null,null,null,null,null,null,"~"]
["CONTACT",2023,{"$error":"#VALUE!"},123,null,null,null,null,null,null,null,null,null,null,null,null,null,null,null,null,null,null,"~"]
["CONTACT",2023,{"$error":"#VALUE!"},124,null,null,null,null,null,null,null,null,null,null,null,null,null,null,null,null,null,null,"~"]
["CONTACT",2023,{"$error":"#VALUE!"},125,null,null,null,null,null,null,null,null,null,null,null,null,null,null,null,null,null,null,"~"]
["CONTACT",2023,{"$error":"#VALUE!"},126,null,null,null,null,null,null,null,null,null,null,null,null,null,null,null,null,null,null,"~"]
["CONTACT",2023,{"$error":"#VALUE!"},127,null,null,null,null,null,null,null,null,null,null,null,null,null,null,null,null,null,null,"~"]
["CONTACT",2023,{"$error":"#VALUE!"},128,null,null,null,null,null,null,null,null,null,null,null,null,null,null,null,null,null,null,"~"]
["CONTACT",2023,{"$error":"#VALUE!"},129,null,null,null,null,null,null,null,null,null,null,null,null,null,null,null,null,null,null,"~"]
["CONTACT",2023,{"$error":"#VALUE!"},130,null,null,null,null,null,null,null,null,null,null,null,null,null,null,null,null,null,null,"~"]
["CONTACT",2023,{"$error":"#VALUE!"},131,null,null,null,null,null,null,null,null,null,null,null,null,null,null,null,null,null,null,"~"]
["CONTACT",2023,{"$error":"#VALUE!"},132,null,null,null,null,null,null,null,null,null,null,null,null,null,null,null,null,null,null,"~"]
["CONTACT",2023,{"$error":"#VALUE!"},133,null,null,null,null,null,null,null,null,null,null,null,null,null,null,null,null,null,null,"~"]
["CONTACT",2023,{"$error":"#VALUE!"},134,null,null,null,null,null,null,null,null,null,null,null,null,null,null,null,null,null,null,"~"]
["CONTACT",2023,{"$error":"#VALUE!"},135,null,null,null,null,null,null,null,null,null,null,null,null,null,null,null,null,null,null,"~"]
["CONTACT",2023,{"$error":"#VALUE!"},136,null,null,null,null,null,null,null,null,null,null,null,null,null,null,null,null,null,null,"~"]
["CONTACT",2023,{"$error":"#VALUE!"},137,null,null,null,null,null,null,null,null,null,null,null,null,null,null,null,null,null,null,"~"]
["CONTACT",2023,{"$error":"#VALUE!"},138,null,null,null,null,null,null,null,null,null,null,null,null,null,null,null,null,null,null,"~"]
["SA25",2023,{"$error":"#VALUE!"},0,1,"Revenue By Source",null,null,null,null,null,null,null,null,null,null,null,null,null,null,null,null,"~"]
["SA25",2023,{"$error":"#VALUE!"},0,2,"Property rates",null,null,null,null,null,null,null,null,null,null,null,null,null,null,null,null,"~"]
["SA25",2023,{"$error":"#VALUE!"},0,3,"Property rates - penalties & collection charges",null,null,null,null,null,null,null,null,null,null,null,null,null,null,null,null,"~"]
["SA25",2023,{"$error":"#VALUE!"},0,4,"Service charges - electricity revenue",null,null,null,null,null,null,null,null,null,null,null,null,null,null,null,null,"~"]
["SA25",2023,{"$error":"#VALUE!"},0,5,"Service charges - water revenue",null,null,null,null,null,null,null,null,null,null,null,null,null,null,null,null,"~"]
["SA25",2023,{"$error":"#VALUE!"},0,6,"Service charges - sanitation revenue",null,null,null,null,null,null,null,null,null,null,null,null,null,null,null,null,"~"]
["SA25",2023,{"$error":"#VALUE!"},0,7,"Service charges - refuse revenue",null,null,null,null,null,null,null,null,null,null,null,null,null,null,null,null,"~"]
["SA25",2023,{"$error":"#VALUE!"},0,8,"Service charges - other",null,null,null,null,null,null,null,null,null,null,null,null,null,null,null,null,"~"]
["SA25",2023,{"$error":"#VALUE!"},0,9,"Rental of facilities and equipment",null,null,null,null,null,null,null,null,null,null,null,null,null,null,null,null,"~"]
["SA25",2023,{"$error":"#VALUE!"},0,10,"Interest earned - external investments",null,null,null,null,null,null,null,null,null,null,null,null,null,null,null,null,"~"]
["SA25",2023,{"$error":"#VALUE!"},0,11,"Interest earned - outstanding debtors",null,null,null,null,null,null,null,null,null,null,null,null,null,null,null,null,"~"]
["SA25",2023,{"$error":"#VALUE!"},0,12,"Dividends received",null,null,null,null,null,null,null,null,null,null,null,null,null,null,null,null,"~"]
["SA25",2023,{"$error":"#VALUE!"},0,13,"Fines",null,null,null,null,null,null,null,null,null,null,null,null,null,null,null,null,"~"]
["SA25",2023,{"$error":"#VALUE!"},0,14,"Licences and permits",null,null,null,null,null,null,null,null,null,null,null,null,null,null,null,null,"~"]
["SA25",2023,{"$error":"#VALUE!"},0,15,"Agency services",null,null,null,null,null,null,null,null,null,null,null,null,null,null,null,null,"~"]
["SA25",2023,{"$error":"#VALUE!"},0,16,"Transfers recognised - operational",null,null,null,null,null,null,null,null,null,null,null,null,null,null,null,null,"~"]
["SA25",2023,{"$error":"#VALUE!"},0,17,"Other revenue",null,null,null,null,null,null,null,null,null,null,null,null,null,null,null,null,"~"]
["SA25",2023,{"$error":"#VALUE!"},0,18,"Gains on disposal of PPE",null,null,null,null,null,null,null,null,null,null,null,null,null,null,null,null,"~"]
["SA25",2023,{"$error":"#VALUE!"},0,19,"Total Revenue (excluding capital transfers and contributions)",null,null,null,null,null,null,null,null,null,null,null,null,null,null,null,null,"~"]
["SA25",2023,{"$error":"#VALUE!"},0,20,null,null,null,null,null,null,null,null,null,null,null,null,null,null,null,null,null,"~"]
["SA25",2023,{"$error":"#VALUE!"},0,21,"Expenditure By Type",null,null,null,null,null,null,null,null,null,null,null,null,null,null,null,null,"~"]
["SA25",2023,{"$error":"#VALUE!"},0,22,"Employee related costs",null,null,null,null,null,null,null,null,null,null,null,null,null,null,null,null,"~"]
["SA25",2023,{"$error":"#VALUE!"},0,23,"Remuneration of councillors",null,null,null,null,null,null,null,null,null,null,null,null,null,null,null,null,"~"]
["SA25",2023,{"$error":"#VALUE!"},0,24,"Debt impairment",null,null,null,null,null,null,null,null,null,null,null,null,null,null,null,null,"~"]
["SA25",2023,{"$error":"#VALUE!"},0,25,"Depreciation & asset impairment",null,null,null,null,null,null,null,null,null,null,null,null,null,null,null,null,"~"]
["SA25",2023,{"$error":"#VALUE!"},0,26,"Finance charges",null,null,null,null,null,null,null,null,null,null,null,null,null,null,null,null,"~"]
["SA25",2023,{"$error":"#VALUE!"},0,27,"Bulk purchases",null,null,null,null,null,null,null,null,null,null,null,null,null,null,null,null,"~"]
["SA25",2023,{"$error":"#VALUE!"},0,28,"Other materials",null,null,null,null,null,null,null,null,null,null,null,null,null,null,null,null,"~"]
["SA25",2023,{"$error":"#VALUE!"},0,29,"Contracted services",null,null,null,null,null,null,null,null,null,null,null,null,null,null,null,null,"~"]
["SA25",2023,{"$error":"#VALUE!"},0,30,"Transfers and grants",null,null,null,null,null,null,null,null,null,null,null,null,null,null,null,null,"~"]
["SA25",2023,{"$error":"#VALUE!"},0,31,"Other expenditure",null,null,null,null,null,null,null,null,null,null,null,null,null,null,null,null,"~"]
["SA25",2023,{"$error":"#VALUE!"},0,32,"Loss on disposal of PPE",null,null,null,null,null,null,null,null,null,null,null,null,null,null,null,null,"~"]
["SA25",2023,{"$error":"#VALUE!"},0,33,"Total Expenditure",null,null,null,null,null,null,null,null,null,null,null,null,null,null,null,null,"~"]
["SA25",2023,{"$error":"#VALUE!"},0,34,null,null,null,null,null,null,null,null,null,null,null,null,null,null,null,null,null,"~"]
["SA25",2023,{"$error":"#VALUE!"},0,35,"Surplus/(Deficit)",null,null,null,null,null,null,null,null,null,null,null,null,null,null,null,null,"~"]
["SA25",{"$f":"+MTREF","v":2023},{"$f":"LEFT(muni,(FIND(\" \",muni,1)-1))","v":{"$error":"#VALUE!"}},0,36,"Transfers recognised - capital",null,null,null,null,null,null,null,null,null,null,null,null,null,null,null,null,"~"]
["SA25",2023,{"$error":"#VALUE!"},0,37,"Contributions recognised - capital",null,null,null,null,null,null,null,null,null,null,null,null,null,null,null,null,"~"]
["SA25",2023,{"$error":"#VALUE!"},0,38,"Contributed assets",null,null,null,null,null,null,null,null,null,null,null,null,null,null,null,null,"~"]
["SA25",2023,{"$error":"#VALUE!"},0,39,"Surplus/(Deficit) after capital transfers & contributions",null,null,null,null,null,null,null,null,null,null,null,null,null,null,null,null,"~"]
["SA25",2023,{"$error":"#VALUE!"},0,40,"Taxation",null,null,null,null,null,null,null,null,null,null,null,null,null,null,null,null,"~"]
["SA25",2023,{"$error":"#VALUE!"},0,41,"Attributable to minorities",null,null,null,null,null,null,null,null,null,null,null,null,null,null,null,null,"~"]
["SA25",2023,{"$error":"#VALUE!"},0,44,"Share of surplus/ (deficit) of associate",null,null,null,null,null,null,null,null,null,null,null,null,null,null,null,null,"~"]
["SA27",2023,{"$error":"#VALUE!"},null,null,"Revenue - Standard",null,null,null,null,null,null,null,null,null,null,null,null,null,null,null,null,"~"]
["SA27",2023,{"$error":"#VALUE!"},null,null,"Governance and administration",null,null,null,null,null,null,null,null,null,null,null,null,null,null,null,null,"~"]
["SA27",2023,{"$error":"#VALUE!"},1,11,"Executive and council",null,null,null,null,null,null,null,null,null,null,null,null,null,null,null,null,"~"]
["SA27",2023,{"$error":"#VALUE!"},1,12,"Budget and treasury office",null,null,null,null,null,null,null,null,null,null,null,null,null,null,null,null,"~"]
["SA27",2023,{"$error":"#VALUE!"},1,13,"Corporate services",null,null,null,null,null,null,null,null,null,null,null,null,null,null,null,null,"~"]
["SA27",2023,{"$error":"#VALUE!"},null,null,"Community and public safety",null,null,null,null,null,null,null,null,null,null,null,null,null,null,null,null,"~"]
["SA27",2023,{"$error":"#VALUE!"},1,21,"Community and social services",null,null,null,null,null,null,null,null,null,null,null,null,null,null,null,null,"~"]
["SA27",2023,{"$error":"#VALUE!"},1,22,"Sport and recreation",null,null,null,null,null,null,null,null,null,null,null,null,null,null,null,null,"~"]
["SA27",2023,{"$error":"#VALUE!"},1,23,"Public safety",null,null,null,null,null,null,null,null,null,null,null,null,null,null,null,null,"~"]
["SA27",2023,{"$error":"#VALUE!"},1,24,"Housing",null,null,null,null,null,null,null,null,null,null,null,null,null,null,null,null,"~"]
["SA27",2023,{"$error":"#VALUE!"},1,25,"Health",null,null,null,null,null,null,null,null,null,null,null,null,null,null,null,null,"~"]
["SA27",2023,{"$error":"#VALUE!"},null,null,"Economic and environmental services",null,null,null,null,null,null,null,null,null,null,null,null,null,null,null,null,"~"]
["SA27",2023,{"$error":"#VALUE!"},1,31,"Planning and development",null,null,null,null,null,null,null,null,null,null,null,null,null,null,null,null,"~"]
["SA27",2023,{"$error":"#VALUE!"},1,32,"Road transport",null,null,null,null,null,null,null,null,null,null,null,null,null,null,null,null,"~"]
["SA27",2023,{"$error":"#VALUE!"},1,33,"Environmental protection",null,null,null,null,null,null,null,null,null,null,null,null,null,null,null,null,"~"]
["SA27",2023,{"$error":"#VALUE!"},null,null,"Trading services",null,null,null,null,null,null,null,null,null,null,null,null,null,null,null,null,"~"]
["SA27",2023,{"$error":"#VALUE!"},1,41,"Electricity",null,null,null,null,null,null,null,null,null,null,null,null,null,null,null,null,"~"]
["SA27",2023,{"$error":"#VALUE!"},1,42,"Water",null,null,null,null,null,null,null,null,null,null,null,null,null,null,null,null,"~"]
["SA27",2023,{"$error":"#VALUE!"},1,43,"Waste water management",null,null,null,null,null,null,null,null,null,null,null,null,null,null,null,null,"~"]
["SA27",2023,{"$error":"#VALUE!"},1,44,"Waste management",null,null,null,null,null,null,null,null,null,null,null,null,null,null,null,null,"~"]
["SA27",2023,{"$error":"#VALUE!"},1,45,"Other",null,null,null,null,null,null,null,null,null,null,null,null,null,null,null,null,"~"]
["SA27",2023,{"$error":"#VALUE!"},null,null,"Total Revenue - Standard",null,null,null,null,null,null,null,null,null,null,null,null,null,null,null,null,"~"]
["SA27",2023,{"$error":"#VALUE!"},null,null,null,null,null,null,null,null,null,null,null,null,null,null,null,null,null,null,null,"~"]
["SA27",2023,{"$error":"#VALUE!"},null,null,"Expenditure - Standard",null,null,null,null,null,null,null,null,null,null,null,null,null,null,null,null,"~"]
["SA27",2023,{"$error":"#VALUE!"},null,null,"Governance and administration",null,null,null,null,null,null,null,null,null,null,null,null,null,null,null,null,"~"]
["SA27",2023,{"$error":"#VALUE!"},2,11,"Executive and council",null,null,null,null,null,null,null,null,null,null,null,null,null,null,null,null,"~"]
["SA27",2023,{"$error":"#VALUE!"},2,12,"Budget and treasury office",null,null,null,null,null,null,null,null,null,null,null,null,null,null,null,null,"~"]
["SA27",2023,{"$error":"#VALUE!"},2,13,"Corporate services",null,null,null,null,null,null,null,null,null,null,null,null,null,null,null,null,"~"]
["SA27",2023,{"$error":"#VALUE!"},null,null,"Community and public safety",null,null,null,null,null,null,null,null,null,null,null,null,null,null,null,null,"~"]
["SA27",2023,{"$error":"#VALUE!"},2,21,"Community and social services",null,null,null,null,null,null,null,null,null,null,null,null,null,null,null,null,"~"]
["SA27",2023,{"$error":"#VALUE!"},2,22,"Sport and recreation",null,null,null,null,null,null,null,null,null,null,null,null,null,null,null,null,"~"]
["SA27",2023,{"$error":"#VALUE!"},2,23,"Public safety",null,null,null,null,null,null,null,null,null,null,null,null,null,null,null,null,"~"]
["SA27",2023,{"$error":"#VALUE!"},2,24,"Housing",null,null,null,null,null,null,null,null,null,null,null,null,null,null,null,null,"~"]
["SA27",2023,{"$error":"#VALUE!"},2,25,"Health",null,null,null,null,null,null,null,null,null,null,null,null,null,null,null,null,"~"]
["SA27",2023,{"$error":"#VALUE!"},null,null,"Economic and environmental services",null,null,null,null,null,null,null,null,null,null,null,null,null,null,null,null,"~"]
["SA27",2023,{"$error":"#VALUE!"},2,31,"Planning and development",null,null,null,null,null,null,null,null,null,null,null,null,null,null,null,null,"~"]
["SA27",2023,{"$error":"#VALUE!"},2,32,"Road transport",null,null,null,null,null,null,null,null,null,null,null,null,null,null,null,null,"~"]
["SA27",2023,{"$error":"#VALUE!"},2,33,"Environmental protection",null,null,null,null,null,null,null,null,null,null,null,null,null,null,null,null,"~"]
["SA27",2023,{"$error":"#VALUE!"},null,null,"Trading services",null,null,null,null,null,null,null,null,null,null,null,null,null,null,null,null,"~"]
["SA27",2023,{"$error":"#VALUE!"},2,41,"Electricity",null,null,null,null,null,null,null,null,null,null,null,null,null,null,null,null,"~"]
["SA27",2023,{"$error":"#VALUE!"},2,42,"Water",null,null,null,null,null,null,null,null,null,null,null,null,null,null,null,null,"~"]
["SA27",2023,{"$error":"#VALUE!"},2,43,"Waste water management",null,null,null,null,null,null,null,null,null,null,null,null,null,null,null,null,"~"]
["SA27",2023,{"$error":"#VALUE!"},2,44,"Waste management",null,null,null,null,null,null,null,null,null,null,null,null,null,null,null,null,"~"]
["SA27",2023,{"$error":"#VALUE!"},2,45,"Other",null,null,null,null,null,null,null,null,null,null,null,null,null,null,null,null,"~"]
["SA27",2023,{"$error":"#VALUE!"},null,null,"Total Expenditure - Standard",null,null,null,null,null,null,null,null,null,null,null,null,null,null,null,null,"~"]
["SA29",2023,{"$error":"#VALUE!"},null,null,"Capital Expenditure - Standard",null,null,null,null,null,null,null,null,null,null,null,null,null,null,null,null,"~"]
["SA29",2023,{"$error":"#VALUE!"},null,null,"Governance and administration",null,null,null,null,null,null,null,null,null,null,null,null,null,null,null,null,"~"]
["SA29",2023,{"$error":"#VALUE!"},1,11,"Executive and council",null,null,null,null,null,null,null,null,null,null,null,null,null,null,null,null,"~"]
["SA29",2023,{"$error":"#VALUE!"},1,12,"Budget and treasury office",null,null,null,null,null,null,null,null,null,null,null,null,null,null,null,null,"~"]
["SA29",2023,{"$error":"#VALUE!"},1,13,"Corporate services",null,null,null,null,null,null,null,null,null,null,null,null,null,null,null,null,"~"]
["SA29",2023,{"$error":"#VALUE!"},null,null,"Community and public safety",null,null,null,null,null,null,null,null,null,null,null,null,null,null,null,null,"~"]
["SA29",2023,{"$error":"#VALUE!"},1,21,"Community and social services",null,null,null,null,null,null,null,null,null,null,null,null,null,null,null,null,"~"]
["SA29",2023,{"$error":"#VALUE!"},1,22,"Sport and recreation",null,null,null,null,null,null,null,null,null,null,null,null,null,null,null,null,"~"]
["SA29",2023,{"$error":"#VALUE!"},1,23,"Public safety",null,null,null,null,null,null,null,null,null,null,null,null,null,null,null,null,"~"]
["SA29",2023,{"$error":"#VALUE!"},1,24,"Housing",null,null,null,null,null,null,null,null,null,null,null,null,null,null,null,null,"~"]
["SA29",2023,{"$error":"#VALUE!"},1,25,"Health",null,null,null,null,null,null,null,null,null,null,null,null,null,null,null,null,"~"]
["SA29",2023,{"$error":"#VALUE!"},null,null,"Economic and environmental services",null,null,null,null,null,null,null,null,null,null,null,null,null,null,null,null,"~"]
["SA29",{"$f":"+MTREF","v":2023},{"$f":"LEFT(muni,(FIND(\" \",muni,1)-1))","v":{"$error":"#VALUE!"}},1,31,"Planning and development",null,null,null,null,null,null,null,null,null,null,null,null,null,null,null,null,"~"]
["SA29",2023,{"$error":"#VALUE!"},1,32,"Road transport",null,null,null,null,null,null,null,null,null,null,null,null,null,null,null,null,"~"]
["SA29",2023,{"$error":"#VALUE!"},1,33,"Environmental protection",null,null,null,null,null,null,null,null,null,null,null,null,null,null,null,null,"~"]
["SA29",2023,{"$error":"#VALUE!"},null,null,"Trading services",null,null,null,null,null,null,null,null,null,null,null,null,null,null,null,null,"~"]
["SA29",2023,{"$error":"#VALUE!"},1,41,"Electricity",null,null,null,null,null,null,null,null,null,null,null,null,null,null,null,null,"~"]
["SA29",2023,{"$error":"#VALUE!"},1,42,"Water",null,null,null,null,null,null,null,null,null,null,null,null,null,null,null,null,"~"]
["SA29",2023,{"$error":"#VALUE!"},1,43,"Waste water management",null,null,null,null,null,null,null,null,null,null,null,null,null,null,null,null,"~"]
["SA29",2023,{"$error":"#VALUE!"},1,44,"Waste management",null,null,null,null,null,null,null,null,null,null,null,null,null,null,null,null,"~"]
["SA29",2023,{"$error":"#VALUE!"},1,45,"Other",null,null,null,null,null,null,null,null,null,null,null,null,null,null,null,null,"~"]
["SA29",2023,{"$error":"#VALUE!"},null,null,"Total Capital Expenditure - Standard",null,null,null,null,null,null,null,null,null,null,null,null,null,null,null,null,"~"]
["SA29",2023,{"$error":"#VALUE!"},null,null,null,null,null,null,null,null,null,null,null,null,null,null,null,null,null,null,null,"~"]
["SA29",2023,{"$error":"#VALUE!"},2,50,"Funded by:",null,null,null,null,null,null,null,null,null,null,null,null,null,null,null,null,"~"]
["SA29",2023,{"$error":"#VALUE!"},2,51,"National Government",null,null,null,null,null,null,null,null,null,null,null,null,null,null,null,null,"~"]
["SA29",2023,{"$error":"#VALUE!"},2,52,"Provincial Government",null,null,null,null,null,null,null,null,null,null,null,null,null,null,null,null,"~"]
["SA29",2023,{"$error":"#VALUE!"},2,53,"District Municipality",null,null,null,null,null,null,null,null,null,null,null,null,null,null,null,null,"~"]
["SA29",2023,{"$error":"#VALUE!"},2,54,"Other transfers and grants",null,null,null,null,null,null,null,null,null,null,null,null,null,null,null,null,"~"]
["SA29",2023,{"$error":"#VALUE!"},2,55,"Transfers recognised - capital",null,null,null,null,null,null,null,null,null,null,null,null,null,null,null,null,"~"]
["SA29",2023,{"$error":"#VALUE!"},2,56,"Public contributions & donations",null,null,null,null,null,null,null,null,null,null,null,null,null,null,null,null,"~"]
["SA29",2023,{"$error":"#VALUE!"},2,57,"Borrowing",null,null,null,null,null,null,null,null,null,null,null,null,null,null,null,null,"~"]
["SA29",2023,{"$error":"#VALUE!"},2,58,"Internally generated funds",null,null,null,null,null,null,null,null,null,null,null,null,null,null,null,null,"~"]
["SA29",2023,{"$error":"#VALUE!"},2,59,"Total Capital Funding",null,null,null,null,null,null,null,null,null,null,null,null,null,null,null,null,"~"]