{"text_format":"1","workbook":"xlsx","n_sheets":66,"sheets":["START","Instructions","Template names","Lookup and lists","Org structure","Contacts","A1-Sum","A2-FinPerf SC","A2A","A3-FinPerf V","A3A","A4-FinPerf RE","A4 Funding","A5-Capex","A5A","A6-FinPos","A6 Inventory","A7-CFlow","A8-ResRecon","A9-Asset","A10-SerDel","SA1","SA2","SA3","SA4","SA5","SA6","SA7","SA8","SA9","SA10","SA11","SA12a","SA12b","SA13a","SA13b","SA14","SA15","SA16","SA17","SA18","SA19","SA20","SA21","SA22","SA23","SA24","SA25","SA26","SA27","SA28","SA29","SA30","SA31","SA32","SA33","SA34a","SA34b","SA34c","SA34d","SA34e","SA35","SA36","SA37","SA38","LGDB_EXPORT"],"not_rendered":{"charts":0,"images":18,"macros":1,"external_links":2,"defined_names":1920,"comments":2,"pivot_tables":0},"unopened":[],"bounds":{"document_bytes":16777216,"sheet_cells":100000,"rows_first":2000,"rows_last":500,"rows_between":2000,"halvings":0,"cell_chars":16384,"cell_head_chars":4096},"cells_cut":0,"cells_raw":0,"read":"whole","date_system":"1900"}

{"sheet":"START","index":0,"n_rows":1,"n_cols":1,"rows_kept":1,"cut":false,"hidden":false,"merged":[]}
["j"]

{"sheet":"Instructions","index":1,"n_rows":77,"n_cols":24,"rows_kept":77,"cut":false,"hidden":false,"merged":[]}
[]
[null,null,null,2020]
[]
[null,null,null,null,null,null,null,null,null,null,null,null,null,null,null,null,null,null,null,null,null,null,null,"Yes"]
[null,null,null,null,null,null,null,null,null,null,null,null,null,null,null,null,null,null,null,null,null,null,null,"No"]
[]
[null,null,null,null,null,null,null,null,null,null,null,null,null,null,null,null,null,null,null,null,null,null,"Type of Entities Range:"]
[null,null,null,null,null,null,null,null,null,null,null,null,null,null,null,null,null,null,null,null,null,null,null,"Parent Municipality"]
[null,null,null,null,null,null,null,null,null,null,null,null,null,null,null,null,null,null,null,null,null,null,null,"Consolidated Information"]
[]
[]
[]
[]
[null,null,null,null,null,"START"]
[null,null,null,null,null,"Instructions"]
[null,null,null,null,null,"Template names"]
[null,null,null,null,null,"Lookup and lists",null,null,null,null,null,null,null,null,null,null,null,null,null,null,null,null,"MTREF Range:",2013]
[null,null,null,null,null,"Org structure",null,null,null,null,null,null,null,null,null,null,null,null,null,null,null,null,null,2014]
[null,null,null,null,null,"Contacts",null,null,null,null,null,null,null,null,null,null,null,null,null,null,null,null,null,2015]
[null,null,null,null,null,"A1-Sum",null,null,null,null,null,null,null,null,null,null,null,null,null,null,null,null,null,2016]
[null,null,null,null,null,"A2-FinPerf SC",null,null,null,null,null,null,null,null,null,null,null,null,null,null,null,null,null,2017]
[null,null,null,null,null,"A2A",null,null,null,null,null,null,null,null,null,null,null,null,null,null,null,null,null,2018]
[null,null,null,null,null,"A3-FinPerf V",null,null,null,null,null,null,null,null,null,null,null,null,null,null,null,null,null,2019]
[null,null,null,null,null,"A3A",null,null,null,null,null,null,null,null,null,null,null,null,null,null,null,null,null,2020]
[null,null,null,null,null,"A4-FinPerf RE",null,null,null,null,null,null,null,null,null,null,null,null,null,null,null,null,null,2021]
[null,null,null,null,null,"A5-Capex",null,null,null,null,null,null,null,null,null,null,null,null,null,null,null,null,null,2022]
[null,null,null,null,null,"A5A",null,null,null,null,null,null,null,null,null,null,null,null,null,null,null,null,null,2023]
[null,null,null,null,null,"A6-FinPos",null,null,null,null,null,null,null,null,null,null,null,null,null,null,null,null,null,2024]
[null,null,null,null,null,"A7-CFlow",null,null,null,null,null,null,null,null,null,null,null,null,null,null,null,null,null,2025]
[null,null,null,null,null,"A8-ResRecon",null,null,null,null,null,null,null,null,null,null,null,null,null,null,null,null,null,2026]
[null,null,null,null,null,"A9-Asset",null,null,null,null,null,null,null,null,null,null,null,null,null,null,null,null,null,2027]
[null,null,null,null,null,"A10-SerDel",null,null,null,null,null,null,null,null,null,null,null,null,null,null,null,null,null,2028]
[null,null,null,null,null,"SA1",null,null,null,null,null,null,null,null,null,null,null,null,null,null,null,null,"MTREF Linked:",13]
[null,null,null,null,null,"SA2",null,null,null,null,null,null,null,null,null,null,null,null,null,null,null,null,"MTREF:",{"$f":"INDEX(X17:X31,X33,1)","v":2025}]
[null,null,null,null,null,"SA3"]
[null,null,null,null,null,"SA4",null,null,null,null,null,null,null,null,null,null,null,null,null,null,null,null,"Fin Year:",{"$f":"MTREF&\"/\"&RIGHT(MTREF,2)+1","v":"2025/26"}]
[null,null,null,null,null,"SA5"]
[null,null,null,null,null,"SA6"]
[null,null,null,null,null,"SA7"]
[null,null,null,null,null,"SA8"]
[null,null,null,null,null,"SA9"]
[null,null,null,null,null,"SA10"]
[null,null,null,null,null,"SA11"]
[null,null,null,null,null,"SA12a"]
[null,null,null,null,null,"SA12b"]
[null,null,null,null,null,"SA13a"]
[null,null,null,null,null,"SA13b"]
[null,null,null,null,null,"SA14"]
[null,null,null,null,null,"SA15"]
[null,null,null,null,null,"SA16"]
[null,null,null,null,null,"SA17"]
[null,null,null,null,null,"SA18"]
[null,null,null,null,null,"SA19"]
[null,null,null,null,null,"SA20"]
[null,null,null,null,null,"SA21"]
[null,null,null,null,null,"SA22"]
[null,null,null,null,null,"SA23"]
[null,null,null,null,null,"SA24"]
[null,null,null,null,null,"SA25"]
[null,null,null,null,null,"SA26"]
[null,null,null,null,null,"SA27"]
[null,null,null,null,null,"SA28"]
[null,null,null,null,null,"SA29"]
[null,null,null,null,null,"SA30"]
[null,null,null,null,null,"SA31"]
[null,null,null,null,null,"SA32"]
[null,null,null,null,null,"SA33"]
[null,null,null,null,null,"SA34a"]
[null,null,null,null,null,"SA34b"]
[null,null,null,null,null,"SA34c"]
[null,null,null,null,null,"SA34d"]
[null,null,null,null,null,"SA34e"]
[null,null,null,null,null,"SA35"]
[null,null,null,null,null,"SA36"]
[null,null,null,null,null,"SA37"]
[null,null,null,null,null,"SA38"]
[null,null,null,null,null,"LGDB_EXPORT"]

{"sheet":"Template names","index":2,"n_rows":179,"n_cols":6,"rows_kept":179,"cut":false,"hidden":true,"merged":[[0,0,0,3],[86,0,86,1],[109,0,109,1],[98,0,98,1],[91,0,91,3]]}
["Common sheet headings"]
["Head1",{"$f":"HLOOKUP(MTREF,Headings,2)","v":"2023/24"},"Prior year -1"]
["Head1A",{"$f":"HLOOKUP(MTREF,Headings,3)","v":"2022/23"},"Prior year -2"]
["Head1B",{"$f":"HLOOKUP(MTREF,Headings,4)","v":"2021/22"},"Prior year -3"]
["Head2",{"$f":"HLOOKUP(MTREF,Headings,5)","v":"Current Year 2024/25"},"Year in which budget is being prepared"]
["Head2A",{"$f":"HLOOKUP(MTREF,Headings,6)","v":"2024/25"},"Year in which budget is being prepared"]
["Head3",{"$f":"HLOOKUP(MTREF,Headings,7)","v":"2025/26 Medium Term Revenue & Expenditure Framework"},"MTREF name"]
["Head4","LTFS","Long term financial strategy"]
["Head5","Audited Outcome"]
["Head5A","Outcome"]
["Head5B","Pre-audit outcome"]
["Head6","Original Budget"]
["Head7","Adjusted Budget"]
["Head8","Full Year Forecast"]
["Head9",{"$f":"HLOOKUP(MTREF,Headings,8)","v":"Budget Year 2025/26"},"1st year of MTREF","Year1"]
["Head10",{"$f":"HLOOKUP(MTREF,Headings,9)","v":"Budget Year +1 2026/27"},"2nd year of MTREF","Year2"]
["Head11",{"$f":"HLOOKUP(MTREF,Headings,10)","v":"Budget Year +2 2027/28"},"3rd year of MTREF","Year3"]
["Head12",{"$f":"HLOOKUP(MTREF,Headings,11)","v":"Forecast 2028/29"},"1st yr of long term forecast","Year4"]
["Head13",{"$f":"HLOOKUP(MTREF,Headings,12)","v":"Forecast 2029/30"},"Next yr of long term forecast","Year5"]
["Head14",{"$f":"HLOOKUP(MTREF,Headings,13)","v":"Forecast 2030/31"},"Next yr of long term forecast","Year6"]
["Head15",{"$f":"HLOOKUP(MTREF,Headings,14)","v":"Forecast 2031/32"},"Next yr of long term forecast","Year7"]
["Head16",{"$f":"HLOOKUP(MTREF,Headings,15)","v":"Forecast 2032/33"},"Next yr of long term forecast","Year8"]
["Head17",{"$f":"HLOOKUP(MTREF,Headings,16)","v":"Forecast 2033/34"},"Next yr of long term forecast","Year9"]
["Head18",{"$f":"HLOOKUP(MTREF,Headings,17)","v":"Forecast 2034/35"},"Next yr of long term forecast","Year10"]
["Head19",{"$f":"HLOOKUP(MTREF,Headings,18)","v":"Forecast 2035/36"},"Next yr of long term forecast","Year11"]
["Head20",{"$f":"HLOOKUP(MTREF,Headings,19)","v":"Forecast 2036/37"},"Next yr of long term forecast","Year12"]
["Head21",{"$f":"HLOOKUP(MTREF,Headings,20)","v":"Forecast 2037/38"},"Next yr of long term forecast","Year13"]
["Head22",{"$f":"HLOOKUP(MTREF,Headings,21)","v":"Forecast 2038/39"},"Next yr of long term forecast","Year14"]
["Head23",{"$f":"HLOOKUP(MTREF,Headings,22)","v":"Forecast 2039/40"},"Next yr of long term forecast","Year15"]
["Head24","Description"]
["Head25"]
["Head26","Vote Description"]
["Head27","Ref"]
["Head27a","References"]
["Head28","Surplus/(Deficit) for the year",null,"Result"]
["Head29",{"$f":"HLOOKUP(MTREF,Headings,23)","v":"Annual target 2025/26"}]
["Head30",{"$f":"HLOOKUP(MTREF,Headings,24)","v":"Revised target 2025/26"}]
["Head31","Quarter ended 30 September"]
["Head32","Quarter ended 31 December"]
["Head33","Quarter ended 31 March"]
["Head34","Quarter ended 30 June"]
["Head35","Variance explanation"]
["Head36","YTD  Actual 31 Dec"]
["Head37","YTD  Budget 31 Dec"]
["Head38","Monthly actual"]
["Head39","YTD actual"]
["Head40","YTD budget"]
["Head41","YTD variance"]
["Head42","Surplus/ (Deficit) for the yr/period"]
["Head43",{"$f":"Head3&\" Summary\"","v":"2025/26 Medium Term Revenue & Expenditure Framework Summary"}]
["Head44","2001 Census"]
["Head45","2011 Census"]
["Head46"," - Adjustments Budget - January 2007"]
["Head47","Previous target year to complete"]
["Head48","Present value"]
["Head49"]
["Head50","Other Adjusts."]
["Head51","Accum. Funds"]
["Head52","Multi-year capital"]
["Head53","Unfore. Unavoid."]
["Head54","Prior Adjusted"]
["Head55","Nat. or Prov. Govt"]
["Head56","Total Adjusts."]
["SFPerf1","Budgeted Financial Performance"]
["SFPerf2","Forecast Financial Performance"]
["SFPos1","Budgeted Financial Position"]
["SFPos2","Forecast Financial Position"]
["Cash1","Budget Cash Flow"]
["Cash2","Forecast Cash Flow"]
["RandM","Expenditure includes repairs & maintenance of R'000"]
["Depart1","Department 1 - ",null,"DEP1"]
["Depart2","Department 2 - ",null,"DEP2"]
["Depart3","Department 3 - ",null,"DEP3"]
["Depart4","Department 4 - ",null,"DEP4"]
["Depart5","Department 5 - ",null,"DEP5"]
["Depart6","Department 6 - ",null,"DEP6"]
["Depart7","Department 7 - ",null,"DEP7"]
["Depart8","Department 8 - ",null,"DEP8"]
["Depart9","Department 9 - ",null,"DEP9"]
["Depart10","Department 10 - ",null,"DEP10"]
["Depart11","Department 11 - ",null,"DEP11"]
["Depart12","Department 12 - ",null,"DEP12"]
["Depart13","Department 13 - ",null,"DEP13"]
["Depart14","Department 14 - ",null,"DEP14"]
[]
[]
["Base year of forecast column selection names"]
["Choose","ACT"]
[null,"APP"]
[null,"ADJ"]
[]
["Standard nomenclature"]
["Muni",{"$f":"'Lookup and lists'!B28","v":"Choose name from list"}]
["Municipal Entities",2,"Type of report:",2]
[{"$f":"IF((MuniEntities=1)*(MuniType=2),\"YES\",\"NO\")","v":"NO"},"Does this municipality have entities (consolidated budget and entity budgets required)? YES/NO"]
["Entity 1","(Pty) Ltd Example 1 - Municipal entity - ",null,"Ent1"]
["Entity 2","(Pty) Ltd Example 2 - Municipal entity - ",null,"Ent2"]
["Entity 3","Municipal Entity Example 3",null,"Ent3"]
["Budget approval tables",null,"Chart x-ref","Sch/Tab/Ch","Alternative for municipalities without entities","Alternative for municipalities without entities"]
[null,{"$f":"IF(Consolques=\"YES\",E100,F100)","v":"Table A1 Budget Summary"},null,"Table A1 ",{"$f":"D100&\"Consolidated Budget Summary\"","v":"Table A1 Consolidated Budget Summary"},{"$f":"D100&\"Budget Summary\"","v":"Table A1 Budget Summary"}]
[null,"Table A2 Budgeted Financial Performance (revenue and expenditure by functional classification)","Charts 5, 6","Table A2 ",{"$f":"D101&\"Consolidated Budgeted Financial Performance (revenue and expenditure by functional classification)\"","v":"Table A2 Consolidated Budgeted Financial Performance (revenue and expenditure by functional classification)"},{"$f":"D101&\"Budgeted Financial Performance (revenue and expenditure by functional classification)\"","v":"Table A2 Budgeted Financial Performance (revenue and expenditure by functional classification)"}]
[null,"Table A3 Budgeted Financial Performance (revenue and expenditure by municipal vote)",null,"Table A3 ",{"$f":"D102&\"Consolidated Budgeted Financial Performance (revenue and expenditure by municipal vote)\"","v":"Table A3 Consolidated Budgeted Financial Performance (revenue and expenditure by municipal vote)"},{"$f":"D102&\"Budgeted Financial Performance (revenue and expenditure by municipal vote)\"","v":"Table A3 Budgeted Financial Performance (revenue and expenditure by municipal vote)"}]
[null,"Table A4 Budgeted Financial Performance (revenue and expenditure)","Charts 1, 2, 3, 4","Table A4 ",{"$f":"D103&\"Consolidated Budgeted Financial Performance (revenue and expenditure)\"","v":"Table A4 Consolidated Budgeted Financial Performance (revenue and expenditure)"},{"$f":"D103&\"Budgeted Financial Performance (revenue and expenditure)\"","v":"Table A4 Budgeted Financial Performance (revenue and expenditure)"}]
[null,"Table A5 Budgeted Capital Expenditure by vote, functional classification and funding","Charts 7, 8, 9, 10, 20","Table A5 ",{"$f":"D104&\"Consolidated Budgeted Capital Expenditure by vote, functional classification and funding\"","v":"Table A5 Consolidated Budgeted Capital Expenditure by vote, functional classification and funding"},{"$f":"D104&\"Budgeted Capital Expenditure by vote, functional classification and funding\"","v":"Table A5 Budgeted Capital Expenditure by vote, functional classification and funding"}]
[null,"Table A6 Budgeted Financial Position",null,"Table A6 ",{"$f":"D105&\"Consolidated Budgeted Financial Position\"","v":"Table A6 Consolidated Budgeted Financial Position"},{"$f":"D105&\"Budgeted Financial Position\"","v":"Table A6 Budgeted Financial Position"}]
[null,"Table A7 Budgeted Cash Flows",null,"Table A7 ",{"$f":"D106&\"Consolidated Budgeted Cash Flows\"","v":"Table A7 Consolidated Budgeted Cash Flows"},{"$f":"D106&\"Budgeted Cash Flows\"","v":"Table A7 Budgeted Cash Flows"}]
[null,"Table A8 Cash backed reserves/accumulated surplus reconciliation",null,"Table A8 ",{"$f":"D107&\"Consolidated Cash backed reserves/accumulated surplus reconciliation\"","v":"Table A8 Consolidated Cash backed reserves/accumulated surplus reconciliation"},{"$f":"D107&\"Cash backed reserves/accumulated surplus reconciliation\"","v":"Table A8 Cash backed reserves/accumulated surplus reconciliation"}]
[null,"Table A9 Asset Management",null,"Table A9 ",{"$f":"D108&\"Consolidated Asset Management\"","v":"Table A9 Consolidated Asset Management"},{"$f":"D108&\"Asset Management\"","v":"Table A9 Asset Management"}]
[null,"Table A10 Basic service delivery measurement",null,"Table A10 ",{"$f":"D109&\"Consolidated basic service delivery measurement\"","v":"Table A10 Consolidated basic service delivery measurement"},{"$f":"D109&\"Basic service delivery measurement\"","v":"Table A10 Basic service delivery measurement"}]
["Supportinging Tables to the Budget Approval Tables",null,{"$f":"$C$99","v":"Chart x-ref"},{"$f":"$D$99","v":"Sch/Tab/Ch"}]
["Supporting Table SA1",{"$f":"A111&\" Supportinging detail to 'Budgeted Financial Performance'\"","v":"Supporting Table SA1 Supportinging detail to 'Budgeted Financial Performance'"}]
["Supporting Table SA2 ",{"$f":"IF(Consolques=\"YES\",E112,F112)","v":"Supporting Table SA2 Matrix Financial Performance Budget (revenue source/expenditure type and dept.)"},null,null,{"$f":"A112&\"Consolidated Matrix Financial Performance Budget (revenue source/expenditure type & dept.)\"","v":"Supporting Table SA2 Consolidated Matrix Financial Performance Budget (revenue source/expenditure type & dept.)"},{"$f":"A112&\"Matrix Financial Performance Budget (revenue source/expenditure type and dept.)\"","v":"Supporting Table SA2 Matrix Financial Performance Budget (revenue source/expenditure type and dept.)"}]
["Supporting Table SA3 ",{"$f":"A113&\"Supportinging detail to 'Budgeted Financial Position'\"","v":"Supporting Table SA3 Supportinging detail to 'Budgeted Financial Position'"}]
["Supporting Table SA4 ",{"$f":"A114&\"Reconciliation of IDP strategic objectives and budget (revenue)\"","v":"Supporting Table SA4 Reconciliation of IDP strategic objectives and budget (revenue)"},"Chart 11"]
["Supporting Table SA5 ",{"$f":"A115&\"Reconciliation of IDP strategic objectives and budget (operating expenditure)\"","v":"Supporting Table SA5 Reconciliation of IDP strategic objectives and budget (operating expenditure)"},"Chart 12"]
["Supporting Table SA6 ",{"$f":"A116&\"Reconciliation of IDP strategic objectives and budget (capital expenditure)\"","v":"Supporting Table SA6 Reconciliation of IDP strategic objectives and budget (capital expenditure)"},"Chart 13"]
["Supporting Table SA7",{"$f":"A117&\" Measureable performance objectives\"","v":"Supporting Table SA7 Measureable performance objectives"}]
["Supporting Table SA8",{"$f":"A118&\" Performance indicators and benchmarks\"","v":"Supporting Table SA8 Performance indicators and benchmarks"},"Chts 15-19"]
["Supporting Table SA9",{"$f":"A119&\" Social, economic and demographic statistics and assumptions\"","v":"Supporting Table SA9 Social, economic and demographic statistics and assumptions"}]
["Supporting Table SA10",{"$f":"A120&\" Funding measurement\"","v":"Supporting Table SA10 Funding measurement"},"Chart 14"]
["Supporting Table SA11",{"$f":"A121&\" Property rates summary\"","v":"Supporting Table SA11 Property rates summary"}]
["Supporting Table SA12a",{"$f":"A122&\" Property rates by category (current year)\"","v":"Supporting Table SA12a Property rates by category (current year)"}]
["Supporting Table SA12b",{"$f":"A123&\" Property rates by category (budget year)\"","v":"Supporting Table SA12b Property rates by category (budget year)"}]
["Supporting Table SA13a",{"$f":"A124&\" Service Tariffs by category\"","v":"Supporting Table SA13a Service Tariffs by category"}]
["Supporting Table SA13b",{"$f":"A125&\" Service Tariffs by category - explanatory\"","v":"Supporting Table SA13b Service Tariffs by category - explanatory"}]
["Supporting Table SA14",{"$f":"A126&\" Household bills\"","v":"Supporting Table SA14 Household bills"}]
["Supporting Table SA15",{"$f":"A127&\" Investment particulars by type\"","v":"Supporting Table SA15 Investment particulars by type"}]
["Supporting Table SA16",{"$f":"A128&\" Investment particulars by maturity\"","v":"Supporting Table SA16 Investment particulars by maturity"}]
["Supporting Table SA17",{"$f":"A129&\" Borrowing\"","v":"Supporting Table SA17 Borrowing"}]
["Supporting Table SA18",{"$f":"A130&\" Transfers and grant receipts\"","v":"Supporting Table SA18 Transfers and grant receipts"}]
["Supporting Table SA19",{"$f":"A131&\" Expenditure on transfers and grant programme\"","v":"Supporting Table SA19 Expenditure on transfers and grant programme"}]
["Supporting Table SA20",{"$f":"A132&\" Reconciliation of transfers, grant receipts and unspent funds\"","v":"Supporting Table SA20 Reconciliation of transfers, grant receipts and unspent funds"}]
["Supporting Table SA21",{"$f":"A133&\" Transfers and grants made by the municipality\"","v":"Supporting Table SA21 Transfers and grants made by the municipality"}]
["Supporting Table SA22",{"$f":"A134&\" Summary councillor and staff benefits\"","v":"Supporting Table SA22 Summary councillor and staff benefits"}]
["Supporting Table SA23",{"$f":"A135&\" Salaries, allowances & benefits (political office bearers/councillors/senior managers)\"","v":"Supporting Table SA23 Salaries, allowances & benefits (political office bearers/councillors/senior managers)"}]
["Supporting Table SA24",{"$f":"A136&\" Summary of personnel numbers\"","v":"Supporting Table SA24 Summary of personnel numbers"}]
["Supporting Table SA25",{"$f":"IF(Consolques=\"YES\",E137,F137)","v":"Supporting Table SA25 Budgeted monthly revenue and expenditure"},null,null,{"$f":"A137&\" Consolidated budgeted monthly revenue and expenditure\"","v":"Supporting Table SA25 Consolidated budgeted monthly revenue and expenditure"},{"$f":"A137&\" Budgeted monthly revenue and expenditure\"","v":"Supporting Table SA25 Budgeted monthly revenue and expenditure"}]
["Supporting Table SA26","Supporting Table SA26 Budgeted monthly revenue and expenditure (municipal vote)",null,null,{"$f":"A138&\" Consolidated budgeted monthly revenue and expenditure (municipal vote)\"","v":"Supporting Table SA26 Consolidated budgeted monthly revenue and expenditure (municipal vote)"},{"$f":"A138&\" Budgeted monthly revenue and expenditure (municipal vote)\"","v":"Supporting Table SA26 Budgeted monthly revenue and expenditure (municipal vote)"}]
["Supporting Table SA27","Supporting Table SA27 Budgeted monthly revenue and expenditure (functional classification)",null,null,{"$f":"A139&\" Consolidated budgeted monthly revenue and expenditure (functional classification)\"","v":"Supporting Table SA27 Consolidated budgeted monthly revenue and expenditure (functional classification)"},{"$f":"A139&\" Budgeted monthly revenue and expenditure (functional classification)\"","v":"Supporting Table SA27 Budgeted monthly revenue and expenditure (functional classification)"}]
["Supporting Table SA28","Supporting Table SA28 Budgeted monthly capital expenditure (municipal vote)",null,null,{"$f":"A140&\" Consolidated budgeted monthly capital expenditure (municipal vote)\"","v":"Supporting Table SA28 Consolidated budgeted monthly capital expenditure (municipal vote)"},{"$f":"A140&\" Budgeted monthly capital expenditure (municipal vote)\"","v":"Supporting Table SA28 Budgeted monthly capital expenditure (municipal vote)"}]
["Supporting Table SA29","Supporting Table SA29 Budgeted monthly capital expenditure (functional classification)",null,null,{"$f":"A141&\" Consolidated budgeted monthly capital expenditure (functional classification)\"","v":"Supporting Table SA29 Consolidated budgeted monthly capital expenditure (functional classification)"},{"$f":"A141&\" Budgeted monthly capital expenditure (functional classification)\"","v":"Supporting Table SA29 Budgeted monthly capital expenditure (functional classification)"}]
["Supporting Table SA30","Supporting Table SA30 Budgeted monthly cash flow",null,null,{"$f":"A142&\" Consolidated budgeted monthly cash flow\"","v":"Supporting Table SA30 Consolidated budgeted monthly cash flow"},{"$f":"A142&\" Budgeted monthly cash flow\"","v":"Supporting Table SA30 Budgeted monthly cash flow"}]
["Supporting Table SA31","NOT REQUIRED - municipality does not have entities",null,null,{"$f":"A143&\" Aggregated entity budget\"","v":"Supporting Table SA31 Aggregated entity budget"},"NOT REQUIRED - municipality does not have entities"]
["Supporting Table SA32",{"$f":"A144&\" List of external mechanisms\"","v":"Supporting Table SA32 List of external mechanisms"}]
["Supporting Table SA33",{"$f":"A145&\" Contracts having future budgetary implications\"","v":"Supporting Table SA33 Contracts having future budgetary implications"}]
["Supporting Table SA34a",{"$f":"IF(Consolques=\"YES\",E146,F146)","v":"Supporting Table SA34a Capital expenditure on new assets by asset class"},null,null,{"$f":"A146&\" Consolidated capital expenditure on new assets by asset class\"","v":"Supporting Table SA34a Consolidated capital expenditure on new assets by asset class"},{"$f":"A146&\" Capital expenditure on new assets by asset class\"","v":"Supporting Table SA34a Capital expenditure on new assets by asset class"}]
["Supporting Table SA34b","Supporting Table SA34b Capital expenditure on the renewal of existing assets by asset class",null,null,{"$f":"A147&\" Consolidated capital expenditure on the renewal of existing assets by asset class\"","v":"Supporting Table SA34b Consolidated capital expenditure on the renewal of existing assets by asset class"},{"$f":"A147&\" Capital expenditure on the renewal of existing assets by asset class\"","v":"Supporting Table SA34b Capital expenditure on the renewal of existing assets by asset class"}]
["Supporting Table SA34c","Supporting Table SA34c Repairs and maintenance expenditure by asset class",null,null,{"$f":"A148&\" Consolidated repairs and maintenance by asset class\"","v":"Supporting Table SA34c Consolidated repairs and maintenance by asset class"},{"$f":"A148&\" Repairs and maintenance expenditure by asset class\"","v":"Supporting Table SA34c Repairs and maintenance expenditure by asset class"}]
["Supporting Table SA34d",{"$f":"IF(Consolques=\"YES\",E149,F149)","v":"Supporting Table SA34d Depreciation by asset class"},null,null,{"$f":"A149&\" Consolidated Depreciation by asset class\"","v":"Supporting Table SA34d Consolidated Depreciation by asset class"},{"$f":"A149&\" Depreciation by asset class\"","v":"Supporting Table SA34d Depreciation by asset class"}]
["Supporting Table SA34e",{"$f":"IF(Consolques=\"YES\",E150,F150)","v":"Supporting Table SA34e Capital expenditure on the upgrading of existing assets by asset class"},null,null,{"$f":"A150&\" Consolidated capital expenditure on the upgrading of existing assets by asset class\"","v":"Supporting Table SA34e Consolidated capital expenditure on the upgrading of existing assets by asset class"},{"$f":"A150&\" Capital expenditure on the upgrading of existing assets by asset class\"","v":"Supporting Table SA34e Capital expenditure on the upgrading of existing assets by asset class"}]
["Supporting Table SA35","Supporting Table SA35 Future financial implications of the capital budget",null,null,{"$f":"A151&\" Consolidated future financial implications of the capital budget\"","v":"Supporting Table SA35 Consolidated future financial implications of the capital budget"},{"$f":"A151& \" Future financial implications of the capital budget\"","v":"Supporting Table SA35 Future financial implications of the capital budget"}]
["Supporting Table SA36","Supporting Table SA36 Detailed capital budget",null,null,{"$f":"A152&\" Consolidated detailed capital budget\"","v":"Supporting Table SA36 Consolidated detailed capital budget"},{"$f":"A152& \" Detailed capital budget\"","v":"Supporting Table SA36 Detailed capital budget"}]
["Supporting Table SA37","Supporting Table SA37 Projects delayed from previous financial year/s",null,null,{"$f":"A153&\" Consolidated projects delayed from previous financial year/s\"","v":"Supporting Table SA37 Consolidated projects delayed from previous financial year/s"},{"$f":"A153& \" Projects delayed from previous financial year/s\"","v":"Supporting Table SA37 Projects delayed from previous financial year/s"}]
["Supporting Table SA38",{"$f":"IF(Consolques=\"YES\",E154,F154)","v":"Supporting Table SA38 Detailed operational projects"},null,null,{"$f":"A154&\" Consolidated detailed operational projects\"","v":"Supporting Table SA38 Consolidated detailed operational projects"},{"$f":"A154& \" Detailed operational projects\"","v":"Supporting Table SA38 Detailed operational projects"}]
[]
["Budget Charts","Charts","Cross reference"]
["Chart A1 ",{"$f":"A157&\"Revenue by Municipal Vote\"","v":"Chart A1 Revenue by Municipal Vote"}]
["Chart A2 ",{"$f":"A158&\"Expenditure by Municipal Vote\"","v":"Chart A2 Expenditure by Municipal Vote"}]
["Chart A3 ",{"$f":"A159&\"Revenue by Standard Classification\"","v":"Chart A3 Revenue by Standard Classification"},"A2"]
["Chart A4 ",{"$f":"A160&\"Expenditure by Standard Classification\"","v":"Chart A4 Expenditure by Standard Classification"},"A2"]
["Chart A5 ",{"$f":"A161&\"Revenue by Major Source (refer 'Minor' source for 'Other Revenue' allocation\"","v":"Chart A5 Revenue by Major Source (refer 'Minor' source for 'Other Revenue' allocation"},"A3"]
["Chart A6 ",{"$f":"A162&\"Revenue by Minor Source (Other)\"","v":"Chart A6 Revenue by Minor Source (Other)"},"A3"]
["Chart A7 ",{"$f":"A163&\"Expenditure by Major Type\"","v":"Chart A7 Expenditure by Major Type"},"A3"]
["Chart A8 ",{"$f":"A164&\"Expenditure by Minor Type (Other)\"","v":"Chart A8 Expenditure by Minor Type (Other)"},"A3"]
["Chart A9 ",{"$f":"A165&\"Capital Expenditure by Municipal Vote/Appropriation (Major)\"","v":"Chart A9 Capital Expenditure by Municipal Vote/Appropriation (Major)"},"A5"]
["Chart A10 ",{"$f":"A166&\"Capital Expenditure by Municipal Vote/Appropriation (Minor)\"","v":"Chart A10 Capital Expenditure by Municipal Vote/Appropriation (Minor)"},"A5"]
["Chart A11 ",{"$f":"A166&\"Capital Expenditure by Standard Classification\"","v":"Chart A10 Capital Expenditure by Standard Classification"},"A5"]
["Chart A12 ",{"$f":"A168&\"Capital expenditure performance trend\"","v":"Chart A12 Capital expenditure performance trend"},"A5"]
["Chart A13 ",{"$f":"A169&\"Capital funding by Source\"","v":"Chart A13 Capital funding by Source"},"A5"]
["Chart A14 ",{"$f":"A170&\"Cash flow trend\"","v":"Chart A14 Cash flow trend"},"A7"]
["Chart A15 ",{"$f":"A171&\"IDP Strategic Objective - Revenue\"","v":"Chart A15 IDP Strategic Objective - Revenue"},"Table A4"]
["Chart A16 ",{"$f":"A172&\"IDP Strategic Objective - Expenditure\"","v":"Chart A16 IDP Strategic Objective - Expenditure"},"Table A5"]
["Chart A17 ",{"$f":"A173&\"IDP Strategic Objective - Capital Expenditure\"","v":"Chart A17 IDP Strategic Objective - Capital Expenditure"},"Table A6"]
["Chart A18 ",{"$f":"A174&\"Debt (borrowing to Total Revenue)\"","v":"Chart A18 Debt (borrowing to Total Revenue)"},"Table A8"]
["Chart A19 ",{"$f":"A175&\"Debtors' trend analysis\"","v":"Chart A19 Debtors' trend analysis"},"Table A8"]
["Chart A20 ",{"$f":"A176&\"Distribution losses\"","v":"Chart A20 Distribution losses"},"Table A8"]
["Chart A21 ",{"$f":"A177&\"Borrowed funding of capital expenditure\"","v":"Chart A21 Borrowed funding of capital expenditure"},"Table A8"]
["Chart A22 ",{"$f":"A178&\"Expenditure analysis (% of Revenue)\"","v":"Chart A22 Expenditure analysis (% of Revenue)"},"Table A8"]
["Chart A23 ",{"$f":"A179&\"Increases in service charges\"","v":"Chart A23 Increases in service charges"},"Table A10"]

{"sheet":"Lookup and lists","index":3,"n_rows":308,"n_cols":30,"rows_kept":308,"cut":false,"hidden":true,"merged":[]}
["Description",2013,2014,2015,2016,2017,2018,2019,2020,2021,2022,2023,2024,2025,2026,null,"Lists",null,null,null,null,null,null,null,"Grants:","National - opex","Provincial - opex","National - capex","Provincial - capex"]
[{"$f":"'Template names'!C2","v":"Prior year -1"},{"$f":"B1-2&\"/\"&RIGHT(B1,2)-1","v":"2011/12"},"2012/13","2013/14","2014/15","2015/16","2016/17","2017/18","2018/19",{"$f":"J1-2&\"/\"&RIGHT(J1,2)-1","v":"2019/20"},"2020/21","2021/22","2022/23","2023/24","2024/25",null,"Yes","<1","<4","Market","Land & impr.","Yes","Uniform","Yrs",null,"Local Government Equitable Share","Health subsidy"," Municipal Infrastructure Grant (MIG)","Agriculture"]
[{"$f":"'Template names'!C3","v":"Prior year -2"},{"$f":"B1-3&\"/\"&RIGHT(B1,2)-2","v":"2010/11"},"2011/12","2012/13","2013/14","2014/15","2015/16","2016/17","2017/18",{"$f":"J1-3&\"/\"&RIGHT(J1,2)-2","v":"2018/19"},"2019/20","2020/21","2021/22","2022/23","2023/24",null,"No",1,4,"Dep.Replace","Land only","No","Variable","Mths",null,"RSC Levy Replacement ","Ambulance subsidy"," Public Transport and Systems","Education"]
[{"$f":"'Template names'!C4","v":"Prior year -3"},{"$f":"B1-4&\"/\"&RIGHT(B1,2)-3","v":"2009/10"},"2010/11","2011/12","2012/13","2013/14","2014/15","2015/16","2016/17",{"$f":"J1-4&\"/\"&RIGHT(J1,2)-3","v":"2017/18"},"2018/19","2019/20","2020/21","2021/22","2022/23",null,null,2,5,"Other","Other",null,null,null,null,"Finance Management ","Housing","Rural Transport Services and Infrastructure","Health"]
[{"$f":"'Template names'!C5","v":"Year in which budget is being prepared"},{"$f":"\"Current Year \"& B1-1&\"/\"&RIGHT(B1,2)","v":"Current Year 2012/13"},"Current Year 2013/14","Current Year 2014/15","Current Year 2015/16","Current Year 2016/17","Current Year 2017/18","Current Year 2018/19","Current Year 2019/20",{"$f":"\"Current Year \"& J1-1&\"/\"&RIGHT(J1,2)","v":"Current Year 2020/21"},"Current Year 2021/22","Current Year 2022/23","Current Year 2023/24","Current Year 2024/25","Current Year 2025/26",null,null,3,6,null,null,null,null,null,null,"Municipal Systems Improvement","Sport and Recreation","Regional Bulk Infrastructure","Housing and Local Government "]
[{"$f":"'Template names'!C6","v":"Year in which budget is being prepared"},{"$f":"B1-1&\"/\"&RIGHT(B1,2)","v":"2012/13"},"2013/14","2014/15","2015/16","2016/17","2017/18","2018/19","2019/20",{"$f":"J1-1&\"/\"&RIGHT(J1,2)","v":"2020/21"},"2021/22","2022/23","2023/24","2024/25","2025/26",null,null,4,"6-10",null,null,null,null,null,null,"Water Services Operating Subsidy ",null,"Rural Households Infrastructure ","Other Departments"]
[{"$f":"'Template names'!C7","v":"MTREF name"},{"$f":"B1&\"/\"&RIGHT(B1,2)+1&\" Medium Term Revenue & Expenditure Framework\"","v":"2013/14 Medium Term Revenue & Expenditure Framework"},"2014/15 Medium Term Revenue & Expenditure Framework","2015/16 Medium Term Revenue & Expenditure Framework","2016/17 Medium Term Revenue & Expenditure Framework","2017/18 Medium Term Revenue & Expenditure Framework","2018/19 Medium Term Revenue & Expenditure Framework","2019/20 Medium Term Revenue & Expenditure Framework","2020/21 Medium Term Revenue & Expenditure Framework",{"$f":"J1&\"/\"&RIGHT(J1,2)+1&\" Medium Term Revenue & Expenditure Framework\"","v":"2021/22 Medium Term Revenue & Expenditure Framework"},"2022/23 Medium Term Revenue & Expenditure Framework","2023/24 Medium Term Revenue & Expenditure Framework","2024/25 Medium Term Revenue & Expenditure Framework","2025/26 Medium Term Revenue & Expenditure Framework","2026/27 Medium Term Revenue & Expenditure Framework",null,null,5,">10",null,null,null,null,null,null,"Energy Efficiency  and Demand Management",null,"Neighbourhood Development Partnership","Public Works, Roads, Transport "]
[{"$f":"'Template names'!C15","v":"1st year of MTREF"},{"$f":"\"Budget Year \"&B1&\"/\"&RIGHT(B1,2)+1","v":"Budget Year 2013/14"},"Budget Year 2014/15","Budget Year 2015/16","Budget Year 2016/17","Budget Year 2017/18","Budget Year 2018/19","Budget Year 2019/20","Budget Year 2020/21",{"$f":"\"Budget Year \"&J1&\"/\"&RIGHT(J1,2)+1","v":"Budget Year 2021/22"},"Budget Year 2022/23","Budget Year 2023/24","Budget Year 2024/25","Budget Year 2025/26","Budget Year 2026/27",null,null,">5",null,null,null,null,null,null,null,"Integrated National Electrification Programme",null,"2010 FIFA World Cup Stadiums Development","Sport and Recreation"]
[{"$f":"'Template names'!C16","v":"2nd year of MTREF"},{"$f":"\"Budget Year +1 \"&B1+1&\"/\"&RIGHT(B1,2)+2","v":"Budget Year +1 2014/15"},"Budget Year +1 2015/16","Budget Year +1 2016/17","Budget Year +1 2017/18","Budget Year +1 2018/19","Budget Year +1 2019/20","Budget Year +1 2020/21","Budget Year +1 2021/22",{"$f":"\"Budget Year +1 \"&J1+1&\"/\"&RIGHT(J1,2)+2","v":"Budget Year +1 2022/23"},"Budget Year +1 2023/24","Budget Year +1 2024/25","Budget Year +1 2025/26","Budget Year +1 2026/27","Budget Year +1 2027/28",null,null,null,null,null,null,null,null,null,null,"Municipal Drought Relief "]
[{"$f":"'Template names'!C17","v":"3rd year of MTREF"},{"$f":"\"Budget Year +2 \"&B1+2&\"/\"&RIGHT(B1,2)+3","v":"Budget Year +2 2015/16"},"Budget Year +2 2016/17","Budget Year +2 2017/18","Budget Year +2 2018/19","Budget Year +2 2019/20","Budget Year +2 2020/21","Budget Year +2 2021/22","Budget Year +2 2022/23",{"$f":"\"Budget Year +2 \"&J1+2&\"/\"&RIGHT(J1,2)+3","v":"Budget Year +2 2023/24"},"Budget Year +2 2024/25","Budget Year +2 2025/26","Budget Year +2 2026/27","Budget Year +2 2027/28","Budget Year +2 2028/29",null,null,null,null,null,null,null,null,null,null,"2010 FIFA World Cup Operating"]
[{"$f":"'Template names'!C18","v":"1st yr of long term forecast"},{"$f":"\"Forecast \"&B1+3&\"/\"&RIGHT(B1,2)+4","v":"Forecast 2016/17"},"Forecast 2017/18","Forecast 2018/19","Forecast 2019/20","Forecast 2020/21","Forecast 2021/22","Forecast 2022/23","Forecast 2023/24",{"$f":"\"Forecast \"&J1+3&\"/\"&RIGHT(J1,2)+4","v":"Forecast 2024/25"},"Forecast 2025/26","Forecast 2026/27","Forecast 2027/28","Forecast 2028/29","Forecast 2029/30",null,null,null,null,null,null,null,null,null,null,"Electricity Demand Side Management"]
[{"$f":"'Template names'!C19","v":"Next yr of long term forecast"},{"$f":"\"Forecast \"&B1+4&\"/\"&RIGHT(B1,2)+5","v":"Forecast 2017/18"},"Forecast 2018/19","Forecast 2019/20","Forecast 2020/21","Forecast 2021/22","Forecast 2022/23","Forecast 2023/24","Forecast 2024/25",{"$f":"\"Forecast \"&J1+4&\"/\"&RIGHT(J1,2)+5","v":"Forecast 2025/26"},"Forecast 2026/27","Forecast 2027/28","Forecast 2028/29","Forecast 2029/30","Forecast 2030/31",null,null,null,null,null,null,null,null,null,null,"EPWP Incentive"]
[{"$f":"'Template names'!C20","v":"Next yr of long term forecast"},{"$f":"\"Forecast \"&B1+5&\"/\"&RIGHT(B1,2)+6","v":"Forecast 2018/19"},"Forecast 2019/20","Forecast 2020/21","Forecast 2021/22","Forecast 2022/23","Forecast 2023/24","Forecast 2024/25","Forecast 2025/26",{"$f":"\"Forecast \"&J1+5&\"/\"&RIGHT(J1,2)+6","v":"Forecast 2026/27"},"Forecast 2027/28","Forecast 2028/29","Forecast 2029/30","Forecast 2030/31","Forecast 2031/32"]
[{"$f":"'Template names'!C21","v":"Next yr of long term forecast"},{"$f":"\"Forecast \"&B1+6&\"/\"&RIGHT(B1,2)+7","v":"Forecast 2019/20"},"Forecast 2020/21","Forecast 2021/22","Forecast 2022/23","Forecast 2023/24","Forecast 2024/25","Forecast 2025/26","Forecast 2026/27",{"$f":"\"Forecast \"&J1+6&\"/\"&RIGHT(J1,2)+7","v":"Forecast 2027/28"},"Forecast 2028/29","Forecast 2029/30","Forecast 2030/31","Forecast 2031/32","Forecast 2032/33",null,null,null,null,null,null,null,null,null,null,"Asset Class","Asset sub-class old","Asset sub-class","IUDF","MTSF"]
[{"$f":"'Template names'!C22","v":"Next yr of long term forecast"},{"$f":"\"Forecast \"&B1+7&\"/\"&RIGHT(B1,2)+8","v":"Forecast 2020/21"},"Forecast 2021/22","Forecast 2022/23","Forecast 2023/24","Forecast 2024/25","Forecast 2025/26","Forecast 2026/27","Forecast 2027/28",{"$f":"\"Forecast \"&J1+7&\"/\"&RIGHT(J1,2)+8","v":"Forecast 2028/29"},"Forecast 2029/30","Forecast 2030/31","Forecast 2031/32","Forecast 2032/33","Forecast 2033/34"]
[{"$f":"'Template names'!C23","v":"Next yr of long term forecast"},{"$f":"\"Forecast \"&B1+8&\"/\"&RIGHT(B1,2)+9","v":"Forecast 2021/22"},"Forecast 2022/23","Forecast 2023/24","Forecast 2024/25","Forecast 2025/26","Forecast 2026/27","Forecast 2027/28","Forecast 2028/29",{"$f":"\"Forecast \"&J1+8&\"/\"&RIGHT(J1,2)+9","v":"Forecast 2029/30"},"Forecast 2030/31","Forecast 2031/32","Forecast 2032/33","Forecast 2033/34","Forecast 2034/35",null,null,null,null,null,null,null,null,null,null,"Roads Infrastructure","Roads, Pavements & Bridges","Roads","Spatial integration","Quality basic education"]
[{"$f":"'Template names'!C24","v":"Next yr of long term forecast"},{"$f":"\"Forecast \"&B1+9&\"/\"&RIGHT(B1,2)+10","v":"Forecast 2022/23"},"Forecast 2023/24","Forecast 2024/25","Forecast 2025/26","Forecast 2026/27","Forecast 2027/28","Forecast 2028/29","Forecast 2029/30",{"$f":"\"Forecast \"&J1+9&\"/\"&RIGHT(J1,2)+10","v":"Forecast 2030/31"},"Forecast 2031/32","Forecast 2032/33","Forecast 2033/34","Forecast 2034/35","Forecast 2035/36",null,null,null,null,null,null,null,null,null,null,"Storm water Infrastructure","Storm water","Road Structures","Inclusion and access","A long and healthy life for all South Africans"]
[{"$f":"'Template names'!C25","v":"Next yr of long term forecast"},{"$f":"\"Forecast \"&B1+10&\"/\"&RIGHT(B1,2)+11","v":"Forecast 2023/24"},"Forecast 2024/25","Forecast 2025/26","Forecast 2026/27","Forecast 2027/28","Forecast 2028/29","Forecast 2029/30","Forecast 2030/31",{"$f":"\"Forecast \"&J1+10&\"/\"&RIGHT(J1,2)+11","v":"Forecast 2031/32"},"Forecast 2032/33","Forecast 2033/34","Forecast 2034/35","Forecast 2035/36","Forecast 2036/37",null,null,null,null,null,null,null,null,null,null,"Electrical Infrastructure","Generation","Road Furniture","Growth","All people in South Africa are and feel safe"]
[{"$f":"'Template names'!C26","v":"Next yr of long term forecast"},{"$f":"\"Forecast \"&B1+11&\"/\"&RIGHT(B1,2)+12","v":"Forecast 2024/25"},"Forecast 2025/26","Forecast 2026/27","Forecast 2027/28","Forecast 2028/29","Forecast 2029/30","Forecast 2030/31","Forecast 2031/32",{"$f":"\"Forecast \"&J1+11&\"/\"&RIGHT(J1,2)+12","v":"Forecast 2032/33"},"Forecast 2033/34","Forecast 2034/35","Forecast 2035/36","Forecast 2036/37","Forecast 2037/38",null,null,null,null,null,null,null,null,null,null,"Water Supply Infrastructure","Transmission & Reticulation","Capital Spares","Governance","Decent employment through inclusive growth"]
[{"$f":"'Template names'!C27","v":"Next yr of long term forecast"},{"$f":"\"Forecast \"&B1+12&\"/\"&RIGHT(B1,2)+13","v":"Forecast 2025/26"},"Forecast 2026/27","Forecast 2027/28","Forecast 2028/29","Forecast 2029/30","Forecast 2030/31","Forecast 2031/32","Forecast 2032/33",{"$f":"\"Forecast \"&J1+12&\"/\"&RIGHT(J1,2)+13","v":"Forecast 2033/34"},"Forecast 2034/35","Forecast 2035/36","Forecast 2036/37","Forecast 2037/38","Forecast 2038/39",null,null,null,null,null,null,null,null,null,null,"Sanitation Infrastructure","Street Lighting","Drainage Collection",null,"A skilled and capable workforce to support an inclusive growth path"]
[{"$f":"'Template names'!C28","v":"Next yr of long term forecast"},{"$f":"\"Forecast \"&B1+13&\"/\"&RIGHT(B1,2)+14","v":"Forecast 2026/27"},"Forecast 2027/28","Forecast 2028/29","Forecast 2029/30","Forecast 2030/31","Forecast 2031/32","Forecast 2032/33","Forecast 2033/34",{"$f":"\"Forecast \"&J1+13&\"/\"&RIGHT(J1,2)+14","v":"Forecast 2034/35"},"Forecast 2035/36","Forecast 2036/37","Forecast 2037/38","Forecast 2038/39","Forecast 2039/40",null,null,null,null,null,null,null,null,null,null,"Solid Waste Infrastructure","Dams & Reservoirs","Storm water Conveyance",null,"An efficient, competitive and responsive economic infrastructure network"]
[{"$f":"'Template names'!C29","v":"Next yr of long term forecast"},{"$f":"\"Forecast \"&B1+14&\"/\"&RIGHT(B1,2)+15","v":"Forecast 2027/28"},"Forecast 2028/29","Forecast 2029/30","Forecast 2030/31","Forecast 2031/32","Forecast 2032/33","Forecast 2033/34","Forecast 2034/35",{"$f":"\"Forecast \"&J1+14&\"/\"&RIGHT(J1,2)+15","v":"Forecast 2035/36"},"Forecast 2036/37","Forecast 2037/38","Forecast 2038/39","Forecast 2039/40","Forecast 2040/41",null,null,null,null,null,null,null,null,null,null,"Rail Infrastructure","Water purification","Attenuation",null,"Vibrant, equitable, sustainable rural communities contributing towards food security for all"]
["Adjustments Budget",{"$f":"\"Annual target \" & B1&\"/\"&RIGHT(B1,2)+1","v":"Annual target 2013/14"},"Annual target 2014/15","Annual target 2015/16","Annual target 2016/17","Annual target 2017/18","Annual target 2018/19","Annual target 2019/20","Annual target 2020/21",{"$f":"\"Annual target \" & J1&\"/\"&RIGHT(J1,2)+1","v":"Annual target 2021/22"},"Annual target 2022/23","Annual target 2023/24","Annual target 2024/25","Annual target 2025/26","Annual target 2026/27",null,null,null,null,null,null,null,null,null,null,"Coastal Infrastructure","Reticulation","Power Plants",null,"Sustainable human settlements and improved quality of household life"]
[{"$f":"A23","v":"Adjustments Budget"},{"$f":"\"Revised target \"& B1&\"/\"&RIGHT(B1,2)+1","v":"Revised target 2013/14"},"Revised target 2014/15","Revised target 2015/16","Revised target 2016/17","Revised target 2017/18","Revised target 2018/19","Revised target 2019/20","Revised target 2020/21",{"$f":"\"Revised target \"& J1&\"/\"&RIGHT(J1,2)+1","v":"Revised target 2021/22"},"Revised target 2022/23","Revised target 2023/24","Revised target 2024/25","Revised target 2025/26","Revised target 2026/27",null,null,null,null,null,null,null,null,null,null,"Information and Communication Infrastructure","Sewerage purification","HV Substations",null,"Responsive, accountable, effective and efficient local government"]
["NOTE: This sheet should not be directly amended - select headings from sheet 'S'",null,null,null,null,null,null,null,null,null,null,null,null,null,null,null,null,null,null,null,null,null,null,null,null,"Community Facilities","Waste Management","HV Switching Station",null,"Protect and enhance our environmental assets and natural resources"]
[null,null,null,null,null,null,null,null,null,null,null,null,null,null,null,null,null,null,null,null,null,null,null,null,null,"Sport and Recreation Facilities","Transportation","HV Transmission Conductors",null,"Create a better South Africa and contribute to a better Africa and a better world"]
["Name link",1,null,null,null,null,null,null,null,null,null,null,null,null,null,null,null,null,null,null,null,null,null,null,null,"Heritage assets","Gas","MV Substations",null,"An efficient, effective and development-oriented public service"]
["Name of Muni",{"$f":"INDEX(B29:B307,B27,1)","v":"Choose name from list"},null,null,null,null,null,null,null,null,null,null,null,null,null,null,null,null,null,null,null,null,null,null,null,"Revenue Generating","Parks & gardens","MV Switching Stations",null,"A comprehensive, responsive and sustainable social protection system"]
[null,"Choose name from list","Set name on 'Instructions' sheet",null,null,null,null,null,null,null,null,null,null,null,null,null,null,null,null,null,null,null,null,null,null,"Non-revenue Generating","Sportsfields & stadia","MV Networks",null,"A diverse, socially cohesive society with a common national identity"]
[null,"BUF Buffalo City","EC EASTERN CAPE",null,null,null,null,null,null,null,null,null,null,null,null,null,null,null,null,null,null,null,null,null,null,"Operational Buildings","Swimming pools","LV Networks"]
[null,"NMA Nelson Mandela Bay","EC EASTERN CAPE",null,null,null,null,null,null,null,null,null,null,null,null,null,null,null,null,null,null,null,null,null,null,"Housing","Community halls","Capital Spares"]
[null,"EC101 Dr Beyers Naude","EC EASTERN CAPE",null,null,null,null,null,null,null,null,null,null,null,null,null,null,null,null,null,null,null,null,null,null,"Biological or Cultivated Assets","Libraries","Dams and Weirs"]
[null,"EC102 Blue Crane Route","EC EASTERN CAPE",null,null,null,null,null,null,null,null,null,null,null,null,null,null,null,null,null,null,null,null,null,null,"Servitudes","Recreational facilities","Boreholes"]
[null,"EC104 Makana","EC EASTERN CAPE",null,null,null,null,null,null,null,null,null,null,null,null,null,null,null,null,null,null,null,null,null,null,"Licences and Rights","Fire, safety & emergency","Reservoirs"]
[null,"EC105 Ndlambe","EC EASTERN CAPE",null,null,null,null,null,null,null,null,null,null,null,null,null,null,null,null,null,null,null,null,null,null,"Computer Equipment","Security and policing","Pump Stations"]
[null,"EC106 Sundays River Valley","EC EASTERN CAPE",null,null,null,null,null,null,null,null,null,null,null,null,null,null,null,null,null,null,null,null,null,null,"Furniture and Office Equipment","Buses","Water Treatment Works"]
[null,"EC108 Kouga","EC EASTERN CAPE",null,null,null,null,null,null,null,null,null,null,null,null,null,null,null,null,null,null,null,null,null,null,"Machinery and Equipment","Clinics","Bulk Mains"]
[null,"EC109 Kou-Kamma","EC EASTERN CAPE",null,null,null,null,null,null,null,null,null,null,null,null,null,null,null,null,null,null,null,null,null,null,"Transport Assets","Museums & Art Galleries","Distribution"]
[null,"DC10 Sarah Baartman","EC EASTERN CAPE",null,null,null,null,null,null,null,null,null,null,null,null,null,null,null,null,null,null,null,null,null,null,"Land","Cemeteries","Distribution Points"]
[null,"EC121 Mbhashe","EC EASTERN CAPE",null,null,null,null,null,null,null,null,null,null,null,null,null,null,null,null,null,null,null,null,null,null,"Zoo's, Marine and Non-biological Animals","Social rental housing","PRV Stations"]
[null,"EC122 Mnquma","EC EASTERN CAPE",null,null,null,null,null,null,null,null,null,null,null,null,null,null,null,null,null,null,null,null,null,null,null,"Buildings","Capital Spares"]
[null,"EC123 Great Kei","EC EASTERN CAPE",null,null,null,null,null,null,null,null,null,null,null,null,null,null,null,null,null,null,null,null,null,null,null,"Housing development","Pump Station"]
[null,"EC124 Amahlathi","EC EASTERN CAPE",null,null,null,null,null,null,null,null,null,null,null,null,null,null,null,null,null,null,null,null,null,null,null,"General vehicles","Reticulation"]
[null,"EC126 Ngqushwa","EC EASTERN CAPE",null,null,null,null,null,null,null,null,null,null,null,null,null,null,null,null,null,null,null,null,null,null,null,"Specialised vehicles - Refuse","Waste Water Treatment Works"]
[null,"EC129 Raymond Mhlaba","EC EASTERN CAPE",null,null,null,null,null,null,null,null,null,null,null,null,null,null,null,null,null,null,null,null,null,null,null,"Specialised vehicles - Fire","Outfall Sewers"]
[null,"DC12 Amathole","EC EASTERN CAPE",null,null,null,null,null,null,null,null,null,null,null,null,null,null,null,null,null,null,null,null,null,null,null,"Specialised vehicles - Conservancy","Toilet Facilities"]
[null,"EC131 Inxuba Yethemba","EC EASTERN CAPE",null,null,null,null,null,null,null,null,null,null,null,null,null,null,null,null,null,null,null,null,null,null,null,"Specialised vehicles - Ambulances","Capital Spares"]
[null,"EC135 Intsika Yethu","EC EASTERN CAPE",null,null,null,null,null,null,null,null,null,null,null,null,null,null,null,null,null,null,null,null,null,null,null,"Plant & equipment","Landfill Sites"]
[null,"EC136 Emalahleni (Ec)","EC EASTERN CAPE",null,null,null,null,null,null,null,null,null,null,null,null,null,null,null,null,null,null,null,null,null,null,null,"Computers - hardware/equipment","Waste Transfer Stations"]
[null,"EC137 Engcobo","EC EASTERN CAPE",null,null,null,null,null,null,null,null,null,null,null,null,null,null,null,null,null,null,null,null,null,null,null,"Furniture and other office equipment","Waste Processing Facilities"]
[null,"EC138 Sakhisizwe","EC EASTERN CAPE",null,null,null,null,null,null,null,null,null,null,null,null,null,null,null,null,null,null,null,null,null,null,null,"Abattoirs","Waste Drop-off Points"]
[null,"EC139 Enoch Mgijima","EC EASTERN CAPE",null,null,null,null,null,null,null,null,null,null,null,null,null,null,null,null,null,null,null,null,null,null,null,"Markets","Waste Separation Facilities"]
[null,"DC13 Chris Hani","EC EASTERN CAPE",null,null,null,null,null,null,null,null,null,null,null,null,null,null,null,null,null,null,null,null,null,null,null,"Civic Land and Buildings","Electricity Generation Facilities"]
[null,"EC141 Elundini","EC EASTERN CAPE",null,null,null,null,null,null,null,null,null,null,null,null,null,null,null,null,null,null,null,null,null,null,null,"Other Buildings","Capital Spares"]
[null,"EC142 Senqu","EC EASTERN CAPE",null,null,null,null,null,null,null,null,null,null,null,null,null,null,null,null,null,null,null,null,null,null,null,"Other Land","Rail Lines"]
[null,"EC145 Walter Sisulu","EC EASTERN CAPE",null,null,null,null,null,null,null,null,null,null,null,null,null,null,null,null,null,null,null,null,null,null,null,"Surplus Assets - (Investment or Inventory)","Rail Structures"]
[null,"DC14 Joe Gqabi","EC EASTERN CAPE",null,null,null,null,null,null,null,null,null,null,null,null,null,null,null,null,null,null,null,null,null,null,null,"Computers - software & programming","Rail Furniture"]
[null,"EC153 Ngquza Hills","EC EASTERN CAPE",null,null,null,null,null,null,null,null,null,null,null,null,null,null,null,null,null,null,null,null,null,null,null,"Other","Drainage Collection"]
[null,"EC154 Port St Johns","EC EASTERN CAPE",null,null,null,null,null,null,null,null,null,null,null,null,null,null,null,null,null,null,null,null,null,null,null,null,"Storm water Conveyance"]
[null,"EC155 Nyandeni","EC EASTERN CAPE",null,null,null,null,null,null,null,null,null,null,null,null,null,null,null,null,null,null,null,null,null,null,"SA16 - Investments",null,"Attenuation"]
[null,"EC156 Mhlontlo","EC EASTERN CAPE",null,null,null,null,null,null,null,null,null,null,null,null,null,null,null,null,null,null,null,null,null,null,"Security","Interest rate","MV Substations"]
[null,"EC157 King Sabata Dalindyebo","EC EASTERN CAPE",null,null,null,null,null,null,null,null,null,null,null,null,null,null,null,null,null,null,null,null,null,null,"Yes","Fixed","LV Networks"]
[null,"DC15 O .R. Tambo","EC EASTERN CAPE",null,null,null,null,null,null,null,null,null,null,null,null,null,null,null,null,null,null,null,null,null,null,"No","Variable","Capital Spares"]
[null,"EC441 Matatiele","EC EASTERN CAPE",null,null,null,null,null,null,null,null,null,null,null,null,null,null,null,null,null,null,null,null,null,null,null,null,"Sand Pumps"]
[null,"EC442 Umzimvubu","EC EASTERN CAPE",null,null,null,null,null,null,null,null,null,null,null,null,null,null,null,null,null,null,null,null,null,null,null,null,"Piers"]
[null,"EC443 Winnie Madikizela Mandela","EC EASTERN CAPE",null,null,null,null,null,null,null,null,null,null,null,null,null,null,null,null,null,null,null,null,null,null,"SA36, SA37 - Capital projects",null,"Revetments"]
[null,"EC444 Ntabankulu","EC EASTERN CAPE",null,null,null,null,null,null,null,null,null,null,null,null,null,null,null,null,null,null,null,null,null,null,"Yes",null,"Promenades"]
[null,"DC44 Alfred Nzo","EC EASTERN CAPE",null,null,null,null,null,null,null,null,null,null,null,null,null,null,null,null,null,null,null,null,null,null,"No",null,"Capital Spares"]
[null,"MAN Mangaung","FS FREE STATE",null,null,null,null,null,null,null,null,null,null,null,null,null,null,null,null,null,null,null,null,null,null,null,null,"Data Centres"]
[null,"FS161 Letsemeng","FS FREE STATE",null,null,null,null,null,null,null,null,null,null,null,null,null,null,null,null,null,null,null,null,null,null,null,null,"Core Layers"]
[null,"FS162 Kopanong","FS FREE STATE",null,null,null,null,null,null,null,null,null,null,null,null,null,null,null,null,null,null,null,null,null,null,null,null,"Distribution Layers"]
[null,"FS163 Mohokare","FS FREE STATE",null,null,null,null,null,null,null,null,null,null,null,null,null,null,null,null,null,null,null,null,null,null,null,null,"Capital Spares"]
[null,"DC16 Xhariep","FS FREE STATE",null,null,null,null,null,null,null,null,null,null,null,null,null,null,null,null,null,null,null,null,null,null,null,null,"Halls"]
[null,"FS181 Masilonyana","FS FREE STATE",null,null,null,null,null,null,null,null,null,null,null,null,null,null,null,null,null,null,null,null,null,null,null,null,"Centres"]
[null,"FS182 Tokologo","FS FREE STATE",null,null,null,null,null,null,null,null,null,null,null,null,null,null,null,null,null,null,null,null,null,null,null,null,"Crèches"]
[null,"FS183 Tswelopele","FS FREE STATE",null,null,null,null,null,null,null,null,null,null,null,null,null,null,null,null,null,null,null,null,null,null,null,null,"Clinics/Care Centres"]
[null,"FS184 Matjhabeng","FS FREE STATE",null,null,null,null,null,null,null,null,null,null,null,null,null,null,null,null,null,null,null,null,null,null,null,null,"Fire/Ambulance Stations"]
[null,"FS185 Nala","FS FREE STATE",null,null,null,null,null,null,null,null,null,null,null,null,null,null,null,null,null,null,null,null,null,null,null,null,"Testing Stations"]
[null,"DC18 Lejweleputswa","FS FREE STATE",null,null,null,null,null,null,null,null,null,null,null,null,null,null,null,null,null,null,null,null,null,null,null,null,"Museums"]
[null,"FS191 Setsoto","FS FREE STATE",null,null,null,null,null,null,null,null,null,null,null,null,null,null,null,null,null,null,null,null,null,null,null,null,"Galleries"]
[null,"FS192 Dihlabeng","FS FREE STATE",null,null,null,null,null,null,null,null,null,null,null,null,null,null,null,null,null,null,null,null,null,null,null,null,"Theatres"]
[null,"FS193 Nketoana","FS FREE STATE",null,null,null,null,null,null,null,null,null,null,null,null,null,null,null,null,null,null,null,null,null,null,null,null,"Libraries"]
[null,"FS194 Maluti-a-Phofung","FS FREE STATE",null,null,null,null,null,null,null,null,null,null,null,null,null,null,null,null,null,null,null,null,null,null,null,null,"Cemeteries/Crematoria"]
[null,"FS195 Phumelela","FS FREE STATE",null,null,null,null,null,null,null,null,null,null,null,null,null,null,null,null,null,null,null,null,null,null,null,null,"Police"]
[null,"FS196 Mantsopa","FS FREE STATE",null,null,null,null,null,null,null,null,null,null,null,null,null,null,null,null,null,null,null,null,null,null,null,null,"Purls"]
[null,"DC19 Thabo Mofutsanyana","FS FREE STATE",null,null,null,null,null,null,null,null,null,null,null,null,null,null,null,null,null,null,null,null,null,null,null,null,"Public Open Space"]
[null,"FS201 Moqhaka","FS FREE STATE",null,null,null,null,null,null,null,null,null,null,null,null,null,null,null,null,null,null,null,null,null,null,null,null,"Nature Reserves"]
[null,"FS203 Ngwathe","FS FREE STATE",null,null,null,null,null,null,null,null,null,null,null,null,null,null,null,null,null,null,null,null,null,null,null,null,"Public Ablution Facilities"]
[null,"FS204 Metsimaholo","FS FREE STATE",null,null,null,null,null,null,null,null,null,null,null,null,null,null,null,null,null,null,null,null,null,null,null,null,"Markets"]
[null,"FS205 Mafube","FS FREE STATE",null,null,null,null,null,null,null,null,null,null,null,null,null,null,null,null,null,null,null,null,null,null,null,null,"Stalls"]
[null,"DC20 Fezile Dabi","FS FREE STATE",null,null,null,null,null,null,null,null,null,null,null,null,null,null,null,null,null,null,null,null,null,null,null,null,"Abattoirs"]
[null,"EKU City of Ekurhuleni","GT GAUTENG",null,null,null,null,null,null,null,null,null,null,null,null,null,null,null,null,null,null,null,null,null,null,null,null,"Airports"]
[null,"JHB City Of Johannesburg","GT GAUTENG",null,null,null,null,null,null,null,null,null,null,null,null,null,null,null,null,null,null,null,null,null,null,null,null,"Taxi Ranks/Bus Terminals"]
[null,"TSH City Of Tshwane","GT GAUTENG",null,null,null,null,null,null,null,null,null,null,null,null,null,null,null,null,null,null,null,null,null,null,null,null,"Capital Spares"]
[null,"GT421 Emfuleni","GT GAUTENG",null,null,null,null,null,null,null,null,null,null,null,null,null,null,null,null,null,null,null,null,null,null,null,null,"Indoor Facilities"]
[null,"GT422 Midvaal","GT GAUTENG",null,null,null,null,null,null,null,null,null,null,null,null,null,null,null,null,null,null,null,null,null,null,null,null,"Outdoor Facilities"]
[null,"GT423 Lesedi","GT GAUTENG",null,null,null,null,null,null,null,null,null,null,null,null,null,null,null,null,null,null,null,null,null,null,null,null,"Capital Spares"]
[null,"DC42 Sedibeng","GT GAUTENG",null,null,null,null,null,null,null,null,null,null,null,null,null,null,null,null,null,null,null,null,null,null,null,null,"Monuments"]
[null,"GT481 Mogale City","GT GAUTENG",null,null,null,null,null,null,null,null,null,null,null,null,null,null,null,null,null,null,null,null,null,null,null,null,"Historic Buildings"]
[null,"GT484 Merafong City","GT GAUTENG",null,null,null,null,null,null,null,null,null,null,null,null,null,null,null,null,null,null,null,null,null,null,null,null,"Works of Art"]
[null,"GT485 Rand West City","GT GAUTENG",null,null,null,null,null,null,null,null,null,null,null,null,null,null,null,null,null,null,null,null,null,null,null,null,"Conservation Areas"]
[null,"DC48 West Rand","GT GAUTENG",null,null,null,null,null,null,null,null,null,null,null,null,null,null,null,null,null,null,null,null,null,null,null,null,"Other Heritage"]
[null,"ETH eThekwini","KZN KWAZULU-NATAL",null,null,null,null,null,null,null,null,null,null,null,null,null,null,null,null,null,null,null,null,null,null,null,null,"Improved Property"]
[null,"KZN212 Umdoni","KZN KWAZULU-NATAL",null,null,null,null,null,null,null,null,null,null,null,null,null,null,null,null,null,null,null,null,null,null,null,null,"Unimproved Property"]
[null,"KZN213 Umzumbe","KZN KWAZULU-NATAL",null,null,null,null,null,null,null,null,null,null,null,null,null,null,null,null,null,null,null,null,null,null,null,null,"Municipal Offices"]
[null,"KZN214 uMuziwabantu","KZN KWAZULU-NATAL",null,null,null,null,null,null,null,null,null,null,null,null,null,null,null,null,null,null,null,null,null,null,null,null,"Pay/Enquiry Points"]
[null,"KZN216 Ray Nkonyeni","KZN KWAZULU-NATAL",null,null,null,null,null,null,null,null,null,null,null,null,null,null,null,null,null,null,null,null,null,null,null,null,"Building Plan Offices"]
[null,"DC21 Ugu","KZN KWAZULU-NATAL",null,null,null,null,null,null,null,null,null,null,null,null,null,null,null,null,null,null,null,null,null,null,null,null,"Workshops"]
[null,"KZN221 uMshwathi","KZN KWAZULU-NATAL",null,null,null,null,null,null,null,null,null,null,null,null,null,null,null,null,null,null,null,null,null,null,null,null,"Yards"]
[null,"KZN222 uMngeni","KZN KWAZULU-NATAL",null,null,null,null,null,null,null,null,null,null,null,null,null,null,null,null,null,null,null,null,null,null,null,null,"Stores"]
[null,"KZN223 Mpofana","KZN KWAZULU-NATAL",null,null,null,null,null,null,null,null,null,null,null,null,null,null,null,null,null,null,null,null,null,null,null,null,"Laboratories"]
[null,"KZN224 Impendle","KZN KWAZULU-NATAL",null,null,null,null,null,null,null,null,null,null,null,null,null,null,null,null,null,null,null,null,null,null,null,null,"Training Centres"]
[null,"KZN225 Msunduzi","KZN KWAZULU-NATAL",null,null,null,null,null,null,null,null,null,null,null,null,null,null,null,null,null,null,null,null,null,null,null,null,"Manufacturing Plant"]
[null,"KZN226 Mkhambathini","KZN KWAZULU-NATAL",null,null,null,null,null,null,null,null,null,null,null,null,null,null,null,null,null,null,null,null,null,null,null,null,"Depots"]
[null,"KZN227 Richmond","KZN KWAZULU-NATAL",null,null,null,null,null,null,null,null,null,null,null,null,null,null,null,null,null,null,null,null,null,null,null,null,"Capital Spares"]
[null,"DC22 uMgungundlovu","KZN KWAZULU-NATAL",null,null,null,null,null,null,null,null,null,null,null,null,null,null,null,null,null,null,null,null,null,null,null,null,"Staff Housing"]
[null,"KZN235 Okhahlamba","KZN KWAZULU-NATAL",null,null,null,null,null,null,null,null,null,null,null,null,null,null,null,null,null,null,null,null,null,null,null,null,"Social Housing"]
[null,"KZN237 Inkosi Langalibalele","KZN KWAZULU-NATAL",null,null,null,null,null,null,null,null,null,null,null,null,null,null,null,null,null,null,null,null,null,null,null,null,"Capital Spares"]
[null,"KZN238 Alfred Duma","KZN KWAZULU-NATAL",null,null,null,null,null,null,null,null,null,null,null,null,null,null,null,null,null,null,null,null,null,null,null,null,"Water Rights"]
[null,"DC23 Uthukela","KZN KWAZULU-NATAL",null,null,null,null,null,null,null,null,null,null,null,null,null,null,null,null,null,null,null,null,null,null,null,null,"Effluent Licenses"]
[null,"KZN241 Endumeni","KZN KWAZULU-NATAL",null,null,null,null,null,null,null,null,null,null,null,null,null,null,null,null,null,null,null,null,null,null,null,null,"Solid Waste Licenses"]
[null,"KZN242 Nquthu","KZN KWAZULU-NATAL",null,null,null,null,null,null,null,null,null,null,null,null,null,null,null,null,null,null,null,null,null,null,null,null,"Computer Software and Applications"]
[null,"KZN244 Msinga","KZN KWAZULU-NATAL",null,null,null,null,null,null,null,null,null,null,null,null,null,null,null,null,null,null,null,null,null,null,null,null,"Load Settlement Software Applications"]
[null,"KZN245 Umvoti","KZN KWAZULU-NATAL",null,null,null,null,null,null,null,null,null,null,null,null,null,null,null,null,null,null,null,null,null,null,null,null,"Unspecified"]
[null,"DC24 Umzinyathi","KZN KWAZULU-NATAL"]
[null,"KZN252 Newcastle","KZN KWAZULU-NATAL"]
[null,"KZN253 Emadlangeni","KZN KWAZULU-NATAL"]
[null,"KZN254 Dannhauser","KZN KWAZULU-NATAL"]
[null,"DC25 Amajuba","KZN KWAZULU-NATAL"]
[null,"KZN261 eDumbe","KZN KWAZULU-NATAL"]
[null,"KZN262 uPhongolo","KZN KWAZULU-NATAL"]
[null,"KZN263 Abaqulusi","KZN KWAZULU-NATAL"]
[null,"KZN265 Nongoma","KZN KWAZULU-NATAL"]
[null,"KZN266 Ulundi","KZN KWAZULU-NATAL"]
[null,"DC26 Zululand","KZN KWAZULU-NATAL"]
[null,"KZN271 Umhlabuyalingana","KZN KWAZULU-NATAL"]
[null,"KZN272 Jozini","KZN KWAZULU-NATAL"]
[null,"KZN275 Mtubatuba","KZN KWAZULU-NATAL"]
[null,"KZN276 Hlabisa Big Five","KZN KWAZULU-NATAL"]
[null,"DC27 Umkhanyakude","KZN KWAZULU-NATAL"]
[null,"KZN281 Mfolozi","KZN KWAZULU-NATAL"]
[null,"KZN282 uMhlathuze","KZN KWAZULU-NATAL"]
[null,"KZN284 uMlalazi","KZN KWAZULU-NATAL"]
[null,"KZN285 Mthonjaneni","KZN KWAZULU-NATAL"]
[null,"KZN286 Nkandla","KZN KWAZULU-NATAL"]
[null,"DC28 King Cetshwayo","KZN KWAZULU-NATAL"]
[null,"KZN291 Mandeni","KZN KWAZULU-NATAL"]
[null,"KZN292 KwaDukuza","KZN KWAZULU-NATAL"]
[null,"KZN293 Ndwedwe","KZN KWAZULU-NATAL"]
[null,"KZN294 Maphumulo","KZN KWAZULU-NATAL"]
[null,"DC29 iLembe","KZN KWAZULU-NATAL"]
[null,"KZN433 Greater Kokstad","KZN KWAZULU-NATAL"]
[null,"KZN434 Johannes Phumani Phungula","KZN KWAZULU-NATAL"]
[null,"KZN435 Umzimkhulu","KZN KWAZULU-NATAL"]
[null,"KZN436 Dr Nkosazana Dlamini Zuma","KZN KWAZULU-NATAL"]
[null,"DC43 Harry Gwala","KZN KWAZULU-NATAL"]
[null,"LIM331 Greater Giyani","LIM LIMPOPO"]
[null,"LIM332 Greater Letaba","LIM LIMPOPO"]
[null,"LIM333 Greater Tzaneen","LIM LIMPOPO"]
[null,"LIM334 Ba-Phalaborwa","LIM LIMPOPO"]
[null,"LIM335 Maruleng","LIM LIMPOPO"]
[null,"DC33 Mopani","LIM LIMPOPO"]
[null,"LIM341 Musina","LIM LIMPOPO"]
[null,"LIM343 Thulamela","LIM LIMPOPO"]
[null,"LIM344 Makhado","LIM LIMPOPO"]
[null,"LIM345 Collins Chabane","LIM LIMPOPO"]
[null,"DC34 Vhembe","LIM LIMPOPO"]
[null,"LIM351 Blouberg","LIM LIMPOPO"]
[null,"LIM353 Molemole","LIM LIMPOPO"]
[null,"LIM354 Polokwane","LIM LIMPOPO"]
[null,"LIM355 Lepelle-Nkumpi","LIM LIMPOPO"]
[null,"DC35 Capricorn","LIM LIMPOPO"]
[null,"LIM361 Thabazimbi","LIM LIMPOPO"]
[null,"LIM362 Lephalale","LIM LIMPOPO"]
[null,"LIM366 Bela Bela","LIM LIMPOPO"]
[null,"LIM367 Mogalakwena","LIM LIMPOPO"]
[null,"LIM368 Modimolle-Mookgopong","LIM LIMPOPO"]
[null,"DC36 Waterberg","LIM LIMPOPO"]
[null,"LIM471 Ephraim Mogale","LIM LIMPOPO"]
[null,"LIM472 Elias Motsoaledi","LIM LIMPOPO"]
[null,"LIM473 Makhuduthamaga","LIM LIMPOPO"]
[null,"LIM476 Tubatse Fetakgomo","LIM LIMPOPO"]
[null,"DC47 Sekhukhune","LIM LIMPOPO"]
[null,"MP301 Albert Luthuli","MP MPUMALANGA"]
[null,"MP302 Msukaligwa","MP MPUMALANGA"]
[null,"MP303 Mkhondo","MP MPUMALANGA"]
[null,"MP304 Pixley Ka Seme (MP)","MP MPUMALANGA"]
[null,"MP305 Lekwa","MP MPUMALANGA"]
[null,"MP306 Dipaleseng","MP MPUMALANGA"]
[null,"MP307 Govan Mbeki","MP MPUMALANGA"]
[null,"DC30 Gert Sibande","MP MPUMALANGA"]
[null,"MP311 Victor Khanye","MP MPUMALANGA"]
[null,"MP312 Emalahleni (Mp)","MP MPUMALANGA"]
[null,"MP313 Steve Tshwete","MP MPUMALANGA"]
[null,"MP314 Emakhazeni","MP MPUMALANGA"]
[null,"MP315 Thembisile Hani","MP MPUMALANGA"]
[null,"MP316 Dr J.S. Moroka","MP MPUMALANGA"]
[null,"DC31 Nkangala","MP MPUMALANGA"]
[null,"MP321 Thaba Chweu","MP MPUMALANGA"]
[null,"MP324 Nkomazi","MP MPUMALANGA"]
[null,"MP325 Bushbuckridge","MP MPUMALANGA"]
[null,"MP326 City of Mbombela","MP MPUMALANGA"]
[null,"DC32 Ehlanzeni","MP MPUMALANGA"]
[null,"NC451 Joe Morolong","NC NORTHERN CAPE"]
[null,"NC452 Ga-Segonyana","NC NORTHERN CAPE"]
[null,"NC453 Gamagara","NC NORTHERN CAPE"]
[null,"DC45 John Taolo Gaetsewe","NC NORTHERN CAPE"]
[null,"NC061 Richtersveld","NC NORTHERN CAPE"]
[null,"NC062 Nama Khoi","NC NORTHERN CAPE"]
[null,"NC064 Kamiesberg","NC NORTHERN CAPE"]
[null,"NC065 Hantam","NC NORTHERN CAPE"]
[null,"NC066 Karoo Hoogland","NC NORTHERN CAPE"]
[null,"NC067 Khai-Ma","NC NORTHERN CAPE"]
[null,"DC6 Namakwa","NC NORTHERN CAPE"]
[null,"NC071 Ubuntu","NC NORTHERN CAPE"]
[null,"NC072 Umsobomvu","NC NORTHERN CAPE"]
[null,"NC073 Emthanjeni","NC NORTHERN CAPE"]
[null,"NC074 Kareeberg","NC NORTHERN CAPE"]
[null,"NC075 Renosterberg","NC NORTHERN CAPE"]
[null,"NC076 Thembelihle","NC NORTHERN CAPE"]
[null,"NC077 Siyathemba","NC NORTHERN CAPE"]
[null,"NC078 Siyancuma","NC NORTHERN CAPE"]
[null,"DC7 Pixley Ka Seme (Nc)","NC NORTHERN CAPE"]
[null,"NC082 !Kai! Garib","NC NORTHERN CAPE"]
[null,"NC084 !Kheis","NC NORTHERN CAPE"]
[null,"NC085 Tsantsabane","NC NORTHERN CAPE"]
[null,"NC086 Kgatelopele","NC NORTHERN CAPE"]
[null,"NC087 Dawid Kruiper","NC NORTHERN CAPE"]
[null,"DC8 Z F Mgcawu","NC NORTHERN CAPE"]
[null,"NC091 Sol Plaatje","NC NORTHERN CAPE"]
[null,"NC092 Dikgatlong","NC NORTHERN CAPE"]
[null,"NC093 Magareng","NC NORTHERN CAPE"]
[null,"NC094 Phokwane","NC NORTHERN CAPE"]
[null,"DC9 Frances Baard","NC NORTHERN CAPE"]
[null,"NW371 Moretele","NW NORTH WEST"]
[null,"NW372 Madibeng","NW NORTH WEST"]
[null,"NW373 Rustenburg","NW NORTH WEST"]
[null,"NW374 Kgetlengrivier","NW NORTH WEST"]
[null,"NW375 Moses Kotane","NW NORTH WEST"]
[null,"DC37 Bojanala Platinum","NW NORTH WEST"]
[null,"NW381 Ratlou","NW NORTH WEST"]
[null,"NW382 Tswaing","NW NORTH WEST"]
[null,"NW383 Mafikeng","NW NORTH WEST"]
[null,"NW384 Ditsobotla","NW NORTH WEST"]
[null,"NW385 Ramotshere Moiloa","NW NORTH WEST"]
[null,"DC38 Ngaka Modiri Molema","NW NORTH WEST"]
[null,"NW392 Naledi (Nw)","NW NORTH WEST"]
[null,"NW393 Mamusa","NW NORTH WEST"]
[null,"NW394 Greater Taung","NW NORTH WEST"]
[null,"NW396 Lekwa-Teemane","NW NORTH WEST"]
[null,"NW397 Kagisano-Molopo","NW NORTH WEST"]
[null,"DC39 Dr Ruth Segomotsi Mompati","NW NORTH WEST"]
[null,"NW403 City Of Matlosana","NW NORTH WEST"]
[null,"NW404 Maquassi Hills","NW NORTH WEST"]
[null,"NW405 J B Marks","NW NORTH WEST"]
[null,"DC40 Dr Kenneth Kaunda","NW NORTH WEST"]
[null,"CPT Cape Town","WC WESTERN CAPE"]
[null,"WC011 Matzikama","WC WESTERN CAPE"]
[null,"WC012 Cederberg","WC WESTERN CAPE"]
[null,"WC013 Bergrivier","WC WESTERN CAPE"]
[null,"WC014 Saldanha Bay","WC WESTERN CAPE"]
[null,"WC015 Swartland","WC WESTERN CAPE"]
[null,"DC1 West Coast","WC WESTERN CAPE"]
[null,"WC022 Witzenberg","WC WESTERN CAPE"]
[null,"WC023 Drakenstein","WC WESTERN CAPE"]
[null,"WC024 Stellenbosch","WC WESTERN CAPE"]
[null,"WC025 Breede Valley","WC WESTERN CAPE"]
[null,"WC026 Langeberg","WC WESTERN CAPE"]
[null,"DC2 Cape Winelands DM","WC WESTERN CAPE"]
[null,"WC031 Theewaterskloof","WC WESTERN CAPE"]
[null,"WC032 Overstrand","WC WESTERN CAPE"]
[null,"WC033 Cape Agulhas","WC WESTERN CAPE"]
[null,"WC034 Swellendam","WC WESTERN CAPE"]
[null,"DC3 Overberg","WC WESTERN CAPE"]
[null,"WC041 Kannaland","WC WESTERN CAPE"]
[null,"WC042 Hessequa","WC WESTERN CAPE"]
[null,"WC043 Mossel Bay","WC WESTERN CAPE"]
[null,"WC044 George","WC WESTERN CAPE"]
[null,"WC045 Oudtshoorn","WC WESTERN CAPE"]
[null,"WC047 Bitou","WC WESTERN CAPE"]
[null,"WC048 Knysna","WC WESTERN CAPE"]
[null,"DC4 Garden Route","WC WESTERN CAPE"]
[null,"WC051 Laingsburg","WC WESTERN CAPE"]
[null,"WC052 Prince Albert","WC WESTERN CAPE"]
[null,"WC053 Beaufort West","WC WESTERN CAPE"]
[null,"DC5 Central Karoo","WC WESTERN CAPE"]
[]
[]
[]
[]
[]
[]
[]
[]
[]
[]
[]
[]
[]
[]
[]
[]
[]
[]
[]
[]
[]
[null,{"$f":"COUNTA(B30:B307)","v":257}]

{"sheet":"Org structure","index":4,"n_rows":166,"n_cols":5,"rows_kept":166,"cut":false,"hidden":false,"merged":[]}
["Organisational Structure Votes",null,"Organisational Structure Sub-Votes",null,"Display Sub-Votes"]
[{"$f":"B2&\" - \"&C2","v":"Vote 1 - City Manager"},"Vote 1","City Manager"]
[{"$f":"B13&\" - \"& C13","v":"Vote 2 - City Finance"},1.1000000000000001,"Internal Audit and Compliance",{"$f":"CONCATENATE(B3, \" - \", C3)","v":"1,1 - Internal Audit and Compliance"},"1.1 - Internal Audit and Compliance"]
[{"$f":"B24&\" - \"&C24","v":"Vote 3 - Corporate Services"},1.2,"Office of the City Manager","1,2 - Office of the City Manager","1.2 - Office of the City Manager"]
[{"$f":"B35&\" - \"&C35","v":"Vote 4 - Community Services and Social Equity"},1.3,"Political Support","1,3 - Political Support","1.3 - Political Support"]
[{"$f":"B46&\" - \"&C46","v":"Vote 5 - Infrastructure Services"},1.4,"[Name of sub-vote]","1,4 - [Name of sub-vote]","1.4 - Strategic Planning"]
[{"$f":"B57&\" - \"&C57","v":"Vote 6 - Sustainable Development and City Enterprises"},1.5,"[Name of sub-vote]","1,5 - [Name of sub-vote]"]
[{"$f":"B68&\" - \"&C68","v":"Vote 7 - Electricity"},1.6,"[Name of sub-vote]","1,6 - [Name of sub-vote]"]
[{"$f":"B79&\" - \"&C79","v":"Vote 8 - [NAME OF VOTE 8]"},1.7,"[Name of sub-vote]","1,7 - [Name of sub-vote]"]
[{"$f":"B90&\" - \"&C90","v":"Vote 9 - [NAME OF VOTE 9]"},1.8,"[Name of sub-vote]","1,8 - [Name of sub-vote]"]
[{"$f":"B101&\" - \"&C101","v":"Vote 10 - [NAME OF VOTE 10]"},1.9,"[Name of sub-vote]","1,9 - [Name of sub-vote]"]
[{"$f":"B112&\" - \"&C112","v":"Vote 11 - [NAME OF VOTE 11]"},"1.10","[Name of sub-vote]","1.10 - [Name of sub-vote]"]
[{"$f":"B123&\" - \"&C123","v":"Vote 12 - [NAME OF VOTE 12]"},"Vote 2","City Finance"]
[{"$f":"B134&\" - \"&C134","v":"Vote 13 - [NAME OF VOTE 13]"},2.1,"Asset Management",{"$f":"CONCATENATE(B14, \" - \", C14)","v":"2,1 - Asset Management"},"2.1 - Asset Management"]
[{"$f":"B145&\" - \"&C145","v":"Vote 14 - [NAME OF VOTE 14]"},2.2000000000000002,"Budget and Treasury Management","2,2 - Budget and Treasury Management","2.2 - Budget and Treasury Management"]
[{"$f":"B156&\" - \"&C156","v":"Vote 15 - [NAME OF VOTE 15]"},2.2999999999999998,"Expenditure Management","2,3 - Expenditure Management","2.3 - Expenditure Management"]
[null,2.4,"Revenue Management","2,4 - Revenue Management","2.4 - Revenue Management"]
[null,2.5,"Supply Chain Management","2,5 - Supply Chain Management","2.5 - Supply Chain Management"]
[null,2.6,"[Name of sub-vote]","2,6 - [Name of sub-vote]"]
[null,2.7,"[Name of sub-vote]","2,7 - [Name of sub-vote]"]
[null,2.8,"[Name of sub-vote]","2,8 - [Name of sub-vote]"]
[null,2.9,"[Name of sub-vote]","2,9 - [Name of sub-vote]"]
[null,"2.10","[Name of sub-vote]","2.10 - [Name of sub-vote]"]
[null,"Vote 3","Corporate Services"]
[null,3.1,"Human Resources Management","3,1 - Human Resources Management","Human Resources Management"]
[null,3.2,"Information Technology","3,2 - Information Technology","Information Technology"]
[null,3.3,"Legal Services","3,3 - Legal Services","Legal Services"]
[null,3.4,"Secretariat and Auxiliary Services","3,4 - Secretariat and Auxiliary Services","Secretariat and Auxiliary Services"]
[null,3.5,"General Manager: Corporate Service","3,5 - General Manager: Corporate Service","General Manager: Corporate Service"]
[null,3.6,"[Name of sub-vote]",{"$f":"CONCATENATE(B30, \" - \", C30)","v":"3,6 - [Name of sub-vote]"}]
[null,3.7,"[Name of sub-vote]","3,7 - [Name of sub-vote]"]
[null,3.8,"[Name of sub-vote]","3,8 - [Name of sub-vote]"]
[null,3.9,"[Name of sub-vote]","3,9 - [Name of sub-vote]"]
[null,"3.10","[Name of sub-vote]","3.10 - [Name of sub-vote]"]
[null,"Vote 4","Community Services and Social Equity"]
[null,4.0999999999999996,"Area Based Management ","4,1 - Area Based Management ","4.1 - Area Based Management "]
[null,4.2,"Public Safety, Emergency Services and Enforcement","4,2 - Public Safety, Emergency Services and Enforcement","4.2 - Public Safety, Emergency Services and Enforcement"]
[null,4.3,"Recreation and Facilities","4,3 - Recreation and Facilities","4.3 - Recreation and Facilities"]
[null,4.4000000000000004,"Waste Management","4,4 - Waste Management","4.4 - Waste Management"]
[null,4.5,"4.5 - General Manager: Community Services","4.5 - General Manager: Community Services","4.5 - General Manager: Community Services"]
[null,4.5999999999999996,"[Name of sub-vote]",{"$f":"CONCATENATE(B41, \" - \", C41)","v":"4,6 - [Name of sub-vote]"}]
[null,4.7,"[Name of sub-vote]","4,7 - [Name of sub-vote]"]
[null,4.8,"[Name of sub-vote]","4,8 - [Name of sub-vote]"]
[null,4.9000000000000004,"[Name of sub-vote]","4,9 - [Name of sub-vote]"]
[null,"4.10","[Name of sub-vote]","4.10 - [Name of sub-vote]"]
[null,"Vote 5","Infrastructure Services"]
[null,5.0999999999999996,"Project Management Office","5,1 - Project Management Office","5.1 - Project Management Office"]
[null,5.2,"Roads and Transportation","5,2 - Roads and Transportation","5.2 - Roads and Transportation"]
[null,5.3,"Water and Sanitation","5,3 - Water and Sanitation","5.3 - Water and Sanitation"]
[null,5.4,"General Manager: Infrastructure ","5,4 - General Manager: Infrastructure ","5.4 - General Manager: Infrastructure "]
[null,5.5,"[Name of sub-vote]",{"$f":"CONCATENATE(B51, \" - \", C51)","v":"5,5 - [Name of sub-vote]"}]
[null,5.6,"[Name of sub-vote]","5,6 - [Name of sub-vote]"]
[null,5.7,"[Name of sub-vote]","5,7 - [Name of sub-vote]"]
[null,5.8,"[Name of sub-vote]","5,8 - [Name of sub-vote]"]
[null,5.9,"[Name of sub-vote]","5,9 - [Name of sub-vote]"]
[null,"5.10","[Name of sub-vote]","5.10 - [Name of sub-vote]"]
[null,"Vote 6","Sustainable Development and City Enterprises"]
[null,6.1,"City Entities","6,1 - City Entities","6.1 - City Entities"]
[null,6.2,"Development Services","6,2 - Development Services","6.2 - Development Services"]
[null,6.3,"Human Settlement Development","6,3 - Human Settlement Development","6.3 - Human Settlement Development"]
[null,6.4,"Town Planning","6,4 - Town Planning","6.4 - Town Planning"]
[null,6.5,"General Manager: Sustainable Development and City Enterprises","6,5 - General Manager: Sustainable Development and City Enterprises","6.5 - General Manager: Sustainable Development and City Enterprises"]
[null,6.6,"[Name of sub-vote]",{"$f":"CONCATENATE(B63, \" - \", C63)","v":"6,6 - [Name of sub-vote]"}]
[null,6.7,"[Name of sub-vote]","6,7 - [Name of sub-vote]"]
[null,6.8,"[Name of sub-vote]","6,8 - [Name of sub-vote]"]
[null,6.9,"[Name of sub-vote]","6,9 - [Name of sub-vote]"]
[null,"6.10","[Name of sub-vote]","6.10 - [Name of sub-vote]"]
[null,"Vote 7","Electricity"]
[null,7.1,"Electricity planning","7,1 - Electricity planning","7.1 Electricity planning"]
[null,7.2,"Methods and Standards","7,2 - Methods and Standards","7.2 Methods and Standards"]
[null,7.3,"Operations and Maintenance","7,3 - Operations and Maintenance","7.3 Operations and Maintenance"]
[null,7.4,"Revenue Management","7,4 - Revenue Management","7.4 Revenue Management"]
[null,7.5,"General Manager Electricity","7,5 - General Manager Electricity","7.5 General Manager Electricity"]
[null,7.6,"[Name of sub-vote]",{"$f":"CONCATENATE(B74, \" - \", C74)","v":"7,6 - [Name of sub-vote]"}]
[null,7.7,"[Name of sub-vote]","7,7 - [Name of sub-vote]"]
[null,7.8,"[Name of sub-vote]","7,8 - [Name of sub-vote]"]
[null,7.9,"[Name of sub-vote]","7,9 - [Name of sub-vote]"]
[null,"7.10","[Name of sub-vote]","7.10 - [Name of sub-vote]"]
[null,"Vote 8","[NAME OF VOTE 8]"]
[null,8.1,"[Name of sub-vote]",{"$f":"CONCATENATE(B80, \" - \", C80)","v":"8,1 - [Name of sub-vote]"},"8.1 - [Name of sub-vote]"]
[null,8.1999999999999993,"[Name of sub-vote]","8,2 - [Name of sub-vote]"]
[null,8.3000000000000007,"[Name of sub-vote]","8,3 - [Name of sub-vote]"]
[null,8.4,"[Name of sub-vote]","8,4 - [Name of sub-vote]"]
[null,8.5,"[Name of sub-vote]","8,5 - [Name of sub-vote]"]
[null,8.6,"[Name of sub-vote]","8,6 - [Name of sub-vote]"]
[null,8.6999999999999993,"[Name of sub-vote]","8,7 - [Name of sub-vote]"]
[null,8.8000000000000007,"[Name of sub-vote]","8,8 - [Name of sub-vote]"]
[null,8.9,"[Name of sub-vote]","8,9 - [Name of sub-vote]"]
[null,"8.10","[Name of sub-vote]","8.10 - [Name of sub-vote]"]
[null,"Vote 9","[NAME OF VOTE 9]"]
[null,9.1,"[Name of sub-vote]",{"$f":"CONCATENATE(B91, \" - \", C91)","v":"9,1 - [Name of sub-vote]"},"9.1 - [Name of sub-vote]"]
[null,9.1999999999999993,"[Name of sub-vote]","9,2 - [Name of sub-vote]"]
[null,9.3000000000000007,"[Name of sub-vote]","9,3 - [Name of sub-vote]"]
[null,9.4,"[Name of sub-vote]","9,4 - [Name of sub-vote]"]
[null,9.5,"[Name of sub-vote]","9,5 - [Name of sub-vote]"]
[null,9.6,"[Name of sub-vote]","9,6 - [Name of sub-vote]"]
[null,9.6999999999999993,"[Name of sub-vote]","9,7 - [Name of sub-vote]"]
[null,9.8000000000000007,"[Name of sub-vote]","9,8 - [Name of sub-vote]"]
[null,9.9,"[Name of sub-vote]","9,9 - [Name of sub-vote]"]
[null,"9.10","[Name of sub-vote]","9.10 - [Name of sub-vote]"]
[null,"Vote 10","[NAME OF VOTE 10]"]
[null,10.1,"[Name of sub-vote]",{"$f":"CONCATENATE(B102, \" - \", C102)","v":"10,1 - [Name of sub-vote]"},"10.1 - [Name of sub-vote]"]
[null,10.199999999999999,"[Name of sub-vote]","10,2 - [Name of sub-vote]"]
[null,10.3,"[Name of sub-vote]","10,3 - [Name of sub-vote]"]
[null,10.4,"[Name of sub-vote]","10,4 - [Name of sub-vote]"]
[null,10.5,"[Name of sub-vote]","10,5 - [Name of sub-vote]"]
[null,10.6,"[Name of sub-vote]","10,6 - [Name of sub-vote]"]
[null,10.7,"[Name of sub-vote]","10,7 - [Name of sub-vote]"]
[null,10.8,"[Name of sub-vote]","10,8 - [Name of sub-vote]"]
[null,10.9,"[Name of sub-vote]","10,9 - [Name of sub-vote]"]
[null,"10.10","[Name of sub-vote]","10.10 - [Name of sub-vote]"]
[null,"Vote 11","[NAME OF VOTE 11]"]
[null,11.1,"[Name of sub-vote]",{"$f":"CONCATENATE(B113, \" - \", C113)","v":"11,1 - [Name of sub-vote]"},"11.1 - [Name of sub-vote]"]
[null,11.2,"[Name of sub-vote]","11,2 - [Name of sub-vote]"]
[null,11.3,"[Name of sub-vote]","11,3 - [Name of sub-vote]"]
[null,11.4,"[Name of sub-vote]","11,4 - [Name of sub-vote]"]
[null,11.5,"[Name of sub-vote]","11,5 - [Name of sub-vote]"]
[null,11.6,"[Name of sub-vote]","11,6 - [Name of sub-vote]"]
[null,11.7,"[Name of sub-vote]","11,7 - [Name of sub-vote]"]
[null,11.8,"[Name of sub-vote]","11,8 - [Name of sub-vote]"]
[null,11.9,"[Name of sub-vote]","11,9 - [Name of sub-vote]"]
[null,"11.10","[Name of sub-vote]","11.10 - [Name of sub-vote]"]
[null,"Vote 12","[NAME OF VOTE 12]"]
[null,12.1,"[Name of sub-vote]",{"$f":"CONCATENATE(B124, \" - \", C124)","v":"12,1 - [Name of sub-vote]"},"12.1 - [Name of sub-vote]"]
[null,12.2,"[Name of sub-vote]","12,2 - [Name of sub-vote]"]
[null,12.3,"[Name of sub-vote]","12,3 - [Name of sub-vote]"]
[null,12.4,"[Name of sub-vote]","12,4 - [Name of sub-vote]"]
[null,12.5,"[Name of sub-vote]","12,5 - [Name of sub-vote]"]
[null,12.6,"[Name of sub-vote]","12,6 - [Name of sub-vote]"]
[null,12.7,"[Name of sub-vote]","12,7 - [Name of sub-vote]"]
[null,12.8,"[Name of sub-vote]","12,8 - [Name of sub-vote]"]
[null,12.9,"[Name of sub-vote]","12,9 - [Name of sub-vote]"]
[null,"12.10","[Name of sub-vote]","12.10 - [Name of sub-vote]"]
[null,"Vote 13","[NAME OF VOTE 13]"]
[null,13.1,"[Name of sub-vote]",{"$f":"CONCATENATE(B135, \" - \", C135)","v":"13,1 - [Name of sub-vote]"},"13.1 - [Name of sub-vote]"]
[null,13.2,"[Name of sub-vote]","13,2 - [Name of sub-vote]"]
[null,13.3,"[Name of sub-vote]","13,3 - [Name of sub-vote]"]
[null,13.4,"[Name of sub-vote]","13,4 - [Name of sub-vote]"]
[null,13.5,"[Name of sub-vote]","13,5 - [Name of sub-vote]"]
[null,13.6,"[Name of sub-vote]","13,6 - [Name of sub-vote]"]
[null,13.7,"[Name of sub-vote]","13,7 - [Name of sub-vote]"]
[null,13.8,"[Name of sub-vote]","13,8 - [Name of sub-vote]"]
[null,13.9,"[Name of sub-vote]","13,9 - [Name of sub-vote]"]
[null,"13.10","[Name of sub-vote]","13.10 - [Name of sub-vote]"]
[null,"Vote 14","[NAME OF VOTE 14]"]
[null,14.1,"[Name of sub-vote]",{"$f":"CONCATENATE(B146, \" - \", C146)","v":"14,1 - [Name of sub-vote]"},"14.1 - [Name of sub-vote]"]
[null,14.2,"[Name of sub-vote]","14,2 - [Name of sub-vote]"]
[null,14.3,"[Name of sub-vote]","14,3 - [Name of sub-vote]"]
[null,14.4,"[Name of sub-vote]","14,4 - [Name of sub-vote]"]
[null,14.5,"[Name of sub-vote]","14,5 - [Name of sub-vote]"]
[null,14.6,"[Name of sub-vote]","14,6 - [Name of sub-vote]"]
[null,14.7,"[Name of sub-vote]","14,7 - [Name of sub-vote]"]
[null,14.8,"[Name of sub-vote]","14,8 - [Name of sub-vote]"]
[null,14.9,"[Name of sub-vote]","14,9 - [Name of sub-vote]"]
[null,"14.10","[Name of sub-vote]","14.10 - [Name of sub-vote]"]
[null,"Vote 15","[NAME OF VOTE 15]"]
[null,15.1,"[Name of sub-vote]",{"$f":"CONCATENATE(B157, \" - \", C157)","v":"15,1 - [Name of sub-vote]"},"15.1 - [Name of sub-vote]"]
[null,15.2,"[Name of sub-vote]","15,2 - [Name of sub-vote]"]
[null,15.3,"[Name of sub-vote]","15,3 - [Name of sub-vote]"]
[null,15.4,"[Name of sub-vote]","15,4 - [Name of sub-vote]"]
[null,15.5,"[Name of sub-vote]","15,5 - [Name of sub-vote]"]
[null,15.6,"[Name of sub-vote]","15,6 - [Name of sub-vote]"]
[null,15.7,"[Name of sub-vote]","15,7 - [Name of sub-vote]"]
[null,15.8,"[Name of sub-vote]","15,8 - [Name of sub-vote]"]
[null,15.9,"[Name of sub-vote]","15,9 - [Name of sub-vote]"]
[null,"15.10","[Name of sub-vote]","15.10 - [Name of sub-vote]"]

{"sheet":"Contacts","index":5,"n_rows":140,"n_cols":3,"rows_kept":140,"cut":false,"hidden":false,"merged":[[7,2,7,3],[13,0,13,1],[29,0,29,1],[10,2,10,3],[12,2,12,3],[84,2,84,3],[30,2,30,3],[29,2,29,3],[48,0,48,1],[100,2,100,3],[39,2,39,3],[48,2,48,3],[57,2,57,3],[92,0,92,1],[39,0,39,1],[132,0,132,1],[132,2,132,3],[76,0,76,1],[57,0,57,1],[76,2,76,3],[92,2,92,3],[67,2,67,3],[124,0,124,1],[124,2,124,3],[116,0,116,1],[116,2,116,3],[108,0,108,1],[108,2,108,3],[100,0,100,1],[58,2,58,3],[84,0,84,1]]}
[{"$f":"muni&\" - \"&\" Contact Information\"","v":"Choose name from list -  Contact Information"}]
[]
["A. GENERAL INFORMATION"]
["Municipality",{"$f":"muni","v":"Choose name from list"},{"$f":"IF(B4=\"Choose name from List\",\"Set name on 'Instructions' sheet\", \"\")","v":"Set name on 'Instructions' sheet"}]
[]
["Grade",null,"1 Grade in terms of the Remuneration of Public Office Bearers Act."]
[]
["Province",{"$f":"IF(B4>\" \",VLOOKUP(B4,'Lookup and lists'!B29:C307,2, FALSE),\" \")","v":"Set name on 'Instructions' sheet"}]
[]
["Web Address"]
[]
["e-mail Address"]
[]
["B. CONTACT INFORMATION"]
["Postal address:"]
["P.O. Box"]
["City / Town"]
["Postal Code"]
[]
["Street address"]
["Building"]
["Street No. & Name"]
["City / Town"]
["Postal Code"]
[]
["General Contacts"]
["Telephone number"]
["Fax number"]
[]
["C. POLITICAL LEADERSHIP"]
["Speaker:",null,"Secretary/PA to the Speaker:"]
["ID Number",null,"ID Number"]
["Title",null,"Title"]
["Name",null,"Name"]
["Telephone number",null,"Telephone number"]
["Cell number",null,"Cell number"]
["Fax number",null,"Fax number"]
["E-mail address",null,"E-mail address"]
[]
["Mayor/Executive Mayor:",null,"Secretary/PA to the Mayor/Executive Mayor:"]
["ID Number",null,"ID Number"]
["Title",null,"Title"]
["Name",null,"Name"]
["Telephone number",null,"Telephone number"]
["Cell number",null,"Cell number"]
["Fax number",null,"Fax number"]
["E-mail address",null,"E-mail address"]
[]
["Deputy Mayor/Executive Mayor:",null,"Secretary/PA to the Deputy Mayor/Executive Mayor:"]
["ID Number",null,"ID Number"]
["Title",null,"Title"]
["Name",null,"Name"]
["Telephone number",null,"Telephone number"]
["Cell number",null,"Cell number"]
["Fax number",null,"Fax number"]
["E-mail address",null,"E-mail address"]
[]
["D. MANAGEMENT LEADERSHIP"]
["Municipal Manager:",null,"Secretary/PA to the Municipal Manager:"]
["ID Number",null,"ID Number"]
["Title",null,"Title"]
["Name",null,"Name"]
["Telephone number",null,"Telephone number"]
["Cell number",null,"Cell number"]
["Fax number",null,"Fax number"]
["E-mail address",null,"E-mail address"]
[]
["Chief Financial Officer",null,"Secretary/PA to the Chief Financial Officer"]
["ID Number",null,"ID Number"]
["Title",null,"Title"]
["Name","","Name"]
["Telephone number",null,"Telephone number"]
["Cell number",null,"Cell number"]
["Fax number",null,"Fax number"]
["E-mail address",null,"E-mail address"]
[]
["Official responsible for submitting financial information",null,"Official responsible for submitting financial information"]
["ID Number",null,"ID Number"]
["Title",null,"Title"]
["Name",null,"Name"]
["Telephone number",null,"Telephone number"]
["Cell number",null,"Cell number"]
["Fax number",null,"Fax number"]
["E-mail address",null,"E-mail address"]
["Official responsible for submitting financial information",null,"Official responsible for submitting financial information"]
["ID Number",null,"ID Number"]
["Title",null,"Title"]
["Name",null,"Name"]
["Telephone number",null,"Telephone number"]
["Cell number",null,"Cell number"]
["Fax number",null,"Fax number"]
["E-mail address",null,"E-mail address"]
["Official responsible for submitting financial information",null,"Official responsible for submitting financial information"]
["ID Number",null,"ID Number"]
["Title",null,"Title"]
["Name",null,"Name"]
["Telephone number",null,"Telephone number"]
["Cell number",null,"Cell number"]
["Fax number",null,"Fax number"]
["E-mail address",null,"E-mail address"]
["Official responsible for submitting financial information",null,"Official responsible for submitting financial information"]
["ID Number",null,"ID Number"]
["Title",null,"Title"]
["Name",null,"Name"]
["Telephone number",null,"Telephone number"]
["Cell number",null,"Cell number"]
["Fax number",null,"Fax number"]
["E-mail address",null,"E-mail address"]
["Official responsible for submitting financial information",null,"Official responsible for submitting financial information"]
["ID Number",null,"ID Number"]
["Title",null,"Title"]
["Name",null,"Name"]
["Telephone number",null,"Telephone number"]
["Cell number",null,"Cell number"]
["Fax number",null,"Fax number"]
["E-mail address",null,"E-mail address"]
["Official responsible for submitting financial information",null,"Official responsible for submitting financial information"]
["ID Number",null,"ID Number"]
["Title",null,"Title"]
["Name",null,"Name"]
["Telephone number",null,"Telephone number"]
["Cell number",null,"Cell number"]
["Fax number",null,"Fax number"]
["E-mail address",null,"E-mail address"]
["Official responsible for submitting financial information",null,"Official responsible for submitting financial information"]
["ID Number",null,"ID Number"]
["Title",null,"Title"]
["Name",null,"Name"]
["Telephone number",null,"Telephone number"]
["Cell number",null,"Cell number"]
["Fax number",null,"Fax number"]
["E-mail address",null,"E-mail address"]
["Official responsible for submitting financial information"]
["ID Number"]
["Title"]
["Name"]
["Telephone number"]
["Cell number"]
["Fax number"]
["E-mail address"]

{"sheet":"A1-Sum","index":6,"n_rows":61,"n_cols":11,"rows_kept":61,"cut":false,"hidden":false,"merged":[[1,8,1,10],[1,4,1,7],[0,0,0,2]]}
[{"$f":"muni&\" - \"&Approve1","v":"Choose name from list - Table A1 Budget Summary"}]
[{"$f":"desc","v":"Description"},{"$f":"head1b","v":"2021/22"},{"$f":"head1A","v":"2022/23"},{"$f":"Head1","v":"2023/24"},{"$f":"Head2","v":"Current Year 2024/25"},null,null,null,{"$f":"Head3","v":"2025/26 Medium Term Revenue & Expenditure Framework"}]
["R thousands",{"$f":"Head5","v":"Audited Outcome"},{"$f":"Head5","v":"Audited Outcome"},{"$f":"Head5","v":"Audited Outcome"},{"$f":"Head6","v":"Original Budget"},{"$f":"Head7","v":"Adjusted Budget"},{"$f":"Head8","v":"Full Year Forecast"},{"$f":"Head5b","v":"Pre-audit outcome"},{"$f":"Head9","v":"Budget Year 2025/26"},{"$f":"Head10","v":"Budget Year +1 2026/27"},{"$f":"Head11","v":"Budget Year +2 2027/28"}]
["Financial Performance"]
["Property rates",{"$f":"'A4-FinPerf RE'!C22","v":1212773440},{"$f":"'A4-FinPerf RE'!D22","v":1370173435},{"$f":"'A4-FinPerf RE'!E22","v":1359086727},{"$f":"'A4-FinPerf RE'!F22","v":1649352521},{"$f":"'A4-FinPerf RE'!G22","v":1649352462},{"$f":"'A4-FinPerf RE'!H22","v":1649352462},{"$f":"'A4-FinPerf RE'!I22","v":1197656629},{"$f":"'A4-FinPerf RE'!J22","v":1721664641},{"$f":"'A4-FinPerf RE'!K22","v":1799139551},{"$f":"'A4-FinPerf RE'!L22","v":1844118038}]
["Service charges",{"$f":"SUM('A4-FinPerf RE'!C6:C9)","v":3846304860},{"$f":"SUM('A4-FinPerf RE'!D6:D9)","v":3870497200},{"$f":"SUM('A4-FinPerf RE'!E6:E9)","v":4086762355},{"$f":"SUM('A4-FinPerf RE'!F6:F9)","v":5683700785.3920994},{"$f":"SUM('A4-FinPerf RE'!G6:G9)","v":5610233690.2647991},{"$f":"SUM('A4-FinPerf RE'!H6:H9)","v":5615698778.2647991},{"$f":"SUM('A4-FinPerf RE'!I6:I9)","v":995767619},{"$f":"SUM('A4-FinPerf RE'!J6:J9)","v":6280570233.4623775},{"$f":"SUM('A4-FinPerf RE'!K6:K9)","v":6588318176.8570347},{"$f":"SUM('A4-FinPerf RE'!L6:L9)","v":6911145767.5590277}]
["Investment revenue",{"$f":"'A4-FinPerf RE'!C14","v":10445069},{"$f":"'A4-FinPerf RE'!D14","v":16957186},{"$f":"'A4-FinPerf RE'!E14","v":44117781},{"$f":"'A4-FinPerf RE'!F14","v":59562303},{"$f":"'A4-FinPerf RE'!G14","v":59562303},{"$f":"'A4-FinPerf RE'!H14","v":59562303},{"$f":"'A4-FinPerf RE'!I14","v":0},{"$f":"'A4-FinPerf RE'!J14","v":19996228},{"$f":"'A4-FinPerf RE'!K14","v":20976044},{"$f":"'A4-FinPerf RE'!L14","v":22003870}]
["Transfer and subsidies - Operational",{"$f":"'A4-FinPerf RE'!C26","v":681677624},{"$f":"'A4-FinPerf RE'!D26","v":801751326},{"$f":"'A4-FinPerf RE'!E26","v":824544818},{"$f":"'A4-FinPerf RE'!F26","v":946343150},{"$f":"'A4-FinPerf RE'!G26","v":1026395188},{"$f":"'A4-FinPerf RE'!H26","v":1026395188},{"$f":"'A4-FinPerf RE'!I26","v":0},{"$f":"'A4-FinPerf RE'!J26","v":993197195},{"$f":"'A4-FinPerf RE'!K26","v":1066100549},{"$f":"'A4-FinPerf RE'!L26","v":1113039830}]
["Other own revenue",{"$f":"'A4-FinPerf RE'!C33-SUM(B5:B8)","v":365181607},{"$f":"'A4-FinPerf RE'!D33-SUM(C5:C8)","v":367682230},{"$f":"'A4-FinPerf RE'!E33-SUM(D5:D8)","v":613025069},{"$f":"'A4-FinPerf RE'!F33-SUM(E5:E8)","v":624944465.02851105},{"$f":"'A4-FinPerf RE'!G33-SUM(F5:F8)","v":624944465.7285099},{"$f":"'A4-FinPerf RE'!H33-SUM(G5:G8)","v":624944465.7285099},{"$f":"'A4-FinPerf RE'!I33-SUM(H5:H8)","v":0},{"$f":"'A4-FinPerf RE'!J33-SUM(I5:I8)","v":517451737},{"$f":"'A4-FinPerf RE'!K33-SUM(J5:J8)","v":542806863},{"$f":"'A4-FinPerf RE'!L33-SUM(K5:K8)","v":569404406}]
[{"$f":"'A4-FinPerf RE'!A33","v":"Total Revenue (excluding capital transfers and contributions)"},{"$f":"SUM(B5:B9)","v":6116382600},{"$f":"SUM(C5:C9)","v":6427061377},6927536750,8963903224.4206104,8970488108.993309,8975953196.993309,2193424248,9532880034.4623775,10017341183.857035,10459711911.559029]
["Employee costs",{"$f":"'A4-FinPerf RE'!C35","v":1480410468},{"$f":"'A4-FinPerf RE'!D35","v":1478744114},{"$f":"'A4-FinPerf RE'!E35","v":1624858728},{"$f":"'A4-FinPerf RE'!F35","v":1860539286},{"$f":"'A4-FinPerf RE'!G35","v":1772840698},{"$f":"'A4-FinPerf RE'!H35","v":1786363095},{"$f":"'A4-FinPerf RE'!I35","v":1077583974},{"$f":"'A4-FinPerf RE'!J35","v":1936772763},{"$f":"'A4-FinPerf RE'!K35","v":2074266277},{"$f":"'A4-FinPerf RE'!L35","v":2220504452}]
["Remuneration of councillors",{"$f":"'A4-FinPerf RE'!C36","v":49439040},{"$f":"'A4-FinPerf RE'!D36","v":51817505},{"$f":"'A4-FinPerf RE'!E36","v":63542010},{"$f":"'A4-FinPerf RE'!F36","v":66461931.11060001},{"$f":"'A4-FinPerf RE'!G36","v":66461931.11060001},{"$f":"'A4-FinPerf RE'!H36","v":66461931.11060001},{"$f":"'A4-FinPerf RE'!I36","v":0},{"$f":"'A4-FinPerf RE'!J36","v":70449648},{"$f":"'A4-FinPerf RE'!K36","v":73901678},{"$f":"'A4-FinPerf RE'!L36","v":77522858}]
["Depreciation and amortisation",{"$f":"'A4-FinPerf RE'!C40","v":373536588},{"$f":"'A4-FinPerf RE'!D40","v":351530371},{"$f":"'A4-FinPerf RE'!E40","v":362584027},{"$f":"'A4-FinPerf RE'!F40","v":363040742},{"$f":"'A4-FinPerf RE'!G40","v":362178745},{"$f":"'A4-FinPerf RE'!H40","v":363040742},{"$f":"'A4-FinPerf RE'!I40","v":263171844},{"$f":"'A4-FinPerf RE'!J40","v":391122347},{"$f":"'A4-FinPerf RE'!K40","v":387623527},{"$f":"'A4-FinPerf RE'!L40","v":283437179}]
["Interest",{"$f":"'A4-FinPerf RE'!C41","v":33596491},{"$f":"'A4-FinPerf RE'!D41","v":150813872},{"$f":"'A4-FinPerf RE'!E41","v":86051487},{"$f":"'A4-FinPerf RE'!F41","v":42824930.711800002},{"$f":"'A4-FinPerf RE'!G41","v":42824930.711800002},{"$f":"'A4-FinPerf RE'!H41","v":42824930.711800002},{"$f":"'A4-FinPerf RE'!I41","v":0},{"$f":"'A4-FinPerf RE'!J41","v":56180000},{"$f":"'A4-FinPerf RE'!K41","v":58708099.999999993},{"$f":"'A4-FinPerf RE'!L41","v":62230585.999999993}]
["Inventory consumed and bulk purchases",{"$f":"'A4-FinPerf RE'!C37+'A4-FinPerf RE'!C38","v":3034514956},{"$f":"'A4-FinPerf RE'!D37+'A4-FinPerf RE'!D38","v":3089737287},{"$f":"'A4-FinPerf RE'!E37+'A4-FinPerf RE'!E38","v":3592059407},{"$f":"'A4-FinPerf RE'!F37+'A4-FinPerf RE'!F38","v":4138528115},{"$f":"'A4-FinPerf RE'!G37+'A4-FinPerf RE'!G38","v":3900504043},{"$f":"'A4-FinPerf RE'!H37+'A4-FinPerf RE'!H38","v":3900504043},{"$f":"'A4-FinPerf RE'!I37+'A4-FinPerf RE'!I38","v":2884950466},{"$f":"'A4-FinPerf RE'!J37+'A4-FinPerf RE'!J38","v":4536139411},{"$f":"'A4-FinPerf RE'!K37+'A4-FinPerf RE'!K38","v":4763738672},{"$f":"'A4-FinPerf RE'!L37+'A4-FinPerf RE'!L38","v":4999951180}]
["Transfers and subsidies",{"$f":"'A4-FinPerf RE'!C43","v":18486826},{"$f":"'A4-FinPerf RE'!D43","v":15102578},{"$f":"'A4-FinPerf RE'!E43","v":10857198},{"$f":"'A4-FinPerf RE'!F43","v":52375754},{"$f":"'A4-FinPerf RE'!G43","v":69670132},{"$f":"'A4-FinPerf RE'!H43","v":52375754},{"$f":"'A4-FinPerf RE'!I43","v":40289508},{"$f":"'A4-FinPerf RE'!J43","v":54065270},{"$f":"'A4-FinPerf RE'!K43","v":56768065},{"$f":"'A4-FinPerf RE'!L43","v":59573673}]
["Other expenditure",{"$f":"'A4-FinPerf RE'!C48-SUM(B11:B16)","v":1732384128},{"$f":"'A4-FinPerf RE'!D48-SUM(C11:C16)","v":1087956212},{"$f":"'A4-FinPerf RE'!E48-SUM(D11:D16)","v":2294162857},{"$f":"'A4-FinPerf RE'!F48-SUM(E11:E16)","v":1856500194.999999},{"$f":"'A4-FinPerf RE'!G48-SUM(F11:F16)","v":1660959221.999999},{"$f":"'A4-FinPerf RE'!H48-SUM(G11:G16)","v":1663869205.999999},{"$f":"'A4-FinPerf RE'!I48-SUM(H11:H16)","v":677603250},{"$f":"'A4-FinPerf RE'!J48-SUM(I11:I16)","v":1517067097},{"$f":"'A4-FinPerf RE'!K48-SUM(J11:J16)","v":1655550200},{"$f":"'A4-FinPerf RE'!L48-SUM(K11:K16)","v":1780461800}]
[{"$f":"'A4-FinPerf RE'!A48","v":"Total Expenditure"},{"$f":"SUM(B11:B17)","v":6722368497},{"$f":"SUM(C11:C17)","v":6225701939},8034115714,8380270953.8223991,7875439701.8223991,7875439701.8223991,4943599042,8561796536,9070556519,9483681728]
[{"$f":"'A4-FinPerf RE'!A49","v":"Surplus/(Deficit)"},{"$f":"B10-B18","v":-605985897},{"$f":"C10-C18","v":201359438},-1106578964,583632270.59821129,1095048407.1709099,1100513495.1709099,-2750174794,971083498.46237755,946784664.85703468,976030183.55902863]
[{"$f":"'A4-FinPerf RE'!A50","v":"Transfers and subsidies - capital (monetary allocations)"},{"$f":"'A4-FinPerf RE'!C50","v":368724617},{"$f":"'A4-FinPerf RE'!D50","v":324319271},{"$f":"'A4-FinPerf RE'!E50","v":427923159},{"$f":"'A4-FinPerf RE'!F50","v":456974891},{"$f":"'A4-FinPerf RE'!G50","v":488696014},{"$f":"'A4-FinPerf RE'!H50","v":488696014},{"$f":"'A4-FinPerf RE'!I50","v":0},{"$f":"'A4-FinPerf RE'!J50","v":376126520},{"$f":"'A4-FinPerf RE'!K50","v":429887271},{"$f":"'A4-FinPerf RE'!L50","v":457346507}]
[{"$f":"'A4-FinPerf RE'!A51","v":"Transfers and subsidies - capital (in-kind)"},{"$f":"'A4-FinPerf RE'!C51","v":60000},{"$f":"'A4-FinPerf RE'!D51","v":1600},{"$f":"'A4-FinPerf RE'!E51","v":198834},{"$f":"'A4-FinPerf RE'!F51","v":0},{"$f":"'A4-FinPerf RE'!G51","v":0},{"$f":"'A4-FinPerf RE'!H51","v":0},{"$f":"'A4-FinPerf RE'!I51","v":0},{"$f":"'A4-FinPerf RE'!J51","v":0},{"$f":"'A4-FinPerf RE'!K51","v":0},{"$f":"'A4-FinPerf RE'!L51","v":0}]
[{"$f":"'A4-FinPerf RE'!A52","v":"Surplus/(Deficit) after capital transfers & contributions"},{"$f":"B19+SUM(B20:B21)","v":-237201280},{"$f":"C19+SUM(C20:C21)","v":525680309},-678456971,1040607161.5982113,1583744421.1709099,1589209509.1709099,-2750174794,1347210018.4623775,1376671935.8570347,1433376690.5590286]
[{"$f":"'A4-FinPerf RE'!A58","v":"Share of Surplus/Deficit attributable to Associate"},{"$f":"'A4-FinPerf RE'!C58","v":0},{"$f":"'A4-FinPerf RE'!D58","v":0},{"$f":"'A4-FinPerf RE'!E58","v":0},{"$f":"'A4-FinPerf RE'!F58","v":0},{"$f":"'A4-FinPerf RE'!G58","v":0},{"$f":"'A4-FinPerf RE'!H58","v":0},{"$f":"'A4-FinPerf RE'!I58","v":0},{"$f":"'A4-FinPerf RE'!J58","v":0},{"$f":"'A4-FinPerf RE'!K58","v":0},{"$f":"'A4-FinPerf RE'!L58","v":0}]
[{"$f":"'A4-FinPerf RE'!A60","v":"Surplus/(Deficit) for the year"},{"$f":"B22+B23","v":-237201280},{"$f":"C22+C23","v":525680309},-678456971,1040607161.5982113,1583744421.1709099,1589209509.1709099,-2750174794,1347210018.4623775,1376671935.8570347,1433376690.5590286]
["Capital expenditure & funds sources"]
["Capital expenditure",{"$f":"'A5-Capex'!C63","v":521826748.73000014},{"$f":"'A5-Capex'!D63","v":547789828.08999991},{"$f":"'A5-Capex'!E63","v":726309725.80000007},{"$f":"'A5-Capex'!F63","v":824010890.42000008},{"$f":"'A5-Capex'!G63","v":816548795.25999999},{"$f":"'A5-Capex'!H63","v":816548795.25999999},{"$f":"'A5-Capex'!I63","v":0},{"$f":"'A5-Capex'!J63","v":627650921},{"$f":"'A5-Capex'!K63","v":519757271},{"$f":"'A5-Capex'!L63","v":555912339}]
["Transfers recognised - capital",{"$f":"'A5-Capex'!C70","v":312721147.32000005},{"$f":"'A5-Capex'!D70","v":363329782.92999995},{"$f":"'A5-Capex'!E70","v":395582260.51999986},{"$f":"'A5-Capex'!F70","v":456974890.50999999},{"$f":"'A5-Capex'!G70","v":477925973},{"$f":"'A5-Capex'!H70","v":477925973},{"$f":"'A5-Capex'!I70","v":0},{"$f":"'A5-Capex'!J70","v":376126520},{"$f":"'A5-Capex'!K70","v":429887271},{"$f":"'A5-Capex'!L70","v":455998188}]
[]
[{"$f":"'A5-Capex'!A72","v":"Borrowing"},{"$f":"'A5-Capex'!C72","v":49400541.770000003},{"$f":"'A5-Capex'!D72","v":0},{"$f":"'A5-Capex'!E72","v":72309925.810000002},{"$f":"'A5-Capex'!F72","v":234315856},{"$f":"'A5-Capex'!G72","v":206615856},{"$f":"'A5-Capex'!H72","v":206615856},{"$f":"'A5-Capex'!I72","v":0},{"$f":"'A5-Capex'!J72","v":161524400.95999998},{"$f":"'A5-Capex'!K72","v":0},{"$f":"'A5-Capex'!L72","v":5460125}]
[{"$f":"'A5-Capex'!A73","v":"Internally generated funds"},{"$f":"'A5-Capex'!C73","v":159705059.64000008},{"$f":"'A5-Capex'!D73","v":184460045.16},{"$f":"'A5-Capex'!E73","v":258417539.46999997},{"$f":"'A5-Capex'!F73","v":132720143.91},{"$f":"'A5-Capex'!G73","v":132006966},{"$f":"'A5-Capex'!H73","v":132006966},{"$f":"'A5-Capex'!I73","v":0},{"$f":"'A5-Capex'!J73","v":90000000},{"$f":"'A5-Capex'!K73","v":89870000},{"$f":"'A5-Capex'!L73","v":94454026}]
["Total sources of capital funds",{"$f":"+B27+B29+B30","v":521826748.73000014},{"$f":"+C27+C29+C30","v":547789828.08999991},726309725.79999983,824010890.41999996,816548795,816548795,0,627650920.96000004,519757271,555912339]
["Financial position"]
[{"$f":"'A6-FinPos'!A13","v":"Total current assets"},{"$f":"'A6-FinPos'!C13","v":4085471725},{"$f":"'A6-FinPos'!D13","v":5711426420},{"$f":"'A6-FinPos'!E13","v":4645420037},{"$f":"'A6-FinPos'!F13","v":6406033846},{"$f":"'A6-FinPos'!G13","v":6635536043},{"$f":"'A6-FinPos'!H13","v":6636895525},{"$f":"'A6-FinPos'!I13","v":2858453791},{"$f":"'A6-FinPos'!J13","v":3043789125.54},{"$f":"'A6-FinPos'!K13","v":3165089119},{"$f":"'A6-FinPos'!L13","v":3299460206}]
[{"$f":"'A6-FinPos'!A25","v":"Total non current assets"},{"$f":"'A6-FinPos'!C25","v":18551873046},{"$f":"'A6-FinPos'!D25","v":19916480699},{"$f":"'A6-FinPos'!E25","v":20201853637},{"$f":"'A6-FinPos'!F25","v":10134185353.355},{"$f":"'A6-FinPos'!G25","v":10127786641.355},{"$f":"'A6-FinPos'!H25","v":10134952257.355},{"$f":"'A6-FinPos'!I25","v":0},{"$f":"'A6-FinPos'!J25","v":9238886782},{"$f":"'A6-FinPos'!K25","v":9518488947},{"$f":"'A6-FinPos'!L25","v":9959180347}]
[{"$f":"'A6-FinPos'!A37","v":"Total current liabilities"},{"$f":"'A6-FinPos'!C37","v":2527529238},{"$f":"'A6-FinPos'!D37","v":2983655727},{"$f":"'A6-FinPos'!E37","v":2737419975},{"$f":"'A6-FinPos'!F37","v":2374399682.8299999},{"$f":"'A6-FinPos'!G37","v":2412666556.46},{"$f":"'A6-FinPos'!H37","v":2414399682.8299999},{"$f":"'A6-FinPos'!I37","v":0},{"$f":"'A6-FinPos'!J37","v":2159651327.3599997},{"$f":"'A6-FinPos'!K37","v":2133706431.3599999},{"$f":"'A6-FinPos'!L37","v":2158848343.3599997}]
[{"$f":"'A6-FinPos'!A43","v":"Total non current liabilities"},{"$f":"'A6-FinPos'!C43","v":775015320},{"$f":"'A6-FinPos'!D43","v":1204461828},{"$f":"'A6-FinPos'!E43","v":2230666176},{"$f":"'A6-FinPos'!F43","v":1806942024},{"$f":"'A6-FinPos'!G43","v":1806942024},{"$f":"'A6-FinPos'!H43","v":1806942024},{"$f":"'A6-FinPos'!I43","v":0},{"$f":"'A6-FinPos'!J43","v":3413768978},{"$f":"'A6-FinPos'!K43","v":3567388582},{"$f":"'A6-FinPos'!L43","v":3727921068}]
["Community wealth/Equity",{"$f":"'A6-FinPos'!C50","v":8059999567},{"$f":"'A6-FinPos'!D50","v":7710969567},{"$f":"'A6-FinPos'!E50","v":6764274982},{"$f":"'A6-FinPos'!F50","v":10652167584.029999},{"$f":"'A6-FinPos'!G50","v":10956969852.195002},{"$f":"'A6-FinPos'!H50","v":10963761823.825001},{"$f":"'A6-FinPos'!I50","v":-1468968},{"$f":"'A6-FinPos'!J50","v":6709255599.1800003},{"$f":"'A6-FinPos'!K50","v":6982483052.6400003},{"$f":"'A6-FinPos'!L50","v":7371871140.6400003}]
["Cash flows"]
["Net cash from (used) operating",{"$f":"'A7-CFlow'!C17","v":534737124},{"$f":"'A7-CFlow'!D17","v":755969417},{"$f":"'A7-CFlow'!E17","v":612674303},{"$f":"'A7-CFlow'!F17","v":943547540.43000031},{"$f":"'A7-CFlow'!G17","v":776439800.57573318},{"$f":"'A7-CFlow'!H17","v":773609178.57573318},{"$f":"'A7-CFlow'!I17","v":0},{"$f":"'A7-CFlow'!J17","v":586984266.53999996},{"$f":"'A7-CFlow'!K17","v":621557170.46000004},{"$f":"'A7-CFlow'!L17","v":651982142}]
["Net cash from (used) investing",{"$f":"'A7-CFlow'!C27","v":-525051173},{"$f":"'A7-CFlow'!D27","v":-451531352},{"$f":"'A7-CFlow'!E27","v":-674394631},{"$f":"'A7-CFlow'!F27","v":-769351055},{"$f":"'A7-CFlow'!G27","v":-824010890},{"$f":"'A7-CFlow'!H27","v":-824860890},{"$f":"'A7-CFlow'!I27","v":0},{"$f":"'A7-CFlow'!J27","v":-629736234},{"$f":"'A7-CFlow'!K27","v":-522148513},{"$f":"'A7-CFlow'!L27","v":-559701263}]
["Net cash from (used) financing",{"$f":"'A7-CFlow'!C36","v":-81573483},{"$f":"'A7-CFlow'!D36","v":-79162901},{"$f":"'A7-CFlow'!E36","v":42004700},{"$f":"'A7-CFlow'!F36","v":177000000},{"$f":"'A7-CFlow'!G36","v":184315856},{"$f":"'A7-CFlow'!H36","v":184315856},{"$f":"'A7-CFlow'!I36","v":0},{"$f":"'A7-CFlow'!J36","v":71524401},{"$f":"'A7-CFlow'!K36","v":-90000000},{"$f":"'A7-CFlow'!L36","v":-90000000}]
[{"$f":"LEFT('A7-CFlow'!A40,37)","v":"Cash/cash equivalents at the year end"},{"$f":"'A7-CFlow'!C40","v":287632020},{"$f":"'A7-CFlow'!D40","v":514428004},{"$f":"'A7-CFlow'!E40","v":491686381},{"$f":"'A7-CFlow'!F40","v":640349325.43000031},{"$f":"'A7-CFlow'!G40","v":632737501.57573318},{"$f":"'A7-CFlow'!H40","v":629056879.57573318},{"$f":"'A7-CFlow'!I40","v":0},{"$f":"'A7-CFlow'!J40","v":395132659.53999996},{"$f":"'A7-CFlow'!K40","v":404541317},{"$f":"'A7-CFlow'!L40","v":406822196}]
[]
["Cash backing/surplus reconciliation"]
[{"$f":"'A8-ResRecon'!A4","v":"Cash and investments available"},{"$f":"'A8-ResRecon'!C8","v":290433199},{"$f":"'A8-ResRecon'!D8","v":515708363},{"$f":"'A8-ResRecon'!E8","v":495992735},{"$f":"'A8-ResRecon'!F8","v":213140337},{"$f":"'A8-ResRecon'!G8","v":372823656},{"$f":"'A8-ResRecon'!H8","v":374180638},{"$f":"'A8-ResRecon'!I8","v":-666355195},{"$f":"'A8-ResRecon'!J8","v":400170595.54000002},{"$f":"'A8-ResRecon'!K8","v":396979401},{"$f":"'A8-ResRecon'!L8","v":404944406}]
[{"$f":"'A8-ResRecon'!A10","v":"Application of cash and investments"},{"$f":"'A8-ResRecon'!C18","v":1299241885},{"$f":"'A8-ResRecon'!D18","v":2272161097},{"$f":"'A8-ResRecon'!E18","v":3192550452},{"$f":"'A8-ResRecon'!F18","v":797120166},{"$f":"'A8-ResRecon'!G18","v":275890333},{"$f":"'A8-ResRecon'!H18","v":272805333},{"$f":"'A8-ResRecon'!I18","v":-68908314},{"$f":"'A8-ResRecon'!J18","v":96174716},{"$f":"'A8-ResRecon'!K18","v":-31273647},{"$f":"'A8-ResRecon'!L18","v":-108718066}]
["Balance - surplus (shortfall)",{"$f":"B45-B46","v":-1008808686},{"$f":"C45-C46","v":-1756452734},-2696557717,-583979829,96933323,101375305,-597446881,303995879.54000002,428253048,513662472]
["Asset management"]
["Asset register summary (WDV)",{"$f":"'A9-Asset'!C180","v":6763543509},{"$f":"'A9-Asset'!D180","v":7128088298},{"$f":"'A9-Asset'!E180","v":7784729118},{"$f":"'A9-Asset'!F180","v":9389756846},{"$f":"'A9-Asset'!G180","v":9412890850},{"$f":"'A9-Asset'!H180","v":9412890850},null,{"$f":"'A9-Asset'!I180","v":7807004115},{"$f":"'A9-Asset'!J180","v":8151004302},{"$f":"'A9-Asset'!K180","v":8545100119}]
[{"$f":"'A9-Asset'!A183","v":"Depreciation"},{"$f":"'A9-Asset'!C183","v":365699316},{"$f":"'A9-Asset'!D183","v":337452387},{"$f":"'A9-Asset'!E183","v":359059555},{"$f":"'A9-Asset'!F183","v":362178745},{"$f":"'A9-Asset'!G183","v":362178745},{"$f":"'A9-Asset'!H183","v":362178745},null,{"$f":"'A9-Asset'!I183","v":390260350},{"$f":"'A9-Asset'!J183","v":386742529},{"$f":"'A9-Asset'!K183","v":282526754}]
["Renewal and Upgrading of Existing Assets",{"$f":"'A9-Asset'!C40+'A9-Asset'!C75","v":0},{"$f":"'A9-Asset'!D40+'A9-Asset'!D75","v":0},{"$f":"'A9-Asset'!E40+'A9-Asset'!E75","v":11937006},{"$f":"'A9-Asset'!F40+'A9-Asset'!F75","v":126776287},{"$f":"'A9-Asset'!G40+'A9-Asset'!G75","v":242726626},{"$f":"'A9-Asset'!H40+'A9-Asset'!H75","v":268258836},null,{"$f":"'A9-Asset'!I40+'A9-Asset'!I75","v":261626720},{"$f":"'A9-Asset'!J40+'A9-Asset'!J75","v":293856560},{"$f":"'A9-Asset'!K40+'A9-Asset'!K75","v":176919750}]
["Repairs and Maintenance",{"$f":"'A9-Asset'!C184","v":0},{"$f":"'A9-Asset'!D184","v":0},{"$f":"'A9-Asset'!E184","v":0},{"$f":"'A9-Asset'!F184","v":624615208},{"$f":"'A9-Asset'!G184","v":430115208},{"$f":"'A9-Asset'!H184","v":430115208},null,{"$f":"'A9-Asset'!I184","v":499034026},{"$f":"'A9-Asset'!J184","v":549576626},{"$f":"'A9-Asset'!K184","v":588471171}]
[]
["Free services"]
["Cost of Free Basic Services provided",{"$f":"'A10-SerDel'!C60","v":0},{"$f":"'A10-SerDel'!D60","v":0},{"$f":"'A10-SerDel'!E60","v":0},{"$f":"'A10-SerDel'!F60","v":282387340},{"$f":"'A10-SerDel'!G60","v":254768167},{"$f":"'A10-SerDel'!H60","v":249303079},null,{"$f":"'A10-SerDel'!I60","v":302248588},{"$f":"'A10-SerDel'!J60","v":317058768},{"$f":"'A10-SerDel'!K60","v":332594648}]
["Revenue cost of free services provided",{"$f":"'A10-SerDel'!C79","v":0},{"$f":"'A10-SerDel'!D79","v":0},{"$f":"'A10-SerDel'!E79","v":0},{"$f":"'A10-SerDel'!F79","v":120843621},{"$f":"'A10-SerDel'!G79","v":120843621},{"$f":"'A10-SerDel'!H79","v":120866231},null,{"$f":"'A10-SerDel'!I79","v":258774813},{"$f":"'A10-SerDel'!J79","v":270419679},{"$f":"'A10-SerDel'!K79","v":277180171}]
["Households below minimum service level"]
[{"$f":"'A10-SerDel'!A5","v":"Water:"},{"$f":"'A10-SerDel'!C14","v":8505.0944},{"$f":"'A10-SerDel'!D14","v":8505.0944},{"$f":"'A10-SerDel'!E14","v":8505.0944},{"$f":"'A10-SerDel'!F14","v":8505.0944},{"$f":"'A10-SerDel'!G14","v":8505.0944},{"$f":"'A10-SerDel'!H14","v":8887.8236479999996},null,{"$f":"'A10-SerDel'!I14","v":9287.7757121599989},{"$f":"'A10-SerDel'!J14","v":9705.7256192071982},{"$f":"'A10-SerDel'!K14","v":10142.48327207152}]
[{"$f":"'A10-SerDel'!A16","v":"Sanitation/sewerage:"},{"$f":"'A10-SerDel'!C26","v":1184.4888000000001},{"$f":"'A10-SerDel'!D26","v":1184.4888000000001},{"$f":"'A10-SerDel'!E26","v":1231.8683520000002},{"$f":"'A10-SerDel'!F26","v":1184.4888000000001},{"$f":"'A10-SerDel'!G26","v":1184.4888000000001},{"$f":"'A10-SerDel'!H26","v":1237.790796},null,{"$f":"'A10-SerDel'!I26","v":1293.49138182},{"$f":"'A10-SerDel'!J26","v":1351.6984940018999},{"$f":"'A10-SerDel'!K26","v":1412.5249262319853}]
[{"$f":"'A10-SerDel'!A28","v":"Energy:"},{"$f":"'A10-SerDel'!C35","v":8000},{"$f":"'A10-SerDel'!D35","v":8000},{"$f":"'A10-SerDel'!E35","v":8000},{"$f":"'A10-SerDel'!F35","v":8000},{"$f":"'A10-SerDel'!G35","v":8000},{"$f":"'A10-SerDel'!H35","v":8360},null,{"$f":"'A10-SerDel'!I35","v":8736.1999999999989},{"$f":"'A10-SerDel'!J35","v":9129.3289999999979},{"$f":"'A10-SerDel'!K35","v":9540.1488049999971}]
[{"$f":"'A10-SerDel'!A37","v":"Refuse:"},{"$f":"'A10-SerDel'!C45","v":40770.317199999998},{"$f":"'A10-SerDel'!D45","v":40770.317199999998},{"$f":"'A10-SerDel'!E45","v":42401.129887999996},{"$f":"'A10-SerDel'!F45","v":40770.317199999998},{"$f":"'A10-SerDel'!G45","v":40770.317199999998},{"$f":"'A10-SerDel'!H45","v":42604.981473999993},null,{"$f":"'A10-SerDel'!I45","v":44522.205640329987},{"$f":"'A10-SerDel'!J45","v":46525.70489414483},{"$f":"'A10-SerDel'!K45","v":48619.361614381341}]

{"sheet":"A2-FinPerf SC","index":7,"n_rows":54,"n_cols":11,"rows_kept":54,"cut":false,"hidden":false,"merged":[[53,0,53,10],[1,5,1,7],[1,8,1,10]]}
[{"$f":"muni&\" - \"&Approve3","v":"Choose name from list - Table A2 Budgeted Financial Performance (revenue and expenditure by functional classification)"}]
[{"$f":"\"Functional Classification \"&desc","v":"Functional Classification Description"},{"$f":"head27","v":"Ref"},{"$f":"head1b","v":"2021/22"},{"$f":"head1A","v":"2022/23"},{"$f":"Head1","v":"2023/24"},{"$f":"Head2","v":"Current Year 2024/25"},null,null,{"$f":"Head3","v":"2025/26 Medium Term Revenue & Expenditure Framework"}]
["R thousand",1,{"$f":"Head5","v":"Audited Outcome"},{"$f":"Head5","v":"Audited Outcome"},{"$f":"Head5","v":"Audited Outcome"},{"$f":"Head6","v":"Original Budget"},{"$f":"Head7","v":"Adjusted Budget"},{"$f":"Head8","v":"Full Year Forecast"},{"$f":"Head9","v":"Budget Year 2025/26"},{"$f":"Head10","v":"Budget Year +1 2026/27"},{"$f":"Head11","v":"Budget Year +2 2027/28"}]
["Revenue - Functional"]
["Governance and administration",null,{"$f":"SUM(C6:C8)","v":1695855981.2699997},{"$f":"SUM(D6:D8)","v":1955757201.9599998},2042707568.3699999,2688150807,2687712716.3599997,2687712716.3599997,2802816797,2939443643,3036382010]
["Executive and council",null,{"$f":"A2A!C6","v":3530376.55},{"$f":"A2A!D6","v":5213268.17},{"$f":"A2A!E6","v":4700996.67},{"$f":"A2A!F6","v":0},{"$f":"A2A!G6","v":0},{"$f":"A2A!H6","v":0},{"$f":"A2A!I6","v":0},{"$f":"A2A!J6","v":0},{"$f":"A2A!K6","v":0}]
["Finance and administration",null,{"$f":"A2A!C9","v":1692323109.7599998},{"$f":"A2A!D9","v":1950543933.7899997},{"$f":"A2A!E9","v":2038006571.6999998},{"$f":"A2A!F9","v":2688150807},{"$f":"A2A!G9","v":2687712716.3599997},{"$f":"A2A!H9","v":2687712716.3599997},{"$f":"A2A!I9","v":2802816797},{"$f":"A2A!J9","v":2939443643},{"$f":"A2A!K9","v":3036382010}]
["Internal audit",null,{"$f":"A2A!C23","v":2494.96},{"$f":"A2A!D23","v":0},{"$f":"A2A!E23","v":0},{"$f":"A2A!F23","v":0},{"$f":"A2A!G23","v":0},{"$f":"A2A!H23","v":0},{"$f":"A2A!I23","v":0},{"$f":"A2A!J23","v":0},{"$f":"A2A!K23","v":0}]
["Community and public safety",null,{"$f":"SUM(C10:C14)","v":134306482.69999999},{"$f":"SUM(D10:D14)","v":142629089.91999999},225251514.06,525429105.09790003,322789363.41479999,322789363.41479999,63190181.125949994,62952706.60012155,66181196.642527506]
["Community and social services",null,{"$f":"A2A!C26","v":45792786.729999997},{"$f":"A2A!D26","v":61498683.100000009},{"$f":"A2A!E26","v":63388777.859999999},{"$f":"A2A!F26","v":307323184},{"$f":"A2A!G26","v":106950510.31999999},{"$f":"A2A!H26","v":106950510.31999999},{"$f":"A2A!I26","v":25184769},{"$f":"A2A!J26","v":22969656},{"$f":"A2A!K26","v":24116792}]
["Sport and recreation",null,{"$f":"A2A!C48","v":344638.91000000003},{"$f":"A2A!D48","v":588753.10000000009},{"$f":"A2A!E48","v":4912299.59},{"$f":"A2A!F48","v":23526793.184799999},{"$f":"A2A!G48","v":30479353.184799999},{"$f":"A2A!H48","v":30479353.184799999},{"$f":"A2A!I48","v":1223878},{"$f":"A2A!J48","v":1283846},{"$f":"A2A!K48","v":1346755}]
["Public safety",null,{"$f":"A2A!C54","v":18186248.149999999},{"$f":"A2A!D54","v":24640408.620000001},{"$f":"A2A!E54","v":25017311.619999997},{"$f":"A2A!F54","v":9172795.9131000005},{"$f":"A2A!G54","v":9172795.9099999983},{"$f":"A2A!H54","v":9172795.9099999983},{"$f":"A2A!I54","v":16851132.125949997},{"$f":"A2A!J54","v":17676837.60012155},{"$f":"A2A!K54","v":18543002.642527502}]
["Housing",null,{"$f":"A2A!C63","v":69982808.910000011},{"$f":"A2A!D63","v":55901245.099999987},{"$f":"A2A!E63","v":131933124.98999999},{"$f":"A2A!F63","v":185406332},{"$f":"A2A!G63","v":176186704},{"$f":"A2A!H63","v":176186704},{"$f":"A2A!I63","v":19930402},{"$f":"A2A!J63","v":21022367},{"$f":"A2A!K63","v":22174647}]
["Health",null,{"$f":"A2A!C66","v":0},{"$f":"A2A!D66","v":0},{"$f":"A2A!E66","v":0},{"$f":"A2A!F66","v":0},{"$f":"A2A!G66","v":0},{"$f":"A2A!H66","v":0},{"$f":"A2A!I66","v":0},{"$f":"A2A!J66","v":0},{"$f":"A2A!K66","v":0}]
["Economic and environmental services",null,{"$f":"SUM(C16:C18)","v":207365686.9199999},{"$f":"SUM(D16:D18)","v":200051132.51000002},167411962.67000002,86691641.992061004,150008156.29000005,150008156.29000005,146237256.8211,200032881.3573339,214617493.95784327]
["Planning and development",null,{"$f":"A2A!C75","v":55781154.039999887},{"$f":"A2A!D75","v":152414516.51000002},{"$f":"A2A!E75","v":118230028.02000001},{"$f":"A2A!F75","v":31697207.130600002},{"$f":"A2A!G75","v":44120968.219999999},{"$f":"A2A!H75","v":44120968.219999999},{"$f":"A2A!I75","v":40664552},{"$f":"A2A!J75","v":44187114},{"$f":"A2A!K75","v":51735284}]
["Road transport",null,{"$f":"A2A!C86","v":151376861.56999999},{"$f":"A2A!D86","v":47241673.420000002},{"$f":"A2A!E86","v":48423465.640000001},{"$f":"A2A!F86","v":50000000},{"$f":"A2A!G86","v":100892753.21000004},{"$f":"A2A!H86","v":100892753.21000004},{"$f":"A2A!I86","v":100000000},{"$f":"A2A!J86","v":150000000},{"$f":"A2A!K86","v":156750000}]
["Environmental protection",null,{"$f":"A2A!C91","v":207671.31},{"$f":"A2A!D91","v":394942.58},{"$f":"A2A!E91","v":758469.01},{"$f":"A2A!F91","v":4994434.8614610005},{"$f":"A2A!G91","v":4994434.8600000003},{"$f":"A2A!H91","v":4994434.8600000003},{"$f":"A2A!I91","v":5572704.8211000003},{"$f":"A2A!J91","v":5845767.3573339004},{"$f":"A2A!K91","v":6132209.9578432608}]
["Trading services",null,{"$f":"SUM(C20:C23)","v":4158681262.6300006},{"$f":"SUM(D20:D23)","v":4410211201.3800001},4506844064.9500017,5997733917.7097998,6174882023.5278997,6174882023.5278997,6840723284,{"$f":"SUM(J20:J23)","v":7186014276},7538212303]
["Energy sources",null,{"$f":"A2A!C99","v":2569652753.8200002},{"$f":"A2A!D99","v":2724539631},{"$f":"A2A!E99","v":2671690063.2500019},{"$f":"A2A!F99","v":4347604455},{"$f":"A2A!G99","v":4286092467},{"$f":"A2A!H99","v":4286092467},{"$f":"A2A!I99","v":4740505817},{"$f":"A2A!J99","v":4982860597},{"$f":"A2A!K99","v":5226798336}]
["Water management",null,{"$f":"A2A!C103","v":1156790470.3700004},{"$f":"A2A!D103","v":1249069243.4500003},{"$f":"A2A!E103","v":1308377342.8400002},{"$f":"A2A!F103","v":1219122117.8330002},{"$f":"A2A!G103","v":1282859279.95},{"$f":"A2A!H103","v":1282859279.95},{"$f":"A2A!I103","v":1365915970},{"$f":"A2A!J103","v":1435395855},{"$f":"A2A!K103","v":1507035251}]
["Waste water management",null,{"$f":"A2A!C107","v":281762407.31999999},{"$f":"A2A!D107","v":286349072.06000006},{"$f":"A2A!E107","v":332249572.96000004},{"$f":"A2A!F107","v":262027256.29890001},{"$f":"A2A!G107","v":436950188},{"$f":"A2A!H107","v":436950188},{"$f":"A2A!I107","v":552950003},{"$f":"A2A!J107","v":577520106},{"$f":"A2A!K107","v":604819351}]
["Waste management",null,{"$f":"A2A!C112","v":150475631.12},{"$f":"A2A!D112","v":150253254.87},{"$f":"A2A!E112","v":194527085.90000004},{"$f":"A2A!F112","v":168980088.57790002},{"$f":"A2A!G112","v":168980088.57790002},{"$f":"A2A!H112","v":168980088.57790002},{"$f":"A2A!I112","v":181351494},{"$f":"A2A!J112","v":190237718},{"$f":"A2A!K112","v":199559365}]
["Other",4,{"$f":"A2A!C117","v":26227823.480000004},{"$f":"A2A!D117","v":39273819.169999994},{"$f":"A2A!E117","v":52356604.629998356},{"$f":"A2A!F117","v":122872643.24219},{"$f":"A2A!G117","v":123791924.02869},{"$f":"A2A!H117","v":123791924.02869},{"$f":"A2A!I117","v":56039037},{"$f":"A2A!J117","v":58784948},{"$f":"A2A!K117","v":61665412}]
[{"$f":"\"Total \"&A4","v":"Total Revenue - Functional"},2,{"$f":"C5+C9+C15+C19+C24","v":6222437237},{"$f":"D5+D9+D15+D19+D24","v":6747922444.9400005},{"$f":"E5+E9+E15+E19+E24","v":6994571714.6799994},9420878115.0419502,9459184183.6213894,9459184183.6213894,{"$f":"I5+I9+I15+I19+I24","v":9909006555.9470501},10447228454.957455,10917058415.60037]
[]
["Expenditure - Functional"]
["Governance and administration",null,{"$f":"SUM(C29:C31)","v":1191049486.5700023},{"$f":"SUM(D29:D31)","v":1085322316.7400002},1394784170.27,1659708472,2374518946.98,2374518946.98,2319911464,2479162719,2616799642]
["Executive and council",null,{"$f":"A2A!C128","v":117808679.09},{"$f":"A2A!D128","v":115687006.42999995},{"$f":"A2A!E128","v":154335868.43999997},{"$f":"A2A!F128","v":165980670},{"$f":"A2A!G128","v":825524780.8499999},{"$f":"A2A!H128","v":825524780.8499999},{"$f":"A2A!I128","v":871977053},{"$f":"A2A!J128","v":1003249896},{"$f":"A2A!K128","v":1058341513}]
["Finance and administration",null,{"$f":"A2A!C131","v":1053698122.1100024},{"$f":"A2A!D131","v":950234661.94000018},{"$f":"A2A!E131","v":1215285472.9099998},{"$f":"A2A!F131","v":1465568308},{"$f":"A2A!G131","v":1534968086},{"$f":"A2A!H131","v":1534968086},{"$f":"A2A!I131","v":1415040224},{"$f":"A2A!J131","v":1440489734},{"$f":"A2A!K131","v":1520303283}]
["Internal audit",null,{"$f":"A2A!C145","v":19542685.369999997},{"$f":"A2A!D145","v":19400648.370000005},{"$f":"A2A!E145","v":25162828.919999998},{"$f":"A2A!F145","v":28159494},{"$f":"A2A!G145","v":14026080.130000001},{"$f":"A2A!H145","v":14026080.130000001},{"$f":"A2A!I145","v":32894187},{"$f":"A2A!J145","v":35423089},{"$f":"A2A!K145","v":38154846}]
["Community and public safety",null,{"$f":"SUM(C33:C37)","v":551440158.55999994},{"$f":"SUM(D33:D37)","v":624011514.17999995},639572810.11000025,706899390.84520006,552040529.96999991,552040529.96999991,547652752,572186292,594666910]
["Community and social services",null,{"$f":"A2A!C148","v":141393704.71999994},{"$f":"A2A!D148","v":147223223.92999995},{"$f":"A2A!E148","v":154233095.89000005},{"$f":"A2A!F148","v":250699021.00000003},{"$f":"A2A!G148","v":143956207},{"$f":"A2A!H148","v":143956207},{"$f":"A2A!I148","v":132143884},{"$f":"A2A!J148","v":137089636},{"$f":"A2A!K148","v":140344067}]
["Sport and recreation",null,{"$f":"A2A!C170","v":115888281.38},{"$f":"A2A!D170","v":140506827.45000005},{"$f":"A2A!E170","v":152619425.37000003},{"$f":"A2A!F170","v":121147022.48260009},{"$f":"A2A!G170","v":111821486.78999999},{"$f":"A2A!H170","v":111821486.78999999},{"$f":"A2A!I170","v":116559444},{"$f":"A2A!J170","v":121528808},{"$f":"A2A!K170","v":125809640}]
["Public safety",null,{"$f":"A2A!C176","v":216193878.25},{"$f":"A2A!D176","v":232287900.66999999},{"$f":"A2A!E176","v":221231115.28000003},{"$f":"A2A!F176","v":244183097.36260003},{"$f":"A2A!G176","v":184250052.64999998},{"$f":"A2A!H176","v":184250052.64999998},{"$f":"A2A!I176","v":197871699},{"$f":"A2A!J176","v":207397353},{"$f":"A2A!K176","v":217176069}]
["Housing",null,{"$f":"A2A!C185","v":68394082.769999996},{"$f":"A2A!D185","v":94434776.87999998},{"$f":"A2A!E185","v":101530999.99000004},{"$f":"A2A!F185","v":81136670.538800001},{"$f":"A2A!G185","v":103330098.47},{"$f":"A2A!H185","v":103330098.47},{"$f":"A2A!I185","v":91953449},{"$f":"A2A!J185","v":96599636},{"$f":"A2A!K185","v":101298102}]
["Health",null,{"$f":"A2A!C188","v":9570211.4399999995},{"$f":"A2A!D188","v":9558785.25},{"$f":"A2A!E188","v":9958173.5799999963},{"$f":"A2A!F188","v":9733579.4611999989},{"$f":"A2A!G188","v":8682685.0599999968},{"$f":"A2A!H188","v":8682685.0599999968},{"$f":"A2A!I188","v":9124276},{"$f":"A2A!J188","v":9570859},{"$f":"A2A!K188","v":10039032}]
["Economic and environmental services",null,{"$f":"SUM(C39:C41)","v":393095328.99000007},{"$f":"SUM(D39:D41)","v":378225313.45000005},478064864.37000006,640338797,546110010.38999999,546110010.38999999,456967977,509996460,502934197]
["Planning and development",null,{"$f":"A2A!C197","v":87743205.430000037},{"$f":"A2A!D197","v":93765700.129999995},{"$f":"A2A!E197","v":97777604.409999996},{"$f":"A2A!F197","v":161555852},{"$f":"A2A!G197","v":137355076.91},{"$f":"A2A!H197","v":137355076.91},{"$f":"A2A!I197","v":149407938},{"$f":"A2A!J197","v":158045112},{"$f":"A2A!K197","v":165764065}]
["Road transport",null,{"$f":"A2A!C208","v":282415490.86000001},{"$f":"A2A!D208","v":259798778.12000006},{"$f":"A2A!E208","v":354436930.93000001},{"$f":"A2A!F208","v":449621964.00000006},{"$f":"A2A!G208","v":376934820.32000005},{"$f":"A2A!H208","v":376934820.32000005},{"$f":"A2A!I208","v":273692674},{"$f":"A2A!J208","v":316399082},{"$f":"A2A!K208","v":299867230}]
["Environmental protection",null,{"$f":"A2A!C213","v":22936632.700000003},{"$f":"A2A!D213","v":24660835.199999999},{"$f":"A2A!E213","v":25850329.030000009},{"$f":"A2A!F213","v":29160981},{"$f":"A2A!G213","v":31820113.16},{"$f":"A2A!H213","v":31820113.16},{"$f":"A2A!I213","v":33867365},{"$f":"A2A!J213","v":35552266},{"$f":"A2A!K213","v":37302902}]
["Trading services",null,{"$f":"SUM(C43:C46)","v":4733193786.6699972},{"$f":"SUM(D43:D46)","v":4061495012.9100037},5346286592.1199961,{"$f":"SUM(F43:F46)","v":5278293781},4640259964.6600008,4640259964.6600008,5177106066,5446369788,{"$f":"SUM(K43:K46)","v":5704756154}]
["Energy sources",null,{"$f":"A2A!C221","v":2982827962.3400002},{"$f":"A2A!D221","v":2621122229.710001},{"$f":"A2A!E221","v":3298296328.3399968},{"$f":"A2A!F221","v":3749118944},{"$f":"A2A!G221","v":3285426011.6600008},{"$f":"A2A!H221","v":3285426011.6600008},{"$f":"A2A!I221","v":3529418945},{"$f":"A2A!J221","v":3702057408},{"$f":"A2A!K221","v":3883155159}]
["Water management",null,{"$f":"A2A!C225","v":1280896308.8899977},{"$f":"A2A!D225","v":952915577.47000265},{"$f":"A2A!E225","v":1422632105.9999995},{"$f":"A2A!F225","v":1010944858},{"$f":"A2A!G225","v":895759416},{"$f":"A2A!H225","v":895759416},{"$f":"A2A!I225","v":1107383494},{"$f":"A2A!J225","v":1165499615},{"$f":"A2A!K225","v":1211258659}]
["Waste water management",null,{"$f":"A2A!C229","v":325212343.78999996},{"$f":"A2A!D229","v":348153877.7700001},{"$f":"A2A!E229","v":434826346.09000009},{"$f":"A2A!F229","v":369521337},{"$f":"A2A!G229","v":341345006},{"$f":"A2A!H229","v":341345006},{"$f":"A2A!I229","v":414857077},{"$f":"A2A!J229","v":447530898},{"$f":"A2A!K229","v":473184421}]
["Waste management",null,{"$f":"A2A!C234","v":144257171.65000004},{"$f":"A2A!D234","v":139303327.95999998},{"$f":"A2A!E234","v":190531811.68999991},{"$f":"A2A!F234","v":148708642},{"$f":"A2A!G234","v":117729531},{"$f":"A2A!H234","v":117729531},{"$f":"A2A!I234","v":125446550},{"$f":"A2A!J234","v":131281867},{"$f":"A2A!K234","v":137157915}]
["Other",4,{"$f":"A2A!C239","v":80640656.209999993},{"$f":"A2A!D239","v":73187988.519995749},{"$f":"A2A!E239","v":77736928.610003591},{"$f":"A2A!F239","v":95029438},{"$f":"A2A!G239","v":62534312},{"$f":"A2A!H239","v":62534312},{"$f":"A2A!I239","v":60158277},{"$f":"A2A!J239","v":62841260},{"$f":"A2A!K239","v":64524825}]
[{"$f":"\"Total \"&A27","v":"Total Expenditure - Functional"},3,{"$f":"C28+C32+C38+C42+C47","v":6949419416.999999},{"$f":"D28+D32+D38+D42+D47","v":6222242145.7999992},{"$f":"E28+E32+E38+E42+E47","v":7936445365.4799995},{"$f":"F28+F32+F38+F42+F47","v":8380269878.8451996},8175463764,8175463764,8561796536,9070556519,9483681728]
[{"$f":"result","v":"Surplus/(Deficit) for the year"},null,{"$f":"C25-C48","v":-726982179.99999905},{"$f":"D25-D48","v":525680299.1400013},-941873650.80000019,1040608236.1967506,1283720419.6213894,1283720419.6213894,1347210019.9470501,1376671935.9574547,1433376687.6003704]
[{"$f":"head27a","v":"References"}]
["1. Government Finance Statistics Functions and Sub-functions are standardised to assist the compilation of national and international accounts for comparison purposes"]
["2. Total Revenue by functional classification must reconcile to Total Operating Revenue shown in Budgeted Financial Performance (revenue and expenditure)"]
["3. Total Expenditure by Functional Classification must reconcile to Total Operating Expenditure shown in Budgeted Financial Performance (revenue and expenditure)"]
["4. All amounts must be classified under a functional classification . The GFS function 'Other' is only for Abbatoirs, Air Transport,  Forestry, Licensing and Regulation, Markets and Tourism - and if used must be supported by footnotes. Nothing else may be placed under 'Other'. Assign associate share to relevant classification."]

{"sheet":"A2A","index":8,"n_rows":252,"n_cols":11,"rows_kept":252,"cut":false,"hidden":false,"merged":[[1,5,1,7],[1,8,1,10],[251,0,251,10]]}
[{"$f":"muni&\" - \"&Approve3","v":"Choose name from list - Table A2 Budgeted Financial Performance (revenue and expenditure by functional classification)"}]
[{"$f":"\"Functional Classification \"&desc","v":"Functional Classification Description"},{"$f":"head27","v":"Ref"},{"$f":"head1b","v":"2021/22"},{"$f":"head1A","v":"2022/23"},{"$f":"Head1","v":"2023/24"},{"$f":"Head2","v":"Current Year 2024/25"},null,null,{"$f":"Head3","v":"2025/26 Medium Term Revenue & Expenditure Framework"}]
["R thousand",1,{"$f":"Head5","v":"Audited Outcome"},{"$f":"Head5","v":"Audited Outcome"},{"$f":"Head5","v":"Audited Outcome"},{"$f":"Head6","v":"Original Budget"},{"$f":"Head7","v":"Adjusted Budget"},{"$f":"Head8","v":"Full Year Forecast"},{"$f":"Head9","v":"Budget Year 2025/26"},{"$f":"Head10","v":"Budget Year +1 2026/27"},{"$f":"Head11","v":"Budget Year +2 2027/28"}]
["Revenue - Functional"]
["Municipal governance and administration",null,{"$f":"C6+C9+C23","v":1695855981.2699997},{"$f":"D6+D9+D23","v":1955757201.9599998},2042707568.3699999,2688150807,2687712716.3599997,2687712716.3599997,2802816797,2939443643,3036382010]
["Executive and council",null,{"$f":"SUM(C7:C8)","v":3530376.55},{"$f":"SUM(D7:D8)","v":5213268.17},4700996.67,0,0,0,0,0,0]
["Mayor and Council",null,0,-14822.46]
["Municipal Manager, Town Secretary and Chief Executive",null,3530376.55,5228090.63,4700996.67]
["Finance and administration",null,{"$f":"SUM(C10:C22)","v":1692323109.7599998},{"$f":"SUM(D10:D22)","v":1950543933.7899997},2038006571.6999998,2688150807,2687712716.3599997,2687712716.3599997,2802816797,2939443643,3036382010]
["Administrative and Corporate Support",null,6500.21,-201.25,0,0,0,0,0,0,0]
["Asset Management",null,6070848.9699999997,3029221.11,28685.93,null,14153773.66,14153773.66,4626598,4853302,5091114]
["Finance",null,1663295423.7499998,1928898482.23,2004771658.9799998,2633346699.3700004,896634017,896634017,950128444,1003208449,1048871485]
["Fleet Management",null,0,0,0,0,0,0]
["Human Resources",null,7456070.5399999991,8836069.3000000007,9435294.7799999975,12101098.949999999,11513008.91,11513008.91,9744480,9873729,9936699]
["Information Technology",null,17396.22,-34.149999999994634,417.36,null,2608.41,2608.41]
["Legal Services",null,1711.96,47.550000000000068,428337.14,null,332656.55,332656.55,1906229,1999634,2097616]
["Marketing, Customer Relations, Publicity and Media Co-ordination",null,0,0,0,0,0,0]
["Property Services",null,15365369.849999998,9623664.6699999999,23300467.269999996,42351757.850000001,1764725401,1764725401,1836075147,1919156172,1970015473]
["Risk Management",null,0,0,0,0,0,0]
["Security Services",null,4291.1899999999996,0,0,0,0,0]
["Supply Chain Management ",null,105497.06999999951,156684.32999999999,41710.239999999998,351250.83,351250.83,351250.83,335899,352357,369623]
["Valuation Service",null,0,0,0,0,0,0,0,0,0]
["Internal audit",null,{"$f":"SUM(C24:C24)","v":2494.96},{"$f":"SUM(D24:D24)","v":0},0,0,0,0,0,0,0]
["Governance Function",null,2494.96]
["Community and public safety",null,{"$f":"C26+C48+C54+C63+C66","v":134306482.69999999},{"$f":"D26+D48+D54+D63+D66","v":142629089.91999999},225251514.06,525429105.09790003,322789363.41479999,322789363.41479999,63190181.125949994,62952706.60012155,66181196.642527506]
["Community and social services",null,{"$f":"SUM(C27:C47)","v":45792786.729999997},{"$f":"SUM(D27:D47)","v":61498683.100000009},63388777.859999999,307323184,106950510.31999999,106950510.31999999,25184769,22969656,24116792]
["Aged Care",null,0,0,0,null,0,0,0,0,0]
["Agricultural",null,0,0,0,null,0,0,0,0,0]
["Animal Care and Diseases",null,0,0,0,null,0,0,0,0,0]
["Cemeteries, Funeral Parlours and Crematoriums",null,8279696.419999999,11624350.66,25298089.009999998,null,26986486.32,26986486.32,5457889,5725326,6005868]
["Child Care Facilities",null,0,0,0,null,0,0]
["Community Halls and Facilities",null,14033547.309999997,33263673.610000007,16336046.610000001,307323184,63410024,63410024,4741394,2221146,2329984]
["Consumer Protection",null,0,0,0,null,0,0]
["Cultural Matters",null,0,0,0,null,0,0]
["Disaster Management",null,0,0,0,null,0,0]
["Education",null,0,0,0,null,0,0]
["Indigenous and Customary Law",null,0,0,0,null,0,0]
["Industrial Promotion",null,0,0,0,null,0,0]
["Language Policy",null,0,0,0,null,0,0]
["Libraries and Archives",null,22907275.890000001,16171964.220000001,21379515.780000001,null,15958000,15958000,14362486,14362804,15080937]
["Literacy Programmes",null,0,0,0,null,0,0]
["Media Services",null,0,0,0,null,0,0]
["Museums and Art Galleries",null,572267.1100000001,438694.61,375126.46,null,596000,596000,623000,660380,700003]
["Population Development",null,0,0,0,null,0,0]
["Provincial Cultural Matters",null,0,0,0,null,0,0,0,0,0]
["Theatres",null,0,0,0,null,0,0,0,0,0]
["Zoo's",null,0,0,0,null,0,0,0,0,0]
["Sport and recreation",null,{"$f":"SUM(C49:C53)","v":344638.91000000003},{"$f":"SUM(D49:D53)","v":588753.10000000009},4912299.59,23526793.184799999,30479353.184799999,30479353.184799999,1223878,1283846,1346755]
["Beaches and Jetties ",null,0,0,0,null,0,0,0,0]
["Casinos, Racing, Gambling, Wagering",null,0,0,0,null,0,0,0,0]
["Community Parks (including Nurseries)",null,0,0,0,null,0,0,0,0]
["Recreational Facilities",null,344638.91000000003,588753.10000000009,581092.92999999993,23526793.184799999,23526793.184799999,23526793.184799999,1223878,1283846,1346755]
["Sports Grounds and Stadiums",null,0,0,4331206.66,null,6952560,6952560,0,0]
["Public safety",null,{"$f":"SUM(C55:C62)","v":18186248.149999999},{"$f":"SUM(D55:D62)","v":24640408.620000001},25017311.619999997,9172795.9131000005,9172795.9099999983,9172795.9099999983,16851132.125949997,17676837.60012155,18543002.642527502]
["Civil Defence",null,0,-19.139999999999873,0,0,null,null,0,0]
["Cleansing",null,0,0,0,0,null,null,0,0]
["Control of Public Nuisances",null,0,0,0,0,null,null,0,0]
["Fencing and Fences ",null,0,0,0,0,null,null,0,0]
["Fire Fighting and Protection",null,904902.65,370743.01,1765193.9300000002,424885.10159999999,424885.1,424885.1,2087793.1278000001,2190094.9910622002,2297409.6456242478]
["Licensing and Control of Animals",null,0,0,0,0,0,0,0,0,0]
["Police Forces, Traffic and Street Parking Control",null,17281345.5,24269684.75,23252117.689999998,8747910.8114999998,8747910.8099999987,8747910.8099999987,14763338.998149998,15486742.609059349,16245592.996903256]
["Pounds",null,0,0,0,0,0,0,0,0,0]
["Housing",null,{"$f":"SUM(C64:C65)","v":69982808.910000011},{"$f":"SUM(D64:D65)","v":55901245.099999987},131933124.98999999,185406332,176186704,176186704,19930402,21022367,22174647]
["Housing",null,69982808.910000011,55901245.099999987,131933124.98999999,185406332,176186704,176186704,19930402,21022367,22174647]
["Informal Settlements",null,0,0,0]
["Health",null,{"$f":"SUM(C67:C73)","v":0},{"$f":"SUM(D67:D73)","v":0},0,0,0,0,0,0,0]
["Ambulance"]
["Health Services"]
["Laboratory Services"]
["Food Control"]
["Health Surveillance and Prevention of Communicable Diseases including immunizations"]
["Vector Control"]
["Chemical Safety"]
["Economic and environmental services",null,{"$f":"C75+C86+C91","v":207365686.9199999},{"$f":"D75+D86+D91","v":200051132.51000002},167411962.67000002,86691641.992061004,150008156.29000005,150008156.29000005,146237256.8211,200032881.3573339,214617493.95784327]
["Planning and development",null,{"$f":"SUM(C76:C85)","v":55781154.039999887},{"$f":"SUM(D76:D85)","v":152414516.51000002},118230028.02000001,31697207.130600002,44120968.219999999,44120968.219999999,40664552,44187114,51735284]
["Billboards",null,0,0,null,0,null,null,0,0]
["Corporate Wide Strategic Planning (IDPs, LEDs)",null,739.71,-2.9999999999999361E-2,null,0,null,null,0,0]
["Central City Improvement District",null,0,0,null,0,null,null,0,0]
["Development Facilitation",null,0,0,null,0,null,null,0,0]
["Economic Development/Planning",null,46481241.649999887,35053266.509999998,18902493.210000001,1000000,21062396.219999999,21062396.219999999,30000000,33000000,40000000]
["Regional Planning and Development",null,0,0,0,0,0,0]
["Town Planning, Building Regulations and Enforcement, and City Engineer",null,9299172.6800000016,117361250.03000002,99327534.810000002,30697207.130600002,23058572,23058572,10664552,11187114,11735284]
["Project Management Unit",null,0,0,null,0,null,null,0,0]
["Provincial Planning",null,0,0,null,0,null,null,0,0]
["Support to Local Municipalities",null,0,0,null,0,null,null,0,0]
["Road transport",null,{"$f":"SUM(C87:C90)","v":151376861.56999999},{"$f":"SUM(D87:D90)","v":47241673.420000002},48423465.640000001,50000000,100892753.21000004,100892753.21000004,100000000,150000000,156750000]
["Public Transport",null,64161510.690000005,-26.27,0,50000000,100892753.21000004,100892753.21000004,0,0]
["Road and Traffic Regulation",null,0,0,0,0,null,null,0,0]
["Roads",null,87215350.879999995,47241699.690000005,48423465.640000001,0,null,null,100000000,150000000,156750000]
["Taxi Ranks",null,0,0,0,0,null,null,0,0]
["Environmental protection",null,{"$f":"SUM(C92:C97)","v":207671.31},{"$f":"SUM(D92:D97)","v":394942.58},758469.01,4994434.8614610005,4994434.8600000003,4994434.8600000003,5572704.8211000003,5845767.3573339004,6132209.9578432608]
["Biodiversity and Landscape",null,0,0,0,null,null,null,0,0]
["Coastal Protection",null,0,0,0,null,null,null,0,0]
["Indigenous Forests",null,0,0,0,null,null,null,0,0]
["Nature Conservation",null,0,0,0,null,null,null,0,0]
["Pollution Control",null,207671.31,394942.58,758469.01,4994434.8614610005,4994434.8600000003,4994434.8600000003,5572704.8211000003,5845767.3573339004,6132209.9578432608]
["Soil Conservation",null,0,0,0,null,null,null,0,0]
["Trading services",null,{"$f":"C99+C103+C107+C112","v":4158681262.6300006},{"$f":"D99+D103+D107+D112","v":4410211201.3800001},4506844064.9500017,5997733917.7097998,6174882023.5278997,6174882023.5278997,6840723284,7186014276,{"$f":"K99+K103+K107+K112","v":7538212303}]
["Energy sources",null,{"$f":"SUM(C100:C102)","v":2569652753.8200002},{"$f":"SUM(D100:D102)","v":2724539631},2671690063.2500019,4347604455,4286092467,4286092467,4740505817,4982860597,5226798336]
["Electricity ",null,2569652753.8200002,2724539631,2671690063.2500019,4347604455,4286092467,4286092467,4740505817,4982860597,5226798336]
["Street Lighting and Signal Systems",null,0,0,0,null,null,null,0,0]
["Nonelectric Energy",null,0,0,0,null,null,null,0,0]
["Water management",null,{"$f":"SUM(C104:C106)","v":1156790470.3700004},{"$f":"SUM(D104:D106)","v":1249069243.4500003},1308377342.8400002,1219122117.8330002,1282859279.95,1282859279.95,1365915970,1435395855,1507035251]
["Water Treatment",null,0,0,0,null,null,null,0,0]
["Water Distribution",null,1156790470.3700004,1249069243.4500003,1308377342.8400002,1219122117.8330002,1282859279.95,1282859279.95,1365915970,1435395855,1507035251]
["Water Storage",null,0,0,0,null,null,null,0,0]
["Waste water management",null,{"$f":"SUM(C108:C111)","v":281762407.31999999},{"$f":"SUM(D108:D111)","v":286349072.06000006},332249572.96000004,262027256.29890001,436950188,436950188,552950003,577520106,604819351]
["Public Toilets",null,0,0,0,null,null,null,0,0]
["Sewerage",null,281762407.31999999,286349072.06000006,332249572.96000004,262027256.29890001,436950188,436950188,552950003,577520106,604819351]
["Storm Water Management",null,0,0,0,null,null,null,0,0]
["Waste Water Treatment",null,0,0,0,null,null,null,0,0]
["Waste management",null,{"$f":"SUM(C113:C116)","v":150475631.12},{"$f":"SUM(D113:D116)","v":150253254.87},194527085.90000004,168980088.57790002,168980088.57790002,168980088.57790002,181351494,190237718,199559365]
["Recycling",null,0,0,0,null,null,null,0,0]
["Solid Waste Disposal (Landfill Sites)",null,37451184.189999998,23607418.98,56945113.390000001,null,null,null,0,0]
["Solid Waste Removal",null,113024446.93000001,126645835.89,137581972.51000002,168980088.57790002,168980088.57790002,168980088.57790002,181351494,190237718,199559365]
["Street Cleaning",null,0,0,0,null,null,null,0,0]
["Other",null,{"$f":"SUM(C118:C123)","v":26227823.480000004},{"$f":"SUM(D118:D123)","v":39273819.169999994},52356604.629998356,122872643.24219,123791924.02869,123791924.02869,56039037,58784948,61665412]
["Abattoirs",null,8595764.2000000011,0,0,null,null,null,0,0,0]
["Air Transport",null,0,14916638.060000001,16241393.36999836,46806432.433499999,47725713.219999999,47725713.219999999,24431489,25628631,26884435]
["Forestry ",null,189936.33,0,11198051,10143141.02,10143141.02,10143141.02]
["Licensing and Regulation",null,17431810.100000001,394531.83999999997,1068070.77,2280701.4950400004,2280701.4950400004,2280701.4950400004,1031714,1082267,1135299]
["Markets",null,10312.85,23962669.469999995,23849089.490000002,63642368.293650001,63642368.293650001,63642368.293650001,30575834,32074050,33645678]
["Tourism",null,null,-20.2,0,0,null,null,0,0,0]
[{"$f":"\"Total \"&A4","v":"Total Revenue - Functional"},2,{"$f":"C5+C25+C74+C98+C117","v":6222437237},{"$f":"D5+D25+D74+D98+D117","v":6747922444.9400005},6994571714.6799994,9420878115.0419502,9459184183.6213894,9459184183.6213894,9909006555.9470501,10447228454.957455,10917058415.60037]
[]
["Expenditure - Functional"]
[{"$f":"A5","v":"Municipal governance and administration"},null,{"$f":"C128+C131+C145","v":1191049486.5700023},{"$f":"D128+D131+D145","v":1085322316.7400002},1394784170.27,1659708472,2374518946.98,2374518946.98,2319911464,2479162719,2616799642]
["Executive and council",null,{"$f":"SUM(C129:C130)","v":117808679.09},{"$f":"SUM(D129:D130)","v":115687006.42999995},154335868.43999997,165980670,825524780.8499999,825524780.8499999,871977053,1003249896,1058341513]
["Mayor and Council",null,87358886.800000012,82943964.139999956,107155562.91999997,116197489.41659996,91477112.849999964,91477112.849999964,103028459,108292560,113662903]
["Municipal Manager, Town Secretary and Chief Executive",null,30449792.289999988,32743042.289999995,47180305.519999988,49783180.583400041,734047668,734047668,768948594,894957336,944678610]
["Finance and administration",null,{"$f":"SUM(C132:C144)","v":1053698122.1100024},{"$f":"SUM(D132:D144)","v":950234661.94000018},1215285472.9099998,1465568308,1534968086,1534968086,1415040224,1440489734,1520303283]
["Administrative and Corporate Support",null,50791457.849999987,59317183.600000046,66222510.830000013,72746147.213999972,75939698,75939698,83397084,84310458,91034233]
["Asset Management",null,70971653.479999989,67830877.980000004,69010901.159999996,87624872.563600004,75886548,75886548,81731764,83840614,84643860]
["Finance",null,478867966.32000244,327425602.35000014,537091546.91999984,824792219.12859988,967958015,967958015,771574196,790825415,827804863]
["Fleet Management",null,0,0,0,0,0,0]
["Human Resources",null,77305139.460000023,65352584.769999951,109903385.83999997,108309536.82660007,92353644,92353644,106136406,106641948,112735086]
["Information Technology",null,32643990.520000007,51866475.219999991,51376169.990000002,52316392.699200004,58659238,58659238,66740994,56095333,75057756]
["Legal Services",null,10503949.749999998,14853751.829999998,17490759.580000006,19907466.710200001,16788824,16788824,16867430,19467717,20146680]
["Marketing, Customer Relations, Publicity and Media Co-ordination",null,17212369.130000003,18142129.609999992,15076788.119999999,24326241.847400002,1147685,1147685,1294566,1355992,1419817]
["Property Services",null,68297316.799999997,61966598.050000004,73541433.939999998,57624600.296400003,42792249,42792249,46870095,46737011,45047561]
["Risk Management",null,0,0,0,0,0,0]
["Security Services",null,172034542.93000001,187688924.80999997,170590722.51999998,119509375.18699999,112199673,112199673,137719597,144342167,151214210]
["Supply Chain Management ",null,75069735.86999999,95790533.719999984,104981254.00999998,98411455.526999995,91242512,91242512,102708092,106873079,111199217]
["Valuation Service",null,null,0,0,0,0,0,null,null,0]
["Internal audit",null,{"$f":"SUM(C146:C146)","v":19542685.369999997},{"$f":"SUM(D146:D146)","v":19400648.370000005},25162828.919999998,28159494,14026080.130000001,14026080.130000001,32894187,35423089,38154846]
["Governance Function",null,19542685.369999997,19400648.370000005,25162828.919999998,28159494,14026080.130000001,14026080.130000001,32894187,35423089,38154846]
["Community and public safety",null,{"$f":"C148+C170+C176+C185+C188","v":551440158.55999994},{"$f":"D148+D170+D176+D185+D188","v":624011514.17999995},639572810.11000025,706899390.84520006,552040529.96999991,552040529.96999991,547652752,572186292,594666910]
["Community and social services",null,{"$f":"SUM(C149:C169)","v":141393704.71999994},{"$f":"SUM(D149:D169)","v":147223223.92999995},154233095.89000005,250699021.00000003,143956207,143956207,132143884,137089636,140344067]
["Aged Care",null,636.73,2902.7200000000003,587.64,369799.88319999998,481,481,472,472,337]
["Agricultural",null,0,0,0,0,0,0]
["Animal Care and Diseases",null,1482653,0,0,1105000,895000,895000]
["Cemeteries, Funeral Parlours and Crematoriums",null,29019589.550000004,29156919.610000007,34687926.820000008,116355684.83603998,37409289,37409289,35684748,37355216,38941903]
["Child Care Facilities",null,0,0,0,0,0,0]
["Community Halls and Facilities",null,29720949.309999999,33451340.830000002,33478569.489999998,30571400.488199998,27063699,27063699,14283300,14486185,12704356]
["Consumer Protection",null,0,0,0,0,0,0]
["Cultural Matters",null,0,0,0,0,0,0]
["Disaster Management",null,0,0,0,0,0,0]
["Education",null,0,0,0,0,0,0]
[{"$f":"A37","v":"Indigenous and Customary Law"},null,0,0,0,0,0,0]
["Industrial Promotion",null,0,0,0,0,0,0]
["Language Policy",null,0,0,0,0,0,0]
["Libraries and Archives",null,69491675.269999936,71857741.559999973,72240734.470000014,86969348.32660003,66371617,66371617,69015262,71516966,74527028]
["Literacy Programmes",null,0,0,0,0,0,0]
["Media Services",null,0,0,0,0,0,0]
["Museums and Art Galleries",null,7662252.2699999996,8325164.8900000006,9294084.5500000007,7329991.9361599991,6273859,6273859,6808454,7148440,7480985]
["Population Development",null,4009500.75,4422169.1599999992,4524745.08,7997795.5297999997,5942262,5942262,6351648,6582357,6689458]
["Provincial Cultural Matters",null,0,0,0,0,0,0,null,null,0]
["Theatres",null,6447.84,6985.16,6447.84,0,0,0,null,null,0]
["Zoo's",null,0,0,0,0,0,0,null,null,0]
["Sport and recreation",null,{"$f":"SUM(C171:C175)","v":115888281.38},{"$f":"SUM(D171:D175)","v":140506827.45000005},152619425.37000003,121147022.48260009,111821486.78999999,111821486.78999999,116559444,121528808,125809640]
["Beaches and Jetties ",null,0,0,0,0,0,0,null,null,0]
["Casinos, Racing, Gambling, Wagering",null,0,0,0,0,0,0,null,null,0]
["Community Parks (including Nurseries)",null,56517812.86999996,54831338.680000007,50027871.410000011,48065311.453999981,45066199.089999981,45066199.089999981,47682243,49807232,51759177]
["Recreational Facilities",null,59134104.510000028,85228537.940000027,102187934.97000001,72550461.028600112,66224037.70000001,66224037.70000001,68345451,71164832,73468111]
["Sports Grounds and Stadiums",null,236364,446950.83,403618.99,531250,531250,531250,531750,556744,582352]
["Public safety",null,{"$f":"SUM(C177:C184)","v":216193878.25},{"$f":"SUM(D177:D184)","v":232287900.66999999},221231115.28000003,244183097.36260003,184250052.64999998,184250052.64999998,197871699,207397353,217176069]
["Civil Defence",null,15285989.35,15312006.23,17433722.899999999,19656120.217399999,21684786.300000001,21684786.300000001,22902846,24013766,25174791]
["Cleansing",null,0,0,0,0,0,0]
[{"$f":"A57","v":"Control of Public Nuisances"},null,0,0,0,0,0,0]
["Fencing and Fences ",null,0,0,0,0,0,0]
["Fire Fighting and Protection",null,109259286.02999999,116742940.88,106502949.21000002,149561867.63840002,79647815,79647815,85065341,89162198,93318733]
["Licensing and Control of Animals",null,0,0,0,0,0,0]
["Police Forces, Traffic and Street Parking Control",null,91648602.870000005,100232953.55999999,97294443.170000017,74965109.506800011,82917451.349999994,82917451.349999994,89903512,94221389,98682545]
["Pounds",null,0,0,0,0,0,0,0,0,0]
[{"$f":"A63","v":"Housing"},null,{"$f":"SUM(C186:C187)","v":68394082.769999996},{"$f":"SUM(D186:D187)","v":94434776.87999998},101530999.99000004,81136670.538800001,103330098.47,103330098.47,91953449,96599636,101298102]
["Housing",null,68394082.769999996,94434776.87999998,101530999.99000004,81136670.538800001,103330098.47,103330098.47,91953449,96599636,101298102]
["Informal Settlements",null,0,0,0,null,0,0,0,0,0]
["Health",null,{"$f":"SUM(C189:C195)","v":9570211.4399999995},{"$f":"SUM(D189:D195)","v":9558785.25},9958173.5799999963,9733579.4611999989,8682685.0599999968,8682685.0599999968,9124276,9570859,10039032]
["Ambulance",null,0,0,0]
["Health Services",null,9570211.4399999995,9558785.25,9958173.5799999963,9733579.4611999989,8682685.0599999968,8682685.0599999968,9124276,9570859,10039032]
["Laboratory Services",null,null,null,0]
["Food Control",null,null,null,0]
["Health Surveillance and Prevention of Communicable Diseases including immunizations",null,null,null,0]
["Vector Control",null,null,null,0]
["Chemical Safety",null,null,null,0]
["Economic and environmental services",null,{"$f":"C197+C208+C213","v":393095328.99000007},{"$f":"D197+D208+D213","v":378225313.45000005},478064864.37000006,640338797,546110010.38999999,546110010.38999999,456967977,509996460,502934197]
["Planning and development",null,{"$f":"SUM(C198:C207)","v":87743205.430000037},{"$f":"SUM(D198:D207)","v":93765700.129999995},97777604.409999996,161555852,137355076.91,137355076.91,149407938,158045112,165764065]
["Billboards",null,0,0,0,0,0,0,0,0,0]
["Corporate Wide Strategic Planning (IDPs, LEDs)",null,6406941.959999999,10215065.729999999,13973736.429999998,9524886.9679999985,6842117.9099999992,6842117.9099999992,10310168,10968031,11671899]
["Central City Improvement District",null,0,0,0,60057505.093350783,0,0]
["Development Facilitation",null,0,0,0,0,0,0]
["Economic Development/Planning",null,11125047.750000002,13288993.039999997,18897069.080000006,16615699.434841303,57268652,57268652,61556808,65306807,68477418]
["Regional Planning and Development",null,0,0,0,0,0,0]
["Town Planning, Building Regulations and Enforcement, and City Engineer",null,70211215.720000044,70261641.359999999,64906798.899999991,75357760.503807917,73244307,73244307,77540962,81770274,85614748]
["Project Management Unit",null,0,0,0,0,0,0,0,0]
["Provincial Planning",null,0,0,0,0,0,0,0,0]
["Support to Local Municipalities",null,0,0,0,0,0,0,0,0]
["Road transport",null,{"$f":"SUM(C209:C212)","v":282415490.86000001},{"$f":"SUM(D209:D212)","v":259798778.12000006},354436930.93000001,449621964.00000006,376934820.32000005,376934820.32000005,273692674,316399082,299867230]
["Public Transport",null,10795678.240000004,9338758.6299999971,11626088.880000003,18440404.699000008,16459667.640000004,16459667.640000004,12856315,13504290,13952854]
["Road and Traffic Regulation",null,0,0,0,32171156.9568002,0,0]
["Roads",null,269811581.25999999,249513043.52000007,341895652.56,397605245.95419985,358669996.29000008,358669996.29000008,259531211,301526294,284482289]
["Taxi Ranks",null,1808231.3599999999,946975.96999999974,915189.48999999987,1405156.39,1805156.39,1805156.39,1305148,1368498,1432087]
["Environmental protection",null,{"$f":"SUM(C214:C219)","v":22936632.700000003},{"$f":"SUM(D214:D219)","v":24660835.199999999},25850329.030000009,29160981,31820113.16,31820113.16,33867365,35552266,37302902]
["Biodiversity and Landscape",null,0,0,0,0,0,0,0,0]
["Coastal Protection",null,0,0,0,0,0,0,0,0]
["Indigenous Forests",null,0,0,0,0,0,0,0,0]
[{"$f":"A95","v":"Nature Conservation"},null,5180345.21,5316460.6099999994,6045620.1500000004,5822287.2071000002,8925719,8925719,9830835,10331019,10844216]
["Pollution Control",null,17756287.490000002,19344374.59,19804708.880000006,23338693.7929,22894394.16,22894394.16,24036530,25221247,26458686]
["Soil Conservation",null,0,0,0,0,0,0,0,0]
["Trading services",null,{"$f":"C221+C225+C229+C234","v":4733193786.6699972},{"$f":"D221+D225+D229+D234","v":4061495012.9100037},5346286592.1199961,5278293781,4640259964.6600008,4640259964.6600008,5177106066,5446369788,5704756154]
["Energy sources",null,{"$f":"SUM(C222:C224)","v":2982827962.3400002},{"$f":"SUM(D222:D224)","v":2621122229.710001},3298296328.3399968,3749118944,3285426011.6600008,3285426011.6600008,3529418945,3702057408,3883155159]
["Electricity ",null,2950207305,2618373146.7800012,3298414390.2799969,3749118944,3285426011.6600008,3285426011.6600008,3529418945,3702057408,3883155159]
["Street Lighting and Signal Systems",null,32620657.339999996,2749082.9299999997,-118061.94,null,0,0]
["Nonelectric Energy",null,0,0,0,null,0,0]
["Water management",null,{"$f":"SUM(C226:C228)","v":1280896308.8899977},{"$f":"SUM(D226:D228)","v":952915577.47000265},1422632105.9999995,1010944858,895759416,895759416,1107383494,1165499615,1211258659]
["Water Treatment",null,0,0,0,null,null,null,null,null,0]
["Water Distribution",null,1280896308.8899977,952915577.47000265,1422632105.9999995,1010944858,895759416,895759416,1107383494,1165499615,1211258659]
["Water Storage",null,0,0,0,null,null,null,null,null,0]
["Waste water management",null,{"$f":"SUM(C230:C233)","v":325212343.78999996},{"$f":"SUM(D230:D233)","v":348153877.7700001},434826346.09000009,369521337,341345006,341345006,414857077,447530898,473184421]
["Public Toilets",null,2532683.4799999995,4427054,10052956.32,1906307.01,8464127,8464127,9115560,9557787,10019069]
["Sewerage",null,295458713.79999995,317132992.94000012,403675698.56000012,342321170.96780002,332452759,332452759,405294657,437500072,462664378]
["Storm Water Management",null,27220946.509999998,26593830.829999998,21097691.210000005,25293859.022200007,428120,428120,446860,473039,500974]
["Waste Water Treatment",null,0,0,0,null,0,0,null,null,0]
["Waste management",null,{"$f":"SUM(C235:C238)","v":144257171.65000004},{"$f":"SUM(D235:D238)","v":139303327.95999998},190531811.68999991,148708642,117729531,117729531,125446550,131281867,137157915]
["Recycling",null,0,0,0,0,0,0,0,0]
["Solid Waste Disposal (Landfill Sites)",null,17150084.129999995,19589240.729999997,26252020.600000001,10514543.813199997,18624580,18624580,17421472,18110253,18617552]
["Solid Waste Removal",null,127107087.52000003,119714087.22999997,164279791.08999991,138194098.1868,99104951,99104951,108025078,113171614,118540363]
["Street Cleaning",null,0,0,0,0,0,0,0,0]
["Other",null,{"$f":"SUM(C240:C245)","v":80640656.209999993},{"$f":"SUM(D240:D245)","v":73187988.519995749},77736928.610003591,95029438,62534312,62534312,60158277,62841260,64524825]
["Abattoirs",null,0,0,0,0,0,0,0,0]
["Air Transport",null,25566698.639999997,25801978.899999991,26745423.620003588,27943578.444600008,25240391,25240391,20998646,21791107,22592164]
["Forestry ",null,18793066.190000001,6285176.7699999996,5726141.9299999988,410919.30999999994,410920,410920,428527,448567,463262]
["Licensing and Regulation",null,4950226.47,5389931.4499999993,5379189.3599999994,5730598.6585000008,5566013,5566013,5822100,6111373,6412197]
["Markets",null,29308262.119999994,31746556.469995748,34786514.090000004,58877293.146899991,28571515,28571515,30006781,31431439,31839425]
["Tourism",null,2022402.7900000003,3964344.9299999997,5099659.6099999994,2067048.4399999997,2745473,2745473,2902223,3058774,3217777]
[{"$f":"\"Total \"&A126","v":"Total Expenditure - Functional"},3,{"$f":"C127+C147+C196+C220+C239","v":6949419416.999999},{"$f":"D127+D147+D196+D220+D239","v":6222242145.7999992},7936445365.4799995,8380269878.8451996,8175463764,8175463764,8561796536,9070556519,9483681728]
[{"$f":"result","v":"Surplus/(Deficit) for the year"},null,{"$f":"C124-C246","v":-726982179.99999905},{"$f":"D124-D246","v":525680299.1400013},-941873650.80000019,1040608236.1967506,1283720419.6213894,1283720419.6213894,1347210019.9470501,1376671935.9574547,1433376687.6003704]
[{"$f":"head27a","v":"References"}]
["1. Government Finance Statistics Functions and Sub-functions are standardised to assist national and international accounts and comparison"]
["2. Total Revenue by Functional Classification must reconcile to total operating revenue shown in Financial Performance (revenue and expenditure)"]
["3. Total Expenditure by Functional Classification must reconcile to total operating expenditure shown in Financial Performance (revenue and expenditure)"]
["4. All amounts must be classified under a Functional classification. The GFS function 'Other' is only for Abbatoirs, Air Transport,  Forestry, Licensing and Regulation, Markets and Tourism - and if used must be supported by footnotes. Nothing else may be placed under 'Other'. Assign associate share to relevant classification"]

{"sheet":"A3-FinPerf V","index":9,"n_rows":43,"n_cols":23,"rows_kept":43,"cut":false,"hidden":false,"merged":[[1,5,1,7],[1,8,1,10],[1,11,1,22]]}
[{"$f":"muni&\" - \"&Approve2","v":"Choose name from list - Table A3 Budgeted Financial Performance (revenue and expenditure by municipal vote)"}]
[{"$f":"Vdesc","v":"Vote Description"},{"$f":"head27","v":"Ref"},{"$f":"head1b","v":"2021/22"},{"$f":"head1A","v":"2022/23"},{"$f":"Head1","v":"2023/24"},{"$f":"Head2","v":"Current Year 2024/25"},null,null,{"$f":"Head3","v":"2025/26 Medium Term Revenue & Expenditure Framework"},null,null,{"$f":"Head4","v":"LTFS"}]
["R thousand",null,{"$f":"Head5","v":"Audited Outcome"},{"$f":"Head5","v":"Audited Outcome"},{"$f":"Head5","v":"Audited Outcome"},{"$f":"Head6","v":"Original Budget"},{"$f":"Head7","v":"Adjusted Budget"},{"$f":"Head8","v":"Full Year Forecast"},{"$f":"Head9","v":"Budget Year 2025/26"},{"$f":"Head10","v":"Budget Year +1 2026/27"},{"$f":"Head11","v":"Budget Year +2 2027/28"},{"$f":"Head12","v":"Forecast 2028/29"},{"$f":"Head13","v":"Forecast 2029/30"},{"$f":"Head14","v":"Forecast 2030/31"},{"$f":"Head15","v":"Forecast 2031/32"},{"$f":"Head16","v":"Forecast 2032/33"},{"$f":"Head17","v":"Forecast 2033/34"},{"$f":"Head18","v":"Forecast 2034/35"},{"$f":"Head19","v":"Forecast 2035/36"},{"$f":"Head20","v":"Forecast 2036/37"},{"$f":"Head21","v":"Forecast 2037/38"},{"$f":"Head22","v":"Forecast 2038/39"},{"$f":"Head23","v":"Forecast 2039/40"}]
["Revenue by Vote",1]
[{"$f":"A3A!A5","v":"Vote 1 - City Manager"},null,{"$f":"A3A!C5","v":21554.57},{"$f":"A3A!D5","v":-14882.48},{"$f":"A3A!E5","v":0},{"$f":"A3A!F5","v":0},{"$f":"A3A!G5","v":0},{"$f":"A3A!H5","v":0},{"$f":"A3A!I5","v":0},{"$f":"A3A!J5","v":0},{"$f":"A3A!K5","v":0}]
[{"$f":"A3A!A16","v":"Vote 2 - City Finance"},null,{"$f":"A3A!C16","v":1692708414.1399996},{"$f":"A3A!D16","v":1855452216.8800004},{"$f":"A3A!E16","v":2025042283.73},{"$f":"A3A!F16","v":2675602753.4521899},{"$f":"A3A!G16","v":2675602753.46},{"$f":"A3A!H16","v":2675602753.46},{"$f":"A3A!I16","v":2789049796.0931892},{"$f":"A3A!J16","v":2925325208.4140849},{"$f":"A3A!K16","v":3021943447.3469601}]
[{"$f":"A3A!A27","v":"Vote 3 - Corporate Services"},null,{"$f":"A3A!C27","v":3542654.1799999997},{"$f":"A3A!D27","v":8603314.8800000008},{"$f":"A3A!E27","v":2109770.08},{"$f":"A3A!F27","v":5258283.9139},{"$f":"A3A!G27","v":2578193.87},{"$f":"A3A!H27","v":2578193.87},{"$f":"A3A!I27","v":1906229.0519999999},{"$f":"A3A!J27","v":1999634.2755479999},{"$f":"A3A!K27","v":2097616.3550498518}]
[{"$f":"A3A!A38","v":"Vote 4 - Community Services and Social Equity"},null,{"$f":"A3A!C38","v":215034923.48000002},{"$f":"A3A!D38","v":235448191.56},{"$f":"A3A!E38","v":292947034.44999999},{"$f":"A3A!F38","v":490385956.11380017},{"$f":"A3A!G38","v":323833766.75},{"$f":"A3A!H38","v":323833766.75},{"$f":"A3A!I38","v":265343548.89356601},{"$f":"A3A!J38","v":289822722.70935071},{"$f":"A3A!K38","v":271591823.07730895}]
[{"$f":"A3A!A49","v":"Vote 5 - Infrastructure Services"},null,{"$f":"A3A!C49","v":1596046262.1200004},{"$f":"A3A!D49","v":1628015024.9400005},{"$f":"A3A!E49","v":1696701357.1100001},{"$f":"A3A!F49","v":1540531143.4344003},{"$f":"A3A!G49","v":1803805988.8199999},{"$f":"A3A!H49","v":1803805988.8199999},{"$f":"A3A!I49","v":2007035208.869422},{"$f":"A3A!J49","v":2149916079.2240238},{"$f":"A3A!K49","v":2254291237.6452007}]
[{"$f":"A3A!A60","v":"Vote 6 - Sustainable Development and City Enterprises"},null,{"$f":"A3A!C60","v":144081748.58000001},{"$f":"A3A!D60","v":248423314.13999999},{"$f":"A3A!E60","v":304119010.13999999},{"$f":"A3A!F60","v":366567368.15000105},{"$f":"A3A!G60","v":354076383.60999995},{"$f":"A3A!H60","v":354076383.60999995},{"$f":"A3A!I60","v":97217466.131778002},{"$f":"A3A!J60","v":102103352.12223513},{"$f":"A3A!K60","v":115235864.95807463}]
[{"$f":"A3A!A71","v":"Vote 7 - Electricity"},null,{"$f":"A3A!C71","v":2571001679.9299998},{"$f":"A3A!D71","v":2771995265.0200005},{"$f":"A3A!E71","v":2673652259.1699991},{"$f":"A3A!F71","v":4342532609.9608994},{"$f":"A3A!G71","v":3810591021.0146213},{"$f":"A3A!H71","v":3810591021.0146213},{"$f":"A3A!I71","v":4748454306.9600439},{"$f":"A3A!J71","v":4978061458.2547569},{"$f":"A3A!K71","v":5251898426.617404}]
[{"$f":"A3A!A82","v":"Vote 8 - [NAME OF VOTE 8]"},null,{"$f":"A3A!C82","v":0},{"$f":"A3A!D82","v":0},{"$f":"A3A!E82","v":0},{"$f":"A3A!F82","v":0},{"$f":"A3A!G82","v":0},{"$f":"A3A!H82","v":0},{"$f":"A3A!I82","v":0},{"$f":"A3A!J82","v":0},{"$f":"A3A!K82","v":0}]
[{"$f":"A3A!A93","v":"Vote 9 - [NAME OF VOTE 9]"},null,{"$f":"A3A!C93","v":0},{"$f":"A3A!D93","v":0},{"$f":"A3A!E93","v":0},{"$f":"A3A!F93","v":0},{"$f":"A3A!G93","v":0},{"$f":"A3A!H93","v":0},{"$f":"A3A!I93","v":0},{"$f":"A3A!J93","v":0},{"$f":"A3A!K93","v":0}]
[{"$f":"A3A!A104","v":"Vote 10 - [NAME OF VOTE 10]"},null,{"$f":"A3A!C104","v":0},{"$f":"A3A!D104","v":0},{"$f":"A3A!E104","v":0},{"$f":"A3A!F104","v":0},{"$f":"A3A!G104","v":0},{"$f":"A3A!H104","v":0},{"$f":"A3A!I104","v":0},{"$f":"A3A!J104","v":0},{"$f":"A3A!K104","v":0}]
[{"$f":"A3A!A115","v":"Vote 11 - [NAME OF VOTE 11]"},null,{"$f":"A3A!C115","v":0},{"$f":"A3A!D115","v":0},{"$f":"A3A!E115","v":0},{"$f":"A3A!F115","v":0},{"$f":"A3A!G115","v":0},{"$f":"A3A!H115","v":0},{"$f":"A3A!I115","v":0},{"$f":"A3A!J115","v":0},{"$f":"A3A!K115","v":0},{"$f":"A5A!L115","v":0}]
[{"$f":"A3A!A126","v":"Vote 12 - [NAME OF VOTE 12]"},null,{"$f":"A3A!C126","v":0},{"$f":"A3A!D126","v":0},{"$f":"A3A!E126","v":0},{"$f":"A3A!F126","v":0},{"$f":"A3A!G126","v":0},{"$f":"A3A!H126","v":0},{"$f":"A3A!I126","v":0},{"$f":"A3A!J126","v":0},{"$f":"A3A!K126","v":0},{"$f":"A5A!L126","v":0}]
[{"$f":"A3A!A137","v":"Vote 13 - [NAME OF VOTE 13]"},null,{"$f":"A3A!C137","v":0},{"$f":"A3A!D137","v":0},{"$f":"A3A!E137","v":0},{"$f":"A3A!F137","v":0},{"$f":"A3A!G137","v":0},{"$f":"A3A!H137","v":0},{"$f":"A3A!I137","v":0},{"$f":"A3A!J137","v":0},{"$f":"A3A!K137","v":0},{"$f":"A5A!L137","v":0}]
[{"$f":"A3A!A148","v":"Vote 14 - [NAME OF VOTE 14]"},null,{"$f":"A3A!C148","v":0},{"$f":"A3A!D148","v":0},{"$f":"A3A!E148","v":0},{"$f":"A3A!F148","v":0},{"$f":"A3A!G148","v":0},{"$f":"A3A!H148","v":0},{"$f":"A3A!I148","v":0},{"$f":"A3A!J148","v":0},{"$f":"A3A!K148","v":0},{"$f":"A5A!L148","v":0}]
[{"$f":"A3A!A159","v":"Vote 15 - [NAME OF VOTE 15]"},null,{"$f":"A3A!C159","v":0},{"$f":"A3A!D159","v":0},{"$f":"A3A!E159","v":0},{"$f":"A3A!F159","v":0},{"$f":"A3A!G159","v":0},{"$f":"A3A!H159","v":0},{"$f":"A3A!I159","v":0},{"$f":"A3A!J159","v":0},{"$f":"A3A!K159","v":0},{"$f":"A5A!L159","v":0}]
["Total Revenue by Vote",2,{"$f":"SUM(C5:C19)","v":6222437237},{"$f":"SUM(D5:D19)","v":6747922444.9400005},6994571714.6799994,9420878115.0251904,8970488107.5246201,8970488107.5246201,9909006556,10447228455,10917058416]
[]
["Expenditure by Vote to be appropriated",1]
[{"$f":"A3A!A173","v":"Vote 1 - City Manager"},null,{"$f":"A3A!C173","v":155043755.89000002},{"$f":"A3A!D173","v":151981634.60999992},{"$f":"A3A!E173","v":195836186.09999999},{"$f":"A3A!F173","v":191819668.46560001},{"$f":"A3A!G173","v":157225632.38999996},{"$f":"A3A!H173","v":157225632.38999996},{"$f":"A3A!I173","v":228589928.685},{"$f":"A3A!J173","v":241140983.97751501},{"$f":"A3A!K173","v":254015719.76592311}]
[{"$f":"A3A!A184","v":"Vote 2 - City Finance"},null,{"$f":"A3A!C184","v":611783863.67000008},{"$f":"A3A!D184","v":362344580.91999996},{"$f":"A3A!E184","v":722564027.75},{"$f":"A3A!F184","v":1166932155.5341992},{"$f":"A3A!G184","v":1110449723.2599995},{"$f":"A3A!H184","v":1110449723.2599995},{"$f":"A3A!I184","v":1199140482.3132401},{"$f":"A3A!J184","v":1234176459.1968589},{"$f":"A3A!K184","v":1290052443.7214754}]
[{"$f":"A3A!A195","v":"Vote 3 - Corporate Services"},null,{"$f":"A3A!C195","v":69616493.690000013},{"$f":"A3A!D195","v":163339219.33999994},{"$f":"A3A!E195","v":201260716.84},{"$f":"A3A!F195","v":212747027.1978001},{"$f":"A3A!G195","v":185425732.94000003},{"$f":"A3A!H195","v":185425732.94000003},{"$f":"A3A!I195","v":207252148.28780007},{"$f":"A3A!J195","v":198150989.50219214},{"$f":"A3A!K195","v":229549191.54277956}]
[{"$f":"A3A!A206","v":"Vote 4 - Community Services and Social Equity"},null,{"$f":"A3A!C206","v":864836632.15999997},{"$f":"A3A!D206","v":904576995.85999978},{"$f":"A3A!E206","v":970678396.29999971},{"$f":"A3A!F206","v":844627157.03539896},{"$f":"A3A!G206","v":796596661.11999977},{"$f":"A3A!H206","v":796596661.11999977},{"$f":"A3A!I206","v":845155484.87279987},{"$f":"A3A!J206","v":872797494.20032752},{"$f":"A3A!K206","v":934891620.44449139}]
[{"$f":"A3A!A217","v":"Vote 5 - Infrastructure Services"},null,{"$f":"A3A!C217","v":2026075660.7999997},{"$f":"A3A!D217","v":1565729441.47},{"$f":"A3A!E217","v":2239448180.9350009},{"$f":"A3A!F217","v":1881446739.3687003},{"$f":"A3A!G217","v":1926439556.1500006},{"$f":"A3A!H217","v":1926439556.1500006},{"$f":"A3A!I217","v":1880935160.6753998},{"$f":"A3A!J217","v":2019302931.1662617},{"$f":"A3A!K217","v":2078904865.1930318}]
[{"$f":"A3A!A228","v":"Vote 6 - Sustainable Development and City Enterprises"},null,{"$f":"A3A!C228","v":271855705.78999996},{"$f":"A3A!D228","v":295042335.31999993},{"$f":"A3A!E228","v":308983019.39999998},{"$f":"A3A!F228","v":331868753.41117156},{"$f":"A3A!G228","v":342801768.75},{"$f":"A3A!H228","v":342801768.75},{"$f":"A3A!I228","v":339955707.24976271},{"$f":"A3A!J228","v":357731147.67826796},{"$f":"A3A!K228","v":373729002.53418076}]
[{"$f":"A3A!A239","v":"Vote 7 - Electricity"},null,{"$f":"A3A!C239","v":2950207305},{"$f":"A3A!D239","v":2779227938.2799997},{"$f":"A3A!E239","v":3297674838.1550002},{"$f":"A3A!F239","v":3750828402.1356945},{"$f":"A3A!G239","v":3167828612.9153104},{"$f":"A3A!H239","v":3167828612.9153104},{"$f":"A3A!I239","v":3860767613.6189976},{"$f":"A3A!J239","v":4147256500.1268945},{"$f":"A3A!K239","v":4322538886.9440269}]
[{"$f":"A3A!A250","v":"Vote 8 - [NAME OF VOTE 8]"},null,{"$f":"A3A!C250","v":0},{"$f":"A3A!D250","v":0},{"$f":"A3A!E250","v":0},{"$f":"A3A!F250","v":0},{"$f":"A3A!G250","v":0},{"$f":"A3A!H250","v":0},{"$f":"A3A!I250","v":0},{"$f":"A3A!J250","v":0},{"$f":"A3A!K250","v":0}]
[{"$f":"A3A!A261","v":"Vote 9 - [NAME OF VOTE 9]"},null,{"$f":"A3A!C261","v":0},{"$f":"A3A!D261","v":0},{"$f":"A3A!E261","v":0},{"$f":"A3A!F261","v":0},{"$f":"A3A!G261","v":0},{"$f":"A3A!H261","v":0},{"$f":"A3A!I261","v":0},{"$f":"A3A!J261","v":0},{"$f":"A3A!K261","v":0}]
[{"$f":"A3A!A272","v":"Vote 10 - [NAME OF VOTE 10]"},null,{"$f":"A3A!C272","v":0},{"$f":"A3A!D272","v":0},{"$f":"A3A!E272","v":0},{"$f":"A3A!F272","v":0},{"$f":"A3A!G272","v":0},{"$f":"A3A!H272","v":0},{"$f":"A3A!I272","v":0},{"$f":"A3A!J272","v":0},{"$f":"A3A!K272","v":0}]
[{"$f":"A3A!A283","v":"Vote 11 - [NAME OF VOTE 11]"},null,{"$f":"A3A!C283","v":0},{"$f":"A3A!D283","v":0},{"$f":"A3A!E283","v":0},{"$f":"A3A!F283","v":0},{"$f":"A3A!G283","v":0},{"$f":"A3A!H283","v":0},{"$f":"A3A!I283","v":0},{"$f":"A3A!J283","v":0},{"$f":"A3A!K283","v":0},{"$f":"A3A!L284","v":0}]
[{"$f":"A3A!A294","v":"Vote 12 - [NAME OF VOTE 12]"},null,{"$f":"A3A!C294","v":0},{"$f":"A3A!D294","v":0},{"$f":"A3A!E294","v":0},{"$f":"A3A!F294","v":0},{"$f":"A3A!G294","v":0},{"$f":"A3A!H294","v":0},{"$f":"A3A!I294","v":0},{"$f":"A3A!J294","v":0},{"$f":"A3A!K294","v":0},{"$f":"A3A!L295","v":0}]
[{"$f":"A3A!A305","v":"Vote 13 - [NAME OF VOTE 13]"},null,{"$f":"A3A!C305","v":0},{"$f":"A3A!D305","v":0},{"$f":"A3A!E305","v":0},{"$f":"A3A!F305","v":0},{"$f":"A3A!G305","v":0},{"$f":"A3A!H305","v":0},{"$f":"A3A!I305","v":0},{"$f":"A3A!J305","v":0},{"$f":"A3A!K305","v":0},{"$f":"A3A!L306","v":0}]
[{"$f":"A3A!A316","v":"Vote 14 - [NAME OF VOTE 14]"},null,{"$f":"A3A!C316","v":0},{"$f":"A3A!D316","v":0},{"$f":"A3A!E316","v":0},{"$f":"A3A!F316","v":0},{"$f":"A3A!G316","v":0},{"$f":"A3A!H316","v":0},{"$f":"A3A!I316","v":0},{"$f":"A3A!J316","v":0},{"$f":"A3A!K316","v":0},{"$f":"A3A!L317","v":0}]
[{"$f":"A3A!A327","v":"Vote 15 - [NAME OF VOTE 15]"},null,{"$f":"A3A!C327","v":0},{"$f":"A3A!D327","v":0},{"$f":"A3A!E327","v":0},{"$f":"A3A!F327","v":0},{"$f":"A3A!G327","v":0},{"$f":"A3A!H327","v":0},{"$f":"A3A!I327","v":0},{"$f":"A3A!J327","v":0},{"$f":"A3A!K327","v":0},{"$f":"A3A!L328","v":0}]
["Total Expenditure by Vote",2,{"$f":"SUM(C23:C37)","v":6949419417},{"$f":"SUM(D23:D37)","v":6222242145.7999992},{"$f":"SUM(E23:E37)","v":7936445365.4800014},8380269903.1485653,7686767687.5253105,7686767687.5253105,8561796525.7030001,9070556505.8483181,9483681730.1459084,{"$f":"SUM(L23:L29)","v":0},0,0,0,0,0,0,0,0,0,0,0]
[{"$f":"result","v":"Surplus/(Deficit) for the year"},2,{"$f":"C20-C38","v":-726982180},{"$f":"D20-D38","v":525680299.1400013},-941873650.8000021,1040608211.8766251,1283720419.9993095,1283720419.9993095,1347210030.2969999,1376671949.1516819,1433376685.8540916,0,0,0,0,0,0,0,0,0,0,0,0]
[{"$f":"head27a","v":"References"}]
["1. Insert 'Vote'; e.g. department, if different to functional classification structure"]
["2. Must reconcile to Budgeted Financial Performance (revenue and expenditure)"]
["3. Assign share in 'associate' to relevant Vote"]

{"sheet":"A3A","index":10,"n_rows":344,"n_cols":23,"rows_kept":344,"cut":false,"hidden":false,"merged":[[1,11,1,22],[1,5,1,7],[1,8,1,10]]}
[{"$f":"muni&\" - \"&Approve2&\"A\"","v":"Choose name from list - Table A3 Budgeted Financial Performance (revenue and expenditure by municipal vote)A"}]
[{"$f":"Vdesc","v":"Vote Description"},{"$f":"head27","v":"Ref"},{"$f":"head1b","v":"2021/22"},{"$f":"head1A","v":"2022/23"},{"$f":"Head1","v":"2023/24"},{"$f":"Head2","v":"Current Year 2024/25"},null,null,{"$f":"Head3","v":"2025/26 Medium Term Revenue & Expenditure Framework"},null,null,{"$f":"Head4","v":"LTFS"}]
["R thousand",null,{"$f":"Head5","v":"Audited Outcome"},{"$f":"Head5","v":"Audited Outcome"},{"$f":"Head5","v":"Audited Outcome"},{"$f":"Head6","v":"Original Budget"},{"$f":"Head7","v":"Adjusted Budget"},{"$f":"Head8","v":"Full Year Forecast"},{"$f":"Head9","v":"Budget Year 2025/26"},{"$f":"Head10","v":"Budget Year +1 2026/27"},{"$f":"Head11","v":"Budget Year +2 2027/28"},{"$f":"Head12","v":"Forecast 2028/29"},{"$f":"Head13","v":"Forecast 2029/30"},{"$f":"Head14","v":"Forecast 2030/31"},{"$f":"Head15","v":"Forecast 2031/32"},{"$f":"Head16","v":"Forecast 2032/33"},{"$f":"Head17","v":"Forecast 2033/34"},{"$f":"Head18","v":"Forecast 2034/35"},{"$f":"Head19","v":"Forecast 2035/36"},{"$f":"Head20","v":"Forecast 2036/37"},{"$f":"Head21","v":"Forecast 2037/38"},{"$f":"Head22","v":"Forecast 2038/39"},{"$f":"Head23","v":"Forecast 2039/40"}]
["Revenue by Vote",1]
[{"$f":"'Org structure'!A2","v":"Vote 1 - City Manager"},null,{"$f":"SUM(C6:C15)","v":21554.57},{"$f":"SUM(D6:D15)","v":-14882.48},0,0,0,0,0,0,0]
[{"$f":"'Org structure'!E3","v":"1.1 - Internal Audit and Compliance"},null,2494.96,0]
[{"$f":"'Org structure'!E4","v":"1.2 - Office of the City Manager"},null,6831.15,-59.990000000000009]
[{"$f":"'Org structure'!E5","v":"1.3 - Political Support"},null,11488.75,-14822.46]
[{"$f":"'Org structure'!E6","v":"1.4 - Strategic Planning"},null,739.71,-2.9999999999999361E-2]
[{"$f":"'Org structure'!E7","v":0}]
[{"$f":"'Org structure'!E8","v":0}]
[{"$f":"'Org structure'!E9","v":0}]
[{"$f":"'Org structure'!E10","v":0}]
[{"$f":"'Org structure'!E11","v":0}]
[{"$f":"'Org structure'!E12","v":0}]
[{"$f":"'Org structure'!A3","v":"Vote 2 - City Finance"},null,{"$f":"SUM(C17:C26)","v":1692708414.1399996},{"$f":"SUM(D17:D26)","v":1855452216.8800004},2025042283.73,2675602753.4521899,2675602753.46,2675602753.46,2789049796.0931892,2925325208.4140849,3021943447.3469601]
[{"$f":"'Org structure'!E14","v":"2.1 - Asset Management"},null,20671097.220000003,13821318.57,35009793.830000006,20116081.743300002,20116081.769999996,20116081.769999996,50046102.396720007,52498361.414159276,55070781.123453073]
[{"$f":"'Org structure'!E15","v":"2.2 - Budget and Treasury Management"},null,351346646.67000008,399441924.22000003,463281190.11000007,843107146.79680002,843107146.79999995,843107146.79999995,898343228.40600002,948878043.59789395,991828869.73419082]
[{"$f":"'Org structure'!E16","v":"2.3 - Expenditure Management"},null,527.3900000000001,-26.13,0,433874.66855,433874.67000000004,433874.67000000004,0,0,0]
[{"$f":"'Org structure'!E17","v":"2.4 - Revenue Management"},null,1320584645.7899997,1442032315.8900003,1526709589.55,1811594399.4086399,1811594399.3900001,1811594399.3900001,1840324566.9334693,1923596446.0255384,1974674173.6013751]
[{"$f":"'Org structure'!E18","v":"2.5 - Supply Chain Management"},null,105497.06999999951,156684.32999999999,41710.239999999998,351250.83490000002,351250.83,351250.83,335898.35700000002,352357.37649299996,369622.88794115692]
[{"$f":"'Org structure'!E19","v":0}]
[{"$f":"'Org structure'!E20","v":0}]
[{"$f":"'Org structure'!E21","v":0}]
[{"$f":"'Org structure'!E22","v":0}]
[{"$f":"'Org structure'!E23","v":0}]
[{"$f":"'Org structure'!A4","v":"Vote 3 - Corporate Services"},null,{"$f":"SUM(C28:C37)","v":3542654.1799999997},{"$f":"SUM(D28:D37)","v":8603314.8800000008},2109770.08,5258283.9139,2578193.87,2578193.87,1906229.0519999999,1999634.2755479999,2097616.3550498518]
[{"$f":"'Org structure'!E25","v":"Human Resources Management"},null,17396.22,3375352.1100000003,1681015.58,2831018.9454000001,2242928.91,2242928.91,0,0]
[{"$f":"'Org structure'!E26","v":"Information Technology"},null,1711.96,-34.149999999994634,417.36,2608.4136499999995,2608.41,2608.41,0,0]
[{"$f":"'Org structure'!E27","v":"Legal Services"},null,6513.46,47.550000000000068,428337.14,332656.55485000001,332656.55,332656.55,1906229.0519999999,1999634.2755479999,2097616.3550498518]
[{"$f":"'Org structure'!E28","v":"Secretariat and Auxiliary Services"},null,3517032.5399999996,-201.25,0,0,0,0,0,0]
[{"$f":"'Org structure'!E29","v":"General Manager: Corporate Service"},null,null,5228150.62,0,2092000,0,0,0,0]
[{"$f":"'Org structure'!E30","v":0}]
[{"$f":"'Org structure'!E31","v":0}]
[{"$f":"'Org structure'!E32","v":0}]
[{"$f":"'Org structure'!E33","v":0}]
[{"$f":"'Org structure'!E34","v":0}]
[{"$f":"'Org structure'!A5","v":"Vote 4 - Community Services and Social Equity"},null,{"$f":"SUM(C39:C48)","v":215034923.48000002},235448191.56,292947034.44999999,490385956.11380017,323833766.75,323833766.75,265343548.89356601,289822722.70935071,271591823.07730895]
[{"$f":"'Org structure'!E36","v":"4.1 - Area Based Management "},null,429151.75999999995,660775.36999999988,575519.96,10962668.2928,10962668.270000003,10962668.270000003,813465.30344000016,853325.10330855986,895138.03337067936]
[{"$f":"'Org structure'!E37","v":"4.2 - Public Safety, Emergency Services and Enforcement"},null,18190539.34,24640408.620000001,25017311.619999997,9172795.9131000005,9172795.9100000001,9172795.9100000001,16851132.125950001,17676837.60012155,18543002.642527502]
[{"$f":"'Org structure'!E38","v":"4.3 - Recreation and Facilities"},null,45939601.260000005,59893752.699999996,68126120.299999982,301270403.3300001,123779194.65000002,123779194.65000002,56861146.813199997,52630959.727046803,42177579.345672093]
[{"$f":"'Org structure'!E39","v":"4.4 - Waste Management"},null,150475631.12,150253254.87,194527085.90000001,168980088.57790002,177827107.91999999,177827107.91999999,190817804.650976,218661600.27887383,209976103.05573866]
[{"$f":"'Org structure'!E40","v":"4.5 - General Manager: Community Services"},null,null,null,4700996.67,null,2092000,2092000,0,0,0]
[{"$f":"'Org structure'!E41","v":0}]
[{"$f":"'Org structure'!E42","v":0}]
[{"$f":"'Org structure'!E43","v":0}]
[{"$f":"'Org structure'!E44","v":0}]
[{"$f":"'Org structure'!E45","v":0}]
[{"$f":"'Org structure'!A6","v":"Vote 5 - Infrastructure Services"},null,{"$f":"SUM(C50:C59)","v":1596046262.1200004},{"$f":"SUM(D50:D59)","v":1628015024.9400005},1696701357.1100001,1540531143.4344003,1803805988.8199999,1803805988.8199999,2007035208.869422,2149916079.2240238,2254291237.6452007]
[{"$f":"'Org structure'!E47","v":"5.1 - Project Management Office"},null,6107917.5599999996,5460715.8400000008,7754279.1999999993,9120080,9270080,9270080,9744480,9873728.8000000007,9936698.5]
[{"$f":"'Org structure'!E48","v":"5.2 - Roads and Transportation"},null,151378954.01000002,47241673.420000009,48452151.57,50261689.302499995,101154442.51000004,101154442.51000004,165933833.62220001,205879175.46968782,215977889.26770252]
[{"$f":"'Org structure'!E49","v":"5.3 - Water and Sanitation"},null,1438552877.6900005,1575312635.6800005,1640494926.3400002,1481149374.1319003,1693381466.3099999,1693381466.3099999,1831356895.2472219,1934163174.9543359,2028376649.8774981]
[{"$f":"'Org structure'!E50","v":"5.4 - General Manager: Infrastructure "},null,6512.86,0,0,0,0,0,0,0,0]
[{"$f":"'Org structure'!E51","v":0},null,null,null,0]
[{"$f":"'Org structure'!E52","v":0}]
[{"$f":"'Org structure'!E53","v":0}]
[{"$f":"'Org structure'!E54","v":0}]
[{"$f":"'Org structure'!E55","v":0}]
[{"$f":"'Org structure'!E56","v":0}]
[{"$f":"'Org structure'!A7","v":"Vote 6 - Sustainable Development and City Enterprises"},null,{"$f":"SUM(C61:C70)","v":144081748.58000001},{"$f":"SUM(D61:D70)","v":248423314.13999999},304119010.13999999,366567368.15000105,354076383.60999995,354076383.60999995,97217466.131778002,102103352.12223513,115235864.95807463]
[{"$f":"'Org structure'!E58","v":"6.1 - City Entities"},null,26610735.059999999,39317981.939999998,52129317.349999994,137116847.21654999,122107222.53999999,122107222.53999999,55628475.844400004,58361124.160775609,61228083.424653597]
[{"$f":"'Org structure'!E59","v":"6.2 - Development Services"},null,37982121.609999999,35447798.349999994,19970563.98,3280701.49504,23343097.720000003,23343097.720000003,1031713.3125199999,1082267.2648334799,9135298.3608103208]
[{"$f":"'Org structure'!E60","v":"6.3 - Human Settlement Development"},null,69982808.910000011,55901245.099999987,131933124.98999999,190478177.44635004,181258549.95999998,181258549.95999998,24320021.437427998,25627079.637861971,27004990.941967204]
[{"$f":"'Org structure'!E61","v":"6.4 - Town Planning"},null,9506083,117756288.75000001,100086003.82000001,35691641.992060997,27367513.390000004,27367513.390000004,16237255.53743,17032881.058764067,17867492.230643503]
[{"$f":"'Org structure'!E62","v":"6.5 - General Manager: Sustainable Development and City Enterprises"},null,null,0,0,0,0,0,0,0]
[{"$f":"'Org structure'!E63","v":0}]
[{"$f":"'Org structure'!E64","v":0}]
[{"$f":"'Org structure'!E65","v":0}]
[{"$f":"'Org structure'!E66","v":0}]
[{"$f":"'Org structure'!E67","v":0}]
[{"$f":"'Org structure'!A8","v":"Vote 7 - Electricity"},null,{"$f":"SUM(C72:C81)","v":2571001679.9299998},2771995265.0200005,2673652259.1699991,4342532609.9608994,3810591021.0146213,3810591021.0146213,4748454306.9600439,4978061458.2547569,5251898426.617404]
[{"$f":"'Org structure'!E69","v":"7.1 Electricity planning"},null,2571001679.9299998,54061006.760000005,27269329.25,20892768.471299998,18437695.710000001,18437695.710000001]
[{"$f":"'Org structure'!E70","v":"7.2 Methods and Standards"},null,null,0,0,null,0,0]
[{"$f":"'Org structure'!E71","v":"7.3 Operations and Maintenance"},null,null,0,0,null,0,0]
[{"$f":"'Org structure'!E72","v":"7.4 Revenue Management"},null,null,2724539631,2645920032.6099992,4295540347.4284496,3766053831.234621,3766053831.234621,4712378264.8584394,4940221299.0701723,5212203922.7927551]
[{"$f":"'Org structure'!E73","v":"7.5 General Manager Electricity"},null,null,-6605372.7399999993,462897.31,26099494.061149996,26099494.07,26099494.07,36076042.101604,37840159.184584484,39694503.824649028]
[{"$f":"'Org structure'!E74","v":0}]
[{"$f":"'Org structure'!E75","v":0}]
[{"$f":"'Org structure'!E76","v":0}]
[{"$f":"'Org structure'!E77","v":0}]
[{"$f":"'Org structure'!E78","v":0}]
[{"$f":"'Org structure'!A9","v":"Vote 8 - [NAME OF VOTE 8]"},null,{"$f":"SUM(C83:C92)","v":0},{"$f":"SUM(D83:D92)","v":0},0,0,0,0,0,0,0]
[{"$f":"'Org structure'!E80","v":"8.1 - [Name of sub-vote]"}]
[{"$f":"'Org structure'!E81","v":0}]
[{"$f":"'Org structure'!E82","v":0}]
[{"$f":"'Org structure'!E83","v":0}]
[{"$f":"'Org structure'!E84","v":0}]
[{"$f":"'Org structure'!E85","v":0}]
[{"$f":"'Org structure'!E86","v":0}]
[{"$f":"'Org structure'!E87","v":0}]
[{"$f":"'Org structure'!E88","v":0}]
[{"$f":"'Org structure'!E89","v":0}]
[{"$f":"'Org structure'!A10","v":"Vote 9 - [NAME OF VOTE 9]"},null,{"$f":"SUM(C94:C103)","v":0},{"$f":"SUM(D94:D103)","v":0},0,0,0,0,0,0,0]
[{"$f":"'Org structure'!E91","v":"9.1 - [Name of sub-vote]"}]
[{"$f":"'Org structure'!E92","v":0}]
[{"$f":"'Org structure'!E93","v":0}]
[{"$f":"'Org structure'!E94","v":0}]
[{"$f":"'Org structure'!E95","v":0}]
[{"$f":"'Org structure'!E96","v":0}]
[{"$f":"'Org structure'!E97","v":0}]
[{"$f":"'Org structure'!E98","v":0}]
[{"$f":"'Org structure'!E99","v":0}]
[{"$f":"'Org structure'!E100","v":0}]
[{"$f":"'Org structure'!A11","v":"Vote 10 - [NAME OF VOTE 10]"},null,{"$f":"SUM(C105:C114)","v":0},{"$f":"SUM(D105:D114)","v":0},0,0,0,0,0,0,0]
[{"$f":"'Org structure'!E102","v":"10.1 - [Name of sub-vote]"}]
[{"$f":"'Org structure'!E103","v":0}]
[{"$f":"'Org structure'!E104","v":0}]
[{"$f":"'Org structure'!E105","v":0}]
[{"$f":"'Org structure'!E106","v":0}]
[{"$f":"'Org structure'!E107","v":0}]
[{"$f":"'Org structure'!E108","v":0}]
[{"$f":"'Org structure'!E109","v":0}]
[{"$f":"'Org structure'!E110","v":0}]
[{"$f":"'Org structure'!E111","v":0}]
[{"$f":"'Org structure'!A12","v":"Vote 11 - [NAME OF VOTE 11]"},null,{"$f":"SUM(C116:C125)","v":0},{"$f":"SUM(D116:D125)","v":0},0,0,0,0,0,0,0]
[{"$f":"'Org structure'!E113","v":"11.1 - [Name of sub-vote]"}]
[{"$f":"'Org structure'!E114","v":0}]
[{"$f":"'Org structure'!E115","v":0}]
[{"$f":"'Org structure'!E116","v":0}]
[{"$f":"'Org structure'!E117","v":0}]
[{"$f":"'Org structure'!E118","v":0}]
[{"$f":"'Org structure'!E119","v":0}]
[{"$f":"'Org structure'!E120","v":0}]
[{"$f":"'Org structure'!E121","v":0}]
[{"$f":"'Org structure'!E122","v":0}]
[{"$f":"'Org structure'!A13","v":"Vote 12 - [NAME OF VOTE 12]"},null,{"$f":"SUM(C127:C136)","v":0},{"$f":"SUM(D127:D136)","v":0},0,0,0,0,0,0,0]
[{"$f":"'Org structure'!E124","v":"12.1 - [Name of sub-vote]"}]
[{"$f":"'Org structure'!E125","v":0}]
[{"$f":"'Org structure'!E126","v":0}]
[{"$f":"'Org structure'!E127","v":0}]
[{"$f":"'Org structure'!E128","v":0}]
[{"$f":"'Org structure'!E129","v":0}]
[{"$f":"'Org structure'!E130","v":0}]
[{"$f":"'Org structure'!E131","v":0}]
[{"$f":"'Org structure'!E132","v":0}]
[{"$f":"'Org structure'!E133","v":0}]
[{"$f":"'Org structure'!A14","v":"Vote 13 - [NAME OF VOTE 13]"},null,{"$f":"SUM(C138:C147)","v":0},{"$f":"SUM(D138:D147)","v":0},0,0,0,0,0,0,0]
[{"$f":"'Org structure'!E135","v":"13.1 - [Name of sub-vote]"}]
[{"$f":"'Org structure'!E136","v":0}]
[{"$f":"'Org structure'!E137","v":0}]
[{"$f":"'Org structure'!E138","v":0}]
[{"$f":"'Org structure'!E139","v":0}]
[{"$f":"'Org structure'!E140","v":0}]
[{"$f":"'Org structure'!E141","v":0}]
[{"$f":"'Org structure'!E142","v":0}]
[{"$f":"'Org structure'!E143","v":0}]
[{"$f":"'Org structure'!E144","v":0}]
[{"$f":"'Org structure'!A15","v":"Vote 14 - [NAME OF VOTE 14]"},null,{"$f":"SUM(C149:C158)","v":0},{"$f":"SUM(D149:D158)","v":0},0,0,0,0,0,0,0]
[{"$f":"'Org structure'!E146","v":"14.1 - [Name of sub-vote]"}]
[{"$f":"'Org structure'!E147","v":0}]
[{"$f":"'Org structure'!E148","v":0}]
[{"$f":"'Org structure'!E149","v":0}]
[{"$f":"'Org structure'!E150","v":0}]
[{"$f":"'Org structure'!E151","v":0}]
[{"$f":"'Org structure'!E152","v":0}]
[{"$f":"'Org structure'!E153","v":0}]
[{"$f":"'Org structure'!E154","v":0}]
[{"$f":"'Org structure'!E155","v":0}]
[{"$f":"'Org structure'!A16","v":"Vote 15 - [NAME OF VOTE 15]"},null,{"$f":"SUM(C160:C169)","v":0},{"$f":"SUM(D160:D169)","v":0},0,0,0,0,0,0,0]
[{"$f":"'Org structure'!E157","v":"15.1 - [Name of sub-vote]"}]
[{"$f":"'Org structure'!E158","v":0}]
[{"$f":"'Org structure'!E159","v":0}]
[{"$f":"'Org structure'!E160","v":0}]
[{"$f":"'Org structure'!E161","v":0}]
[{"$f":"'Org structure'!E162","v":0}]
[{"$f":"'Org structure'!E163","v":0}]
[{"$f":"'Org structure'!E164","v":0}]
[{"$f":"'Org structure'!E165","v":0}]
[{"$f":"'Org structure'!E166","v":0}]
["Total Revenue by Vote",2,{"$f":"C5+C16+C27+C38+C49+C60+C71+C82+C93+C104+C115+C126+C137+C148+C159","v":6222437237},{"$f":"D5+D16+D27+D38+D49+D60+D71+D82+D93+D104+D115+D126+D137+D148+D159","v":6747922444.9400005},{"$f":"E5+E16+E27+E38+E49+E60+E71+E82+E93+E104+E115+E126+E137+E148+E159","v":6994571714.6799994},9420878115.0251904,8970488107.5246201,8970488107.5246201,{"$f":"I5+I16+I27+I38+I49+I60+I71+I82+I93+I104+I115+I126+I137+I148+I159","v":9909006556},10447228455,10917058416,{"$f":"SUM(L78:L81)","v":0},0,0,0,0,0,0,0,0,0,0,0]
[]
["Expenditure by Vote",1]
[{"$f":"A5","v":"Vote 1 - City Manager"},null,{"$f":"SUM(C174:C183)","v":155043755.89000002},151981634.60999992,195836186.09999999,191819668.46560001,157225632.38999996,157225632.38999996,228589928.685,241140983.97751501,254015719.76592311]
[{"$f":"A6","v":"1.1 - Internal Audit and Compliance"},null,19542685.369999997,19400648.370000005,25162828.919999998,28259494.706400003,14026080.130000001,14026080.130000001,32954187.745199997,35489089.831644781,38227444.528705381]
["1.2 - Office of the City Manager",null,30952176.339999996,25450839.939999986,36709790.279999986,45827363.927000001,37366431.549999982,37366431.549999982,74782313.618800044,78531176.848261222,82233183.751425967]
["1.3 - Political Support",null,98141952.219999999,96915080.569999963,119989830.47,108207922.8642,98991002.799999967,98991002.799999967,110523260.97439995,116130684.3953356,121858993.82923697]
["1.4 - Strategic Planning",null,6406941.959999999,10215065.729999999,13973736.429999998,9524886.9679999985,6842117.9099999992,6842117.9099999992,10330166.3466,10990032.902273396,11696097.656554796]
[0]
[0]
[0]
[0]
[0]
[0]
[{"$f":"A16","v":"Vote 2 - City Finance"},null,{"$f":"SUM(C185:C194)","v":611783863.67000008},{"$f":"SUM(D185:D194)","v":362344580.91999996},{"$f":"SUM(E185:E194)","v":722564027.75},1166932155.5341992,1110449723.2599995,1110449723.2599995,1199140482.3132401,1234176459.1968589,1290052443.7214754]
[{"$f":"A17","v":"2.1 - Asset Management"},null,76038184.099999979,69681320.960000008,80850184.770000026,95532173.961199984,72903832.199999973,72903832.199999973,83025490.820179954,79939783.817250967,80593830.321500421]
["2.2 - Budget and Treasury Management",null,124803387.16,70891096.179999977,122860002.39999993,134603926.32480007,134830008.68999997,134830008.68999997,156771459.58876002,158240544.81578499,164042408.34934694]
["2.3 - Expenditure Management",null,40273490.669999979,39636978.729999989,60887981.600000009,42985050.173400022,41679622.50999999,41679622.50999999,50763030.630300008,47694959.411578968,51121585.429987825]
["2.4 - Revenue Management",null,295599065.87000006,86344651.329999983,352984604.96999997,795399549.54779923,769793745.66999948,769793745.66999948,805548210.57450008,841146045.77473617,882787970.22474527]
["2.5 - Supply Chain Management",null,75069735.86999999,95790533.719999984,104981254.00999998,98411455.526999995,91242514.190000027,91242514.190000027,103032290.69950001,107155125.37750779,111506649.39589471]
[0]
[0]
[0]
[0]
[0]
[{"$f":"A27","v":"Vote 3 - Corporate Services"},null,{"$f":"SUM(C196:C205)","v":69616493.690000013},163339219.33999994,201260716.84,212747027.1978001,185425732.94000003,185425732.94000003,207252148.28780007,198150989.50219214,229549191.54277956]
["Human Resources Management",null,29012266.820000008,62022384.879999958,106690313.05999997,93075683.147400111,88895210.510000005,88895210.510000005,99149068.758800074,100420331.75863117,106622077.00715411]
["Information Technology",null,10503949.749999998,51838622.349999987,48178368.640000001,50169008.876199991,47227950.459999993,47227950.459999993,54550028.695399977,43350452.164754562,61688820.922647551]
["Legal Services",null,23571277.440000005,14853751.829999998,17490759.580000006,19907466.710200001,16811223.649999991,16811223.649999991,16880430.619800001,19480853.7512502,20159959.228971455]
["Secretariat and Auxiliary Services",null,6528999.6800000016,26567553.249999996,28901275.560000002,35151661.888999991,32491348.320000011,32491348.320000011,36672620.213800013,34899351.827556185,41078334.384006456]
["General Manager: Corporate Service",null,null,8056907.0299999993,0,14443206.574999997,0,0,0,0]
[0]
[0]
[0]
[0]
[0]
["Vote 4 - Community Services and Social Equity",null,{"$f":"SUM(C207:C216)","v":864836632.15999997},904576995.85999978,970678396.29999971,844627157.03539896,796596661.11999977,796596661.11999977,845155484.87279987,872797494.20032752,934891620.44449139]
[{"$f":"A39","v":"4.1 - Area Based Management "},null,37967938.279999986,43684703.370000005,48382221.350000001,51162296.250800021,54108496.169999987,54108496.169999987,56203094.090800025,58869997.212179191,61526667.024385974]
["4.2 - Public Safety, Emergency Services and Enforcement",null,375811532.5,407098933.31999987,377793569.24000001,346311722.23399973,274068973.18000001,274068973.18000001,317963667.25480008,333252956.13031572,349002048.94217885]
["4.3 - Recreation and Facilities",null,304267306.25,310062977.21000004,331632012.33999979,298695354.43419927,276409591.88999987,276409591.88999987,279379504.39499974,279998831.60587478,314431271.73687273]
["4.4 - Waste Management",null,146789855.13,143730381.95999995,200584768.00999987,148457784.11640006,131193659.57999997,131193659.57999997,134639107.98039997,140920276.00106955,147261316.28757209]
["4.5 - General Manager: Community Services",null,null,null,12285825.359999999,null,60815940.300000004,60815940.300000004,56970111.151799992,59755433.250888191,62670316.453481726]
[0]
[0]
[0]
[0]
[0]
[{"$f":"A49","v":"Vote 5 - Infrastructure Services"},null,{"$f":"SUM(C218:C227)","v":2026075660.7999997},{"$f":"SUM(D218:D227)","v":1565729441.47},2239448180.9350009,1881446739.3687003,1926439556.1500006,1926439556.1500006,1880935160.6753998,2019302931.1662617,2078904865.1930318]
[{"$f":"A50","v":"5.1 - Project Management Office"},null,10752578.970000003,8706143.1900000032,9112373.2299999986,22380300.172600001,8799025.5,8799025.5,12542722.604,12119636.639436001,12272828.156998364]
["5.2 - Roads and Transportation",null,305903618.89000005,282991505.75999999,400734061.12999994,446237568.95079988,409622135.46999991,409622135.46999991,308524785.07040006,354682560.66357952,340784018.72933519]
["5.3 - Water and Sanitation",null,1706486866.4599996,1270701985.8099999,1826074973.555001,1408767470.8301003,1463499216.1400008,1463499216.1400008,1512678148.7925997,1602999695.1878047,1673923038.1296401]
["5.4 - General Manager: Infrastructure ",null,2932596.4799999995,3329806.7099999995,3526773.0199999996,4061399.4151999997,44519179.039999992,44519179.039999992,47189504.208400011,49501038.675441585,51924980.17705822]
[0]
[0]
[0]
[0]
[0]
[0]
[{"$f":"A60","v":"Vote 6 - Sustainable Development and City Enterprises"},null,{"$f":"SUM(C229:C238)","v":271855705.78999996},295042335.31999993,308983019.39999998,331868753.41117156,342801768.75,342801768.75,339955707.24976271,357731147.67826796,373729002.53418076]
[{"$f":"A61","v":"6.1 - City Entities"},null,95769570.689999998,88328602.229999945,96145754.36999999,114126052.77249193,80902901.540000007,80902901.540000007,79643058.432200015,83284929.090662763,85953573.328404516]
["6.2 - Development Services",null,12761091.660000002,16138991.59,21004608.419999998,17526634.661499985,22933642.350000009,22933642.350000009,23386032.255449988,25273363.584056001,26472084.113076426]
["6.3 - Human Settlement Development",null,53857282.320000008,78579162.179999977,83637157.170000032,71236502.822400019,81263040.600000009,81263040.600000009,68806066.871599987,72352267.675868347,75945663.486713529]
["6.4 - Town Planning",null,106153578.55999994,109455646.41999999,104923849.41999996,124159899.7229383,116741165.28999996,116741165.28999996,124113668.44619998,130660932.54447199,136924414.03899992]
["6.5 - General Manager: Sustainable Development and City Enterprises",null,3314182.5599999996,2539932.9,3271650.0200000005,4819663.4318413017,40961018.969999999,40961018.969999999,44006881.244312681,46159654.783208847,48433267.566986397]
[0]
[0]
[0]
[0]
[0]
[{"$f":"A71","v":"Vote 7 - Electricity"},null,{"$f":"SUM(C240:C249)","v":2950207305},2779227938.2799997,3297674838.1550002,3750828402.1356945,3167828612.9153104,3167828612.9153104,3860767613.6189976,4147256500.1268945,4322538886.9440269]
[{"$f":"A72","v":"7.1 Electricity planning"},null,2950207305,6454825.8400000008,19535687.640000001,13145394.060000001,149982325.26241139,149982325.26241139,20226245.973200001,21069045.658616811,20752813.416519023]
["7.2 Methods and Standards",null,null,85380114.360000044,0,40958952.814999998,0,0]
["7.3 Operations and Maintenance",null,null,183129669.95999995,432126228.05000013,444795100.43079996,404976957.2100001,404976957.2100001,399573407.7008,494993677.97486931,522012055.26723158]
["7.4 Revenue Management",null,null,2499188484.98,2816489969.3650002,3177281950.6979957,2501592138.8928986,2501592138.8928986,3346849264.1267977,3523091532.5801163,3662909632.6122336]
["7.5 General Manager Electricity",null,null,5074843.1399999987,29522953.100000001,74647004.131899074,111277191.55,111277191.55,94118695.818199992,108102243.9132918,116864385.6480431]
[0]
[0]
[0]
[0]
[0]
[{"$f":"A82","v":"Vote 8 - [NAME OF VOTE 8]"},null,{"$f":"SUM(C251:C260)","v":0},0,0,0,0,0,0,0,0]
[{"$f":"A83","v":"8.1 - [Name of sub-vote]"}]
[0]
[0]
[0]
[0]
[0]
[0]
[0]
[0]
[0]
["Vote 9 - [NAME OF VOTE 9]",null,{"$f":"SUM(C262:C271)","v":0},0,0,0,0,0,0,0,0]
["9.1 - [Name of sub-vote]"]
[0]
[0]
[0]
[0]
[0]
[0]
[0]
[0]
[0]
[{"$f":"A104","v":"Vote 10 - [NAME OF VOTE 10]"},null,{"$f":"SUM(C273:C282)","v":0},0,0,0,0,0,0,0,0]
[{"$f":"A105","v":"10.1 - [Name of sub-vote]"}]
[{"$f":"A106","v":0}]
[0]
[0]
[0]
[0]
[0]
[0]
[0]
[{"$f":"A114","v":0}]
[{"$f":"A115","v":"Vote 11 - [NAME OF VOTE 11]"},null,{"$f":"SUM(C284:C293)","v":0},0,0,0,0,0,0,0,0]
[{"$f":"A116","v":"11.1 - [Name of sub-vote]"}]
[{"$f":"A117","v":0}]
[0]
[0]
[0]
[0]
[0]
[0]
[0]
[0]
["Vote 12 - [NAME OF VOTE 12]",null,{"$f":"SUM(C295:C304)","v":0},0,0,0,0,0,0,0,0]
["12.1 - [Name of sub-vote]"]
[0]
[0]
[0]
[0]
[0]
[0]
[0]
[0]
[0]
["Vote 13 - [NAME OF VOTE 13]",null,{"$f":"SUM(C306:C315)","v":0},0,0,0,0,0,0,0,0]
["13.1 - [Name of sub-vote]"]
[0]
[0]
[0]
[0]
[0]
[0]
[0]
[0]
[0]
["Vote 14 - [NAME OF VOTE 14]",null,{"$f":"SUM(C317:C326)","v":0},0,0,0,0,0,0,0,0]
["14.1 - [Name of sub-vote]"]
[0]
[0]
[0]
[0]
[0]
[0]
[0]
[0]
[0]
["Vote 15 - [NAME OF VOTE 15]",null,{"$f":"SUM(C328:C337)","v":0},0,0,0,0,0,0,0,0]
["15.1 - [Name of sub-vote]"]
[0]
[0]
[0]
[0]
[0]
[0]
[0]
[0]
[0]
["Total Expenditure by Vote",2,{"$f":"C173+C184+C195+C206+C217+C228+C239+C250+C261+C283+C294+C305+C316+C327+C272","v":6949419417},{"$f":"D173+D184+D195+D206+D217+D228+D239+D250+D261+D283+D294+D305+D316+D327+D272","v":6222242145.7999992},{"$f":"E173+E184+E195+E206+E217+E228+E239+E250+E261+E283+E294+E305+E316+E327+E272","v":7936445365.4800014},8380269903.1485653,7686767687.5253105,7686767687.5253105,8561796525.7030001,9070556505.8483181,9483681730.1459084,{"$f":"SUM(L173:L249)","v":0},0,0,0,0,0,0,0,0,0,0,0]
[]
[{"$f":"result","v":"Surplus/(Deficit) for the year"},2,{"$f":"C170-C338","v":-726982180},{"$f":"D170-D338","v":525680299.1400013},-941873650.8000021,1040608211.8766251,1283720419.9993095,1283720419.9993095,1347210030.2969999,1376671949.1516819,1433376685.8540916,0,0,0,0,0,0,0,0,0,0,0,0]
[{"$f":"head27a","v":"References"}]
["1. Insert 'Vote'; e.g. Department, if different to Functional structure"]
["2. Must reconcile to Financial Performance ('Revenue and Expenditure by Functional Classification' and 'Revenue and Expenditure')",null,null,null,null,null,null,null,1099028509.7909851,1115059757.0766442,1155153248.5183277]
["3. Assign share in 'associate' to relevant Vote"]

{"sheet":"A4-FinPerf RE","index":11,"n_rows":69,"n_cols":24,"rows_kept":69,"cut":false,"hidden":false,"merged":[[1,12,1,23],[1,9,1,11],[1,5,1,8]]}
[{"$f":"muni&\" - \"&Approve4","v":"Choose name from list - Table A4 Budgeted Financial Performance (revenue and expenditure)"}]
[{"$f":"desc","v":"Description"},{"$f":"head27","v":"Ref"},{"$f":"head1b","v":"2021/22"},{"$f":"head1A","v":"2022/23"},{"$f":"Head1","v":"2023/24"},{"$f":"Head2","v":"Current Year 2024/25"},null,null,null,{"$f":"Head3","v":"2025/26 Medium Term Revenue & Expenditure Framework"},null,null,{"$f":"Head4","v":"LTFS"}]
["R thousand",1,{"$f":"Head5","v":"Audited Outcome"},{"$f":"Head5","v":"Audited Outcome"},{"$f":"Head5","v":"Audited Outcome"},{"$f":"Head6","v":"Original Budget"},{"$f":"Head7","v":"Adjusted Budget"},{"$f":"Head8","v":"Full Year Forecast"},{"$f":"Head5b","v":"Pre-audit outcome"},{"$f":"Head9","v":"Budget Year 2025/26"},{"$f":"Head10","v":"Budget Year +1 2026/27"},{"$f":"Head11","v":"Budget Year +2 2027/28"},{"$f":"Head12","v":"Forecast 2028/29"},{"$f":"Head13","v":"Forecast 2029/30"},{"$f":"Head14","v":"Forecast 2030/31"},{"$f":"Head15","v":"Forecast 2031/32"},{"$f":"Head16","v":"Forecast 2032/33"},{"$f":"Head17","v":"Forecast 2033/34"},{"$f":"Head18","v":"Forecast 2034/35"},{"$f":"Head19","v":"Forecast 2035/36"},{"$f":"Head20","v":"Forecast 2036/37"},{"$f":"Head21","v":"Forecast 2037/38"},{"$f":"Head22","v":"Forecast 2038/39"},{"$f":"Head23","v":"Forecast 2039/40"}]
["Revenue"," "]
["Exchange Revenue"," "]
["Service charges - Electricity","2",{"$f":"'SA1'!C17","v":2676488559},{"$f":"'SA1'!D17","v":2724539632},{"$f":"'SA1'!E17","v":2858084054},{"$f":"'SA1'!F17","v":4297825065.3920994},{"$f":"'SA1'!G17","v":4224357970.2647991},{"$f":"'SA1'!H17","v":4229823058.2647991},{"$f":"'SA1'!I17","v":0},{"$f":"'SA1'!J17","v":4702555292.4623775},{"$f":"'SA1'!K17","v":4932980501.8570347},{"$f":"'SA1'!L17","v":5174696546.5590277}]
["Service charges - Water","2",{"$f":"'SA1'!C23","v":860675503},{"$f":"'SA1'!D23","v":824368756},{"$f":"'SA1'!E23","v":902754801},{"$f":"'SA1'!F23","v":1009760082},{"$f":"'SA1'!G23","v":1009760082},{"$f":"'SA1'!H23","v":1009760082},{"$f":"'SA1'!I23","v":739196293},{"$f":"'SA1'!J23","v":1161224094},{"$f":"'SA1'!K23","v":1218124075},{"$f":"'SA1'!L23","v":1277812155}]
["Service charges - Waste Water Management","2",{"$f":"'SA1'!C29","v":193119253},{"$f":"'SA1'!D29","v":197959736},{"$f":"'SA1'!E29","v":198616863},{"$f":"'SA1'!F29","v":220724861},{"$f":"'SA1'!G29","v":220724861},{"$f":"'SA1'!H29","v":220724861},{"$f":"'SA1'!I29","v":159960224},{"$f":"'SA1'!J29","v":250522716},{"$f":"'SA1'!K29","v":262798330},{"$f":"'SA1'!L29","v":275675448}]
["Service charges - Waste Management","2",{"$f":"'SA1'!C36","v":116021545},{"$f":"'SA1'!D36","v":123629076},{"$f":"'SA1'!E36","v":127306637},{"$f":"'SA1'!F36","v":155390777},{"$f":"'SA1'!G36","v":155390777},{"$f":"'SA1'!H36","v":155390777},{"$f":"'SA1'!I36","v":96611102},{"$f":"'SA1'!J36","v":166268131},{"$f":"'SA1'!K36","v":174415270},{"$f":"'SA1'!L36","v":182961618}]
["Sale of Goods and Rendering of Services"," ",11476540,10981523,14954953,42042838,42042838,42042838,null,23403149,24549906,25752852]
["Agency services"," ",2139483,2598950,2666696,764825.64240000001,764825.64240000001,764825.64240000001,null,5507583,5777455,6060550]
["Interest"," ",0,0,0,19135146.796800002,19135146.796800002,19135146.796800002,null,0,0,0]
["Interest earned from Receivables"," ",167310101,158697404,325984044,230681790,230681790,230681790,null,256056787,268603569,281765143]
["Interest earned from Current and Non Current Assets"," ",10445069,16957186,44117781,59562303,59562303,59562303,null,19996228,20976044,22003870]
["Dividends"," ",0,0,0,null,0,0,null,0,0,0]
["Rent on Land"," ",0,0,0,null,0,0,null,0,0,0]
["Rental from Fixed Assets"," ",26116659,20071338,33590328,113961628.72595002,113961628.72595002,113961628.72595002,null,44671740,46860648,49156823]
["Licence and permits"," ",984210,2415456,2021123,null,0,0,null,3096657,3248392,3407563]
["Special rating levies",null,0,0,0,null,null,null,null,0,0,0]
["Operational Revenue"," ",54548388,57522860,53625781,204124220,204124220,204124220,null,102111693,107115164,112363810]
["Non-Exchange Revenue"," "]
["Property rates","2",{"$f":"'SA1'!C10","v":1212773440},{"$f":"'SA1'!D10","v":1370173435},{"$f":"'SA1'!E10","v":1359086727},{"$f":"'SA1'!F10","v":1649352521},{"$f":"'SA1'!G10","v":1649352462},{"$f":"'SA1'!H10","v":1649352462},{"$f":"'SA1'!I10","v":1197656629},{"$f":"'SA1'!J10","v":1721664641},{"$f":"'SA1'!K10","v":1799139551},{"$f":"'SA1'!L10","v":1844118038}]
["Surcharges and Taxes"," ",null,null,0,null,null,null,null,0,0,0]
["Fines, penalties and forfeits"," ",14488973,20129365,34247150,11687216.863361001,11687216.863361001,11687216.863361001,null,12213207,12811652,13439425]
["Licences or permits"," ",0,0,0,2546799,2546799.7000000002,2546799.7000000002,null,0,0,0]
["Transfer and subsidies - Operational"," ",681677624,801751326,824544818,946343150,1026395188,1026395188,null,993197195,1066100549,1113039830]
["Interest"," ",55782645,63180751,106728864,null,null,null,null,66114156,69353750,72752083]
["Fuel Levy"," ",0,0,0,null,null,null,null,0,0,0]
["Operational Revenue"," ",0,0,0,null,null,null,null,0,0,0]
["Gains on disposal of Assets"," ",5194609,2659882,465000,null,null,null,null,4276765,4486327,4706157]
["Other Gains"," ",27139999,29424701,38741130,null,null,null,null,0,0,0]
["Discontinued Operations"," ",null,null,0,null,null,null,null,0,0,0]
["Total Revenue (excluding capital transfers and contributions)"," ",{"$f":"SUM(C6:C20)+SUM(C22:C32)","v":6116382600},{"$f":"SUM(D6:D20)+SUM(D22:D32)","v":6427061377},6927536750,8963903224.4206104,8970488108.993309,8975953196.993309,2193424248,9532880034.4623775,10017341183.857035,10459711911.559029]
["Expenditure"," "]
["Employee related costs","2",{"$f":"'SA1'!C71","v":1480410468},{"$f":"'SA1'!D71","v":1478744114},{"$f":"'SA1'!E71","v":1624858728},{"$f":"'SA1'!F71","v":1860539286},{"$f":"'SA1'!G71","v":1772840698},{"$f":"'SA1'!H71","v":1786363095},{"$f":"'SA1'!I71","v":1077583974},{"$f":"'SA1'!J71","v":1936772763},{"$f":"'SA1'!K71","v":2074266277},{"$f":"'SA1'!L71","v":2220504452},{"$f":"'SA1'!M71","v":0},{"$f":"'SA1'!N71","v":0},{"$f":"'SA1'!O71","v":0},{"$f":"'SA1'!P71","v":0},{"$f":"'SA1'!Q71","v":0},{"$f":"'SA1'!R71","v":0},{"$f":"'SA1'!S71","v":0},{"$f":"'SA1'!T71","v":0}]
["Remuneration of councillors"," ",49439040,51817505,63542010,66461931.11060001,66461931.11060001,66461931.11060001,null,70449648,73901678,77522858]
["Bulk purchases - electricity","2",{"$f":"'SA1'!C88","v":2212724552},{"$f":"'SA1'!D88","v":2350400905},{"$f":"'SA1'!E88","v":2714396462},{"$f":"'SA1'!F88","v":3145118900},{"$f":"'SA1'!G88","v":3145118900},{"$f":"'SA1'!H88","v":3145118900},{"$f":"'SA1'!I88","v":2088946774},{"$f":"'SA1'!J88","v":3522533168},{"$f":"'SA1'!K88","v":3695137293},{"$f":"'SA1'!L88","v":3876199021}]
["Inventory consumed","8",{"$f":"'SA1'!C169","v":821790404},{"$f":"'SA1'!D169","v":739336382},{"$f":"'SA1'!E169","v":877662945},{"$f":"'SA1'!F169","v":993409215},{"$f":"'SA1'!G169","v":755385143},{"$f":"'SA1'!H169","v":755385143},{"$f":"'SA1'!I169","v":796003692},{"$f":"'SA1'!J169","v":1013606243},{"$f":"'SA1'!K169","v":1068601379},{"$f":"'SA1'!L169","v":1123752159}]
["Debt impairment","3",776532709,71195569,1143097917,636000000,636000000,636000000,null,420000000,438900000,458650500]
["Depreciation and amortisation"," ",{"$f":"'SA1'!C83","v":373536588},{"$f":"'SA1'!D83","v":351530371},{"$f":"'SA1'!E83","v":362584027},{"$f":"'SA1'!F83","v":363040742},{"$f":"'SA1'!G83","v":362178745},{"$f":"'SA1'!H83","v":363040742},{"$f":"'SA1'!I83","v":263171844},{"$f":"'SA1'!J83","v":391122347},{"$f":"'SA1'!K83","v":387623527},{"$f":"'SA1'!L83","v":283437179}]
["Interest"," ",33596491,150813872,86051487,42824930.711800002,42824930.711800002,42824930.711800002,null,56180000,58708099.999999993,62230585.999999993]
["Contracted services"," ",{"$f":"'SA1'!C127","v":695047198},{"$f":"'SA1'!D127","v":799704053},{"$f":"'SA1'!E127","v":904385576},{"$f":"'SA1'!F127","v":1024663415},{"$f":"'SA1'!G127","v":817089678},{"$f":"'SA1'!H127","v":818471062},{"$f":"'SA1'!I127","v":574986733},{"$f":"'SA1'!J127","v":857186839},{"$f":"'SA1'!K127","v":972240531},{"$f":"'SA1'!L127","v":1043106862}]
["Transfers and subsidies"," ",{"$f":"'SA1'!C93","v":18486826},{"$f":"'SA1'!D93","v":15102578},{"$f":"'SA1'!E93","v":10857198},{"$f":"'SA1'!F93","v":52375754},{"$f":"'SA1'!G93","v":69670132},{"$f":"'SA1'!H93","v":52375754},{"$f":"'SA1'!I93","v":40289508},{"$f":"'SA1'!J93","v":54065270},{"$f":"'SA1'!K93","v":56768065},{"$f":"'SA1'!L93","v":59573673}]
["Irrecoverable debts written off"," ",75248154,26721381,22523583]
["Operational costs"," ",{"$f":"'SA1'!C157","v":155018229},{"$f":"'SA1'!D157","v":179925889},{"$f":"'SA1'!E157","v":209674720},{"$f":"'SA1'!F157","v":195836780},{"$f":"'SA1'!G157","v":207869544},{"$f":"'SA1'!H157","v":209398144},{"$f":"'SA1'!I157","v":102616517},{"$f":"'SA1'!J157","v":239760258},{"$f":"'SA1'!K157","v":244303719},{"$f":"'SA1'!L157","v":278593849}]
["Losses on disposal of Assets"," ",1015465,2252203,14154367,null,null,null,null,120000,105950,110589]
["Other Losses"," ",29522373,8157117,326694]
["Total Expenditure"," ",{"$f":"SUM(C35:C47)","v":6722368497},{"$f":"SUM(D35:D47)","v":6225701939},8034115714,8380270953.8223991,7875439701.8223991,7875439701.8223991,4943599042,8561796536,9070556519,9483681728,{"$f":"SUM(M35:M47)","v":0},0,0,0,0,0,0,0,0,0,0,0]
["Surplus/(Deficit)",null,{"$f":"C33-C48","v":-605985897},{"$f":"D33-D48","v":201359438},-1106578964,583632270.59821129,1095048407.1709099,1100513495.1709099,-2750174794,971083498.46237755,946784664.85703468,976030183.55902863,{"$f":"M33+M48","v":0},0,0,0,0,0,0,0,0,0,0,0]
["Transfers and subsidies - capital (monetary allocations)","6",368724617,324319271,427923159,456974891,488696014,488696014,null,376126520,429887271,457346507]
["Transfers and subsidies - capital (in-kind)","6",60000,1600,198834]
["Surplus/(Deficit) after capital transfers & contributions",null,{"$f":"SUM(C49:C51)","v":-237201280},{"$f":"SUM(D49:D51)","v":525680309},-678456971,1040607161.5982113,1583744421.1709099,1589209509.1709099,-2750174794,1347210018.4623775,1376671935.8570347,1433376690.5590286]
["Income Tax"]
["Surplus/(Deficit) after income tax",null,{"$f":"+C52-C53","v":-237201280},{"$f":"+D52-D53","v":525680309},-678456971,1040607161.5982113,1583744421.1709099,1589209509.1709099,-2750174794,1347210018.4623775,1376671935.8570347,1433376690.5590286,0,0,0,0,0]
["Share of Surplus/Deficit attributable to Joint Venture"]
["Share of Surplus/Deficit attributable to Minorities"]
["Surplus/(Deficit) attributable to municipality",null,{"$f":"SUM(C54:C56)","v":-237201280},{"$f":"SUM(D54:D56)","v":525680309},-678456971,1040607161.5982113,1583744421.1709099,1589209509.1709099,-2750174794,1347210018.4623775,1376671935.8570347,1433376690.5590286,0,0,0,0,0]
["Share of Surplus/Deficit attributable to Associate",7]
["Intercompany/Parent subsidiary transactions"]
[{"$f":"result","v":"Surplus/(Deficit) for the year"},1,{"$f":"SUM(C57:C59)","v":-237201280},{"$f":"SUM(D57:D59)","v":525680309},-678456971,1040607161.5982113,1583744421.1709099,1589209509.1709099,-2750174794,1347210018.4623775,1376671935.8570347,1433376690.5590286,0,0,0,0,0,{"$f":"R36+R59","v":0},0,0,0,0,0,0]
["References"]
["1. Classifications are revenue sources and expenditure type"]
["2. Detail to be provided in Table SA1",null,null,null,null,null,null,null,null,null,null,null,null,null,{"$f":"O60-'A4-FinPerf RE'!J60","v":-1347210018.4623775},{"$f":"P60-'A4-FinPerf RE'!K60","v":-1376671935.8570347},{"$f":"Q60-'A4-FinPerf RE'!L60","v":-1433376690.5590286}]
["3. Debt impairment includes Impairment and Reversal of Impairment Losses"]
["4. Expenditure type components previously shown under repairs and maintenance should be allocated back to the originating expenditure group/item; e.g. employee costs"]
["5. Repairs & maintenance detailed in Table A9 and Table SA34c"]
["6. Contributions are funds provided by external organisations to assist with infrastructure development; e.g. developer contributions (detail to be provided in Table SA1)"]
["7. Equity method ( Includes Joint Ventures)"]
["8. All materials consumed including water consumed and materials used in operations."]

{"sheet":"A4 Funding","index":12,"n_rows":311,"n_cols":14,"rows_kept":311,"cut":false,"hidden":true,"merged":[[1,7,1,10],[1,11,1,13],[0,0,0,13]]}
["Western Cape: Saldanha Bay (WC014) - Table A4 Funding Tool Summary for 4th Quarter ended 30 June 2024"]
["A4 Code","A4 Description","Type","Classification",{"$f":"head1b","v":"2021/22"},{"$f":"head1A","v":"2022/23"},{"$f":"Head1","v":"2023/24"},{"$f":"Head2","v":"Current Year 2024/25"},null,null,null,{"$f":"Head3","v":"2025/26 Medium Term Revenue & Expenditure Framework"}]
["R thousands","","","",{"$f":"Head5","v":"Audited Outcome"},{"$f":"Head5","v":"Audited Outcome"},{"$f":"Head5","v":"Audited Outcome"},{"$f":"Head6","v":"Original Budget"},{"$f":"Head7","v":"Adjusted Budget"},{"$f":"Head8","v":"Full Year Forecast"},{"$f":"Head5b","v":"Pre-audit outcome"},{"$f":"Head9","v":"Budget Year 2025/26"},{"$f":"Head10","v":"Budget Year +1 2026/27"},{"$f":"Head11","v":"Budget Year +2 2027/28"}]
["0300","Exchange Revenue / Service charges - Electricity","Non-Cash","Debtor accrual - service charges electricity accrued through exchange receivables",{"$f":"'SA3'!C8","v":856323631},{"$f":"'SA3'!D8","v":875490339},{"$f":"'SA3'!E8","v":993688954},{"$f":"'SA3'!F8","v":1130408852},{"$f":"'SA3'!G8","v":1130408852},{"$f":"'SA3'!H8","v":1130408852},{"$f":"'SA3'!I8","v":-463390},{"$f":"'SA3'!J8","v":1793123353},{"$f":"'SA3'!K8","v":1877011643},{"$f":"'SA3'!L8","v":1964831593}]
["","","","Non-Cash Total",{"$f":"SUM(E4)","v":856323631},{"$f":"SUM(F4)","v":875490339},993688954,1130408852,1130408852,1130408852,-463390,1793123353,1877011643,1964831593]
["","Exchange Revenue / Service charges - Electricity Total","","",348788123,406771611,411906879,523045808,501454168,501454168,489018755,567145818,656186870,721805554]
["0400","Exchange Revenue / Service charges - Water","Non-Cash","Debtor accrual - service charges water accrued through exchange receivables",{"$f":"'SA3'!C9","v":2710353904},{"$f":"'SA3'!D9","v":3130817455},{"$f":"'SA3'!E9","v":3629930135},{"$f":"'SA3'!F9","v":3318666502},{"$f":"'SA3'!G9","v":3318666502},{"$f":"'SA3'!H9","v":3318666502},{"$f":"'SA3'!I9","v":485338778},{"$f":"'SA3'!J9","v":3827338232},{"$f":"'SA3'!K9","v":4000358085},{"$f":"'SA3'!L9","v":4181202524}]
["","","","Non-Cash Total",164007775,170098073,180478490,172644283,172644313,172644313,186795113,183003213,191238132,199843847]
["","Exchange Revenue / Service charges - Water Total","","",164007775,170098073,180478490,172644283,172644313,172644313,186795113,183003213,191238132,199843847]
["0500","Exchange Revenue / Service charges - Waste Water Management","Non-Cash","Debtor accrual - service charges waste water management accrued through exchange receivables",{"$f":"'SA3'!C11","v":444132867},{"$f":"'SA3'!D11","v":479709272},{"$f":"'SA3'!E11","v":544198600},{"$f":"'SA3'!F11","v":508491828},{"$f":"'SA3'!G11","v":508491828},{"$f":"'SA3'!H11","v":508491828},{"$f":"'SA3'!I11","v":64634707},{"$f":"'SA3'!J11","v":564689270},{"$f":"'SA3'!K11","v":590270642},{"$f":"'SA3'!L11","v":617011524}]
["","","","Non-Cash Total",80128935,84326666,97699103,95640524,92904654,92904654,91984780,99731918,104219662,108909545]
["","Exchange Revenue / Service charges - Waste Water Management Total","","",80128935,84326666,97699103,95640524,92904654,92904654,91984780,99731918,104219662,108909545]
["0600","Exchange Revenue / Service charges - Waste Management","Non-Cash","Debtor accrual - service charges waste management accrued through exchange receivables",{"$f":"'SA3'!C10","v":238122507},{"$f":"'SA3'!D10","v":258154726},{"$f":"'SA3'!E10","v":293654586},{"$f":"'SA3'!F10","v":273644010},{"$f":"'SA3'!G10","v":273644010},{"$f":"'SA3'!H10","v":273644010},{"$f":"'SA3'!I10","v":34024486},{"$f":"'SA3'!J10","v":314057565},{"$f":"'SA3'!K10","v":328271790},{"$f":"'SA3'!L10","v":343129655}]
["","","","Non-Cash Total",75365519,80078380,86769623,83534948,85428283,85428283,86823160,90554172,94628927,98887225]
["","Exchange Revenue / Service charges - Waste Management Total","","",75365519,80078380,86769623,83534948,85428283,85428283,86823160,90554172,94628927,98887225]
["0700","Exchange Revenue / Sale of Goods and Rendering of Services","Cash","Cash sales of goods and rendering of services",{"$f":"'SA3'!C138","v":17253419554},19080293,11173902,26928382,20301929,20301929,8702109,57426213,104671871,11841054]
[null,null,null,"Proceeds sale of PPE",0,0,0,0,0,0,0,0,0,0]
["","","","Cash Total",22806591,19080293,11173902,26928382,20301929,20301929,8702109,57426213,104671871,11841054]
["","Exchange Revenue / Sale of Goods and Rendering of Services Total","","",22806591,19080293,11173902,26928382,20301929,20301929,8702109,57426213,104671871,11841054]
["0800","Exchange Revenue / Agency services","Cash","Cash - agency services",8571731,8468831,9420015,9380088,10026113,10026113,9432552,10527432,11001154,11496205]
["","","","Cash Total",8571731,8468831,9420015,9380088,10026113,10026113,9432552,10527432,11001154,11496205]
["","Exchange Revenue / Agency services Total","","",8571731,8468831,9420015,9380088,10026113,10026113,9432552,10527432,11001154,11496205]
["0900","Exchange Revenue / Interest","Non-Cash","Deemed interest",0,0,0,0,0,0,0,0,0,0]
["","","","Non-Cash Total"]
["","Exchange Revenue / Interest Total","",""]
["1000","Exchange Revenue / Interest earned from Receivables","Non-Cash","Affiliates/related parties/associated companies",0,0,0,0,0,0,0,0,0,0]
[null,null,null,"Debtor accrual - interest outstanding debtors accrued through exchange receivables",8428657,8559129,12421713,10428637,13619567,13619567,14760948,13222696,13869250,14548807]
[null,null,null,"SARS",0,0,0,0,0,0,0,0,0,0]
["","","","Non-Cash Total",8428657,8559129,12421713,10428637,13619567,13619567,14760948,13222696,13869250,14548807]
["","Exchange Revenue / Interest earned from Receivables Total","","",8428657,8559129,12421713,10428637,13619567,13619567,14760948,13222696,13869250,14548807]
["1100","Exchange Revenue / Interest earned from Current and Non Current Assets","Cash","Cash - interest external investments",29330602,35904728,58804575,48636899,71085284,71085284,76857505,72243257,69635135,64962419]
["","","","Cash Total",29330602,35904728,58804575,48636899,71085284,71085284,76857505,72243257,69635135,64962419]
["","Exchange Revenue / Interest earned from Current and Non Current Assets Total","","",29330602,35904728,58804575,48636899,71085284,71085284,76857505,72243257,69635135,64962419]
["1200","Exchange Revenue / Dividends","Cash","Cash - dividends received",0,0,0,0,0,0,0,0,0,0]
["","","","Cash Total"]
["","Exchange Revenue / Dividends Total","",""]
["1300","Exchange Revenue / Rent on Land","Cash","Cash - rent on land",0,0,0,0,0,0,0,0,0,0]
["","","","Cash Total"]
["","Exchange Revenue / Rent on Land Total","",""]
["1400","Exchange Revenue / Rental from Fixed Assets","Cash","Cash - rental from fixed assets",9600336,13292654,13100762,14702584,14578889,14578889,13687513,15308159,15996716,16716565]
["","","","Cash Total",9600336,13292654,13100762,14702584,14578889,14578889,13687513,15308159,15996716,16716565]
["","Exchange Revenue / Rental from Fixed Assets Total","","",9600336,13292654,13100762,14702584,14578889,14578889,13687513,15308159,15996716,16716565]
["1500","Exchange Revenue / Licence and permits","Cash","Cash - licence and permits",1211792,1218707,1223339,1470158,1470158,1470158,1296191,1543705,1613133,1685724]
["","","","Cash Total",1211792,1218707,1223339,1470158,1470158,1470158,1296191,1543705,1613133,1685724]
["","Exchange Revenue / Licence and permits Total","","",1211792,1218707,1223339,1470158,1470158,1470158,1296191,1543705,1613133,1685724]
[1550,"Exchange Revenue / Special rating levies","Cash","Cash - Special rating levies",5777681,2735395,36456954,13138437,27041445,27041445,24399372,8227587,8373266,8525059]
[null,null,null,"Cash Total"]
[null,"Exchange Revenue / Special rating levies Total"]
[1600,"Exchange Revenue / Operational Revenue","Cash","Cash - Operating revenue",5777681,2735395,36456954,13138437,27041445,27041445,24399372,8227587,8373266,8525059]
["","","","Cash Total",5777681,2735395,36456954,13138437,27041445,27041445,24399372,8227587,8373266,8525059]
["","Exchange Revenue / Operational Revenue Total","","",5777681,2735395,36456954,13138437,27041445,27041445,24399372,8227587,8373266,8525059]
["1800","Non-Exchange Revenue / Property rates","Non-Cash","Debtor accrual - property rates accrued through non-exchange receivables",244188397,260792669,296887927,325915179,327260279,327260279,327316114,352786901,373953834,396391056]
["","","","Non-Cash Total",244188397,260792669,296887927,325915179,327260279,327260279,327316114,352786901,373953834,396391056]
["","Non-Exchange Revenue / Property rates Total","","",244188397,260792669,296887927,325915179,327260279,327260279,327316114,352786901,373953834,396391056]
["1900","Non-Exchange Revenue / Surcharges and Taxes","Non-Cash","Debtor accrual - surcharges & taxes accrued through non-exchange receivables",0,0,0,0,0,0,0,0,0,0]
["","","","Non-Cash Total"]
["","Non-Exchange Revenue / Surcharges and Taxes Total","",""]
["2000","Non-Exchange Revenue / Fines, penalties and forfeits","Non-Cash","Debtor accrual - Fines, penalties and forfeits revenue accrued through non-exchanges receivables",15167205,22309991,25597446,24089053,24244843,24244843,23703476,26665636,27865542,29119492]
["","","","Non-Cash Total",15167205,22309991,25597446,24089053,24244843,24244843,23703476,26665636,27865542,29119492]
["","Non-Exchange Revenue / Fines, penalties and forfeits Total","","",15167205,22309991,25597446,24089053,24244843,24244843,23703476,26665636,27865542,29119492]
["2100","Non-Exchange Revenue / Licences or permits","Cash","Cash - licences or permits",0,0,2522,4548,4548,4548,1675,4777,4991,5215]
["","","","Cash Total",null,null,2522,4548,4548,4548,1675,4777,4991,5215]
["","Non-Exchange Revenue / Licences or permits Total","","",null,null,2522,4548,4548,4548,1675,4777,4991,5215]
["2200","Non-Exchange Revenue / Transfer and subsidies - Operational","Cash","Cash - Operational transfers and subsidies",125086042,128506625,134881850,159564761,156712363,156712363,151966748,160877352,162922573,173816529]
["","","","Cash Total",125086042,128506625,134881850,159564761,156712363,156712363,151966748,160877352,162922573,173816529]
[null,null,"Non-Cash","Operational allocation in-kind",0,0,0,0,0,0,0,0,0,0]
["","","","Non-Cash Total"]
["","Non-Exchange Revenue / Transfer and subsidies - Operational Total","","",125086042,128506625,134881850,159564761,156712363,156712363,151966748,160877352,162922573,173816529]
["2300","Non-Exchange Revenue / Interest","Non-Cash","Debtor accrual - interest outstanding property rates accrued through non-exchange receivables",3385610,3234989,4995937,3703767,5537647,5537647,5905753,5803546,6087831,6386132]
[null,null,null,"Debtor accrual - interest outstanding service charges electricity accrued through exchange receivables",0,0,0,0,0,0,0,66000,70000,73400]
[null,null,null,"Debtor accrual - interest outstanding service charges waste management accrued through exchange receivables",0,0,0,0,0,0,0,303630,318500,334100]
[null,null,null,"Debtor accrual - interest outstanding service charges waste water management accrued through exchange receivables",0,0,0,0,0,0,0,245580,257600,270300]
[null,null,null,"Debtor accrual - interest outstanding service charges water accrued through exchange receivables",0,0,0,0,0,0,0,436000,457400,479800]
["","","","Non-Cash Total",3385610,3234989,4995937,3703767,5537647,5537647,5905753,6854756,7191331,7543732]
["","Non-Exchange Revenue / Interest Total","","",3385610,3234989,4995937,3703767,5537647,5537647,5905753,6854756,7191331,7543732]
["2400","Non-Exchange Revenue / Fuel Levy","Cash","Cash collection fuel levy",0,0,0,0,0,0,0,0,0,0]
["","","","Cash Total"]
["","Non-Exchange Revenue / Fuel Levy Total","",""]
["2500","Non-Exchange Revenue / Operational Revenue","Non-Cash","Debtor accrual - availability charges electricity accrued through non-exchange receivables",0,0,0,1623840,1450015,1450015,1415604,1631349,1887378,2076116]
[null,null,null,"Debtor accrual - availability charges waste management accrued through non-exchange receivables",0,0,0,6778705,6778710,6778710,6419663,7185512,7508786,7846679]
[null,null,null,"Debtor accrual - availability charges waste water management  accrued through non-exchange receivables",0,0,0,15378062,16092402,16092402,15795250,16895305,17655389,18449878]
[null,null,null,"Debtor accrual - availability charges water accrued through non-exchange receivables",0,0,0,11701633,11072903,11072903,10118814,11737370,12265462,12817408]
["","","","Non-Cash Total",null,null,null,35482240,35394030,35394030,33749331,37449536,39317015,41190081]
["","Non-Exchange Revenue / Operational Revenue Total","","",null,null,null,35482240,35394030,35394030,33749331,37449536,39317015,41190081]
["2600","Non-Exchange Revenue / Gains on disposal of Assets","Non-Cash","Biological assets",0,0,0,0,0,0,0,0,0,0]
[null,null,null,"Discontinued operations",0,0,0,0,0,0,0,0,0,0]
[null,null,null,"Heritage assets",0,0,0,0,0,0,0,0,0,0]
[null,null,null,"Intangible assets",892,0,0,0,0,0,0,0,0,0]
[null,null,null,"Investment property",0,0,0,0,0,0,0,0,0,0]
[null,null,null,"Land",18020,15460,0,0,0,0,147701,0,0,0]
[null,null,null,"Living resources",0,0,0,0,0,0,0,0,0,0]
[null,null,null,"Other assets",0,98,405,0,0,0,0,0,0,0]
[null,null,null,"PPE",0,400165,890879,0,0,0,0,0,0,0]
["","","","Non-Cash Total",18912,415723,891284,null,null,null,147701]
["","Non-Exchange Revenue / Gains on disposal of Assets Total","","",18912,415723,891284,null,null,null,147701]
["2700","Non-Exchange Revenue / Other Gains","Non-Cash","Fair value adjustment actuarial assesments - leave gratuity",0,0,0,0,0,0,0,0,0,0]
[null,null,null,"Fair value adjustment actuarial assesments - long service awards",0,1238849,3837953,0,0,0,1966429,0,0,0]
[null,null,null,"Fair value adjustment actuarial assesments - medical aid",0,5271292,14161100,0,0,0,8276622,0,0,0]
[null,null,null,"Fair value adjustment actuarial assesments - pension funds",0,0,0,0,0,0,0,0,0,0]
[null,null,null,"Fair value adjustment biological assets",0,0,0,0,0,0,0,0,0,0]
[null,null,null,"Fair value adjustment heritage assets",0,0,0,0,0,0,0,0,0,0]
[null,null,null,"Fair value adjustment interest rate swap",0,0,0,0,0,0,0,0,0,0]
[null,null,null,"Fair value adjustment investment property",2201470,848020,3552830,0,0,0,3132000,0,0,0]
[null,null,null,"Fair value adjustment investments",0,0,0,0,0,0,0,0,0,0]
[null,null,null,"Fair value adjustment living resources",0,0,0,0,0,0,0,0,0,0]
[null,null,null,"Foreign exchange",16117,0,0,0,0,0,0,0,0,0]
[null,null,null,"Inventory - fair value assessment",0,0,0,0,0,0,0,0,0,0]
[null,null,null,"Inventory - increase in net realisable value",0,79376,561353,0,0,0,953689,0,0,0]
[null,null,null,"Debt Waived",0,0,0,0,0,0,0,0,0,0]
["","","","Non-Cash Total",2217587,7437537,22113236,null,null,null,14328740]
["","Non-Exchange Revenue / Other Gains Total","","",2217587,7437537,22113236,null,null,null,14328740]
["2800","Revenue / Discontinued Operations","Non-Cash","Discontinued operations",0,0,0,0,0,0,0,0,0,0]
["","","","Non-Cash Total"]
["","Revenue / Discontinued Operations Total","",""]
["3100","Expenditure / Employee related costs","Non-Cash","Cost capitalised to PPE (credit account)",0,0,0,0,0,0,0,0,0,0]
[null,null,null,"Creditor accrual - Employee related expenditure accrued through payables from non-exchange transactions",406432504,422930870,449187913,507489887,506780327,506780327,481867697,545137710,569073873,594662813]
[null,null,null,"In-kind benefits",0,0,0,0,0,0,0,0,0,0]
[null,null,null,"In-kind benefits - cost capitalised to PPE (credit account)",0,0,0,0,0,0,0,0,0,0]
[null,null,null,"Post-retirement benefit: medical",18799675,14993000,17858000,19804507,18878347,18878347,18595000,20702167,21654567,22629012]
[null,null,null,"Post-retirement benefit: pension",0,0,0,0,0,0,0,0,0,0]
["","","","Non-Cash Total",425232179,437923870,467045913,527294394,525658674,525658674,500462697,565839877,590728440,617291825]
["","Expenditure / Employee related costs Total","","",425232179,437923870,467045913,527294394,525658674,525658674,500462697,565839877,590728440,617291825]
["3200","Expenditure / Remuneration of councillors","Non-Cash","Creditor Accrual - councillor remuneration accrued through payables from non-exchange transactions",12306783,12689969,12874169,15330799,15330799,15330799,13991167,16097339,16837817,17595518]
[null,null,null,"In-kind benefits to councillors",0,0,0,0,0,0,0,0,0,0]
[null,null,null,"Use of personal facilities",0,0,0,0,0,0,0,0,0,0]
["","","","Non-Cash Total",12306783,12689969,12874169,15330799,15330799,15330799,13991167,16097339,16837817,17595518]
["","Expenditure / Remuneration of councillors Total","","",12306783,12689969,12874169,15330799,15330799,15330799,13991167,16097339,16837817,17595518]
["3300","Expenditure / Bulk purchases - electricity","Non-Cash","Creditor accrual - bulk purchases electricity accrued through payables from exchange transactions",278629528,329347030,340942124,430699500,420326740,420326740,410500417,473708236,557554594,624461145]
["","","","Non-Cash Total",278629528,329347030,340942124,430699500,420326740,420326740,410500417,473708236,557554594,624461145]
["","Expenditure / Bulk purchases - electricity Total","","",278629528,329347030,340942124,430699500,420326740,420326740,410500417,473708236,557554594,624461145]
["3400","Expenditure / Inventory consumed","Non-Cash","Creditor accrual - bulk purchases water accrued through payables from exchange transactions",47760421,0,0,0,0,0,0,0,0,0]
[null,null,null,"Inventory consumed - agricultural",0,0,0,0,0,0,0,0,0,0]
[null,null,null,"Inventory consumed - capitalisation of inventory consumed",0,0,0,0,0,0,0,0,0,0]
[null,null,null,"Inventory consumed - finished Goods",0,0,0,0,0,0,0,0,0,0]
[null,null,null,"Inventory consumed - housing stock",155452,20727,0,0,0,0,0,0,0,0]
[null,null,null,"Inventory consumed - land",0,372,0,0,0,0,0,0,0,0]
[null,null,null,"Inventory consumed - materials and supplies",8540404,9697058,9757784,11748042,12692625,12692625,11533656,14988813,13736493,14343424]
[null,null,null,"Inventory consumed - standard rated",6738016,6665880,7621319,9307634,8841260,8841260,8117791,15615611,10794579,11280355]
[null,null,null,"Inventory consumed - water",0,46672409,58990773,68565206,68565206,68565206,57631158,76354932,79867258,83461285]
[null,null,null,"Inventory consumed - zero rated",15098447,22613475,36760528,38058332,35093667,35093667,31205921,40621898,42454372,44364760]
["","","","Non-Cash Total",78292740,85669921,113130404,127679214,125192758,125192758,108488526,147581254,146852702,153449824]
["","Expenditure / Inventory consumed Total","","",78292740,85669921,113130404,127679214,125192758,125192758,108488526,147581254,146852702,153449824]
["3500","Expenditure / Debt impairment","Non-Cash","Impairment loss - exchange revenue - electricity",-565054,42616,1188278,1297500,458460,458460,883072,509274,530858,554747]
[null,null,null,"Impairment loss - exchange revenue - other",55831,95782,-1317320,459480,1947980,1947980,-427306,2054100,2139472,2235748]
[null,null,null,"Impairment loss - exchange revenue - waste management",2211933,85191,5448060,2459760,2307880,2307880,6494646,2403482,2534741,2648804]
[null,null,null,"Impairment loss - exchange revenue - waste water management",868894,-168263,3277936,1195440,1760735,1760735,3217752,1849170,1933818,2020840]
[null,null,null,"Impairment loss - exchange revenue - water",2557523,-889899,5052377,3094740,1124645,1124645,7575045,1183326,1235196,1290780]
[null,null,null,"Impairment loss - non-exchange revenue - other",-1990378,5282257,2179309,-5654940,-5654940,-5654940,-3336108,-5930022,-6204906,-6484127]
[null,null,null,"Impairment loss - non-exchange revenue - prop rates",-762920,30140,6693924,5227968,77098,77098,1117148,85428,84675,88485]
[null,null,null,"Impairment loss - non-exchange revenue - serv charges",0,0,0,0,0,0,1138952,0,0,0]
[null,null,null,"Impairment loss - non-exchange revenue - serv charges - electricity",0,0,0,0,0,0,0,0,0,0]
[null,null,null,"Impairment loss - non-exchange revenue - serv charges - waste management",0,0,0,0,0,0,0,0,0,0]
[null,null,null,"Impairment loss - non-exchange revenue - serv charges - waste water management",0,0,0,0,0,0,0,0,0,0]
[null,null,null,"Impairment loss - non-exchange revenue - serv charges - water",0,0,0,0,0,0,0,0,0,0]
[null,null,null,"Reversal of Impairment loss - exchange revenue - electricity",0,0,0,0,0,0,0,0,0,0]
[null,null,null,"Reversal of Impairment loss - non-exchange revenue - other",0,0,0,0,0,0,0,0,0,0]
[null,null,null,"Reversal of Impairment loss - non-exchange revenue - prop rates",0,0,0,0,0,0,0,0,0,0]
[null,null,null,"Reversal of Impairment loss - non-exchange revenue - serv charges",0,0,0,0,0,0,0,0,0,0]
[null,null,null,"Reversal of Impairment loss - non-exchange revenue - serv charges - electricity",0,0,0,0,0,0,0,0,0,0]
[null,null,null,"Reversal of Impairment loss - non-exchange revenue - serv charges - waste management",0,0,0,0,0,0,0,0,0,0]
[null,null,null,"Reversal of Impairment loss - non-exchange revenue - serv charges - waste water mangement",0,0,0,0,0,0,0,0,0,0]
[null,null,null,"Reversal of Impairment loss - non-exchange revenue - serv charges - water",-42824,-35163,-21749,0,0,0,-14902,0,0,0]
[null,null,null,"Reversal of Impairment loss - exchange revenue - waste management",0,0,0,0,0,0,0,0,0,0]
[null,null,null,"Reversal of Impairment loss - exchange revenue - waste water management",0,0,0,0,0,0,0,0,0,0]
[null,null,null,"Reversal of Impairment loss - exchange revenue - water",0,0,0,0,0,0,0,0,0,0]
[null,null,null,"Reversal of Impairment loss - exchange revenue - other",0,0,0,0,0,0,0,0,0,0]
["","","","Non-Cash Total",2333005,4442661,22500815,8079948,2021858,2021858,16648299,2154758,2253854,2355277]
["","Expenditure / Debt impairment Total","","",2333005,4442661,22500815,8079948,2021858,2021858,16648299,2154758,2253854,2355277]
["3600","Expenditure / Depreciation and amortisation","Non-Cash","Amortisation - intangible assets",4617741,109817,123854,9980172,1225020,1225020,144799,0,0,0]
[null,null,null,"Depreciation - biological or cultivated assets",0,0,0,0,0,0,0,0,0,0]
[null,null,null,"Depreciation - heritage assets",0,0,0,0,0,0,0,0,0,0]
[null,null,null,"Depreciation - intangible assets",2335354,2834538,2992731,4613460,4613460,4613460,2925414,6241644,7155808,7861477]
[null,null,null,"Depreciation - investment property",0,0,0,0,0,0,0,0,0,0]
[null,null,null,"Depreciation - living resources",0,0,0,0,0,0,0,0,0,0]
[null,null,null,"Depreciation - PPE",139702899,141377712,152074753,171673797,171673797,171673797,162331303,189355668,203355885,218808581]
[null,null,null,"Depreciation - Land",0,0,0,0,0,0,0,0,0,0]
[null,null,null,"Impairment loss - biological or cultivated assets",0,0,0,0,0,0,0,0,0,0]
[null,null,null,"Impairment loss - heritage assets",0,0,0,0,0,0,0,0,0,0]
[null,null,null,"Impairment loss - intangible assets",0,0,0,0,0,0,0,0,0,0]
[null,null,null,"Impairment loss - investment property",0,0,0,0,0,0,0,0,0,0]
[null,null,null,"Impairment loss - living resources",0,0,0,0,0,0,0,0,0,0]
[null,null,null,"Impairment loss - PPE",10003199,1251759,1875490,0,0,0,8057370,0,0,0]
[null,null,null,"Impairment loss - PPE - construction WIP",0,0,717739,0,0,0,316828,0,0,0]
[null,null,null,"Reversal impairment loss - biological or cultivated assets",0,0,0,0,0,0,0,0,0,0]
[null,null,null,"Reversal impairment loss - investment property",0,0,0,0,0,0,0,0,0,0]
[null,null,null,"Reversal impairment loss - living resources",0,0,0,0,0,0,0,0,0,0]
[null,null,null,"Reversal impairment loss - PPE",-416985,-8081308,-12754683,0,0,0,-7082845,0,0,0]
[null,null,null,"Reversal impairment loss - PPE - construction WIP",0,0,0,0,0,0,0,0,0,0]
[null,null,null,"Reversal of impairment loss - heritage assets",0,0,0,0,0,0,0,0,0,0]
[null,null,null,"Reversal of impairment loss - intangible assets",0,0,0,0,0,0,0,0,0,0]
["","","","Non-Cash Total",156242208,137492518,145029884,186267429,177512277,177512277,166692869,195597312,210511693,226670058]
["","Expenditure / Depreciation and amortisation Total","","",156242208,137492518,145029884,186267429,177512277,177512277,166692869,195597312,210511693,226670058]
["3700","Expenditure / Interest","Cash","Direct cash payment",13240083,12485705,13427966,12245328,12245328,12245328,12220806,11044392,9707237,15236730]
["","","","Cash Total",13240083,12485705,13427966,12245328,12245328,12245328,12220806,11044392,9707237,15236730]
[null,null,"Non-Cash","Accrual of finance charges - discounting of financial instruments",0,0,0,0,0,0,0,0,0,0]
[null,null,null,"Accrual of finance charges - interest costs intercompany/parentsubsidiary transactions",0,0,0,0,0,0,0,0,0,0]
[null,null,null,"Accrual of finance charges - interest costs long service awards",1384000,1801000,2267000,2453000,2519410,2519410,2506000,2453004,2565886,2681348]
[null,null,null,"Accrual of finance charges - interest costs non-current provisions",3223808,5812787,6017873,4721484,6349029,6349029,6349140,6031584,5730003,5987853]
["","","","Non-Cash Total",4607808,7613787,8284873,7174484,8868439,8868439,8855140,8484588,8295889,8669201]
["","Expenditure / Interest Total","","",17847891,20099492,21712839,19419812,21113767,21113767,21075946,19528980,18003126,23905931]
["3800","Expenditure / Contracted services","Non-Cash","Creditor Accrual - contracted services accrued through payables from exchange transactions",65366204,92048676,112964907,171706648,172258145,172258145,128260458,245713363,252988446,161178260]
["","","","Non-Cash Total",65366204,92048676,112964907,171706648,172258145,172258145,128260458,245713363,252988446,161178260]
["","Expenditure / Contracted services Total","","",65366204,92048676,112964907,171706648,172258145,172258145,128260458,245713363,252988446,161178260]
["3900","Expenditure / Transfers and subsidies","Cash","Capital monetary allocation",0,0,0,0,0,0,0,0,0,0]
[null,null,null,"Capital monetary allocation made to municipal entities.",0,0,0,0,0,0,0,0,0,0]
[null,null,null,"Operational monetary allocations",2765647,1340555,1517074,1022616,1802996,1802996,1448979,1484507,1552791,1622668]
[null,null,null,"Operational monetary allocations made to municipal entities.",0,0,0,0,0,0,0,0,0,0]
["","","","Cash Total",2765647,1340555,1517074,1022616,1802996,1802996,1448979,1484507,1552791,1622668]
[null,null,"Non-Cash","Capital allocation in-kind",0,0,0,0,0,0,0,0,0,0]
[null,null,null,"Capital allocation in-kind made to municipal entities.",0,0,0,0,0,0,0,0,0,0]
[null,null,null,"Operational allocation in-kind",287270,0,0,0,0,0,35850,15000,15690,16396]
[null,null,null,"Operational allocation in-kind made to municipal entities.",0,0,0,0,0,0,0,0,0,0]
["","","","Non-Cash Total",287270,null,null,null,null,null,35850,15000,15690,16396]
["","Expenditure / Transfers and subsidies Total","","",3052917,1340555,1517074,1022616,1802996,1802996,1484829,1499507,1568481,1639064]
["4000","Expenditure / Irrecoverable debts written off","Non-Cash","Bad debt written off",17745603,25564658,24242452,33054348,32067818,32067818,21202178,0,0,0]
[null,null,null,"Irrecoverable debt written off - receivables exchange revenue - electricity",0,0,0,0,0,0,0,319044,333727,348744]
[null,null,null,"Irrecoverable debt written off - receivables exchange revenue - other",0,0,0,0,0,0,0,995604,1041409,1088274]
[null,null,null,"Irrecoverable debt written off - receivables exchange revenue - waste management",0,0,0,0,0,0,0,1654812,1730940,1808833]
[null,null,null,"Irrecoverable debt written off - receivables exchange revenue - waste water management",0,0,0,0,0,0,0,2154588,2253705,2355125]
[null,null,null,"Irrecoverable debt written off - receivables exchange revenue - water",0,0,0,0,0,0,0,6764928,7076124,7394550]
[null,null,null,"Irrecoverable debt written off - receivables non-exchange revenue - other",0,0,0,0,0,0,0,19585776,20486722,21408625]
[null,null,null,"Irrecoverable debt written off - receivables non-exchange revenue - property rates",0,0,0,0,0,0,0,2136300,2234576,2335132]
[null,null,null,"Irrecoverable debt written off - receivables non-exchange revenue - service charges",0,0,0,0,0,0,0,0,0,0]
[null,null,null,"Irrecoverable debt written off - receivables non-exchange revenue - service charges - electricity",0,0,0,0,0,0,0,0,0,0]
[null,null,null,"Irrecoverable debt written off - receivables non-exchange revenue - service charges - waste management",0,0,0,0,0,0,0,0,0,0]
[null,null,null,"Irrecoverable debt written off - receivables non-exchange revenue - service charges - waste water management",0,0,0,0,0,0,0,0,0,0]
[null,null,null,"Irrecoverable debt written off - receivables non-exchange revenue - service charges - water",0,0,0,0,0,0,0,0,0,0]
["","","","Non-Cash Total",17745603,25564658,24242452,33054348,32067818,32067818,21202178,33611052,35157203,36739283]
["","Expenditure / Irrecoverable debts written off Total","","",17745603,25564658,24242452,33054348,32067818,32067818,21202178,33611052,35157203,36739283]
["4100","Expenditure / Operational costs","Cash","Direct cash payment",0,0,0,0,0,0,0,0,0,0]
["","","","Cash Total"]
[null,null,"Non-Cash","Contribution to provisions",0,0,0,0,0,0,0,0,0,0]
[null,null,null,"Creditor accrual - expenditure: discontinued operations",0,0,0,0,0,0,0,0,0,0]
[null,null,null,"Creditor accrual - operational costs accrued through payables from exchange transactions",14055034,19901832,22134377,19150902,29904971,29904971,28184770,46334392,48433207,50646625]
[null,null,null,"Creditor accrual - operational costs accrued through payables from non-exchange transactions",43600724,45953082,49904662,60678133,64741056,64741056,55681411,64703851,67967351,70642313]
["","","","Non-Cash Total",57655758,65854914,72039039,79829035,94646027,94646027,83866181,111038243,116400558,121288938]
["","Expenditure / Operational costs Total","","",57655758,65854914,72039039,79829035,94646027,94646027,83866181,111038243,116400558,121288938]
["4200","Expenditure / Losses on disposal of Assets","Non-Cash","Losses - discontinued operations",0,0,0,0,0,0,0,0,0,0]
[null,null,null,"Losses - disposal biological assets",0,0,0,0,0,0,0,0,0,0]
[null,null,null,"Losses - disposal heritage assets",0,0,0,0,0,0,0,0,0,0]
[null,null,null,"Losses - disposal intangible assets",57501,49576,1,0,0,0,0,0,0,0]
[null,null,null,"Losses - disposal investment property",0,0,0,0,0,0,0,0,0,0]
[null,null,null,"Losses - disposal living resources",0,0,0,0,0,0,0,0,0,0]
[null,null,null,"Losses - disposal PPE",3260220,1082872,1065807,0,0,0,428862,0,0,0]
["","","","Non-Cash Total",3317721,1132448,1065808,null,null,null,428862]
["","Expenditure / Losses on disposal of Assets Total","","",3317721,1132448,1065808,null,null,null,428862]
["4300","Expenditure / Other Losses","Non-Cash","Inventory - decrease in net realisable value",29172,2145,249377,0,0,0,370657,0,0,0]
[null,null,null,"Inventory - water losses:apparent losses:customer meter inaccuracies",0,0,0,0,0,0,0,0,0,0]
[null,null,null,"Inventory - water losses:apparent losses:unauthoried consumption",0,0,0,0,0,0,0,0,0,0]
[null,null,null,"Inventory - water losses:data transfer and management errors",0,0,0,0,0,0,0,0,0,0]
[null,null,null,"Inventory - water losses:real losses:leakage and overflows at storage tanks/reservoirs",0,0,0,0,0,0,0,0,0,0]
[null,null,null,"Inventory - water Losses:real losses:leakage on service connections up to the point of customer meter",0,0,0,0,0,0,0,0,0,0]
[null,null,null,"Inventory - water losses:real losses:leakage on transmission and distribution mains",0,0,0,0,0,0,0,0,0,0]
[null,null,null,"Inventory - water losses:unavoidable annual real losses",0,9606443,16259904,9388656,9388656,9388656,15877587,13474404,14094223,14728463]
[null,null,null,"Losses - disposal PPE",0,0,0,0,0,0,0,0,0,0]
[null,null,null,"Losses - foreign exchange",0,231454,34937,0,0,0,43108,0,0,0]
[null,null,null,"Losses fair value adjustments - actuarial assesments - leave gratuity",0,0,0,0,0,0,0,0,0,0]
[null,null,null,"Losses fair value adjustments - actuarial assesments - long service awards",0,2064624,2957872,0,0,0,1949487,0,0,0]
[null,null,null,"Losses fair value adjustments - actuarial assesments - medical aid",0,3246733,802200,0,0,0,1562414,0,0,0]
[null,null,null,"Losses fair value adjustments - actuarial assesments - pension funds",0,0,0,0,0,0,0,0,0,0]
[null,null,null,"Losses fair value adjustments - heritage assets",0,0,0,0,0,0,0,0,0,0]
[null,null,null,"Losses fair value adjustments - interest rate swaps",0,0,0,0,0,0,0,0,0,0]
[null,null,null,"Losses fair value adjustments - investment property",60000,942135,312500,0,0,0,210000,0,0,0]
[null,null,null,"Losses fair value adjustments - investments",0,0,0,0,0,0,0,0,0,0]
[null,null,null,"Losses fair value adjustments - living resources",0,0,0,0,0,0,0,0,0,0]
["","","","Non-Cash Total",89172,16093534,20616790,9388656,9388656,9388656,20013253,13474404,14094223,14728463]
["","Expenditure / Other Losses Total","","",89172,16093534,20616790,9388656,9388656,9388656,20013253,13474404,14094223,14728463]
["4600","Non-Exchange Revenue / Transfers and subsidies - capital (monetary allocations)","Cash","Cash - transfers and subsidies - capital (monetary allocations) - departmental agencies and accounts",0,0,0,0,0,0,0,0,0,0]
[null,null,null,"Cash - transfers and subsidies - capital (monetary allocations) - district municipalities",0,0,0,0,0,0,0,0,0,0]
[null,null,null,"Cash - transfers and subsidies - capital (monetary allocations) - foreign gov & international organisations",0,0,0,0,0,0,0,0,0,0]
[null,null,null,"Cash - transfers and subsidies - capital (monetary allocations) - higher education institutions",0,0,0,0,0,0,0,0,0,0]
[null,null,null,"Cash - transfers and subsidies - capital (monetary allocations) - households",0,0,0,0,0,0,0,0,0,0]
[null,null,null,"Cash - transfers and subsidies - capital (monetary allocations) - national government",21108450,24272409,18286300,46489555,41730555,41730555,39434993,44380700,31869950,32396600]
[null,null,null,"Cash - transfers and subsidies - capital (monetary allocations) - non-profit institutions",0,0,0,0,0,0,0,0,0,0]
[null,null,null,"Cash - transfers and subsidies - capital (monetary allocations) - parent municipality",0,0,0,0,0,0,0,0,0,0]
[null,null,null,"Cash - transfers and subsidies - capital (monetary allocations) - private enterprises",0,0,0,0,0,0,0,0,0,0]
[null,null,null,"Cash - transfers and subsidies - capital (monetary allocations) - provincial governments",8862591,13943016,18172947,13763009,14308069,14308069,3756413,43268331,97865549,120252000]
[null,null,null,"Cash - transfers and subsidies - capital (monetary allocations) - public corporations",0,1573452,0,0,0,0,0,0,0,0]
["","","","Cash Total",29971041,39788877,36459247,60252564,56038624,56038624,43191406,87649031,129735499,152648600]
["","Non-Exchange Revenue / Transfers and subsidies - capital (monetary allocations) Total","","",29971041,39788877,36459247,60252564,56038624,56038624,43191406,87649031,129735499,152648600]
["4700","Non-Exchange Revenue / Transfers and subsidies - capital (in-kind)","Non-Cash","Allocations in-kind (donated assets) - departmental agencies and accounts",0,0,0,0,0,0,0,0,0,0]
[null,null,null,"Allocations in-kind (donated assets) - district municipalities",0,0,0,0,0,0,0,0,0,0]
[null,null,null,"Allocations in-kind (donated assets) - foreign gov & international organisation",0,0,0,0,0,0,0,0,0,0]
[null,null,null,"Allocations in-kind (donated assets) - higher educational institutions",0,0,0,0,0,0,0,0,0,0]
[null,null,null,"Allocations in-kind (donated assets) - households",0,0,0,0,0,0,0,0,0,0]
[null,null,null,"Allocations in-kind (donated assets) - national government",0,0,0,0,0,0,0,0,0,0]
[null,null,null,"Allocations in-kind (donated assets) - non-profit institutions",0,0,0,0,0,0,0,0,0,0]
[null,null,null,"Allocations in-kind (donated assets) - parent municipality",0,0,0,0,0,0,0,0,0,0]
[null,null,null,"Allocations in-kind (donated assets) - private enterprises",23336748,3666986,11319934,0,0,0,20503549,0,0,0]
[null,null,null,"Allocations in-kind (donated assets) - provincial government",0,0,981761,0,0,0,0,0,0,0]
[null,null,null,"Allocations in-kind (donated assets) - public corporations",0,0,0,0,0,0,0,0,0,0]
[null,null,null,"Allocations in-kind (donated assets) - local municipalities",0,0,0,0,0,0,0,0,0,0]
["","","","Non-Cash Total",23336748,3666986,12301695,null,null,null,20503549]
["","Non-Exchange Revenue / Transfers and subsidies - capital (in-kind) Total","","",23336748,3666986,12301695,null,null,null,20503549]
["4900","Expenditure / Income Tax","Non-Cash","Taxation - continuing operations",0,0,0,0,0,0,0,0,0,0]
[null,null,null,"Taxation - discontinued operations",0,0,0,0,0,0,0,0,0,0]
["","","","Non-Cash Total"]
["","Expenditure / Income Tax Total","",""]
["5100","Expenditure / Share of Surplus/Deficit attributable to Joint Venture","Non-Cash","Expenditure - accrual share of surplus/deficit attributable to joint venture",0,0,0,0,0,0,0,0,0,0]
["","","","Non-Cash Total"]
["","Expenditure / Share of Surplus/Deficit attributable to Joint Venture Total","",""]
["5200","Expenditure / Share of Surplus/Deficit attributable to Minorities","Non-Cash","Expenditure - accrual share of surplus/deficit attributable to minorities",0,0,0,0,0,0,0,0,0,0]
["","","","Non-Cash Total"]
["","Expenditure / Share of Surplus/Deficit attributable to Minorities Total","",""]
["5400","Expenditure / Share of Surplus/Deficit attributable to Associate","Non-Cash","Expenditure - accrual share of surplus/deficit attributable to associate",0,0,0,0,0,0,0,0,0,0]
["","","","Non-Cash Total"]
["","Expenditure / Share of Surplus/Deficit attributable to Associate Total","",""]
["5500","Expenditure / Intercompany/Parent subsidiary transactions","Non-Cash","Expenditure - intercompany/parent-subsidiary transactions",0,0,0,0,0,0,0,0,0,0]
["","","","Non-Cash Total"]
["","Expenditure / Intercompany/Parent subsidiary transactions Total","",""]
["Grand Total","","","",2315500993,2526388110,2809268717,3218335259,3213067652,3213067652,3117688173,3617066484,3975376038,4061240295]

{"sheet":"A5-Capex","index":13,"n_rows":83,"n_cols":12,"rows_kept":83,"cut":false,"hidden":false,"merged":[[1,9,1,11],[1,5,1,8],[82,0,82,11],[77,0,77,11],[76,0,76,11],[78,0,78,11]]}
[" "]
[{"$f":"Vdesc","v":"Vote Description"},{"$f":"head27","v":"Ref"},{"$f":"head1b","v":"2021/22"},{"$f":"head1A","v":"2022/23"},{"$f":"Head1","v":"2023/24"},{"$f":"Head2","v":"Current Year 2024/25"},null,null,null,{"$f":"Head3","v":"2025/26 Medium Term Revenue & Expenditure Framework"}]
["R thousand",1,{"$f":"Head5","v":"Audited Outcome"},{"$f":"Head5","v":"Audited Outcome"},{"$f":"Head5","v":"Audited Outcome"},{"$f":"Head6","v":"Original Budget"},{"$f":"Head7","v":"Adjusted Budget"},{"$f":"Head8","v":"Full Year Forecast"},{"$f":"Head5b","v":"Pre-audit outcome"},{"$f":"Head9","v":"Budget Year 2025/26"},{"$f":"Head10","v":"Budget Year +1 2026/27"},{"$f":"Head11","v":"Budget Year +2 2027/28"}]
["Capital expenditure - Vote"]
["Multi-year expenditure  to be appropriated",2]
[{"$f":"A5A!A6","v":"Vote 1 - City Manager"},null,{"$f":"A5A!C6","v":1613825.13},{"$f":"A5A!D6","v":27000},{"$f":"A5A!E6","v":0},{"$f":"A5A!F6","v":37445000.579999924},{"$f":"A5A!G6","v":850000.00000002235},{"$f":"A5A!H6","v":850000.00000002235},{"$f":"A5A!I6","v":0},{"$f":"A5A!J6","v":0},{"$f":"A5A!K6","v":0},{"$f":"A5A!L6","v":0}]
[{"$f":"A5A!A17","v":"Vote 2 - City Finance"},null,{"$f":"A5A!C17","v":4935541.4799999995},{"$f":"A5A!D17","v":9153029.5299999993},{"$f":"A5A!E17","v":10485090.65},{"$f":"A5A!F17","v":25000000},{"$f":"A5A!G17","v":25000000},{"$f":"A5A!H17","v":25000000},{"$f":"A5A!I17","v":0},{"$f":"A5A!J17","v":45000000},{"$f":"A5A!K17","v":45000000},{"$f":"A5A!L17","v":50000000}]
[{"$f":"A5A!A28","v":"Vote 3 - Corporate Services"},null,{"$f":"A5A!C28","v":2272710.48},{"$f":"A5A!D28","v":937669.79},{"$f":"A5A!E28","v":5071794.1400000006},{"$f":"A5A!F28","v":6585000},{"$f":"A5A!G28","v":6835000},{"$f":"A5A!H28","v":6835000},{"$f":"A5A!I28","v":0},{"$f":"A5A!J28","v":10000000},{"$f":"A5A!K28","v":10000000},{"$f":"A5A!L28","v":10000000}]
[{"$f":"A5A!A39","v":"Vote 4 - Community Services and Social Equity"},null,{"$f":"A5A!C39","v":33154389.839999996},{"$f":"A5A!D39","v":48934490.920000002},{"$f":"A5A!E39","v":70000485.019999996},{"$f":"A5A!F39","v":42142711.200000003},{"$f":"A5A!G39","v":34600680.079999998},{"$f":"A5A!H39","v":34600680.079999998},{"$f":"A5A!I39","v":0},{"$f":"A5A!J39","v":34616720},{"$f":"A5A!K39","v":18493723.199999999},{"$f":"A5A!L39","v":18423346.592}]
[{"$f":"A5A!A50","v":"Vote 5 - Infrastructure Services"},null,{"$f":"A5A!C50","v":308960388.29999995},{"$f":"A5A!D50","v":268923267.12999994},{"$f":"A5A!E50","v":291473827.49000001},{"$f":"A5A!F50","v":284463597.57000005},{"$f":"A5A!G50","v":349087786.94000006},{"$f":"A5A!H50","v":349087786.94000006},{"$f":"A5A!I50","v":0},{"$f":"A5A!J50","v":346701440},{"$f":"A5A!K50","v":386016686.20000005},{"$f":"A5A!L50","v":408006319.11199999}]
[{"$f":"A5A!A61","v":"Vote 6 - Sustainable Development and City Enterprises"},null,{"$f":"A5A!C61","v":51772460.630000003},{"$f":"A5A!D61","v":133279407.06},{"$f":"A5A!E61","v":168625429.68000001},{"$f":"A5A!F61","v":153598529.65000001},{"$f":"A5A!G61","v":155161841.15000001},{"$f":"A5A!H61","v":155161841.15000001},{"$f":"A5A!I61","v":0},{"$f":"A5A!J61","v":0},{"$f":"A5A!K61","v":0},{"$f":"A5A!L61","v":8000000}]
[{"$f":"A5A!A72","v":"Vote 7 - Electricity"},null,{"$f":"A5A!C72","v":98800431.880000204},{"$f":"A5A!D72","v":71071450.300000012},{"$f":"A5A!E72","v":116839301.60999998},{"$f":"A5A!F72","v":237331051.42000005},{"$f":"A5A!G72","v":198157855.6099999},{"$f":"A5A!H72","v":198157855.6099999},{"$f":"A5A!I72","v":0},{"$f":"A5A!J72","v":181332760.95999998},{"$f":"A5A!K72","v":30246861.600000001},{"$f":"A5A!L72","v":31482673.296}]
[{"$f":"A5A!A83","v":"Vote 8 - [NAME OF VOTE 8]"},null,{"$f":"A5A!C83","v":0},{"$f":"A5A!D83","v":0},{"$f":"A5A!E83","v":0},{"$f":"A5A!F83","v":0},{"$f":"A5A!G83","v":0},{"$f":"A5A!H83","v":0},{"$f":"A5A!I83","v":0},{"$f":"A5A!J83","v":0},{"$f":"A5A!K83","v":0},{"$f":"A5A!L83","v":0}]
[{"$f":"A5A!A94","v":"Vote 9 - [NAME OF VOTE 9]"},null,{"$f":"A5A!C94","v":0},{"$f":"A5A!D94","v":0},{"$f":"A5A!E94","v":0},{"$f":"A5A!F94","v":0},{"$f":"A5A!G94","v":0},{"$f":"A5A!H94","v":0},{"$f":"A5A!I94","v":0},{"$f":"A5A!J94","v":0},{"$f":"A5A!K94","v":0},{"$f":"A5A!L94","v":0}]
[{"$f":"A5A!A105","v":"Vote 10 - [NAME OF VOTE 10]"},null,{"$f":"A5A!C105","v":0},{"$f":"A5A!D105","v":0},{"$f":"A5A!E105","v":0},{"$f":"A5A!F105","v":0},{"$f":"A5A!G105","v":0},{"$f":"A5A!H105","v":0},{"$f":"A5A!I105","v":0},{"$f":"A5A!J105","v":0},{"$f":"A5A!K105","v":0},{"$f":"A5A!L105","v":0}]
[{"$f":"A5A!A116","v":"Vote 11 - [NAME OF VOTE 11]"},null,{"$f":"A5A!C116","v":0},{"$f":"A5A!D116","v":0},{"$f":"A5A!E116","v":0},{"$f":"A5A!F116","v":0},{"$f":"A5A!G116","v":0},{"$f":"A5A!H116","v":0},{"$f":"A5A!I116","v":0},{"$f":"A5A!J116","v":0},{"$f":"A5A!K116","v":0},{"$f":"A5A!L116","v":0}]
[{"$f":"A5A!A127","v":"Vote 12 - [NAME OF VOTE 12]"},null,{"$f":"A5A!C127","v":0},{"$f":"A5A!D127","v":0},{"$f":"A5A!E127","v":0},{"$f":"A5A!F127","v":0},{"$f":"A5A!G127","v":0},{"$f":"A5A!H127","v":0},{"$f":"A5A!I127","v":0},{"$f":"A5A!J127","v":0},{"$f":"A5A!K127","v":0},{"$f":"A5A!L127","v":0}]
[{"$f":"A5A!A138","v":"Vote 13 - [NAME OF VOTE 13]"},null,{"$f":"A5A!C138","v":0},{"$f":"A5A!D138","v":0},{"$f":"A5A!E138","v":0},{"$f":"A5A!F138","v":0},{"$f":"A5A!G138","v":0},{"$f":"A5A!H138","v":0},{"$f":"A5A!I138","v":0},{"$f":"A5A!J138","v":0},{"$f":"A5A!K138","v":0},{"$f":"A5A!L138","v":0}]
[{"$f":"A5A!A149","v":"Vote 14 - [NAME OF VOTE 14]"},null,{"$f":"A5A!C149","v":0},{"$f":"A5A!D149","v":0},{"$f":"A5A!E149","v":0},{"$f":"A5A!F149","v":0},{"$f":"A5A!G149","v":0},{"$f":"A5A!H149","v":0},{"$f":"A5A!I149","v":0},{"$f":"A5A!J149","v":0},{"$f":"A5A!K149","v":0},{"$f":"A5A!L149","v":0}]
[{"$f":"A5A!A160","v":"Vote 15 - [NAME OF VOTE 15]"},null,{"$f":"A5A!C160","v":0},{"$f":"A5A!D160","v":0},{"$f":"A5A!E160","v":0},{"$f":"A5A!F160","v":0},{"$f":"A5A!G160","v":0},{"$f":"A5A!H160","v":0},{"$f":"A5A!I160","v":0},{"$f":"A5A!J160","v":0},{"$f":"A5A!K160","v":0},{"$f":"A5A!L160","v":0}]
["Capital multi-year expenditure sub-total",7,{"$f":"SUM(C6:C20)","v":501509747.74000013},{"$f":"SUM(D6:D20)","v":532326314.72999996},662495928.59000003,786565890.42000008,769693163.77999997,{"$f":"SUM(H6:H20)","v":769693163.77999997},0,617650920.96000004,489757271.00000006,525912339]
[]
["Single-year expenditure to be appropriated",2]
[{"$f":"A6","v":"Vote 1 - City Manager"},null,{"$f":"A5A!C175","v":2151205.0099999998},{"$f":"A5A!D175","v":943953.22},{"$f":"A5A!E175","v":6002904.9100000001},{"$f":"A5A!F175","v":5000000},{"$f":"A5A!G175","v":6400000},{"$f":"A5A!H175","v":6400000},{"$f":"A5A!I175","v":0},{"$f":"A5A!J175","v":0},{"$f":"A5A!K175","v":0},{"$f":"A5A!L175","v":0}]
[{"$f":"A7","v":"Vote 2 - City Finance"},null,{"$f":"A5A!C186","v":6344857.3299999982},{"$f":"A5A!D186","v":3084194.2200000007},{"$f":"A5A!E186","v":5570959.2400000002},{"$f":"A5A!F186","v":0},{"$f":"A5A!G186","v":1300000},{"$f":"A5A!H186","v":1300000},{"$f":"A5A!I186","v":0},{"$f":"A5A!J186","v":0},{"$f":"A5A!K186","v":0},{"$f":"A5A!L186","v":0}]
["Vote 3 - Corporate Services",null,{"$f":"A5A!C197","v":2270139.63},{"$f":"A5A!D197","v":3796496.8200000003},{"$f":"A5A!E197","v":15256416.640000001},{"$f":"A5A!F197","v":7615000},{"$f":"A5A!G197","v":11870822},{"$f":"A5A!H197","v":11870822},{"$f":"A5A!I197","v":0},{"$f":"A5A!J197","v":0},{"$f":"A5A!K197","v":0},{"$f":"A5A!L197","v":0}]
["Vote 4 - Community Services and Social Equity",null,{"$f":"A5A!C208","v":3553157.0500000003},{"$f":"A5A!D208","v":4980126},{"$f":"A5A!E208","v":8052360.2700000005},{"$f":"A5A!F208","v":8690000},{"$f":"A5A!G208","v":9090000},{"$f":"A5A!H208","v":9090000},{"$f":"A5A!I208","v":0},{"$f":"A5A!J208","v":10000000},{"$f":"A5A!K208","v":30000000},{"$f":"A5A!L208","v":30000000}]
["Vote 5 - Infrastructure Services",null,{"$f":"A5A!C219","v":3549110.5999999996},{"$f":"A5A!D219","v":792613.81},{"$f":"A5A!E219","v":15179175.83},{"$f":"A5A!F219","v":10000000},{"$f":"A5A!G219","v":10092413},{"$f":"A5A!H219","v":10092413},{"$f":"A5A!I219","v":0},{"$f":"A5A!J219","v":0},{"$f":"A5A!K219","v":0},{"$f":"A5A!L219","v":0}]
["Vote 6 - Sustainable Development and City Enterprises",null,{"$f":"A5A!C230","v":2059024.0899999999},{"$f":"A5A!D230","v":1035306.98},{"$f":"A5A!E230","v":842627.38},{"$f":"A5A!F230","v":2140000},{"$f":"A5A!G230","v":2502396.2199999988},{"$f":"A5A!H230","v":2502396.2199999988},{"$f":"A5A!I230","v":0},{"$f":"A5A!J230","v":0},{"$f":"A5A!K230","v":0},{"$f":"A5A!L230","v":0}]
["Vote 7 - Electricity",null,{"$f":"A5A!C241","v":0},{"$f":"A5A!D241","v":830822.31},{"$f":"A5A!E241","v":12909352.940000001},{"$f":"A5A!F241","v":4000000},{"$f":"A5A!G241","v":5600000},{"$f":"A5A!H241","v":5600000},{"$f":"A5A!I241","v":0},{"$f":"A5A!J241","v":0},{"$f":"A5A!K241","v":0},{"$f":"A5A!L241","v":0}]
["Vote 8 - [NAME OF VOTE 8]",null,{"$f":"A5A!C252","v":0},{"$f":"A5A!D252","v":0},{"$f":"A5A!E252","v":0},{"$f":"A5A!F252","v":0},{"$f":"A5A!G252","v":0},{"$f":"A5A!H252","v":0},{"$f":"A5A!I252","v":0},{"$f":"A5A!J252","v":0},{"$f":"A5A!K252","v":0},{"$f":"A5A!L252","v":0}]
["Vote 9 - [NAME OF VOTE 9]",null,{"$f":"A5A!C263","v":0},{"$f":"A5A!D263","v":0},{"$f":"A5A!E263","v":0},{"$f":"A5A!F263","v":0},{"$f":"A5A!G263","v":0},{"$f":"A5A!H263","v":0},{"$f":"A5A!I263","v":0},{"$f":"A5A!J263","v":0},{"$f":"A5A!K263","v":0},{"$f":"A5A!L263","v":0}]
["Vote 10 - [NAME OF VOTE 10]",null,{"$f":"A5A!C274","v":0},{"$f":"A5A!D274","v":0},{"$f":"A5A!E274","v":0},{"$f":"A5A!F274","v":0},{"$f":"A5A!G274","v":0},{"$f":"A5A!H274","v":0},{"$f":"A5A!I274","v":0},{"$f":"A5A!J274","v":0},{"$f":"A5A!K274","v":0},{"$f":"A5A!L274","v":0}]
["Vote 11 - [NAME OF VOTE 11]",null,{"$f":"A5A!C285","v":0},{"$f":"A5A!D285","v":0},{"$f":"A5A!E285","v":0},{"$f":"A5A!F285","v":0},{"$f":"A5A!G285","v":0},{"$f":"A5A!H285","v":0},{"$f":"A5A!I285","v":0},{"$f":"A5A!J285","v":0},{"$f":"A5A!K285","v":0},{"$f":"A5A!L285","v":0}]
["Vote 12 - [NAME OF VOTE 12]",null,{"$f":"A5A!C296","v":0},{"$f":"A5A!D296","v":0},{"$f":"A5A!E296","v":0},{"$f":"A5A!F296","v":0},{"$f":"A5A!G296","v":0},{"$f":"A5A!H296","v":0},{"$f":"A5A!I296","v":0},{"$f":"A5A!J296","v":0},{"$f":"A5A!K296","v":0},{"$f":"A5A!L296","v":0}]
["Vote 13 - [NAME OF VOTE 13]",null,{"$f":"A5A!C307","v":0},{"$f":"A5A!D307","v":0},{"$f":"A5A!E307","v":0},{"$f":"A5A!F307","v":0},{"$f":"A5A!G307","v":0},{"$f":"A5A!H307","v":0},{"$f":"A5A!I307","v":0},{"$f":"A5A!J307","v":0},{"$f":"A5A!K307","v":0},{"$f":"A5A!L307","v":0}]
["Vote 14 - [NAME OF VOTE 14]",null,{"$f":"A5A!C318","v":0},{"$f":"A5A!D318","v":0},{"$f":"A5A!E318","v":0},{"$f":"A5A!F318","v":0},{"$f":"A5A!G318","v":0},{"$f":"A5A!H318","v":0},{"$f":"A5A!I318","v":0},{"$f":"A5A!J318","v":0},{"$f":"A5A!K318","v":0},{"$f":"A5A!L318","v":0}]
[{"$f":"A20","v":"Vote 15 - [NAME OF VOTE 15]"},null,{"$f":"A5A!C329","v":0},{"$f":"A5A!D329","v":0},{"$f":"A5A!E329","v":0},{"$f":"A5A!F329","v":0},{"$f":"A5A!G329","v":0},{"$f":"A5A!H329","v":0},{"$f":"A5A!I329","v":0},{"$f":"A5A!J329","v":0},{"$f":"A5A!K329","v":0},{"$f":"A5A!L329","v":0}]
["Capital single-year expenditure sub-total",null,{"$f":"SUM(C24:C38)","v":19927493.709999997},{"$f":"SUM(D24:D38)","v":15463513.360000003},63813797.210000008,37445000,46855631.219999999,46855631.219999999,0,10000000,30000000,30000000]
["Total Capital Expenditure - Vote",null,{"$f":"C39+C21","v":521437241.45000011},{"$f":"D39+D21","v":547789828.08999991},726309725.80000007,824010890.42000008,816548795,816548795,0,627650920.96000004,519757271.00000006,555912339]
[]
["Capital Expenditure - Functional"]
["Governance and administration",null,{"$f":"SUM(C44:C46)","v":19335557.149999999},{"$f":"SUM(D44:D46)","v":18773165.889999997},43055333.520000011,45300000,37948235,37948235,0,55000000,57475000,49681000]
["Executive and council",null,2638711.39,749658.04,6002904.9100000001,5100000,7650000,7650000]
["Finance and administration",null,16696845.76,18023507.849999998,37052428.610000007,40200000,30298235,30298235,null,55000000,57475000,49681000]
["Internal audit",null,0,0,0,0,0,0]
["Community and public safety",null,{"$f":"SUM(C48:C52)","v":36890721.919999994},{"$f":"SUM(D48:D52)","v":57141397.170000002},117915786.79999998,168351240.85000002,149293903.23000002,149293903.23000002,0,14616720,15493723,48221227]
["Community and social services",null,33969243.759999998,43937014.619999997,39759722.490000002,24745151.199999999,16970120.079999998,16970120.079999998,null,14616720,15493723,48221227]
["Sport and recreation",null,1041093.51,921500,5255736.33,11932560,12165560,12165560]
["Public safety",null,94470,147639.89000000001,724230.91,2100000,2100000,2100000]
["Housing",null,1785914.6500000001,12135242.66,72176097.069999993,129573529.65000001,118058223.15000001,118058223.15000001]
["Health",null,null,0,0,0]
["Economic and environmental services",null,{"$f":"SUM(C54:C56)","v":239009075.43000004},{"$f":"SUM(D54:D56)","v":277382246.46999997},247499942.51999998,139974463.16,187682471.22,187682471.22,0,155584000,169782200,213712595]
["Planning and development",null,37474066.530000001,118611552.67999999,92995620.519999996,23150000,36591014.219999999,36591014.219999999,null,30000000,33000000,40000000]
["Road transport",null,201376703.90000004,158748517.78999999,154504322,116824463.16,151091457,151091457,null,125584000,136782200,173712595]
["Environmental protection",null,158305,22176,0,0,null,null,null,null,null,0]
["Trading services",null,{"$f":"SUM(C58:C61)","v":226176439.72999999},{"$f":"SUM(D58:D61)","v":191140453.74999994},314321104.88,467535186.41000003,438774185.81,438774185.81,0,402450201,277006348,244297517]
["Energy sources",null,98800431.879999995,64942417.73999995,129748654.55,260053551.71000001,243757856,243757856,null,181332761,30809362,31863048]
["Water management",null,58051642.310000002,67841532.680000007,78803164.289999992,100375000,82257997,82257997,null,108900000,127246500,83650313]
["Waste water management",null,54321981.289999992,48191731.919999994,78087787.549999997,97046634.700000003,102698332.80999999,102698332.80999999,null,112217440,118950486,128784156]
["Waste management",null,15002384.25,10164771.41,27681498.489999998,10060000,10060000,10060000]
["Other",null,414954.50000011921,3352564.8100000005,3517558.08,2850000,2850000,2850000]
["Total Capital Expenditure - Functional",3,{"$f":"C43+C47+C53+C57+C62","v":521826748.73000014},{"$f":"D43+D47+D53+D57+D62","v":547789828.08999991},726309725.80000007,824010890.42000008,816548795.25999999,816548795.25999999,0,627650921,519757271,{"$f":"L43+L47+L53+L57+L62","v":555912339}]
[]
["Funded by:"]
["National Government",null,291413394.42000008,251839997.30999997,302791114.54999989,325816919.87,345980175,345980175,null,376126520,429887271,455998188]
["Provincial Government",null,21307752.900000002,111489785.61999999,92791145.969999999,131157970.64,131945798,131945798]
["District Municipality"]
["Transfers and subsidies - capital (monetary allocations) (Nat / Prov Departm Agencies, Households, Non-profit Institutions, Private Enterprises, Public Corporatons, Higher Educ Institutions)"]
["Transfers recognised - capital",4,{"$f":"SUM(C66:C69)","v":312721147.32000005},363329782.92999995,395582260.51999986,456974890.50999999,477925973,477925973,0,376126520,429887271,455998188]
[]
["Borrowing",6,49400541.770000003,null,72309925.810000002,234315856,206615856,206615856,null,161524400.95999998,null,5460125]
["Internally generated funds",null,159705059.64000008,184460045.16,258417539.46999997,132720143.91,132006966,132006966,null,90000000,89870000,94454026]
["Total Capital Funding",7,{"$f":"+C70+C72+C73","v":521826748.73000014},{"$f":"+D70+D72+D73","v":547789828.08999991},726309725.79999983,824010890.41999996,816548795,816548795,0,627650920.96000004,519757271,555912339]
[{"$f":"head27a","v":"References"}]
["1. Municipalities may choose to appropriate for capital expenditure for three years or for one year (if one year appropriation projected expenditure required for yr2 and yr3)."]
["2. Include capital component of PPP unitary payment. Note that capital transfers are only appropriated to municipalities for the budget year"]
["3. Capital expenditure by functional classification must reconcile to the appropriations by vote"]
["4. Must reconcile to supporting table SA20 and to Budgeted Financial Performance (revenue and expenditure)"]
[]
["6. Include finance leases and PPP capital funding component of unitary payment - total borrowing/repayments to reconcile to changes in Table SA17"]
["7. Total Capital Funding must balance with Total Capital Expenditure"]
["8. Include any capitalised interest (MFMA section 46) as part of relevant capital budget"]

{"sheet":"A5A","index":14,"n_rows":341,"n_cols":24,"rows_kept":341,"cut":false,"hidden":false,"merged":[[1,5,1,8],[1,9,1,11],[1,13,1,16],[1,17,1,20],[1,21,1,23]]}
[{"$f":"muni&\" - \"&Approve5","v":"Choose name from list - Table A5 Budgeted Capital Expenditure by vote, functional classification and funding"}]
[{"$f":"Vdesc","v":"Vote Description"},{"$f":"head27","v":"Ref"},{"$f":"head1b","v":"2021/22"},{"$f":"head1A","v":"2022/23"},{"$f":"Head1","v":"2023/24"},{"$f":"Head2","v":"Current Year 2024/25"},null,null,null,{"$f":"Head3","v":"2025/26 Medium Term Revenue & Expenditure Framework"},null,null,null,{"$f":"\"Multi-year appropriation for \"&Head9&\n\"\n in the \"&Head2A&\" Annual Budget\"","v":"Multi-year appropriation for Budget Year 2025/26\n in the 2024/25 Annual Budget"},null,null,null,{"$f":"\"Multi-year appropriation for \"&RIGHT(Head10,7)&\n\"\n in the \"&Head2A&\" Annual Budget\"","v":"Multi-year appropriation for 2026/27\n in the 2024/25 Annual Budget"},null,null,null,"New multi-year appropriations \n(funds for new and existing projects) "]
["R thousand",1,{"$f":"Head5","v":"Audited Outcome"},{"$f":"Head5","v":"Audited Outcome"},{"$f":"Head5","v":"Audited Outcome"},{"$f":"Head6","v":"Original Budget"},{"$f":"Head7","v":"Adjusted Budget"},{"$f":"Head8","v":"Full Year Forecast"},{"$f":"Head5b","v":"Pre-audit outcome"},{"$f":"Head9","v":"Budget Year 2025/26"},{"$f":"Head10","v":"Budget Year +1 2026/27"},{"$f":"Head11","v":"Budget Year +2 2027/28"},null,{"$f":"\"Appropriation for \"&RIGHT(Head9,7)","v":"Appropriation for 2025/26"},{"$f":"\"Adjustments in \"&Head2A","v":"Adjustments in 2024/25"},{"$f":"\"Downward adjustments for \"&RIGHT(Head9,7)","v":"Downward adjustments for 2025/26"},"Appropriation carried forward",{"$f":"\"Appropriation for \"&RIGHT(Head9,7)","v":"Appropriation for 2025/26"},{"$f":"\"Adjustments in \"&Head2A","v":"Adjustments in 2024/25"},{"$f":"\"Downward adjustments for \"&RIGHT(Head9,7)","v":"Downward adjustments for 2025/26"},"Appropriation carried forward",{"$f":"Head9","v":"Budget Year 2025/26"},{"$f":"Head10","v":"Budget Year +1 2026/27"},{"$f":"Head11","v":"Budget Year +2 2027/28"}]
["Capital expenditure - Municipal Vote"]
["Multi-year expenditure appropriation",2]
[{"$f":"'Org structure'!A2","v":"Vote 1 - City Manager"},null,{"$f":"SUM(C7:C16)","v":1613825.13},{"$f":"SUM(D7:D16)","v":27000},0,37445000.579999924,850000.00000002235,850000.00000002235,{"$f":"SUM(I7:I16)","v":0},0,0,0,null,{"$f":"SUM(N7:N16)","v":0},0,0,0,0,0,0,0,{"$f":"SUM(V7:V16)","v":0},{"$f":"SUM(W7:W16)","v":0},{"$f":"SUM(X7:X16)","v":0}]
[{"$f":"'Org structure'!E3","v":"1.1 - Internal Audit and Compliance"},null,0,0,null,37445000.579999924,850000.00000002235,850000.00000002235,null,{"$f":"Q7+V7","v":0},{"$f":"U7+W7","v":0},{"$f":"X7","v":0},null,null,null,null,{"$f":"SUM(N7:P7)","v":0},null,null,null,{"$f":"SUM(R7:T7)","v":0}]
[{"$f":"'Org structure'!E4","v":"1.2 - Office of the City Manager"},null,1039942.75,27000,null,0,null,null,null,{"$f":"Q8+V8","v":0},{"$f":"U8+W8","v":0},{"$f":"X8","v":0},null,null,null,null,{"$f":"SUM(N8:P8)","v":0},null,null,null,{"$f":"SUM(R8:T8)","v":0}]
[{"$f":"'Org structure'!E5","v":"1.3 - Political Support"},null,573882.38,0,null,0,null,null,null,{"$f":"Q9+V9","v":0},{"$f":"U9+W9","v":0},0,null,null,null,null,0,null,null,null,0]
[{"$f":"'Org structure'!E6","v":"1.4 - Strategic Planning"},null,0,0,null,0,null,null,null,0,0,0,null,null,null,null,0,null,null,null,0]
[{"$f":"'Org structure'!E7","v":0},null,null,null,null,null,null,null,null,0,0,{"$f":"X11","v":0},null,null,null,null,0,null,null,null,0]
[{"$f":"'Org structure'!E8","v":0},null,null,null,null,null,null,null,null,0,0,0,null,null,null,null,0,null,null,null,0]
[{"$f":"'Org structure'!E9","v":0},null,null,null,null,null,null,null,null,0,0,0,null,null,null,null,0,null,null,null,0]
[{"$f":"'Org structure'!E10","v":0},null,null,null,null,null,null,null,null,0,0,0,null,null,null,null,0,null,null,null,0]
[{"$f":"'Org structure'!E11","v":0},null,null,null,null,null,null,null,null,0,0,0,null,null,null,null,0,null,null,null,0]
[{"$f":"'Org structure'!E12","v":0},null,null,null,null,null,null,null,null,0,0,0,null,null,null,null,0,null,null,null,0]
[{"$f":"'Org structure'!A3","v":"Vote 2 - City Finance"},null,{"$f":"SUM(C18:C27)","v":4935541.4799999995},{"$f":"SUM(D18:D27)","v":9153029.5299999993},10485090.65,25000000,25000000,25000000,{"$f":"SUM(I18:I27)","v":0},45000000,45000000,50000000,null,{"$f":"SUM(N18:N27)","v":0},0,0,0,0,0,0,0,45000000,45000000,50000000]
[{"$f":"'Org structure'!E14","v":"2.1 - Asset Management"},null,0,0,4366889.4800000004,0,null,null,null,{"$f":"Q18+V18","v":0},{"$f":"U18+W18","v":0},{"$f":"X18","v":0},null,null,null,null,{"$f":"SUM(N18:P18)","v":0},null,null,null,0]
[{"$f":"'Org structure'!E15","v":"2.2 - Budget and Treasury Management"},null,1853747.0299999998,7990335.54,6118201.1699999999,25000000,25000000,25000000,null,{"$f":"Q19+V19","v":45000000},{"$f":"U19+W19","v":45000000},50000000,null,null,null,null,0,null,null,null,0,45000000,45000000,50000000]
[{"$f":"'Org structure'!E16","v":"2.3 - Expenditure Management"},null,54550,0,null,0,null,null,null,0,0,0,null,null,null,null,0,null,null,null,0]
[{"$f":"'Org structure'!E17","v":"2.4 - Revenue Management"},null,2528200,1071543,null,0,null,null,null,0,{"$f":"U21+W21","v":0},0,null,null,null,null,0,null,null,null,0]
[{"$f":"'Org structure'!E18","v":"2.5 - Supply Chain Management"},null,499044.45,91150.99,null,0,null,null,null,0,0,0,null,null,null,null,0,null,null,null,0]
[{"$f":"'Org structure'!E19","v":0},null,null,null,null,null,null,null,null,0,0,0,null,null,null,null,0,null,null,null,0]
[{"$f":"'Org structure'!E20","v":0},null,null,null,null,null,null,null,null,0,0,0,null,null,null,null,0,null,null,null,0]
[{"$f":"'Org structure'!E21","v":0},null,null,null,null,null,null,null,null,0,0,0,null,null,null,null,0,null,null,null,0]
[{"$f":"'Org structure'!E22","v":0},null,null,null,null,null,null,null,null,0,0,0,null,null,null,null,0,null,null,null,0]
[{"$f":"'Org structure'!E23","v":0},null,null,null,null,null,null,null,null,0,0,0,null,null,null,null,0,null,null,null,0]
[{"$f":"'Org structure'!A4","v":"Vote 3 - Corporate Services"},null,{"$f":"SUM(C29:C38)","v":2272710.48},{"$f":"SUM(D29:D38)","v":937669.79},5071794.1400000006,6585000,6835000,6835000,{"$f":"SUM(I29:I38)","v":0},10000000,10000000,10000000,null,{"$f":"SUM(N29:N38)","v":0},0,0,0,0,0,0,0,10000000,10000000,10000000]
[{"$f":"'Org structure'!E25","v":"Human Resources Management"},null,1889731,48708,null,50000,460000,460000,null,{"$f":"Q29+V29","v":0},{"$f":"U29+W29","v":0},{"$f":"X29","v":0},null,null,null,null,{"$f":"SUM(N29:P29)","v":0},null,null,null,0]
[{"$f":"'Org structure'!E26","v":"Information Technology"},null,0,338683.39,5071794.1400000006,6125000,6125000,6125000,null,10000000,10000000,10000000,null,null,null,null,0,null,null,null,0,10000000,10000000,10000000]
[{"$f":"'Org structure'!E27","v":"Legal Services"},null,382979.48,0,null,0,0,0,null,0,0,0,null,null,null,null,0,null,null,null,{"$f":"SUM(R31:T31)","v":0}]
[{"$f":"'Org structure'!E28","v":"Secretariat and Auxiliary Services"},null,0,550278.40000000002,null,400000,250000,250000,null,0,{"$f":"U32+W32","v":0},0,null,null,null,null,0,null,null,null,0]
[{"$f":"'Org structure'!E29","v":"General Manager: Corporate Service"},null,null,0,null,10000,0,0,null,{"$f":"Q33+V33","v":0},0,0,null,null,null,null,0,null,null,null,0]
[{"$f":"'Org structure'!E30","v":0},null,null,null,null,null,null,null,null,0,0,0,null,null,null,null,0,null,null,null,0]
[{"$f":"'Org structure'!E31","v":0},null,null,null,null,null,null,null,null,0,0,0,null,null,null,null,0,null,null,null,0]
[{"$f":"'Org structure'!E32","v":0},null,null,null,null,null,null,null,null,0,0,0,null,null,null,null,0,null,null,null,0]
[{"$f":"'Org structure'!E33","v":0},null,null,null,null,null,null,null,null,0,0,0,null,null,null,null,0,null,null,null,0]
[{"$f":"'Org structure'!E34","v":0},null,null,null,null,null,null,null,null,0,0,0,null,null,null,null,0,null,null,null,0]
[{"$f":"'Org structure'!A5","v":"Vote 4 - Community Services and Social Equity"},null,{"$f":"SUM(C40:C49)","v":33154389.839999996},{"$f":"SUM(D40:D49)","v":48934490.920000002},70000485.019999996,42142711.200000003,34600680.079999998,34600680.079999998,{"$f":"SUM(I40:I49)","v":0},34616720,18493723.199999999,18423346.592,null,{"$f":"SUM(N40:N49)","v":0},0,0,0,0,0,0,0,34616720,18493723.199999999,18423346.592]
[{"$f":"'Org structure'!E36","v":"4.1 - Area Based Management "},null,790463.79,1117272.3,25704,100000,1000000,1000000,null,{"$f":"Q40+V40","v":0},{"$f":"U40+W40","v":0},{"$f":"X40","v":0},null,null,null,null,{"$f":"SUM(N40:P40)","v":0},null,null,null,0]
[{"$f":"'Org structure'!E37","v":"4.2 - Public Safety, Emergency Services and Enforcement"},null,0,31440.240000000002,962574.91,1810000,1810000,1810000,null,0,0,0,null,null,null,null,0,null,null,null,0]
[{"$f":"'Org structure'!E38","v":"4.3 - Recreation and Facilities"},null,17408776.799999997,43245466.43,43896257.07,30232711.199999999,21790680.079999994,21790680.079999994,null,34616720,18493723.199999999,18423346.592,null,null,null,null,0,null,null,null,0,34616720,18493723.199999999,18423346.592]
[{"$f":"'Org structure'!E39","v":"4.4 - Waste Management"},null,14955149.25,4540311.95,25115949.039999999,10000000,10000000,10000000,null,0,0,0,null,null,null,null,0,null,null,null,0]
[{"$f":"'Org structure'!E40","v":"4.5 - General Manager: Community Services"},null,null,null,0,null,null,null,null,0,0,0,null,null,null,null,0,null,null,null,0]
[{"$f":"'Org structure'!E41","v":0},null,null,null,null,null,null,null,null,0,0,0,null,null,null,null,0,null,null,null,0]
[{"$f":"'Org structure'!E42","v":0},null,null,null,null,null,null,null,null,0,0,0,null,null,null,null,0,null,null,null,0]
[{"$f":"'Org structure'!E43","v":0},null,null,null,null,null,null,null,null,0,0,0,null,null,null,null,0,null,null,null,0]
[{"$f":"'Org structure'!E44","v":0},null,null,null,null,null,null,null,null,0,0,0,null,null,null,null,0,null,null,null,0]
[{"$f":"'Org structure'!E45","v":0},null,null,null,null,null,null,null,null,0,0,0,null,null,null,null,0,null,null,null,0]
[{"$f":"'Org structure'!A6","v":"Vote 5 - Infrastructure Services"},null,{"$f":"SUM(C51:C60)","v":308960388.29999995},{"$f":"SUM(D51:D60)","v":268923267.12999994},291473827.49000001,284463597.57000005,349087786.94000006,349087786.94000006,{"$f":"SUM(I51:I60)","v":0},346701440,386016686.20000005,408006319.11199999,null,{"$f":"SUM(N51:N60)","v":0},0,0,0,0,0,0,0,346701440,386016686.20000005,408006319.11199999]
[{"$f":"'Org structure'!E47","v":"5.1 - Project Management Office"},null,12550,0,120220.32,100000,100000,100000,null,{"$f":"Q51+V51","v":0},{"$f":"U51+W51","v":0},{"$f":"X51","v":0},null,null,null,null,{"$f":"SUM(N51:P51)","v":0},null,null,null,0]
[{"$f":"'Org structure'!E48","v":"5.2 - Roads and Transportation"},null,196574214.69999999,153682616.33999991,146322567.59,110664463.16,169031457.13000003,169031457.13000003,null,125584000,140512200,147217932,null,null,null,null,0,null,null,null,0,125584000,140512200,147217932]
[{"$f":"'Org structure'!E49","v":"5.3 - Water and Sanitation"},null,112373623.59999998,115240650.79000001,145031039.57999998,173699134.41000003,179956329.81,179956329.81,null,221117440,245504486.20000002,260788387.11199999,null,null,null,null,0,null,null,null,0,221117440,245504486.20000002,260788387.11199999]
[{"$f":"'Org structure'!E50","v":"5.4 - General Manager: Infrastructure "},null,0,0,null,0,0,null,null,0,0,0,null,null,null,null,0,null,null,null,0]
[{"$f":"'Org structure'!E51","v":0},null,null,null,null,null,null,null,null,0,0,0,null,null,null,null,0,null,null,null,0]
[{"$f":"'Org structure'!E52","v":0},null,null,null,null,null,null,null,null,0,0,0,null,null,null,null,0,null,null,null,0]
[{"$f":"'Org structure'!E53","v":0},null,null,null,null,null,null,null,null,0,0,0,null,null,null,null,0,null,null,null,0]
[{"$f":"'Org structure'!E54","v":0},null,null,null,null,null,null,null,null,0,0,0,null,null,null,null,0,null,null,null,0]
[{"$f":"'Org structure'!E55","v":0},null,null,null,null,null,null,null,null,0,0,0,null,null,null,null,0,null,null,null,0]
[{"$f":"'Org structure'!E56","v":0},null,null,null,null,null,null,null,null,0,0,0,null,null,null,null,0,null,null,null,0]
[{"$f":"'Org structure'!A7","v":"Vote 6 - Sustainable Development and City Enterprises"},null,{"$f":"SUM(C62:C71)","v":51772460.630000003},{"$f":"SUM(D62:D71)","v":133279407.06},168625429.68000001,153598529.65000001,155161841.15000001,155161841.15000001,{"$f":"SUM(I62:I71)","v":0},0,0,8000000,null,{"$f":"SUM(N62:N71)","v":0},0,0,0,0,0,0,0,0,0,8000000]
[{"$f":"'Org structure'!E58","v":"6.1 - City Entities"},null,15005502.890000001,3094804.23,4097364.4700000007,2685000,2685000,2685000,null,{"$f":"Q62+V62","v":0},{"$f":"U62+W62","v":0},{"$f":"X62","v":0},null,null,null,null,{"$f":"SUM(N62:P62)","v":0},null,null,null,0]
[{"$f":"'Org structure'!E59","v":"6.2 - Development Services"},null,32992343.870000001,31344443.969999999,14390745.960000001,22090000,22090000,22090000,null,0,0,8000000,null,null,null,null,0,null,null,null,0,null,null,8000000]
[{"$f":"'Org structure'!E60","v":"6.3 - Human Settlement Development"},null,1067854.9000000001,11746687.439999999,71825343.189999998,128823529.65000001,117308223.15000001,117308223.15000001,null,0,0,0,null,null,null,null,0,null,null,null,0]
[{"$f":"'Org structure'!E61","v":"6.4 - Town Planning"},null,2706758.9699999997,87093471.420000002,78311976.060000002,0,13078618,13078618,null,0,0,0,null,null,null,null,0,null,null,null,0]
[{"$f":"'Org structure'!E62","v":"6.5 - General Manager: Sustainable Development and City Enterprises"},null,null,0,null,0,null,null,null,0,0,0,null,null,null,null,0,null,null,null,0]
[{"$f":"'Org structure'!E63","v":0},null,null,null,null,null,null,null,null,0,0,0,null,null,null,null,0,null,null,null,0]
[{"$f":"'Org structure'!E64","v":0},null,null,null,null,null,null,null,null,0,0,0,null,null,null,null,0,null,null,null,0]
[{"$f":"'Org structure'!E65","v":0},null,null,null,null,null,null,null,null,0,0,0,null,null,null,null,0,null,null,null,0]
[{"$f":"'Org structure'!E66","v":0},null,null,null,null,null,null,null,null,0,0,0,null,null,null,null,0,null,null,null,0]
[{"$f":"'Org structure'!E67","v":0},null,null,null,null,null,null,null,null,0,0,0,null,null,null,null,0,null,null,null,0]
[{"$f":"'Org structure'!A8","v":"Vote 7 - Electricity"},null,{"$f":"SUM(C73:C82)","v":98800431.880000204},71071450.300000012,116839301.60999998,237331051.42000005,198157855.6099999,198157855.6099999,0,181332760.95999998,30246861.600000001,31482673.296,null,{"$f":"SUM(N73:N82)","v":0},0,0,0,0,0,0,0,181332760.95999998,30246861.600000001,31482673.296]
[{"$f":"'Org structure'!E69","v":"7.1 Electricity planning"},null,98800431.880000204,65880810.790000014,116432403.55999999,229331051.42000005,198157855.6099999,198157855.6099999,null,{"$f":"Q73+V73","v":168832760.95999998},{"$f":"U73+W73","v":17746861.600000001},{"$f":"X73","v":18482673.296},null,null,null,null,{"$f":"SUM(N73:P73)","v":0},null,null,null,{"$f":"SUM(R73:T73)","v":0},168832760.95999998,17746861.600000001,18482673.296]
[{"$f":"'Org structure'!E70","v":"7.2 Methods and Standards"},null,null,0,0,0,null,null,null,0,0,0,null,null,null,null,0,null,null,null,0]
[{"$f":"'Org structure'!E71","v":"7.3 Operations and Maintenance"},null,null,0,0,0,null,null,null,0,0,0,null,null,null,null,0,null,null,null,0]
[{"$f":"'Org structure'!E72","v":"7.4 Revenue Management"},null,null,5190639.5100000007,406898.05,8000000,null,null,null,12500000,12500000,13000000,null,null,null,null,0,null,null,null,0,12500000,12500000,13000000]
[{"$f":"'Org structure'!E73","v":"7.5 General Manager Electricity"},null,null,0,null,0,null,null,null,0,0,0,null,null,null,null,0,null,null,null,0]
[{"$f":"'Org structure'!E74","v":0},null,null,null,null,null,null,null,null,0,0,0,null,null,null,null,0,null,null,null,0]
[{"$f":"'Org structure'!E75","v":0},null,null,null,null,null,null,null,null,0,0,0,null,null,null,null,0,null,null,null,0]
[{"$f":"'Org structure'!E76","v":0},null,null,null,null,null,null,null,null,0,0,0,null,null,null,null,0,null,null,null,0]
[{"$f":"'Org structure'!E77","v":0},null,null,null,null,null,null,null,null,0,0,0,null,null,null,null,0,null,null,null,0]
[{"$f":"'Org structure'!E78","v":0},null,null,null,null,null,null,null,null,0,0,0,null,null,null,null,0,null,null,null,0]
[{"$f":"'Org structure'!A9","v":"Vote 8 - [NAME OF VOTE 8]"},null,{"$f":"SUM(C84:C93)","v":0},0,0,0,0,0,0,0,0,0,null,{"$f":"SUM(N84:N93)","v":0},0,0,0,0,0,0,0,0,0,0]
[{"$f":"'Org structure'!E80","v":"8.1 - [Name of sub-vote]"},null,null,null,null,null,null,null,null,{"$f":"Q84+V84","v":0},{"$f":"U84+W84","v":0},{"$f":"X84","v":0},null,null,null,null,{"$f":"SUM(N84:P84)","v":0},null,null,null,0]
[{"$f":"'Org structure'!E81","v":0},null,null,null,null,null,null,null,null,0,0,0,null,null,null,null,0,null,null,null,0]
[{"$f":"'Org structure'!E82","v":0},null,null,null,null,null,null,null,null,0,0,0,null,null,null,null,0,null,null,null,0]
[{"$f":"'Org structure'!E83","v":0},null,null,null,null,null,null,null,null,0,0,0,null,null,null,null,0,null,null,null,0]
[{"$f":"'Org structure'!E84","v":0},null,null,null,null,null,null,null,null,0,0,0,null,null,null,null,0,null,null,null,0]
[{"$f":"'Org structure'!E85","v":0},null,null,null,null,null,null,null,null,0,0,0,null,null,null,null,0,null,null,null,0]
[{"$f":"'Org structure'!E86","v":0},null,null,null,null,null,null,null,null,0,0,0,null,null,null,null,0,null,null,null,0]
[{"$f":"'Org structure'!E87","v":0},null,null,null,null,null,null,null,null,0,0,0,null,null,null,null,0,null,null,null,0]
[{"$f":"'Org structure'!E88","v":0},null,null,null,null,null,null,null,null,0,0,0,null,null,null,null,0,null,null,null,0]
[{"$f":"'Org structure'!E89","v":0},null,null,null,null,null,null,null,null,0,0,0,null,null,null,null,0,null,null,null,0]
[{"$f":"'Org structure'!A10","v":"Vote 9 - [NAME OF VOTE 9]"},null,{"$f":"SUM(C95:C104)","v":0},{"$f":"SUM(D95:D104)","v":0},0,0,0,0,0,0,0,0,null,{"$f":"SUM(N95:N104)","v":0},0,0,0,0,0,0,0,0,0,0]
[{"$f":"'Org structure'!E91","v":"9.1 - [Name of sub-vote]"},null,null,null,null,null,null,null,null,{"$f":"Q95+V95","v":0},{"$f":"U95+W95","v":0},{"$f":"X95","v":0},null,null,null,null,{"$f":"SUM(N95:P95)","v":0},null,null,null,0]
[{"$f":"'Org structure'!E92","v":0},null,null,null,null,null,null,null,null,0,0,0,null,null,null,null,0,null,null,null,0]
[{"$f":"'Org structure'!E93","v":0},null,null,null,null,null,null,null,null,0,0,0,null,null,null,null,0,null,null,null,0]
[{"$f":"'Org structure'!E94","v":0},null,null,null,null,null,null,null,null,0,0,0,null,null,null,null,0,null,null,null,0]
[{"$f":"'Org structure'!E95","v":0},null,null,null,null,null,null,null,null,0,0,0,null,null,null,null,0,null,null,null,0]
[{"$f":"'Org structure'!E96","v":0},null,null,null,null,null,null,null,null,0,0,0,null,null,null,null,0,null,null,null,0]
[{"$f":"'Org structure'!E97","v":0},null,null,null,null,null,null,null,null,0,0,0,null,null,null,null,0,null,null,null,0]
[{"$f":"'Org structure'!E98","v":0},null,null,null,null,null,null,null,null,0,0,0,null,null,null,null,0,null,null,null,0]
[{"$f":"'Org structure'!E99","v":0},null,null,null,null,null,null,null,null,0,0,0,null,null,null,null,0,null,null,null,0]
[{"$f":"'Org structure'!E100","v":0},null,null,null,null,null,null,null,null,0,0,0,null,null,null,null,0,null,null,null,0]
[{"$f":"'Org structure'!A11","v":"Vote 10 - [NAME OF VOTE 10]"},null,{"$f":"SUM(C106:C115)","v":0},{"$f":"SUM(D106:D115)","v":0},0,0,0,0,0,0,0,0,null,{"$f":"SUM(N106:N115)","v":0},0,0,0,0,0,0,0,0,0,0]
[{"$f":"'Org structure'!E102","v":"10.1 - [Name of sub-vote]"},null,null,null,null,null,null,null,null,{"$f":"Q106+V106","v":0},{"$f":"U106+W106","v":0},{"$f":"X106","v":0},null,null,null,null,{"$f":"SUM(N106:P106)","v":0},null,null,null,0]
[{"$f":"'Org structure'!E103","v":0},null,null,null,null,null,null,null,null,0,0,0,null,null,null,null,0,null,null,null,0]
[{"$f":"'Org structure'!E104","v":0},null,null,null,null,null,null,null,null,0,0,0,null,null,null,null,0,null,null,null,0]
[{"$f":"'Org structure'!E105","v":0},null,null,null,null,null,null,null,null,0,0,0,null,null,null,null,0,null,null,null,0]
[{"$f":"'Org structure'!E106","v":0},null,null,null,null,null,null,null,null,0,0,0,null,null,null,null,0,null,null,null,0]
[{"$f":"'Org structure'!E107","v":0},null,null,null,null,null,null,null,null,0,0,0,null,null,null,null,0,null,null,null,0]
[{"$f":"'Org structure'!E108","v":0},null,null,null,null,null,null,null,null,0,0,0,null,null,null,null,0,null,null,null,0]
[{"$f":"'Org structure'!E109","v":0},null,null,null,null,null,null,null,null,0,0,0,null,null,null,null,0,null,null,null,0]
[{"$f":"'Org structure'!E110","v":0},null,null,null,null,null,null,null,null,0,0,0,null,null,null,null,0,null,null,null,0]
[{"$f":"'Org structure'!E111","v":0},null,null,null,null,null,null,null,null,0,0,0,null,null,null,null,0,null,null,null,0]
[{"$f":"'Org structure'!A12","v":"Vote 11 - [NAME OF VOTE 11]"},null,{"$f":"SUM(C117:C126)","v":0},0,0,0,0,0,0,0,0,0,null,{"$f":"SUM(N117:N126)","v":0},0,0,0,0,0,0,0,0,0,0]
[{"$f":"'Org structure'!E113","v":"11.1 - [Name of sub-vote]"},null,null,null,null,null,null,null,null,{"$f":"Q117+V117","v":0},{"$f":"U117+W117","v":0},{"$f":"X117","v":0},null,null,null,null,{"$f":"SUM(N117:P117)","v":0},null,null,null,0]
[{"$f":"'Org structure'!E114","v":0},null,null,null,null,null,null,null,null,0,0,0,null,null,null,null,0,null,null,null,0]
[{"$f":"'Org structure'!E115","v":0},null,null,null,null,null,null,null,null,0,0,0,null,null,null,null,0,null,null,null,0]
[{"$f":"'Org structure'!E116","v":0},null,null,null,null,null,null,null,null,0,0,0,null,null,null,null,0,null,null,null,0]
[{"$f":"'Org structure'!E117","v":0},null,null,null,null,null,null,null,null,0,0,0,null,null,null,null,0,null,null,null,0]
[{"$f":"'Org structure'!E118","v":0},null,null,null,null,null,null,null,null,0,0,0,null,null,null,null,0,null,null,null,0]
[{"$f":"'Org structure'!E119","v":0},null,null,null,null,null,null,null,null,0,0,0,null,null,null,null,0,null,null,null,0]
[{"$f":"'Org structure'!E120","v":0},null,null,null,null,null,null,null,null,0,0,0,null,null,null,null,0,null,null,null,0]
[{"$f":"'Org structure'!E121","v":0},null,null,null,null,null,null,null,null,0,0,0,null,null,null,null,0,null,null,null,0]
[{"$f":"'Org structure'!E122","v":0},null,null,null,null,null,null,null,null,0,0,0,null,null,null,null,0,null,null,null,0]
[{"$f":"'Org structure'!A13","v":"Vote 12 - [NAME OF VOTE 12]"},null,{"$f":"SUM(C128:C137)","v":0},0,0,0,0,0,0,0,0,0,null,{"$f":"SUM(N128:N137)","v":0},0,0,0,0,0,0,0,0,0,0]
[{"$f":"'Org structure'!E124","v":"12.1 - [Name of sub-vote]"},null,null,null,null,null,null,null,null,{"$f":"Q128+V128","v":0},{"$f":"U128+W128","v":0},{"$f":"X128","v":0},null,null,null,null,{"$f":"SUM(N128:P128)","v":0},null,null,null,0]
[{"$f":"'Org structure'!E125","v":0},null,null,null,null,null,null,null,null,0,0,0,null,null,null,null,0,null,null,null,0]
[{"$f":"'Org structure'!E126","v":0},null,null,null,null,null,null,null,null,0,0,0,null,null,null,null,0,null,null,null,0]
[{"$f":"'Org structure'!E127","v":0},null,null,null,null,null,null,null,null,0,0,0,null,null,null,null,0,null,null,null,0]
[{"$f":"'Org structure'!E128","v":0},null,null,null,null,null,null,null,null,0,0,0,null,null,null,null,0,null,null,null,0]
[{"$f":"'Org structure'!E129","v":0},null,null,null,null,null,null,null,null,{"$f":"Q133+V133","v":0},0,0,null,null,null,null,0,null,null,null,0]
[{"$f":"'Org structure'!E130","v":0},null,null,null,null,null,null,null,null,0,0,0,null,null,null,null,0,null,null,null,0]
[{"$f":"'Org structure'!E131","v":0},null,null,null,null,null,null,null,null,0,0,0,null,null,null,null,0,null,null,null,0]
[{"$f":"'Org structure'!E132","v":0},null,null,null,null,null,null,null,null,0,0,0,null,null,null,null,0,null,null,null,{"$f":"SUM(R136:T136)","v":0}]
[{"$f":"'Org structure'!E133","v":0},null,null,null,null,null,null,null,null,0,0,0,null,null,null,null,0,null,null,null,0]
[{"$f":"'Org structure'!A14","v":"Vote 13 - [NAME OF VOTE 13]"},null,{"$f":"SUM(C139:C148)","v":0},0,0,0,0,0,0,0,0,0,null,{"$f":"SUM(N139:N148)","v":0},0,0,0,0,0,0,0,0,0,0]
[{"$f":"'Org structure'!E135","v":"13.1 - [Name of sub-vote]"},null,null,null,null,null,null,null,null,{"$f":"Q139+V139","v":0},{"$f":"U139+W139","v":0},{"$f":"X139","v":0},null,null,null,null,{"$f":"SUM(N139:P139)","v":0},null,null,null,0]
[{"$f":"'Org structure'!E136","v":0},null,null,null,null,null,null,null,null,0,0,0,null,null,null,null,0,null,null,null,0]
[{"$f":"'Org structure'!E137","v":0},null,null,null,null,null,null,null,null,0,0,0,null,null,null,null,0,null,null,null,0]
[{"$f":"'Org structure'!E138","v":0},null,null,null,null,null,null,null,null,0,0,0,null,null,null,null,0,null,null,null,0]
[{"$f":"'Org structure'!E139","v":0},null,null,null,null,null,null,null,null,0,0,0,null,null,null,null,0,null,null,null,0]
[{"$f":"'Org structure'!E140","v":0},null,null,null,null,null,null,null,null,0,0,0,null,null,null,null,0,null,null,null,0]
[{"$f":"'Org structure'!E141","v":0},null,null,null,null,null,null,null,null,0,0,0,null,null,null,null,0,null,null,null,0]
[{"$f":"'Org structure'!E142","v":0},null,null,null,null,null,null,null,null,0,0,0,null,null,null,null,0,null,null,null,0]
[{"$f":"'Org structure'!E143","v":0},null,null,null,null,null,null,null,null,0,0,0,null,null,null,null,0,null,null,null,0]
[{"$f":"'Org structure'!E144","v":0},null,null,null,null,null,null,null,null,0,0,0,null,null,null,null,0,null,null,null,0]
[{"$f":"'Org structure'!A15","v":"Vote 14 - [NAME OF VOTE 14]"},null,{"$f":"SUM(C150:C159)","v":0},0,0,0,0,0,0,0,0,0,null,{"$f":"SUM(N150:N159)","v":0},0,0,0,0,0,0,0,0,0,0]
[{"$f":"'Org structure'!E146","v":"14.1 - [Name of sub-vote]"},null,null,null,null,null,null,null,null,{"$f":"Q150+V150","v":0},{"$f":"U150+W150","v":0},{"$f":"X150","v":0},null,null,null,null,{"$f":"SUM(N150:P150)","v":0},null,null,null,0]
[{"$f":"'Org structure'!E147","v":0},null,null,null,null,null,null,null,null,0,0,0,null,null,null,null,0,null,null,null,0]
[{"$f":"'Org structure'!E148","v":0},null,null,null,null,null,null,null,null,0,0,0,null,null,null,null,0,null,null,null,0]
[{"$f":"'Org structure'!E149","v":0},null,null,null,null,null,null,null,null,0,0,0,null,null,null,null,0,null,null,null,0]
[{"$f":"'Org structure'!E150","v":0},null,null,null,null,null,null,null,null,0,0,0,null,null,null,null,0,null,null,null,0]
[{"$f":"'Org structure'!E151","v":0},null,null,null,null,null,null,null,null,0,0,0,null,null,null,null,0,null,null,null,0]
[{"$f":"'Org structure'!E152","v":0},null,null,null,null,null,null,null,null,0,0,0,null,null,null,null,0,null,null,null,0]
[{"$f":"'Org structure'!E153","v":0},null,null,null,null,null,null,null,null,0,0,0,null,null,null,null,0,null,null,null,0]
[{"$f":"'Org structure'!E154","v":0},null,null,null,null,null,null,null,null,0,0,0,null,null,null,null,0,null,null,null,0]
[{"$f":"'Org structure'!E155","v":0},null,null,null,null,null,null,null,null,0,0,0,null,null,null,null,0,null,null,null,0]
[{"$f":"'Org structure'!A16","v":"Vote 15 - [NAME OF VOTE 15]"},null,{"$f":"SUM(C161:C170)","v":0},0,0,0,0,0,0,0,0,0,null,{"$f":"SUM(N161:N170)","v":0},0,0,0,0,0,0,0,0,0,0]
[{"$f":"'Org structure'!E157","v":"15.1 - [Name of sub-vote]"},null,null,null,null,null,null,null,null,{"$f":"Q161+V161","v":0},{"$f":"U161+W161","v":0},{"$f":"X161","v":0},null,null,null,null,{"$f":"SUM(N161:P161)","v":0},null,null,null,0]
[{"$f":"'Org structure'!E158","v":0},null,null,null,null,null,null,null,null,0,0,0,null,null,null,null,0,null,null,null,0]
[{"$f":"'Org structure'!E159","v":0},null,null,null,null,null,null,null,null,0,0,0,null,null,null,null,0,null,null,null,0]
[{"$f":"'Org structure'!E160","v":0},null,null,null,null,null,null,null,null,0,0,0,null,null,null,null,0,null,null,null,0]
[{"$f":"'Org structure'!E161","v":0},null,null,null,null,null,null,null,null,0,0,0,null,null,null,null,0,null,null,null,0]
[{"$f":"'Org structure'!E162","v":0},null,null,null,null,null,null,null,null,0,0,0,null,null,null,null,0,null,null,null,0]
[{"$f":"'Org structure'!E163","v":0},null,null,null,null,null,null,null,null,0,0,0,null,null,null,null,0,null,null,null,0]
[{"$f":"'Org structure'!E164","v":0},null,null,null,null,null,null,null,null,0,0,0,null,null,null,null,0,null,null,null,0]
[{"$f":"'Org structure'!E165","v":0},null,null,null,null,null,null,null,null,0,0,0,null,null,null,null,0,null,null,null,0]
[{"$f":"'Org structure'!E166","v":0},null,null,null,null,null,null,null,null,0,0,0,null,null,null,null,0,null,null,null,0]
["Capital multi-year expenditure sub-total",null,{"$f":"C6+C17+C28+C39+C50+C61+C72+C83+C94+C105+C116+C127+C138+C149+C160","v":501509747.74000013},{"$f":"D6+D17+D28+D39+D50+D61+D72+D83+D94+D105+D116+D127+D138+D149+D160","v":532326314.72999996},662495928.59000003,786565890.42000008,769693163.77999997,769693163.77999997,0,617650920.96000004,489757271.00000006,525912339,null,{"$f":"N6+N17+N28+N39+N50+N61+N72+N83+N94+N105+N116+N127+N138+N149+N160","v":0},0,0,0,0,0,null,0,{"$f":"V6+V17+V28+V39+V50+V61+V72+V83+V94+V105+V116+V127+V138+V149+V160","v":617650920.96000004},{"$f":"W6+W17+W28+W39+W50+W61+W72+W83+W94+W105+W116+W127+W138+W149+W160","v":489757271.00000006},{"$f":"X6+X17+X28+X39+X50+X61+X72+X83+X94+X105+X116+X127+X138+X149+X160","v":525912339}]
[]
["Capital expenditure - Municipal Vote"]
["Single-year expenditure appropriation",2]
[{"$f":"A6","v":"Vote 1 - City Manager"},null,{"$f":"SUM(C176:C185)","v":2151205.0099999998},943953.22,6002904.9100000001,5000000,6400000,6400000,0,0,0,0]
[{"$f":"A7","v":"1.1 - Internal Audit and Compliance"},null,0,0,0]
["1.2 - Office of the City Manager",null,71499.7,194295.18,2847260.2199999997,5000000,6400000,6400000]
["1.3 - Political Support",null,1040623.62,749658.04,3155644.69]
["1.4 - Strategic Planning",null,1039081.69,0,0]
[0]
[0]
[0]
[0]
[0]
[0]
["Vote 2 - City Finance",null,{"$f":"SUM(C187:C196)","v":6344857.3299999982},3084194.2200000007,5570959.2400000002,0,1300000,1300000,0,0,0,0]
["2.1 - Asset Management",null,4381677.8999999994,2497739.8200000003]
["2.2 - Budget and Treasury Management",null,622883.85,0,null,null,1300000,1300000]
["2.3 - Expenditure Management",null,0,49674.91]
["2.4 - Revenue Management",null,1059984.98,0,97500]
["2.5 - Supply Chain Management",null,280310.59999999998,536779.49,5473459.2400000002]
[0]
[0]
[0]
[0]
[0]
["Vote 3 - Corporate Services",null,{"$f":"SUM(C198:C207)","v":2270139.63},3796496.8200000003,15256416.640000001,7615000,11870822,11870822,0,0,0,0]
["Human Resources Management",null,2124468.4899999998,0,null,60000,60000,60000]
["Information Technology",null,15697.5,2630224.8200000003,15256416.640000001,7425000,11770822,11770822]
["Legal Services",null,95276,0,null,0,0,0]
["Secretariat and Auxiliary Services",null,34697.64,1166272,null,40000,40000,40000]
["General Manager: Corporate Service",null,null,0,null,90000]
[0]
[0]
[0]
[0]
[0]
["Vote 4 - Community Services and Social Equity",null,{"$f":"SUM(C209:C218)","v":3553157.0500000003},4980126,8052360.2700000005,8690000,9090000,9090000,0,10000000,30000000,30000000]
["4.1 - Area Based Management ",null,531570.77,302598,0,500000,500000,500000]
["4.2 - Public Safety, Emergency Services and Enforcement",null,1747848.6,440841.54,4155061.79,2450000,2450000,2450000]
["4.3 - Recreation and Facilities",null,1226502.6800000002,0,1331749.03,5680000,5680000,5680000,null,10000000,30000000,30000000]
["4.4 - Waste Management",null,47235,4236686.46,2565549.4500000002,60000,60000,60000]
["4.5 - General Manager: Community Services",null,null,null,0,null,400000,400000]
[0]
[0]
[0]
[0]
[0]
["Vote 5 - Infrastructure Services",null,{"$f":"SUM(C220:C229)","v":3549110.5999999996},792613.81,15179175.83,10000000,10092413,10092413,0,0,0,0]
["5.1 - Project Management Office",null,0,0,139164.95000000001,1000000,1092413,1092413]
["5.2 - Roads and Transportation",null,3549110.5999999996,0,3180098.62,4000000,4000000,4000000]
["5.3 - Water and Sanitation",null,0,792613.81,11859912.26,5000000,5000000,5000000]
["5.4 - General Manager: Infrastructure ",null,0,0,0,0,0]
[0]
[0]
[0]
[0]
[0]
[0]
["Vote 6 - Sustainable Development and City Enterprises",null,{"$f":"SUM(C231:C240)","v":2059024.0899999999},1035306.98,842627.38,2140000,2502396.2199999988,2502396.2199999988,0,0,0,0]
["6.1 - City Entities",null,446777.33999999997,450938.47,198975,330000,330000,330000]
["6.2 - Development Services",null,342251.8,195813.29,0,260000,322396.21999999881,322396.21999999881]
["6.3 - Human Settlement Development",null,718059.75,388555.22,350753.88,750000,750000,750000]
["6.4 - Town Planning",null,551935.19999999995,0,292898.5,700000,700000,700000]
["6.5 - General Manager: Sustainable Development and City Enterprises",null,0,0,0,100000,400000,400000]
[0]
[0]
[0]
[0]
[{"$f":"A71","v":0}]
["Vote 7 - Electricity",null,{"$f":"SUM(C242:C251)","v":0},830822.31,12909352.940000001,4000000,5600000,5600000,0,0,0,0]
["7.1 Electricity planning",null,null,0,12909352.940000001,4000000,4000000,4000000]
["7.2 Methods and Standards",null,null,0,null,null,0,0]
["7.3 Operations and Maintenance",null,null,0,null,null,0,0]
["7.4 Revenue Management",null,null,0,null,null,1600000,1600000]
["7.5 General Manager Electricity",null,null,830822.31]
[0]
[0]
[0]
[0]
[0]
["Vote 8 - [NAME OF VOTE 8]",null,{"$f":"SUM(C253:C262)","v":0},0,0,0,0,0,0,0,0,0]
["8.1 - [Name of sub-vote]"]
[0]
[0]
[0]
[0]
[0]
[0]
[0]
[0]
[0]
["Vote 9 - [NAME OF VOTE 9]",null,{"$f":"SUM(C264:C273)","v":0},0,0,0,0,0,0,0,0,0]
["9.1 - [Name of sub-vote]"]
[0]
[0]
[0]
[0]
[0]
[0]
[0]
[0]
[0]
["Vote 10 - [NAME OF VOTE 10]",null,{"$f":"SUM(C275:C284)","v":0},0,0,0,0,0,0,0,0,0]
["10.1 - [Name of sub-vote]"]
[0]
[0]
[0]
[0]
[0]
[0]
[0]
[0]
[0]
["Vote 11 - [NAME OF VOTE 11]",null,{"$f":"SUM(C286:C295)","v":0},0,0,0,0,0,0,0,0,0]
["11.1 - [Name of sub-vote]"]
[0]
[0]
[0]
[0]
[0]
[0]
[0]
[0]
[0]
["Vote 12 - [NAME OF VOTE 12]",null,{"$f":"SUM(C297:C306)","v":0},0,0,0,0,0,0,0,0,0]
["12.1 - [Name of sub-vote]"]
[0]
[0]
[0]
[0]
[0]
[0]
[{"$f":"A135","v":0}]
[0]
[0]
["Vote 13 - [NAME OF VOTE 13]",null,{"$f":"SUM(C308:C317)","v":0},0,0,0,0,0,0,0,0,0]
["13.1 - [Name of sub-vote]"]
[0]
[0]
[0]
[0]
[0]
[0]
[0]
[0]
[0]
["Vote 14 - [NAME OF VOTE 14]",null,{"$f":"SUM(C319:C328)","v":0},0,0,0,0,0,0,0,0,0]
["14.1 - [Name of sub-vote]"]
[0]
[0]
[0]
[0]
[0]
[0]
[0]
[0]
[0]
["Vote 15 - [NAME OF VOTE 15]",null,{"$f":"SUM(C330:C339)","v":0},0,0,0,0,0,0,0,0,0]
["15.1 - [Name of sub-vote]"]
[0]
[0]
[0]
[0]
[0]
[0]
[0]
[0]
[0]
["Capital single-year expenditure sub-total",null,{"$f":"C175+C186+C197+C208+C219+C230+C241+C252+C263+C274+C285+C296+C307+C318+C329","v":19927493.709999997},{"$f":"D175+D186+D197+D208+D219+D230+D241+D252+D263+D274+D285+D296+D307+D318+D329","v":15463513.360000003},63813797.210000008,37445000,46855631.219999999,46855631.219999999,0,10000000,30000000,30000000]
["Total Capital Expenditure",null,{"$f":"C171+C340","v":521437241.45000011},{"$f":"D171+D340","v":547789828.08999991},726309725.80000007,824010890.42000008,816548795,816548795,0,627650920.96000004,519757271.00000006,555912339]

{"sheet":"A6-FinPos","index":15,"n_rows":61,"n_cols":12,"rows_kept":61,"cut":false,"hidden":false,"merged":[[1,9,1,11],[1,5,1,8]]}
[{"$f":"muni&\" - \"&Approve6","v":"Choose name from list - Table A6 Budgeted Financial Position"}]
[{"$f":"desc","v":"Description"},{"$f":"head27","v":"Ref"},{"$f":"head1b","v":"2021/22"},{"$f":"head1A","v":"2022/23"},{"$f":"Head1","v":"2023/24"},{"$f":"Head2","v":"Current Year 2024/25"},null,null,null,{"$f":"Head3","v":"2025/26 Medium Term Revenue & Expenditure Framework"}]
["R thousand",null,{"$f":"Head5","v":"Audited Outcome"},{"$f":"Head5","v":"Audited Outcome"},{"$f":"Head5","v":"Audited Outcome"},{"$f":"Head6","v":"Original Budget"},{"$f":"Head7","v":"Adjusted Budget"},{"$f":"Head8","v":"Full Year Forecast"},{"$f":"Head5b","v":"Pre-audit outcome"},{"$f":"Head9","v":"Budget Year 2025/26"},{"$f":"Head10","v":"Budget Year +1 2026/27"},{"$f":"Head11","v":"Budget Year +2 2027/28"}]
["ASSETS"]
["Current assets"]
["Cash and cash equivalents",null,290433199,515708363,495992735,213140337,372823656,374180638,-666355195,400170595.54000002,396979401,404944406]
["Trade and other receivables from exchange transactions",1,{"$f":"'SA3'!C20","v":1792394265},{"$f":"'SA3'!D20","v":2233301100},{"$f":"'SA3'!E20","v":737163991},{"$f":"'SA3'!F20","v":2649261960},{"$f":"'SA3'!G20","v":2649261960},{"$f":"'SA3'!H20","v":2649261960},{"$f":"'SA3'!I20","v":588056119},{"$f":"'SA3'!J20","v":1677176747},{"$f":"'SA3'!K20","v":1758178167},{"$f":"'SA3'!L20","v":1843095549}]
["Receivables from non-exchange transactions",1,{"$f":"'SA3'!C29","v":624384115},{"$f":"'SA3'!D29","v":765103880},{"$f":"'SA3'!E29","v":277660390},{"$f":"'SA3'!F29","v":811010113},{"$f":"'SA3'!G29","v":811010113},{"$f":"'SA3'!H29","v":811010113},{"$f":"'SA3'!I29","v":235086740},{"$f":"'SA3'!J29","v":467187807},{"$f":"'SA3'!K29","v":488211258},{"$f":"'SA3'!L29","v":506222656}]
["Current portion of non-current receivables",null,608037071,341385933,277804751,null,null,null,235086740,28684,29975,31324]
["Inventory",2,{"$f":"'SA3'!C132","v":737550566},{"$f":"'SA3'!D132","v":1469618707},{"$f":"'SA3'!E132","v":2344649941},{"$f":"'SA3'!F132","v":2732618936},{"$f":"'SA3'!G132","v":2802440314},{"$f":"'SA3'!H132","v":2802440314},{"$f":"'SA3'!I132","v":2290499509},{"$f":"'SA3'!J132","v":498280564},{"$f":"'SA3'!K132","v":520703190},{"$f":"'SA3'!L132","v":544134834}]
["VAT",null,null,361767859,488561056,null,null,null,175103571]
["Other current assets",null,32672509,24540578,23587173,2500,null,2500,976307,944728,987128,1031437]
["Total current assets",null,{"$f":"SUM(C6:C12)","v":4085471725},{"$f":"SUM(D6:D12)","v":5711426420},4645420037,6406033846,6635536043,6636895525,2858453791,3043789125.54,3165089119,3299460206]
["Non current assets"]
["Investments"]
["Investment property",null,923509345,952772121,922391726,974255980.81499994,974255980.81499994,974255980.81499994,null,922391726,963899354,1007274825]
["Property, plant and equipment",3,{"$f":"'SA3'!C138","v":17253419554},{"$f":"'SA3'!D138","v":18537059747},{"$f":"'SA3'!E138","v":18847954448},{"$f":"'SA3'!F138","v":8761935354},{"$f":"'SA3'!G138","v":8754736642},{"$f":"'SA3'!H138","v":8761902258},{"$f":"'SA3'!I138","v":0},{"$f":"'SA3'!J138","v":7884987594},{"$f":"'SA3'!K138","v":8103664293},{"$f":"'SA3'!L138","v":8480688588}]
["Biological assets",null,null,null,null,80958443.400000006,80958443.400000006,80958443.400000006,null,83234407,86979955,90894054]
["Living and non-living resources",null,696179,575890,534407,0,0,0,null,0]
["Heritage assets",null,273093520,326039684,323519929,291269523.13999999,291269523.13999999,291269523.13999999,null,323519929,338078328,353291848]
["Intangible assets",null,20954448,23913257,24753127,25766052,26566052,26566052,null,24753126,25867017,27031032]
["Trade and other receivables from exchange transactions"]
["Non-current receivables from non-exchange transactions"]
["Other non-current assets",null,80200000,76120000,82700000]
["Total non current assets",null,{"$f":"SUM(C15:C24)","v":18551873046},{"$f":"SUM(D15:D24)","v":19916480699},20201853637,10134185353.355,10127786641.355,10134952257.355,0,9238886782,9518488947,9959180347]
["TOTAL ASSETS",null,{"$f":"C13+C25","v":22637344771},{"$f":"D13+D25","v":25627907119},{"$f":"E13+E25","v":24847273674},{"$f":"F13+F25","v":16540219199.355},16763322684.355,16771847782.355,2858453791,12282675907.540001,12683578066,13258640553]
["LIABILITIES"]
["Current liabilities"]
["Bank overdraft"]
["Financial liabilities",null,{"$f":"'SA3'!C144","v":79162900},{"$f":"'SA3'!D144","v":74270955},{"$f":"'SA3'!E144","v":50311361},{"$f":"'SA3'!F144","v":-11272788},{"$f":"'SA3'!G144","v":28727212},{"$f":"'SA3'!H144","v":28727212},{"$f":"'SA3'!I144","v":0},{"$f":"'SA3'!J144","v":76586310},{"$f":"'SA3'!K144","v":84082694},{"$f":"'SA3'!L144","v":91916416}]
["Consumer deposits",null,132962378,142078762,152248286,150719178.24000001,150719178.24000001,150719178.24000001,null,152357428,159213511,166378120]
["Trade and other payables from exchange transactions",4,1930953555,2515287170,2279618355,1714269734,1713733896,1714269734,null,1715426769.3599999,1665441769.3599999,1665461769.3599999]
["Trade and other payables from non-exchange transactions",5,20091631,15568203,12566995,0,0,0,null,0,0,0]
["Provision",null,8656363,10029552,6108374,62936725.490000002,61739437.120000005,62936725.490000002,null,53143375,55534827,58033895]
["VAT",null,178088885,null,null,457746833.10000002,457746833.10000002,457746833.10000002,null,162137445,169433630,177058143]
["Other current liabilities",null,177613526,226421085,236566604,null,null,null,null,0,0,0]
["Total current liabilities",null,{"$f":"SUM(C29:C36)","v":2527529238},{"$f":"SUM(D29:D36)","v":2983655727},2737419975,2374399682.8299999,2412666556.46,2414399682.8299999,0,2159651327.3599997,2133706431.3599999,2158848343.3599997]
["Non current liabilities"]
["Financial liabilities",6,{"$f":"'SA3'!C156","v":124581612},{"$f":"'SA3'!D156","v":50310655},{"$f":"'SA3'!E156","v":116274950},{"$f":"'SA3'!F156","v":559919194},{"$f":"'SA3'!G156","v":559919194},{"$f":"'SA3'!H156","v":559919194},{"$f":"'SA3'!I156","v":0},{"$f":"'SA3'!J156","v":0},{"$f":"'SA3'!K156","v":0},{"$f":"'SA3'!L156","v":0}]
["Provision",7,{"$f":"'SA3'!C170","v":650433708},{"$f":"'SA3'!D170","v":608163173},{"$f":"'SA3'!E170","v":616855093},{"$f":"'SA3'!F170","v":663566830},{"$f":"'SA3'!G170","v":663566830},{"$f":"'SA3'!H170","v":663566830},{"$f":"'SA3'!I170","v":0},{"$f":"'SA3'!J170","v":117456093},{"$f":"'SA3'!K170","v":122741617},{"$f":"'SA3'!L170","v":128264990}]
["Long term portion of trade payables",null,{"$f":"'SA3'!C158","v":0},{"$f":"'SA3'!D158","v":0},{"$f":"'SA3'!E158","v":925331133},{"$f":"'SA3'!F158","v":0},{"$f":"'SA3'!G158","v":0},{"$f":"'SA3'!H158","v":0},{"$f":"'SA3'!I158","v":0},{"$f":"'SA3'!J158","v":2796913885},{"$f":"'SA3'!K158","v":2922775010},{"$f":"'SA3'!L158","v":3054299885}]
["Other non-current liabilities",null,null,545988000,572205000,583456000,583456000,583456000,null,499399000,521871955,545356193]
["Total non current liabilities",null,{"$f":"SUM(C39:C42)","v":775015320},{"$f":"SUM(D39:D42)","v":1204461828},2230666176,1806942024,1806942024,1806942024,0,3413768978,3567388582,3727921068]
["TOTAL LIABILITIES",null,{"$f":"C37+C43","v":3302544558},{"$f":"D37+D43","v":4188117555},{"$f":"E37+E43","v":4968086151},{"$f":"F37+F43","v":4181341706.8299999},4219608580.46,4221341706.8299999,0,5573420305.3599997,{"$f":"K37+K43","v":5701095013.3599997},5886769411.3599997]
["NET ASSETS",null,{"$f":"C26-C44","v":19334800213},21439789564,19879187523,12358877492.525,12543714103.895,12550506075.525,2858453791,6709255602.1800013,6982483052.6400003,7371871141.6400003]
["COMMUNITY WEALTH/EQUITY"]
["Accumulated surplus/(deficit)",8,7824587047,7460801385,6511351194,10652167584.029999,10956969852.195002,10963761823.825001,null,6709255599.1800003,6982483052.6400003,7371871140.6400003]
["Reserves and funds",9,{"$f":"'SA3'!C189","v":235412520},{"$f":"'SA3'!D189","v":250168182},{"$f":"'SA3'!E189","v":252923788},{"$f":"'SA3'!F189","v":0},{"$f":"'SA3'!G189","v":0},{"$f":"'SA3'!H189","v":0},{"$f":"'SA3'!I189","v":-1468968},{"$f":"'SA3'!J189","v":0},{"$f":"'SA3'!K189","v":0},{"$f":"'SA3'!L189","v":0}]
["Other"]
["TOTAL COMMUNITY WEALTH/EQUITY",10,{"$f":"SUM(C47:C49)","v":8059999567},{"$f":"SUM(D47:D49)","v":7710969567},6764274982,10652167584.029999,10956969852.195002,10963761823.825001,-1468968,6709255599.1800003,6982483052.6400003,7371871140.6400003]
[{"$f":"head27a","v":"References"}]
["1. Detail breakdown in Table SA3 for Trade receivables from Exchange and Non-exchange transactions"]
["2. Include completed low cost housing to be transferred to beneficiaries within 12 months detail provided in Table SA3"]
["3. Include 'Construction-work-in-progress' (disclosed separately in annual financial statements) detail in SA3"]
["4. Detail breakdown in Table SA3. "]
["5. Detail breakdown in Table SA3. "]
["6. Detail breakdown in Table SA3. "]
["7 Detail breakdown in Table SA3. "]
["8. Detail breakdown in Table SA3. "]
["9. Detail breakdown in Table SA3. Includes reserves to be funded by statute."]
["10. Net assets must balance with Total Community Wealth/Equity"]

{"sheet":"A6 Inventory","index":16,"n_rows":78,"n_cols":12,"rows_kept":78,"cut":false,"hidden":true,"merged":[[0,0,0,11],[1,5,1,8],[1,9,1,11]]}
[]
["Store Type","Classification",{"$f":"head1b","v":"2021/22"},{"$f":"head1A","v":"2022/23"},{"$f":"Head1","v":"2023/24"},{"$f":"Head2","v":"Current Year 2024/25"},null,null,null,{"$f":"Head3","v":"2025/26 Medium Term Revenue & Expenditure Framework"}]
["R thousands","",{"$f":"Head5","v":"Audited Outcome"},{"$f":"Head5","v":"Audited Outcome"},{"$f":"Head5","v":"Audited Outcome"},{"$f":"Head6","v":"Original Budget"},{"$f":"Head7","v":"Adjusted Budget"},{"$f":"Head8","v":"Full Year Forecast"},{"$f":"Head5b","v":"Pre-audit outcome"},{"$f":"Head9","v":"Budget Year 2025/26"},{"$f":"Head10","v":"Budget Year +1 2026/27"},{"$f":"Head11","v":"Budget Year +2 2027/28"}]
["Agricultural","Opening balance - Agricultural",{"$f":"'SA3'!C66","v":0},{"$f":"'SA3'!D66","v":0},{"$f":"'SA3'!E66","v":0},{"$f":"'SA3'!F66","v":0},{"$f":"'SA3'!G66","v":0},{"$f":"'SA3'!H66","v":0},{"$f":"'SA3'!I66","v":0},{"$f":"'SA3'!J66","v":-88517052},{"$f":"'SA3'!K66","v":2472736},{"$f":"'SA3'!L66","v":2584009}]
[null,"Acquisitions - Agricultural",{"$f":"'SA3'!C67","v":33620158},{"$f":"'SA3'!D67","v":54896894},{"$f":"'SA3'!E67","v":54949691},{"$f":"'SA3'!F67","v":0},{"$f":"'SA3'!G67","v":0},{"$f":"'SA3'!H67","v":0},{"$f":"'SA3'!I67","v":0},{"$f":"'SA3'!J67","v":0},{"$f":"'SA3'!K67","v":0},{"$f":"'SA3'!L67","v":0}]
[null,"Adjustments - Agricultural",{"$f":"'SA3'!C68","v":0},{"$f":"'SA3'!D68","v":0},{"$f":"'SA3'!E68","v":0},{"$f":"'SA3'!F68","v":0},{"$f":"'SA3'!G68","v":0},{"$f":"'SA3'!H68","v":0},{"$f":"'SA3'!I68","v":0},{"$f":"'SA3'!J68","v":0},{"$f":"'SA3'!K68","v":0},{"$f":"'SA3'!L68","v":0}]
[null,"Issues - Agricultural",{"$f":"'SA3'!C69","v":0},{"$f":"'SA3'!D69","v":0},{"$f":"'SA3'!E69","v":0},{"$f":"'SA3'!F69","v":0},{"$f":"'SA3'!G69","v":0},{"$f":"'SA3'!H69","v":0},{"$f":"'SA3'!I69","v":0},{"$f":"'SA3'!J69","v":0},{"$f":"'SA3'!K69","v":0},{"$f":"'SA3'!L69","v":0}]
[null,"Write Off - Agricultural",{"$f":"'SA3'!C70","v":0},{"$f":"'SA3'!D70","v":0},{"$f":"'SA3'!E70","v":0},{"$f":"'SA3'!F70","v":0},{"$f":"'SA3'!G70","v":0},{"$f":"'SA3'!H70","v":0},{"$f":"'SA3'!I70","v":0},{"$f":"'SA3'!J70","v":0},{"$f":"'SA3'!K70","v":0},{"$f":"'SA3'!L70","v":0}]
[null,"Correction of Prior period errors - Agricultural",{"$f":"'SA3'!C71","v":0},{"$f":"'SA3'!D71","v":0},{"$f":"'SA3'!E71","v":0},{"$f":"'SA3'!F71","v":0},{"$f":"'SA3'!G71","v":0},{"$f":"'SA3'!H71","v":0},{"$f":"'SA3'!I71","v":0},{"$f":"'SA3'!J71","v":0},{"$f":"'SA3'!K71","v":0},{"$f":"'SA3'!L71","v":0}]
["Agricultural Total","",{"$f":"SUM(C4:C9)","v":33620158},{"$f":"SUM(D4:D9)","v":54896894},54949691,0,0,0,0,-88517052,2472736,2584009]
["Consumables Standard Rated","Opening balance - Consumables Standard Rated",{"$f":"'SA3'!C76","v":0},{"$f":"'SA3'!D76","v":368995193},{"$f":"'SA3'!E76","v":1049223580},{"$f":"'SA3'!F76","v":1846835035},{"$f":"'SA3'!G76","v":1846835035},{"$f":"'SA3'!H76","v":1846835035},{"$f":"'SA3'!I76","v":1846835035},{"$f":"'SA3'!J76","v":1846835035},{"$f":"'SA3'!K76","v":1846835035},{"$f":"'SA3'!L76","v":1846835035}]
[null,"Acquisitions - Consumables Standard Rated",{"$f":"'SA3'!C77","v":0},{"$f":"'SA3'!D77","v":0},{"$f":"'SA3'!E77","v":0},{"$f":"'SA3'!F77","v":0},{"$f":"'SA3'!G77","v":0},{"$f":"'SA3'!H77","v":0},{"$f":"'SA3'!I77","v":0},{"$f":"'SA3'!J77","v":0},{"$f":"'SA3'!K77","v":0},{"$f":"'SA3'!L77","v":0}]
[null,"Adjustments - Consumables Standard Rated",{"$f":"'SA3'!C78","v":368995193},{"$f":"'SA3'!D78","v":680228387},{"$f":"'SA3'!E78","v":797611455},{"$f":"'SA3'!F78","v":0},{"$f":"'SA3'!G78","v":0},{"$f":"'SA3'!H78","v":0},{"$f":"'SA3'!I78","v":0},{"$f":"'SA3'!J78","v":0},{"$f":"'SA3'!K78","v":0},{"$f":"'SA3'!L78","v":0}]
[null,"Issues - Consumables Standard Rated",{"$f":"'SA3'!C79","v":0},{"$f":"'SA3'!D79","v":0},{"$f":"'SA3'!E79","v":0},{"$f":"'SA3'!F79","v":0},{"$f":"'SA3'!G79","v":0},{"$f":"'SA3'!H79","v":0},{"$f":"'SA3'!I79","v":0},{"$f":"'SA3'!J79","v":0},{"$f":"'SA3'!K79","v":0},{"$f":"'SA3'!L79","v":0}]
[null,"Write Off - Consumables Standard Rated",{"$f":"'SA3'!C80","v":0},{"$f":"'SA3'!D80","v":0},{"$f":"'SA3'!E80","v":0},{"$f":"'SA3'!F80","v":0},{"$f":"'SA3'!G80","v":0},{"$f":"'SA3'!H80","v":0},{"$f":"'SA3'!I80","v":0},{"$f":"'SA3'!J80","v":0},{"$f":"'SA3'!K80","v":0},{"$f":"'SA3'!L80","v":0}]
[null,"Correction of Prior period errors - Consumables Standard Rated",{"$f":"'SA3'!C81","v":0},{"$f":"'SA3'!D81","v":0},{"$f":"'SA3'!E81","v":0},{"$f":"'SA3'!F81","v":0},{"$f":"'SA3'!G81","v":0},{"$f":"'SA3'!H81","v":0},{"$f":"'SA3'!I81","v":0},{"$f":"'SA3'!J81","v":0},{"$f":"'SA3'!K81","v":0},{"$f":"'SA3'!L81","v":0}]
["Consumables Standard Rated Total","",{"$f":"SUM(C11:C16)","v":368995193},{"$f":"SUM(D11:D16)","v":1049223580},1846835035,1846835035,1846835035,1846835035,1846835035,1846835035,1846835035,1846835035]
["Consumables Zero Rated","Opening balance - Consumables Zero Rated",{"$f":"'SA3'!C84","v":0},{"$f":"'SA3'!D84","v":0},{"$f":"'SA3'!E84","v":0},{"$f":"'SA3'!F84","v":0},{"$f":"'SA3'!G84","v":0},{"$f":"'SA3'!H84","v":0},{"$f":"'SA3'!I84","v":0},{"$f":"'SA3'!J84","v":0},{"$f":"'SA3'!K84","v":0},{"$f":"'SA3'!L84","v":0}]
[null,"Acquisitions - Consumables Zero Rated",{"$f":"'SA3'!C85","v":0},{"$f":"'SA3'!D85","v":0},{"$f":"'SA3'!E85","v":0},{"$f":"'SA3'!F85","v":0},{"$f":"'SA3'!G85","v":0},{"$f":"'SA3'!H85","v":0},{"$f":"'SA3'!I85","v":0},{"$f":"'SA3'!J85","v":0},{"$f":"'SA3'!K85","v":0},{"$f":"'SA3'!L85","v":0}]
[null,"Adjustments - Consumables Zero Rated",{"$f":"'SA3'!C86","v":0},{"$f":"'SA3'!D86","v":0},{"$f":"'SA3'!E86","v":0},{"$f":"'SA3'!F86","v":0},{"$f":"'SA3'!G86","v":0},{"$f":"'SA3'!H86","v":0},{"$f":"'SA3'!I86","v":0},{"$f":"'SA3'!J86","v":0},{"$f":"'SA3'!K86","v":0},{"$f":"'SA3'!L86","v":0}]
[null,"Issues - Consumables Zero Rated",{"$f":"'SA3'!C87","v":0},{"$f":"'SA3'!D87","v":0},{"$f":"'SA3'!E87","v":0},{"$f":"'SA3'!F87","v":0},{"$f":"'SA3'!G87","v":0},{"$f":"'SA3'!H87","v":0},{"$f":"'SA3'!I87","v":0},{"$f":"'SA3'!J87","v":0},{"$f":"'SA3'!K87","v":0},{"$f":"'SA3'!L87","v":0}]
[null,"Write Off - Consumables Zero Rated",{"$f":"'SA3'!C88","v":0},{"$f":"'SA3'!D88","v":0},{"$f":"'SA3'!E88","v":0},{"$f":"'SA3'!F88","v":0},{"$f":"'SA3'!G88","v":0},{"$f":"'SA3'!H88","v":0},{"$f":"'SA3'!I88","v":0},{"$f":"'SA3'!J88","v":0},{"$f":"'SA3'!K88","v":0},{"$f":"'SA3'!L88","v":0}]
[null,"Correction of Prior period errors - Consumables Zero Rated",{"$f":"'SA3'!C89","v":0},{"$f":"'SA3'!D89","v":0},{"$f":"'SA3'!E89","v":0},{"$f":"'SA3'!F89","v":0},{"$f":"'SA3'!G89","v":0},{"$f":"'SA3'!H89","v":0},{"$f":"'SA3'!I89","v":0},{"$f":"'SA3'!J89","v":0},{"$f":"'SA3'!K89","v":0},{"$f":"'SA3'!L89","v":0}]
["Consumables Zero Rated Total","",{"$f":"SUM(C18:C23)","v":0},{"$f":"SUM(D18:D23)","v":0},0,0,0,0,0,0,0,0]
["Finished Goods","Opening balance - Finished Goods",{"$f":"'SA3'!C102","v":0},{"$f":"'SA3'!D102","v":41310862},{"$f":"'SA3'!E102","v":57001926},{"$f":"'SA3'!F102","v":67858425},{"$f":"'SA3'!G102","v":67858425},{"$f":"'SA3'!H102","v":67858425},{"$f":"'SA3'!I102","v":67858425},{"$f":"'SA3'!J102","v":67858425},{"$f":"'SA3'!K102","v":67858425},{"$f":"'SA3'!L102","v":70912054}]
[null,"Acquisitions - Finished Goods",{"$f":"'SA3'!C103","v":41310862},{"$f":"'SA3'!D103","v":15691064},{"$f":"'SA3'!E103","v":10856499},{"$f":"'SA3'!F103","v":0},{"$f":"'SA3'!G103","v":0},{"$f":"'SA3'!H103","v":0},{"$f":"'SA3'!I103","v":0},{"$f":"'SA3'!J103","v":0},{"$f":"'SA3'!K103","v":3053629},{"$f":"'SA3'!L103","v":3191043}]
[null,"Adjustments - Finished Goods",{"$f":"'SA3'!C104","v":0},{"$f":"'SA3'!D104","v":0},{"$f":"'SA3'!E104","v":0},{"$f":"'SA3'!F104","v":0},{"$f":"'SA3'!G104","v":0},{"$f":"'SA3'!H104","v":0},{"$f":"'SA3'!I104","v":0},{"$f":"'SA3'!J104","v":0},{"$f":"'SA3'!K104","v":0},{"$f":"'SA3'!L104","v":0}]
[null,"Issues -Finished Goods",{"$f":"'SA3'!C105","v":0},{"$f":"'SA3'!D105","v":0},{"$f":"'SA3'!E105","v":0},{"$f":"'SA3'!F105","v":0},{"$f":"'SA3'!G105","v":0},{"$f":"'SA3'!H105","v":0},{"$f":"'SA3'!I105","v":0},{"$f":"'SA3'!J105","v":0},{"$f":"'SA3'!K105","v":0},{"$f":"'SA3'!L105","v":0}]
[null,"Write Off - Finished Goods",{"$f":"'SA3'!C106","v":0},{"$f":"'SA3'!D106","v":0},{"$f":"'SA3'!E106","v":0},{"$f":"'SA3'!F106","v":0},{"$f":"'SA3'!G106","v":0},{"$f":"'SA3'!H106","v":0},{"$f":"'SA3'!I106","v":0},{"$f":"'SA3'!J106","v":0},{"$f":"'SA3'!K106","v":0},{"$f":"'SA3'!L106","v":0}]
[null,"Correction of Prior period errors - Finished Goods",{"$f":"'SA3'!C107","v":0},{"$f":"'SA3'!D107","v":0},{"$f":"'SA3'!E107","v":0},{"$f":"'SA3'!F107","v":0},{"$f":"'SA3'!G107","v":0},{"$f":"'SA3'!H107","v":0},{"$f":"'SA3'!I107","v":0},{"$f":"'SA3'!J107","v":0},{"$f":"'SA3'!K107","v":0},{"$f":"'SA3'!L107","v":0}]
["Finished Goods Total","",{"$f":"SUM(C25:C30)","v":41310862},{"$f":"SUM(D25:D30)","v":57001926},67858425,67858425,67858425,67858425,67858425,67858425,70912054,74103097]
["Housing Stock","Opening balance - Housing Stock",{"$f":"'SA3'!C117","v":0},{"$f":"'SA3'!D117","v":292004270},{"$f":"'SA3'!E117","v":306876224},{"$f":"'SA3'!F117","v":373658481},{"$f":"'SA3'!G117","v":373658481},{"$f":"'SA3'!H117","v":373658481},{"$f":"'SA3'!I117","v":373658481},{"$f":"'SA3'!J117","v":373658481},{"$f":"'SA3'!K117","v":373658481},{"$f":"'SA3'!L117","v":390473113}]
[null,"Acquisitions - Housing Stock",{"$f":"'SA3'!C118","v":0},{"$f":"'SA3'!D118","v":14871954},{"$f":"'SA3'!E118","v":66782257},{"$f":"'SA3'!F118","v":0},{"$f":"'SA3'!G118","v":0},{"$f":"'SA3'!H118","v":0},{"$f":"'SA3'!I118","v":0},{"$f":"'SA3'!J118","v":0},{"$f":"'SA3'!K118","v":16814632},{"$f":"'SA3'!L118","v":17571290}]
[null,"Sales - Housing Stock",{"$f":"'SA3'!C119","v":292004270},{"$f":"'SA3'!D119","v":0},{"$f":"'SA3'!E119","v":0},{"$f":"'SA3'!F119","v":0},{"$f":"'SA3'!G119","v":0},{"$f":"'SA3'!H119","v":0},{"$f":"'SA3'!I119","v":0},{"$f":"'SA3'!J119","v":0},{"$f":"'SA3'!K119","v":0},{"$f":"'SA3'!L119","v":0}]
[null,"Transfer - Housing stock",{"$f":"'SA3'!C120","v":0},{"$f":"'SA3'!D120","v":0},{"$f":"'SA3'!E120","v":0},{"$f":"'SA3'!F120","v":0},{"$f":"'SA3'!G120","v":0},{"$f":"'SA3'!H120","v":0},{"$f":"'SA3'!I120","v":0},{"$f":"'SA3'!J120","v":0},{"$f":"'SA3'!K120","v":0},{"$f":"'SA3'!L120","v":0}]
[null,"Correction of Prior period errors - Housing stock",{"$f":"'SA3'!C121","v":0},{"$f":"'SA3'!D121","v":0},{"$f":"'SA3'!E121","v":0},{"$f":"'SA3'!F121","v":0},{"$f":"'SA3'!G121","v":0},{"$f":"'SA3'!H121","v":0},{"$f":"'SA3'!I121","v":0},{"$f":"'SA3'!J121","v":0},{"$f":"'SA3'!K121","v":0},{"$f":"'SA3'!L121","v":0}]
["Housing Stock Total","",{"$f":"SUM(C32:C36)","v":292004270},{"$f":"SUM(D32:D36)","v":306876224},373658481,373658481,373658481,373658481,373658481,373658481,390473113,408044403]
["Land","Opening balance - Land",{"$f":"'SA3'!C125","v":0},{"$f":"'SA3'!D125","v":0},{"$f":"'SA3'!E125","v":0},{"$f":"'SA3'!F125","v":0},{"$f":"'SA3'!G125","v":0},{"$f":"'SA3'!H125","v":0},{"$f":"'SA3'!I125","v":0},{"$f":"'SA3'!J125","v":0},{"$f":"'SA3'!K125","v":-1607083427},{"$f":"'SA3'!L125","v":-1512554971}]
[null,"Acquisitions - Land",{"$f":"'SA3'!C126","v":0},{"$f":"'SA3'!D126","v":0},{"$f":"'SA3'!E126","v":0},{"$f":"'SA3'!F126","v":0},{"$f":"'SA3'!G126","v":0},{"$f":"'SA3'!H126","v":0},{"$f":"'SA3'!I126","v":0},{"$f":"'SA3'!J126","v":-1607083427},{"$f":"'SA3'!K126","v":94528456},{"$f":"'SA3'!L126","v":200819009}]
[null,"Sales - land",{"$f":"'SA3'!C127","v":0},{"$f":"'SA3'!D127","v":0},{"$f":"'SA3'!E127","v":0},{"$f":"'SA3'!F127","v":0},{"$f":"'SA3'!G127","v":0},{"$f":"'SA3'!H127","v":0},{"$f":"'SA3'!I127","v":0},{"$f":"'SA3'!J127","v":0},{"$f":"'SA3'!K127","v":0},{"$f":"'SA3'!L127","v":0}]
[null,"Adjustments - Land",{"$f":"'SA3'!C128","v":0},{"$f":"'SA3'!D128","v":0},{"$f":"'SA3'!E128","v":0},{"$f":"'SA3'!F128","v":0},{"$f":"'SA3'!G128","v":0},{"$f":"'SA3'!H128","v":0},{"$f":"'SA3'!I128","v":0},{"$f":"'SA3'!J128","v":0},{"$f":"'SA3'!K128","v":0},{"$f":"'SA3'!L128","v":0}]
[null,"Correction of Prior period errors - Land",{"$f":"'SA3'!C129","v":0},{"$f":"'SA3'!D129","v":0},{"$f":"'SA3'!E129","v":0},{"$f":"'SA3'!F129","v":0},{"$f":"'SA3'!G129","v":0},{"$f":"'SA3'!H129","v":0},{"$f":"'SA3'!I129","v":0},{"$f":"'SA3'!J129","v":0},{"$f":"'SA3'!K129","v":0},{"$f":"'SA3'!L129","v":0}]
[null,"Transfers - Land",{"$f":"'SA3'!C130","v":0},{"$f":"'SA3'!D130","v":0},{"$f":"'SA3'!E130","v":0},{"$f":"'SA3'!F130","v":0},{"$f":"'SA3'!G130","v":0},{"$f":"'SA3'!H130","v":0},{"$f":"'SA3'!I130","v":0},{"$f":"'SA3'!J130","v":0},{"$f":"'SA3'!K130","v":0},{"$f":"'SA3'!L130","v":0}]
["Land Total","",{"$f":"SUM(C38:C43)","v":0},{"$f":"SUM(D38:D43)","v":0},0,0,0,0,0,-1607083427,-1512554971,-1311735962]
["Materials and Supplies","Opening balance - Materials and Supplies",{"$f":"'SA3'!C102","v":0},{"$f":"'SA3'!D102","v":41310862},{"$f":"'SA3'!E102","v":57001926},{"$f":"'SA3'!F102","v":67858425},{"$f":"'SA3'!G102","v":67858425},{"$f":"'SA3'!H102","v":67858425},{"$f":"'SA3'!I102","v":67858425},{"$f":"'SA3'!J102","v":67858425},{"$f":"'SA3'!K102","v":67858425},{"$f":"'SA3'!L102","v":70912054}]
[null,"Acquisitions - Materials and Supplies",{"$f":"'SA3'!C103","v":41310862},{"$f":"'SA3'!D103","v":15691064},{"$f":"'SA3'!E103","v":10856499},{"$f":"'SA3'!F103","v":0},{"$f":"'SA3'!G103","v":0},{"$f":"'SA3'!H103","v":0},{"$f":"'SA3'!I103","v":0},{"$f":"'SA3'!J103","v":0},{"$f":"'SA3'!K103","v":3053629},{"$f":"'SA3'!L103","v":3191043}]
[null,"Adjustments - Materials and Supplies",{"$f":"'SA3'!C104","v":0},{"$f":"'SA3'!D104","v":0},{"$f":"'SA3'!E104","v":0},{"$f":"'SA3'!F104","v":0},{"$f":"'SA3'!G104","v":0},{"$f":"'SA3'!H104","v":0},{"$f":"'SA3'!I104","v":0},{"$f":"'SA3'!J104","v":0},{"$f":"'SA3'!K104","v":0},{"$f":"'SA3'!L104","v":0}]
[null,"Issues - Materials and Supplies",{"$f":"'SA3'!C105","v":0},{"$f":"'SA3'!D105","v":0},{"$f":"'SA3'!E105","v":0},{"$f":"'SA3'!F105","v":0},{"$f":"'SA3'!G105","v":0},{"$f":"'SA3'!H105","v":0},{"$f":"'SA3'!I105","v":0},{"$f":"'SA3'!J105","v":0},{"$f":"'SA3'!K105","v":0},{"$f":"'SA3'!L105","v":0}]
[null,"Write Off - Materials and Supplies",{"$f":"'SA3'!C106","v":0},{"$f":"'SA3'!D106","v":0},{"$f":"'SA3'!E106","v":0},{"$f":"'SA3'!F106","v":0},{"$f":"'SA3'!G106","v":0},{"$f":"'SA3'!H106","v":0},{"$f":"'SA3'!I106","v":0},{"$f":"'SA3'!J106","v":0},{"$f":"'SA3'!K106","v":0},{"$f":"'SA3'!L106","v":0}]
[null,"Correction of Prior period errors - Materials and Supplies",{"$f":"'SA3'!C107","v":0},{"$f":"'SA3'!D107","v":0},{"$f":"'SA3'!E107","v":0},{"$f":"'SA3'!F107","v":0},{"$f":"'SA3'!G107","v":0},{"$f":"'SA3'!H107","v":0},{"$f":"'SA3'!I107","v":0},{"$f":"'SA3'!J107","v":0},{"$f":"'SA3'!K107","v":0},{"$f":"'SA3'!L107","v":0}]
["Materials and Supplies Total","",{"$f":"SUM(C45:C50)","v":41310862},{"$f":"SUM(D45:D50)","v":57001926},67858425,67858425,67858425,67858425,67858425,67858425,70912054,74103097]
["Water","Opening balance - Water",{"$f":"'SA3'!C33","v":6518641},{"$f":"'SA3'!D33","v":1620083},{"$f":"'SA3'!E33","v":1620083},{"$f":"'SA3'!F33","v":1348309},{"$f":"'SA3'!G33","v":1348309},{"$f":"'SA3'!H33","v":1348309},{"$f":"'SA3'!I33","v":1348309},{"$f":"'SA3'!J33","v":71635345},{"$f":"'SA3'!K33","v":-94470898},{"$f":"'SA3'!L33","v":-277434777}]
[null,"Acquisitions - Water bulk purchases",{"$f":"'SA3'!C36","v":-4898558},{"$f":"'SA3'!D36","v":0},{"$f":"'SA3'!E36","v":0},{"$f":"'SA3'!F36","v":0},{"$f":"'SA3'!G36","v":712651060},{"$f":"'SA3'!H36","v":712651060},{"$f":"'SA3'!I36","v":799259},{"$f":"'SA3'!J36","v":847500000},{"$f":"'SA3'!K36","v":885637500},{"$f":"'SA3'!L36","v":925491188}]
[null,"Acquisitions - Water natural sources",{"$f":"'SA3'!C37","v":0},{"$f":"'SA3'!D37","v":0},{"$f":"'SA3'!E37","v":0},{"$f":"'SA3'!F37","v":0},{"$f":"'SA3'!G37","v":0},{"$f":"'SA3'!H37","v":0},{"$f":"'SA3'!I37","v":0},{"$f":"'SA3'!J37","v":0},{"$f":"'SA3'!K37","v":0},{"$f":"'SA3'!L37","v":0}]
[null,"Acquisitions - Water treatment works",{"$f":"'SA3'!C35","v":0},{"$f":"'SA3'!D35","v":0},{"$f":"'SA3'!E35","v":0},{"$f":"'SA3'!F35","v":0},{"$f":"'SA3'!G35","v":0},{"$f":"'SA3'!H35","v":0},{"$f":"'SA3'!I35","v":0},{"$f":"'SA3'!J35","v":0},{"$f":"'SA3'!K35","v":0},{"$f":"'SA3'!L35","v":0}]
[null,"Billed Authorised Consumption:Billed Metered Consumption:Free Basic Water",{"$f":"'SA3'!C41","v":0},{"$f":"'SA3'!D41","v":0},{"$f":"'SA3'!E41","v":0},{"$f":"'SA3'!F41","v":0},{"$f":"'SA3'!G41","v":0},{"$f":"'SA3'!H41","v":0},{"$f":"'SA3'!I41","v":0},{"$f":"'SA3'!J41","v":0},{"$f":"'SA3'!K41","v":0},{"$f":"'SA3'!L41","v":0}]
[null,"Billed Authorised Consumption:Billed Metered Consumption:Revenue Water",{"$f":"'SA3'!C43","v":0},{"$f":"'SA3'!D43","v":0},{"$f":"'SA3'!E43","v":0},{"$f":"'SA3'!F43","v":0},{"$f":"'SA3'!G43","v":-642364024},{"$f":"'SA3'!H43","v":-642364024},{"$f":"'SA3'!I43","v":0},{"$f":"'SA3'!J43","v":-1013606243},{"$f":"'SA3'!K43","v":-1068601379},{"$f":"'SA3'!L43","v":-1123752159}]
[null,"Billed Authorised Consumption:Billed Metered Consumption:Subsidised Water",{"$f":"'SA3'!C42","v":0},{"$f":"'SA3'!D42","v":0},{"$f":"'SA3'!E42","v":0},{"$f":"'SA3'!F42","v":0},{"$f":"'SA3'!G42","v":0},{"$f":"'SA3'!H42","v":0},{"$f":"'SA3'!I42","v":0},{"$f":"'SA3'!J42","v":0},{"$f":"'SA3'!K42","v":0},{"$f":"'SA3'!L42","v":0}]
[null,"Billed Authorised Consumption:Billed Unmetered Consumption:Free Basic Water",{"$f":"'SA3'!C45","v":0},{"$f":"'SA3'!D45","v":0},{"$f":"'SA3'!E45","v":0},{"$f":"'SA3'!F45","v":0},{"$f":"'SA3'!G45","v":0},{"$f":"'SA3'!H45","v":0},{"$f":"'SA3'!I45","v":0},{"$f":"'SA3'!J45","v":0},{"$f":"'SA3'!K45","v":0},{"$f":"'SA3'!L45","v":0}]
[null,"Billed Authorised Consumption:Billed Unmetered Consumption:Revenue Water",{"$f":"'SA3'!C47","v":0},{"$f":"'SA3'!D47","v":0},{"$f":"'SA3'!E47","v":0},{"$f":"'SA3'!F47","v":0},{"$f":"'SA3'!G47","v":0},{"$f":"'SA3'!H47","v":0},{"$f":"'SA3'!I47","v":0},{"$f":"'SA3'!J47","v":0},{"$f":"'SA3'!K47","v":0},{"$f":"'SA3'!L47","v":0}]
[null,"Billed Authorised Consumption:Billed Unmetered Consumption:Subsidised Water",{"$f":"'SA3'!C46","v":0},{"$f":"'SA3'!D46","v":0},{"$f":"'SA3'!E46","v":0},{"$f":"'SA3'!F46","v":0},{"$f":"'SA3'!G46","v":0},{"$f":"'SA3'!H46","v":0},{"$f":"'SA3'!I46","v":0},{"$f":"'SA3'!J46","v":0},{"$f":"'SA3'!K46","v":0},{"$f":"'SA3'!L46","v":0}]
[null,"Data Transfer and Management Errors",{"$f":"'SA3'!C59","v":0},{"$f":"'SA3'!D59","v":0},{"$f":"'SA3'!E59","v":0},{"$f":"'SA3'!F59","v":0},{"$f":"'SA3'!G59","v":0},{"$f":"'SA3'!H59","v":0},{"$f":"'SA3'!I59","v":0},{"$f":"'SA3'!J59","v":0},{"$f":"'SA3'!K59","v":0},{"$f":"'SA3'!L59","v":0}]
[null,"Non-revenue Water",{"$f":"'SA3'!C61","v":0},{"$f":"'SA3'!D61","v":0},{"$f":"'SA3'!E61","v":0},{"$f":"'SA3'!F61","v":0},{"$f":"'SA3'!G61","v":0},{"$f":"'SA3'!H61","v":0},{"$f":"'SA3'!I61","v":0},{"$f":"'SA3'!J61","v":0},{"$f":"'SA3'!K61","v":0},{"$f":"'SA3'!L61","v":0}]
[null,"Unavoidable Annual Real Losses",{"$f":"'SA3'!C60","v":0},{"$f":"'SA3'!D60","v":0},{"$f":"'SA3'!E60","v":0},{"$f":"'SA3'!F60","v":0},{"$f":"'SA3'!G60","v":0},{"$f":"'SA3'!H60","v":0},{"$f":"'SA3'!I60","v":0},{"$f":"'SA3'!J60","v":0},{"$f":"'SA3'!K60","v":0},{"$f":"'SA3'!L60","v":0}]
[null,"Unbilled Authorised Consumption:Unbilled Metered Consumption",{"$f":"'SA3'!C49","v":0},{"$f":"'SA3'!D49","v":0},{"$f":"'SA3'!E49","v":0},{"$f":"'SA3'!F49","v":0},{"$f":"'SA3'!G49","v":0},{"$f":"'SA3'!H49","v":0},{"$f":"'SA3'!I49","v":0},{"$f":"'SA3'!J49","v":0},{"$f":"'SA3'!K49","v":0},{"$f":"'SA3'!L49","v":0}]
[null,"Unbilled Authorised Consumption:Unbilled Unmetered Consumption",{"$f":"'SA3'!C50","v":0},{"$f":"'SA3'!D50","v":0},{"$f":"'SA3'!E50","v":0},{"$f":"'SA3'!F50","v":0},{"$f":"'SA3'!G50","v":0},{"$f":"'SA3'!H50","v":0},{"$f":"'SA3'!I50","v":0},{"$f":"'SA3'!J50","v":0},{"$f":"'SA3'!K50","v":0},{"$f":"'SA3'!L50","v":0}]
[null,"Water Losses:Apparent Losses:Customer Meter Inaccuracies",{"$f":"'SA3'!C54","v":0},{"$f":"'SA3'!D54","v":0},{"$f":"'SA3'!E54","v":0},{"$f":"'SA3'!F54","v":0},{"$f":"'SA3'!G54","v":0},{"$f":"'SA3'!H54","v":0},{"$f":"'SA3'!I54","v":0},{"$f":"'SA3'!J54","v":0},{"$f":"'SA3'!K54","v":0},{"$f":"'SA3'!L54","v":0}]
[null,"Water Losses:Apparent Losses:Unauthorised Consumption",{"$f":"'SA3'!C53","v":0},{"$f":"'SA3'!D53","v":0},{"$f":"'SA3'!E53","v":0},{"$f":"'SA3'!F53","v":0},{"$f":"'SA3'!G53","v":0},{"$f":"'SA3'!H53","v":0},{"$f":"'SA3'!I53","v":0},{"$f":"'SA3'!J53","v":0},{"$f":"'SA3'!K53","v":0},{"$f":"'SA3'!L53","v":0}]
[null,"Water Losses:Real Losses:Leakage and Overflows at Storage Tanks/Reservoirs",{"$f":"'SA3'!C57","v":0},{"$f":"'SA3'!D57","v":0},{"$f":"'SA3'!E57","v":0},{"$f":"'SA3'!F57","v":0},{"$f":"'SA3'!G57","v":0},{"$f":"'SA3'!H57","v":0},{"$f":"'SA3'!I57","v":0},{"$f":"'SA3'!J57","v":0},{"$f":"'SA3'!K57","v":0},{"$f":"'SA3'!L57","v":0}]
[null,"Water Losses:Real Losses:Leakage on Service Connections up to the point of Customer Meter",{"$f":"'SA3'!C58","v":0},{"$f":"'SA3'!D58","v":0},{"$f":"'SA3'!E58","v":0},{"$f":"'SA3'!F58","v":0},{"$f":"'SA3'!G58","v":0},{"$f":"'SA3'!H58","v":0},{"$f":"'SA3'!I58","v":0},{"$f":"'SA3'!J58","v":0},{"$f":"'SA3'!K58","v":0},{"$f":"'SA3'!L58","v":0}]
[null,"Water Losses:Real Losses:Leakage on Transmission and Distribution Mains",{"$f":"'SA3'!C56","v":0},{"$f":"'SA3'!D56","v":0},{"$f":"'SA3'!E56","v":0},{"$f":"'SA3'!F56","v":0},{"$f":"'SA3'!G56","v":0},{"$f":"'SA3'!H56","v":0},{"$f":"'SA3'!I56","v":0},{"$f":"'SA3'!J56","v":0},{"$f":"'SA3'!K56","v":0},{"$f":"'SA3'!L56","v":0}]
[null,"Correction of Prior period errors - Water",{"$f":"'SA3'!C62","v":0},{"$f":"'SA3'!D62","v":0},{"$f":"'SA3'!E62","v":0},{"$f":"'SA3'!F62","v":0},{"$f":"'SA3'!G62","v":0},{"$f":"'SA3'!H62","v":0},{"$f":"'SA3'!I62","v":0},{"$f":"'SA3'!J62","v":0},{"$f":"'SA3'!K62","v":0},{"$f":"'SA3'!L62","v":0}]
["Water Total","",{"$f":"SUM(C52:C72)","v":1620083},{"$f":"SUM(D52:D72)","v":1620083},1620083,1348309,71635345,71635345,2147568,-94470898,-277434777,-475695748]
["Work-in-progress","Opening balance - WIP",{"$f":"'SA3'!C111","v":0},{"$f":"'SA3'!D111","v":0},{"$f":"'SA3'!E111","v":0},{"$f":"'SA3'!F111","v":0},{"$f":"'SA3'!G111","v":0},{"$f":"'SA3'!H111","v":0},{"$f":"'SA3'!I111","v":0},{"$f":"'SA3'!J111","v":0},{"$f":"'SA3'!K111","v":0},{"$f":"'SA3'!L111","v":0}]
[null,"Materials - WIP",{"$f":"'SA3'!C112","v":0},0,0,0,0,0,0,0,0,0]
[null,"Transfer - WIP",{"$f":"'SA3'!C113","v":0},{"$f":"'SA3'!D113","v":0},{"$f":"'SA3'!E113","v":0},{"$f":"'SA3'!F113","v":0},{"$f":"'SA3'!G113","v":0},{"$f":"'SA3'!H113","v":0},{"$f":"'SA3'!I113","v":0},{"$f":"'SA3'!J113","v":0},{"$f":"'SA3'!K113","v":0},{"$f":"'SA3'!L113","v":0}]
["Work-in-progress Total","",{"$f":"SUM(C74:C76)","v":0},{"$f":"SUM(D74:D76)","v":0},0,0,0,0,0,0,0,0]
["Grand Total","",{"$f":"+C73+C51+C44+C37+C31+C24+C17+C10","v":778861428},{"$f":"+D73+D51+D44+D37+D31+D24+D17+D10","v":1526620633},2412780140,2357558675,2427845711,2427845711,2358357934,566138989,591615244,618237931]

{"sheet":"A7-CFlow","index":17,"n_rows":51,"n_cols":12,"rows_kept":51,"cut":false,"hidden":false,"merged":[[1,9,1,11],[1,5,1,8]]}
[{"$f":"muni&\" - \"&Approve7","v":"Choose name from list - Table A7 Budgeted Cash Flows"}]
[{"$f":"desc","v":"Description"},{"$f":"head27","v":"Ref"},{"$f":"head1b","v":"2021/22"},{"$f":"head1A","v":"2022/23"},{"$f":"Head1","v":"2023/24"},{"$f":"Head2","v":"Current Year 2024/25"},null,null,null,{"$f":"Head3","v":"2025/26 Medium Term Revenue & Expenditure Framework"}]
["R thousand",null,{"$f":"Head5","v":"Audited Outcome"},{"$f":"Head5","v":"Audited Outcome"},{"$f":"Head5","v":"Audited Outcome"},{"$f":"Head6","v":"Original Budget"},{"$f":"Head7","v":"Adjusted Budget"},{"$f":"Head8","v":"Full Year Forecast"},{"$f":"Head5b","v":"Pre-audit outcome"},{"$f":"Head9","v":"Budget Year 2025/26"},{"$f":"Head10","v":"Budget Year +1 2026/27"},{"$f":"Head11","v":"Budget Year +2 2027/28"}]
["CASH FLOW FROM OPERATING ACTIVITIES"]
["Receipts"]
["Property rates",null,1149564108,1390668357,1311261708,1435365977,1484417269,1484417269,null,{"$f":"'SA30'!N5","v":1532281589},{"$f":"'SA30'!O5","v":1601234261},{"$f":"'SA30'!P5","v":1641265119}]
["Service charges",null,3166809930,3474508778,3723491933,4467999174,4717471651,4717471651,null,{"$f":"'SA30'!N6+'SA30'!N7+'SA30'!N8+'SA30'!N9","v":5220730333},{"$f":"'SA30'!O6+'SA30'!O7+'SA30'!O8+'SA30'!O9","v":5476546119},{"$f":"'SA30'!P6+'SA30'!P7+'SA30'!P8+'SA30'!P9","v":5744896878}]
["Other revenue",null,90125470,18380525,221597289,1124159378.4299998,765832296.49759388,783126674.49759388,null,{"$f":"('SA30'!N11+'SA30'!N15+'SA30'!N16+'SA30'!N17+'SA30'!N19+'SA30'!N29)+17409671","v":211669522},{"$f":"('SA30'!O11+'SA30'!O15+'SA30'!O16+'SA30'!O17+'SA30'!O19+'SA30'!O29)+18252313","v":222030898},{"$f":"('SA30'!P11+'SA30'!P15+'SA30'!P16+'SA30'!P17+'SA30'!P19+'SA30'!P29)+19137096","v":232900829}]
["Transfers and Subsidies - Operational",1,686988866,795621362,819354854,834106196,1008751735.5500001,1008751735.5500001,null,{"$f":"'SA30'!N18","v":992232195},{"$f":"'SA30'!O18","v":1065080549},{"$f":"'SA30'!P18","v":1111919830}]
["Transfers and Subsidies - Capital",1,327896741,369338037,443822774,452578009,477925973.48000014,477925973.48000014,null,{"$f":"'SA30'!N23+'SA30'!N24","v":376126520},{"$f":"'SA30'!O23+'SA30'!O24","v":429887271},{"$f":"'SA30'!P23+'SA30'!P24","v":457346507}]
["Interest",null,33668198,43192405,64527967,18177025,19135146.796800002,19260146.796800002,null,{"$f":"('SA30'!N12+'SA30'!N13)+260000","v":20256228},{"$f":"('SA30'!O12+'SA30'!O13)+250000","v":21226044},{"$f":"('SA30'!P12+'SA30'!P13)+230000","v":22233870}]
["Dividends",null,null,null,null,0,0,0,null,{"$f":"'SA30'!N14","v":0},{"$f":"'SA30'!O14","v":0},{"$f":"'SA30'!P14","v":0}]
["Payments"]
["Suppliers and employees",null,-4868127307,-5316924949,-5936912706,-7297413805,-7584599210.5788612,-7604849210.5788612,null,{"$f":"(-('SA30'!N35+'SA30'!N36+'SA30'!N38+'SA30'!N39+'SA30'!N40+'SA30'!N41+'SA30'!N44+'SA30'!N50))+-15897984.46","v":-7637675184.46},{"$f":"(-('SA30'!O35+'SA30'!O36+'SA30'!O38+'SA30'!O39+'SA30'!O40+'SA30'!O41+'SA30'!O44+'SA30'!O50))+-18376380.54","v":-8059732545.54},{"$f":"(-('SA30'!P35+'SA30'!P36+'SA30'!P38+'SA30'!P39+'SA30'!P40+'SA30'!P41+'SA30'!P44+'SA30'!P50))+-15875449","v":-8416618621}]
["Interest",null,-27182033,-18815098,-16638068,-40400878,-42824930.711800002,-42824930.711800002,null,{"$f":"-('SA30'!N37)","v":-56180000},{"$f":"-('SA30'!O37)","v":-58708100},{"$f":"-('SA30'!P37)","v":-62230586}]
["Transfers and Subsidies",1,-25006849,null,-17831448,-51023536,-69670130.457999989,-69670130.457999989,null,{"$f":"-('SA30'!N42+'SA30'!N43)","v":-72456936},{"$f":"-('SA30'!O42+'SA30'!O43)","v":-76007326},{"$f":"-('SA30'!P42+'SA30'!P43)","v":-79731684}]
["NET CASH FROM/(USED) OPERATING ACTIVITIES",null,{"$f":"SUM(C6:C12)+SUM(C14:C16)","v":534737124},{"$f":"SUM(D6:D12)+SUM(D14:D16)","v":755969417},612674303,943547540.43000031,776439800.57573318,773609178.57573318,{"$f":"SUM(I6:I12)+SUM(I14:I16)","v":0},586984266.53999996,621557170.46000004,651982142]
[]
["CASH FLOWS FROM INVESTING ACTIVITIES"]
["Receipts"]
["Proceeds on disposal of PPE",null,5871697,3343357,579902,null,null,null,null,{"$f":"'SA30'!N25","v":0},{"$f":"'SA30'!O25","v":0},{"$f":"'SA30'!P25","v":0}]
[null,null,null,0]
["Decrease (increase) in non-current receivables",null,-358575,-12482603,-6206410,null,null,null,null,{"$f":"'SA30'!N30","v":0},{"$f":"'SA30'!O30","v":0},{"$f":"'SA30'!P30","v":0}]
["Decrease (increase) in non-current investments",null,null,9415144,-329809,null,null,null,null,{"$f":"'SA30'!N31","v":0},{"$f":"'SA30'!O31","v":0},{"$f":"'SA30'!P31","v":0}]
["Payments"]
["Capital assets",null,-530564295,-451807250,-668438314,-769351055,-824010890,-824860890,null,{"$f":"(-('SA30'!N48))+-2085313","v":-629736234},{"$f":"(-('SA30'!O48))+-2261242","v":-522148513},{"$f":"(-('SA30'!P48))+-2354756","v":-559701263}]
["NET CASH FROM/(USED) INVESTING ACTIVITIES",null,{"$f":"+C21+C23+C24+C26","v":-525051173},{"$f":"+D21+D23+D24+D26","v":-451531352},-674394631,-769351055,-824010890,-824860890,0,-629736234,-522148513,-559701263]
[]
["CASH FLOWS FROM FINANCING ACTIVITIES"]
["Receipts"]
["Short term loans",null,null,null,116274950,null,null,null,null,{"$f":"'SA30'!N26","v":0},{"$f":"'SA30'!O26","v":0},{"$f":"'SA30'!P26","v":0}]
["Borrowing long term/refinancing",null,null,null,null,200000000,234315856,234315856,null,{"$f":"'SA30'!N27","v":161524401},{"$f":"'SA30'!O27","v":0},{"$f":"'SA30'!P27","v":0}]
["Increase (decrease) in consumer deposits",null,null,null,null,null,null,null,null,{"$f":"'SA30'!N28","v":0},{"$f":"'SA30'!O28","v":0},{"$f":"'SA30'!P28","v":0}]
["Payments"]
["Repayment of borrowing",null,-81573483,-79162901,-74270250,-23000000,-50000000,-50000000,null,{"$f":"-('SA30'!N49)","v":-90000000},{"$f":"-('SA30'!O49)","v":-90000000},{"$f":"-('SA30'!P49)","v":-90000000}]
["NET CASH FROM/(USED) FINANCING ACTIVITIES",null,{"$f":"SUM(C31:C33)+C35","v":-81573483},{"$f":"SUM(D31:D33)+D35","v":-79162901},42004700,177000000,184315856,184315856,0,71524401,-90000000,-90000000]
[]
["NET INCREASE/ (DECREASE) IN CASH HELD",null,{"$f":"C17+C27+C36","v":-71887532},225275164,-19715628,351196485.43000031,136744766.57573318,133064144.57573318,0,28772433.539999962,9408657.4600000381,2280879]
["Cash/cash equivalents at the year begin:",2,359519552,289152840,511402009,289152840,495992735,495992735,null,{"$f":"'SA30'!N54","v":366360226},{"$f":"J40","v":395132659.53999996},{"$f":"K40","v":404541317}]
["Cash/cash equivalents at the year end:",2,{"$f":"C38+C39","v":287632020},{"$f":"D38+D39","v":514428004},{"$f":"E38+E39","v":491686381},{"$f":"F38+F39","v":640349325.43000031},632737501.57573318,629056879.57573318,0,395132659.53999996,404541317,406822196]
[{"$f":"head27a","v":"References"}]
["1. Local/District municipalities to include transfers from/to District/Local Municipalities"]
["2. Cash equivalents includes investments with maturities of 3 months or less"]
["3. The MTREF is populated directly from SA30."]
["Total receipts",null,{"$f":"SUM(C6:C12)+SUM(C21:C23)","v":5460566435},6082570218,6578430017,8332385759.4300003,8473534072.3243942,8490953450.3243942,0,8353296387,8816005142,9210563033]
["Total payments",null,{"$f":"SUM(C14:C16)+C26","v":-5450880484},-5787547297,-6639820536,-8158189274,-8521105161.748661,-8542205161.748661,0,-8396048354.46,-8716596484.5400009,-9118282154]
[null,null,{"$f":"C45+C46","v":9685951},{"$f":"D45+D46","v":295022921},-61390519,174196485.43000031,-47571089.424266815,-51251711.424266815,0,-42751967.460000038,99408657.459999084,92280879]
["Borrowings & investments & c.deposits",null,{"$f":"C24+C32+C33","v":0},{"$f":"D24+D32+D33","v":9415144},-329809,200000000,234315856,234315856,0,161524401,0,0]
[{"$f":"A35","v":"Repayment of borrowing"},null,{"$f":"C35","v":-81573483},{"$f":"D35","v":-79162901},-74270250,-23000000,-50000000,-50000000,{"$f":"I35","v":0},-90000000,-90000000,-90000000]
[null,null,{"$f":"C47+C48+C49","v":-71887532},{"$f":"D47+D48+D49","v":225275164},-135990578,351196485.43000031,136744766.57573318,133064144.57573318,0,28772433.539999962,9408657.4599990845,2280879]
[null,null,{"$f":"C38-C50","v":0},0,116274950,0,0,0,0,0,9.5367431640625E-7,0]

{"sheet":"A8-ResRecon","index":18,"n_rows":67,"n_cols":12,"rows_kept":67,"cut":false,"hidden":false,"merged":[[1,9,1,11],[1,5,1,8]]}
[{"$f":"muni&\" - \"&Approve8","v":"Choose name from list - Table A8 Cash backed reserves/accumulated surplus reconciliation"}]
[{"$f":"desc","v":"Description"},{"$f":"head27","v":"Ref"},{"$f":"head1b","v":"2021/22"},{"$f":"head1A","v":"2022/23"},{"$f":"Head1","v":"2023/24"},{"$f":"Head2","v":"Current Year 2024/25"},null,null,null,{"$f":"Head3","v":"2025/26 Medium Term Revenue & Expenditure Framework"}]
["R thousand",null,{"$f":"Head5","v":"Audited Outcome"},{"$f":"Head5","v":"Audited Outcome"},{"$f":"Head5","v":"Audited Outcome"},{"$f":"Head6","v":"Original Budget"},{"$f":"Head7","v":"Adjusted Budget"},{"$f":"Head8","v":"Full Year Forecast"},{"$f":"Head5b","v":"Pre-audit outcome"},{"$f":"Head9","v":"Budget Year 2025/26"},{"$f":"Head10","v":"Budget Year +1 2026/27"},{"$f":"Head11","v":"Budget Year +2 2027/28"}]
["Cash and investments available"]
[{"$f":"LEFT('A7-CFlow'!A40,37)","v":"Cash/cash equivalents at the year end"},1,{"$f":"'A7-CFlow'!C40","v":287632020},{"$f":"'A7-CFlow'!D40","v":514428004},{"$f":"'A7-CFlow'!E40","v":491686381},{"$f":"'A7-CFlow'!F40","v":640349325.43000031},{"$f":"'A7-CFlow'!G40","v":632737501.57573318},{"$f":"'A7-CFlow'!H40","v":629056879.57573318},{"$f":"'A7-CFlow'!I40","v":0},{"$f":"'A7-CFlow'!J40","v":395132659.53999996},{"$f":"'A7-CFlow'!K40","v":404541317},{"$f":"'A7-CFlow'!L40","v":406822196}]
["Other current investments  > 90 days",null,{"$f":"'A6-FinPos'!C6-'A6-FinPos'!C29-'A8-ResRecon'!C5","v":2801179},{"$f":"'A6-FinPos'!D6-'A6-FinPos'!D29-'A8-ResRecon'!D5","v":1280359},{"$f":"'A6-FinPos'!E6-'A6-FinPos'!E29-'A8-ResRecon'!E5","v":4306354},{"$f":"'A6-FinPos'!F6-'A6-FinPos'!F29-'A8-ResRecon'!F5","v":-427208988.43000031},{"$f":"'A6-FinPos'!G6-'A6-FinPos'!G29-'A8-ResRecon'!G5","v":-259913845.57573318},{"$f":"'A6-FinPos'!H6-'A6-FinPos'!H29-'A8-ResRecon'!H5","v":-254876241.57573318},{"$f":"'A6-FinPos'!I6-'A6-FinPos'!I29-'A8-ResRecon'!I5","v":-666355195},{"$f":"'A6-FinPos'!J6-'A6-FinPos'!J29-'A8-ResRecon'!J5","v":5037936.0000000596},{"$f":"'A6-FinPos'!K6-'A6-FinPos'!K29-'A8-ResRecon'!K5","v":-7561916},{"$f":"'A6-FinPos'!L6-'A6-FinPos'!L29-'A8-ResRecon'!L5","v":-1877790}]
["Non current Investments",1,{"$f":"'A6-FinPos'!C15","v":0},{"$f":"'A6-FinPos'!D15","v":0},{"$f":"'A6-FinPos'!E15","v":0},{"$f":"'A6-FinPos'!F15","v":0},{"$f":"'A6-FinPos'!G15","v":0},{"$f":"'A6-FinPos'!H15","v":0},{"$f":"'A6-FinPos'!I15","v":0},{"$f":"'A6-FinPos'!J15","v":0},{"$f":"'A6-FinPos'!K15","v":0},{"$f":"'A6-FinPos'!L15","v":0}]
["Cash and investments available:",null,{"$f":"SUM(C5:C7)","v":290433199},{"$f":"SUM(D5:D7)","v":515708363},495992735,213140337,372823656,374180638,-666355195,400170595.54000002,396979401,404944406]
[]
["Application of cash and investments"]
["Unspent conditional transfers",null,{"$f":"'SA3'!C149","v":136087526},{"$f":"'SA3'!D149","v":175932856},{"$f":"'SA3'!E149","v":189531485},{"$f":"'SA3'!F149","v":0},{"$f":"'SA3'!G149","v":0},{"$f":"'SA3'!H149","v":0},{"$f":"'SA3'!I149","v":0},{"$f":"'SA3'!J149","v":0},{"$f":"'SA3'!K149","v":0},{"$f":"'SA3'!L149","v":0}]
["Unspent borrowing"]
["Statutory requirements",2,178088884,185012600,174006314,457746833,0,0,-67378865,162137445,169433630,177058143]
["Other working capital requirements",3,{"$f":"-C34","v":795885876},{"$f":"-D34","v":1707378576},2627521359,{"$f":"-F34","v":277633896},214150896,211065896,0,-119106104,-256242104,-343810104]
["Other provisions",null,49117979,58244752,53143375,61739437,61739437,61739437,-60481,53143375,55534827,58033895]
["Long term investments committed",4,{"$f":"C54","v":0},{"$f":"D54","v":0},0,0,0,0,0,0,0,0]
["Reserves to be backed by cash/investments",5,140061620,145592313,148347919,0,0,0,-1468968]
["Total Application of cash and investments:",null,{"$f":"SUM(C11:C17)","v":1299241885},{"$f":"SUM(D11:D17)","v":2272161097},3192550452,797120166,275890333,272805333,-68908314,96174716,-31273647,-108718066]
["Surplus(shortfall) - Excluding Non-Current Creditors Trf to Debt Relief Benefits",null,{"$f":"C8-C18","v":-1008808686},{"$f":"D8-D18","v":-1756452734},-2696557717,-583979829,96933323,101375305,-597446881,303995879.54000002,428253048,513662472]
["Creditors transferred to Debt Relief - Non-Current portion",null,{"$f":"'SA3'!C162","v":0},{"$f":"'SA3'!D162","v":0},{"$f":"'SA3'!E162","v":0},{"$f":"'SA3'!F162","v":0},{"$f":"'SA3'!G162","v":0},{"$f":"'SA3'!H162","v":0},{"$f":"'SA3'!I162","v":0},{"$f":"'SA3'!J162","v":0},{"$f":"'SA3'!K162","v":0},{"$f":"'SA3'!L162","v":0}]
["Surplus(shortfall) - Including Non-Current Creditors Trf to Debt Relief Benefits",null,{"$f":"SUM(C19:C20)","v":-1008808686},{"$f":"SUM(D19:D20)","v":-1756452734},-2696557717,-583979829,96933323,101375305,-597446881,303995879.54000002,428253048,513662472]
[{"$f":"head27a","v":"References"}]
["1. Must reconcile with Budgeted Cash Flows"]
["2. For example: VAT, taxation"]
["3. Council approval for policy required - include sufficient working capital (e.g. allowing for a % of current debtors > 90 days as uncollectable)"]
["4. For example: sinking fund requirements for borrowing"]
["5. Council approval required for each reserve created and basis of cash backing of reserves - Total Reserves to be backed by cash/investments excl Valuation reserve"]
[]
[]
["Other working capital requirements"]
["Debtors",null,{"$f":"IF(ISERROR(ROUND(C37*C38,-3)),0,(ROUND(C37*C38,-3)))","v":1153345000},{"$f":"IF(ISERROR(ROUND(D37*D38,-3)),0,(ROUND(D37*D38,-3)))","v":1295938000},530893000,1436100000,1430083000,1433168000,0,1832840000,1919976000,2007544000]
[]
["Creditors due",null,{"$f":"'SA3'!C147+'SA3'!C148","v":1949230876},{"$f":"'SA3'!D147+'SA3'!D148","v":3003316576},{"$f":"'SA3'!E147+'SA3'!E148","v":3158414359},{"$f":"'SA3'!F147+'SA3'!F148","v":1713733896},{"$f":"'SA3'!G147+'SA3'!G148","v":1644233896},{"$f":"'SA3'!H147+'SA3'!H148","v":1644233896},{"$f":"'SA3'!I147+'SA3'!I148","v":0},{"$f":"'SA3'!J147+'SA3'!J148","v":1713733896},{"$f":"'SA3'!K147+'SA3'!K148","v":1663733896},{"$f":"'SA3'!L147+'SA3'!L148","v":1663733896}]
["Total",null,{"$f":"C31-C33","v":-795885876},{"$f":"D31-D33","v":-1707378576},-2627521359,-277633896,-214150896,-211065896,0,119106104,256242104,343810104]
[]
["Debtors collection assumptions"]
["Balance outstanding - debtors",null,{"$f":"'A6-FinPos'!C7+'A6-FinPos'!C8+'A6-FinPos'!C9+'A6-FinPos'!C22+'A6-FinPos'!C23","v":3024815451},{"$f":"'A6-FinPos'!D7+'A6-FinPos'!D8+'A6-FinPos'!D9+'A6-FinPos'!D22+'A6-FinPos'!D23","v":3339790913},{"$f":"'A6-FinPos'!E7+'A6-FinPos'!E8+'A6-FinPos'!E9+'A6-FinPos'!E22+'A6-FinPos'!E23","v":1292629132},{"$f":"'A6-FinPos'!F7+'A6-FinPos'!F8+'A6-FinPos'!F9+'A6-FinPos'!F22+'A6-FinPos'!F23","v":3460272073},{"$f":"'A6-FinPos'!G7+'A6-FinPos'!G8+'A6-FinPos'!G9+'A6-FinPos'!G22+'A6-FinPos'!G23","v":3460272073},{"$f":"'A6-FinPos'!H7+'A6-FinPos'!H8+'A6-FinPos'!H9+'A6-FinPos'!H22+'A6-FinPos'!H23","v":3460272073},{"$f":"'A6-FinPos'!I7+'A6-FinPos'!I8+'A6-FinPos'!I9+'A6-FinPos'!I22+'A6-FinPos'!I23","v":1058229599},{"$f":"'A6-FinPos'!J7+'A6-FinPos'!J8+'A6-FinPos'!J9+'A6-FinPos'!J22+'A6-FinPos'!J23","v":2144393238},{"$f":"'A6-FinPos'!K7+'A6-FinPos'!K8+'A6-FinPos'!K9+'A6-FinPos'!K22+'A6-FinPos'!K23","v":2246419400},{"$f":"'A6-FinPos'!L7+'A6-FinPos'!L8+'A6-FinPos'!L9+'A6-FinPos'!L22+'A6-FinPos'!L23","v":2349349529}]
["Estimate of debtors collection rate",null,{"$f":"IF(ISERROR('SA10'!D10),0,('SA10'!D10))","v":0.3812942240513314},{"$f":"IF(ISERROR('SA10'!E10),0,('SA10'!E10))","v":0.38802973295486376},{"$f":"IF(ISERROR('SA10'!F10),0,('SA10'!F10))","v":0.41070796818846911},{"$f":"IF(ISERROR('SA10'!G10),0,('SA10'!G10))","v":0.41502502475472614},{"$f":"IF(ISERROR('SA10'!H10),0,('SA10'!H10))","v":0.41328637159940806},{"$f":"IF(ISERROR('SA10'!I10),0,('SA10'!I10))","v":0.41417791835903794},{"$f":"IF(ISERROR('SA10'!J10),0,('SA10'!J10))","v":0},{"$f":"IF(ISERROR('SA10'!K10),0,('SA10'!K10))","v":0.8547124057870148},{"$f":"IF(ISERROR('SA10'!L10),0,('SA10'!L10))","v":0.8546827317165071},{"$f":"IF(ISERROR('SA10'!M10),0,('SA10'!M10))","v":0.85451062384366128}]
[]
[]
[null,null,null,null,null,null,null,null,null,null,"`"]
[{"$f":"A16","v":"Long term investments committed"}]
["Balance (Insert description; eg sinking fund)"]
[]
[]
[]
[]
[]
[]
[]
[]
[]
[]
[null,null,{"$f":"SUM(C43:C53)","v":0},{"$f":"SUM(D43:D53)","v":0},0,0,0,0,0,0,0,0]
[{"$f":"A17","v":"Reserves to be backed by cash/investments"}]
["Housing Development Fund",null,{"$f":"'SA3'!C184","v":105694249},{"$f":"'SA3'!D184","v":110558453},{"$f":"'SA3'!E184","v":108869140},{"$f":"'SA3'!F184","v":0},{"$f":"'SA3'!G184","v":0},{"$f":"'SA3'!H184","v":0},{"$f":"'SA3'!I184","v":-1468968},{"$f":"'SA3'!J184","v":0},{"$f":"'SA3'!K184","v":0},{"$f":"'SA3'!L184","v":0}]
["Capital replacement",null,{"$f":"'SA3'!C185","v":785902},{"$f":"'SA3'!D185","v":4605111},{"$f":"'SA3'!E185","v":4628551},{"$f":"'SA3'!F185","v":0},{"$f":"'SA3'!G185","v":0},{"$f":"'SA3'!H185","v":0},{"$f":"'SA3'!I185","v":0},{"$f":"'SA3'!J185","v":0},{"$f":"'SA3'!K185","v":0},{"$f":"'SA3'!L185","v":0}]
["Self-insurance",null,{"$f":"'SA3'!C186","v":552885},{"$f":"'SA3'!D186","v":7173884},{"$f":"'SA3'!E186","v":7248160},{"$f":"'SA3'!F186","v":0},{"$f":"'SA3'!G186","v":0},{"$f":"'SA3'!H186","v":0},{"$f":"'SA3'!I186","v":0},{"$f":"'SA3'!J186","v":0},{"$f":"'SA3'!K186","v":0},{"$f":"'SA3'!L186","v":0}]
["Compensation for Occupational Injuries and Diseases"]
["Employee Benefit reserve"]
["Non-current Provisions reserve"]
["Valuation roll reserve"]
["Investment in associate account"]
["Capitalisation"]
[null,6,{"$f":"SUM(C56:C64)","v":107033036},{"$f":"SUM(D56:D64)","v":122337448},120745851,0,0,0,-1468968,0,0,0]
["Note:"]
["6. Above reserves do not include Revaluation reserve. Revaluation reserve not required to be cash backed"]

{"sheet":"A9-Asset","index":19,"n_rows":234,"n_cols":11,"rows_kept":234,"cut":false,"hidden":false,"merged":[[1,5,1,7],[1,8,1,10]]}
[{"$f":"muni&\" - \"&Approve9","v":"Choose name from list - Table A9 Asset Management"}]
[{"$f":"desc","v":"Description"},{"$f":"head27","v":"Ref"},{"$f":"head1b","v":"2021/22"},{"$f":"head1A","v":"2022/23"},{"$f":"Head1","v":"2023/24"},{"$f":"Head2","v":"Current Year 2024/25"},null,null,{"$f":"Head3","v":"2025/26 Medium Term Revenue & Expenditure Framework"}]
["R thousand",null,{"$f":"Head5","v":"Audited Outcome"},{"$f":"Head5","v":"Audited Outcome"},{"$f":"Head5","v":"Audited Outcome"},{"$f":"Head6","v":"Original Budget"},{"$f":"Head7","v":"Adjusted Budget"},{"$f":"Head8","v":"Full Year Forecast"},{"$f":"Head9","v":"Budget Year 2025/26"},{"$f":"Head10","v":"Budget Year +1 2026/27"},{"$f":"Head11","v":"Budget Year +2 2027/28"}]
["CAPITAL EXPENDITURE"]
["Total New Assets",1,{"$f":"C15+C18+C19+C22+C25+C26+SUM(C29:C35)+C38","v":12606996037.440001},{"$f":"D15+D18+D19+D22+D25+D26+SUM(D29:D35)+D38","v":560273698.51999998},916830068.63,768946216,567896600,567896600,378664201,239356348,329346952]
["Roads Infrastructure",null,{"$f":"SA34a!C7","v":0},{"$f":"SA34a!D7","v":0},{"$f":"SA34a!E7","v":0},{"$f":"SA34a!F7","v":41070144},{"$f":"SA34a!G7","v":44271280},{"$f":"SA34a!H7","v":44271280},{"$f":"SA34a!I7","v":13214000},{"$f":"SA34a!J7","v":1045000},{"$f":"SA34a!K7","v":79467025}]
["Storm water Infrastructure",null,{"$f":"SA34a!C12","v":0},{"$f":"SA34a!D12","v":0},{"$f":"SA34a!E12","v":0},{"$f":"SA34a!F12","v":0},{"$f":"SA34a!G12","v":0},{"$f":"SA34a!H12","v":0},{"$f":"SA34a!I12","v":0},{"$f":"SA34a!J12","v":0},{"$f":"SA34a!K12","v":0}]
["Electrical Infrastructure",null,{"$f":"SA34a!C16","v":12565963813},{"$f":"SA34a!D16","v":552513858},{"$f":"SA34a!E16","v":819701147},{"$f":"SA34a!F16","v":222417552},{"$f":"SA34a!G16","v":226690856},{"$f":"SA34a!H16","v":226690856},{"$f":"SA34a!I16","v":181332761},{"$f":"SA34a!J16","v":30809362},{"$f":"SA34a!K16","v":31863048}]
["Water Supply Infrastructure",null,{"$f":"SA34a!C26","v":0},{"$f":"SA34a!D26","v":0},{"$f":"SA34a!E26","v":0},{"$f":"SA34a!F26","v":87985559},{"$f":"SA34a!G26","v":37499304},{"$f":"SA34a!H26","v":37499304},{"$f":"SA34a!I26","v":37500000},{"$f":"SA34a!J26","v":53062500},{"$f":"SA34a!K26","v":46650313}]
["Sanitation Infrastructure",null,{"$f":"SA34a!C37","v":0},{"$f":"SA34a!D37","v":0},{"$f":"SA34a!E37","v":0},{"$f":"SA34a!F37","v":97046635},{"$f":"SA34a!G37","v":70470331},{"$f":"SA34a!H37","v":70470331},{"$f":"SA34a!I37","v":68217440},{"$f":"SA34a!J37","v":72310486},{"$f":"SA34a!K37","v":79138519}]
["Solid Waste Infrastructure",null,{"$f":"SA34a!C44","v":0},{"$f":"SA34a!D44","v":0},{"$f":"SA34a!E44","v":0},{"$f":"SA34a!F44","v":0},{"$f":"SA34a!G44","v":0},{"$f":"SA34a!H44","v":0},{"$f":"SA34a!I44","v":0},{"$f":"SA34a!J44","v":0},{"$f":"SA34a!K44","v":0}]
["Rail Infrastructure",null,{"$f":"SA34a!C52","v":0},{"$f":"SA34a!D52","v":0},{"$f":"SA34a!E52","v":0},{"$f":"SA34a!F52","v":0},{"$f":"SA34a!G52","v":0},{"$f":"SA34a!H52","v":0},{"$f":"SA34a!I52","v":0},{"$f":"SA34a!J52","v":0},{"$f":"SA34a!K52","v":0}]
["Coastal Infrastructure",null,{"$f":"SA34a!C62","v":0},{"$f":"SA34a!D62","v":0},{"$f":"SA34a!E62","v":0},{"$f":"SA34a!F62","v":0},{"$f":"SA34a!G62","v":0},{"$f":"SA34a!H62","v":0},{"$f":"SA34a!I62","v":0},{"$f":"SA34a!J62","v":0},{"$f":"SA34a!K62","v":0}]
["Information and Communication Infrastructure",null,{"$f":"SA34a!C68","v":0},{"$f":"SA34a!D68","v":0},{"$f":"SA34a!E68","v":0},{"$f":"SA34a!F68","v":0},{"$f":"SA34a!G68","v":0},{"$f":"SA34a!H68","v":0},{"$f":"SA34a!I68","v":0},{"$f":"SA34a!J68","v":0},{"$f":"SA34a!K68","v":0}]
["Infrastructure",null,{"$f":"SUM(C6:C14)","v":12565963813},{"$f":"SUM(D6:D14)","v":552513858},819701147,448519890,378931771,378931771,300264201,157227348,237118905]
["Community Facilities",null,{"$f":"SA34a!C75","v":0},{"$f":"SA34a!D75","v":0},{"$f":"SA34a!E75","v":0},{"$f":"SA34a!F75","v":24280151},{"$f":"SA34a!G75","v":19785832},{"$f":"SA34a!H75","v":19785832},{"$f":"SA34a!I75","v":13400000},{"$f":"SA34a!J75","v":14204000},{"$f":"SA34a!K75","v":42547047}]
["Sport and Recreation Facilities",null,{"$f":"SA34a!C98","v":0},{"$f":"SA34a!D98","v":0},{"$f":"SA34a!E98","v":0},{"$f":"SA34a!F98","v":6952560},{"$f":"SA34a!G98","v":10085560},{"$f":"SA34a!H98","v":10085560},{"$f":"SA34a!I98","v":0},{"$f":"SA34a!J98","v":0},{"$f":"SA34a!K98","v":0}]
["Community Assets",null,{"$f":"SUM(C16:C17)","v":0},{"$f":"SUM(D16:D17)","v":0},0,31232711,29871392,29871392,13400000,14204000,42547047]
["Heritage Assets",null,{"$f":"SA34a!C103","v":0},{"$f":"SA34a!D103","v":0},{"$f":"SA34a!E103","v":50449589},{"$f":"SA34a!F103","v":0},{"$f":"SA34a!G103","v":0},{"$f":"SA34a!H103","v":0},{"$f":"SA34a!I103","v":0},{"$f":"SA34a!J103","v":0},{"$f":"SA34a!K103","v":0}]
["Revenue Generating",null,{"$f":"SA34a!C111","v":0},{"$f":"SA34a!D111","v":0},{"$f":"SA34a!E111","v":0},{"$f":"SA34a!F111","v":0},{"$f":"SA34a!G111","v":0},{"$f":"SA34a!H111","v":0},{"$f":"SA34a!I111","v":0},{"$f":"SA34a!J111","v":0},{"$f":"SA34a!K111","v":0}]
["Non-revenue Generating",null,{"$f":"SA34a!C114","v":0},{"$f":"SA34a!D114","v":0},{"$f":"SA34a!E114","v":0},{"$f":"SA34a!F114","v":0},{"$f":"SA34a!G114","v":0},{"$f":"SA34a!H114","v":0},{"$f":"SA34a!I114","v":0},{"$f":"SA34a!J114","v":0},{"$f":"SA34a!K114","v":0}]
["Investment properties",null,{"$f":"SUM(C20:C21)","v":0},{"$f":"SUM(D20:D21)","v":0},0,0,0,0,0,0,0]
["Operational Buildings",null,{"$f":"SA34a!C119","v":0},{"$f":"SA34a!D119","v":0},{"$f":"SA34a!E119","v":0},{"$f":"SA34a!F119","v":0},{"$f":"SA34a!G119","v":650000},{"$f":"SA34a!H119","v":650000},{"$f":"SA34a!I119","v":0},{"$f":"SA34a!J119","v":0},{"$f":"SA34a!K119","v":0}]
["Housing",null,{"$f":"SA34a!C131","v":0},{"$f":"SA34a!D131","v":0},{"$f":"SA34a!E131","v":0},{"$f":"SA34a!F131","v":127592971},{"$f":"SA34a!G131","v":78388771},{"$f":"SA34a!H131","v":78388771},{"$f":"SA34a!I131","v":0},{"$f":"SA34a!J131","v":0},{"$f":"SA34a!K131","v":0}]
["Other Assets",null,{"$f":"SUM(C23:C24)","v":0},{"$f":"SUM(D23:D24)","v":0},0,127592971,79038771,79038771,0,0,0]
["Biological or Cultivated Assets",null,{"$f":"SA34a!C136","v":0},{"$f":"SA34a!D136","v":0},{"$f":"SA34a!E136","v":0},{"$f":"SA34a!F136","v":0},{"$f":"SA34a!G136","v":0},{"$f":"SA34a!H136","v":0},{"$f":"SA34a!I136","v":0},{"$f":"SA34a!J136","v":0},{"$f":"SA34a!K136","v":0}]
["Servitudes",null,{"$f":"SA34a!C140","v":0},{"$f":"SA34a!D140","v":0},{"$f":"SA34a!E140","v":0},{"$f":"SA34a!F140","v":0},{"$f":"SA34a!G140","v":0},{"$f":"SA34a!H140","v":0},{"$f":"SA34a!I140","v":0},{"$f":"SA34a!J140","v":0},{"$f":"SA34a!K140","v":0}]
["Licences and Rights",null,{"$f":"SA34a!C141","v":0},{"$f":"SA34a!D141","v":0},{"$f":"SA34a!E141","v":0},{"$f":"SA34a!F141","v":25650000},{"$f":"SA34a!G141","v":3400000},{"$f":"SA34a!H141","v":3400000},{"$f":"SA34a!I141","v":40000000},{"$f":"SA34a!J141","v":41800000},{"$f":"SA34a!K141","v":6000000}]
["Intangible Assets",null,{"$f":"SUM(C27:C28)","v":0},{"$f":"SUM(D27:D28)","v":0},0,25650000,3400000,3400000,40000000,41800000,6000000]
["Computer Equipment",null,{"$f":"SA34a!C149","v":0},{"$f":"SA34a!D149","v":0},{"$f":"SA34a!E149","v":0},{"$f":"SA34a!F149","v":5400000},{"$f":"SA34a!G149","v":23408184},{"$f":"SA34a!H149","v":23408184},{"$f":"SA34a!I149","v":0},{"$f":"SA34a!J149","v":0},{"$f":"SA34a!K149","v":0}]
["Furniture and Office Equipment",null,{"$f":"SA34a!C152","v":0},{"$f":"SA34a!D152","v":0},{"$f":"SA34a!E152","v":0},{"$f":"SA34a!F152","v":5205000},{"$f":"SA34a!G152","v":4697620},{"$f":"SA34a!H152","v":4697620},{"$f":"SA34a!I152","v":5000000},{"$f":"SA34a!J152","v":5225000},{"$f":"SA34a!K152","v":43681000}]
["Machinery and Equipment",null,{"$f":"SA34a!C155","v":41032224.439999998},{"$f":"SA34a!D155","v":7759840.5199999996},{"$f":"SA34a!E155","v":46679332.63000001},{"$f":"SA34a!F155","v":53272822},{"$f":"SA34a!G155","v":13574431},{"$f":"SA34a!H155","v":13574431},{"$f":"SA34a!I155","v":10000000},{"$f":"SA34a!J155","v":10450000},{"$f":"SA34a!K155","v":0}]
["Transport Assets",null,{"$f":"SA34a!C158","v":0},{"$f":"SA34a!D158","v":0},{"$f":"SA34a!E158","v":0},{"$f":"SA34a!F158","v":53272822},{"$f":"SA34a!G158","v":13574431},{"$f":"SA34a!H158","v":13574431},{"$f":"SA34a!I158","v":10000000},{"$f":"SA34a!J158","v":10450000},{"$f":"SA34a!K158","v":0}]
["Land",null,{"$f":"SA34a!C161","v":0},{"$f":"SA34a!D161","v":0},{"$f":"SA34a!E161","v":0},{"$f":"SA34a!F161","v":18800000},{"$f":"SA34a!G161","v":21400000},{"$f":"SA34a!H161","v":21400000},{"$f":"SA34a!I161","v":0},{"$f":"SA34a!J161","v":0},{"$f":"SA34a!K161","v":0}]
["Zoo's, Marine and Non-biological Animals",null,{"$f":"SA34a!C164","v":0},{"$f":"SA34a!D164","v":0},{"$f":"SA34a!E164","v":0},{"$f":"SA34a!F164","v":0},{"$f":"SA34a!G164","v":0},{"$f":"SA34a!H164","v":0},{"$f":"SA34a!I164","v":0},{"$f":"SA34a!J164","v":0},{"$f":"SA34a!K164","v":0}]
["Mature"," ",{"$f":"SA34a!C168","v":0},{"$f":"SA34a!D168","v":0},{"$f":"SA34a!E168","v":0},{"$f":"SA34a!F168","v":0},{"$f":"SA34a!G168","v":0},{"$f":"SA34a!H168","v":0},{"$f":"SA34a!I168","v":0},{"$f":"SA34a!J168","v":0},{"$f":"SA34a!K168","v":0}]
["Immature"," ",{"$f":"SA34a!C171","v":0},{"$f":"SA34a!D171","v":0},{"$f":"SA34a!E171","v":0},{"$f":"SA34a!F171","v":0},{"$f":"SA34a!G171","v":0},{"$f":"SA34a!H171","v":0},{"$f":"SA34a!I171","v":0},{"$f":"SA34a!J171","v":0},{"$f":"SA34a!K171","v":0}]
["Living Resources","",{"$f":"SUM(C36:C37)","v":0},{"$f":"SUM(D36:D37)","v":0},0,0,0,0,0,0,0]
[]
["Total Renewal of Existing Assets",2,{"$f":"C50+C53+C54+C57+C60+C61+SUM(C64:C70)+C73","v":0},{"$f":"D50+D53+D54+D57+D60+D61+SUM(D64:D70)+D73","v":0},11937006,53375968,86482937,112015147,96640000,124645637,50530425]
["Roads Infrastructure",null,{"$f":"SA34b!C7","v":0},{"$f":"SA34b!D7","v":0},{"$f":"SA34b!E7","v":0},{"$f":"SA34b!F7","v":22264000},{"$f":"SA34b!G7","v":53815147},{"$f":"SA34b!H7","v":53815147},{"$f":"SA34b!I7","v":50000000},{"$f":"SA34b!J7","v":75000000},{"$f":"SA34b!K7","v":50530425}]
["Storm water Infrastructure",null,{"$f":"SA34b!C12","v":0},{"$f":"SA34b!D12","v":0},{"$f":"SA34b!E12","v":0},{"$f":"SA34b!F12","v":0},{"$f":"SA34b!G12","v":14200000},{"$f":"SA34b!H12","v":14200000},{"$f":"SA34b!I12","v":0},{"$f":"SA34b!J12","v":0},{"$f":"SA34b!K12","v":0}]
["Electrical Infrastructure",null,{"$f":"SA34b!C16","v":0},{"$f":"SA34b!D16","v":0},{"$f":"SA34b!E16","v":0},{"$f":"SA34b!F16","v":0},{"$f":"SA34b!G16","v":0},{"$f":"SA34b!H16","v":0},{"$f":"SA34b!I16","v":0},{"$f":"SA34b!J16","v":0},{"$f":"SA34b!K16","v":0}]
["Water Supply Infrastructure",null,{"$f":"SA34b!C26","v":0},{"$f":"SA34b!D26","v":0},{"$f":"SA34b!E26","v":0},{"$f":"SA34b!F26","v":0},{"$f":"SA34b!G26","v":0},{"$f":"SA34b!H26","v":0},{"$f":"SA34b!I26","v":0},{"$f":"SA34b!J26","v":0},{"$f":"SA34b!K26","v":0}]
["Sanitation Infrastructure",null,{"$f":"SA34b!C37","v":0},{"$f":"SA34b!D37","v":0},{"$f":"SA34b!E37","v":0},{"$f":"SA34b!F37","v":15707790},{"$f":"SA34b!G37","v":15707790},{"$f":"SA34b!H37","v":44000000},{"$f":"SA34b!I37","v":46640000},{"$f":"SA34b!J37","v":49645637},{"$f":"SA34b!K37","v":0}]
["Solid Waste Infrastructure",null,{"$f":"SA34b!C44","v":0},{"$f":"SA34b!D44","v":0},{"$f":"SA34b!E44","v":0},{"$f":"SA34b!F44","v":0},{"$f":"SA34b!G44","v":0},{"$f":"SA34b!H44","v":0},{"$f":"SA34b!I44","v":0},{"$f":"SA34b!J44","v":0},{"$f":"SA34b!K44","v":0}]
["Rail Infrastructure",null,{"$f":"SA34b!C52","v":0},{"$f":"SA34b!D52","v":0},{"$f":"SA34b!E52","v":0},{"$f":"SA34b!F52","v":500000},{"$f":"SA34b!G52","v":0},{"$f":"SA34b!H52","v":0},{"$f":"SA34b!I52","v":0},{"$f":"SA34b!J52","v":0},{"$f":"SA34b!K52","v":0}]
["Coastal Infrastructure",null,{"$f":"SA34b!C62","v":0},{"$f":"SA34b!D62","v":0},{"$f":"SA34b!E62","v":0},{"$f":"SA34b!F62","v":0},{"$f":"SA34b!G62","v":0},{"$f":"SA34b!H62","v":0},{"$f":"SA34b!I62","v":0},{"$f":"SA34b!J62","v":0},{"$f":"SA34b!K62","v":0}]
["Information and Communication Infrastructure",null,{"$f":"SA34b!C68","v":0},{"$f":"SA34b!D68","v":0},{"$f":"SA34b!E68","v":11937006},{"$f":"SA34b!F68","v":0},{"$f":"SA34b!G68","v":0},{"$f":"SA34b!H68","v":0},{"$f":"SA34b!I68","v":0},{"$f":"SA34b!J68","v":0},{"$f":"SA34b!K68","v":0}]
["Infrastructure",null,{"$f":"SUM(C41:C49)","v":0},{"$f":"SUM(D41:D49)","v":0},11937006,38471790,83722937,112015147,96640000,124645637,50530425]
["Community Facilities",null,{"$f":"SA34b!C75","v":0},{"$f":"SA34b!D75","v":0},{"$f":"SA34b!E75","v":0},{"$f":"SA34b!F75","v":2500000},{"$f":"SA34b!G75","v":0},{"$f":"SA34b!H75","v":0},{"$f":"SA34b!I75","v":0},{"$f":"SA34b!J75","v":0},{"$f":"SA34b!K75","v":0}]
["Sport and Recreation Facilities",null,{"$f":"SA34b!C98","v":0},{"$f":"SA34b!D98","v":0},{"$f":"SA34b!E98","v":0},{"$f":"SA34b!F98","v":0},{"$f":"SA34b!G98","v":0},{"$f":"SA34b!H98","v":0},{"$f":"SA34b!I98","v":0},{"$f":"SA34b!J98","v":0},{"$f":"SA34b!K98","v":0}]
["Community Assets",null,{"$f":"SUM(C51:C52)","v":0},{"$f":"SUM(D51:D52)","v":0},0,2500000,0,0,0,0,0]
["Heritage Assets",null,{"$f":"SA34b!C103","v":0},{"$f":"SA34b!D103","v":0},{"$f":"SA34b!E103","v":0},{"$f":"SA34b!F103","v":0},{"$f":"SA34b!G103","v":0},{"$f":"SA34b!H103","v":0},{"$f":"SA34b!I103","v":0},{"$f":"SA34b!J103","v":0},{"$f":"SA34b!K103","v":0}]
["Revenue Generating",null,{"$f":"SA34b!C111","v":0},{"$f":"SA34b!D111","v":0},{"$f":"SA34b!E111","v":0},{"$f":"SA34b!F111","v":0},{"$f":"SA34b!G111","v":0},{"$f":"SA34b!H111","v":0},{"$f":"SA34b!I111","v":0},{"$f":"SA34b!J111","v":0},{"$f":"SA34b!K111","v":0}]
["Non-revenue Generating",null,{"$f":"SA34b!C114","v":0},{"$f":"SA34b!D114","v":0},{"$f":"SA34b!E114","v":0},{"$f":"SA34b!F114","v":0},{"$f":"SA34b!G114","v":0},{"$f":"SA34b!H114","v":0},{"$f":"SA34b!I114","v":0},{"$f":"SA34b!J114","v":0},{"$f":"SA34b!K114","v":0}]
["Investment properties",null,{"$f":"SUM(C55:C56)","v":0},{"$f":"SUM(D55:D56)","v":0},0,0,0,0,0,0,0]
["Operational Buildings",null,{"$f":"SA34b!C119","v":0},{"$f":"SA34b!D119","v":0},{"$f":"SA34b!E119","v":0},{"$f":"SA34b!F119","v":2760000},{"$f":"SA34b!G119","v":2760000},{"$f":"SA34b!H119","v":0},{"$f":"SA34b!I119","v":0},{"$f":"SA34b!J119","v":0},{"$f":"SA34b!K119","v":0}]
["Housing",null,{"$f":"SA34b!C131","v":0},{"$f":"SA34b!D131","v":0},{"$f":"SA34b!E131","v":0},{"$f":"SA34b!F131","v":0},{"$f":"SA34b!G131","v":0},{"$f":"SA34b!H131","v":0},{"$f":"SA34b!I131","v":0},{"$f":"SA34b!J131","v":0},{"$f":"SA34b!K131","v":0}]
["Other Assets",null,{"$f":"SUM(C58:C59)","v":0},{"$f":"SUM(D58:D59)","v":0},0,2760000,2760000,0,0,0,0]
["Biological or Cultivated Assets",null,{"$f":"SA34b!C136","v":0},{"$f":"SA34b!D136","v":0},{"$f":"SA34b!E136","v":0},{"$f":"SA34b!F136","v":0},{"$f":"SA34b!G136","v":0},{"$f":"SA34b!H136","v":0},{"$f":"SA34b!I136","v":0},{"$f":"SA34b!J136","v":0},{"$f":"SA34b!K136","v":0}]
["Servitudes",null,{"$f":"SA34b!C140","v":0},{"$f":"SA34b!D140","v":0},{"$f":"SA34b!E140","v":0},{"$f":"SA34b!F140","v":0},{"$f":"SA34b!G140","v":0},{"$f":"SA34b!H140","v":0},{"$f":"SA34b!I140","v":0},{"$f":"SA34b!J140","v":0},{"$f":"SA34b!K140","v":0}]
["Licences and Rights",null,{"$f":"SA34b!C141","v":0},{"$f":"SA34b!D141","v":0},{"$f":"SA34b!E141","v":0},{"$f":"SA34b!F141","v":0},{"$f":"SA34b!G141","v":0},{"$f":"SA34b!H141","v":0},{"$f":"SA34b!I141","v":0},{"$f":"SA34b!J141","v":0},{"$f":"SA34b!K141","v":0}]
["Intangible Assets",null,{"$f":"SUM(C62:C63)","v":0},{"$f":"SUM(D62:D63)","v":0},0,0,0,0,0,0,0]
["Computer Equipment",null,{"$f":"SA34b!C149","v":0},{"$f":"SA34b!D149","v":0},{"$f":"SA34b!E149","v":0},{"$f":"SA34b!F149","v":0},{"$f":"SA34b!G149","v":0},{"$f":"SA34b!H149","v":0},{"$f":"SA34b!I149","v":0},{"$f":"SA34b!J149","v":0},{"$f":"SA34b!K149","v":0}]
["Furniture and Office Equipment",null,{"$f":"SA34b!C152","v":0},{"$f":"SA34b!D152","v":0},{"$f":"SA34b!E152","v":0},{"$f":"SA34b!F152","v":9644178},{"$f":"SA34b!G152","v":0},{"$f":"SA34b!H152","v":0},{"$f":"SA34b!I152","v":0},{"$f":"SA34b!J152","v":0},{"$f":"SA34b!K152","v":0}]
["Machinery and Equipment",null,{"$f":"SA34b!C155","v":0},{"$f":"SA34b!D155","v":0},{"$f":"SA34b!E155","v":0},{"$f":"SA34b!F155","v":0},{"$f":"SA34b!G155","v":0},{"$f":"SA34b!H155","v":0},{"$f":"SA34b!I155","v":0},{"$f":"SA34b!J155","v":0},{"$f":"SA34b!K155","v":0}]
["Transport Assets",null,{"$f":"SA34b!C158","v":0},{"$f":"SA34b!D158","v":0},{"$f":"SA34b!E158","v":0},{"$f":"SA34b!F158","v":0},{"$f":"SA34b!G158","v":0},{"$f":"SA34b!H158","v":0},{"$f":"SA34b!I158","v":0},{"$f":"SA34b!J158","v":0},{"$f":"SA34b!K158","v":0}]
["Land",null,{"$f":"SA34b!C161","v":0},{"$f":"SA34b!D161","v":0},{"$f":"SA34b!E161","v":0},{"$f":"SA34b!F161","v":0},{"$f":"SA34b!G161","v":0},{"$f":"SA34b!H161","v":0},{"$f":"SA34b!I161","v":0},{"$f":"SA34b!J161","v":0},{"$f":"SA34b!K161","v":0}]
["Zoo's, Marine and Non-biological Animals",null,{"$f":"SA34b!C164","v":0},{"$f":"SA34b!D164","v":0},{"$f":"SA34b!E164","v":0},{"$f":"SA34b!F164","v":0},{"$f":"SA34b!G164","v":0},{"$f":"SA34b!H164","v":0},{"$f":"SA34b!I164","v":0},{"$f":"SA34b!J164","v":0},{"$f":"SA34b!K164","v":0}]
["Mature"," ",{"$f":"SA34b!C168","v":0},{"$f":"SA34b!D168","v":0},{"$f":"SA34b!E168","v":0},{"$f":"SA34b!F168","v":0},{"$f":"SA34b!G168","v":0},{"$f":"SA34b!H168","v":0},{"$f":"SA34b!I168","v":0},{"$f":"SA34b!J168","v":0},{"$f":"SA34b!K168","v":0}]
["Immature"," ",{"$f":"SA34b!C171","v":0},{"$f":"SA34b!D171","v":0},{"$f":"SA34b!E171","v":0},{"$f":"SA34b!F171","v":0},{"$f":"SA34b!G171","v":0},{"$f":"SA34b!H171","v":0},{"$f":"SA34b!I171","v":0},{"$f":"SA34b!J171","v":0},{"$f":"SA34b!K171","v":0}]
["Living Resources","",{"$f":"SUM(C71:C72)","v":0},0,0,0,0,0,0,0,0]
[]
["Total Upgrading of Existing Assets",6,{"$f":"C85+C88+C89+C92+C95+C96+SUM(C99:C105)+C108","v":0},{"$f":"D85+D88+D89+D92+D95+D96+SUM(D99:D105)+D108","v":0},0,73400319,156243689,156243689,164986720,169210923,126389325]
["Roads Infrastructure",null,{"$f":"SA34e!C7","v":0},{"$f":"SA34e!D7","v":0},{"$f":"SA34e!E7","v":0},{"$f":"SA34e!F7","v":52080319},{"$f":"SA34e!G7","v":93464784},{"$f":"SA34e!H7","v":93464784},{"$f":"SA34e!I7","v":82370000},{"$f":"SA34e!J7","v":60737200},{"$f":"SA34e!K7","v":73715145}]
["Storm water Infrastructure",null,{"$f":"SA34e!C12","v":0},{"$f":"SA34e!D12","v":0},{"$f":"SA34e!E12","v":0},{"$f":"SA34e!F12","v":0},{"$f":"SA34e!G12","v":500000},{"$f":"SA34e!H12","v":500000},{"$f":"SA34e!I12","v":0},{"$f":"SA34e!J12","v":0},{"$f":"SA34e!K12","v":0}]
["Electrical Infrastructure",null,{"$f":"SA34e!C16","v":0},{"$f":"SA34e!D16","v":0},{"$f":"SA34e!E16","v":0},{"$f":"SA34e!F16","v":3000000},{"$f":"SA34e!G16","v":0},{"$f":"SA34e!H16","v":0},{"$f":"SA34e!I16","v":0},{"$f":"SA34e!J16","v":0},{"$f":"SA34e!K16","v":0}]
["Water Supply Infrastructure",null,{"$f":"SA34e!C26","v":0},{"$f":"SA34e!D26","v":0},{"$f":"SA34e!E26","v":0},{"$f":"SA34e!F26","v":8320000},{"$f":"SA34e!G26","v":41185988},{"$f":"SA34e!H26","v":41185988},{"$f":"SA34e!I26","v":71400000},{"$f":"SA34e!J26","v":74184000},{"$f":"SA34e!K26","v":37000000}]
["Sanitation Infrastructure",null,{"$f":"SA34e!C37","v":0},{"$f":"SA34e!D37","v":0},{"$f":"SA34e!E37","v":0},{"$f":"SA34e!F37","v":0},{"$f":"SA34e!G37","v":13792917},{"$f":"SA34e!H37","v":13792917},{"$f":"SA34e!I37","v":0},{"$f":"SA34e!J37","v":0},{"$f":"SA34e!K37","v":0}]
["Solid Waste Infrastructure",null,{"$f":"SA34e!C44","v":0},{"$f":"SA34e!D44","v":0},{"$f":"SA34e!E44","v":0},{"$f":"SA34e!F44","v":10000000},{"$f":"SA34e!G44","v":7000000},{"$f":"SA34e!H44","v":7000000},{"$f":"SA34e!I44","v":0},{"$f":"SA34e!J44","v":0},{"$f":"SA34e!K44","v":0}]
["Rail Infrastructure",null,{"$f":"SA34e!C52","v":0},{"$f":"SA34e!D52","v":0},{"$f":"SA34e!E52","v":0},{"$f":"SA34e!F52","v":0},{"$f":"SA34e!G52","v":0},{"$f":"SA34e!H52","v":0},{"$f":"SA34e!I52","v":0},{"$f":"SA34e!J52","v":0},{"$f":"SA34e!K52","v":0}]
["Coastal Infrastructure",null,{"$f":"SA34e!C62","v":0},{"$f":"SA34e!D62","v":0},{"$f":"SA34e!E62","v":0},{"$f":"SA34e!F62","v":0},{"$f":"SA34e!G62","v":0},{"$f":"SA34e!H62","v":0},{"$f":"SA34e!I62","v":0},{"$f":"SA34e!J62","v":0},{"$f":"SA34e!K62","v":0}]
["Information and Communication Infrastructure",null,{"$f":"SA34e!C68","v":0},{"$f":"SA34e!D68","v":0},{"$f":"SA34e!E68","v":0},{"$f":"SA34e!F68","v":0},{"$f":"SA34e!G68","v":0},{"$f":"SA34e!H68","v":0},{"$f":"SA34e!I68","v":0},{"$f":"SA34e!J68","v":0},{"$f":"SA34e!K68","v":0}]
["Infrastructure",null,{"$f":"SUM(C76:C84)","v":0},0,0,73400319,155943689,155943689,153770000,134921200,110715145]
["Community Facilities",null,{"$f":"SA34e!C75","v":0},{"$f":"SA34e!D75","v":0},{"$f":"SA34e!E75","v":0},{"$f":"SA34e!F75","v":0},{"$f":"SA34e!G75","v":0},{"$f":"SA34e!H75","v":0},{"$f":"SA34e!I75","v":10000000},{"$f":"SA34e!J75","v":33000000},{"$f":"SA34e!K75","v":10000000}]
["Sport and Recreation Facilities",null,{"$f":"SA34e!C98","v":0},{"$f":"SA34e!D98","v":0},{"$f":"SA34e!E98","v":0},{"$f":"SA34e!F98","v":0},{"$f":"SA34e!G98","v":0},{"$f":"SA34e!H98","v":0},{"$f":"SA34e!I98","v":1216720},{"$f":"SA34e!J98","v":1289723},{"$f":"SA34e!K98","v":5674180}]
["Community Assets",null,{"$f":"SUM(C86:C87)","v":0},0,0,0,0,0,11216720,34289723,15674180]
["Heritage Assets",null,{"$f":"SA34e!C103","v":0},{"$f":"SA34e!D103","v":0},{"$f":"SA34e!E103","v":0},{"$f":"SA34e!F103","v":0},{"$f":"SA34e!G103","v":0},{"$f":"SA34e!H103","v":0},{"$f":"SA34e!I103","v":0},{"$f":"SA34e!J103","v":0},{"$f":"SA34e!K103","v":0}]
["Revenue Generating",null,{"$f":"SA34e!C111","v":0},{"$f":"SA34e!D111","v":0},{"$f":"SA34e!E111","v":0},{"$f":"SA34e!F111","v":0},{"$f":"SA34e!G111","v":0},{"$f":"SA34e!H111","v":0},{"$f":"SA34e!I111","v":0},{"$f":"SA34e!J111","v":0},{"$f":"SA34e!K111","v":0}]
["Non-revenue Generating",null,{"$f":"SA34e!C114","v":0},{"$f":"SA34e!D114","v":0},{"$f":"SA34e!E114","v":0},{"$f":"SA34e!F114","v":0},{"$f":"SA34e!G114","v":0},{"$f":"SA34e!H114","v":0},{"$f":"SA34e!I114","v":0},{"$f":"SA34e!J114","v":0},{"$f":"SA34e!K114","v":0}]
["Investment properties",null,{"$f":"SUM(C90:C91)","v":0},0,0,0,0,0,0,0,0]
["Operational Buildings",null,{"$f":"SA34e!C119","v":0},{"$f":"SA34e!D119","v":0},{"$f":"SA34e!E119","v":0},{"$f":"SA34e!F119","v":0},{"$f":"SA34e!G119","v":0},{"$f":"SA34e!H119","v":0},{"$f":"SA34e!I119","v":0},{"$f":"SA34e!J119","v":0},{"$f":"SA34e!K119","v":0}]
["Housing",null,{"$f":"SA34e!C131","v":0},{"$f":"SA34e!D131","v":0},{"$f":"SA34e!E131","v":0},{"$f":"SA34e!F131","v":0},{"$f":"SA34e!G131","v":0},{"$f":"SA34e!H131","v":0},{"$f":"SA34e!I131","v":0},{"$f":"SA34e!J131","v":0},{"$f":"SA34e!K131","v":0}]
["Other Assets",null,{"$f":"SUM(C93:C94)","v":0},0,0,0,0,0,0,0,0]
["Biological or Cultivated Assets",null,{"$f":"SA34e!C136","v":0},{"$f":"SA34e!D136","v":0},{"$f":"SA34e!E136","v":0},{"$f":"SA34e!F136","v":0},{"$f":"SA34e!G136","v":0},{"$f":"SA34e!H136","v":0},{"$f":"SA34e!I136","v":0},{"$f":"SA34e!J136","v":0},{"$f":"SA34e!K136","v":0}]
["Servitudes",null,{"$f":"SA34e!C140","v":0},{"$f":"SA34e!D140","v":0},{"$f":"SA34e!E140","v":0},{"$f":"SA34e!F140","v":0},{"$f":"SA34e!G140","v":0},{"$f":"SA34e!H140","v":0},{"$f":"SA34e!I140","v":0},{"$f":"SA34e!J140","v":0},{"$f":"SA34e!K140","v":0}]
["Licences and Rights",null,{"$f":"SA34e!C141","v":0},{"$f":"SA34e!D141","v":0},{"$f":"SA34e!E141","v":0},{"$f":"SA34e!F141","v":0},{"$f":"SA34e!G141","v":0},{"$f":"SA34e!H141","v":0},{"$f":"SA34e!I141","v":0},{"$f":"SA34e!J141","v":0},{"$f":"SA34e!K141","v":0}]
["Intangible Assets",null,{"$f":"SUM(C97:C98)","v":0},0,0,0,0,0,0,0,0]
["Computer Equipment",null,{"$f":"SA34e!C149","v":0},{"$f":"SA34e!D149","v":0},{"$f":"SA34e!E149","v":0},{"$f":"SA34e!F149","v":0},{"$f":"SA34e!G149","v":0},{"$f":"SA34e!H149","v":0},{"$f":"SA34e!I149","v":0},{"$f":"SA34e!J149","v":0},{"$f":"SA34e!K149","v":0}]
["Furniture and Office Equipment",null,{"$f":"SA34e!C152","v":0},{"$f":"SA34e!D152","v":0},{"$f":"SA34e!E152","v":0},{"$f":"SA34e!F152","v":0},{"$f":"SA34e!G152","v":300000},{"$f":"SA34e!H152","v":300000},{"$f":"SA34e!I152","v":0},{"$f":"SA34e!J152","v":0},{"$f":"SA34e!K152","v":0}]
["Machinery and Equipment",null,{"$f":"SA34e!C155","v":0},{"$f":"SA34e!D155","v":0},{"$f":"SA34e!E155","v":0},{"$f":"SA34e!F155","v":0},{"$f":"SA34e!G155","v":0},{"$f":"SA34e!H155","v":0},{"$f":"SA34e!I155","v":0},{"$f":"SA34e!J155","v":0},{"$f":"SA34e!K155","v":0}]
["Transport Assets",null,{"$f":"SA34e!C158","v":0},{"$f":"SA34e!D158","v":0},{"$f":"SA34e!E158","v":0},{"$f":"SA34e!F158","v":0},{"$f":"SA34e!G158","v":0},{"$f":"SA34e!H158","v":0},{"$f":"SA34e!I158","v":0},{"$f":"SA34e!J158","v":0},{"$f":"SA34e!K158","v":0}]
["Land",null,{"$f":"SA34e!C161","v":0},{"$f":"SA34e!D161","v":0},{"$f":"SA34e!E161","v":0},{"$f":"SA34e!F161","v":0},{"$f":"SA34e!G161","v":0},{"$f":"SA34e!H161","v":0},{"$f":"SA34e!I161","v":0},{"$f":"SA34e!J161","v":0},{"$f":"SA34e!K161","v":0}]
["Zoo's, Marine and Non-biological Animals",null,{"$f":"SA34e!C164","v":0},{"$f":"SA34e!D164","v":0},{"$f":"SA34e!E164","v":0},{"$f":"SA34e!F164","v":0},{"$f":"SA34e!G164","v":0},{"$f":"SA34e!H164","v":0},{"$f":"SA34e!I164","v":0},{"$f":"SA34e!J164","v":0},{"$f":"SA34e!K164","v":0}]
["Mature"," ",{"$f":"SA34e!C168","v":0},{"$f":"SA34e!D168","v":0},{"$f":"SA34e!E168","v":0},{"$f":"SA34e!F168","v":0},{"$f":"SA34e!G168","v":0},{"$f":"SA34e!H168","v":0},{"$f":"SA34e!I168","v":0},{"$f":"SA34e!J168","v":0},{"$f":"SA34e!K168","v":0}]
["Immature"," ",{"$f":"SA34b!C171","v":0},{"$f":"SA34b!D171","v":0},{"$f":"SA34b!E171","v":0},{"$f":"SA34b!F171","v":0},{"$f":"SA34b!G171","v":0},{"$f":"SA34b!H171","v":0},{"$f":"SA34b!I171","v":0},{"$f":"SA34b!J171","v":0},{"$f":"SA34b!K171","v":0}]
["Living Resources","",{"$f":"SUM(C106:C107)","v":0},{"$f":"SUM(D106:D107)","v":0},0,0,0,0,0,0,0]
[]
["Total Capital Expenditure",4,{"$f":"+C5+C40+C75","v":12606996037.440001},{"$f":"+D5+D40+D75","v":560273698.51999998},928767074.63,895722503,810623226,836155436,640290921,533212908,506266702]
["Roads Infrastructure",null,{"$f":"+C6+C41+C76","v":0},0,0,115414463,191551211,191551211,145584000,136782200,203712595]
["Storm water Infrastructure",null,{"$f":"+C7+C42+C77","v":0},0,0,0,14700000,14700000,0,0,0]
["Electrical Infrastructure",null,{"$f":"+C8+C43+C78","v":12565963813},552513858,819701147,225417552,226690856,226690856,181332761,30809362,31863048]
["Water Supply Infrastructure",null,{"$f":"+C9+C44+C79","v":0},0,0,96305559,78685292,78685292,108900000,127246500,83650313]
["Sanitation Infrastructure",null,{"$f":"+C10+C45+C80","v":0},0,0,112754425,99971038,128263248,114857440,121956123,79138519]
["Solid Waste Infrastructure",null,{"$f":"+C11+C46+C81","v":0},0,0,10000000,7000000,7000000,0,0,0]
["Rail Infrastructure",null,{"$f":"+C12+C47+C82","v":0},0,0,500000,0,0,0,0,0]
["Coastal Infrastructure",null,{"$f":"+C13+C48+C83","v":0},0,0,0,0,0,0,0,0]
["Information and Communication Infrastructure",null,{"$f":"+C14+C49+C84","v":0},0,11937006,0,0,0,0,0,0]
["Infrastructure",null,{"$f":"SUM(C111:C119)","v":12565963813},{"$f":"SUM(D111:D119)","v":552513858},831638153,560391999,618598397,646890607,550674201,416794185,398364475]
["Community Facilities",null,{"$f":"+C16+C51+C86","v":0},0,0,26780151,19785832,19785832,23400000,47204000,52547047]
["Sport and Recreation Facilities",null,{"$f":"+C17+C52+C87","v":0},0,0,6952560,10085560,10085560,1216720,1289723,5674180]
["Community Assets",null,{"$f":"SUM(C121:C122)","v":0},{"$f":"SUM(D121:D122)","v":0},0,33732711,29871392,29871392,24616720,48493723,58221227]
["Heritage Assets",null,{"$f":"+C19+C54+C89","v":0},0,50449589,0,0,0,0,0,0]
["Revenue Generating",null,{"$f":"+C20+C55+C90","v":0},0,0,0,0,0,0,0,0]
["Non-revenue Generating",null,{"$f":"+C21+C56+C91","v":0},0,0,0,0,0,0,0,0]
["Investment properties",null,{"$f":"SUM(C125:C126)","v":0},{"$f":"SUM(D125:D126)","v":0},0,0,0,0,0,0,0]
["Operational Buildings",null,{"$f":"+C23+C58+C93","v":0},0,0,2760000,3410000,650000,0,0,0]
["Housing",null,{"$f":"+C24+C59+C94","v":0},0,0,127592971,78388771,78388771,0,0,0]
["Other Assets",null,{"$f":"SUM(C128:C129)","v":0},0,0,130352971,81798771,79038771,0,0,0]
["Biological or Cultivated Assets",null,{"$f":"+C26+C61+C96","v":0},0,0,0,0,0,0,0,0]
["Servitudes",null,{"$f":"+C27+C62+C97","v":0},0,0,0,0,0,0,0,0]
["Licences and Rights",null,{"$f":"+C28+C63+C98","v":0},0,0,25650000,3400000,3400000,40000000,41800000,6000000]
["Intangible Assets",null,{"$f":"SUM(C132:C133)","v":0},{"$f":"SUM(D132:D133)","v":0},0,25650000,3400000,3400000,40000000,41800000,6000000]
["Computer Equipment",null,{"$f":"+C30+C65+C100","v":0},0,0,5400000,23408184,23408184,0,0,0]
["Furniture and Office Equipment",null,{"$f":"+C31+C66+C101","v":0},0,0,14849178,4997620,4997620,5000000,5225000,43681000]
["Machinery and Equipment",null,{"$f":"+C32+C67+C102","v":41032224.439999998},7759840.5199999996,46679332.63000001,53272822,13574431,13574431,10000000,10450000,0]
["Transport Assets",null,{"$f":"+C33+C68+C103","v":0},0,0,53272822,13574431,13574431,10000000,10450000,0]
["Land",null,{"$f":"+C34+C69+C104","v":0},0,0,18800000,21400000,21400000,0,0,0]
["Zoo's, Marine and Non-biological Animals",null,{"$f":"+C35+C70+C105","v":0},0,0,0,0,0,0,0,0]
["Mature"," ",{"$f":"+C36+C71+C106","v":0},{"$f":"+D36+D71+D106","v":0},0,0,0,0,0,0,0]
["Immature"," ",{"$f":"+C37+C72+C107","v":0},{"$f":"+D37+D72+D107","v":0},0,0,0,0,0,0,0]
["Living Resources","",{"$f":"SUM(C141:C142)","v":0},0,0,0,0,0,0,0,0]
["TOTAL CAPITAL EXPENDITURE - Asset class",null,{"$f":"+C5+C40+C75","v":12606996037.440001},{"$f":"+D5+D40+D75","v":560273698.51999998},928767074.63,895722503,810623226,836155436,640290921,533212908,506266702]
[]
["ASSET REGISTER SUMMARY - PPE (WDV)",5,{"$f":"C156+C159+C160+C163+C166+C167+C170+C171+C172+C173+C174+C175+C176+C179","v":6763543509},{"$f":"D156+D159+D160+D163+D166+D167+D170+D171+D172+D173+D174+D175+D176+D179","v":7128088298},7784729118,9389756846,9412890850,9412890850,7807004115,8151004302,8545100119]
["Roads Infrastructure",null,1499583785,1749610966,1977696950,null,null,null,1977696949,2066693311,2159694511]
["Storm water Infrastructure",null,527357932,594162638,655306123,null,null,null,655306123,684794898,715610668]
["Electrical Infrastructure",null,1053749161,1036797825,1069982397,7968094847,7970784847,7970784847,1069982395,1118131602,1168447523]
["Water Supply Infrastructure",null,536654801,500350692,574008862,null,null,null,574008862,599839261,626832027]
["Sanitation Infrastructure",null,399227847,462955116,620335735,null,null,null,620335734,648250842,677422130]
["Solid Waste Infrastructure",null,22537953,28916147,27409959,null,null,null,27409959,28643408,29932361]
["Rail Infrastructure",null,783374,669472,555569,null,null,null,555569,580570,606695]
["Coastal Infrastructure"]
["Information and Communication Infrastructure",null,null,null,4220918,null,null,null,4220918,4410859,4609348]
["Infrastructure",null,{"$f":"SUM(C147:C155)","v":4039894853},{"$f":"SUM(D147:D155)","v":4373462856},4929516513,7968094847,7970784847,7970784847,4929516509,5151344751,5383155263]
[]
[]
["Community Assets",null,299648186,307151280,301411790,null,null,null,301411790,314975320,329149211]
["Heritage Assets",null,273093520,274718369,323519929,291269523,291269523,291269523,323519929,338078328,353291848]
[null,null,891299499,924805184,922391726,974255981,974255981,974255981]
[]
["Investment properties",null,891299499,924805184,922391726,974255981,974255981,974255981,922391726,963899354,1007274825]
[null,null,256088881,250979903,260773792]
[]
["Other Assets",null,256088881,250979903,260773792,null,null,null,213034758,222621322,232639281]
["Biological or Cultivated Assets",null,80896179,76375890,83234407,80958443,80958443,80958443,83234407,86979955,90894054]
[null,null,18426247,23913257,24478126,25766052,26566052,26566052]
[]
["Intangible Assets",null,18426247,23913257,24478126,25766052,26566052,26566052,24753126,25867017,27031032]
["Computer Equipment",null,25791939,23594115,33535742,9934178,22168953,22168953,33535742,35044851,36621869]
["Furniture and Office Equipment",null,11787709,12602869,12095312,5405000,5062620,5062620,17095312,17864602,56889384]
["Machinery and Equipment",null,69822530,69501221,76988808,15272822,20424431,20424431,128405961,126869229,121658096]
["Transport Assets",null,84367225,78556613,104447232,18800000,21400000,21400000,117769114,123068724,128606818]
["Land",null,712426741,712426741,712335741,null,null,null,712335741,744390849,777888438]
["Zoo's, Marine and Non-biological Animals"]
[]
[]
["Living Resources"]
["TOTAL ASSET REGISTER SUMMARY - PPE (WDV)",5,{"$f":"C156+C159+C160+C163+C166+C167+C170+C171+C172+C173+C174+C175+C176+C179","v":6763543509},{"$f":"D156+D159+D160+D163+D166+D167+D170+D171+D172+D173+D174+D175+D176+D179","v":7128088298},7784729118,{"$f":"F156+F159+F160+F163+F166+F167+F170+F171+F172+F173+F174+F175+F176+F179","v":9389756846},{"$f":"G156+G159+G160+G163+G166+G167+G170+G171+G172+G173+G174+G175+G176+G179","v":9412890850},9412890850,7807004115,8151004302,8545100119]
[]
["EXPENDITURE OTHER ITEMS",null,{"$f":"SUM(C183:C184)","v":365699316},{"$f":"SUM(D183:D184)","v":337452387},359059555,986793953,792293953,792293953,889294376,936319155,870997925]
["Depreciation",7,{"$f":"SA34d!C175","v":365699316},{"$f":"SA34d!D175","v":337452387},{"$f":"SA34d!E175","v":359059555},{"$f":"SA34d!F175","v":362178745},{"$f":"SA34d!G175","v":362178745},{"$f":"SA34d!H175","v":362178745},{"$f":"SA34d!I175","v":390260350},{"$f":"SA34d!J175","v":386742529},{"$f":"SA34d!K175","v":282526754}]
["Repairs and Maintenance by Asset Class",3,{"$f":"C194+C197+C198+C201+C204+C205+SUM(C208:C214)+C217","v":0},{"$f":"D194+D197+D198+D201+D204+D205+SUM(D208:D214)+D217","v":0},0,624615208,430115208,430115208,499034026,549576626,588471171]
["Roads Infrastructure",null,{"$f":"SA34c!C7","v":0},{"$f":"SA34c!D7","v":0},{"$f":"SA34c!E7","v":0},{"$f":"SA34c!F7","v":155466888},{"$f":"SA34c!G7","v":82866888},{"$f":"SA34c!H7","v":82866888},{"$f":"SA34c!I7","v":44920923},{"$f":"SA34c!J7","v":60212791},{"$f":"SA34c!K7","v":65348317}]
["Storm water Infrastructure",null,{"$f":"SA34c!C12","v":0},{"$f":"SA34c!D12","v":0},{"$f":"SA34c!E12","v":0},{"$f":"SA34c!F12","v":0},{"$f":"SA34c!G12","v":0},{"$f":"SA34c!H12","v":0},{"$f":"SA34c!I12","v":0},{"$f":"SA34c!J12","v":0},{"$f":"SA34c!K12","v":0}]
["Electrical Infrastructure",null,{"$f":"SA34c!C16","v":0},{"$f":"SA34c!D16","v":0},{"$f":"SA34c!E16","v":0},{"$f":"SA34c!F16","v":27650000},{"$f":"SA34c!G16","v":23400000},{"$f":"SA34c!H16","v":23400000},{"$f":"SA34c!I16","v":20665400},{"$f":"SA34c!J16","v":27154336},{"$f":"SA34c!K16","v":29598225}]
["Water Supply Infrastructure",null,{"$f":"SA34c!C26","v":0},{"$f":"SA34c!D26","v":0},{"$f":"SA34c!E26","v":0},{"$f":"SA34c!F26","v":25675000},{"$f":"SA34c!G26","v":23725000},{"$f":"SA34c!H26","v":23725000},{"$f":"SA34c!I26","v":38080000},{"$f":"SA34c!J26","v":41888000},{"$f":"SA34c!K26","v":46076800}]
["Sanitation Infrastructure",null,{"$f":"SA34c!C37","v":0},{"$f":"SA34c!D37","v":0},{"$f":"SA34c!E37","v":0},{"$f":"SA34c!F37","v":311175869},{"$f":"SA34c!G37","v":209475869},{"$f":"SA34c!H37","v":209475869},{"$f":"SA34c!I37","v":311581697},{"$f":"SA34c!J37","v":330916599},{"$f":"SA34c!K37","v":351475595}]
["Solid Waste Infrastructure",null,{"$f":"SA34c!C44","v":0},{"$f":"SA34c!D44","v":0},{"$f":"SA34c!E44","v":0},{"$f":"SA34c!F44","v":255000},{"$f":"SA34c!G44","v":1605000},{"$f":"SA34c!H44","v":1605000},{"$f":"SA34c!I44","v":4133000},{"$f":"SA34c!J44","v":4504272},{"$f":"SA34c!K44","v":4749800}]
["Rail Infrastructure",null,{"$f":"SA34c!C52","v":0},{"$f":"SA34c!D52","v":0},{"$f":"SA34c!E52","v":0},{"$f":"SA34c!F52","v":255000},{"$f":"SA34c!G52","v":255000},{"$f":"SA34c!H52","v":255000},{"$f":"SA34c!I52","v":3470000},{"$f":"SA34c!J52","v":3633090},{"$f":"SA34c!K52","v":3800212}]
["Coastal Infrastructure",null,{"$f":"SA34c!C62","v":0},{"$f":"SA34c!D62","v":0},{"$f":"SA34c!E62","v":0},{"$f":"SA34c!F62","v":0},{"$f":"SA34c!G62","v":0},{"$f":"SA34c!H62","v":0},{"$f":"SA34c!I62","v":0},{"$f":"SA34c!J62","v":0},{"$f":"SA34c!K62","v":0}]
["Information and Communication Infrastructure",null,{"$f":"SA34c!C68","v":0},{"$f":"SA34c!D68","v":0},{"$f":"SA34c!E68","v":0},{"$f":"SA34c!F68","v":0},{"$f":"SA34c!G68","v":0},{"$f":"SA34c!H68","v":0},{"$f":"SA34c!I68","v":0},{"$f":"SA34c!J68","v":0},{"$f":"SA34c!K68","v":0}]
["Infrastructure",null,{"$f":"SUM(C185:C193)","v":0},{"$f":"SUM(D185:D193)","v":0},0,520477757,341327757,341327757,422851020,468309088,501048949]
["Community Facilities",null,{"$f":"SA34c!C75","v":0},{"$f":"SA34c!D75","v":0},{"$f":"SA34c!E75","v":0},{"$f":"SA34c!F75","v":29291668},{"$f":"SA34c!G75","v":22612668},{"$f":"SA34c!H75","v":22612668},{"$f":"SA34c!I75","v":9243918},{"$f":"SA34c!J75","v":9696136},{"$f":"SA34c!K75","v":10162048}]
["Sport and Recreation Facilities",null,{"$f":"SA34c!C98","v":0},{"$f":"SA34c!D98","v":0},{"$f":"SA34c!E98","v":0},{"$f":"SA34c!F98","v":1258000},{"$f":"SA34c!G98","v":1207000},{"$f":"SA34c!H98","v":1207000},{"$f":"SA34c!I98","v":1426000},{"$f":"SA34c!J98","v":1493023},{"$f":"SA34c!K98","v":1561700}]
["Community Assets",null,{"$f":"SUM(C195:C196)","v":0},0,0,30549668,23819668,23819668,10669918,11189159,11723748]
["Heritage Assets",null,{"$f":"SA34c!C103","v":0},{"$f":"SA34c!D103","v":0},{"$f":"SA34c!E103","v":0},{"$f":"SA34c!F103","v":0},{"$f":"SA34c!G103","v":0},{"$f":"SA34c!H103","v":0},{"$f":"SA34c!I103","v":0},{"$f":"SA34c!J103","v":0},{"$f":"SA34c!K103","v":0}]
["Revenue Generating",null,{"$f":"SA34c!C111","v":0},{"$f":"SA34c!D111","v":0},{"$f":"SA34c!E111","v":0},{"$f":"SA34c!F111","v":0},{"$f":"SA34c!G111","v":0},{"$f":"SA34c!H111","v":0},{"$f":"SA34c!I111","v":0},{"$f":"SA34c!J111","v":0},{"$f":"SA34c!K111","v":0}]
["Non-revenue Generating",null,{"$f":"SA34c!C114","v":0},{"$f":"SA34c!D114","v":0},{"$f":"SA34c!E114","v":0},{"$f":"SA34c!F114","v":0},{"$f":"SA34c!G114","v":0},{"$f":"SA34c!H114","v":0},{"$f":"SA34c!I114","v":0},{"$f":"SA34c!J114","v":0},{"$f":"SA34c!K114","v":0}]
["Investment properties",null,{"$f":"SUM(C199:C200)","v":0},0,0,0,0,0,0,0,0]
["Operational Buildings",null,{"$f":"SA34c!C119","v":0},{"$f":"SA34c!D119","v":0},{"$f":"SA34c!E119","v":0},{"$f":"SA34c!F119","v":33772925},{"$f":"SA34c!G119","v":12685630},{"$f":"SA34c!H119","v":12685630},{"$f":"SA34c!I119","v":17949509},{"$f":"SA34c!J119","v":18287186},{"$f":"SA34c!K119","v":19599412}]
["Housing",null,{"$f":"SA34c!C131","v":0},{"$f":"SA34c!D131","v":0},{"$f":"SA34c!E131","v":0},{"$f":"SA34c!F131","v":4036300},{"$f":"SA34c!G131","v":23354345},{"$f":"SA34c!H131","v":23354345},{"$f":"SA34c!I131","v":450000},{"$f":"SA34c!J131","v":477000},{"$f":"SA34c!K131","v":505620}]
["Other Assets",null,{"$f":"SUM(C202:C203)","v":0},0,0,37809225,36039975,36039975,18399509,18764186,20105032]
["Biological or Cultivated Assets",null,{"$f":"SA34c!C136","v":0},{"$f":"SA34c!D136","v":0},{"$f":"SA34c!E136","v":0},{"$f":"SA34c!F136","v":0},{"$f":"SA34c!G136","v":0},{"$f":"SA34c!H136","v":0},{"$f":"SA34c!I136","v":0},{"$f":"SA34c!J136","v":0},{"$f":"SA34c!K136","v":0}]
["Servitudes",null,{"$f":"SA34c!C140","v":0},{"$f":"SA34c!D140","v":0},{"$f":"SA34c!E140","v":0},{"$f":"SA34c!F140","v":0},{"$f":"SA34c!G140","v":0},{"$f":"SA34c!H140","v":0},{"$f":"SA34c!I140","v":0},{"$f":"SA34c!J140","v":0},{"$f":"SA34c!K140","v":0}]
["Licences and Rights",null,{"$f":"SA34c!C141","v":0},{"$f":"SA34c!D141","v":0},{"$f":"SA34c!E141","v":0},{"$f":"SA34c!F141","v":0},{"$f":"SA34c!G141","v":140000},{"$f":"SA34c!H141","v":140000},{"$f":"SA34c!I141","v":148400},{"$f":"SA34c!J141","v":157304},{"$f":"SA34c!K141","v":166742}]
["Intangible Assets",null,{"$f":"SUM(C206:C207)","v":0},0,0,0,140000,140000,148400,157304,166742]
["Computer Equipment",null,{"$f":"SA34c!C149","v":0},{"$f":"SA34c!D149","v":0},{"$f":"SA34c!E149","v":0},{"$f":"SA34c!F149","v":0},{"$f":"SA34c!G149","v":0},{"$f":"SA34c!H149","v":0},{"$f":"SA34c!I149","v":0},{"$f":"SA34c!J149","v":0},{"$f":"SA34c!K149","v":0}]
["Furniture and Office Equipment",null,{"$f":"SA34c!C152","v":0},{"$f":"SA34c!D152","v":0},{"$f":"SA34c!E152","v":0},{"$f":"SA34c!F152","v":0},{"$f":"SA34c!G152","v":0},{"$f":"SA34c!H152","v":0},{"$f":"SA34c!I152","v":0},{"$f":"SA34c!J152","v":0},{"$f":"SA34c!K152","v":0}]
["Machinery and Equipment",null,{"$f":"SA34c!C155","v":0},{"$f":"SA34c!D155","v":0},{"$f":"SA34c!E155","v":0},{"$f":"SA34c!F155","v":14367077},{"$f":"SA34c!G155","v":10380077},{"$f":"SA34c!H155","v":10380077},{"$f":"SA34c!I155","v":14539541},{"$f":"SA34c!J155","v":16230549},{"$f":"SA34c!K155","v":17417562}]
["Transport Assets",null,{"$f":"SA34c!C158","v":0},{"$f":"SA34c!D158","v":0},{"$f":"SA34c!E158","v":0},{"$f":"SA34c!F158","v":21411481},{"$f":"SA34c!G158","v":18407731},{"$f":"SA34c!H158","v":18407731},{"$f":"SA34c!I158","v":32425638},{"$f":"SA34c!J158","v":34926340},{"$f":"SA34c!K158","v":38009138}]
["Land",null,{"$f":"SA34c!C161","v":0},{"$f":"SA34c!D161","v":0},{"$f":"SA34c!E161","v":0},{"$f":"SA34c!F161","v":0},{"$f":"SA34c!G161","v":0},{"$f":"SA34c!H161","v":0},{"$f":"SA34c!I161","v":0},{"$f":"SA34c!J161","v":0},{"$f":"SA34c!K161","v":0}]
["Zoo's, Marine and Non-biological Animals",null,{"$f":"SA34c!C164","v":0},{"$f":"SA34c!D164","v":0},{"$f":"SA34c!E164","v":0},{"$f":"SA34c!F164","v":0},{"$f":"SA34c!G164","v":0},{"$f":"SA34c!H164","v":0},{"$f":"SA34c!I164","v":0},{"$f":"SA34c!J164","v":0},{"$f":"SA34c!K164","v":0}]
["Mature"," ",{"$f":"SA34c!C168","v":0},{"$f":"SA34c!D168","v":0},{"$f":"SA34c!E168","v":0},{"$f":"SA34c!F168","v":0},{"$f":"SA34c!G168","v":0},{"$f":"SA34c!H168","v":0},{"$f":"SA34c!I168","v":0},{"$f":"SA34c!J168","v":0},{"$f":"SA34c!K168","v":0}]
["Immature"," ",{"$f":"SA34c!C171","v":0},{"$f":"SA34c!D171","v":0},{"$f":"SA34c!E171","v":0},{"$f":"SA34c!F171","v":0},{"$f":"SA34c!G171","v":0},{"$f":"SA34c!H171","v":0},{"$f":"SA34c!I171","v":0},{"$f":"SA34c!J171","v":0},{"$f":"SA34c!K171","v":0}]
["Living Resources","",{"$f":"SUM(C215:C216)","v":0},0,0,0,0,0,0,0,0]
[]
["TOTAL EXPENDITURE OTHER ITEMS",null,{"$f":"SUM(C183:C184)","v":365699316},{"$f":"SUM(D183:D184)","v":337452387},359059555,986793953,792293953,792293953,889294376,936319155,870997925]
[]
["Renewal and upgrading of Existing Assets as % of total capex",null,{"$f":"IF(ISERROR((C40+C75)/C144),0,((C40+C75)/C144))","v":0},{"$f":"IF(ISERROR((D40+D75)/D144),0,((D40+D75)/D144))","v":0},1.2852529257408738E-2,0.14153522611678765,0.29943211373023254,0.32082412485804851,0.4086060123910456,0.5511054882414812,0.3494595818786439]
["Renewal and upgrading of Existing Assets as % of deprecn",null,{"$f":"IF(ISERROR((C40+C75)/C183),0,((C40+C75)/C183))","v":0},{"$f":"IF(ISERROR((D40+D75)/D183),0,((D40+D75)/D183))","v":0},3.324519800064922E-2,0.35003789910421163,0.67018462389337619,0.74068078180567998,0.67039021514740094,0.7598247877207216,0.6262052973574318]
["R&M as a % of PPE & Investment Property",null,{"$f":"IF(ISERROR((C184-C198-C205-C208-C217)/(C180-C160-C170-C179-C167)),0,((C184-C198-C205-C208-C217)/(C180-C160-C170-C179-C167)))","v":0},{"$f":"IF(ISERROR((D184-D198-D205-D208-D217)/(D180-D160-D170-D179-D167)),0,((D184-D198-D205-D208-D217)/(D180-D160-D170-D179-D167)))","v":0},0,6.946526726160665E-2,4.7700309416866933E-2,4.7700309416866933E-2,6.7640953480343199E-2,7.1352426625401519E-2,7.2865115276002104E-2]
["Renewal and upgrading and R&M as a % of PPE and Investment Property",null,{"$f":"IF(ISERROR((C40+C75+C184-C198-C205-C208-C217)/(C180-C160-C170-C179-C167)),0,((C40+C75+C184-C198-C205-C208-C217)/(C180-C160-C170-C179-C167)))","v":0},{"$f":"IF(ISERROR((D40+D75+D184-D198-D205-D208-D217)/(D180-D160-D170-D179-D167)),0,((D40+D75+D184-D198-D205-D208-D217)/(D180-D160-D170-D179-D167)))","v":0},1.6233101826816144E-3,8.3564425505107412E-2,7.462775767084194E-2,7.7460233344872953E-2,0.10311337416045872,0.10951522468548304,9.4777712466990571E-2]
[]
[{"$f":"head27a","v":"References"}]
["1. Detail of new assets provided in Table SA34a"]
["2. Detail of renewal of existing assets provided in Table SA34b"]
["3. Detail of Repairs and Maintenance by Asset Class provided in Table SA34c"]
["4. Must reconcile to total capital expenditure on Budgeted Capital Expenditure"]
["5. Must reconcile to 'Budgeted Financial Position' (written down value)"]
["6. Detail of upgrading of existing assets provided in Table SA34e"]
["7. Detail of depreciation provided in Table SA34d"]
[null,null,7.1428571428571425E-2]

{"sheet":"A10-SerDel","index":20,"n_rows":89,"n_cols":11,"rows_kept":89,"cut":false,"hidden":false,"merged":[[1,5,1,7],[1,8,1,10],[1,0,2,0],[1,1,2,1]]}
[{"$f":"muni&\" - \"&Approve10","v":"Choose name from list - Table A10 Basic service delivery measurement"}]
[{"$f":"desc","v":"Description"},{"$f":"head27","v":"Ref"},{"$f":"head1b","v":"2021/22"},{"$f":"head1A","v":"2022/23"},{"$f":"Head1","v":"2023/24"},{"$f":"Head2","v":"Current Year 2024/25"},null,null,{"$f":"Head3","v":"2025/26 Medium Term Revenue & Expenditure Framework"}]
[null,null,{"$f":"Head5A","v":"Outcome"},{"$f":"Head5A","v":"Outcome"},{"$f":"Head5A","v":"Outcome"},{"$f":"Head6","v":"Original Budget"},{"$f":"Head7","v":"Adjusted Budget"},{"$f":"Head8","v":"Full Year Forecast"},{"$f":"Head9","v":"Budget Year 2025/26"},{"$f":"Head10","v":"Budget Year +1 2026/27"},{"$f":"Head11","v":"Budget Year +2 2027/28"}]
["Household service targets",1]
["Water:"]
["Piped water inside dwelling",null,{"$f":"'SA9'!E67","v":84782.196000000011},{"$f":"'SA9'!F67","v":84782.196000000011},{"$f":"'SA9'!G67","v":84782.196000000011},{"$f":"'SA9'!H67","v":84782.196000000011},{"$f":"'SA9'!I67","v":84782.196000000011},{"$f":"'SA9'!J67","v":88597.394820000001},{"$f":"'SA9'!K67","v":92584.277586899989},{"$f":"'SA9'!L67","v":96750.570078310484},{"$f":"'SA9'!M67","v":101104.34573183444}]
["Piped water inside yard (but not in dwelling)",null,{"$f":"'SA9'!E68","v":67480.5196},{"$f":"'SA9'!F68","v":67480.5196},{"$f":"'SA9'!G68","v":67480.5196},{"$f":"'SA9'!H68","v":67480.5196},{"$f":"'SA9'!I68","v":67480.5196},{"$f":"'SA9'!J68","v":70517.14298199999},{"$f":"'SA9'!K68","v":73690.414416189989},{"$f":"'SA9'!L68","v":77006.483064918531},{"$f":"'SA9'!M68","v":80471.774802839864}]
["Using public tap (at least min.service level)",2,{"$f":"'SA9'!E69","v":6654.3984},{"$f":"'SA9'!F69","v":6654.3984},{"$f":"'SA9'!G69","v":6654.3984},{"$f":"'SA9'!H69","v":6654.3984},{"$f":"'SA9'!I69","v":6654.3984},{"$f":"'SA9'!J69","v":6953.8463279999996},{"$f":"'SA9'!K69","v":7266.7694127599989},{"$f":"'SA9'!L69","v":7593.7740363341982},{"$f":"'SA9'!M69","v":7935.4938679692368}]
["Other water supply (at least min.service level)",4,{"$f":"'SA9'!E70","v":3196.1088},{"$f":"'SA9'!F70","v":3196.1088},{"$f":"'SA9'!G70","v":3196.1088},{"$f":"'SA9'!H70","v":3196.1088},{"$f":"'SA9'!I70","v":3196.1088},{"$f":"'SA9'!J70","v":3339.9336959999996},{"$f":"'SA9'!K70","v":3490.2307123199994},{"$f":"'SA9'!L70","v":3647.2910943743991},{"$f":"'SA9'!M70","v":3811.4191936212469}]
["Minimum Service Level and Above sub-total",null,{"$f":"SUM(C6:C9)","v":162113.22279999999},{"$f":"SUM(D6:D9)","v":162113.22279999999},162113.22279999999,162113.22279999999,162113.22279999999,169408.31782600001,177031.69212816999,184998.11827393761,193323.03359626481]
["Using public tap (< min.service level)",3,{"$f":"'SA9'!E72","v":6654.3984},{"$f":"'SA9'!F72","v":6654.3984},{"$f":"'SA9'!G72","v":6654.3984},{"$f":"'SA9'!H72","v":6654.3984},{"$f":"'SA9'!I72","v":6654.3984},{"$f":"'SA9'!J72","v":6953.8463279999996},{"$f":"'SA9'!K72","v":7266.7694127599989},{"$f":"'SA9'!L72","v":7593.7740363341982},{"$f":"'SA9'!M72","v":7935.4938679692368}]
["Other water supply (< min.service level)",{"$f":"B9","v":4},{"$f":"'SA9'!E73","v":1850.6959999999999},{"$f":"'SA9'!F73","v":1850.6959999999999},{"$f":"'SA9'!G73","v":1850.6959999999999},{"$f":"'SA9'!H73","v":1850.6959999999999},{"$f":"'SA9'!I73","v":1850.6959999999999},{"$f":"'SA9'!J73","v":1933.9773199999997},{"$f":"'SA9'!K73","v":2021.0062993999995},{"$f":"'SA9'!L73","v":2111.9515828729996},{"$f":"'SA9'!M73","v":2206.9894041022844}]
["No water supply",null,{"$f":"'SA9'!E74","v":0},{"$f":"'SA9'!F74","v":0},{"$f":"'SA9'!G74","v":0},{"$f":"'SA9'!H74","v":0},{"$f":"'SA9'!I74","v":0},{"$f":"'SA9'!J74","v":0},{"$f":"'SA9'!K74","v":0},{"$f":"'SA9'!L74","v":0},{"$f":"'SA9'!M74","v":0}]
["Below Minimum Service Level sub-total",null,{"$f":"SUM(C11:C13)","v":8505.0944},{"$f":"SUM(D11:D13)","v":8505.0944},8505.0944,8505.0944,8505.0944,8887.8236479999996,9287.7757121599989,9705.7256192071982,10142.48327207152]
["Total number of households",5,{"$f":"C10+C14","v":170618.31719999999},{"$f":"D10+D14","v":170618.31719999999},170618.31719999999,170618.31719999999,170618.31719999999,178296.141474,186319.46784032998,194703.8438931448,203465.51686833633]
["Sanitation/sewerage:"]
["Flush toilet (connected to sewerage)",null,{"$f":"'SA9'!E78","v":91589.0196},{"$f":"'SA9'!F78","v":91589.0196},{"$f":"'SA9'!G78","v":91589.0196},{"$f":"'SA9'!H78","v":91589.0196},{"$f":"'SA9'!I78","v":91589.0196},{"$f":"'SA9'!J78","v":95710.525481999997},{"$f":"'SA9'!K78","v":100017.49912868999},{"$f":"'SA9'!L78","v":104518.28658948104},{"$f":"'SA9'!M78","v":109221.60948600768}]
["Flush toilet (with septic tank)",null,{"$f":"'SA9'!E79","v":8655.0876000000007},{"$f":"'SA9'!F79","v":8655.0876000000007},{"$f":"'SA9'!G79","v":8655.0876000000007},{"$f":"'SA9'!H79","v":8655.0876000000007},{"$f":"'SA9'!I79","v":8655.0876000000007},{"$f":"'SA9'!J79","v":9044.5665420000005},{"$f":"'SA9'!K79","v":9451.57203639},{"$f":"'SA9'!L79","v":9876.8927780275499},{"$f":"'SA9'!M79","v":10321.35295303879}]
["Chemical toilet",null,{"$f":"'SA9'!E80","v":7361.8704000000007},{"$f":"'SA9'!F80","v":7361.8704000000007},{"$f":"'SA9'!G80","v":7361.8704000000007},{"$f":"'SA9'!H80","v":7361.8704000000007},{"$f":"'SA9'!I80","v":7361.8704000000007},{"$f":"'SA9'!J80","v":7693.1545679999999},{"$f":"'SA9'!K80","v":8039.3465235599997},{"$f":"'SA9'!L80","v":8401.1171171201986},{"$f":"'SA9'!M80","v":8779.1673873906075}]
["Pit toilet (ventilated)",null,{"$f":"'SA9'!E81","v":61827.8508},{"$f":"'SA9'!F81","v":61827.8508},{"$f":"'SA9'!G81","v":61827.8508},{"$f":"'SA9'!H81","v":61827.8508},{"$f":"'SA9'!I81","v":61827.8508},{"$f":"'SA9'!J81","v":64610.104085999999},{"$f":"'SA9'!K81","v":67517.558769869996},{"$f":"'SA9'!L81","v":70555.848914514136},{"$f":"'SA9'!M81","v":73730.86211566726}]
["Other toilet provisions (> min.service level)",null,{"$f":"'SA9'!E82","v":0},{"$f":"'SA9'!F82","v":0},{"$f":"'SA9'!G82","v":0},{"$f":"'SA9'!H82","v":0},{"$f":"'SA9'!I82","v":0},{"$f":"'SA9'!J82","v":0},{"$f":"'SA9'!K82","v":0},{"$f":"'SA9'!L82","v":0},{"$f":"'SA9'!M82","v":0}]
[{"$f":"$A$10","v":"Minimum Service Level and Above sub-total"},null,{"$f":"SUM(C17:C21)","v":169433.8284},{"$f":"SUM(D17:D21)","v":169433.8284},169433.8284,169433.8284,169433.8284,177058.35067799999,185025.97645850998,193352.14539914293,202052.99194210436]
["Bucket toilet",null,{"$f":"'SA9'!E84","v":0},{"$f":"'SA9'!F84","v":0},{"$f":"'SA9'!G84","v":0},{"$f":"'SA9'!H84","v":0},{"$f":"'SA9'!I84","v":0},{"$f":"'SA9'!J84","v":0},{"$f":"'SA9'!K84","v":0},{"$f":"'SA9'!L84","v":0},{"$f":"'SA9'!M84","v":0}]
["Other toilet provisions (< min.service level)",null,{"$f":"'SA9'!E85","v":1184.4888000000001},{"$f":"'SA9'!F85","v":1184.4888000000001},{"$f":"'SA9'!G85","v":1231.8683520000002},{"$f":"'SA9'!H85","v":1184.4888000000001},{"$f":"'SA9'!I85","v":1184.4888000000001},{"$f":"'SA9'!J85","v":1237.790796},{"$f":"'SA9'!K85","v":1293.49138182},{"$f":"'SA9'!L85","v":1351.6984940018999},{"$f":"'SA9'!M85","v":1412.5249262319853}]
["No toilet provisions",null,{"$f":"'SA9'!E86","v":0},{"$f":"'SA9'!F86","v":0},{"$f":"'SA9'!G86","v":0},{"$f":"'SA9'!H86","v":0},{"$f":"'SA9'!I86","v":0},{"$f":"'SA9'!J86","v":0},{"$f":"'SA9'!K86","v":0},{"$f":"'SA9'!L86","v":0},{"$f":"'SA9'!M86","v":0}]
[{"$f":"$A$14","v":"Below Minimum Service Level sub-total"},null,{"$f":"SUM(C23:C25)","v":1184.4888000000001},{"$f":"SUM(D23:D25)","v":1184.4888000000001},1231.8683520000002,1184.4888000000001,1184.4888000000001,1237.790796,1293.49138182,1351.6984940018999,1412.5249262319853]
[{"$f":"$A$15","v":"Total number of households"},{"$f":"$B$15","v":5},{"$f":"C22+C26","v":170618.31719999999},{"$f":"D22+D26","v":170618.31719999999},170665.69675199999,170618.31719999999,170618.31719999999,178296.14147399997,186319.46784032998,194703.84389314483,203465.51686833636]
["Energy:"]
["Electricity (at least min.service level)",null,{"$f":"'SA9'!E90","v":135271.4032},{"$f":"'SA9'!F90","v":135271.4032},{"$f":"'SA9'!G90","v":135271.4032},{"$f":"'SA9'!H90","v":135271.4032},{"$f":"'SA9'!I90","v":135271.4032},{"$f":"'SA9'!J90","v":141358.61634399998},{"$f":"'SA9'!K90","v":147719.75407947996},{"$f":"'SA9'!L90","v":154367.14301305654},{"$f":"'SA9'!M90","v":161313.66444864406}]
["Electricity - prepaid (min.service level)",null,{"$f":"'SA9'!E91","v":27346.914000000001},{"$f":"'SA9'!F91","v":27346.914000000001},{"$f":"'SA9'!G91","v":27346.914000000001},{"$f":"'SA9'!H91","v":27346.914000000001},{"$f":"'SA9'!I91","v":27346.914000000001},{"$f":"'SA9'!J91","v":28577.525129999998},{"$f":"'SA9'!K91","v":29863.513760849997},{"$f":"'SA9'!L91","v":31207.371880088245},{"$f":"'SA9'!M91","v":32611.703614692215}]
[{"$f":"$A$10","v":"Minimum Service Level and Above sub-total"},null,{"$f":"SUM(C29:C30)","v":162618.31719999999},{"$f":"SUM(D29:D30)","v":162618.31719999999},162618.31719999999,162618.31719999999,162618.31719999999,169936.14147399997,177583.26784032997,185574.51489314478,193925.36806333627]
["Electricity (< min.service level)",null,{"$f":"'SA9'!E93","v":0},{"$f":"'SA9'!F93","v":0},{"$f":"'SA9'!G93","v":0},{"$f":"'SA9'!H93","v":0},{"$f":"'SA9'!I93","v":0},{"$f":"'SA9'!J93","v":0},{"$f":"'SA9'!K93","v":0},{"$f":"'SA9'!L93","v":0},{"$f":"'SA9'!M93","v":0}]
["Electricity - prepaid (< min. service level)",null,{"$f":"'SA9'!E94","v":0},{"$f":"'SA9'!F94","v":0},{"$f":"'SA9'!G94","v":0},{"$f":"'SA9'!H94","v":0},{"$f":"'SA9'!I94","v":0},{"$f":"'SA9'!J94","v":0},{"$f":"'SA9'!K94","v":0},{"$f":"'SA9'!L94","v":0},{"$f":"'SA9'!M94","v":0}]
["Other energy sources",null,{"$f":"'SA9'!E95","v":8000},{"$f":"'SA9'!F95","v":8000},{"$f":"'SA9'!G95","v":8000},{"$f":"'SA9'!H95","v":8000},{"$f":"'SA9'!I95","v":8000},{"$f":"'SA9'!J95","v":8360},{"$f":"'SA9'!K95","v":8736.1999999999989},{"$f":"'SA9'!L95","v":9129.3289999999979},{"$f":"'SA9'!M95","v":9540.1488049999971}]
[{"$f":"$A$14","v":"Below Minimum Service Level sub-total"},null,{"$f":"SUM(C32:C34)","v":8000},{"$f":"SUM(D32:D34)","v":8000},8000,8000,8000,8360,8736.1999999999989,9129.3289999999979,9540.1488049999971]
[{"$f":"$A$15","v":"Total number of households"},{"$f":"$B$15","v":5},{"$f":"C31+C35","v":170618.31719999999},{"$f":"D31+D35","v":170618.31719999999},170618.31719999999,170618.31719999999,170618.31719999999,178296.14147399997,186319.46784032998,194703.84389314477,203465.51686833627]
["Refuse:"]
["Removed at least once a week",null,{"$f":"'SA9'!E99","v":129848},{"$f":"'SA9'!F99","v":129848},{"$f":"'SA9'!G99","v":135691.16},{"$f":"'SA9'!H99","v":129848},{"$f":"'SA9'!I99","v":129848},{"$f":"'SA9'!J99","v":135691.16},{"$f":"'SA9'!K99","v":141797.2622},{"$f":"'SA9'!L99","v":148178.13899899999},{"$f":"'SA9'!M99","v":154846.15525395499}]
[{"$f":"$A$10","v":"Minimum Service Level and Above sub-total"},null,{"$f":"SUM(C38)","v":129848},{"$f":"SUM(D38)","v":129848},135691.16,129848,129848,135691.16,141797.2622,148178.13899899999,154846.15525395499]
["Removed less frequently than once a week",null,{"$f":"'SA9'!E101","v":40770.317199999998},{"$f":"'SA9'!F101","v":40770.317199999998},{"$f":"'SA9'!G101","v":42401.129887999996},{"$f":"'SA9'!H101","v":40770.317199999998},{"$f":"'SA9'!I101","v":40770.317199999998},{"$f":"'SA9'!J101","v":42604.981473999993},{"$f":"'SA9'!K101","v":44522.205640329987},{"$f":"'SA9'!L101","v":46525.70489414483},{"$f":"'SA9'!M101","v":48619.361614381341}]
["Using communal refuse dump",null,{"$f":"'SA9'!E102","v":0},{"$f":"'SA9'!F102","v":0},{"$f":"'SA9'!G102","v":0},{"$f":"'SA9'!H102","v":0},{"$f":"'SA9'!I102","v":0},{"$f":"'SA9'!J102","v":0},{"$f":"'SA9'!K102","v":0},{"$f":"'SA9'!L102","v":0},{"$f":"'SA9'!M102","v":0}]
["Using own refuse dump",null,{"$f":"'SA9'!E103","v":0},{"$f":"'SA9'!F103","v":0},{"$f":"'SA9'!G103","v":0},{"$f":"'SA9'!H103","v":0},{"$f":"'SA9'!I103","v":0},{"$f":"'SA9'!J103","v":0},{"$f":"'SA9'!K103","v":0},{"$f":"'SA9'!L103","v":0},{"$f":"'SA9'!M103","v":0}]
["Other rubbish disposal",null,{"$f":"'SA9'!E104","v":0},{"$f":"'SA9'!F104","v":0},{"$f":"'SA9'!G104","v":0},{"$f":"'SA9'!H104","v":0},{"$f":"'SA9'!I104","v":0},{"$f":"'SA9'!J104","v":0},{"$f":"'SA9'!K104","v":0},{"$f":"'SA9'!L104","v":0},{"$f":"'SA9'!M104","v":0}]
["No rubbish disposal",null,{"$f":"'SA9'!E105","v":0},{"$f":"'SA9'!F105","v":0},{"$f":"'SA9'!G105","v":0},{"$f":"'SA9'!H105","v":0},{"$f":"'SA9'!I105","v":0},{"$f":"'SA9'!J105","v":0},{"$f":"'SA9'!K105","v":0},{"$f":"'SA9'!L105","v":0},{"$f":"'SA9'!M105","v":0}]
[{"$f":"$A$14","v":"Below Minimum Service Level sub-total"},null,{"$f":"SUM(C40:C44)","v":40770.317199999998},{"$f":"SUM(D40:D44)","v":40770.317199999998},42401.129887999996,40770.317199999998,40770.317199999998,42604.981473999993,44522.205640329987,46525.70489414483,48619.361614381341]
[{"$f":"$A$15","v":"Total number of households"},{"$f":"$B$15","v":5},{"$f":"C39+C45","v":170618.31719999999},{"$f":"D39+D45","v":170618.31719999999},178092.289888,170618.31719999999,170618.31719999999,178296.141474,186319.46784032998,194703.8438931448,203465.51686833633]
[]
["Households receiving Free Basic Service",7]
["Water (6 kilolitres per household per month)",null,{"$f":"'SA9'!E263","v":0},{"$f":"'SA9'!F263","v":0},{"$f":"'SA9'!G263","v":0},{"$f":"'SA9'!H263","v":0},{"$f":"'SA9'!I263","v":0},{"$f":"'SA9'!J263","v":0},{"$f":"'SA9'!K263","v":0},{"$f":"'SA9'!L263","v":0},{"$f":"'SA9'!M263","v":0}]
["Sanitation (free minimum level service)",null,{"$f":"'SA9'!E275","v":0},{"$f":"'SA9'!F275","v":0},{"$f":"'SA9'!G275","v":0},{"$f":"'SA9'!H275","v":0},{"$f":"'SA9'!I275","v":0},{"$f":"'SA9'!J275","v":0},{"$f":"'SA9'!K275","v":0},{"$f":"'SA9'!L275","v":0},{"$f":"'SA9'!M275","v":0}]
["Electricity/other energy (50kwh per household per month)",null,{"$f":"'SA9'!E251","v":0},{"$f":"'SA9'!F251","v":0},{"$f":"'SA9'!G251","v":0},{"$f":"'SA9'!H251","v":0},{"$f":"'SA9'!I251","v":0},{"$f":"'SA9'!J251","v":0},{"$f":"'SA9'!K251","v":0},{"$f":"'SA9'!L251","v":0},{"$f":"'SA9'!M251","v":0}]
["Refuse (removed at least once a week)",null,{"$f":"'SA9'!E287","v":0},{"$f":"'SA9'!F287","v":0},{"$f":"'SA9'!G287","v":0},{"$f":"'SA9'!H287","v":0},{"$f":"'SA9'!I287","v":0},{"$f":"'SA9'!J287","v":0},{"$f":"'SA9'!K287","v":0},{"$f":"'SA9'!L287","v":0},{"$f":"'SA9'!M287","v":0}]
["Informal Settlements",null,{"$f":"'SA9'!E253+'SA9'!E255+'SA9'!E257+'SA9'!E259+'SA9'!E265+'SA9'!E2267+'SA9'!E269+'SA9'!E271+'SA9'!E277+'SA9'!E279+'SA9'!E281+'SA9'!E283+'SA9'!E289+'SA9'!E291+'SA9'!E293+'SA9'!E295","v":0},{"$f":"'SA9'!F253+'SA9'!F255+'SA9'!F257+'SA9'!F259+'SA9'!F265+'SA9'!F2267+'SA9'!F269+'SA9'!F271+'SA9'!F277+'SA9'!F279+'SA9'!F281+'SA9'!F283+'SA9'!F289+'SA9'!F291+'SA9'!F293+'SA9'!F295","v":0},{"$f":"'SA9'!G253+'SA9'!G255+'SA9'!G257+'SA9'!G259+'SA9'!G265+'SA9'!G2267+'SA9'!G269+'SA9'!G271+'SA9'!G277+'SA9'!G279+'SA9'!G281+'SA9'!G283+'SA9'!G289+'SA9'!G291+'SA9'!G293+'SA9'!G295","v":0},{"$f":"'SA9'!H253+'SA9'!H255+'SA9'!H257+'SA9'!H259+'SA9'!H265+'SA9'!H2267+'SA9'!H269+'SA9'!H271+'SA9'!H277+'SA9'!H279+'SA9'!H281+'SA9'!H283+'SA9'!H289+'SA9'!H291+'SA9'!H293+'SA9'!H295","v":0},{"$f":"'SA9'!I253+'SA9'!I255+'SA9'!I257+'SA9'!I259+'SA9'!I265+'SA9'!I2267+'SA9'!I269+'SA9'!I271+'SA9'!I277+'SA9'!I279+'SA9'!I281+'SA9'!I283+'SA9'!I289+'SA9'!I291+'SA9'!I293+'SA9'!I295","v":0},{"$f":"'SA9'!J253+'SA9'!J255+'SA9'!J257+'SA9'!J259+'SA9'!J265+'SA9'!J2267+'SA9'!J269+'SA9'!J271+'SA9'!J277+'SA9'!J279+'SA9'!J281+'SA9'!J283+'SA9'!J289+'SA9'!J291+'SA9'!J293+'SA9'!J295","v":0},{"$f":"'SA9'!K253+'SA9'!K255+'SA9'!K257+'SA9'!K259+'SA9'!K265+'SA9'!K2267+'SA9'!K269+'SA9'!K271+'SA9'!K277+'SA9'!K279+'SA9'!K281+'SA9'!K283+'SA9'!K289+'SA9'!K291+'SA9'!K293+'SA9'!K295","v":0},{"$f":"'SA9'!L253+'SA9'!L255+'SA9'!L257+'SA9'!L259+'SA9'!L265+'SA9'!L2267+'SA9'!L269+'SA9'!L271+'SA9'!L277+'SA9'!L279+'SA9'!L281+'SA9'!L283+'SA9'!L289+'SA9'!L291+'SA9'!L293+'SA9'!L295","v":0},{"$f":"'SA9'!M253+'SA9'!M255+'SA9'!M257+'SA9'!M259+'SA9'!M265+'SA9'!M2267+'SA9'!M269+'SA9'!M271+'SA9'!M277+'SA9'!M279+'SA9'!M281+'SA9'!M283+'SA9'!M289+'SA9'!M291+'SA9'!M293+'SA9'!M295","v":0}]
["Cost of Free Basic Services provided - Formal Settlements (R'000)"]
["Water (6 kilolitres per indigent household per month)",null,{"$f":"'SA1'!C22","v":0},{"$f":"'SA1'!D22","v":0},{"$f":"'SA1'!E22","v":0},{"$f":"'SA1'!F22","v":249303079},{"$f":"'SA1'!G22","v":249303079},{"$f":"'SA1'!H22","v":249303079},{"$f":"'SA1'!J22","v":286698541},{"$f":"'SA1'!K22","v":300746769},{"$f":"'SA1'!L22","v":315483361}]
["Sanitation (free sanitation service to indigent households)",null,{"$f":"'SA1'!C28","v":0},{"$f":"'SA1'!D28","v":0},{"$f":"'SA1'!E28","v":0},{"$f":"'SA1'!F28","v":18772154},{"$f":"'SA1'!G28","v":0},{"$f":"'SA1'!H28","v":0},{"$f":"'SA1'!J28","v":0},{"$f":"'SA1'!K28","v":0},{"$f":"'SA1'!L28","v":0}]
["Electricity/other energy (50kwh per indigent household per month)",null,{"$f":"'SA1'!C16","v":0},{"$f":"'SA1'!D16","v":0},{"$f":"'SA1'!E16","v":0},{"$f":"'SA1'!F16","v":5465088},{"$f":"'SA1'!G16","v":5465088},{"$f":"'SA1'!H16","v":0},{"$f":"'SA1'!J16","v":6083736},{"$f":"'SA1'!K16","v":6381839},{"$f":"'SA1'!L16","v":6694549}]
["Refuse (removed once a week for indigent households)",null,{"$f":"'SA1'!C35","v":0},{"$f":"'SA1'!D35","v":0},{"$f":"'SA1'!E35","v":0},{"$f":"'SA1'!F35","v":8847019},{"$f":"'SA1'!G35","v":0},{"$f":"'SA1'!H35","v":0},{"$f":"'SA1'!J35","v":9466311},{"$f":"'SA1'!K35","v":9930160},{"$f":"'SA1'!L35","v":10416738}]
["Cost of Free Basic Services provided - Informal Formal Settlements (R'000)",null,{"$f":"'SA9'!E260+'SA9'!E272+'SA9'!E284+'SA9'!E296","v":0},{"$f":"'SA9'!F260+'SA9'!F272+'SA9'!F284+'SA9'!F296","v":0},{"$f":"'SA9'!G260+'SA9'!G272+'SA9'!G284+'SA9'!G296","v":0},{"$f":"'SA9'!H260+'SA9'!H272+'SA9'!H284+'SA9'!H296","v":0},{"$f":"'SA9'!I260+'SA9'!I272+'SA9'!I284+'SA9'!I296","v":0},{"$f":"'SA9'!J260+'SA9'!J272+'SA9'!J284+'SA9'!J296","v":0},{"$f":"'SA9'!K260+'SA9'!K272+'SA9'!K284+'SA9'!K296","v":0},{"$f":"'SA9'!L260+'SA9'!L272+'SA9'!L284+'SA9'!L296","v":0},{"$f":"'SA9'!M260+'SA9'!M272+'SA9'!M284+'SA9'!M296","v":0}]
["Total cost of FBS provided  ",8,{"$f":"SUM(C55:C59)","v":0},{"$f":"SUM(D55:D59)","v":0},0,282387340,254768167,249303079,302248588,317058768,332594648]
[]
["Highest level of free service provided per household",null,93094880,93094880,null,235947557,235947557,235947557]
["Property rates (R value threshold)",null,6,6,null,6,6,6]
["Water (kilolitres per household per month)"]
["Sanitation (kilolitres per household per month)",null,null,null,null,4951276,4951276,4951276]
["Sanitation (Rand per household per month)"]
["Electricity (kwh per household per month)"]
["Refuse (average litres per week)"]
["Revenue  cost of subsidised services provided (R'000)",9]
["Property rates (tariff adjustment) ( impermissable values per section 17 of MPRA)"]
["Property rates  exemptions, reductions and rebates and impermissable values in excess of section 17 of MPRA)",null,{"$f":"'SA1'!C9","v":0},{"$f":"'SA1'!D9","v":0},{"$f":"'SA1'!E9","v":0},{"$f":"'SA1'!F9","v":120843621},{"$f":"'SA1'!G9","v":120843621},{"$f":"'SA1'!H9","v":120843621},{"$f":"'SA1'!J9","v":258774813},{"$f":"'SA1'!K9","v":270419679},{"$f":"'SA1'!L9","v":277180171}]
["Water (in excess of 6 kilolitres per indigent household per month)",null,{"$f":"'SA1'!C21","v":0},{"$f":"'SA1'!D21","v":0},{"$f":"'SA1'!E21","v":0},{"$f":"'SA1'!F21","v":0},{"$f":"'SA1'!G21","v":0},{"$f":"'SA1'!H21","v":0},{"$f":"'SA1'!J21","v":0},{"$f":"'SA1'!K21","v":0},{"$f":"'SA1'!L21","v":0}]
["Sanitation (in excess of free sanitation service to indigent households)",null,{"$f":"'SA1'!C27","v":0},{"$f":"'SA1'!D27","v":0},{"$f":"'SA1'!E27","v":0},{"$f":"'SA1'!F27","v":0},{"$f":"'SA1'!G27","v":0},{"$f":"'SA1'!H27","v":0},{"$f":"'SA1'!J27","v":0},{"$f":"'SA1'!K27","v":0},{"$f":"'SA1'!L27","v":0}]
["Electricity/other energy (in excess of 50 kwh per indigent household per month)",null,{"$f":"'SA1'!C15","v":0},{"$f":"'SA1'!D15","v":0},{"$f":"'SA1'!E15","v":0},{"$f":"'SA1'!F15","v":0},{"$f":"'SA1'!G15","v":0},{"$f":"'SA1'!H15","v":0},{"$f":"'SA1'!J15","v":0},{"$f":"'SA1'!K15","v":0},{"$f":"'SA1'!L15","v":0}]
["Refuse (in excess of one removal a week for indigent households)",null,{"$f":"'SA1'!C34","v":0},{"$f":"'SA1'!D34","v":0},{"$f":"'SA1'!E34","v":0},{"$f":"'SA1'!F34","v":0},{"$f":"'SA1'!G34","v":0},{"$f":"'SA1'!H34","v":0},{"$f":"'SA1'!J34","v":0},{"$f":"'SA1'!K34","v":0},{"$f":"'SA1'!L34","v":0}]
["Municipal Housing - rental rebates",null,null,null,null,null,null,22610]
["Housing - top structure subsidies",6]
["Other"]
["Total revenue cost of subsidised services provided ",null,{"$f":"SUM(C70:C78)","v":0},{"$f":"SUM(D70:D78)","v":0},0,120843621,120843621,120866231,258774813,{"$f":"SUM(J70:J78)","v":270419679},{"$f":"SUM(K70:K78)","v":277180171}]
[{"$f":"head27a","v":"References"}]
["1. Include services provided by another entity; e.g. Eskom"]
["2. Stand distance <= 200m from dwelling"]
["3. Stand distance > 200m from dwelling"]
["4. Borehole, spring, rain-water tank etc."]
["5. Must agree to total number of households in municipal area (informal settlements receiving services must be included)"]
["6. Include value of subsidy provided by municipality above provincial subsidy level"]
["7. Show number of households receiving at least these levels of services completely free (informal settlements must be included)"]
["8. Must reflect the cost to the municipality of providing the Free Basic Service"]
["9. Reflect the cost of free or subsidised services in excess to the National policy that are not funded from the Free Basic Services component of the Equitable Share"]

{"sheet":"SA1","index":21,"n_rows":181,"n_cols":17,"rows_kept":181,"cut":false,"hidden":false,"merged":[[1,9,1,11],[1,5,1,8],[1,0,2,0],[1,1,2,1]]}
[{"$f":"muni&\" - \"&TableA1","v":"Choose name from list - Supporting Table SA1 Supportinging detail to 'Budgeted Financial Performance'"}]
[{"$f":"desc","v":"Description"},{"$f":"head27","v":"Ref"},{"$f":"head1b","v":"2021/22"},{"$f":"head1A","v":"2022/23"},{"$f":"Head1","v":"2023/24"},{"$f":"Head2","v":"Current Year 2024/25"},null,null,null,{"$f":"Head3","v":"2025/26 Medium Term Revenue & Expenditure Framework"}]
[null,null,{"$f":"Head5","v":"Audited Outcome"},{"$f":"Head5","v":"Audited Outcome"},{"$f":"Head5","v":"Audited Outcome"},{"$f":"Head6","v":"Original Budget"},{"$f":"Head7","v":"Adjusted Budget"},{"$f":"Head8","v":"Full Year Forecast"},{"$f":"Head5b","v":"Pre-audit outcome"},{"$f":"Head9","v":"Budget Year 2025/26"},{"$f":"Head10","v":"Budget Year +1 2026/27"},{"$f":"Head11","v":"Budget Year +2 2027/28"}]
["R thousand"]
["REVENUE ITEMS:"]
["Non-exchange revenue by source"]
[{"$f":"'A4-FinPerf RE'!A5","v":"Exchange Revenue"},6]
["Total Property Rates",null,1212773440,1370173435,1359086727,1770196142,1770196083,1770196083,1197687412,1980439454,2069559230,2121298209]
["Less Revenue Foregone (exemptions, reductions and rebates and impermissable values in excess of section 17 of MPRA)",null,null,null,null,120843621,120843621,120843621,30783,258774813,270419679,277180171]
["Net Property Rates",null,{"$f":"C8-C9","v":1212773440},{"$f":"D8-D9","v":1370173435},1359086727,1649352521,1649352462,1649352462,1197656629,1721664641,1799139551,1844118038]
[]
["Exchange revenue service charges"]
[{"$f":"'A4-FinPerf RE'!A6","v":"Service charges - Electricity"},6]
[{"$f":"\"Total \"&A13","v":"Total Service charges - Electricity"},null,2676488559,2724539632,2858084054,4303290153.3920994,4229823058.2647991,4229823058.2647991,null,4708639028.4623775,4939362340.8570347,5181391095.5590277,4229823057,2299454309,4708639030,4939362341,5181391093]
["Less Revenue Foregone (in excess of 50 kwh per indigent household per month)"]
["Less Cost of Free Basis Services (50 kwh per indigent household per month)",null,{"$f":"'SA9'!E250","v":0},{"$f":"'SA9'!F250","v":0},{"$f":"'SA9'!G250","v":0},{"$f":"'SA9'!H250","v":5465088},{"$f":"'SA9'!I250","v":5465088},{"$f":"'SA9'!J250","v":0},null,{"$f":"'SA9'!K250","v":6083736},{"$f":"'SA9'!L250","v":6381839},{"$f":"'SA9'!M250","v":6694549}]
[{"$f":"\"Net \"& A13","v":"Net Service charges - Electricity"},null,{"$f":"C14-C15-C16","v":2676488559},{"$f":"D14-D15-D16","v":2724539632},2858084054,4297825065.3920994,4224357970.2647991,4229823058.2647991,0,4702555292.4623775,4932980501.8570347,5174696546.5590277]
[]
[{"$f":"'A4-FinPerf RE'!A7","v":"Service charges - Water"},6]
[{"$f":"\"Total \"&A19","v":"Total Service charges - Water"},null,860675503,824368756,902754801,1259063161,1259063161,1259063161,742747622,1447922635,1518870844,1593295516]
["Less Revenue Foregone (in excess of 6 kilolitres per indigent household per month)",null,null,null,null,null,null,null,3551329]
["Less Cost of Free Basis Services (6 kilolitres per indigent household per month)",null,{"$f":"'SA9'!E262","v":0},{"$f":"'SA9'!F262","v":0},{"$f":"'SA9'!G262","v":0},{"$f":"'SA9'!H262","v":249303079},{"$f":"'SA9'!I262","v":249303079},{"$f":"'SA9'!J262","v":249303079},null,{"$f":"'SA9'!K262","v":286698541},{"$f":"'SA9'!L262","v":300746769},{"$f":"'SA9'!M262","v":315483361}]
[{"$f":"\"Net \"& A19","v":"Net Service charges - Water"},null,{"$f":"C20-C21-C22","v":860675503},{"$f":"D20-D21-D22","v":824368756},902754801,1009760082,1009760082,1009760082,739196293,1161224094,1218124075,1277812155]
[]
[{"$f":"'A4-FinPerf RE'!A8","v":"Service charges - Waste Water Management"}]
[{"$f":"\"Total \"&A25","v":"Total Service charges - Waste Water Management"},null,193119253,197959736,198616863,239497015,220724861,220724861,171621526,250522716,262798330,275675448]
["Less Revenue Foregone (in excess of free sanitation service to indigent households)",null,null,null,null,null,0,0]
["Less Cost of Free Basis Services (free sanitation service to indigent households)",null,{"$f":"'SA9'!E274","v":0},{"$f":"'SA9'!F274","v":0},{"$f":"'SA9'!G274","v":0},{"$f":"'SA9'!H274","v":18772154},{"$f":"'SA9'!I274","v":0},{"$f":"'SA9'!J274","v":0},11661302,{"$f":"'SA9'!K274","v":0},{"$f":"'SA9'!L274","v":0},{"$f":"'SA9'!M274","v":0}]
[{"$f":"\"Net \"& A25","v":"Net Service charges - Waste Water Management"},null,{"$f":"C26-C27-C28","v":193119253},{"$f":"D26-D27-D28","v":197959736},198616863,220724861,220724861,220724861,{"$f":"I26-I27-I28","v":159960224},250522716,262798330,275675448]
[]
[{"$f":"'A4-FinPerf RE'!A9","v":"Service charges - Waste Management"},6]
["Total refuse removal revenue",null,116021545,123629076,127306637,164237796,155390777,155390777,98358010,175734442,184345430,193378356]
["Total landfill revenue"]
["Less Revenue Foregone (in excess of one removal a week to indigent households)",null,null,null,null,null,0,0]
["Less Cost of Free Basis Services  (removed once a week to indigent households)",null,{"$f":"'SA9'!E286","v":0},{"$f":"'SA9'!F286","v":0},{"$f":"'SA9'!G286","v":0},{"$f":"'SA9'!H286","v":8847019},{"$f":"'SA9'!I286","v":0},{"$f":"'SA9'!J286","v":0},1746908,{"$f":"'SA9'!K286","v":9466311},{"$f":"'SA9'!L286","v":9930160},{"$f":"'SA9'!M286","v":10416738}]
[{"$f":"\"Net \"& A31","v":"Net Service charges - Waste Management"},null,{"$f":"SUM(C32:C33)-C34-C35","v":116021545},{"$f":"SUM(D32:D33)-D34-D35","v":123629076},127306637,155390777,155390777,155390777,96611102,166268131,174415270,182961618]
[]
[]
[]
[]
[]
[]
[]
[]
[]
[]
[]
[]
[]
[]
["EXPENDITURE ITEMS:"]
[{"$f":"'A4-FinPerf RE'!A35","v":"Employee related costs"}]
["Basic Salaries and Wages",2,855355283,924507990,963469218,1261956606,1158757828,1172280225,656404807,1271929783,1376864286,1488929746]
["Pension and UIF Contributions",null,168730040,180880017,187833210,196951405,214606044,214606044,128268747,220640847,231433952,242774231]
["Medical Aid Contributions",null,65828224,71975616,79706458,22999761,23281489,23281489,54717774,23880779,25050943,26278430]
["Overtime",null,110788735,119913416,123315224,111896474,79538238,79538238,85492988,117190167,122932482,128956180]
["Performance Bonus",null,66812565,67058159,74504487,80591480,86085925,86085925,76094521,88255497,92580016,97116440]
["Motor Vehicle Allowance",null,29501871,31188208,32921077,59482065,64258028,64258028,22377531,66073175,69310766,72706982]
["Cellphone Allowance",null,4712760,5018450,5523624,6349250,7355273,7355273,3856969,7645178,8019799,8412770]
["Housing Allowances",null,4436383,4740033,4922254,5389521,5948985,5948985,3305349,6234038,6539491,6859912]
["Other benefits and allowances",null,40143933,26814192,25935303,47469102,58631044,58631044,12975680,60466204,63429050,66537087]
["Payments in lieu of leave",null,19833912,6458315,20174485,15279312,16041111,16041111,7314074,16594773,17407915,18260905]
["Long service awards",null,20582892,21076973,21029740,25422539,26852753,26852753,16542554,27039279,28364208,29754063]
["Post-retirement benefit obligations",4,68263488,-3267927,64379042,0,0,0,0,0,0,0]
["Entertainment",null,0,0,0,0,0,0,0,0,0,0]
["Scarcity",null,7385411,7924699,5999279,9993866,14159276,14159276,0,14336162,15038631,15775526]
["Acting and post related allowance",null,18034971,14455973,15145327,16757905,17324704,17324704,10232980,16486881,17294738,18142180]
["In kind benefits"]
["sub-total",5,{"$f":"SUM(C53:C68)","v":1480410468},{"$f":"SUM(D53:D68)","v":1478744114},1624858728,1860539286,1772840698,1786363095,1077583974,1936772763,2074266277,2220504452]
["Less: Employees costs capitalised to PPE"]
[{"$f":"\"Total \"&A52","v":"Total Employee related costs"},1,{"$f":"C69-C70","v":1480410468},{"$f":"D69-D70","v":1478744114},1624858728,1860539286,1772840698,1786363095,1077583974,1936772763,2074266277,2220504452]
[]
[]
[]
[]
[]
[]
[{"$f":"'A4-FinPerf RE'!A40","v":"Depreciation and amortisation"}]
["Depreciation of Property, Plant & Equipment",null,360587748,333141620,354543242,357792470,356930473,357792470,258806353,384645075,381151278,280123507]
["Lease amortisation",null,6037323,5157235,5252568,5248272,5248272,5248272,4365491,6477272,6472249,3313672]
["Capital asset impairment",null,6911517,13231516,2788217,0,0,0,0,0,0,0]
[]
[{"$f":"\"Total \"&LEFT(A78,35)","v":"Total Depreciation and amortisation"},1,{"$f":"SUM(C79:C81)","v":373536588},{"$f":"SUM(D79:D81)","v":351530371},362584027,363040742,362178745,363040742,263171844,391122347,387623527,283437179]
[]
["Bulk purchases - electricity"]
["Electricity bulk purchases",null,2212724552,2350400905,2714396462,3145118900,3145118900,3145118900,2088946774,3522533168,3695137293,3876199021]
[]
["Total bulk purchases",1,{"$f":"SUM(C86:C87)","v":2212724552},{"$f":"SUM(D86:D87)","v":2350400905},2714396462,3145118900,3145118900,3145118900,2088946774,3522533168,3695137293,3876199021]
[]
["Transfers and grants"]
["Cash transfers and grants",null,9486826,8682578,1857198,52375754,69670132,52375754,40289508,54065270,56768065,59573673]
["Non-cash transfers and grants",null,9000000,6420000,9000000,0,0,0,0,0,0,0]
["Total transfers and grants",1,{"$f":"SUM(C91:C92)","v":18486826},{"$f":"SUM(D91:D92)","v":15102578},10857198,52375754,69670132,52375754,40289508,54065270,56768065,59573673]
[]
["Contracted Services"]
["Outsourced Services",null,206656639,234940170,248273347,190751827,162445139,163826523,154622057,209117076,225883148,244700095]
["Consultants and Professional Services",null,49233659,74066959,51716116,83971894,101390479,101390479,27608025,83010183,105776219,112512299]
["Contractors",null,439156900,490696924,604396113,749939694,553254060,553254060,392756651,565059580,640581164,685894468]
[]
[]
[]
[]
[]
[]
[]
[]
[]
[]
[]
[]
[]
[]
[]
[]
[]
[]
[]
[]
[]
[]
[]
[]
[]
[]
[]
[]
["Total contracted services",null,{"$f":"SUM(C96:C98)","v":695047198},{"$f":"SUM(D96:D98)","v":799704053},904385576,1024663415,817089678,818471062,574986733,857186839,972240531,1043106862]
[]
["Operational Costs"]
["Collection costs",null,null,null,null,9483500,9483500,9483500,10162269,10619187,10262765,11180148]
["Contributions to 'other' provisions"]
[]
["Audit fees",null,null,null,null,11000000,11000000,11000000,21335280,13000000,12310000,13617900]
[]
[]
["Other Operational Costs",null,155018229,179925889,209674720,175353280,187386044,188914644,71118968,216141071,221730954,253795801]
[]
[]
[]
[]
[]
[]
[]
[]
[]
[]
[]
[]
[]
[]
[]
[]
[]
[]
[]
[]
["Total Operational Costs",1,{"$f":"+C130+C131+C133+C136","v":155018229},{"$f":"+D130+D131+D133+D136","v":179925889},209674720,195836780,207869544,209398144,102616517,239760258,244303719,278593849]
[]
["Repairs and Maintenance by Expenditure Item",8]
["Employee related costs"]
["Inventory Consumed (Project Maintenance)",null,null,null,null,40560925,26010925,26010925,30672412,45459075,51979646,57056361]
["Contracted Services",null,null,null,null,569190422,392407772,392407772,325731019,435502465,477901158,510831343]
["Operational Costs",null,null,null,null,14608861,11441511,11441511,1717555,14602486,16062732,16783255]
["Total Repairs and Maintenance Expenditure",9,{"$f":"SUM(C160:C163)","v":0},{"$f":"SUM(D160:D163)","v":0},0,624360208,429860208,429860208,358120986,495564026,545943536,584670959]
[]
[" Inventory Consumed"]
["Inventory Consumed - Water",null,737482753,629100228,719454243,822651060,642364024,642364024,709337733,847500000,885637500,925491187]
["Inventory Consumed - Other",null,84307651,110236154,158208702,170758155,113021119,113021119,86665959,166106243,182963879,198260972]
["Total Inventory Consumed & Other Material",null,{"$f":"SUM(C167:C168)","v":821790404},{"$f":"SUM(D167:D168)","v":739336382},877662945,993409215,755385143,755385143,796003692,1013606243,1068601379,1123752159]
[]
["check",null,{"$f":"C164-SA34c!C175","v":0},{"$f":"D164-SA34c!D175","v":0},{"$f":"E164-SA34c!E175","v":0},{"$f":"F164-SA34c!F175","v":-255000},{"$f":"G164-SA34c!G175","v":-255000},{"$f":"H164-SA34c!H175","v":-255000},null,{"$f":"J164-SA34c!I175","v":-3470000},{"$f":"K164-SA34c!J175","v":-3633090},{"$f":"L164-SA34c!K175","v":-3800212}]
[{"$f":"head27a","v":"References"}]
["1. Must reconcile with 'Budgeted Financial Performance (Revenue and Expenditure)"]
["2. Must reconcile to supporting documentation on staff salaries"]
[]
["4. Expenditure to meet any 'unfunded obligations'"]
["5 This sub-total must agree with the total on SA22, but excluding councillor and board member items"]
["6. Include a note for each revenue item that is affected by 'revenue foregone'"]
[]
["8. Repairs and Maintenance is not a GRAP item. However to facilitate transparency, municipalities must provide a breakdown of the amounts included in the relevant GRAP items that will be spent on Repairs and Maintenance."]
["9. Must reconcile with Repairs and Maintenance by Asset Class (Total Repairs and Maintenance) on Table SA34c."]

{"sheet":"SA2","index":22,"n_rows":55,"n_cols":18,"rows_kept":55,"cut":false,"hidden":false,"merged":[[1,6,2,6],[1,7,2,7],[1,2,2,2],[1,3,2,3],[1,4,2,4],[1,5,2,5],[1,16,2,16],[1,17,2,17],[1,8,2,8],[1,9,2,9],[1,10,2,10],[1,11,2,11],[1,12,2,12],[1,13,2,13],[1,14,2,14],[1,15,2,15]]}
[{"$f":"muni&\" - \"&TableA2","v":"Choose name from list - Supporting Table SA2 Matrix Financial Performance Budget (revenue source/expenditure type and dept.)"}]
[{"$f":"desc","v":"Description"},{"$f":"head27","v":"Ref"},{"$f":"'A3-FinPerf V'!A5","v":"Vote 1 - City Manager"},{"$f":"'A3-FinPerf V'!A6","v":"Vote 2 - City Finance"},{"$f":"'A3-FinPerf V'!A7","v":"Vote 3 - Corporate Services"},{"$f":"'A3-FinPerf V'!A8","v":"Vote 4 - Community Services and Social Equity"},{"$f":"'A3-FinPerf V'!A9","v":"Vote 5 - Infrastructure Services"},{"$f":"'A3-FinPerf V'!A10","v":"Vote 6 - Sustainable Development and City Enterprises"},{"$f":"'A3-FinPerf V'!A11","v":"Vote 7 - Electricity"},{"$f":"'A3-FinPerf V'!A12","v":"Vote 8 - [NAME OF VOTE 8]"},{"$f":"'A3-FinPerf V'!A13","v":"Vote 9 - [NAME OF VOTE 9]"},{"$f":"'A3-FinPerf V'!A14","v":"Vote 10 - [NAME OF VOTE 10]"},{"$f":"'A3-FinPerf V'!A15","v":"Vote 11 - [NAME OF VOTE 11]"},{"$f":"'A3-FinPerf V'!A16","v":"Vote 12 - [NAME OF VOTE 12]"},{"$f":"'A3-FinPerf V'!A17","v":"Vote 13 - [NAME OF VOTE 13]"},{"$f":"'A3-FinPerf V'!A18","v":"Vote 14 - [NAME OF VOTE 14]"},{"$f":"'A3-FinPerf V'!A19","v":"Vote 15 - [NAME OF VOTE 15]"},"Total"]
["R thousand",1,"R'000","R'000","R'000","R'000","R'000","R'000",null,null,null,null,null,null,null,null,"R'000","R'000"]
["Revenue"]
["Exchange Revenue"]
["Service charges - Electricity",null,null,null,null,2928.1946760000001,12219796.976376001,2762.6173079999999,4690329804.6122303,null,null,null,null,null,null,null,null,{"$f":"SUM(C6:Q6)","v":4702555292.4005899}]
["Service charges - Water",null,null,null,null,null,1161224094.2655001,null,null,null,null,null,null,null,null,null,null,{"$f":"SUM(C7:Q7)","v":1161224094.2655001}]
["Service charges - Waste Water Management",null,null,null,null,null,250522716.56535,null,null,null,null,null,null,null,null,null,null,250522716.56535]
["Service charges - Waste Management",null,null,null,null,175734442.0196,null,null,null,null,null,null,null,null,null,null,null,175734442.0196]
["Sale of Goods and Rendering of Services",null,null,null,null,null,null,null,null,null,null,null,null,null,null,null,null,0]
["Agency services",null,null,null,null,5507583.0480000004,null,null,null,null,null,null,null,null,null,null,null,5507583.0480000004]
["Interest",null,null,null,null,null,null,null,null,null,null,null,null,null,null,null,null,0]
["Interest earned from Receivables",null,null,111206638.7322,null,15179160.0123,186131768.33579999,null,9653440.3188000005,null,null,null,null,null,null,null,null,322171007.39909995]
["Interest earned from Current and Non Current Assets",null,null,null,null,null,null,null,null,null,null,null,null,null,null,null,null,0]
["Dividends",null,null,null,null,null,null,null,null,null,null,null,null,null,null,null,null,0]
["Rent on Land",null,null,null,null,null,null,null,null,null,null,null,null,null,null,null,null,0]
["Rental from Fixed Assets",null,null,24737395.763519999,null,3008693.98104,null,16820045.156640001,null,null,null,null,null,null,null,null,null,44566134.901199996]
["Licence and permits",null,null,null,null,null,null,null,null,null,null,null,null,null,null,null,null,0]
["Special rating levies"]
["Operational Revenue",null,null,33078145.413600001,1906229.0519999999,7746515.7335999999,24066954.828000002,62135397.616080001,-56907.320399999997,null,null,null,null,null,null,null,null,128876335.32288]
["Non-Exchange Revenue"]
["Property rates",null,null,1721664641.91767,null,null,null,null,null,null,null,null,null,null,null,null,null,{"$f":"SUM(C22:Q22)","v":1721664641.91767}]
["Surcharges and Taxes",null,null,null,null,null,null,null,null,null,null,null,null,null,null,null,null,0]
["Fines, penalties and forfeits",null,null,19745.860199999999,null,6750553.6477499995,null,5442842.11075,null,null,null,null,null,null,null,null,null,12213141.6187]
["Licences or permits",null,null,null,null,2440952.2566,null,655703.63100000005,null,null,null,null,null,null,null,null,null,3096655.8876]
["Transfer and subsidies - Operational",null,null,878347000,null,null,99100480,12160715,null,null,null,null,null,null,null,null,null,989608195]
["Interest",null,null,19996228.405999999,null,null,null,null,null,null,null,null,null,null,null,null,null,19996228.405999999]
["Fuel Levy",null,null,null,null,null,null,null,null,null,null,null,null,null,null,null,null,0]
["Operational Revenue",null,null,null,null,null,null,null,null,null,null,null,null,null,null,null,null,0]
["Gains on disposal of Assets",null,null,null,null,null,null,null,null,null,null,null,null,null,null,null,null,0]
["Other Gains",null,null,null,null,null,null,null,null,null,null,null,null,null,null,null,null,0]
["Discontinued Operations",null,null,null,null,null,null,null,null,null,null,null,null,null,null,null,null,0]
["Total Revenue (excluding capital transfers and contributions)",null,{"$f":"SUM(C6:C20)+SUM(C22:C32)","v":0},{"$f":"SUM(D6:D20)+SUM(D22:D32)","v":2789049796.0931902},1906229.0519999999,216370828.89356601,1733265810.9710262,97217466.131778002,4699926337.61063,0,0,0,0,0,0,0,0,9537736468.7521896]
["Expenditure"]
["Employee related costs",null,126646082.2902,259279828.90059996,124255000.49779999,654361240.85039961,274890688.41719985,215242918.76360023,251274782.67200002,null,null,null,null,null,null,null,null,{"$f":"SUM(C35:Q35)","v":1905950542.3917994}]
["Remuneration of councillors",null,70449646.944799989,null,null,null,null,null,null,null,null,null,null,null,null,null,null,{"$f":"SUM(C36:Q36)","v":70449646.944799989}]
["Bulk purchases - electricity",null,null,null,null,null,null,null,3522533168.0000005,null,null,null,null,null,null,null,null,3522533168.0000005]
["Inventory consumed",null,430000,67178584.607500002,3666000,7970756,886719065.51999986,1003936,45687900,null,null,null,null,null,null,null,null,1012656242.1274998]
["Debt impairment",null,null,674160000,null,null,null,null,null,null,null,null,null,null,null,null,null,674160000]
["Depreciation and amortisation",null,2188199.4499999997,24115680.669999998,10321316.789999992,39284960.759999983,195065147.11999995,22932501.900000006,96352535.850000024,null,null,null,null,null,null,null,null,390260342.53999996]
["Interest",null,null,null,null,null,null,null,56180000,null,null,null,null,null,null,null,null,56180000]
["Contracted services",null,20622000,55457673.512000002,26635000,95097276,472470283.27340007,62932905.699200012,116395200,null,null,null,null,null,null,null,null,849610338.48460007]
["Transfers and subsidies",null,null,51581839.743199989,null,301761.26240000001,null,20573334.672800001,null,null,null,null,null,null,null,null,null,72456935.678399995]
["Irrecoverable debts written off",null,null,null,null,null,null,null,null,null,null,null,null,null,null,null,null,0]
["Operational costs",null,8254000,67369874.879940018,42374831,38139490,58668740.700000003,17270110.214162678,28500216,null,null,null,null,null,null,null,null,260577262.7941027]
["Losses on disposal of Assets",null,null,null,null,null,null,null,null,null,null,null,null,null,null,null,null,0]
["Other Losses",null,null,null,null,null,null,null,null,null,null,null,null,null,null,null,null,0]
["Total Expenditure",null,{"$f":"SUM(C35:C47)","v":228589928.68499997},{"$f":"SUM(D35:D47)","v":1199143482.3132401},207252148.28779998,835155484.87279963,1887813925.0305996,339955707.24976289,4116923802.5220003,0,0,0,0,0,0,0,0,{"$f":"SUM(R35:R47)","v":8814834478.9612026}]
["Surplus/(Deficit)",null,{"$f":"+C33-C48","v":-228589928.68499997},{"$f":"+D33-D48","v":1589906313.7799501},-205345919.2358,-618784655.97923362,-154548114.05957341,-242738241.11798489,583002535.08862972,0,0,0,0,0,0,0,0,722901989.79098701]
["Transfers and subsidies - capital (monetary allocations)",null,null,null,null,null,null,null,null,null,null,null,null,null,null,null,null,{"$f":"SUM(C50:Q50)","v":0}]
["Transfers and subsidies - capital (in-kind)",null,null,null,null,null,null,null,null,null,null,null,null,null,null,null,null,{"$f":"SUM(C51:Q51)","v":0}]
["Surplus/(Deficit) after capital transfers & contributions",null,{"$f":"SUM(C49:C51)","v":-228589928.68499997},{"$f":"SUM(D49:D51)","v":1589906313.7799501},-205345919.2358,-618784655.97923362,-154548114.05957341,-242738241.11798489,583002535.08862972,0,0,0,0,0,0,0,0,722901989.79098701]
[{"$f":"head27a","v":"References"}]
["1. Departmental columns to be based on municipal organisation structure"]
[null,null,null,null,null,null,null,null,null,null,null,null,null,null,null,null,null,{"$f":"'A4-FinPerf RE'!J52-'SA2'!#REF!","v":{"$error":"#REF!"}}]

{"sheet":"SA3","index":23,"n_rows":201,"n_cols":14,"rows_kept":201,"cut":false,"hidden":false,"merged":[[1,1,2,1],[1,9,1,11],[1,5,1,8]]}
[{"$f":"muni&\" - \"&TableA3","v":"Choose name from list - Supporting Table SA3 Supportinging detail to 'Budgeted Financial Position'"}]
[{"$f":"desc","v":"Description"},{"$f":"head27","v":"Ref"},{"$f":"head1b","v":"2021/22"},{"$f":"head1A","v":"2022/23"},{"$f":"Head1","v":"2023/24"},{"$f":"Head2","v":"Current Year 2024/25"},null,null,null,{"$f":"Head3","v":"2025/26 Medium Term Revenue & Expenditure Framework"}]
["R thousand",null,{"$f":"Head5","v":"Audited Outcome"},{"$f":"Head5","v":"Audited Outcome"},{"$f":"Head5","v":"Audited Outcome"},{"$f":"Head6","v":"Original Budget"},{"$f":"Head7","v":"Adjusted Budget"},{"$f":"Head8","v":"Full Year Forecast"},{"$f":"Head5b","v":"Pre-audit outcome"},{"$f":"Head9","v":"Budget Year 2025/26"},{"$f":"Head10","v":"Budget Year +1 2026/27"},{"$f":"Head11","v":"Budget Year +2 2027/28"}]
[]
[]
["ASSETS"]
["Trade and other receivables from exchange transactions"," "]
["Electricity"," ",856323631,875490339,993688954,1130408852,1130408852,1130408852,-463390,1793123353,1877011643,1964831593]
["Water"," ",2710353904,3130817455,3629930135,3318666502,3318666502,3318666502,485338778,3827338232,4000358085,4181202524]
["Waste"," ",238122507,258154726,293654586,273644010,273644010,273644010,34024486,314057565,328271790,343129655]
["Waste Water"," ",444132867,479709272,544198600,508491828,508491828,508491828,64634707,564689270,590270642,617011524]
["Other trade receivables from exchange transactions"," ",360605632,422435115,355441274,527354923,527354923,527354923,4521538,677717885,709504295,742784264]
["Gross: Trade and other receivables from exchange transactions"," ",{"$f":"SUM(C8:C12)","v":4609538541},{"$f":"SUM(D8:D12)","v":5166606907},5816913549,5758566115,5758566115,5758566115,588056119,7176926305,7505416455,7848959560]
["Less: Impairment for debt"," ",{"$f":"SUM(C15:C19)","v":-2817144276},{"$f":"SUM(D15:D19)","v":-2933305807},-5079749558,-3109304155,-3109304155,-3109304155,0,-5499749558,-5747238288,-6005864011]
["Impairment for Electricity"," ",-255542998,-259045032,-517768174,-274587734,-274587734,-274587734,null,-517768174,-541067742,-565415790]
["Impairment for Water"," ",-1872482395,-2034857400,-3464022807,-2156948844,-2156948844,-2156948844,null,-3464022807,-3619903833,-3782799506]
["Impairment for Waste"," ",-159099137,-155952283,-270416840,-165309420,-165309420,-165309420,null,-270416840,-282585598,-295301950]
["Impairment for Waste Water"," ",-277255402,-274605106,-492163645,-291081412,-291081412,-291081412,null,-492163645,-514311009,-537455004]
["Impairment for other trade receivalbes from exchange transactions"," ",-252764344,-208845986,-335378092,-221376745,-221376745,-221376745,null,-755378092,-789370106,-824891761]
["Total net Trade and other receivables from Exchange Transactions"," ",{"$f":"+C13+C14","v":1792394265},{"$f":"+D13+D14","v":2233301100},737163991,2649261960,2649261960,2649261960,588056119,1677176747,1758178167,1843095549]
[" "," "]
["Receivables from non-exchange transactions"," "]
["Property rates"," ",670949254,1469918780,1612355757,1558113907,1558113907,1558113907,235086740,1801738811,1882817058,1963585717]
["Less: Impairment of Property rates"," ",-69163395,-706278824,-1336383300,-748655553,-748655553,-748655553,null,-1336383299,-1396520548,-1459363973]
["Net Property rates"," ",{"$f":"+C23+C24","v":601785859},{"$f":"+D23+D24","v":763639956},275972457,809458354,809458354,809458354,235086740,465355512,486296510,504221744]
["Other receivables from non-exchange transactions"," ",126804195,124299753,139661151,131757738,131757738,131757738,null,139805513,146096761,152671115]
["Impairment for other receivalbes from non-exchange transactions"," ",-104205939,-122835829,-137973218,-130205979,-130205979,-130205979,null,-137973218,-144182013,-150670203]
["Net other receivables from non-exchange transactions"," ",{"$f":"+C26+C27","v":22598256},{"$f":"+D26+D27","v":1463924},1687933,1551759,1551759,1551759,0,1832295,1914748,2000912]
["Total net Receivables from non-exchange transactions"," ",{"$f":"+C25+C28","v":624384115},{"$f":"+D25+D28","v":765103880},277660390,811010113,811010113,811010113,235086740,467187807,488211258,506222656]
[" "," "]
["Inventory"]
["Water"]
["  Opening Balance",null,6518641,{"$f":"C63","v":1620083},{"$f":"D63","v":1620083},{"$f":"E63","v":1348309},{"$f":"E63","v":1348309},{"$f":"E63","v":1348309},{"$f":"E63","v":1348309},{"$f":"G63","v":71635345},{"$f":"J63","v":-94470898},{"$f":"K63","v":-277434777}]
["  System Input Volume",null,{"$f":"(SUM(C35:C37))","v":-4898558},{"$f":"(SUM(D35:D37))","v":0},0,0,712651060,712651060,799259,847500000,885637500,925491188]
["      Water Treatment Works"]
["      Bulk Purchases",null,-4898558,null,null,null,712651060,712651060,799259,847500000,885637500,925491188]
["      Natural Sources"]
["  Authorised Consumption",6,{"$f":"C39+C48","v":0},{"$f":"D39+D48","v":0},0,0,-642364024,-642364024,0,-1013606243,-1068601379,-1123752159]
["      Billed Authorised Consumption",null,{"$f":"C44+C40","v":0},{"$f":"D44+D40","v":0},0,0,-642364024,-642364024,0,-1013606243,-1068601379,-1123752159]
["         Billed Metered Consumption",null,{"$f":"SUM(C41:C43)","v":0},{"$f":"SUM(D41:D43)","v":0},0,0,-642364024,-642364024,0,-1013606243,-1068601379,-1123752159]
["          Free Basic Water"]
["          Subsidised Water"]
["          Revenue Water",null,null,null,null,null,-642364024,-642364024,null,-1013606243,-1068601379,-1123752159]
["         Billed Unmetered Consumption",null,{"$f":"SUM(C45:C47)","v":0},{"$f":"SUM(D45:D47)","v":0},0,0,0,0,0,0,0,0]
["          Free Basic Water",null,0]
["          Subsidised Water"]
["          Revenue Water"]
["     UnBilled Authorised Consumption",null,{"$f":"SUM(C49:C50)","v":0},{"$f":"SUM(D49:D50)","v":0},0,0,0,0,0,0,0,0]
["          Unbilled Metered Consumption"]
["          Unbilled Unmetered Consumption"]
["     Water Losses",null,{"$f":"C52+C55","v":0},{"$f":"D52+D55","v":0},0,0,0,0,0,0,0,0]
["         Apparent losses",null,{"$f":"SUM(C53:C54)","v":0},{"$f":"SUM(D53:D54)","v":0},0,0,0,0,0,0,0,0]
["           Unauthorised Consumption"]
["           Customer Meter Inaccuracies"]
["         Real losses",null,{"$f":"SUM(C56:C60)","v":0},{"$f":"SUM(D56:D60)","v":0},0,0,0,0,0,0,0,0]
["           Leakage on Transmission and Distribution Mains"]
["           Leakage and Overflows at Storage Tanks/Reservoirs"]
["           Leakage on Service Connections up to the point of Customer Meter"]
["           Data Transfer and Management Errors"]
["           Unavoidable Annual Real Losses"]
["  Non-revenue Water",null,{"$f":"C48+C51","v":0},{"$f":"D48+D51","v":0},0,0,0,0,0,0,0,0]
["Correction of Prior period errors"]
["  Closing Balance Water",null,{"$f":"C33+C34+C38+C51+C62","v":1620083},{"$f":"D33+D34+D38+D51+D62","v":1620083},1348309,1813967,71635345,71635345,2147568,-94470898,-277434777,-475695748]
[]
["Agricultural"]
["  Opening Balance",null,null,null,null,null,null,null,null,-88517052,2472736,2584009]
["      Acquisitions",null,33620158,54896894,54949691]
["      Issues",7]
["      Adjustments",8]
["      Write-offs",9]
["Correction of Prior period errors"]
["  Closing balance - Agricultural",null,{"$f":"SUM(C66:C71)","v":33620158},{"$f":"SUM(D66:D71)","v":54896894},54949691,0,0,0,0,-88517052,2472736,2584009]
[]
["Consumables"]
["Standard Rated"]
["  Opening Balance",null,null,{"$f":"C82","v":368995193},{"$f":"D82","v":1049223580},{"$f":"E82","v":1846835035},{"$f":"E82","v":1846835035},{"$f":"E82","v":1846835035},{"$f":"E82","v":1846835035},{"$f":"G82","v":1846835035},{"$f":"J82","v":1846835035},{"$f":"K82","v":1846835035}]
["      Acquisitions"]
["      Issues",7,368995193,680228387,797611455]
["      Adjustments",8]
["      Write-offs",9]
["Correction of Prior period errors"]
["  Closing balance - Consumables Standard Rated",null,{"$f":"SUM(C76:C81)","v":368995193},1049223580,1846835035,1846835035,1846835035,{"$f":"SUM(H76:H81)","v":1846835035},{"$f":"SUM(I76:I81)","v":1846835035},1846835035,1846835035,1846835035]
["Zero Rated"]
["  Opening Balance",null,null,{"$f":"C90","v":0},{"$f":"D90","v":0},{"$f":"E90","v":0},{"$f":"E90","v":0},{"$f":"E90","v":0},{"$f":"E90","v":0},{"$f":"G90","v":0},{"$f":"J90","v":0},{"$f":"K90","v":0}]
["      Acquisitions"]
["      Issues",7]
["      Adjustments",8]
["      Write-offs",9]
["Correction of Prior period errors"]
["  Closing balance - Consumables Zero Rated",null,{"$f":"SUM(C84:C89)","v":0},{"$f":"SUM(D84:D89)","v":0},0,0,0,0,0,0,0,0]
[]
["Finished Goods"]
["  Opening Balance",null,null,{"$f":"C99","v":0},{"$f":"D99","v":0},{"$f":"E99","v":0},{"$f":"E99","v":0},{"$f":"E99","v":0},{"$f":"E99","v":0},{"$f":"G99","v":442453028},{"$f":"J99","v":0},{"$f":"K99","v":0}]
["      Acquisitions",null,null,null,null,442453028,442453028,442453028,null,-442453028]
["      Issues",7]
["      Adjustments",8]
["      Write-offs",9]
["Correction of Prior period errors"]
["  Closing balance - Finished Goods",null,{"$f":"SUM(C93:C98)","v":0},0,0,442453028,442453028,{"$f":"SUM(H93:H98)","v":442453028},{"$f":"SUM(I93:I98)","v":0},0,0,0]
[]
["Materials and Supplies"]
["  Opening Balance",null,null,{"$f":"C108","v":41310862},{"$f":"D108","v":57001926},{"$f":"E108","v":67858425},{"$f":"E108","v":67858425},{"$f":"E108","v":67858425},{"$f":"E108","v":67858425},{"$f":"G108","v":67858425},{"$f":"J108","v":67858425},{"$f":"K108","v":70912054}]
["      Acquisitions",null,41310862,15691064,10856499,null,null,null,null,null,3053629,3191043]
["      Issues",7]
["      Adjustments",8]
["      Write-offs",9]
["Correction of Prior period errors"]
["  Closing balance - Materials and Supplies",null,{"$f":"SUM(C102:C107)","v":41310862},{"$f":"SUM(D102:D107)","v":57001926},67858425,67858425,67858425,67858425,67858425,67858425,70912054,74103097]
[]
["Work-in-progress"]
["  Opening Balance",null,null,{"$f":"C114","v":0},{"$f":"D114","v":0},{"$f":"E114","v":0},{"$f":"E114","v":0},{"$f":"E114","v":0},{"$f":"E114","v":0},{"$f":"G114","v":0},{"$f":"J114","v":0},{"$f":"K114","v":0}]
["      Materials"]
["      Transfers"]
["  Closing balance - Work-in-progress",null,{"$f":"SUM(C111:C113)","v":0},0,0,0,0,0,0,0,0,0]
[]
["Housing Stock"]
["  Opening Balance",null,null,{"$f":"C122","v":292004270},{"$f":"D122","v":306876224},{"$f":"E122","v":373658481},{"$f":"E122","v":373658481},{"$f":"E122","v":373658481},{"$f":"E122","v":373658481},{"$f":"G122","v":373658481},{"$f":"J122","v":373658481},{"$f":"K122","v":390473113}]
["      Acquisitions",null,null,14871954,66782257,null,null,null,null,null,16814632,17571290]
["      Transfers",null,292004270]
["      Sales"]
["Correction of Prior period errors"]
["  Closing Balance - Housing Stock",null,{"$f":"+SUM(C117:C121)","v":292004270},{"$f":"+SUM(D117:D121)","v":306876224},373658481,373658481,373658481,373658481,373658481,373658481,390473113,408044403]
[]
["Land"]
["  Opening Balance",null,null,{"$f":"C131","v":0},{"$f":"D131","v":0},{"$f":"E131","v":0},{"$f":"E131","v":0},{"$f":"E131","v":0},{"$f":"E131","v":0},{"$f":"G131","v":0},{"$f":"J131","v":-1607083427},{"$f":"K131","v":-1512554971}]
["      Acquisitions",null,null,null,null,null,null,null,null,-1607083427,94528456,200819009]
["      Sales"]
["      Adjustments"]
["     Correction of  Prior period errors",null,null,null,null,null,null,null,null,null,null,null,1013526242.1274998,1068601364.9725248]
["     Transfers"]
["  Closing Balance - Land",null,{"$f":"SUM(C125:C130)","v":0},{"$f":"SUM(D125:D130)","v":0},0,0,0,0,0,-1607083427,-1512554971,-1311735962]
["Closing Balance - Inventory & Consumables",null,{"$f":"C63+C72+C82+C90+C99+C108+C114+C122+C131","v":737550566},1469618707,2344649941,2732618936,2802440314,2802440314,2290499509,498280564,520703190,544134834]
[]
["Property, plant and equipment (PPE)"]
["PPE at cost/valuation (excl. finance leases)",null,12102148600,13084860375,13052816699,8761935354,8754736642,8761902258,null,7884987594,8103664293,8480688588]
["Leases recognised as PPE",3,0,0,0,null,null,null,null,0,0,0]
["Less: Accumulated depreciation",null,-5151270954,-5452199372,-5795137749]
["Total Property, plant and equipment (PPE)",2,{"$f":"SUM(C135:C136)-C137","v":17253419554},{"$f":"SUM(D135:D136)-D137","v":18537059747},18847954448,8761935354,8754736642,8761902258,0,7884987594,8103664293,8480688588]
[]
["LIABILITIES"]
["Current liabilities - Borrowing"]
["Short term loans (other than bank overdraft)",null,null,null,null,-90000000,-50000000,-50000000,null,26274950,31507323,36975152]
["Current portion of long-term liabilities",null,79162900,74270955,50311361,78727212,78727212,78727212,null,50311360,52575371,54941264]
["Total Current liabilities - Borrowing",null,{"$f":"SUM(C142:C143)","v":79162900},{"$f":"SUM(D142:D143)","v":74270955},50311361,-11272788,28727212,28727212,0,76586310,84082694,91916416]
[]
["Trade and other payables "]
["Trade and other payables from exchange transactions",5,1949230876,3003316576,3158414359,1713733896,1644233896,1644233896,null,1713733896,1663733896,1663733896]
["Other trade payables from exchange transactions",null,0,0,0]
["Trade payables from Non-exchange transactions: Unspent conditional Grants",null,136087526,175932856,189531485]
["Trade payables from Non-exchange transactions: Other",null,0,0,120]
["VAT",null,371840411,431836635,500429924,457746833,null,null,null,162137445,169433630,177058143]
["Total Trade and other payables",2,{"$f":"SUM(C147:C151)","v":2457158813},{"$f":"SUM(D147:D151)","v":3611086067},3848375888,2171480729,1644233896,1644233896,0,1875871341,1833167526,{"$f":"SUM(L147:L151)","v":1840792039}]
["Non current liabilities - Financial liabilities"]
["Borrowing",4,124581612,50310655,116274950,559919194,559919194,559919194]
["Other financial liabilities"]
["Total Non current liabilities - Financial liabilities",null,{"$f":"SUM(C154:C155)","v":124581612},{"$f":"SUM(D154:D155)","v":50310655},116274950,559919194,559919194,559919194,0,0,0,0]
[]
["Non current liabilities - Long Term  portion of trade payables",null,null,null,925331133,null,null,null,null,2796913885,2922775010,3054299885]
["Elelctricty Bulk Purchases",null,null,null,null,null,null,null,null,166379238,173866304,181690287]
["Payables and Accruals - General",null,null,null,null,null,null,null,null,0,0,0]
["Water Bulk Purchases",null,null,null,null,null,null,null,null,2630534647,2748908706,2872609598]
["Municipal Debt Relief"]
["Total Non current liabilities - Long Term  portion of trade payables",null,{"$f":"SUM(C159:C162)","v":0},{"$f":"SUM(D159:D162)","v":0},0,0,0,0,0,2796913885,2922775010,3054299885]
[]
["Provisions - non-current"]
["Retirement benefits",null,517190000,477915000,499399000,583456000,583456000,583456000,null,117456093,122741617,128264990]
[]
["Refuse landfill site rehabilitation",null,61113708,62175173,44650093,80110830,80110830,80110830]
["Other",null,72130000,68073000,72806000]
["Total Provisions non-current",null,{"$f":"+C166+C168+C169","v":650433708},{"$f":"+D166+D168+D169","v":608163173},616855093,663566830,663566830,663566830,{"$f":"+I166+I168+I169","v":0},{"$f":"+J166+J168+J169","v":117456093},122741617,128264990]
[]
["CHANGES IN NET ASSETS"]
[{"$f":"'A6-FinPos'!A47","v":"Accumulated surplus/(deficit)"}]
[{"$f":"A173&\" - opening balance\"","v":"Accumulated surplus/(deficit) - opening balance"},null,7155077645,7773527228,6490079940,10645375600,11294429714,11294429714,0,6699416064,6974497376,7362855572]
["GRAP adjustments"]
["Restated balance",null,{"$f":"SUM(C174:C175)","v":7155077645},{"$f":"SUM(D174:D175)","v":7773527228},{"$f":"SUM(E174:E175)","v":6490079940},{"$f":"SUM(F174:F175)","v":10645375600},11294429714,11294429714,0,6699416064,6974497376,7362855572]
[{"$f":"'A4-FinPerf RE'!A49","v":"Surplus/(Deficit)"},null,{"$f":"'A4-FinPerf RE'!C57","v":-237201280},{"$f":"'A4-FinPerf RE'!D57","v":525680309},{"$f":"'A4-FinPerf RE'!E57","v":-678456971},{"$f":"'A4-FinPerf RE'!F57","v":1040607161.5982113},{"$f":"'A4-FinPerf RE'!G57","v":1583744421.1709099},{"$f":"'A4-FinPerf RE'!H57","v":1589209509.1709099},{"$f":"'A4-FinPerf RE'!I57","v":-2750174794},{"$f":"'A4-FinPerf RE'!J57","v":1347210018.4623775},{"$f":"'A4-FinPerf RE'!K57","v":1376671935.8570347},{"$f":"'A4-FinPerf RE'!L57","v":1433376690.5590286}]
[]
["Transfers to/from Reserves"]
["Depreciation offsets",null,192177245]
["Other adjustments",null,null,null,null,null,null,null,-51890528]
["Accumulated Surplus/(Deficit)",1,{"$f":"SUM(C176:C181)","v":7110053610},{"$f":"SUM(D176:D181)","v":8299207537},{"$f":"SUM(E176:E181)","v":5811622969},11685982761.598211,12878174135.17091,12883639223.17091,-2802065322,8046626082.4623775,8351169311.8570347,8796232262.5590286]
["Reserves"]
["Housing Development Fund",null,105694249,110558453,108869140,0,0,0,-1468968,0,0,0]
["Capital replacement",null,785902,4605111,4628551,0,0,0,0,0,0,0]
["Self-insurance",null,552885,7173884,7248160,0,0,0,0,0,0,0]
["Other reserves",null,33028584,23254865,27602068,0,0,0,0,0,0,0]
["Revaluation",null,95350900,104575869,104575869,0,0,0,0,0,0,0]
["Total Reserves",2,{"$f":"SUM(C184:C188)","v":235412520},{"$f":"SUM(D184:D188)","v":250168182},252923788,0,0,0,-1468968,0,0,0]
[{"$f":"'A6-FinPos'!A50","v":"TOTAL COMMUNITY WEALTH/EQUITY"},2,{"$f":"C182+C189","v":7345466130},{"$f":"D182+D189","v":8549375719},6064546757,11685982761.598211,12878174135.17091,12883639223.17091,-2803534290,8046626082.4623775,8351169311.8570347,8796232262.5590286]
[]
[{"$f":"head27a","v":"References"}]
[{"$f":"\"1. Must reconcile with \"&'Template names'!F103","v":"1. Must reconcile with Table A4 Budgeted Financial Performance (revenue and expenditure)"}]
[{"$f":"\"2. Must reconcile with \"&'Template names'!F105","v":"2. Must reconcile with Table A6 Budgeted Financial Position"}]
["3. Leases treated as assets to be depreciated as the same as purchased/constructed assets.  Includes PPP asset element accounted for as finance leases"]
["4. Borrowing must reconcile to Table A17"]
["5. Trade Payable should only include Trade Payables from Exchance Transactions (\"True Creditors\")"]
["6. Inventory Consumed - Water - included under \"Inventory Consumed\" on Table A4 - Detail to be submitted on Table SA1"]
["7. Inventry Consumed Other - included under \"Inventory Consumed\" on Table A4 - Detail to be submitted on Table SA1"]
["8. Inventory Transfers/Adjustments (Include under gains/losses on Table A4)"]
["9. Inventory Write-offs (Include under losses on Table A4)"]

{"sheet":"SA4","index":24,"n_rows":25,"n_cols":13,"rows_kept":25,"cut":false,"hidden":false,"merged":[[1,7,1,9],[1,10,1,12],[1,3,2,3]]}
[{"$f":"muni&\" - \"&TableA4","v":"Choose name from list - Supporting Table SA4 Reconciliation of IDP strategic objectives and budget (revenue)"}]
["Strategic Objective","Goal","Goal\nCode",{"$f":"head27","v":"Ref"},{"$f":"head1b","v":"2021/22"},{"$f":"head1A","v":"2022/23"},{"$f":"Head1","v":"2023/24"},{"$f":"Head2","v":"Current Year 2024/25"},null,null,{"$f":"Head3","v":"2025/26 Medium Term Revenue & Expenditure Framework"}]
["R thousand",null,null,null,{"$f":"Head5","v":"Audited Outcome"},{"$f":"Head5","v":"Audited Outcome"},{"$f":"Head5","v":"Audited Outcome"},{"$f":"Head6","v":"Original Budget"},{"$f":"Head7","v":"Adjusted Budget"},{"$f":"Head8","v":"Full Year Forecast"},{"$f":"Head9","v":"Budget Year 2025/26"},{"$f":"Head10","v":"Budget Year +1 2026/27"},{"$f":"Head11","v":"Budget Year +2 2027/28"}]
["Financial Viability and Management","Financially viable and well governed City ",null,null,1733326540.558476,1917566487.3372741]
["Basic Service Delivery","Improved the state of municipal infrastructure ",null,null,4278003770.4173894,4509054916.1888828]
["Local Economic Development","An economically prosperous city ",null,null,28276444.530472964,31612979.833012529]
["Good governance and Public Participation","To develop strong welcoming, caring & diverse communities living in a variety of friendly.",null,null,360440966.97283018,402971915.63896465]
["Gross Cutting Issues","Reduce housing backlogs and eliminate spatial separation by racial categories.",null,null,-484956848.21265012,592272950.24008846]
["Municipal Transformation and Institutional Development","Improved customer experience & public participation  ",null,null,93028412.073482588,104005484.55117223]
[]
[]
[]
[]
[]
[]
[]
[]
[]
[]
[]
["Allocations to other priorities",null,null,2]
[{"$f":"'A4-FinPerf RE'!A33","v":"Total Revenue (excluding capital transfers and contributions)"},null,null,1,{"$f":"SUM(E4:E21)","v":6008119286.3400002},7557484733.7893953,{"$f":"SUM(G4:G21)","v":0},0,0,0,0,0,0]
[{"$f":"head27a","v":"References"}]
[{"$f":"\"1. Total revenue must reconcile to \"&'Template names'!F103","v":"1. Total revenue must reconcile to Table A4 Budgeted Financial Performance (revenue and expenditure)"}]
["2. Balance of allocations not directly linked to an IDP strategic objective"]

{"sheet":"SA5","index":25,"n_rows":13,"n_cols":13,"rows_kept":13,"cut":false,"hidden":false,"merged":[[1,7,1,9],[1,10,1,12],[1,3,2,3]]}
[{"$f":"muni&\" - \"&TableA5","v":"Choose name from list - Supporting Table SA5 Reconciliation of IDP strategic objectives and budget (operating expenditure)"}]
["Strategic Objective","Goal","Goal\nCode",{"$f":"head27","v":"Ref"},{"$f":"head1b","v":"2021/22"},{"$f":"head1A","v":"2022/23"},{"$f":"Head1","v":"2023/24"},{"$f":"Head2","v":"Current Year 2024/25"},null,null,{"$f":"Head3","v":"2025/26 Medium Term Revenue & Expenditure Framework"}]
["R thousand",null,null,null,{"$f":"Head5","v":"Audited Outcome"},{"$f":"Head5","v":"Audited Outcome"},{"$f":"Head5","v":"Audited Outcome"},{"$f":"Head6","v":"Original Budget"},{"$f":"Head7","v":"Adjusted Budget"},{"$f":"Head8","v":"Full Year Forecast"},{"$f":"Head9","v":"Budget Year 2025/26"},{"$f":"Head10","v":"Budget Year +1 2026/27"},{"$f":"Head11","v":"Budget Year +2 2027/28"}]
["Financial Viability and Management","Financially viable and well governed City ",null,null,null,null,651385498.43029404]
["Basic Service Delivery","Improved the state of municipal infrastructure ",null,null,null,null,1537091025.0222185]
["Local Economic Development","An economically prosperous city ",null,null,null,null,609663672.13093686]
["Good governance and Public Participation","To develop strong welcoming, caring & diverse communities living in a variety of friendly.",null,null,null,null,188660276.50490439]
["Gross Cutting Issues","Reduce housing backlogs and eliminate spatial separation by racial categories.",null,null,null,null,3974249099.0657892]
["Municipal Transformation and Institutional Development","Improved customer experience & public participation  ",null,null,null,null,15774513.301978219]
[{"$f":"'A4-FinPerf RE'!A48","v":"Total Expenditure"},null,null,1,{"$f":"SUM(E4:E9)","v":0},0,6976824084.4561205,0,0,0,0,0,0]
[{"$f":"head27a","v":"References"}]
[{"$f":"\"1. Total expenditure must reconcile to \"&'Template names'!F103","v":"1. Total expenditure must reconcile to Table A4 Budgeted Financial Performance (revenue and expenditure)"}]
["2. Balance of allocations not directly linked to an IDP strategic objective"]

{"sheet":"SA6","index":26,"n_rows":25,"n_cols":13,"rows_kept":25,"cut":false,"hidden":false,"merged":[[1,7,1,9],[1,10,1,12],[1,3,2,3]]}
[{"$f":"muni&\" - \"&TableA6","v":"Choose name from list - Supporting Table SA6 Reconciliation of IDP strategic objectives and budget (capital expenditure)"}]
["Strategic Objective","Goal","Goal Code",{"$f":"head27","v":"Ref"},{"$f":"head1b","v":"2021/22"},{"$f":"head1A","v":"2022/23"},{"$f":"Head1","v":"2023/24"},{"$f":"Head2","v":"Current Year 2024/25"},null,null,{"$f":"Head3","v":"2025/26 Medium Term Revenue & Expenditure Framework"}]
["R thousand",null,null,null,{"$f":"Head5","v":"Audited Outcome"},{"$f":"Head5","v":"Audited Outcome"},{"$f":"Head5","v":"Audited Outcome"},{"$f":"Head6","v":"Original Budget"},{"$f":"Head7","v":"Adjusted Budget"},{"$f":"Head8","v":"Full Year Forecast"},{"$f":"Head9","v":"Budget Year 2025/26"},{"$f":"Head10","v":"Budget Year +1 2026/27"},{"$f":"Head11","v":"Budget Year +2 2027/28"}]
["Financial Viability and Management","Financially viable and well governed City ","A",null,null,null,122777980.66907495]
["Basic Service Delivery","Improved the state of municipal infrastructure ","B",null,null,null,2518315494.3232508]
["Local Economic Development","An economically prosperous city ","C",null,null,null,-2280663561.163991]
["Good governance and Public Participation","To develop strong welcoming, caring & diverse communities living in a variety of friendly.","D",null,null,null,31612979.833012529]
["Gross Cutting Issues","Reduce housing backlogs and eliminate spatial separation by racial categories.","E",null,null,null,402971915.63896465]
["Municipal Transformation and Institutional Development","Improved customer experience & public participation  ","F",null,null,null,102635309.56968786]
[null,null,"G"]
[null,null,"H"]
[null,null,"I"]
[null,null,"J"]
[null,null,"K"]
[null,null,"L"]
[null,null,"M"]
[null,null,"N"]
[null,null,"O"]
[null,null,"P"]
["Allocations to other priorities",null,null,3]
["Total Capital Expenditure",null,null,1,{"$f":"SUM(E4:E20)","v":0},{"$f":"SUM(F4:F20)","v":0},897650118.86999989,0,0,0,0,0,0]
[{"$f":"head27a","v":"References"}]
["1. Total capital expenditure must reconcile to Budgeted Capital Expenditure"]
["2. Goal code must be used on Table SA36"]
["3. Balance of allocations not directly linked to an IDP strategic objective"]

{"sheet":"SA7","index":27,"n_rows":89,"n_cols":11,"rows_kept":89,"cut":false,"hidden":false,"merged":[[1,1,2,1],[1,0,2,0],[1,5,1,7],[1,8,1,10],[87,0,87,10],[67,0,67,10],[72,0,73,0],[72,1,73,1],[72,5,72,7],[72,8,72,10]]}
[{"$f":"muni&\" - \"&TableA7","v":"Choose name from list - Supporting Table SA7 Measureable performance objectives"}]
["Description","Unit of measurement",{"$f":"head1b","v":"2021/22"},{"$f":"head1A","v":"2022/23"},{"$f":"Head1","v":"2023/24"},{"$f":"Head2","v":"Current Year 2024/25"},null,null,{"$f":"Head3","v":"2025/26 Medium Term Revenue & Expenditure Framework"}]
[null,null,{"$f":"Head5","v":"Audited Outcome"},{"$f":"Head5","v":"Audited Outcome"},{"$f":"Head5","v":"Audited Outcome"},{"$f":"Head6","v":"Original Budget"},{"$f":"Head7","v":"Adjusted Budget"},{"$f":"Head8","v":"Full Year Forecast"},{"$f":"Head9","v":"Budget Year 2025/26"},{"$f":"Head10","v":"Budget Year +1 2026/27"},{"$f":"Head11","v":"Budget Year +2 2027/28"}]
["Vote 1 - vote name"]
["Function 1 - (name)"]
["Sub-function 1 - (name)"]
["Insert measure/s description"]
[]
["Sub-function 2 - (name)"]
["Insert measure/s description"]
[]
["Sub-function 3 - (name)"]
["Insert measure/s description"]
[]
["Function 2 - (name)"]
["Sub-function 1 - (name)"]
["Insert measure/s description"]
[]
["Sub-function 2 - (name)"]
["Insert measure/s description"]
[]
["Sub-function 3 - (name)"]
["Insert measure/s description"]
[]
["Vote 2 - vote name"]
["Function 1 - (name)"]
["Sub-function 1 - (name)"]
["Insert measure/s description"]
[]
["Sub-function 2 - (name)"]
["Insert measure/s description"]
[]
["Sub-function 3 - (name)"]
["Insert measure/s description"]
[]
["Function 2 - (name)"]
["Sub-function 1 - (name)"]
["Insert measure/s description"]
[]
["Sub-function 2 - (name)"]
["Insert measure/s description"]
[]
["Sub-function 3 - (name)"]
["Insert measure/s description"]
[]
["Vote 3 - vote name"]
["Function 1 - (name)"]
["Sub-function 1 - (name)"]
["Insert measure/s description"]
[]
["Sub-function 2 - (name)"]
["Insert measure/s description"]
[]
["Sub-function 3 - (name)"]
["Insert measure/s description"]
[]
["Function 2 - (name)"]
["Sub-function 1 - (name)"]
["Insert measure/s description"]
[]
["Sub-function 2 - (name)"]
["Insert measure/s description"]
[]
["Sub-function 3 - (name)"]
["Insert measure/s description"]
[]
["And so on for the rest of the Votes"]
["1. Include a measurable performance objective for each revenue source (within a relevant function) and each vote (MFMA s17(3)(b))"]
["2. Include all Basic Services performance targets from 'Basic Service Delivery' to ensure Table SA7 represents all strategic responsibilities"]
["3. Only include prior year comparative information for individual measures where relevant activity occurred in that year/s"]
[]
[{"$f":"muni&\" - \"&\"Entities measureable performance objectives\"","v":"Choose name from list - Entities measureable performance objectives"}]
[{"$f":"A2","v":"Description"},"Unit of measurement",{"$f":"head1b","v":"2021/22"},{"$f":"head1A","v":"2022/23"},{"$f":"Head1","v":"2023/24"},{"$f":"Head2","v":"Current Year 2024/25"},null,null,{"$f":"Head3","v":"2025/26 Medium Term Revenue & Expenditure Framework"}]
[null,null,{"$f":"Head5","v":"Audited Outcome"},{"$f":"Head5","v":"Audited Outcome"},{"$f":"Head5","v":"Audited Outcome"},{"$f":"Head6","v":"Original Budget"},{"$f":"Head7","v":"Adjusted Budget"},{"$f":"Head8","v":"Full Year Forecast"},{"$f":"Head9","v":"Budget Year 2025/26"},{"$f":"Head10","v":"Budget Year +1 2026/27"},{"$f":"Head11","v":"Budget Year +2 2027/28"}]
["Entity 1 - (name of entity)"]
["Insert measure/s description"]
[]
[]
["Entity 2 - (name of entity)"]
[{"$f":"$A$10","v":"Insert measure/s description"}]
[]
[]
["Entity 3 - (name of entity)"]
[{"$f":"$A$10","v":"Insert measure/s description"}]
[]
[]
["And so on for the rest of the Entities"]
["1. Include a measurable performance objective as agreed with the parent municipality (MFMA s87(5)(d))"]
["2. Only include prior year comparative information for individual measures where relevant activity occurred in that year/s"]

{"sheet":"SA8","index":28,"n_rows":53,"n_cols":12,"rows_kept":53,"cut":false,"hidden":false,"merged":[[32,0,34,0],[1,0,2,0],[1,9,1,11],[1,1,2,1],[1,5,1,8],[25,0,28,0],[29,0,31,0]]}
[{"$f":"muni&\" - \"&TableA8","v":"Choose name from list - Supporting Table SA8 Performance indicators and benchmarks"}]
["Description of financial indicator","Basis of calculation",{"$f":"head1b","v":"2021/22"},{"$f":"head1A","v":"2022/23"},{"$f":"Head1","v":"2023/24"},{"$f":"Head2","v":"Current Year 2024/25"},null,null,null,{"$f":"Head3","v":"2025/26 Medium Term Revenue & Expenditure Framework"}]
[null,null,{"$f":"Head5","v":"Audited Outcome"},{"$f":"Head5","v":"Audited Outcome"},{"$f":"Head5","v":"Audited Outcome"},{"$f":"Head6","v":"Original Budget"},{"$f":"Head7","v":"Adjusted Budget"},{"$f":"Head8","v":"Full Year Forecast"},{"$f":"Head5b","v":"Pre-audit outcome"},{"$f":"Head9","v":"Budget Year 2025/26"},{"$f":"Head10","v":"Budget Year +1 2026/27"},{"$f":"Head11","v":"Budget Year +2 2027/28"}]
["Borrowing Management"]
[]
["Credit Rating"]
["Capital Charges to Operating Expenditure","Interest & Principal Paid /Operating Expenditure",{"$f":"IF(ISERROR(('A4-FinPerf RE'!C41-'A7-CFlow'!C35)/'A4-FinPerf RE'!C48),0,(('A4-FinPerf RE'!C41-'A7-CFlow'!C35)/'A4-FinPerf RE'!C48))","v":1.7132350606991725E-2},{"$f":"IF(ISERROR(('A4-FinPerf RE'!D41-'A7-CFlow'!D35)/'A4-FinPerf RE'!D48),0,(('A4-FinPerf RE'!D41-'A7-CFlow'!D35)/'A4-FinPerf RE'!D48))","v":3.6939894529698591E-2},{"$f":"IF(ISERROR(('A4-FinPerf RE'!E41-'A7-CFlow'!E35)/'A4-FinPerf RE'!E48),0,(('A4-FinPerf RE'!E41-'A7-CFlow'!E35)/'A4-FinPerf RE'!E48))","v":1.995511923242882E-2},{"$f":"IF(ISERROR(('A4-FinPerf RE'!F41-'A7-CFlow'!F35)/'A4-FinPerf RE'!F48),0,(('A4-FinPerf RE'!F41-'A7-CFlow'!F35)/'A4-FinPerf RE'!F48))","v":7.8547496941940784E-3},{"$f":"IF(ISERROR(('A4-FinPerf RE'!G41-'A7-CFlow'!G35)/'A4-FinPerf RE'!G48),0,(('A4-FinPerf RE'!G41-'A7-CFlow'!G35)/'A4-FinPerf RE'!G48))","v":1.1786634680260463E-2},{"$f":"IF(ISERROR(('A4-FinPerf RE'!H41-'A7-CFlow'!H35)/'A4-FinPerf RE'!H48),0,(('A4-FinPerf RE'!H41-'A7-CFlow'!H35)/'A4-FinPerf RE'!H48))","v":1.1786634680260463E-2},{"$f":"IF(ISERROR(('A4-FinPerf RE'!I41-'A7-CFlow'!I35)/'A4-FinPerf RE'!I48),0,(('A4-FinPerf RE'!I41-'A7-CFlow'!I35)/'A4-FinPerf RE'!I48))","v":0},{"$f":"IF(ISERROR(('A4-FinPerf RE'!J41-'A7-CFlow'!J35)/'A4-FinPerf RE'!J48),0,(('A4-FinPerf RE'!J41-'A7-CFlow'!J35)/'A4-FinPerf RE'!J48))","v":1.7073519486868589E-2},{"$f":"IF(ISERROR(('A4-FinPerf RE'!K41-'A7-CFlow'!K35)/'A4-FinPerf RE'!K48),0,(('A4-FinPerf RE'!K41-'A7-CFlow'!K35)/'A4-FinPerf RE'!K48))","v":1.639459493896573E-2},{"$f":"IF(ISERROR(('A4-FinPerf RE'!L41-'A7-CFlow'!L35)/'A4-FinPerf RE'!L48),0,(('A4-FinPerf RE'!L41-'A7-CFlow'!L35)/'A4-FinPerf RE'!L48))","v":1.6051844670255892E-2}]
["Capital Charges to Own Revenue","Finance charges & Repayment of borrowing /Own Revenue",{"$f":"IF(ISERROR(('A4-FinPerf RE'!C41-'A7-CFlow'!C35)/('A4-FinPerf RE'!C33-'A4-FinPerf RE'!C30)),0,(('A4-FinPerf RE'!C41-'A7-CFlow'!C35)/('A4-FinPerf RE'!C33-'A4-FinPerf RE'!C30)))","v":1.8845758659300257E-2},{"$f":"IF(ISERROR(('A4-FinPerf RE'!D41-'A7-CFlow'!D35)/('A4-FinPerf RE'!D33-'A4-FinPerf RE'!D30)),0,(('A4-FinPerf RE'!D41-'A7-CFlow'!D35)/('A4-FinPerf RE'!D33-'A4-FinPerf RE'!D30)))","v":3.579738488931411E-2},{"$f":"IF(ISERROR(('A4-FinPerf RE'!E41-'A7-CFlow'!E35)/('A4-FinPerf RE'!E33-'A4-FinPerf RE'!E30)),0,(('A4-FinPerf RE'!E41-'A7-CFlow'!E35)/('A4-FinPerf RE'!E33-'A4-FinPerf RE'!E30)))","v":2.3144229305839079E-2},{"$f":"IF(ISERROR(('A4-FinPerf RE'!F41-'A7-CFlow'!F35)/('A4-FinPerf RE'!F33-'A4-FinPerf RE'!F30)),0,(('A4-FinPerf RE'!F41-'A7-CFlow'!F35)/('A4-FinPerf RE'!F33-'A4-FinPerf RE'!F30)))","v":7.343333485849258E-3},{"$f":"IF(ISERROR(('A4-FinPerf RE'!G41-'A7-CFlow'!G35)/('A4-FinPerf RE'!G33-'A4-FinPerf RE'!G30)),0,(('A4-FinPerf RE'!G41-'A7-CFlow'!G35)/('A4-FinPerf RE'!G33-'A4-FinPerf RE'!G30)))","v":1.0347812692459726E-2},{"$f":"IF(ISERROR(('A4-FinPerf RE'!H41-'A7-CFlow'!H35)/('A4-FinPerf RE'!H33-'A4-FinPerf RE'!H30)),0,(('A4-FinPerf RE'!H41-'A7-CFlow'!H35)/('A4-FinPerf RE'!H33-'A4-FinPerf RE'!H30)))","v":1.0341512335747666E-2},{"$f":"IF(ISERROR(('A4-FinPerf RE'!I41-'A7-CFlow'!I35)/('A4-FinPerf RE'!I33-'A4-FinPerf RE'!I30)),0,(('A4-FinPerf RE'!I41-'A7-CFlow'!I35)/('A4-FinPerf RE'!I33-'A4-FinPerf RE'!I30)))","v":0},{"$f":"IF(ISERROR(('A4-FinPerf RE'!J41-'A7-CFlow'!J35)/('A4-FinPerf RE'!J33-'A4-FinPerf RE'!J30)),0,(('A4-FinPerf RE'!J41-'A7-CFlow'!J35)/('A4-FinPerf RE'!J33-'A4-FinPerf RE'!J30)))","v":1.5341178120877706E-2},{"$f":"IF(ISERROR(('A4-FinPerf RE'!K41-'A7-CFlow'!K35)/('A4-FinPerf RE'!K33-'A4-FinPerf RE'!K30)),0,(('A4-FinPerf RE'!K41-'A7-CFlow'!K35)/('A4-FinPerf RE'!K33-'A4-FinPerf RE'!K30)))","v":1.4851718328680381E-2},{"$f":"IF(ISERROR(('A4-FinPerf RE'!L41-'A7-CFlow'!L35)/('A4-FinPerf RE'!L33-'A4-FinPerf RE'!L30)),0,(('A4-FinPerf RE'!L41-'A7-CFlow'!L35)/('A4-FinPerf RE'!L33-'A4-FinPerf RE'!L30)))","v":1.4560545405115446E-2}]
["Borrowed funding of 'own' capital expenditure","Borrowing/Capital expenditure excl. transfers and grants and contributions",{"$f":"IF(ISERROR(C53/C52),0,(C53/C52))","v":0},{"$f":"IF(ISERROR(D53/D52),0,(D53/D52))","v":0},{"$f":"IF(ISERROR(E53/E52),0,(E53/E52))","v":0.44994991531330791},1.5069302526949007,1.7750264482254672,1.7750264482254672,0,1.7947155666666654,0,0]
["Safety of Capital"]
["Gearing","Long Term Borrowing/ Funds & Reserves",{"$f":"IF(ISERROR(('A6-FinPos'!C41/'A6-FinPos'!C48)),0,(('A6-FinPos'!C41/'A6-FinPos'!C48)))","v":0},{"$f":"IF(ISERROR(('A6-FinPos'!D41/'A6-FinPos'!D48)),0,(('A6-FinPos'!D41/'A6-FinPos'!D48)))","v":0},{"$f":"IF(ISERROR(('A6-FinPos'!E41/'A6-FinPos'!E48)),0,(('A6-FinPos'!E41/'A6-FinPos'!E48)))","v":3.6585373812288466},{"$f":"IF(ISERROR(('A6-FinPos'!F41/'A6-FinPos'!F48)),0,(('A6-FinPos'!F41/'A6-FinPos'!F48)))","v":0},{"$f":"IF(ISERROR(('A6-FinPos'!G41/'A6-FinPos'!G48)),0,(('A6-FinPos'!G41/'A6-FinPos'!G48)))","v":0},{"$f":"IF(ISERROR(('A6-FinPos'!H41/'A6-FinPos'!H48)),0,(('A6-FinPos'!H41/'A6-FinPos'!H48)))","v":0},{"$f":"IF(ISERROR(('A6-FinPos'!I41/'A6-FinPos'!I48)),0,(('A6-FinPos'!I41/'A6-FinPos'!I48)))","v":0},{"$f":"IF(ISERROR(('A6-FinPos'!J41/'A6-FinPos'!J48)),0,(('A6-FinPos'!J41/'A6-FinPos'!J48)))","v":0},{"$f":"IF(ISERROR(('A6-FinPos'!K41/'A6-FinPos'!K48)),0,(('A6-FinPos'!K41/'A6-FinPos'!K48)))","v":0},{"$f":"IF(ISERROR(('A6-FinPos'!L41/'A6-FinPos'!L48)),0,(('A6-FinPos'!L41/'A6-FinPos'!L48)))","v":0}]
["Liquidity"]
["Current Ratio","Current assets/current liabilities",{"$f":"IF(ISERROR('A6-FinPos'!C13/'A6-FinPos'!C37),0,('A6-FinPos'!C13/'A6-FinPos'!C37))","v":1.6163895014851655},{"$f":"IF(ISERROR('A6-FinPos'!D13/'A6-FinPos'!D37),0,('A6-FinPos'!D13/'A6-FinPos'!D37))","v":1.9142377481140269},{"$f":"IF(ISERROR('A6-FinPos'!E13/'A6-FinPos'!E37),0,('A6-FinPos'!E13/'A6-FinPos'!E37))","v":1.6970066995291799},{"$f":"IF(ISERROR('A6-FinPos'!F13/'A6-FinPos'!F37),0,('A6-FinPos'!F13/'A6-FinPos'!F37))","v":2.6979593588745661},{"$f":"IF(ISERROR('A6-FinPos'!G13/'A6-FinPos'!G37),0,('A6-FinPos'!G13/'A6-FinPos'!G37))","v":2.7502913841256338},{"$f":"IF(ISERROR('A6-FinPos'!H13/'A6-FinPos'!H37),0,('A6-FinPos'!H13/'A6-FinPos'!H37))","v":2.7488802173883111},{"$f":"IF(ISERROR('A6-FinPos'!I13/'A6-FinPos'!I37),0,('A6-FinPos'!I13/'A6-FinPos'!I37))","v":0},{"$f":"IF(ISERROR('A6-FinPos'!J13/'A6-FinPos'!J37),0,('A6-FinPos'!J13/'A6-FinPos'!J37))","v":1.4093891393388893},{"$f":"IF(ISERROR('A6-FinPos'!K13/'A6-FinPos'!K37),0,('A6-FinPos'!K13/'A6-FinPos'!K37))","v":1.4833760973306007},{"$f":"IF(ISERROR('A6-FinPos'!L13/'A6-FinPos'!L37),0,('A6-FinPos'!L13/'A6-FinPos'!L37))","v":1.5283427463296329}]
["Current Ratio adjusted for aged debtors","Current assets less debtors > 90 days/current liabilities",{"$f":"IF(ISERROR(('A6-FinPos'!C13-'SA8'!C49)/'A6-FinPos'!C37),0,(('A6-FinPos'!C13-'SA8'!C49)/'A6-FinPos'!C37))","v":1.6163895014851655},{"$f":"IF(ISERROR(('A6-FinPos'!D13-'SA8'!D49)/'A6-FinPos'!D37),0,(('A6-FinPos'!D13-'SA8'!D49)/'A6-FinPos'!D37))","v":1.9142377481140269},{"$f":"IF(ISERROR(('A6-FinPos'!E13-'SA8'!E49)/'A6-FinPos'!E37),0,(('A6-FinPos'!E13-'SA8'!E49)/'A6-FinPos'!E37))","v":1.6970066995291799},{"$f":"IF(ISERROR(('A6-FinPos'!F13-'SA8'!F49)/'A6-FinPos'!F37),0,(('A6-FinPos'!F13-'SA8'!F49)/'A6-FinPos'!F37))","v":2.6979593588745661},{"$f":"IF(ISERROR(('A6-FinPos'!G13-'SA8'!G49)/'A6-FinPos'!G37),0,(('A6-FinPos'!G13-'SA8'!G49)/'A6-FinPos'!G37))","v":2.7502913841256338},{"$f":"IF(ISERROR(('A6-FinPos'!H13-'SA8'!H49)/'A6-FinPos'!H37),0,(('A6-FinPos'!H13-'SA8'!H49)/'A6-FinPos'!H37))","v":2.7488802173883111},{"$f":"IF(ISERROR(('A6-FinPos'!I13-'SA8'!I49)/'A6-FinPos'!I37),0,(('A6-FinPos'!I13-'SA8'!I49)/'A6-FinPos'!I37))","v":0},{"$f":"IF(ISERROR(('A6-FinPos'!J13-'SA8'!J49)/'A6-FinPos'!J37),0,(('A6-FinPos'!J13-'SA8'!J49)/'A6-FinPos'!J37))","v":1.4093891393388893},{"$f":"IF(ISERROR(('A6-FinPos'!K13-'SA8'!K49)/'A6-FinPos'!K37),0,(('A6-FinPos'!K13-'SA8'!K49)/'A6-FinPos'!K37))","v":1.4833760973306007},{"$f":"IF(ISERROR(('A6-FinPos'!L13-'SA8'!L49)/'A6-FinPos'!L37),0,(('A6-FinPos'!L13-'SA8'!L49)/'A6-FinPos'!L37))","v":1.5283427463296329}]
["Liquidity Ratio","Monetary Assets/Current Liabilities",{"$f":"IF(ISERROR(('A6-FinPos'!C6+'A6-FinPos'!C7)/'A6-FinPos'!C37),0,(('A6-FinPos'!C6+'A6-FinPos'!C7)/'A6-FinPos'!C37))","v":0.82405672412640951},{"$f":"IF(ISERROR(('A6-FinPos'!D6+'A6-FinPos'!D7)/'A6-FinPos'!D37),0,(('A6-FinPos'!D6+'A6-FinPos'!D7)/'A6-FinPos'!D37))","v":0.92135611964992636},{"$f":"IF(ISERROR(('A6-FinPos'!E6+'A6-FinPos'!E7)/'A6-FinPos'!E37),0,(('A6-FinPos'!E6+'A6-FinPos'!E7)/'A6-FinPos'!E37))","v":0.45048137927758053},{"$f":"IF(ISERROR(('A6-FinPos'!F6+'A6-FinPos'!F7)/'A6-FinPos'!F37),0,(('A6-FinPos'!F6+'A6-FinPos'!F7)/'A6-FinPos'!F37))","v":1.205526734904361},{"$f":"IF(ISERROR(('A6-FinPos'!G6+'A6-FinPos'!G7)/'A6-FinPos'!G37),0,(('A6-FinPos'!G6+'A6-FinPos'!G7)/'A6-FinPos'!G37))","v":1.2525914979458139},{"$f":"IF(ISERROR(('A6-FinPos'!H6+'A6-FinPos'!H7)/'A6-FinPos'!H37),0,(('A6-FinPos'!H6+'A6-FinPos'!H7)/'A6-FinPos'!H37))","v":1.2522543883273378},{"$f":"IF(ISERROR(('A6-FinPos'!I6+'A6-FinPos'!I7)/'A6-FinPos'!I37),0,(('A6-FinPos'!I6+'A6-FinPos'!I7)/'A6-FinPos'!I37))","v":0},{"$f":"IF(ISERROR(('A6-FinPos'!J6+'A6-FinPos'!J7)/'A6-FinPos'!J37),0,(('A6-FinPos'!J6+'A6-FinPos'!J7)/'A6-FinPos'!J37))","v":0.96189015153635482},{"$f":"IF(ISERROR(('A6-FinPos'!K6+'A6-FinPos'!K7)/'A6-FinPos'!K37),0,(('A6-FinPos'!K6+'A6-FinPos'!K7)/'A6-FinPos'!K37))","v":1.0100534620530377},{"$f":"IF(ISERROR(('A6-FinPos'!L6+'A6-FinPos'!L7)/'A6-FinPos'!L37),0,(('A6-FinPos'!L6+'A6-FinPos'!L7)/'A6-FinPos'!L37))","v":1.0413144405971491}]
["Revenue Management"]
["Annual Debtors Collection Rate (Payment Level %)","Last 12 Mths Receipts/Last 12 Mths Billing",{"$f":"IF(ISERROR(('A7-CFlow'!B6+'A7-CFlow'!B7+'A7-CFlow'!B22+'A7-CFlow'!B23)/SUM('A4-FinPerf RE'!B5:B10)),0,('A7-CFlow'!B6+'A7-CFlow'!B7+'A7-CFlow'!B22+'A7-CFlow'!B23)/(SUM('A4-FinPerf RE'!B5:B10)))","v":0},{"$f":"IF(ISERROR(('A7-CFlow'!C6+'A7-CFlow'!C7+'A7-CFlow'!C22+'A7-CFlow'!C23)/SUM('A4-FinPerf RE'!C5:C10)),0,('A7-CFlow'!C6+'A7-CFlow'!C7+'A7-CFlow'!C22+'A7-CFlow'!C23)/(SUM('A4-FinPerf RE'!C5:C10)))","v":1.1187817596403984},{"$f":"IF(ISERROR(('A7-CFlow'!D6+'A7-CFlow'!D7+'A7-CFlow'!D22+'A7-CFlow'!D23)/SUM('A4-FinPerf RE'!D5:D10)),0,('A7-CFlow'!D6+'A7-CFlow'!D7+'A7-CFlow'!D22+'A7-CFlow'!D23)/(SUM('A4-FinPerf RE'!D5:D10)))","v":1.2502179912116962},{"$f":"IF(ISERROR(('A7-CFlow'!E6+'A7-CFlow'!E7+'A7-CFlow'!E22+'A7-CFlow'!E23)/SUM('A4-FinPerf RE'!E5:E10)),0,('A7-CFlow'!E6+'A7-CFlow'!E7+'A7-CFlow'!E22+'A7-CFlow'!E23)/(SUM('A4-FinPerf RE'!E5:E10)))","v":1.2259614335664499},{"$f":"IF(ISERROR(('A7-CFlow'!F6+'A7-CFlow'!F7+'A7-CFlow'!F22+'A7-CFlow'!F23)/SUM('A4-FinPerf RE'!F5:F10)),0,('A7-CFlow'!F6+'A7-CFlow'!F7+'A7-CFlow'!F22+'A7-CFlow'!F23)/(SUM('A4-FinPerf RE'!F5:F10)))","v":1.0310215649338963},{"$f":"IF(ISERROR(('A7-CFlow'!G6+'A7-CFlow'!G7+'A7-CFlow'!G22+'A7-CFlow'!G23)/SUM('A4-FinPerf RE'!G5:G10)),0,('A7-CFlow'!G6+'A7-CFlow'!G7+'A7-CFlow'!G22+'A7-CFlow'!G23)/(SUM('A4-FinPerf RE'!G5:G10)))","v":1.0972373501166843},{"$f":"IF(ISERROR(('A7-CFlow'!H6+'A7-CFlow'!H7+'A7-CFlow'!H22+'A7-CFlow'!H23)/SUM('A4-FinPerf RE'!H5:H10)),0,('A7-CFlow'!H6+'A7-CFlow'!H7+'A7-CFlow'!H22+'A7-CFlow'!H23)/(SUM('A4-FinPerf RE'!H5:H10)))","v":1.0961774751556157},{"$f":"IF(ISERROR(('A7-CFlow'!I6+'A7-CFlow'!I7+'A7-CFlow'!I22+'A7-CFlow'!I23)/SUM('A4-FinPerf RE'!I5:I10)),0,('A7-CFlow'!I6+'A7-CFlow'!I7+'A7-CFlow'!I22+'A7-CFlow'!I23)/(SUM('A4-FinPerf RE'!I5:I10)))","v":0},{"$f":"IF(ISERROR(('A7-CFlow'!J6+'A7-CFlow'!J7+'A7-CFlow'!J22+'A7-CFlow'!J23)/SUM('A4-FinPerf RE'!J5:J10)),0,('A7-CFlow'!J6+'A7-CFlow'!J7+'A7-CFlow'!J22+'A7-CFlow'!J23)/(SUM('A4-FinPerf RE'!J5:J10)))","v":1.0712310335552566},{"$f":"IF(ISERROR(('A7-CFlow'!K6+'A7-CFlow'!K7+'A7-CFlow'!K22+'A7-CFlow'!K23)/SUM('A4-FinPerf RE'!K5:K10)),0,('A7-CFlow'!K6+'A7-CFlow'!K7+'A7-CFlow'!K22+'A7-CFlow'!K23)/(SUM('A4-FinPerf RE'!K5:K10)))","v":1.0703041844049765}]
["Current Debtors Collection Rate (Cash receipts % of Ratepayer & Other revenue)",null,{"$f":"IF(ISERROR(('A7-CFlow'!C6+'A7-CFlow'!C7)/SUM('A4-FinPerf RE'!C5:C10)),0,(('A7-CFlow'!C6+'A7-CFlow'!C7)/SUM('A4-FinPerf RE'!C5:C10)))","v":1.1188747081418351},{"$f":"IF(ISERROR(('A7-CFlow'!D6+'A7-CFlow'!D7)/SUM('A4-FinPerf RE'!D5:D10)),0,(('A7-CFlow'!D6+'A7-CFlow'!D7)/SUM('A4-FinPerf RE'!D5:D10)))","v":1.2534339312929941},{"$f":"IF(ISERROR(('A7-CFlow'!E6+'A7-CFlow'!E7)/SUM('A4-FinPerf RE'!E5:E10)),0,(('A7-CFlow'!E6+'A7-CFlow'!E7)/SUM('A4-FinPerf RE'!E5:E10)))","v":1.2274745583222431},{"$f":"IF(ISERROR(('A7-CFlow'!F6+'A7-CFlow'!F7)/SUM('A4-FinPerf RE'!F5:F10)),0,(('A7-CFlow'!F6+'A7-CFlow'!F7)/SUM('A4-FinPerf RE'!F5:F10)))","v":1.0310215649338963},{"$f":"IF(ISERROR(('A7-CFlow'!G6+'A7-CFlow'!G7)/SUM('A4-FinPerf RE'!G5:G10)),0,(('A7-CFlow'!G6+'A7-CFlow'!G7)/SUM('A4-FinPerf RE'!G5:G10)))","v":1.0972373501166843},{"$f":"IF(ISERROR(('A7-CFlow'!H6+'A7-CFlow'!H7)/SUM('A4-FinPerf RE'!H5:H10)),0,(('A7-CFlow'!H6+'A7-CFlow'!H7)/SUM('A4-FinPerf RE'!H5:H10)))","v":1.0961774751556157},{"$f":"IF(ISERROR(('A7-CFlow'!I6+'A7-CFlow'!I7)/SUM('A4-FinPerf RE'!I5:I10)),0,(('A7-CFlow'!I6+'A7-CFlow'!I7)/SUM('A4-FinPerf RE'!I5:I10)))","v":0},{"$f":"IF(ISERROR(('A7-CFlow'!J6+'A7-CFlow'!J7)/SUM('A4-FinPerf RE'!J5:J10)),0,(('A7-CFlow'!J6+'A7-CFlow'!J7)/SUM('A4-FinPerf RE'!J5:J10)))","v":1.0712310335552566},{"$f":"IF(ISERROR(('A7-CFlow'!K6+'A7-CFlow'!K7)/SUM('A4-FinPerf RE'!K5:K10)),0,(('A7-CFlow'!K6+'A7-CFlow'!K7)/SUM('A4-FinPerf RE'!K5:K10)))","v":1.0703041844049765},{"$f":"IF(ISERROR(('A7-CFlow'!L6+'A7-CFlow'!L7)/SUM('A4-FinPerf RE'!L5:L10)),0,(('A7-CFlow'!L6+'A7-CFlow'!L7)/SUM('A4-FinPerf RE'!L5:L10)))","v":1.0647642991601818}]
["Outstanding Debtors to Revenue","Total Outstanding Debtors to Annual Revenue",{"$f":"IF(ISERROR(('A6-FinPos'!C8+'A6-FinPos'!C10+'A6-FinPos'!C11+'A6-FinPos'!C16)/'A4-FinPerf RE'!C33),0,(('A6-FinPos'!C8+'A6-FinPos'!C10+'A6-FinPos'!C11+'A6-FinPos'!C16)/'A4-FinPerf RE'!C33))","v":0.37365942836865701},{"$f":"IF(ISERROR(('A6-FinPos'!D8+'A6-FinPos'!D10+'A6-FinPos'!D11+'A6-FinPos'!D16)/'A4-FinPerf RE'!D33),0,(('A6-FinPos'!D8+'A6-FinPos'!D10+'A6-FinPos'!D11+'A6-FinPos'!D16)/'A4-FinPerf RE'!D33))","v":0.55223722924157159},{"$f":"IF(ISERROR(('A6-FinPos'!E8+'A6-FinPos'!E10+'A6-FinPos'!E11+'A6-FinPos'!E16)/'A4-FinPerf RE'!E33),0,(('A6-FinPos'!E8+'A6-FinPos'!E10+'A6-FinPos'!E11+'A6-FinPos'!E16)/'A4-FinPerf RE'!E33))","v":0.58220739327005377},{"$f":"IF(ISERROR(('A6-FinPos'!F8+'A6-FinPos'!F10+'A6-FinPos'!F11+'A6-FinPos'!F16)/'A4-FinPerf RE'!F33),0,(('A6-FinPos'!F8+'A6-FinPos'!F10+'A6-FinPos'!F11+'A6-FinPos'!F16)/'A4-FinPerf RE'!F33))","v":0.50400867977989772},{"$f":"IF(ISERROR(('A6-FinPos'!G8+'A6-FinPos'!G10+'A6-FinPos'!G11+'A6-FinPos'!G16)/'A4-FinPerf RE'!G33),0,(('A6-FinPos'!G8+'A6-FinPos'!G10+'A6-FinPos'!G11+'A6-FinPos'!G16)/'A4-FinPerf RE'!G33))","v":0.5114221603187481},{"$f":"IF(ISERROR(('A6-FinPos'!H8+'A6-FinPos'!H10+'A6-FinPos'!H11+'A6-FinPos'!H16)/'A4-FinPerf RE'!H33),0,(('A6-FinPos'!H8+'A6-FinPos'!H10+'A6-FinPos'!H11+'A6-FinPos'!H16)/'A4-FinPerf RE'!H33))","v":0.51111077644118641},{"$f":"IF(ISERROR(('A6-FinPos'!I8+'A6-FinPos'!I10+'A6-FinPos'!I11+'A6-FinPos'!I16)/'A4-FinPerf RE'!I33),0,(('A6-FinPos'!I8+'A6-FinPos'!I10+'A6-FinPos'!I11+'A6-FinPos'!I16)/'A4-FinPerf RE'!I33))","v":1.2312665105542318},{"$f":"IF(ISERROR(('A6-FinPos'!J8+'A6-FinPos'!J10+'A6-FinPos'!J11+'A6-FinPos'!J16)/'A4-FinPerf RE'!J33),0,(('A6-FinPos'!J8+'A6-FinPos'!J10+'A6-FinPos'!J11+'A6-FinPos'!J16)/'A4-FinPerf RE'!J33))","v":0.19803669931596585},{"$f":"IF(ISERROR(('A6-FinPos'!K8+'A6-FinPos'!K10+'A6-FinPos'!K11+'A6-FinPos'!K16)/'A4-FinPerf RE'!K33),0,(('A6-FinPos'!K8+'A6-FinPos'!K10+'A6-FinPos'!K11+'A6-FinPos'!K16)/'A4-FinPerf RE'!K33))","v":0.19693986316241213},{"$f":"IF(ISERROR(('A6-FinPos'!L8+'A6-FinPos'!L10+'A6-FinPos'!L11+'A6-FinPos'!L16)/'A4-FinPerf RE'!L33),0,(('A6-FinPos'!L8+'A6-FinPos'!L10+'A6-FinPos'!L11+'A6-FinPos'!L16)/'A4-FinPerf RE'!L33))","v":0.19671978849877408}]
["Longstanding Debtors Recovered","Debtors > 12 Mths Recovered/Total Debtors > 12 Months Old"]
["Creditors Management"]
["Creditors System Efficiency","% of Creditors Paid Within Terms (within`MFMA' s 65(e))"]
["Creditors to Cash and Investments",null,{"$f":"IF(ISERROR('SA3'!C147/'A7-CFlow'!C40),0,('SA3'!C147/'A7-CFlow'!C40))","v":6.7768215652763555},{"$f":"IF(ISERROR('SA3'!D147/'A7-CFlow'!D40),0,('SA3'!D147/'A7-CFlow'!D40))","v":5.8381669595110148},{"$f":"IF(ISERROR('SA3'!E147/'A7-CFlow'!E40),0,('SA3'!E147/'A7-CFlow'!E40))","v":6.4236360433176207},{"$f":"IF(ISERROR('SA3'!F147/'A7-CFlow'!F40),0,('SA3'!F147/'A7-CFlow'!F40))","v":2.6762484599311671},{"$f":"IF(ISERROR('SA3'!G147/'A7-CFlow'!G40),0,('SA3'!G147/'A7-CFlow'!G40))","v":2.5986035155262557},{"$f":"IF(ISERROR('SA3'!H147/'A7-CFlow'!H40),0,('SA3'!H147/'A7-CFlow'!H40))","v":2.6138079868214015},{"$f":"IF(ISERROR('SA3'!I147/'A7-CFlow'!I40),0,('SA3'!I147/'A7-CFlow'!I40))","v":0},{"$f":"IF(ISERROR('SA3'!J147/'A7-CFlow'!J40),0,('SA3'!J147/'A7-CFlow'!J40))","v":4.3371102201348553},{"$f":"IF(ISERROR('SA3'!K147/'A7-CFlow'!K40),0,('SA3'!K147/'A7-CFlow'!K40))","v":4.1126427044286311},{"$f":"IF(ISERROR('SA3'!L147/'A7-CFlow'!L40),0,('SA3'!L147/'A7-CFlow'!L40))","v":4.0895848662102008}]
[]
["Other Indicators"]
["Electricity Distribution Losses (2)","Total Volume Losses (kW) technical"]
[null,"Total Volume Losses (kW) non technical"]
[null,"Total Cost of Losses (Rand '000)"]
[null,"% Volume (units purchased and generated less units sold)/units purchased and generated"]
["Water Volumes :System input","Bulk Purchase"]
[null,"Water treatment works"]
[null,"Natural sources"]
["Water Distribution Losses (2)","Total Volume Losses (kℓ)"]
[null,"Total Cost of Losses (Rand '000)"]
[null,"% Volume (units purchased and generated less units sold)/units purchased and generated"]
["Employee costs","Employee costs/(Total Revenue - capital revenue)",{"$f":"IF(ISERROR('A4-FinPerf RE'!C35/'A4-FinPerf RE'!C33),0,('A4-FinPerf RE'!C35/'A4-FinPerf RE'!C33))","v":0.24204020003588395},{"$f":"IF(ISERROR('A4-FinPerf RE'!D35/'A4-FinPerf RE'!D33),0,('A4-FinPerf RE'!D35/'A4-FinPerf RE'!D33))","v":0.23008090747224866},{"$f":"IF(ISERROR('A4-FinPerf RE'!E35/'A4-FinPerf RE'!E33),0,('A4-FinPerf RE'!E35/'A4-FinPerf RE'!E33))","v":0.23455071934479452},{"$f":"IF(ISERROR('A4-FinPerf RE'!F35/'A4-FinPerf RE'!F33),0,('A4-FinPerf RE'!F35/'A4-FinPerf RE'!F33))","v":0.20755905540471267},{"$f":"IF(ISERROR('A4-FinPerf RE'!G35/'A4-FinPerf RE'!G33),0,('A4-FinPerf RE'!G35/'A4-FinPerf RE'!G33))","v":0.19763034925854805},{"$f":"IF(ISERROR('A4-FinPerf RE'!H35/'A4-FinPerf RE'!H33),0,('A4-FinPerf RE'!H35/'A4-FinPerf RE'!H33))","v":0.19901653404324582},{"$f":"IF(ISERROR('A4-FinPerf RE'!I35/'A4-FinPerf RE'!I33),0,('A4-FinPerf RE'!I35/'A4-FinPerf RE'!I33))","v":0.491279320442709},{"$f":"IF(ISERROR('A4-FinPerf RE'!J35/'A4-FinPerf RE'!J33),0,('A4-FinPerf RE'!J35/'A4-FinPerf RE'!J33))","v":0.20316764251709452},{"$f":"IF(ISERROR('A4-FinPerf RE'!K35/'A4-FinPerf RE'!K33),0,('A4-FinPerf RE'!K35/'A4-FinPerf RE'!K33))","v":0.20706754805783037},{"$f":"IF(ISERROR('A4-FinPerf RE'!L35/'A4-FinPerf RE'!L33),0,('A4-FinPerf RE'!L35/'A4-FinPerf RE'!L33))","v":0.21229116736438222}]
["Remuneration","Total remuneration/(Total Revenue - capital revenue)",{"$f":"IF(ISERROR('SA22'!C122/'A4-FinPerf RE'!C33),0,('SA22'!C122/'A4-FinPerf RE'!C33))","v":0.22475480621503305},{"$f":"IF(ISERROR('SA22'!D122/'A4-FinPerf RE'!D33),0,('SA22'!D122/'A4-FinPerf RE'!D33))","v":0.22721847689614805},{"$f":"IF(ISERROR('SA22'!E122/'A4-FinPerf RE'!E33),0,('SA22'!E122/'A4-FinPerf RE'!E33))","v":0.21789543519924306},{"$f":"IF(ISERROR('SA22'!F122/'A4-FinPerf RE'!F33),0,('SA22'!F122/'A4-FinPerf RE'!F33))","v":0.1717089303024561},{"$f":"IF(ISERROR('SA22'!G122/'A4-FinPerf RE'!G33),0,('SA22'!G122/'A4-FinPerf RE'!G33))","v":0.17768421524376482},{"$f":"IF(ISERROR('SA22'!H122/'A4-FinPerf RE'!H33),0,('SA22'!H122/'A4-FinPerf RE'!H33))","v":0.16979440551344668},{"$f":"IF(ISERROR('SA22'!I122/'A4-FinPerf RE'!I33),0,('SA22'!I122/'A4-FinPerf RE'!I33))","v":0.737452974943131},{"$f":"IF(ISERROR('SA22'!I122/'A4-FinPerf RE'!J33),0,('SA22'!I122/'A4-FinPerf RE'!J33))","v":0.16968085522448559},{"$f":"IF(ISERROR('SA22'!J122/'A4-FinPerf RE'!K33),0,('SA22'!J122/'A4-FinPerf RE'!K33))","v":0.17049818176826664},{"$f":"IF(ISERROR('SA22'!K122/'A4-FinPerf RE'!L33),0,('SA22'!K122/'A4-FinPerf RE'!L33))","v":0.17051275628624515}]
["Repairs & Maintenance","R&M/(Total Revenue excluding capital revenue)",{"$f":"IF(ISERROR('A9-Asset'!C184/'A4-FinPerf RE'!C33),0,('A9-Asset'!C184/'A4-FinPerf RE'!C33))","v":0},{"$f":"IF(ISERROR('A9-Asset'!D184/'A4-FinPerf RE'!D33),0,('A9-Asset'!D184/'A4-FinPerf RE'!D33))","v":0},{"$f":"IF(ISERROR('A9-Asset'!E184/'A4-FinPerf RE'!E33),0,('A9-Asset'!E184/'A4-FinPerf RE'!E33))","v":0},{"$f":"IF(ISERROR('A9-Asset'!F184/'A4-FinPerf RE'!F33),0,('A9-Asset'!F184/'A4-FinPerf RE'!F33))","v":6.9681163703144797E-2},{"$f":"IF(ISERROR('A9-Asset'!G184/'A4-FinPerf RE'!G33),0,('A9-Asset'!G184/'A4-FinPerf RE'!G33))","v":4.7947804263715657E-2},{"$f":"IF(ISERROR('A9-Asset'!H184/'A4-FinPerf RE'!H33),0,('A9-Asset'!H184/'A4-FinPerf RE'!H33))","v":4.7918610821642484E-2},{"$f":"IF(ISERROR('A9-Asset'!I184/'A4-FinPerf RE'!I33),0,('A9-Asset'!I184/'A4-FinPerf RE'!I33))","v":0.22751368161222224},{"$f":"IF(ISERROR('A9-Asset'!I184/'A4-FinPerf RE'!J33),0,('A9-Asset'!I184/'A4-FinPerf RE'!J33))","v":5.2348715623813456E-2},{"$f":"IF(ISERROR('A9-Asset'!J184/'A4-FinPerf RE'!K33),0,('A9-Asset'!J184/'A4-FinPerf RE'!K33))","v":5.4862524487599949E-2},{"$f":"IF(ISERROR('A9-Asset'!K184/'A4-FinPerf RE'!L33),0,('A9-Asset'!K184/'A4-FinPerf RE'!L33))","v":5.6260743696934949E-2}]
["Finance charges & Depreciation","FC&D/(Total Revenue - capital revenue)",{"$f":"IF(ISERROR(('A4-FinPerf RE'!C41+'A4-FinPerf RE'!C40)/'A4-FinPerf RE'!C33),0,(('A4-FinPerf RE'!C41+'A4-FinPerf RE'!C40)/'A4-FinPerf RE'!C33))","v":6.6564357664610455E-2},{"$f":"IF(ISERROR(('A4-FinPerf RE'!D41+'A4-FinPerf RE'!D40)/'A4-FinPerf RE'!D33),0,(('A4-FinPerf RE'!D41+'A4-FinPerf RE'!D40)/'A4-FinPerf RE'!D33))","v":7.8160797529909759E-2},{"$f":"IF(ISERROR(('A4-FinPerf RE'!E41+'A4-FinPerf RE'!E40)/'A4-FinPerf RE'!E33),0,(('A4-FinPerf RE'!E41+'A4-FinPerf RE'!E40)/'A4-FinPerf RE'!E33))","v":6.476118859997386E-2},{"$f":"IF(ISERROR(('A4-FinPerf RE'!F41+'A4-FinPerf RE'!F40)/'A4-FinPerf RE'!F33),0,(('A4-FinPerf RE'!F41+'A4-FinPerf RE'!F40)/'A4-FinPerf RE'!F33))","v":4.5277783857158214E-2},{"$f":"IF(ISERROR(('A4-FinPerf RE'!G41+'A4-FinPerf RE'!G40)/'A4-FinPerf RE'!G33),0,(('A4-FinPerf RE'!G41+'A4-FinPerf RE'!G40)/'A4-FinPerf RE'!G33))","v":4.5148454664999331E-2},{"$f":"IF(ISERROR(('A4-FinPerf RE'!H41+'A4-FinPerf RE'!H40)/'A4-FinPerf RE'!H33),0,(('A4-FinPerf RE'!H41+'A4-FinPerf RE'!H40)/'A4-FinPerf RE'!H33))","v":4.521699966614727E-2},{"$f":"IF(ISERROR(('A4-FinPerf RE'!I41+'A4-FinPerf RE'!I40)/'A4-FinPerf RE'!I33),0,(('A4-FinPerf RE'!I41+'A4-FinPerf RE'!I40)/'A4-FinPerf RE'!I33))","v":0.11998218960147103},{"$f":"IF(ISERROR(('A4-FinPerf RE'!J41+'A4-FinPerf RE'!J40)/'A4-FinPerf RE'!J33),0,(('A4-FinPerf RE'!J41+'A4-FinPerf RE'!J40)/'A4-FinPerf RE'!J33))","v":4.6922057697459142E-2},{"$f":"IF(ISERROR(('A4-FinPerf RE'!K41+'A4-FinPerf RE'!K40)/'A4-FinPerf RE'!K33),0,(('A4-FinPerf RE'!K41+'A4-FinPerf RE'!K40)/'A4-FinPerf RE'!K33))","v":4.4555897498955541E-2},{"$f":"IF(ISERROR(('A4-FinPerf RE'!L41+'A4-FinPerf RE'!L40)/'A4-FinPerf RE'!L33),0,(('A4-FinPerf RE'!L41+'A4-FinPerf RE'!L40)/'A4-FinPerf RE'!L33))","v":3.304754164576966E-2}]
["IDP regulation financial viability indicators"]
["i. Debt coverage","(Total Operating Revenue - Operating Grants)/Debt service payments due within financial year)",{"$f":"IF(ISERROR(('A4-FinPerf RE'!C33-'A4-FinPerf RE'!C30)/('A7-CFlow'!D11-'A7-CFlow'!D35)),0,(('A4-FinPerf RE'!C33-'A4-FinPerf RE'!C30)/('A7-CFlow'!D11-'A7-CFlow'!D35)))","v":49.946244186582312},{"$f":"IF(ISERROR(('A4-FinPerf RE'!D33-'A4-FinPerf RE'!D30)/('A7-CFlow'!E11-'A7-CFlow'!E35)),0,(('A4-FinPerf RE'!D33-'A4-FinPerf RE'!D30)/('A7-CFlow'!E11-'A7-CFlow'!E35)))","v":46.285907945056671},{"$f":"IF(ISERROR(('A4-FinPerf RE'!E33-'A4-FinPerf RE'!E30)/('A7-CFlow'!F11-'A7-CFlow'!F35)),0,(('A4-FinPerf RE'!E33-'A4-FinPerf RE'!E30)/('A7-CFlow'!F11-'A7-CFlow'!F35)))","v":168.2266203058623},{"$f":"IF(ISERROR(('A4-FinPerf RE'!F33-'A4-FinPerf RE'!F30)/('A7-CFlow'!G11-'A7-CFlow'!G35)),0,(('A4-FinPerf RE'!F33-'A4-FinPerf RE'!F30)/('A7-CFlow'!G11-'A7-CFlow'!G35)))","v":129.65768700494775},{"$f":"IF(ISERROR(('A4-FinPerf RE'!G33-'A4-FinPerf RE'!G30)/('A7-CFlow'!H11-'A7-CFlow'!H35)),0,(('A4-FinPerf RE'!G33-'A4-FinPerf RE'!G30)/('A7-CFlow'!H11-'A7-CFlow'!H35)))","v":129.51875680124559},{"$f":"IF(ISERROR(('A4-FinPerf RE'!H33-'A4-FinPerf RE'!H30)/('A7-CFlow'!I11-'A7-CFlow'!I35)),0,(('A4-FinPerf RE'!H33-'A4-FinPerf RE'!H30)/('A7-CFlow'!I11-'A7-CFlow'!I35)))","v":0},{"$f":"IF(ISERROR(('A4-FinPerf RE'!I33-'A4-FinPerf RE'!I30)/('A7-CFlow'!J11-'A7-CFlow'!J35)),0,(('A4-FinPerf RE'!I33-'A4-FinPerf RE'!I30)/('A7-CFlow'!J11-'A7-CFlow'!J35)))","v":19.893880715745144},{"$f":"IF(ISERROR(('A4-FinPerf RE'!J33-'A4-FinPerf RE'!J30)/('A7-CFlow'!K11-'A7-CFlow'!K35)),0,(('A4-FinPerf RE'!J33-'A4-FinPerf RE'!J30)/('A7-CFlow'!K11-'A7-CFlow'!K35)))","v":85.668813946690193},{"$f":"IF(ISERROR(('A4-FinPerf RE'!K33-'A4-FinPerf RE'!K30)/('A7-CFlow'!L11-'A7-CFlow'!L35)),0,(('A4-FinPerf RE'!K33-'A4-FinPerf RE'!K30)/('A7-CFlow'!L11-'A7-CFlow'!L35)))","v":89.21419939325834},{"$f":"IF(ISERROR(('A4-FinPerf RE'!L33-'A4-FinPerf RE'!L30)/('A7-CFlow'!L11-'A7-CFlow'!L35)),0,(('A4-FinPerf RE'!L33-'A4-FinPerf RE'!L30)/('A7-CFlow'!L11-'A7-CFlow'!L35)))","v":93.15374899358838}]
["ii.O/S Service Debtors to Revenue","Total outstanding service debtors/annual revenue received for services",{"$f":"IF(ISERROR(('A6-FinPos'!C8+'A6-FinPos'!C10+'A6-FinPos'!C11)/SUM('A4-FinPerf RE'!C5:C11)),0,(('A6-FinPos'!C8+'A6-FinPos'!C10+'A6-FinPos'!C11)/SUM('A4-FinPerf RE'!C5:C11)))","v":0.35284005094464005},{"$f":"IF(ISERROR(('A6-FinPos'!D8+'A6-FinPos'!D10+'A6-FinPos'!D11)/SUM('A4-FinPerf RE'!D5:D11)),0,(('A6-FinPos'!D8+'A6-FinPos'!D10+'A6-FinPos'!D11)/SUM('A4-FinPerf RE'!D5:D11)))","v":0.66849601490963795},{"$f":"IF(ISERROR(('A6-FinPos'!E8+'A6-FinPos'!E10+'A6-FinPos'!E11)/SUM('A4-FinPerf RE'!E5:E11)),0,(('A6-FinPos'!E8+'A6-FinPos'!E10+'A6-FinPos'!E11)/SUM('A4-FinPerf RE'!E5:E11)))","v":0.75793867824459049},{"$f":"IF(ISERROR(('A6-FinPos'!F8+'A6-FinPos'!F10+'A6-FinPos'!F11)/SUM('A4-FinPerf RE'!F5:F11)),0,(('A6-FinPos'!F8+'A6-FinPos'!F10+'A6-FinPos'!F11)/SUM('A4-FinPerf RE'!F5:F11)))","v":0.61881145911824564},{"$f":"IF(ISERROR(('A6-FinPos'!G8+'A6-FinPos'!G10+'A6-FinPos'!G11)/SUM('A4-FinPerf RE'!G5:G11)),0,(('A6-FinPos'!G8+'A6-FinPos'!G10+'A6-FinPos'!G11)/SUM('A4-FinPerf RE'!G5:G11)))","v":0.63920466891729},{"$f":"IF(ISERROR(('A6-FinPos'!H8+'A6-FinPos'!H10+'A6-FinPos'!H11)/SUM('A4-FinPerf RE'!H5:H11)),0,(('A6-FinPos'!H8+'A6-FinPos'!H10+'A6-FinPos'!H11)/SUM('A4-FinPerf RE'!H5:H11)))","v":0.6385873134717307},{"$f":"IF(ISERROR(('A6-FinPos'!I8+'A6-FinPos'!I10+'A6-FinPos'!I11)/SUM('A4-FinPerf RE'!I5:I11)),0,(('A6-FinPos'!I8+'A6-FinPos'!I10+'A6-FinPos'!I11)/SUM('A4-FinPerf RE'!I5:I11)))","v":2.7121687514926109},{"$f":"IF(ISERROR(('A6-FinPos'!J8+'A6-FinPos'!J10+'A6-FinPos'!J11)/SUM('A4-FinPerf RE'!J5:J11)),0,(('A6-FinPos'!J8+'A6-FinPos'!J10+'A6-FinPos'!J11)/SUM('A4-FinPerf RE'!J5:J11)))","v":0.1530186676661521},{"$f":"IF(ISERROR(('A6-FinPos'!K8+'A6-FinPos'!K10+'A6-FinPos'!K11)/SUM('A4-FinPerf RE'!K5:K11)),0,(('A6-FinPos'!K8+'A6-FinPos'!K10+'A6-FinPos'!K11)/SUM('A4-FinPerf RE'!K5:K11)))","v":0.15243518363829214},{"$f":"IF(ISERROR(('A6-FinPos'!L8+'A6-FinPos'!L10+'A6-FinPos'!L11)/SUM('A4-FinPerf RE'!L5:L11)),0,(('A6-FinPos'!L8+'A6-FinPos'!L10+'A6-FinPos'!L11)/SUM('A4-FinPerf RE'!L5:L11)))","v":0.15128383508363796}]
["iii. Cost coverage","(Available cash + Investments)/monthly fixed operational expenditure",{"$f":"IF(ISERROR('A7-CFlow'!C40/'SA8'!C50),0,('A7-CFlow'!C40/'SA8'!C50))","v":0.62007619706941519},{"$f":"IF(ISERROR('A7-CFlow'!D40/'SA8'!D50),0,('A7-CFlow'!D40/'SA8'!D50))","v":1.1871642400171345},{"$f":"IF(ISERROR('A7-CFlow'!E40/'SA8'!E50),0,('A7-CFlow'!E40/'SA8'!E50))","v":0.85524877118456755},{"$f":"IF(ISERROR('A7-CFlow'!F40/'SA8'!F50),0,('A7-CFlow'!F40/'SA8'!F50))","v":1.0554219036435015},{"$f":"IF(ISERROR('A7-CFlow'!G40/'SA8'!G50),0,('A7-CFlow'!G40/'SA8'!G50))","v":1.1027611051567832},{"$f":"IF(ISERROR('A7-CFlow'!H40/'SA8'!H50),0,('A7-CFlow'!H40/'SA8'!H50))","v":1.0966297328713865},{"$f":"IF(ISERROR('A7-CFlow'!I40/'SA8'!I50),0,('A7-CFlow'!I40/'SA8'!I50))","v":0},{"$f":"IF(ISERROR('A7-CFlow'!J40/'SA8'!J50),0,('A7-CFlow'!J40/'SA8'!J50))","v":0.64700412495650705},{"$f":"IF(ISERROR('A7-CFlow'!K40/'SA8'!K50),0,('A7-CFlow'!K40/'SA8'!K50))","v":0.62196586410204258},{"$f":"IF(ISERROR('A7-CFlow'!L40/'SA8'!L50),0,('A7-CFlow'!L40/'SA8'!L50))","v":0.59040124709531761}]
[{"$f":"head27a","v":"References"}]
["1. Consumer debtors > 12 months old are excluded from current assets"]
["2. Only include if services provided by the municipality"]
[]
["Calculation data"]
["Debtors > 90 days"]
["Monthly fixed operational expenditure",null,{"$f":"(('A4-FinPerf RE'!C35+'A4-FinPerf RE'!C36+'A4-FinPerf RE'!C39+'A4-FinPerf RE'!C41+'A4-FinPerf RE'!C37+'A4-FinPerf RE'!C42+'SA1'!C91+'A7-CFlow'!C35)+(('A4-FinPerf RE'!C38+'A4-FinPerf RE'!C45)*'SA8'!C51))/12","v":463865604.51666665},{"$f":"(('A4-FinPerf RE'!D35+'A4-FinPerf RE'!D36+'A4-FinPerf RE'!D39+'A4-FinPerf RE'!D41+'A4-FinPerf RE'!D37+'A4-FinPerf RE'!D42+'SA1'!D91+'A7-CFlow'!D35)+(('A4-FinPerf RE'!D38+'A4-FinPerf RE'!D45)*'SA8'!D51))/12","v":433325050.2833333},{"$f":"(('A4-FinPerf RE'!E35+'A4-FinPerf RE'!E36+'A4-FinPerf RE'!E39+'A4-FinPerf RE'!E41+'A4-FinPerf RE'!E37+'A4-FinPerf RE'!E42+'SA1'!E91+'A7-CFlow'!E35)+(('A4-FinPerf RE'!E38+'A4-FinPerf RE'!E45)*'SA8'!E51))/12","v":574904516.16666663},{"$f":"(('A4-FinPerf RE'!F35+'A4-FinPerf RE'!F36+'A4-FinPerf RE'!F39+'A4-FinPerf RE'!F41+'A4-FinPerf RE'!F37+'A4-FinPerf RE'!F42+'SA1'!F91+'A7-CFlow'!F35)+(('A4-FinPerf RE'!F38+'A4-FinPerf RE'!F45)*'SA8'!F51))/12","v":606723551.23520005},{"$f":"(('A4-FinPerf RE'!G35+'A4-FinPerf RE'!G36+'A4-FinPerf RE'!G39+'A4-FinPerf RE'!G41+'A4-FinPerf RE'!G37+'A4-FinPerf RE'!G42+'SA1'!G91+'A7-CFlow'!G35)+(('A4-FinPerf RE'!G38+'A4-FinPerf RE'!G45)*'SA8'!G51))/12","v":573775678.7185334},{"$f":"(('A4-FinPerf RE'!H35+'A4-FinPerf RE'!H36+'A4-FinPerf RE'!H39+'A4-FinPerf RE'!H41+'A4-FinPerf RE'!H37+'A4-FinPerf RE'!H42+'SA1'!H91+'A7-CFlow'!H35)+(('A4-FinPerf RE'!H38+'A4-FinPerf RE'!H45)*'SA8'!H51))/12","v":573627415.63520002},{"$f":"(('A4-FinPerf RE'!I35+'A4-FinPerf RE'!I36+'A4-FinPerf RE'!I39+'A4-FinPerf RE'!I41+'A4-FinPerf RE'!I37+'A4-FinPerf RE'!I42+'SA1'!I91+'A7-CFlow'!I35)+(('A4-FinPerf RE'!I38+'A4-FinPerf RE'!I45)*'SA8'!I51))/12","v":345104589.38333333},{"$f":"(('A4-FinPerf RE'!J35+'A4-FinPerf RE'!J36+'A4-FinPerf RE'!J39+'A4-FinPerf RE'!J41+'A4-FinPerf RE'!J37+'A4-FinPerf RE'!J42+'SA1'!J91+'A7-CFlow'!J35)+(('A4-FinPerf RE'!J38+'A4-FinPerf RE'!J45)*'SA8'!J51))/12","v":610711190.69999993},{"$f":"(('A4-FinPerf RE'!K35+'A4-FinPerf RE'!K36+'A4-FinPerf RE'!K39+'A4-FinPerf RE'!K41+'A4-FinPerf RE'!K37+'A4-FinPerf RE'!K42+'SA1'!K91+'A7-CFlow'!K35)+(('A4-FinPerf RE'!K38+'A4-FinPerf RE'!K45)*'SA8'!K51))/12","v":650423665.26666665},{"$f":"(('A4-FinPerf RE'!L35+'A4-FinPerf RE'!L36+'A4-FinPerf RE'!L39+'A4-FinPerf RE'!L41+'A4-FinPerf RE'!L37+'A4-FinPerf RE'!L42+'SA1'!L91+'A7-CFlow'!L35)+(('A4-FinPerf RE'!L38+'A4-FinPerf RE'!L45)*'SA8'!L51))/12","v":689060529.60000002}]
["Fixed operational expenditure % assumption",null,0.4,{"$f":"$C$51","v":0.4},{"$f":"$C$51","v":0.4},0.4,0.4,0.4,0.4,0.4,0.4,0.4]
["Own capex",null,{"$f":"'A5-Capex'!C40-'A5-Capex'!C70-'A5-Capex'!C72","v":159315552.36000004},{"$f":"'A5-Capex'!D40-'A5-Capex'!D70-'A5-Capex'!D72","v":184460045.15999997},{"$f":"'A5-Capex'!E40-'A5-Capex'!E70-'A5-Capex'!E72","v":258417539.47000021},{"$f":"'A5-Capex'!F40-'A5-Capex'!F70-'A5-Capex'!F72","v":132720143.91000009},{"$f":"'A5-Capex'!G40-'A5-Capex'!G70-'A5-Capex'!G72","v":132006966},{"$f":"'A5-Capex'!H40-'A5-Capex'!H70-'A5-Capex'!H72","v":132006966},{"$f":"'A5-Capex'!I40-'A5-Capex'!I70-'A5-Capex'!I72","v":0},{"$f":"'A5-Capex'!J40-'A5-Capex'!J70-'A5-Capex'!J72","v":90000000.00000006},{"$f":"'A5-Capex'!K40-'A5-Capex'!K70-'A5-Capex'!K72","v":89870000.00000006},{"$f":"'A5-Capex'!L40-'A5-Capex'!L70-'A5-Capex'!L72","v":94454026}]
["Borrowing",null,{"$f":"'A7-CFlow'!C31+'A7-CFlow'!C32","v":0},{"$f":"'A7-CFlow'!D31+'A7-CFlow'!D32","v":0},{"$f":"'A7-CFlow'!E31+'A7-CFlow'!E32","v":116274950},{"$f":"'A7-CFlow'!F31+'A7-CFlow'!F32","v":200000000},{"$f":"'A7-CFlow'!G31+'A7-CFlow'!G32","v":234315856},{"$f":"'A7-CFlow'!H31+'A7-CFlow'!H32","v":234315856},{"$f":"'A7-CFlow'!I31+'A7-CFlow'!I32","v":0},{"$f":"'A7-CFlow'!J31+'A7-CFlow'!J32","v":161524401},{"$f":"'A7-CFlow'!K31+'A7-CFlow'!K32","v":0},{"$f":"'A7-CFlow'!L31+'A7-CFlow'!L32","v":0}]

{"sheet":"SA9","index":29,"n_rows":310,"n_cols":13,"rows_kept":310,"cut":false,"hidden":false,"merged":[[108,10,108,12],[1,5,2,5],[62,7,62,9],[62,10,62,12],[108,0,109,0],[108,7,108,9],[1,0,2,0],[62,0,63,0],[1,3,2,3],[1,4,2,4],[1,10,1,12],[1,1,2,1],[1,2,2,2],[246,7,246,9],[246,10,246,12],[246,0,247,0],[154,0,155,0],[154,7,154,9],[200,7,200,9],[200,10,200,12],[154,10,154,12],[200,0,201,0]]}
[{"$f":"muni&\" - \"&TableA9","v":"Choose name from list - Supporting Table SA9 Social, economic and demographic statistics and assumptions"}]
["Description of economic indicator","Ref.","Basis of calculation",{"$f":"Head44","v":"2001 Census"},"2007 Survey",{"$f":"Head45","v":"2011 Census"},{"$f":"head1b","v":"2021/22"},{"$f":"head1A","v":"2022/23"},{"$f":"Head1","v":"2023/24"},{"$f":"Head2","v":"Current Year 2024/25"},{"$f":"Head3","v":"2025/26 Medium Term Revenue & Expenditure Framework"}]
[null,null,null,null,null,null,{"$f":"Head5A","v":"Outcome"},"Outcome","Outcome",{"$f":"Head6","v":"Original Budget"},"Outcome","Outcome","Outcome"]
["Demographics"]
["Population"]
["Females aged 5 - 14"]
["Males aged 5 - 14"]
["Females aged 15 - 34"]
["Males aged 15 - 34"]
["Unemployment"]
[]
["Monthly household income (no. of households)","1, 12"]
["No income"]
["R1 - R1 600"]
["R1 601 - R3 200"]
["R3 201 - R6 400"]
["R6 401 - R12 800"]
["R12 801 - R25 600"]
["R25 601 - R51 200"]
["R52 201 - R102 400"]
["R102 401 - R204 800"]
["R204 801 - R409 600"]
["R409 601 - R819 200"]
[" > R819 200"]
[]
[]
["Poverty profiles (no. of households)"]
["< R2 060 per household per month",13]
["Insert description",2]
[]
["Household/demographics (000)"]
["Number of people in municipal area"]
["Number of poor people in municipal area"]
["Number of households in municipal area"]
["Number of poor households in municipal area"]
["Definition of poor household (R per month)"]
[]
["Housing statistics",3]
["Formal"]
["Informal"]
["Total number of households",null,null,{"$f":"SUM(D39:D40)","v":0},{"$f":"SUM(E39:E40)","v":0},0,0,0,0,0,0,0,0]
["Dwellings provided by municipality",4]
["Dwellings provided by province/s"]
["Dwellings provided by private sector",5]
["Total new housing dwellings",null,null,{"$f":"SUM(D42:D44)","v":0},{"$f":"SUM(E42:E44)","v":0},0,0,0,0,0,0,0,0]
[]
["Economic",6]
["Inflation/inflation outlook (CPIX)"]
["Interest rate - borrowing"]
["Interest rate - investment"]
["Remuneration increases"]
["Consumption growth (electricity)"]
["Consumption growth (water)"]
[]
["Collection rates",7]
["Property tax/service charges"]
["Rental of facilities & equipment"]
["Interest - external investments"]
["Interest - debtors"]
["Revenue from agency services"]
[]
["Detail on the provision of municipal services for A10"]
["Total municipal services",null,null,null,{"$f":"head1b","v":"2021/22"},{"$f":"head1A","v":"2022/23"},{"$f":"Head1","v":"2023/24"},{"$f":"Head2","v":"Current Year 2024/25"},null,null,{"$f":"Head3","v":"2025/26 Medium Term Revenue & Expenditure Framework"}]
[null,"Ref.",null,null,{"$f":"Head5A","v":"Outcome"},{"$f":"Head5A","v":"Outcome"},{"$f":"Head5A","v":"Outcome"},{"$f":"Head6","v":"Original Budget"},{"$f":"Head7","v":"Adjusted Budget"},{"$f":"Head8","v":"Full Year Forecast"},{"$f":"Head9","v":"Budget Year 2025/26"},{"$f":"Head10","v":"Budget Year +1 2026/27"},{"$f":"Head11","v":"Budget Year +2 2027/28"}]
[null,null,"Household service targets (000)"]
[null,null,"Water:"]
[null,null,"Piped water inside dwelling",null,{"$f":"E113+E159+E205","v":84782.196000000011},{"$f":"F113+F159+F205","v":84782.196000000011},84782.196000000011,84782.196000000011,84782.196000000011,88597.394820000001,92584.277586899989,96750.570078310484,101104.34573183444]
[null,null,"Piped water inside yard (but not in dwelling)",null,{"$f":"E114+E160+E206","v":67480.5196},{"$f":"F114+F160+F206","v":67480.5196},67480.5196,67480.5196,67480.5196,70517.14298199999,73690.414416189989,77006.483064918531,80471.774802839864]
[null,8,"Using public tap (at least min.service level)",null,{"$f":"E115+E161+E207","v":6654.3984},6654.3984,6654.3984,6654.3984,6654.3984,6953.8463279999996,7266.7694127599989,7593.7740363341982,7935.4938679692368]
[null,10,"Other water supply (at least min.service level)",null,{"$f":"E116+E162+E208","v":3196.1088},3196.1088,3196.1088,3196.1088,3196.1088,3339.9336959999996,3490.2307123199994,3647.2910943743991,3811.4191936212469]
[null,null,"Minimum Service Level and Above sub-total",null,{"$f":"SUM(E67:E70)","v":162113.22279999999},{"$f":"SUM(F67:F70)","v":162113.22279999999},162113.22279999999,162113.22279999999,162113.22279999999,169408.31782600001,177031.69212816999,184998.11827393761,193323.03359626481]
[null,9,"Using public tap (< min.service level)",null,{"$f":"E118+E164+E210","v":6654.3984},{"$f":"F118+F164+F210","v":6654.3984},6654.3984,6654.3984,6654.3984,6953.8463279999996,7266.7694127599989,7593.7740363341982,7935.4938679692368]
[null,10,"Other water supply (< min.service level)",null,{"$f":"E119+E165+E211","v":1850.6959999999999},1850.6959999999999,1850.6959999999999,1850.6959999999999,1850.6959999999999,1933.9773199999997,2021.0062993999995,2111.9515828729996,2206.9894041022844]
[null,null,"No water supply",null,0,0,0,0,0,0,0,0,0]
[null,null,"Below Minimum Service Level sub-total",null,{"$f":"SUM(E72:E74)","v":8505.0944},{"$f":"SUM(F72:F74)","v":8505.0944},8505.0944,8505.0944,8505.0944,8887.8236479999996,9287.7757121599989,9705.7256192071982,10142.48327207152]
[null,null,"Total number of households",null,{"$f":"E71+E75","v":170618.31719999999},{"$f":"F71+F75","v":170618.31719999999},170618.31719999999,170618.31719999999,170618.31719999999,178296.141474,186319.46784032998,194703.8438931448,203465.51686833633]
[null,null,"Sanitation/sewerage:"]
[null,null,"Flush toilet (connected to sewerage)",null,{"$f":"E124+E170+E216","v":91589.0196},{"$f":"F124+F170+F216","v":91589.0196},91589.0196,91589.0196,91589.0196,95710.525481999997,100017.49912868999,104518.28658948104,109221.60948600768]
[null,null,"Flush toilet (with septic tank)",null,{"$f":"E125+E171+E217","v":8655.0876000000007},{"$f":"F125+F171+F217","v":8655.0876000000007},8655.0876000000007,8655.0876000000007,8655.0876000000007,9044.5665420000005,9451.57203639,9876.8927780275499,10321.35295303879]
[null,null,"Chemical toilet",null,{"$f":"E126+E172+E218","v":7361.8704000000007},{"$f":"F126+F172+F218","v":7361.8704000000007},7361.8704000000007,7361.8704000000007,7361.8704000000007,7693.1545679999999,8039.3465235599997,8401.1171171201986,8779.1673873906075]
[null,null,"Pit toilet (ventilated)",null,{"$f":"E127+E173+E219","v":61827.8508},{"$f":"F127+F173+F219","v":61827.8508},61827.8508,61827.8508,61827.8508,64610.104085999999,67517.558769869996,70555.848914514136,73730.86211566726]
[null,null,"Other toilet provisions (> min.service level)",null,{"$f":"E128+E174+E220","v":0},{"$f":"F128+F174+F220","v":0},0,0,0,0,0,0,0]
[null,null,"Minimum Service Level and Above sub-total",null,{"$f":"SUM(E78:E82)","v":169433.8284},{"$f":"SUM(F78:F82)","v":169433.8284},169433.8284,169433.8284,169433.8284,177058.35067799999,185025.97645850998,193352.14539914293,202052.99194210436]
[null,null,"Bucket toilet",null,{"$f":"E130+E176+E222","v":0},{"$f":"F130+F176+F222","v":0},0,0,0,0,0,0,0]
[null,null,"Other toilet provisions (< min.service level)",null,{"$f":"E131+E177+E223","v":1184.4888000000001},{"$f":"F131+F177+F223","v":1184.4888000000001},1231.8683520000002,1184.4888000000001,1184.4888000000001,1237.790796,1293.49138182,1351.6984940018999,1412.5249262319853]
[null,null,"No toilet provisions",null,{"$f":"E132+E178+E224","v":0},0,0,0,0,0,0,0,0]
[null,null,"Below Minimum Service Level sub-total",null,{"$f":"SUM(E84:E86)","v":1184.4888000000001},{"$f":"SUM(F84:F86)","v":1184.4888000000001},1231.8683520000002,1184.4888000000001,1184.4888000000001,1237.790796,1293.49138182,1351.6984940018999,1412.5249262319853]
[null,null,"Total number of households",null,{"$f":"E83+E87","v":170618.31719999999},{"$f":"F83+F87","v":170618.31719999999},170665.69675199999,170618.31719999999,170618.31719999999,178296.14147399997,186319.46784032998,194703.84389314483,203465.51686833636]
[null,null,"Energy:"]
[null,null,"Electricity (at least min.service level)",null,{"$f":"E136+E182+E228","v":135271.4032},{"$f":"F136+F182+F228","v":135271.4032},135271.4032,135271.4032,135271.4032,141358.61634399998,147719.75407947996,154367.14301305654,161313.66444864406]
[null,null,"Electricity - prepaid (min.service level)",null,{"$f":"E137+E183+E229","v":27346.914000000001},{"$f":"F137+F183+F229","v":27346.914000000001},27346.914000000001,27346.914000000001,27346.914000000001,28577.525129999998,29863.513760849997,31207.371880088245,32611.703614692215]
[null,null,"Minimum Service Level and Above sub-total",null,{"$f":"SUM(E90:E91)","v":162618.31719999999},{"$f":"SUM(F90:F91)","v":162618.31719999999},162618.31719999999,162618.31719999999,162618.31719999999,169936.14147399997,177583.26784032997,185574.51489314478,193925.36806333627]
[null,null,"Electricity (< min.service level)",null,{"$f":"E139+E185+E231","v":0},{"$f":"F139+F185+F231","v":0},0,0,0,0,0,0,0]
[null,null,"Electricity - prepaid (< min. service level)",null,{"$f":"E140+E186+E232","v":0},{"$f":"F140+F186+F232","v":0},0,0,0,0,0,0,0]
[null,null,"Other energy sources",null,{"$f":"E141+E187+E233","v":8000},{"$f":"F141+F187+F233","v":8000},8000,8000,8000,8360,8736.1999999999989,9129.3289999999979,9540.1488049999971]
[null,null,"Below Minimum Service Level sub-total",null,{"$f":"SUM(E93:E95)","v":8000},{"$f":"SUM(F93:F95)","v":8000},8000,8000,8000,8360,8736.1999999999989,9129.3289999999979,9540.1488049999971]
[null,null,"Total number of households",null,{"$f":"E92+E96","v":170618.31719999999},{"$f":"F92+F96","v":170618.31719999999},170618.31719999999,170618.31719999999,170618.31719999999,178296.14147399997,186319.46784032998,194703.84389314477,203465.51686833627]
[null,null,"Refuse:"]
[null,null,"Removed at least once a week",null,{"$f":"E145+E191+E237","v":129848},{"$f":"F145+F191+F237","v":129848},135691.16,129848,129848,135691.16,141797.2622,148178.13899899999,154846.15525395499]
[null,null,"Minimum Service Level and Above sub-total",null,{"$f":"SUM(E99)","v":129848},{"$f":"SUM(F99)","v":129848},135691.16,129848,129848,135691.16,141797.2622,148178.13899899999,154846.15525395499]
[null,null,"Removed less frequently than once a week",null,{"$f":"E147+E193+E239","v":40770.317199999998},{"$f":"F147+F193+F239","v":40770.317199999998},42401.129887999996,40770.317199999998,40770.317199999998,42604.981473999993,44522.205640329987,46525.70489414483,48619.361614381341]
[null,null,"Using communal refuse dump",null,{"$f":"E148+E194+E240","v":0},{"$f":"F148+F194+F240","v":0},0,0,0,0,0,0,0]
[null,null,"Using own refuse dump",null,{"$f":"E149+E195+E241","v":0},{"$f":"F149+F195+F241","v":0},0,0,0,0,0,0,0]
[null,null,"Other rubbish disposal",null,{"$f":"E150+E196+E242","v":0},{"$f":"F150+F196+F242","v":0},0,0,0,0,0,0,0]
[null,null,"No rubbish disposal",null,{"$f":"E151+E197+E243","v":0},{"$f":"F151+F197+F243","v":0},0,0,0,0,0,0,0]
[null,null,"Below Minimum Service Level sub-total",null,{"$f":"SUM(E101:E105)","v":40770.317199999998},40770.317199999998,42401.129887999996,40770.317199999998,40770.317199999998,42604.981473999993,44522.205640329987,46525.70489414483,48619.361614381341]
[null,null,"Total number of households",null,{"$f":"E100+E106","v":170618.31719999999},{"$f":"F100+F106","v":170618.31719999999},178092.289888,170618.31719999999,170618.31719999999,178296.141474,186319.46784032998,194703.8438931448,203465.51686833633]
[]
["Municipal in-house services",null,null,null,{"$f":"head1b","v":"2021/22"},{"$f":"head1A","v":"2022/23"},{"$f":"Head1","v":"2023/24"},{"$f":"Head2","v":"Current Year 2024/25"},null,null,{"$f":"Head3","v":"2025/26 Medium Term Revenue & Expenditure Framework"}]
[null,"Ref.",null,null,{"$f":"Head5A","v":"Outcome"},{"$f":"Head5A","v":"Outcome"},{"$f":"Head5A","v":"Outcome"},{"$f":"Head6","v":"Original Budget"},{"$f":"Head7","v":"Adjusted Budget"},{"$f":"Head8","v":"Full Year Forecast"},{"$f":"Head9","v":"Budget Year 2025/26"},{"$f":"Head10","v":"Budget Year +1 2026/27"},{"$f":"Head11","v":"Budget Year +2 2027/28"}]
[null,null,"Household service targets (000)"]
[null,null,"Water:"]
[null,null,"Piped water inside dwelling"]
[null,null,"Piped water inside yard (but not in dwelling)"]
[null,8,"Using public tap (at least min.service level)"]
[null,10,"Other water supply (at least min.service level)"]
[null,null,"Minimum Service Level and Above sub-total",null,{"$f":"SUM(E113:E116)","v":0},{"$f":"SUM(F113:F116)","v":0},0,0,0,0,0,0,0]
[null,9,"Using public tap (< min.service level)"]
[null,10,"Other water supply (< min.service level)"]
[null,null,"No water supply"]
[null,null,"Below Minimum Service Level sub-total",null,{"$f":"SUM(E118:E120)","v":0},{"$f":"SUM(F118:F120)","v":0},0,0,0,0,0,0,0]
[null,null,"Total number of households",null,{"$f":"E117+E121","v":0},{"$f":"F117+F121","v":0},0,0,0,0,0,0,0]
[null,null,"Sanitation/sewerage:"]
[null,null,"Flush toilet (connected to sewerage)"]
[null,null,"Flush toilet (with septic tank)"]
[null,null,"Chemical toilet"]
[null,null,"Pit toilet (ventilated)"]
[null,null,"Other toilet provisions (> min.service level)"]
[null,null,"Minimum Service Level and Above sub-total",null,{"$f":"SUM(E124:E128)","v":0},{"$f":"SUM(F124:F128)","v":0},0,0,0,0,0,0,0]
[null,null,"Bucket toilet"]
[null,null,"Other toilet provisions (< min.service level)"]
[null,null,"No toilet provisions"]
[null,null,"Below Minimum Service Level sub-total",null,{"$f":"SUM(E130:E132)","v":0},{"$f":"SUM(F130:F132)","v":0},0,0,0,0,0,0,0]
[null,null,"Total number of households",null,{"$f":"E129+E133","v":0},{"$f":"F129+F133","v":0},0,0,0,0,0,0,0]
[null,null,"Energy:"]
[null,null,"Electricity (at least min.service level)"]
[null,null,"Electricity - prepaid (min.service level)"]
[null,null,"Minimum Service Level and Above sub-total",null,{"$f":"SUM(E136:E137)","v":0},{"$f":"SUM(F136:F137)","v":0},0,0,0,0,0,0,0]
[null,null,"Electricity (< min.service level)"]
[null,null,"Electricity - prepaid (< min. service level)"]
[null,null,"Other energy sources"]
[null,null,"Below Minimum Service Level sub-total",null,{"$f":"SUM(E139:E141)","v":0},{"$f":"SUM(F139:F141)","v":0},0,0,0,0,0,0,0]
[null,null,"Total number of households",null,{"$f":"E138+E142","v":0},{"$f":"F138+F142","v":0},0,0,0,0,0,0,0]
[null,null,"Refuse:"]
[null,null,"Removed at least once a week"]
[null,null,"Minimum Service Level and Above sub-total",null,{"$f":"SUM(E145)","v":0},{"$f":"SUM(F145)","v":0},0,0,0,0,0,0,0]
[null,null,"Removed less frequently than once a week"]
[null,null,"Using communal refuse dump"]
[null,null,"Using own refuse dump"]
[null,null,"Other rubbish disposal"]
[null,null,"No rubbish disposal"]
[null,null,"Below Minimum Service Level sub-total",null,{"$f":"SUM(E147:E151)","v":0},{"$f":"SUM(F147:F151)","v":0},0,0,0,0,0,0,0]
[null,null,"Total number of households",null,{"$f":"E146+E152","v":0},{"$f":"F146+F152","v":0},0,0,0,0,0,0,0]
[]
["Municipal entity services",null,null,null,{"$f":"head1b","v":"2021/22"},{"$f":"head1A","v":"2022/23"},{"$f":"Head1","v":"2023/24"},{"$f":"Head2","v":"Current Year 2024/25"},null,null,{"$f":"Head3","v":"2025/26 Medium Term Revenue & Expenditure Framework"}]
[null,"Ref.",null,null,{"$f":"Head5A","v":"Outcome"},{"$f":"Head5A","v":"Outcome"},{"$f":"Head5A","v":"Outcome"},{"$f":"Head6","v":"Original Budget"},{"$f":"Head7","v":"Adjusted Budget"},{"$f":"Head8","v":"Full Year Forecast"},{"$f":"Head9","v":"Budget Year 2025/26"},{"$f":"Head10","v":"Budget Year +1 2026/27"},{"$f":"Head11","v":"Budget Year +2 2027/28"}]
[null,null,"Household service targets (000)"]
["Name of municipal entity",null,"Water:"]
[null,null,"Piped water inside dwelling"]
[null,null,"Piped water inside yard (but not in dwelling)"]
[null,8,"Using public tap (at least min.service level)"]
[null,10,"Other water supply (at least min.service level)"]
[null,null,"Minimum Service Level and Above sub-total",null,{"$f":"SUM(E159:E162)","v":0},{"$f":"SUM(F159:F162)","v":0},0,0,0,0,0,0,0]
[null,9,"Using public tap (< min.service level)"]
[null,10,"Other water supply (< min.service level)"]
[null,null,"No water supply"]
[null,null,"Below Minimum Service Level sub-total",null,{"$f":"SUM(E164:E166)","v":0},{"$f":"SUM(F164:F166)","v":0},0,0,0,0,0,0,0]
[null,null,"Total number of households",null,{"$f":"E163+E167","v":0},{"$f":"F163+F167","v":0},0,0,0,0,0,0,0]
["Name of municipal entity",null,"Sanitation/sewerage:"]
[null,null,"Flush toilet (connected to sewerage)"]
[null,null,"Flush toilet (with septic tank)"]
[null,null,"Chemical toilet"]
[null,null,"Pit toilet (ventilated)"]
[null,null,"Other toilet provisions (> min.service level)"]
[null,null,"Minimum Service Level and Above sub-total",null,{"$f":"SUM(E170:E174)","v":0},{"$f":"SUM(F170:F174)","v":0},0,0,0,0,0,0,0]
[null,null,"Bucket toilet"]
[null,null,"Other toilet provisions (< min.service level)"]
[null,null,"No toilet provisions"]
[null,null,"Below Minimum Service Level sub-total",null,{"$f":"SUM(E176:E178)","v":0},{"$f":"SUM(F176:F178)","v":0},0,0,0,0,0,0,0]
[null,null,"Total number of households",null,{"$f":"E175+E179","v":0},{"$f":"F175+F179","v":0},0,0,0,0,0,0,0]
["Name of municipal entity",null,"Energy:"]
[null,null,"Electricity (at least min.service level)"]
[null,null,"Electricity - prepaid (min.service level)"]
[null,null,"Minimum Service Level and Above sub-total",null,{"$f":"SUM(E182:E183)","v":0},{"$f":"SUM(F182:F183)","v":0},0,0,0,0,0,0,0]
[null,null,"Electricity (< min.service level)"]
[null,null,"Electricity - prepaid (< min. service level)"]
[null,null,"Other energy sources"]
[null,null,"Below Minimum Service Level sub-total",null,{"$f":"SUM(E185:E187)","v":0},{"$f":"SUM(F185:F187)","v":0},0,0,0,0,0,0,0]
[null,null,"Total number of households",null,{"$f":"E184+E188","v":0},{"$f":"F184+F188","v":0},0,0,0,0,0,0,0]
["Name of municipal entity",null,"Refuse:"]
[null,null,"Removed at least once a week"]
[null,null,"Minimum Service Level and Above sub-total",null,{"$f":"SUM(E191)","v":0},{"$f":"SUM(F191)","v":0},0,0,0,0,0,0,0]
[null,null,"Removed less frequently than once a week"]
[null,null,"Using communal refuse dump"]
[null,null,"Using own refuse dump"]
[null,null,"Other rubbish disposal"]
[null,null,"No rubbish disposal"]
[null,null,"Below Minimum Service Level sub-total",null,{"$f":"SUM(E193:E197)","v":0},{"$f":"SUM(F193:F197)","v":0},0,0,0,0,0,0,0]
[null,null,"Total number of households",null,{"$f":"E192+E198","v":0},{"$f":"F192+F198","v":0},0,0,0,0,0,0,0]
[]
["Services provided by 'external mechanisms'",null,null,null,{"$f":"head1b","v":"2021/22"},{"$f":"head1A","v":"2022/23"},{"$f":"Head1","v":"2023/24"},{"$f":"Head2","v":"Current Year 2024/25"},null,null,{"$f":"Head3","v":"2025/26 Medium Term Revenue & Expenditure Framework"}]
[null,"Ref.",null,null,{"$f":"Head5A","v":"Outcome"},{"$f":"Head5A","v":"Outcome"},{"$f":"Head5A","v":"Outcome"},{"$f":"Head6","v":"Original Budget"},{"$f":"Head7","v":"Adjusted Budget"},{"$f":"Head8","v":"Full Year Forecast"},{"$f":"Head9","v":"Budget Year 2025/26"},{"$f":"Head10","v":"Budget Year +1 2026/27"},{"$f":"Head11","v":"Budget Year +2 2027/28"}]
["Names of service providers",null,"Household service targets (000)"]
[null,null,"Water:"]
[null,null,"Piped water inside dwelling",null,84782.196000000011,84782.196000000011,84782.196000000011,84782.196000000011,84782.196000000011,{"$f":"+I205*1.045","v":88597.394820000001},{"$f":"+J205*1.045","v":92584.277586899989},{"$f":"+K205*1.045","v":96750.570078310484},{"$f":"+L205*1.045","v":101104.34573183444}]
[null,null,"Piped water inside yard (but not in dwelling)",null,67480.5196,67480.5196,67480.5196,67480.5196,67480.5196,{"$f":"+I206*1.045","v":70517.14298199999},73690.414416189989,77006.483064918531,80471.774802839864]
[null,8,"Using public tap (at least min.service level)",null,6654.3984,6654.3984,6654.3984,6654.3984,6654.3984,6953.8463279999996,7266.7694127599989,7593.7740363341982,7935.4938679692368]
[null,10,"Other water supply (at least min.service level)",null,3196.1088,3196.1088,3196.1088,3196.1088,3196.1088,3339.9336959999996,3490.2307123199994,3647.2910943743991,3811.4191936212469]
[null,null,"Minimum Service Level and Above sub-total",null,{"$f":"SUM(E205:E208)","v":162113.22279999999},{"$f":"SUM(F205:F208)","v":162113.22279999999},162113.22279999999,162113.22279999999,162113.22279999999,169408.31782600001,177031.69212816999,184998.11827393761,193323.03359626481]
[null,9,"Using public tap (< min.service level)",null,6654.3984,6654.3984,6654.3984,6654.3984,6654.3984,{"$f":"+I210*1.045","v":6953.8463279999996},{"$f":"+J210*1.045","v":7266.7694127599989},{"$f":"+K210*1.045","v":7593.7740363341982},{"$f":"+L210*1.045","v":7935.4938679692368}]
[null,10,"Other water supply (< min.service level)",null,1850.6959999999999,1850.6959999999999,1850.6959999999999,1850.6959999999999,1850.6959999999999,{"$f":"+I211*1.045","v":1933.9773199999997},2021.0062993999995,{"$f":"+K211*1.045","v":2111.9515828729996},{"$f":"+L211*1.045","v":2206.9894041022844}]
[null,null,"No water supply",null,null,null,null,0,0,0,0]
[null,null,"Below Minimum Service Level sub-total",null,{"$f":"SUM(E210:E212)","v":8505.0944},{"$f":"SUM(F210:F212)","v":8505.0944},8505.0944,8505.0944,8505.0944,8887.8236479999996,9287.7757121599989,9705.7256192071982,10142.48327207152]
[null,null,"Total number of households",null,{"$f":"E209+E213","v":170618.31719999999},{"$f":"F209+F213","v":170618.31719999999},170618.31719999999,170618.31719999999,170618.31719999999,178296.141474,186319.46784032998,194703.8438931448,203465.51686833633]
["Names of service providers",null,"Sanitation/sewerage:"]
[null,null,"Flush toilet (connected to sewerage)",null,91589.0196,91589.0196,91589.0196,91589.0196,91589.0196,{"$f":"+I216*1.045","v":95710.525481999997},{"$f":"+J216*1.045","v":100017.49912868999},104518.28658948104,109221.60948600768]
[null,null,"Flush toilet (with septic tank)",null,8655.0876000000007,8655.0876000000007,8655.0876000000007,8655.0876000000007,8655.0876000000007,{"$f":"+I217*1.045","v":9044.5665420000005},9451.57203639,9876.8927780275499,10321.35295303879]
[null,null,"Chemical toilet",null,7361.8704000000007,7361.8704000000007,7361.8704000000007,7361.8704000000007,7361.8704000000007,7693.1545679999999,8039.3465235599997,8401.1171171201986,8779.1673873906075]
[null,null,"Pit toilet (ventilated)",null,61827.8508,61827.8508,61827.8508,61827.8508,61827.8508,64610.104085999999,67517.558769869996,70555.848914514136,73730.86211566726]
[null,null,"Other toilet provisions (> min.service level)",null,null,null,null,0,0,0]
[null,null,"Minimum Service Level and Above sub-total",null,{"$f":"SUM(E216:E220)","v":169433.8284},{"$f":"SUM(F216:F220)","v":169433.8284},169433.8284,169433.8284,169433.8284,177058.35067799999,185025.97645850998,193352.14539914293,202052.99194210436]
[null,null,"Bucket toilet"]
[null,null,"Other toilet provisions (< min.service level)",null,1184.4888000000001,1184.4888000000001,{"$f":"+F223*1.04","v":1231.8683520000002},1184.4888000000001,1184.4888000000001,{"$f":"+I223*1.045","v":1237.790796},{"$f":"+J223*1.045","v":1293.49138182},{"$f":"+K223*1.045","v":1351.6984940018999},{"$f":"+L223*1.045","v":1412.5249262319853}]
[null,null,"No toilet provisions"]
[null,null,"Below Minimum Service Level sub-total",null,{"$f":"SUM(E222:E224)","v":1184.4888000000001},{"$f":"SUM(F222:F224)","v":1184.4888000000001},1231.8683520000002,1184.4888000000001,1184.4888000000001,1237.790796,1293.49138182,1351.6984940018999,1412.5249262319853]
[null,null,"Total number of households",null,{"$f":"E221+E225","v":170618.31719999999},{"$f":"F221+F225","v":170618.31719999999},170665.69675199999,170618.31719999999,170618.31719999999,178296.14147399997,186319.46784032998,194703.84389314483,203465.51686833636]
["Names of service providers",null,"Energy:"]
[null,null,"Electricity (at least min.service level)",null,135271.4032,135271.4032,135271.4032,135271.4032,135271.4032,{"$f":"+I228*1.045","v":141358.61634399998},{"$f":"+J228*1.045","v":147719.75407947996},154367.14301305654,161313.66444864406]
[null,null,"Electricity - prepaid (min.service level)",null,27346.914000000001,27346.914000000001,27346.914000000001,27346.914000000001,27346.914000000001,{"$f":"+I229*1.045","v":28577.525129999998},{"$f":"+J229*1.045","v":29863.513760849997},31207.371880088245,32611.703614692215]
[null,null,"Minimum Service Level and Above sub-total",null,{"$f":"SUM(E228:E229)","v":162618.31719999999},{"$f":"SUM(F228:F229)","v":162618.31719999999},162618.31719999999,162618.31719999999,162618.31719999999,169936.14147399997,177583.26784032997,185574.51489314478,193925.36806333627]
[null,null,"Electricity (< min.service level)"]
[null,null,"Electricity - prepaid (< min. service level)"]
[null,null,"Other energy sources",null,8000,8000,8000,8000,8000,{"$f":"+I233*1.045","v":8360},{"$f":"+J233*1.045","v":8736.1999999999989},9129.3289999999979,9540.1488049999971]
[null,null,"Below Minimum Service Level sub-total",null,{"$f":"SUM(E231:E233)","v":8000},{"$f":"SUM(F231:F233)","v":8000},8000,8000,8000,8360,8736.1999999999989,9129.3289999999979,9540.1488049999971]
[null,null,"Total number of households",null,{"$f":"E230+E234","v":170618.31719999999},{"$f":"F230+F234","v":170618.31719999999},170618.31719999999,170618.31719999999,170618.31719999999,178296.14147399997,186319.46784032998,194703.84389314477,203465.51686833627]
["Names of service providers",null,"Refuse:"]
[null,null,"Removed at least once a week",null,129848,129848,{"$f":"+F237*1.045","v":135691.16},129848,129848,{"$f":"+I237*1.045","v":135691.16},{"$f":"+J237*1.045","v":141797.2622},148178.13899899999,154846.15525395499]
[null,null,"Minimum Service Level and Above sub-total",null,{"$f":"SUM(E237)","v":129848},{"$f":"SUM(F237)","v":129848},135691.16,129848,129848,135691.16,141797.2622,148178.13899899999,154846.15525395499]
[null,null,"Removed less frequently than once a week",null,40770.317199999998,40770.317199999998,{"$f":"+F239*1.04","v":42401.129887999996},40770.317199999998,40770.317199999998,{"$f":"+I239*1.045","v":42604.981473999993},{"$f":"+J239*1.045","v":44522.205640329987},46525.70489414483,48619.361614381341]
[null,null,"Using communal refuse dump"]
[null,null,"Using own refuse dump"]
[null,null,"Other rubbish disposal"]
[null,null,"No rubbish disposal"]
[null,null,"Below Minimum Service Level sub-total",null,{"$f":"SUM(E239:E243)","v":40770.317199999998},{"$f":"SUM(F239:F243)","v":40770.317199999998},42401.129887999996,40770.317199999998,40770.317199999998,42604.981473999993,44522.205640329987,46525.70489414483,48619.361614381341]
[null,null,"Total number of households",null,{"$f":"E238+E244","v":170618.31719999999},{"$f":"F238+F244","v":170618.31719999999},178092.289888,170618.31719999999,170618.31719999999,178296.141474,186319.46784032998,194703.8438931448,203465.51686833633]
[]
["Detail of Free Basic Services (FBS) provided",null,null,null,{"$f":"head1b","v":"2021/22"},{"$f":"head1A","v":"2022/23"},{"$f":"Head1","v":"2023/24"},{"$f":"Head2","v":"Current Year 2024/25"},null,null,{"$f":"Head3","v":"2025/26 Medium Term Revenue & Expenditure Framework"}]
[null,null,null,null,{"$f":"Head5A","v":"Outcome"},{"$f":"Head5A","v":"Outcome"},{"$f":"Head5A","v":"Outcome"},{"$f":"Head6","v":"Original Budget"},{"$f":"Head7","v":"Adjusted Budget"},{"$f":"Head8","v":"Full Year Forecast"},{"$f":"Head9","v":"Budget Year 2025/26"},{"$f":"Head10","v":"Budget Year +1 2026/27"},{"$f":"Head11","v":"Budget Year +2 2027/28"}]
["Electricity","Ref.","Location of households for each type of FBS"]
["List type of FBS service",null,"Formal settlements -  (50 kwh per indigent household per month Rands)",null,null,null,null,5465088,5465088,null,6083736,6381839,6694549]
[null,null,"Number of HH receiving this type of FBS"]
[null,null,"Informal settlements (Rands)"]
[null,null,"Number of HH receiving this type of FBS"]
[null,null,"Informal settlements targeted for upgrading (Rands)"]
[null,null,"Number of HH receiving this type of FBS"]
[null,null,"Living in informal backyard rental agreement (Rands)"]
[null,null,"Number of HH receiving this type of FBS"]
[null,null,"Other (Rands)"]
[null,null,"Number of HH receiving this type of FBS"]
[null,null,"Total cost of FBS - Electricity for informal settlements",null,{"$f":"E252+E254+E256+E258","v":0},{"$f":"F252+F254+F256+F258","v":0},{"$f":"G252+G254+G256+G258","v":0},0,0,0,0,0,0]
["Water","Ref.","Location of households for each type of FBS"]
["List type of FBS service",null,"Formal settlements -  (6 kilolitre per indigent household per month Rands)",null,null,null,null,249303079,249303079,249303079,286698541,300746769,315483361]
[null,null,"Number of HH receiving this type of FBS"]
[null,null,"Informal settlements (Rands)"]
[null,null,"Number of HH receiving this type of FBS"]
[null,null,"Informal settlements targeted for upgrading (Rands)"]
[null,null,"Number of HH receiving this type of FBS"]
[null,null,"Living in informal backyard rental agreement (Rands)"]
[null,null,"Number of HH receiving this type of FBS"]
[null,null,"Other (Rands)"]
[null,null,"Number of HH receiving this type of FBS"]
[null,null,"Total cost of FBS - Water  for informal settlements",null,{"$f":"E264+E266+E268+E270","v":0},{"$f":"F264+F266+F268+F270","v":0},0,0,0,0,0,0,0]
["Sanitation","Ref.","Location of households for each type of FBS"]
["List type of FBS service",null,"Formal settlements -  (free sanitation service to indigent households)",null,null,null,null,18772154]
[null,null,"Number of HH receiving this type of FBS"]
[null,null,"Informal settlements (Rands)"]
[null,null,"Number of HH receiving this type of FBS"]
[null,null,"Informal settlements targeted for upgrading (Rands)"]
[null,null,"Number of HH receiving this type of FBS"]
[null,null,"Living in informal backyard rental agreement (Rands)"]
[null,null,"Number of HH receiving this type of FBS"]
[null,null,"Other (Rands)"]
[null,null,"Number of HH receiving this type of FBS"]
[null,null,"Total cost of FBS - Sanitation for informal settlements",null,{"$f":"E276+E278+E280+E282","v":0},{"$f":"F276+F278+F280+F282","v":0},0,0,0,0,0,0,0]
["Refuse Removal","Ref.","Location of households for each type of FBS"]
["List type of FBS service",null,"Formal settlements -  (removed once a week to indigent households)",null,null,null,null,8847019,null,null,9466311,9930160,10416738]
[null,null,"Number of HH receiving this type of FBS"]
[null,null,"Informal settlements (Rands)"]
[null,null,"Number of HH receiving this type of FBS"]
[null,null,"Informal settlements targeted for upgrading (Rands)"]
[null,null,"Number of HH receiving this type of FBS"]
[null,null,"Living in informal backyard rental agreement (Rands)"]
[null,null,"Number of HH receiving this type of FBS"]
[null,null,"Other (Rands)"]
[null,null,"Number of HH receiving this type of FBS"]
[null,null,"Total cost of FBS - Refuse Removal for informal settlements",null,{"$f":"E288+E290+E292+E294","v":0},{"$f":"F288+F290+F292+F294","v":0},0,0,0,0,0,0,0]
[{"$f":"head27a","v":"References"}]
["1. Monthly household income threshold. Should include all sources of income."]
["2. Show the poverty analysis the municipality uses to determine its indigents policy and the provision of services"]
["3. Include total of all housing units within the municipality"]
["4. Number of subsidised dwellings to be constructed by the municipality under agency agreement with province"]
["5. Provide estimate based on building approval information. Include any non-subsidised dwellings constructed by the municipality"]
["6. Insert actual or estimated % increases assumed as a basis for budget calculations"]
["7. Insert actual or estimated % collection rate assumed as a basis for budget calculations for each revenue group"]
["8. Stand distance <= 200m from dwelling"]
["9. Stand distance > 200m from dwelling"]
["10. Borehole, spring, rain-water tank etc."]
["11. Must agree to total number of households in municipal area"]
["12. Household income categories assume an average 4 person household. Stats SA - Census 2011 Questionnaire"]
["13. Based on National poverty line of R515 per capita per month (2008 prices), assuming an average household size of 4 persons"]

{"sheet":"SA10","index":30,"n_rows":138,"n_cols":13,"rows_kept":138,"cut":false,"hidden":false,"merged":[[1,0,2,0],[1,10,1,12],[1,1,2,1],[1,2,2,2],[1,6,1,9]]}
[{"$f":"muni &\" \" & TableA10","v":"Choose name from list Supporting Table SA10 Funding measurement"}]
[{"$f":"desc","v":"Description"},"MFMA section",{"$f":"head27","v":"Ref"},{"$f":"head1b","v":"2021/22"},{"$f":"head1A","v":"2022/23"},{"$f":"Head1","v":"2023/24"},{"$f":"Head2","v":"Current Year 2024/25"},null,null,null,{"$f":"Head3","v":"2025/26 Medium Term Revenue & Expenditure Framework"}]
[null,null,null,{"$f":"Head5","v":"Audited Outcome"},{"$f":"Head5","v":"Audited Outcome"},{"$f":"Head5","v":"Audited Outcome"},{"$f":"Head6","v":"Original Budget"},{"$f":"Head7","v":"Adjusted Budget"},{"$f":"Head8","v":"Full Year Forecast"},{"$f":"Head5b","v":"Pre-audit outcome"},{"$f":"Head9","v":"Budget Year 2025/26"},{"$f":"Head10","v":"Budget Year +1 2026/27"},{"$f":"Head11","v":"Budget Year +2 2027/28"}]
["Funding measures"]
[{"$f":"LEFT('A7-CFlow'!A40,37)&\" - R'000\"","v":"Cash/cash equivalents at the year end - R'000"},"18(1)b",1,{"$f":"'A7-CFlow'!C40","v":287632020},{"$f":"'A7-CFlow'!D40","v":514428004},{"$f":"'A7-CFlow'!E40","v":491686381},{"$f":"'A7-CFlow'!F40","v":640349325.43000031},{"$f":"'A7-CFlow'!G40","v":632737501.57573318},{"$f":"'A7-CFlow'!H40","v":629056879.57573318},{"$f":"'A7-CFlow'!I40","v":0},{"$f":"'A7-CFlow'!J40","v":395132659.53999996},{"$f":"'A7-CFlow'!K40","v":404541317},{"$f":"'A7-CFlow'!L40","v":406822196}]
["Cash + investments at the yr end less applications - R'000","18(1)b",2,{"$f":"'A8-ResRecon'!C8-'A8-ResRecon'!C18","v":-1008808686},{"$f":"'A8-ResRecon'!D8-'A8-ResRecon'!D18","v":-1756452734},{"$f":"'A8-ResRecon'!E8-'A8-ResRecon'!E18","v":-2696557717},{"$f":"'A8-ResRecon'!F8-'A8-ResRecon'!F18","v":-583979829},{"$f":"'A8-ResRecon'!G8-'A8-ResRecon'!G18","v":96933323},{"$f":"'A8-ResRecon'!H8-'A8-ResRecon'!H18","v":101375305},{"$f":"'A8-ResRecon'!I8-'A8-ResRecon'!I18","v":-597446881},{"$f":"'A8-ResRecon'!J8-'A8-ResRecon'!J18","v":303995879.54000002},{"$f":"'A8-ResRecon'!K8-'A8-ResRecon'!K18","v":428253048},{"$f":"'A8-ResRecon'!L8-'A8-ResRecon'!L18","v":513662472}]
["Cash year end/monthly employee/supplier payments","18(1)b",3,{"$f":"IF(ISERROR('SA8'!C43),0,('SA8'!C43))","v":0.62007619706941519},{"$f":"IF(ISERROR('SA8'!D43),0,('SA8'!D43))","v":1.1871642400171345},{"$f":"IF(ISERROR('SA8'!E43),0,('SA8'!E43))","v":0.85524877118456755},{"$f":"IF(ISERROR('SA8'!F43),0,('SA8'!F43))","v":1.0554219036435015},{"$f":"IF(ISERROR('SA8'!G43),0,('SA8'!G43))","v":1.1027611051567832},{"$f":"IF(ISERROR('SA8'!H43),0,('SA8'!H43))","v":1.0966297328713865},{"$f":"IF(ISERROR('SA8'!I43),0,('SA8'!I43))","v":0},{"$f":"IF(ISERROR('SA8'!J43),0,('SA8'!J43))","v":0.64700412495650705},{"$f":"IF(ISERROR('SA8'!K43),0,('SA8'!K43))","v":0.62196586410204258},{"$f":"IF(ISERROR('SA8'!L43),0,('SA8'!L43))","v":0.59040124709531761}]
["Surplus/(Deficit) excluding depreciation offsets: R'000","18(1)",4,{"$f":"'A4-FinPerf RE'!C52+'SA3'!C180","v":-45024035},{"$f":"'A4-FinPerf RE'!D52+'SA3'!D180","v":525680309},{"$f":"'A4-FinPerf RE'!E52+'SA3'!E180","v":-678456971},{"$f":"'A4-FinPerf RE'!F52+'SA3'!F180","v":1040607161.5982113},{"$f":"'A4-FinPerf RE'!G52+'SA3'!G180","v":1583744421.1709099},{"$f":"'A4-FinPerf RE'!H52+'SA3'!H180","v":1589209509.1709099},{"$f":"'A4-FinPerf RE'!I52+'SA3'!I180","v":-2750174794},{"$f":"'A4-FinPerf RE'!J52+'SA3'!J180","v":1347210018.4623775},{"$f":"'A4-FinPerf RE'!K52+'SA3'!K180","v":1376671935.8570347},{"$f":"'A4-FinPerf RE'!L52+'SA3'!L180","v":1433376690.5590286}]
["Service charge rev % change - macro CPIX target exclusive","18(1)a,(2)",5,"N.A.",{"$f":"IF(ISERROR(E36-E61),0,(E36-E61))","v":-2.4105648453790429E-2},{"$f":"IF(ISERROR(F36-F61),0,(F36-F61))","v":-2.0848818540568359E-2},0.28653994188524573,-7.0018630856434727E-2,-5.9247190144813444E-2,-0.75808550890274895,{"$f":"IF(ISERROR(K36-K61),0,(K36-K61))","v":4.2299043860219376E-2},-1.1860591517499353E-2,-1.6148085673158119E-2]
["Cash receipts % of Ratepayer & Other revenue","18(1)a,(2)",6,{"$f":"IF(ISERROR(D53/D54),0,(D53/D54))","v":0.3812942240513314},{"$f":"IF(ISERROR(E53/E54),0,(E53/E54))","v":0.38802973295486376},0.41070796818846911,0.41502502475472614,0.41328637159940806,0.41417791835903794,0,0.8547124057870148,0.8546827317165071,0.85451062384366128]
["Debt impairment expense as a % of total billable revenue","18(1)a,(2)",7,{"$f":"IF(ISERROR('A4-FinPerf RE'!C39/'SA10'!D43),0,('A4-FinPerf RE'!C39/'SA10'!D43))","v":0.1534929216256645},{"$f":"IF(ISERROR('A4-FinPerf RE'!D39/'SA10'!E43),0,('A4-FinPerf RE'!D39/'SA10'!E43))","v":1.3585201963374292E-2},{"$f":"IF(ISERROR('A4-FinPerf RE'!E39/'SA10'!F43),0,('A4-FinPerf RE'!E39/'SA10'!F43))","v":0.2099026065151616},{"$f":"IF(ISERROR('A4-FinPerf RE'!F39/'SA10'!G43),0,('A4-FinPerf RE'!F39/'SA10'!G43))","v":8.6730584577315084E-2},{"$f":"IF(ISERROR('A4-FinPerf RE'!G39/'SA10'!H43),0,('A4-FinPerf RE'!G39/'SA10'!H43))","v":8.760829979290001E-2},{"$f":"IF(ISERROR('A4-FinPerf RE'!H39/'SA10'!I43),0,('A4-FinPerf RE'!H39/'SA10'!I43))","v":8.7542397013681467E-2},{"$f":"IF(ISERROR('A4-FinPerf RE'!I39/'SA10'!J43),0,('A4-FinPerf RE'!I39/'SA10'!J43))","v":0},{"$f":"IF(ISERROR('A4-FinPerf RE'!J39/'SA10'!K43),0,('A4-FinPerf RE'!J39/'SA10'!K43))","v":5.2485337732381579E-2},{"$f":"IF(ISERROR('A4-FinPerf RE'!K39/'SA10'!L43),0,('A4-FinPerf RE'!K39/'SA10'!L43))","v":5.2328132580900334E-2},{"$f":"IF(ISERROR('A4-FinPerf RE'!L39/'SA10'!M43),0,('A4-FinPerf RE'!L39/'SA10'!M43))","v":5.2385685935446798E-2}]
["Capital payments % of capital expenditure","18(1)c;19",8,{"$f":"IF(ISERROR(-'A7-CFlow'!C26/'A5-Capex'!C63),0,(-'A7-CFlow'!C26/'A5-Capex'!C63))","v":1.0167441517539393},{"$f":"IF(ISERROR(-'A7-CFlow'!D26/'A5-Capex'!D63),0,(-'A7-CFlow'!D26/'A5-Capex'!D63))","v":0.82478210954616282},{"$f":"IF(ISERROR(-'A7-CFlow'!E26/'A5-Capex'!E63),0,(-'A7-CFlow'!E26/'A5-Capex'!E63))","v":0.92032130406038948},{"$f":"IF(ISERROR(-'A7-CFlow'!F26/'A5-Capex'!F63),0,(-'A7-CFlow'!F26/'A5-Capex'!F63))","v":0.93366612498029022},{"$f":"IF(ISERROR(-'A7-CFlow'!G26/'A5-Capex'!G63),0,(-'A7-CFlow'!G26/'A5-Capex'!G63))","v":1.0091385778575841},{"$f":"IF(ISERROR(-'A7-CFlow'!H26/'A5-Capex'!H63),0,(-'A7-CFlow'!H26/'A5-Capex'!H63))","v":1.0101795444292503},{"$f":"IF(ISERROR(-'A7-CFlow'!I26/'A5-Capex'!I63),0,(-'A7-CFlow'!I26/'A5-Capex'!I63))","v":0},{"$f":"IF(ISERROR(-'A7-CFlow'!J26/'A5-Capex'!J63),0,(-'A7-CFlow'!J26/'A5-Capex'!J63))","v":1.0033224088904029},{"$f":"IF(ISERROR(-'A7-CFlow'!K26/'A5-Capex'!K63),0,(-'A7-CFlow'!K26/'A5-Capex'!K63))","v":1.0046006898477808},{"$f":"IF(ISERROR(-'A7-CFlow'!L26/'A5-Capex'!L63),0,(-'A7-CFlow'!L26/'A5-Capex'!L63))","v":1.0068156860968687}]
["Borrowing receipts % of capital expenditure (excl. transfers)","18(1)c",9,{"$f":"IF(ISERROR('A7-CFlow'!C32/'SA10'!D52),0,('A7-CFlow'!C32/'SA10'!D52))","v":0},{"$f":"IF(ISERROR('A7-CFlow'!D32/'SA10'!E52),0,('A7-CFlow'!D32/'SA10'!E52))","v":0},{"$f":"IF(ISERROR('A7-CFlow'!E32/'SA10'!F52),0,('A7-CFlow'!E32/'SA10'!F52))","v":0},{"$f":"IF(ISERROR('A7-CFlow'!F32/'SA10'!G52),0,('A7-CFlow'!F32/'SA10'!G52))","v":0.54490567696095604},{"$f":"IF(ISERROR('A7-CFlow'!G32/'SA10'!H52),0,('A7-CFlow'!G32/'SA10'!H52))","v":0.69196711088802088},{"$f":"IF(ISERROR('A7-CFlow'!H32/'SA10'!I52),0,('A7-CFlow'!H32/'SA10'!I52))","v":0.69196711088802088},{"$f":"IF(ISERROR('A7-CFlow'!I32/'SA10'!J52),0,('A7-CFlow'!I32/'SA10'!J52))","v":0},{"$f":"IF(ISERROR('A7-CFlow'!J32/'SA10'!K52),0,('A7-CFlow'!J32/'SA10'!K52))","v":0.64218183348342417},{"$f":"IF(ISERROR('A7-CFlow'!K32/'SA10'!L52),0,('A7-CFlow'!K32/'SA10'!L52))","v":0},{"$f":"IF(ISERROR('A7-CFlow'!L32/'SA10'!M52),0,('A7-CFlow'!L32/'SA10'!M52))","v":0}]
["Grants % of Govt. legislated/gazetted allocations","18(1)a",10,null,null,null,null,null,null,null,{"$f":"IF(ISERROR(K56/K68),0,(K56/K68))","v":0},{"$f":"IF(ISERROR(L56/L68),0,(L56/L68))","v":0},{"$f":"IF(ISERROR(M56/M68),0,(M56/M68))","v":0}]
["Current consumer debtors % change - incr(decr)","18(1)a",11,"N.A.",{"$f":"IF(ISERROR(ROUND((SUM('A6-FinPos'!D7:D9)-SUM('A6-FinPos'!C7:C9))/SUM('A6-FinPos'!C7:C9),3)),0,(ROUND((SUM('A6-FinPos'!D7:D9)-SUM('A6-FinPos'!C7:C9))/SUM('A6-FinPos'!C7:C9),3)))","v":0.104},{"$f":"IF(ISERROR(ROUND((SUM('A6-FinPos'!E7:E9)-SUM('A6-FinPos'!D7:D9))/SUM('A6-FinPos'!D7:D9),3)),0,(ROUND((SUM('A6-FinPos'!E7:E9)-SUM('A6-FinPos'!D7:D9))/SUM('A6-FinPos'!D7:D9),3)))","v":-0.61299999999999999},{"$f":"IF(ISERROR(ROUND((SUM('A6-FinPos'!F7:F9)-SUM('A6-FinPos'!E7:E9))/SUM('A6-FinPos'!E7:E9),3)),0,(ROUND((SUM('A6-FinPos'!F7:F9)-SUM('A6-FinPos'!E7:E9))/SUM('A6-FinPos'!E7:E9),3)))","v":1.677},{"$f":"IF(ISERROR(ROUND((SUM('A6-FinPos'!G7:G9)-SUM('A6-FinPos'!F7:F9))/SUM('A6-FinPos'!F7:F9),3)),0,(ROUND((SUM('A6-FinPos'!G7:G9)-SUM('A6-FinPos'!F7:F9))/SUM('A6-FinPos'!F7:F9),3)))","v":0},{"$f":"IF(ISERROR(ROUND((SUM('A6-FinPos'!H7:H9)-SUM('A6-FinPos'!G7:G9))/SUM('A6-FinPos'!G7:G9),3)),0,(ROUND((SUM('A6-FinPos'!H7:H9)-SUM('A6-FinPos'!G7:G9))/SUM('A6-FinPos'!G7:G9),3)))","v":0},{"$f":"IF(ISERROR(ROUND((SUM('A6-FinPos'!I7:I9)-SUM('A6-FinPos'!H7:H9))/SUM('A6-FinPos'!H7:H9),3)),0,(ROUND((SUM('A6-FinPos'!I7:I9)-SUM('A6-FinPos'!H7:H9))/SUM('A6-FinPos'!H7:H9),3)))","v":-0.69399999999999995},{"$f":"IF(ISERROR(ROUND((SUM('A6-FinPos'!J7:J9)-SUM('A6-FinPos'!I7:I9))/SUM('A6-FinPos'!I7:I9),3)),0,(ROUND((SUM('A6-FinPos'!J7:J9)-SUM('A6-FinPos'!I7:I9))/SUM('A6-FinPos'!I7:I9),3)))","v":1.026},{"$f":"IF(ISERROR(ROUND((SUM('A6-FinPos'!K7:K9)-SUM('A6-FinPos'!J7:J9))/SUM('A6-FinPos'!J7:J9),3)),0,(ROUND((SUM('A6-FinPos'!K7:K9)-SUM('A6-FinPos'!J7:J9))/SUM('A6-FinPos'!J7:J9),3)))","v":4.8000000000000001E-2},{"$f":"IF(ISERROR(ROUND((SUM('A6-FinPos'!L7:L9)-SUM('A6-FinPos'!K7:K9))/SUM('A6-FinPos'!K7:K9),3)),0,(ROUND((SUM('A6-FinPos'!L7:L9)-SUM('A6-FinPos'!K7:K9))/SUM('A6-FinPos'!K7:K9),3)))","v":4.5999999999999999E-2}]
["Long term receivables % change - incr(decr)","18(1)a",12,"N.A.",{"$f":"IF(ISERROR(ROUND((SUM('A6-FinPos'!D22:D23)-SUM('A6-FinPos'!C22:C23))/SUM('A6-FinPos'!C22:C23),3)),0,(ROUND((SUM('A6-FinPos'!D22:D23)-SUM('A6-FinPos'!C22:C23))/SUM('A6-FinPos'!C22:C23),3)))","v":0},{"$f":"IF(ISERROR(ROUND((SUM('A6-FinPos'!E22:E23)-SUM('A6-FinPos'!D22:D23))/SUM('A6-FinPos'!D22:D23),3)),0,(ROUND((SUM('A6-FinPos'!E22:E23)-SUM('A6-FinPos'!D22:D23))/SUM('A6-FinPos'!D22:D23),3)))","v":0},{"$f":"IF(ISERROR(ROUND((SUM('A6-FinPos'!F22:F23)-SUM('A6-FinPos'!E22:E23))/SUM('A6-FinPos'!E22:E23),3)),0,(ROUND((SUM('A6-FinPos'!F22:F23)-SUM('A6-FinPos'!E22:E23))/SUM('A6-FinPos'!E22:E23),3)))","v":0},{"$f":"IF(ISERROR(ROUND((SUM('A6-FinPos'!G22:G23)-SUM('A6-FinPos'!F22:F23))/SUM('A6-FinPos'!F22:F23),3)),0,(ROUND((SUM('A6-FinPos'!G22:G23)-SUM('A6-FinPos'!F22:F23))/SUM('A6-FinPos'!F22:F23),3)))","v":0},{"$f":"IF(ISERROR(ROUND((SUM('A6-FinPos'!H22:H23)-SUM('A6-FinPos'!G22:G23))/SUM('A6-FinPos'!G22:G23),3)),0,(ROUND((SUM('A6-FinPos'!H22:H23)-SUM('A6-FinPos'!G22:G23))/SUM('A6-FinPos'!G22:G23),3)))","v":0},{"$f":"IF(ISERROR(ROUND((SUM('A6-FinPos'!I22:I23)-SUM('A6-FinPos'!H22:H23))/SUM('A6-FinPos'!H22:H23),3)),0,(ROUND((SUM('A6-FinPos'!I22:I23)-SUM('A6-FinPos'!H22:H23))/SUM('A6-FinPos'!H22:H23),3)))","v":0},{"$f":"IF(ISERROR(ROUND((SUM('A6-FinPos'!J22:J23)-SUM('A6-FinPos'!I22:I23))/SUM('A6-FinPos'!I22:I23),3)),0,(ROUND((SUM('A6-FinPos'!J22:J23)-SUM('A6-FinPos'!I22:I23))/SUM('A6-FinPos'!I22:I23),3)))","v":0},{"$f":"IF(ISERROR(ROUND((SUM('A6-FinPos'!K22:K23)-SUM('A6-FinPos'!J22:J23))/SUM('A6-FinPos'!J22:J23),3)),0,(ROUND((SUM('A6-FinPos'!K22:K23)-SUM('A6-FinPos'!J22:J23))/SUM('A6-FinPos'!J22:J23),3)))","v":0},{"$f":"IF(ISERROR(ROUND((SUM('A6-FinPos'!L22:L23)-SUM('A6-FinPos'!K22:K23))/SUM('A6-FinPos'!K22:K23),3)),0,(ROUND((SUM('A6-FinPos'!L22:L23)-SUM('A6-FinPos'!K22:K23))/SUM('A6-FinPos'!K22:K23),3)))","v":0}]
["R&M % of Property Plant & Equipment","20(1)(vi)",13,{"$f":"'A9-Asset'!C223","v":0},{"$f":"'A9-Asset'!D223","v":0},{"$f":"'A9-Asset'!E223","v":0},{"$f":"'A9-Asset'!F223","v":6.946526726160665E-2},{"$f":"'A9-Asset'!G223","v":4.7700309416866933E-2},{"$f":"'A9-Asset'!H223","v":4.7700309416866933E-2},{"$f":"'A9-Asset'!I223","v":6.7640953480343199E-2},{"$f":"'A9-Asset'!J223","v":7.1352426625401519E-2},{"$f":"'A9-Asset'!K223","v":7.2865115276002104E-2},{"$f":"'A9-Asset'!L223","v":0}]
["Asset renewal % of capital budget",{"$f":"B17","v":"20(1)(vi)"},14,{"$f":"IF(ISERROR(D58/D57),0,(D58/D57))","v":0},0,1.6435145470277E-2,6.4775804082873423E-2,0.10591276051354982,0.13718120417327037,0,0.1539709363383536,0.23981509053290379,{"$f":"IF(ISERROR(M58/M57),0,((M58/M57)))","v":9.0896390410934919E-2}]
[]
[{"$f":"head27a","v":"References"}]
["1. Positive cash balances indicative of minimum compliance - subject to 2"]
["2. Deduct cash and investment applications (defined) from cash balances"]
["3. Indicative of sufficient liquidity to meet average monthly operating payments"]
["4. Indicative of funded operational requirements"]
["5. Indicative of adherence to macro-economic targets (prior to 2003/04 revenue not available for high capacity municipalities and later for other capacity classifications)"]
["6. Realistic average cash collection forecasts as % of annual billed revenue"]
["7. Realistic average increase in debt impairment (doubtful debt) provision"]
["8. Indicative of planned capital expenditure level & cash payment timing"]
["9. Indicative of compliance with borrowing 'only' for the capital budget - should not exceed 100% unless refinancing"]
["10. Substantiation of National/Province allocations included in budget"]
["11. Indicative of realistic current arrear debtor collection targets (prior to 2003/04 revenue not available for high capacity municipalities and later for other capacity classifications)"]
["12. Indicative of realistic long term arrear debtor collection targets (prior to 2003/04 revenue not available for high capacity municipalities and later for other capacity classifications)"]
["13. Indicative of a credible allowance for repairs & maintenance of assets - functioning assets revenue protection"]
["14. Indicative of a credible allowance for asset renewal (requires analysis of asset renewal projects as % of total capital projects - detailed capital plan) - functioning assets revenue protection"]
["Supporting indicators"]
["% incr total service charges (incl prop rates)","18(1)a",null,{"$f":"IF(ISERROR((D44/C44)-1),0,((D44/C44)-1))","v":0},3.5894351546209569E-2,{"$f":"IF(ISERROR((F44/E44)-1),0,((F44/E44)-1))","v":3.9151181459431639E-2},{"$f":"IF(ISERROR((G44/F44)-1),0,((G44/F44)-1))","v":0.34653994188524573},{"$f":"IF(ISERROR((H44/G44)-1),0,((H44/G44)-1))","v":-1.0018630856434729E-2},{"$f":"IF(ISERROR((I44/H44)-1),0,((I44/H44)-1))","v":7.5280985518655363E-4},{"$f":"IF(ISERROR((J44/I44)-1),0,((J44/I44)-1))","v":-0.6980855089027489},{"$f":"IF(ISERROR((K44/H44)-1),0,((K44/H44)-1))","v":0.10229904386021937},{"$f":"IF(ISERROR((L44/K44)-1),0,((L44/K44)-1))","v":4.8139408482500645E-2},{"$f":"IF(ISERROR((M44/L44)-1),0,((M44/L44)-1))","v":4.3851914326841879E-2}]
["% incr Property Tax","18(1)a",null,0,0.12978516003780549,{"$f":"IF(ISERROR((F45/E45)-1),0,((F45/E45)-1))","v":-8.0914632533362063E-3},0.2135741511071354,-3.5771613005053382E-8,0,-0.27386252690481627,{"$f":"IF(ISERROR((K45/H45)-1),0,((K45/H45)-1))","v":4.384276900542794E-2},4.5000000670862406E-2,2.4999999013417318E-2]
[{"$f":"\"% incr \"&'A4-FinPerf RE'!A6","v":"% incr Service charges - Electricity"},"18(1)a",null,0,1.795302761090567E-2,4.9015408119414738E-2,0.50374341138677359,-1.7094017092247005E-2,1.2937085442257246E-3,-1,0.11319999999138397,4.9000000013609712E-2,{"$f":"IF(ISERROR((M46/L46)-1),0,((M46/L46)-1))","v":4.9000000022501267E-2}]
[{"$f":"\"% incr \"&'A4-FinPerf RE'!A7","v":"% incr Service charges - Water"},"18(1)a",null,0,-4.2184013456230574E-2,9.508614249325098E-2,0.11853194342635232,0,0,-0.26794858880151295,0.14999999970289979,4.9000000339297189E-2,4.9000000266803623E-2]
[{"$f":"\"% incr \"&'A4-FinPerf RE'!A8","v":"% incr Service charges - Waste Water Management"},"18(1)a",null,0,2.5064735518627979E-2,3.3194982640307735E-3,0.1113097733297701,0,0,-0.27529584444952937,0.13499999440479882,4.9000003656355151E-2,4.8999999353116053E-2]
[{"$f":"\"% incr \"&'A4-FinPerf RE'!A9","v":"% incr Service charges - Waste Management"},"18(1)a",null,0,6.5569985298851163E-2,2.9746732071345372E-2,0.22060232413491532,0,0,-0.37827003722363783,6.9999997490198584E-2,4.9000003494355848E-2,4.899999868130811E-2]
[{"$f":"\"% incr in \"&'A4-FinPerf RE'!A10","v":"% incr in Sale of Goods and Rendering of Services"},"18(1)a",null,0,0,0,0,0,{"$f":"IF(ISERROR((I50/H50)-1),0,((I50/H50)-1))","v":0},0,0,{"$f":"IF(ISERROR((L50/K50)-1),0,((L50/K50)-1))","v":0},0]
["Total billable revenue","18(1)a",null,{"$f":"SUM(D45:D50)","v":5059078300},{"$f":"SUM(E45:E50)","v":5240670635},5445849082,7333053306.3920994,7259586152.2647991,7265051240.2647991,2193424248,8002234874.4623775,8387457727.8570347,8755263805.5590286]
["Service charges",null,null,{"$f":"SUM(D45:D50)","v":5059078300},{"$f":"SUM(E45:E50)","v":5240670635},5445849082,7333053306.3920994,7259586152.2647991,7265051240.2647991,{"$f":"SUM(J45:J50)","v":2193424248},8002234874.4623775,8387457727.8570347,8755263805.5590286]
["Property rates",null,null,{"$f":"'A4-FinPerf RE'!C22","v":1212773440},{"$f":"'A4-FinPerf RE'!D22","v":1370173435},{"$f":"'A4-FinPerf RE'!E22","v":1359086727},{"$f":"'A4-FinPerf RE'!F22","v":1649352521},{"$f":"'A4-FinPerf RE'!G22","v":1649352462},{"$f":"'A4-FinPerf RE'!H22","v":1649352462},{"$f":"'A4-FinPerf RE'!I22","v":1197656629},{"$f":"'A4-FinPerf RE'!J22","v":1721664641},{"$f":"'A4-FinPerf RE'!K22","v":1799139551},{"$f":"'A4-FinPerf RE'!L22","v":1844118038}]
["Service charges - electricity revenue",null,null,{"$f":"'A4-FinPerf RE'!C6","v":2676488559},{"$f":"'A4-FinPerf RE'!D6","v":2724539632},{"$f":"'A4-FinPerf RE'!E6","v":2858084054},{"$f":"'A4-FinPerf RE'!F6","v":4297825065.3920994},{"$f":"'A4-FinPerf RE'!G6","v":4224357970.2647991},{"$f":"'A4-FinPerf RE'!H6","v":4229823058.2647991},{"$f":"'A4-FinPerf RE'!I6","v":0},{"$f":"'A4-FinPerf RE'!J6","v":4702555292.4623775},{"$f":"'A4-FinPerf RE'!K6","v":4932980501.8570347},{"$f":"'A4-FinPerf RE'!L6","v":5174696546.5590277}]
["Service charges - water revenue",null,null,{"$f":"'A4-FinPerf RE'!C7","v":860675503},{"$f":"'A4-FinPerf RE'!D7","v":824368756},{"$f":"'A4-FinPerf RE'!E7","v":902754801},{"$f":"'A4-FinPerf RE'!F7","v":1009760082},{"$f":"'A4-FinPerf RE'!G7","v":1009760082},{"$f":"'A4-FinPerf RE'!H7","v":1009760082},{"$f":"'A4-FinPerf RE'!I7","v":739196293},{"$f":"'A4-FinPerf RE'!J7","v":1161224094},{"$f":"'A4-FinPerf RE'!K7","v":1218124075},{"$f":"'A4-FinPerf RE'!L7","v":1277812155}]
["Service charges - sanitation revenue",null,null,{"$f":"'A4-FinPerf RE'!C8","v":193119253},{"$f":"'A4-FinPerf RE'!D8","v":197959736},{"$f":"'A4-FinPerf RE'!E8","v":198616863},{"$f":"'A4-FinPerf RE'!F8","v":220724861},{"$f":"'A4-FinPerf RE'!G8","v":220724861},{"$f":"'A4-FinPerf RE'!H8","v":220724861},{"$f":"'A4-FinPerf RE'!I8","v":159960224},{"$f":"'A4-FinPerf RE'!J8","v":250522716},{"$f":"'A4-FinPerf RE'!K8","v":262798330},{"$f":"'A4-FinPerf RE'!L8","v":275675448}]
["Service charges - refuse removal",null,null,{"$f":"'A4-FinPerf RE'!C9","v":116021545},{"$f":"'A4-FinPerf RE'!D9","v":123629076},{"$f":"'A4-FinPerf RE'!E9","v":127306637},{"$f":"'A4-FinPerf RE'!F9","v":155390777},{"$f":"'A4-FinPerf RE'!G9","v":155390777},{"$f":"'A4-FinPerf RE'!H9","v":155390777},{"$f":"'A4-FinPerf RE'!I9","v":96611102},{"$f":"'A4-FinPerf RE'!J9","v":166268131},{"$f":"'A4-FinPerf RE'!K9","v":174415270},{"$f":"'A4-FinPerf RE'!L9","v":182961618}]
[]
[{"$f":"'A4-FinPerf RE'!A11","v":"Agency services"},null,null,{"$f":"'A4-FinPerf RE'!C11","v":2139483},{"$f":"'A4-FinPerf RE'!D11","v":2598950},{"$f":"'A4-FinPerf RE'!E11","v":2666696},{"$f":"'A4-FinPerf RE'!F11","v":764825.64240000001},{"$f":"'A4-FinPerf RE'!G11","v":764825.64240000001},{"$f":"'A4-FinPerf RE'!H11","v":764825.64240000001},{"$f":"'A4-FinPerf RE'!I11","v":0},{"$f":"'A4-FinPerf RE'!J11","v":5507583},{"$f":"'A4-FinPerf RE'!K11","v":5777455},{"$f":"'A4-FinPerf RE'!L11","v":6060550}]
["Capital expenditure excluding capital grant funding",null,null,{"$f":"'A5-Capex'!C63-'A5-Capex'!C70","v":209105601.41000009},{"$f":"'A5-Capex'!D63-'A5-Capex'!D70","v":184460045.15999997},{"$f":"'A5-Capex'!E63-'A5-Capex'!E70","v":330727465.28000021},{"$f":"'A5-Capex'!F63-'A5-Capex'!F70","v":367035999.91000009},{"$f":"'A5-Capex'!G63-'A5-Capex'!G70","v":338622822.25999999},{"$f":"'A5-Capex'!H63-'A5-Capex'!H70","v":338622822.25999999},{"$f":"'A5-Capex'!I63-'A5-Capex'!I70","v":0},{"$f":"'A5-Capex'!J63-'A5-Capex'!J70","v":251524401},{"$f":"'A5-Capex'!K63-'A5-Capex'!K70","v":89870000},{"$f":"'A5-Capex'!L63-'A5-Capex'!L70","v":99914151}]
["Cash receipts from ratepayers","18(1)a",null,{"$f":"'A7-CFlow'!C6+'A7-CFlow'!C7+'A7-CFlow'!C8","v":4406499508},{"$f":"'A7-CFlow'!D6+'A7-CFlow'!D7+'A7-CFlow'!D8","v":4883557660},{"$f":"'A7-CFlow'!E6+'A7-CFlow'!E7+'A7-CFlow'!E8","v":5256350930},{"$f":"'A7-CFlow'!F6+'A7-CFlow'!F7+'A7-CFlow'!F8","v":7027524529.4300003},{"$f":"'A7-CFlow'!G6+'A7-CFlow'!G7+'A7-CFlow'!G8","v":6967721216.4975939},{"$f":"'A7-CFlow'!H6+'A7-CFlow'!H7+'A7-CFlow'!H8","v":6985015594.4975939},{"$f":"'A7-CFlow'!I6+'A7-CFlow'!I7+'A7-CFlow'!I8","v":0},{"$f":"'A7-CFlow'!J6+'A7-CFlow'!J7+'A7-CFlow'!J8","v":6964681444},{"$f":"'A7-CFlow'!K6+'A7-CFlow'!K7+'A7-CFlow'!K8","v":7299811278},{"$f":"'A7-CFlow'!L6+'A7-CFlow'!L7+'A7-CFlow'!L8","v":7619062826}]
["Ratepayer & Other revenue","18(1)a",null,{"$f":"SUM('A4-FinPerf RE'!C6:C11+'A4-FinPerf RE'!C18+'A4-FinPerf RE'!C20+SUM('A4-FinPerf RE'!C22:C25)+'A4-FinPerf RE'!C29)","v":11556690949},{"$f":"SUM('A4-FinPerf RE'!D6:D11+'A4-FinPerf RE'!D18+'A4-FinPerf RE'!D20+SUM('A4-FinPerf RE'!D22:D25)+'A4-FinPerf RE'!D29)","v":12585524369},{"$f":"SUM('A4-FinPerf RE'!E6:E11+'A4-FinPerf RE'!E18+'A4-FinPerf RE'!E20+SUM('A4-FinPerf RE'!E22:E25)+'A4-FinPerf RE'!E29)","v":12798268690},{"$f":"SUM('A4-FinPerf RE'!F6:F11+'A4-FinPerf RE'!F18+'A4-FinPerf RE'!F20+SUM('A4-FinPerf RE'!F22:F25)+'A4-FinPerf RE'!F29)","v":16932772990.214666},{"$f":"SUM('A4-FinPerf RE'!G6:G11+'A4-FinPerf RE'!G18+'A4-FinPerf RE'!G20+SUM('A4-FinPerf RE'!G22:G25)+'A4-FinPerf RE'!G29)","v":16859305545.287363},{"$f":"SUM('A4-FinPerf RE'!H6:H11+'A4-FinPerf RE'!H18+'A4-FinPerf RE'!H20+SUM('A4-FinPerf RE'!H22:H25)+'A4-FinPerf RE'!H29)","v":16864770633.287363},{"$f":"SUM('A4-FinPerf RE'!I6:I11+'A4-FinPerf RE'!I18+'A4-FinPerf RE'!I20+SUM('A4-FinPerf RE'!I22:I25)+'A4-FinPerf RE'!I29)","v":8181707393},{"$f":"SUM('A4-FinPerf RE'!J6:J11)+'A4-FinPerf RE'!J18+'A4-FinPerf RE'!J20+SUM('A4-FinPerf RE'!J22:J25)+'A4-FinPerf RE'!J29","v":8148567163.4623775},{"$f":"SUM('A4-FinPerf RE'!K6:K11)+'A4-FinPerf RE'!K18+'A4-FinPerf RE'!K20+SUM('A4-FinPerf RE'!K22:K25)+'A4-FinPerf RE'!K29","v":8540960296.8570347},{"$f":"SUM('A4-FinPerf RE'!L6:L11)+'A4-FinPerf RE'!L18+'A4-FinPerf RE'!L20+SUM('A4-FinPerf RE'!L22:L25)+'A4-FinPerf RE'!L29","v":8916288005.5590286}]
["Change in consumer debtors (current and non-current)",null,null,"N/A",{"$f":"SUM('A6-FinPos'!D7:D9)+SUM('A6-FinPos'!D22:D23)-(SUM('A6-FinPos'!C7:C9)+SUM('A6-FinPos'!C22:C23))","v":314975462},{"$f":"SUM('A6-FinPos'!E7:E9)+SUM('A6-FinPos'!E22:E23)-(SUM('A6-FinPos'!D7:D9)+SUM('A6-FinPos'!D22:D23))","v":-2047161781},{"$f":"SUM('A6-FinPos'!F7:F9)+SUM('A6-FinPos'!F22:F23)-(SUM('A6-FinPos'!E7:E9)+SUM('A6-FinPos'!E22:E23))","v":2167642941},{"$f":"SUM('A6-FinPos'!G7:G9)+SUM('A6-FinPos'!G22:G23)-(SUM('A6-FinPos'!F7:F9)+SUM('A6-FinPos'!F22:F23))","v":0},{"$f":"SUM('A6-FinPos'!H7:H9)+SUM('A6-FinPos'!H22:H23)-(SUM('A6-FinPos'!G7:G9)+SUM('A6-FinPos'!G22:G23))","v":0},{"$f":"SUM('A6-FinPos'!I7:I9)+SUM('A6-FinPos'!I22:I23)-(SUM('A6-FinPos'!H7:H9)+SUM('A6-FinPos'!H22:H23))","v":-2402042474},{"$f":"SUM('A6-FinPos'!J7:J9)+SUM('A6-FinPos'!J22:J23)-(SUM('A6-FinPos'!I7:I9)+SUM('A6-FinPos'!I22:I23))","v":1086163639},{"$f":"SUM('A6-FinPos'!K7:K9)+SUM('A6-FinPos'!K22:K23)-(SUM('A6-FinPos'!J7:J9)+SUM('A6-FinPos'!J22:J23))","v":102026162},{"$f":"SUM('A6-FinPos'!L7:L9)+SUM('A6-FinPos'!L22:L23)-(SUM('A6-FinPos'!K7:K9)+SUM('A6-FinPos'!K22:K23))","v":102930129}]
["Operating and Capital Grant Revenue","18(1)a",null,{"$f":"'A4-FinPerf RE'!C26+'A4-FinPerf RE'!C50","v":1050402241},{"$f":"'A4-FinPerf RE'!D26+'A4-FinPerf RE'!D50","v":1126070597},{"$f":"'A4-FinPerf RE'!E26+'A4-FinPerf RE'!E50","v":1252467977},{"$f":"'A4-FinPerf RE'!F26+'A4-FinPerf RE'!F50","v":1403318041},{"$f":"'A4-FinPerf RE'!G26+'A4-FinPerf RE'!G50","v":1515091202},{"$f":"'A4-FinPerf RE'!H26+'A4-FinPerf RE'!H50","v":1515091202},{"$f":"'A4-FinPerf RE'!I26+'A4-FinPerf RE'!I50","v":0},{"$f":"'A4-FinPerf RE'!J26+'A4-FinPerf RE'!J50","v":1369323715},{"$f":"'A4-FinPerf RE'!K26+'A4-FinPerf RE'!K50","v":1495987820},{"$f":"'A4-FinPerf RE'!L26+'A4-FinPerf RE'!L50","v":1570386337}]
["Capital expenditure - total",{"$f":"B17","v":"20(1)(vi)"},null,{"$f":"'A5-Capex'!C63","v":521826748.73000014},{"$f":"'A5-Capex'!D63","v":547789828.08999991},{"$f":"'A5-Capex'!E63","v":726309725.80000007},{"$f":"'A5-Capex'!F63","v":824010890.42000008},{"$f":"'A5-Capex'!G63","v":816548795.25999999},{"$f":"'A5-Capex'!H63","v":816548795.25999999},{"$f":"'A5-Capex'!I63","v":0},{"$f":"'A5-Capex'!J63","v":627650921},{"$f":"'A5-Capex'!K63","v":519757271},{"$f":"'A5-Capex'!L63","v":555912339}]
["Capital expenditure - renewal",{"$f":"B18","v":"20(1)(vi)"},null,{"$f":"'A9-Asset'!C40","v":0},{"$f":"'A9-Asset'!D40","v":0},{"$f":"'A9-Asset'!E40","v":11937006},{"$f":"'A9-Asset'!F40","v":53375968},{"$f":"'A9-Asset'!G40","v":86482937},{"$f":"'A9-Asset'!H40","v":112015147},null,{"$f":"'A9-Asset'!I40","v":96640000},{"$f":"'A9-Asset'!J40","v":124645637},{"$f":"'A9-Asset'!K40","v":50530425}]
[]
["Supporting benchmarks"]
["Growth guideline maximum",null,null,0.06,0.06,0.06,0.06,0.06,0.06,0.06,0.06,0.06,0.06]
["CPI guideline",null,null,4.2999999999999997E-2,3.9E-2,4.5999999999999999E-2,0.05,0.05,0.05,0.05,5.3999999999999999E-2,5.6000000000000001E-2,5.3999999999999999E-2]
["DoRA operating grants total MFY"]
["DoRA capital grants total MFY"]
["Provincial operating grants"]
["Provincial capital grants"]
["District Municipality grants"]
["Total gazetted/advised national, provincial and district grants",null,null,null,null,null,null,null,null,null,{"$f":"SUM(K63:K67)","v":0},{"$f":"SUM(L63:L67)","v":0},{"$f":"SUM(M63:M67)","v":0}]
["Average annual collection rate (arrears inclusive)"]
[]
["DoRA operating"]
["List operating grants"]
[]
[]
[]
[null,null,null,null,null,null,null,null,null,null,{"$f":"SUM(K72:K75)","v":0},{"$f":"SUM(L72:L75)","v":0},{"$f":"SUM(M72:M75)","v":0}]
["DoRA capital"]
["List capital grants"]
[]
[]
[]
[null,null,null,null,null,null,null,null,null,null,{"$f":"SUM(K78:K81)","v":0},{"$f":"SUM(L78:L81)","v":0},{"$f":"SUM(M78:M81)","v":0}]
["Trend"]
[{"$f":"A55","v":"Change in consumer debtors (current and non-current)"},null,null,{"$f":"D55","v":"N/A"},{"$f":"E55","v":314975462},{"$f":"F55","v":-2047161781},{"$f":"G55","v":2167642941},0,0,-2402042474,1086163639,102026162,102930129]
[]
["Total Operating Revenue",null,null,{"$f":"'A1-Sum'!B10","v":6116382600},{"$f":"'A1-Sum'!C10","v":6427061377},{"$f":"'A1-Sum'!D10","v":6927536750},{"$f":"'A1-Sum'!E10","v":8963903224.4206104},{"$f":"'A1-Sum'!F10","v":8970488108.993309},{"$f":"'A1-Sum'!G10","v":8975953196.993309},{"$f":"'A1-Sum'!H10","v":2193424248},{"$f":"'A1-Sum'!I10","v":9532880034.4623775},{"$f":"'A1-Sum'!J10","v":10017341183.857035},{"$f":"'A1-Sum'!K10","v":10459711911.559029}]
["Total Operating Expenditure",null,null,{"$f":"'A1-Sum'!B18","v":6722368497},{"$f":"'A1-Sum'!C18","v":6225701939},{"$f":"'A1-Sum'!D18","v":8034115714},{"$f":"'A1-Sum'!E18","v":8380270953.8223991},{"$f":"'A1-Sum'!F18","v":7875439701.8223991},{"$f":"'A1-Sum'!G18","v":7875439701.8223991},{"$f":"'A1-Sum'!H18","v":4943599042},{"$f":"'A1-Sum'!I18","v":8561796536},{"$f":"'A1-Sum'!J18","v":9070556519},{"$f":"'A1-Sum'!K18","v":9483681728}]
["Operating Performance Surplus/(Deficit)",null,null,{"$f":"D86-D87","v":-605985897},{"$f":"E86-E87","v":201359438},-1106578964,583632270.59821129,1095048407.1709099,1100513495.1709099,-2750174794,{"$f":"K86-K87","v":971083498.46237755},946784664.85703468,976030183.55902863]
["Cash and Cash Equivalents (30 June 2012)",null,null,null,null,null,null,null,null,null,{"$f":"'A7-CFlow'!J40","v":395132659.53999996}]
["Revenue"]
["% Increase in Total Operating Revenue",null,null,null,{"$f":"IF(ISERROR(('A1-Sum'!C10-'A1-Sum'!B10)/'A1-Sum'!B10),0,(('A1-Sum'!C10-'A1-Sum'!B10)/'A1-Sum'!B10))","v":5.0794529596627919E-2},{"$f":"IF(ISERROR(('A1-Sum'!D10-'A1-Sum'!C10)/'A1-Sum'!C10),0,(('A1-Sum'!D10-'A1-Sum'!C10)/'A1-Sum'!C10))","v":7.7870016115142507E-2},{"$f":"IF(ISERROR(('A1-Sum'!E10-'A1-Sum'!D10)/'A1-Sum'!D10),0,(('A1-Sum'!E10-'A1-Sum'!D10)/'A1-Sum'!D10))","v":0.29395246072431308},{"$f":"IF(ISERROR(('A1-Sum'!F10-'A1-Sum'!E10)/'A1-Sum'!E10),0,(('A1-Sum'!F10-'A1-Sum'!E10)/'A1-Sum'!E10))","v":7.3460014101437527E-4},{"$f":"IF(ISERROR(('A1-Sum'!G10-'A1-Sum'!F10)/'A1-Sum'!F10),0,(('A1-Sum'!G10-'A1-Sum'!F10)/'A1-Sum'!F10))","v":6.0922972458109703E-4},{"$f":"IF(ISERROR(('A1-Sum'!H10-'A1-Sum'!G10)/'A1-Sum'!G10),0,(('A1-Sum'!H10-'A1-Sum'!G10)/'A1-Sum'!G10))","v":-0.7556332792895204},{"$f":"IF(ISERROR(('A1-Sum'!I10-'A1-Sum'!F10)/'A1-Sum'!F10),0,(('A1-Sum'!I10-'A1-Sum'!F10)/'A1-Sum'!F10))","v":6.2693570141991034E-2},{"$f":"IF(ISERROR(('A1-Sum'!J10-'A1-Sum'!I10)/'A1-Sum'!I10),0,(('A1-Sum'!J10-'A1-Sum'!I10)/'A1-Sum'!I10))","v":5.0820019515957236E-2},{"$f":"IF(ISERROR(('A1-Sum'!K10-'A1-Sum'!J10)/'A1-Sum'!J10),0,(('A1-Sum'!K10-'A1-Sum'!J10)/'A1-Sum'!J10))","v":4.4160493246938146E-2}]
["% Increase in Property Rates Revenue",null,null,null,{"$f":"IF(ISERROR(('A4-FinPerf RE'!D22-'A4-FinPerf RE'!C22)/'A4-FinPerf RE'!C22),0,(('A4-FinPerf RE'!D22-'A4-FinPerf RE'!C22)/'A4-FinPerf RE'!C22))","v":0.12978516003780557},{"$f":"IF(ISERROR(('A4-FinPerf RE'!E22-'A4-FinPerf RE'!D22)/'A4-FinPerf RE'!D22),0,(('A4-FinPerf RE'!E22-'A4-FinPerf RE'!D22)/'A4-FinPerf RE'!D22))","v":-8.0914632533362462E-3},{"$f":"IF(ISERROR(('A4-FinPerf RE'!F22-'A4-FinPerf RE'!E22)/'A4-FinPerf RE'!E22),0,(('A4-FinPerf RE'!F22-'A4-FinPerf RE'!E22)/'A4-FinPerf RE'!E22))","v":0.21357415110713535},{"$f":"IF(ISERROR(('A4-FinPerf RE'!G22-'A4-FinPerf RE'!F22)/'A4-FinPerf RE'!F22),0,(('A4-FinPerf RE'!G22-'A4-FinPerf RE'!F22)/'A4-FinPerf RE'!F22))","v":-3.577161295041304E-8},{"$f":"IF(ISERROR(('A4-FinPerf RE'!H22-'A4-FinPerf RE'!G22)/'A4-FinPerf RE'!G22),0,(('A4-FinPerf RE'!H22-'A4-FinPerf RE'!G22)/'A4-FinPerf RE'!G22))","v":0},{"$f":"IF(ISERROR(('A4-FinPerf RE'!I22-'A4-FinPerf RE'!H22)/'A4-FinPerf RE'!H22),0,(('A4-FinPerf RE'!I22-'A4-FinPerf RE'!H22)/'A4-FinPerf RE'!H22))","v":-0.27386252690481627},{"$f":"IF(ISERROR(('A4-FinPerf RE'!J22-'A4-FinPerf RE'!I22)/'A4-FinPerf RE'!I22),0,(('A4-FinPerf RE'!J22-'A4-FinPerf RE'!I22)/'A4-FinPerf RE'!I22))","v":0.43752775153720624},{"$f":"IF(ISERROR(('A4-FinPerf RE'!K22-'A4-FinPerf RE'!J22)/'A4-FinPerf RE'!J22),0,(('A4-FinPerf RE'!K22-'A4-FinPerf RE'!J22)/'A4-FinPerf RE'!J22))","v":4.5000000670862357E-2},{"$f":"IF(ISERROR(('A4-FinPerf RE'!L22-'A4-FinPerf RE'!K22)/'A4-FinPerf RE'!K22),0,(('A4-FinPerf RE'!L22-'A4-FinPerf RE'!K22)/'A4-FinPerf RE'!K22))","v":2.4999999013417276E-2}]
["% Increase in Electricity Revenue",null,null,null,{"$f":"IF(ISERROR(('A4-FinPerf RE'!D6-'A4-FinPerf RE'!C6)/'A4-FinPerf RE'!C6),0,(('A4-FinPerf RE'!D6-'A4-FinPerf RE'!C6)/'A4-FinPerf RE'!C6))","v":1.7953027610905621E-2},{"$f":"IF(ISERROR(('A4-FinPerf RE'!E6-'A4-FinPerf RE'!D6)/'A4-FinPerf RE'!D6),0,(('A4-FinPerf RE'!E6-'A4-FinPerf RE'!D6)/'A4-FinPerf RE'!D6))","v":4.9015408119414725E-2},{"$f":"IF(ISERROR(('A4-FinPerf RE'!F6-'A4-FinPerf RE'!E6)/'A4-FinPerf RE'!E6),0,(('A4-FinPerf RE'!F6-'A4-FinPerf RE'!E6)/'A4-FinPerf RE'!E6))","v":0.50374341138677348},{"$f":"IF(ISERROR(('A4-FinPerf RE'!G6-'A4-FinPerf RE'!F6)/'A4-FinPerf RE'!F6),0,(('A4-FinPerf RE'!G6-'A4-FinPerf RE'!F6)/'A4-FinPerf RE'!F6))","v":-1.7094017092247032E-2},{"$f":"IF(ISERROR(('A4-FinPerf RE'!H6-'A4-FinPerf RE'!G6)/'A4-FinPerf RE'!G6),0,(('A4-FinPerf RE'!H6-'A4-FinPerf RE'!G6)/'A4-FinPerf RE'!G6))","v":1.2937085442258169E-3},{"$f":"IF(ISERROR(('A4-FinPerf RE'!I6-'A4-FinPerf RE'!H6)/'A4-FinPerf RE'!H6),0,(('A4-FinPerf RE'!I6-'A4-FinPerf RE'!H6)/'A4-FinPerf RE'!H6))","v":-1},{"$f":"IF(ISERROR(('A4-FinPerf RE'!J6-'A4-FinPerf RE'!G6)/'A4-FinPerf RE'!G6),0,(('A4-FinPerf RE'!J6-'A4-FinPerf RE'!G6)/'A4-FinPerf RE'!G6))","v":0.11319999999138405},{"$f":"IF(ISERROR(('A4-FinPerf RE'!K6-'A4-FinPerf RE'!J6)/'A4-FinPerf RE'!J6),0,(('A4-FinPerf RE'!K6-'A4-FinPerf RE'!J6)/'A4-FinPerf RE'!J6))","v":4.9000000013609754E-2},{"$f":"IF(ISERROR(('A4-FinPerf RE'!L6-'A4-FinPerf RE'!K6)/'A4-FinPerf RE'!K6),0,(('A4-FinPerf RE'!L6-'A4-FinPerf RE'!K6)/'A4-FinPerf RE'!K6))","v":4.900000002250126E-2}]
["% Increase in Property Rates & Services Charges",null,null,null,{"$f":"IF(ISERROR((('A1-Sum'!C5+'A1-Sum'!C6)-('A1-Sum'!B5+'A1-Sum'!B6))/('A1-Sum'!B5+'A1-Sum'!B6)),0,((('A1-Sum'!C5+'A1-Sum'!C6)-('A1-Sum'!B5+'A1-Sum'!B6))/('A1-Sum'!B5+'A1-Sum'!B6)))","v":3.5894351546209513E-2},{"$f":"IF(ISERROR((('A1-Sum'!D5+'A1-Sum'!D6)-('A1-Sum'!C5+'A1-Sum'!C6))/('A1-Sum'!C5+'A1-Sum'!C6)),0,((('A1-Sum'!D5+'A1-Sum'!D6)-('A1-Sum'!C5+'A1-Sum'!C6))/('A1-Sum'!C5+'A1-Sum'!C6)))","v":3.9151181459431673E-2},{"$f":"IF(ISERROR((('A1-Sum'!E5+'A1-Sum'!E6)-('A1-Sum'!D5+'A1-Sum'!D6))/('A1-Sum'!D5+'A1-Sum'!D6)),0,((('A1-Sum'!E5+'A1-Sum'!E6)-('A1-Sum'!D5+'A1-Sum'!D6))/('A1-Sum'!D5+'A1-Sum'!D6)))","v":0.34653994188524584},{"$f":"IF(ISERROR((('A1-Sum'!F5+'A1-Sum'!F6)-('A1-Sum'!E5+'A1-Sum'!E6))/('A1-Sum'!E5+'A1-Sum'!E6)),0,((('A1-Sum'!F5+'A1-Sum'!F6)-('A1-Sum'!E5+'A1-Sum'!E6))/('A1-Sum'!E5+'A1-Sum'!E6)))","v":-1.0018630856434682E-2},{"$f":"IF(ISERROR((('A1-Sum'!G5+'A1-Sum'!G6)-('A1-Sum'!F5+'A1-Sum'!F6))/('A1-Sum'!F5+'A1-Sum'!F6)),0,((('A1-Sum'!G5+'A1-Sum'!G6)-('A1-Sum'!F5+'A1-Sum'!F6))/('A1-Sum'!F5+'A1-Sum'!F6)))","v":7.5280985518644706E-4},{"$f":"IF(ISERROR((('A1-Sum'!H5+'A1-Sum'!H6)-('A1-Sum'!G5+'A1-Sum'!G6))/('A1-Sum'!G5+'A1-Sum'!G6)),0,((('A1-Sum'!H5+'A1-Sum'!H6)-('A1-Sum'!G5+'A1-Sum'!G6))/('A1-Sum'!G5+'A1-Sum'!G6)))","v":-0.6980855089027489},{"$f":"IF(ISERROR((('A1-Sum'!I5+'A1-Sum'!I6)-('A1-Sum'!F5+'A1-Sum'!F6))/('A1-Sum'!F5+'A1-Sum'!F6)),0,((('A1-Sum'!I5+'A1-Sum'!I6)-('A1-Sum'!F5+'A1-Sum'!F6))/('A1-Sum'!F5+'A1-Sum'!F6)))","v":0.10229904386021944},{"$f":"IF(ISERROR((('A1-Sum'!J5+'A1-Sum'!J6)-('A1-Sum'!I5+'A1-Sum'!I6))/('A1-Sum'!I5+'A1-Sum'!I6)),0,((('A1-Sum'!J5+'A1-Sum'!J6)-('A1-Sum'!I5+'A1-Sum'!I6))/('A1-Sum'!I5+'A1-Sum'!I6)))","v":4.8139408482500701E-2},{"$f":"IF(ISERROR((('A1-Sum'!K5+'A1-Sum'!K6)-('A1-Sum'!J5+'A1-Sum'!J6))/('A1-Sum'!J5+'A1-Sum'!J6)),0,((('A1-Sum'!K5+'A1-Sum'!K6)-('A1-Sum'!J5+'A1-Sum'!J6))/('A1-Sum'!J5+'A1-Sum'!J6)))","v":4.3851914326841809E-2}]
["Expenditure"]
["% Increase in Total Operating Expenditure",null,null,{"$f":"IF(ISERROR(('A1-Sum'!B18-'A1-Sum'!A18)/'A1-Sum'!A18),0,(('A1-Sum'!B18-'A1-Sum'!A18)/'A1-Sum'!A18))","v":0},{"$f":"IF(ISERROR(('A1-Sum'!C18-'A1-Sum'!B18)/'A1-Sum'!B18),0,(('A1-Sum'!C18-'A1-Sum'!B18)/'A1-Sum'!B18))","v":-7.3882673676941096E-2},{"$f":"IF(ISERROR(('A1-Sum'!D18-'A1-Sum'!C18)/'A1-Sum'!C18),0,(('A1-Sum'!D18-'A1-Sum'!C18)/'A1-Sum'!C18))","v":0.29047548255907596},{"$f":"IF(ISERROR(('A1-Sum'!E18-'A1-Sum'!D18)/'A1-Sum'!D18),0,(('A1-Sum'!E18-'A1-Sum'!D18)/'A1-Sum'!D18))","v":4.3085667688255946E-2},{"$f":"IF(ISERROR(('A1-Sum'!F18-'A1-Sum'!E18)/'A1-Sum'!E18),0,(('A1-Sum'!F18-'A1-Sum'!E18)/'A1-Sum'!E18))","v":-6.0240445062189424E-2},{"$f":"IF(ISERROR(('A1-Sum'!G18-'A1-Sum'!F18)/'A1-Sum'!F18),0,(('A1-Sum'!G18-'A1-Sum'!F18)/'A1-Sum'!F18))","v":0},{"$f":"IF(ISERROR(('A1-Sum'!H18-'A1-Sum'!G18)/'A1-Sum'!G18),0,(('A1-Sum'!H18-'A1-Sum'!G18)/'A1-Sum'!G18))","v":-0.37227644053245218},{"$f":"IF(ISERROR(('A1-Sum'!I18-'A1-Sum'!F18)/'A1-Sum'!F18),0,(('A1-Sum'!I18-'A1-Sum'!F18)/'A1-Sum'!F18))","v":8.7151557267180393E-2},{"$f":"IF(ISERROR(('A1-Sum'!J18-'A1-Sum'!I18)/'A1-Sum'!I18),0,(('A1-Sum'!J18-'A1-Sum'!I18)/'A1-Sum'!I18))","v":5.9422106197081909E-2},{"$f":"IF(ISERROR(('A1-Sum'!K18-'A1-Sum'!J18)/'A1-Sum'!J18),0,(('A1-Sum'!K18-'A1-Sum'!J18)/'A1-Sum'!J18))","v":4.5545740014367467E-2}]
["% Increase in Employee Costs",null,null,{"$f":"IF(ISERROR(('A1-Sum'!B11-'A1-Sum'!A11)/'A1-Sum'!A11),0,(('A1-Sum'!B11-'A1-Sum'!A11)/'A1-Sum'!A11))","v":0},{"$f":"IF(ISERROR(('A1-Sum'!C11-'A1-Sum'!B11)/'A1-Sum'!B11),0,(('A1-Sum'!C11-'A1-Sum'!B11)/'A1-Sum'!B11))","v":-1.1256026865651696E-3},{"$f":"IF(ISERROR(('A1-Sum'!D11-'A1-Sum'!C11)/'A1-Sum'!C11),0,(('A1-Sum'!D11-'A1-Sum'!C11)/'A1-Sum'!C11))","v":9.880993784973402E-2},{"$f":"IF(ISERROR(('A1-Sum'!E11-'A1-Sum'!D11)/'A1-Sum'!D11),0,(('A1-Sum'!E11-'A1-Sum'!D11)/'A1-Sum'!D11))","v":0.14504679941627516},{"$f":"IF(ISERROR(('A1-Sum'!F11-'A1-Sum'!E11)/'A1-Sum'!E11),0,(('A1-Sum'!F11-'A1-Sum'!E11)/'A1-Sum'!E11))","v":-4.7136111911156922E-2},{"$f":"IF(ISERROR(('A1-Sum'!G11-'A1-Sum'!F11)/'A1-Sum'!F11),0,(('A1-Sum'!G11-'A1-Sum'!F11)/'A1-Sum'!F11))","v":7.6275307844946598E-3},{"$f":"IF(ISERROR(('A1-Sum'!H11-'A1-Sum'!G11)/'A1-Sum'!G11),0,(('A1-Sum'!H11-'A1-Sum'!G11)/'A1-Sum'!G11))","v":-0.39677214726606297},{"$f":"IF(ISERROR(('A1-Sum'!I11-'A1-Sum'!F11)/'A1-Sum'!F11),0,(('A1-Sum'!I11-'A1-Sum'!F11)/'A1-Sum'!F11))","v":9.2468581742813763E-2},{"$f":"IF(ISERROR(('A1-Sum'!J11-'A1-Sum'!I11)/'A1-Sum'!I11),0,(('A1-Sum'!J11-'A1-Sum'!I11)/'A1-Sum'!I11))","v":7.0991040676876768E-2},{"$f":"IF(ISERROR(('A1-Sum'!K11-'A1-Sum'!J11)/'A1-Sum'!J11),0,(('A1-Sum'!K11-'A1-Sum'!J11)/'A1-Sum'!J11))","v":7.0501158227141147E-2}]
["% Increase in Electricity Bulk Purchases",null,null,{"$f":"IF(ISERROR(('SA1'!C86-'SA1'!B86)/'SA1'!B86),0,(('SA1'!C86-'SA1'!B86)/'SA1'!B86))","v":0},{"$f":"IF(ISERROR(('SA1'!D86-'SA1'!C86)/'SA1'!C86),0,(('SA1'!D86-'SA1'!C86)/'SA1'!C86))","v":6.2220285338073111E-2},{"$f":"IF(ISERROR(('SA1'!E86-'SA1'!D86)/'SA1'!D86),0,(('SA1'!E86-'SA1'!D86)/'SA1'!D86))","v":0.15486530669115786},{"$f":"IF(ISERROR(('SA1'!F86-'SA1'!E86)/'SA1'!E86),0,(('SA1'!F86-'SA1'!E86)/'SA1'!E86))","v":0.15868073954187167},{"$f":"IF(ISERROR(('SA1'!G86-'SA1'!F86)/'SA1'!F86),0,(('SA1'!G86-'SA1'!F86)/'SA1'!F86))","v":0},{"$f":"IF(ISERROR(('SA1'!H86-'SA1'!G86)/'SA1'!G86),0,(('SA1'!H86-'SA1'!G86)/'SA1'!G86))","v":0},{"$f":"IF(ISERROR(('SA1'!I86-'SA1'!H86)/'SA1'!H86),0,(('SA1'!I86-'SA1'!H86)/'SA1'!H86))","v":-0.3358130994666052},{"$f":"IF(ISERROR(('SA1'!J86-'SA1'!G86)/'SA1'!G86),0,(('SA1'!J86-'SA1'!G86)/'SA1'!G86))","v":0.12},{"$f":"IF(ISERROR(('SA1'!K86-'SA1'!J86)/'SA1'!J86),0,(('SA1'!K86-'SA1'!J86)/'SA1'!J86))","v":4.8999999934138304E-2},{"$f":"IF(ISERROR(('SA1'!L86-'SA1'!K86)/'SA1'!K86),0,(('SA1'!L86-'SA1'!K86)/'SA1'!K86))","v":4.900000017401248E-2}]
["Average Cost Per Budgeted Employee Position (Remuneration)",null,null,{"$f":"IF(ISERROR('A1-Sum'!B11/('SA24'!B36+'SA24'!C36-'SA24'!A5)),0,('A1-Sum'!B11/('SA24'!B36+'SA24'!C36-'SA24'!A5)))","v":0},{"$f":"IF(ISERROR('A1-Sum'!C11/('SA24'!C36+'SA24'!D36-'SA24'!B5)),0,('A1-Sum'!C11/('SA24'!C36+'SA24'!D36-'SA24'!B5)))","v":162767.65151348375},{"$f":"IF(ISERROR('A1-Sum'!D11/('SA24'!D36+'SA24'!E36-'SA24'!C5)),0,('A1-Sum'!D11/('SA24'!D36+'SA24'!E36-'SA24'!C5)))","v":502740.94306930696},{"$f":"IF(ISERROR('A1-Sum'!E11/('SA24'!F36-'SA24'!F5)),0,('A1-Sum'!E11/('SA24'!F36-'SA24'!F5)))","v":316310.65725943557},{"$f":"IF(ISERROR('A1-Sum'!F11/('SA24'!G36-'SA24'!G5)),0,('A1-Sum'!F11/('SA24'!G36-'SA24'!G5)))","v":567854.16335682257},{"$f":"IF(ISERROR('A1-Sum'!G11/('SA24'!H36-'SA24'!H5)),0,('A1-Sum'!G11/('SA24'!H36-'SA24'!H5)))","v":16239664.5},{"$f":"IF(ISERROR('A1-Sum'!H11/('SA24'!I36-'SA24'!I5)),0,('A1-Sum'!H11/('SA24'!I36-'SA24'!I5)))","v":269530.75887943973},{"$f":"IF(ISERROR('A1-Sum'!I11/('SA24'!I36-'SA24'!I5)),0,('A1-Sum'!I11/('SA24'!I36-'SA24'!I5)))","v":484435.40845422709},{"$f":"IF(ISERROR('A1-Sum'!J11/('SA24'!J36-'SA24'!J5)),0,('A1-Sum'!J11/('SA24'!J36-'SA24'!J5)))","v":587278.10787089472},{"$f":"IF(ISERROR('A1-Sum'!K11/('SA24'!K36-'SA24'!K5)),0,('A1-Sum'!K11/('SA24'!K36-'SA24'!K5)))","v":4744667.632478632}]
["Average Cost Per Councillor (Remuneration)",null,null,{"$f":"IF(ISERROR('A1-Sum'!B12/'SA24'!A5),0,('A1-Sum'!B12/'SA24'!A5))","v":0},{"$f":"IF(ISERROR('A1-Sum'!C12/'SA24'!B5),0,('A1-Sum'!C12/'SA24'!B5))","v":0},{"$f":"IF(ISERROR('A1-Sum'!D12/'SA24'!C5),0,('A1-Sum'!D12/'SA24'!C5))","v":784469.25925925921},{"$f":"IF(ISERROR('A1-Sum'!E12/'SA24'!F5),0,('A1-Sum'!E12/'SA24'!F5))","v":820517.66803209891},{"$f":"IF(ISERROR('A1-Sum'!F12/'SA24'!G5),0,('A1-Sum'!F12/'SA24'!G5))","v":0},{"$f":"IF(ISERROR('A1-Sum'!G12/'SA24'!H5),0,('A1-Sum'!G12/'SA24'!H5))","v":820517.66803209891},{"$f":"IF(ISERROR('A1-Sum'!H12/'SA24'!I5),0,('A1-Sum'!H12/'SA24'!I5))","v":0},{"$f":"IF(ISERROR('A1-Sum'!I12/'SA24'!I5),0,('A1-Sum'!I12/'SA24'!I5))","v":869748.74074074079},{"$f":"IF(ISERROR('A1-Sum'!J12/'SA24'!J5),0,('A1-Sum'!J12/'SA24'!J5))","v":912366.39506172843},{"$f":"IF(ISERROR('A1-Sum'!K12/'SA24'!K5),0,('A1-Sum'!K12/'SA24'!K5))","v":957072.32098765427}]
["R&M % of PPE",null,null,{"$f":"'A9-Asset'!C223","v":0},{"$f":"'A9-Asset'!D223","v":0},{"$f":"'A9-Asset'!E223","v":0},{"$f":"'A9-Asset'!F223","v":6.946526726160665E-2},{"$f":"'A9-Asset'!G223","v":4.7700309416866933E-2},{"$f":"'A9-Asset'!H223","v":4.7700309416866933E-2},{"$f":"'A9-Asset'!I223","v":6.7640953480343199E-2},{"$f":"'A9-Asset'!I223","v":6.7640953480343199E-2},{"$f":"'A9-Asset'!J223","v":7.1352426625401519E-2},{"$f":"'A9-Asset'!K223","v":7.2865115276002104E-2}]
["Asset Renewal and R&M as a % of PPE",null,null,{"$f":"'A9-Asset'!C224","v":0},{"$f":"'A9-Asset'!D224","v":0},{"$f":"'A9-Asset'!E224","v":1.6233101826816144E-3},{"$f":"'A9-Asset'!F224","v":8.3564425505107412E-2},{"$f":"'A9-Asset'!G224","v":7.462775767084194E-2},{"$f":"'A9-Asset'!H224","v":7.7460233344872953E-2},{"$f":"'A9-Asset'!I224","v":0.10311337416045872},{"$f":"'A9-Asset'!I224","v":0.10311337416045872},{"$f":"'A9-Asset'!J224","v":0.10951522468548304},{"$f":"'A9-Asset'!K224","v":9.4777712466990571E-2}]
["Debt Impairment % of Total Billable Revenue",null,null,{"$f":"'SA10'!D11","v":0.1534929216256645},{"$f":"'SA10'!E11","v":1.3585201963374292E-2},{"$f":"'SA10'!F11","v":0.2099026065151616},{"$f":"'SA10'!G11","v":8.6730584577315084E-2},{"$f":"'SA10'!H11","v":8.760829979290001E-2},{"$f":"'SA10'!I11","v":8.7542397013681467E-2},{"$f":"'SA10'!J11","v":0},{"$f":"'SA10'!K11","v":5.2485337732381579E-2},{"$f":"'SA10'!L11","v":5.2328132580900334E-2},{"$f":"'SA10'!M11","v":5.2385685935446798E-2}]
["Capital Revenue"]
["Internally Funded & Other (R'000)",null,null,{"$f":"'A1-Sum'!B30","v":159705059.64000008},{"$f":"'A1-Sum'!C30","v":184460045.16},{"$f":"'A1-Sum'!D30","v":258417539.46999997},{"$f":"'A1-Sum'!E30","v":132720143.91},{"$f":"'A1-Sum'!F30","v":132006966},{"$f":"'A1-Sum'!G30","v":132006966},{"$f":"'A1-Sum'!H30","v":0},{"$f":"'A1-Sum'!I30","v":90000000},{"$f":"'A1-Sum'!J30","v":89870000},{"$f":"'A1-Sum'!K30","v":94454026}]
["Borrowing (R'000)",null,null,{"$f":"'A1-Sum'!B29","v":49400541.770000003},{"$f":"'A1-Sum'!C29","v":0},{"$f":"'A1-Sum'!D29","v":72309925.810000002},{"$f":"'A1-Sum'!E29","v":234315856},{"$f":"'A1-Sum'!F29","v":206615856},{"$f":"'A1-Sum'!G29","v":206615856},{"$f":"'A1-Sum'!H29","v":0},{"$f":"'A1-Sum'!I29","v":161524400.95999998},{"$f":"'A1-Sum'!J29","v":0},{"$f":"'A1-Sum'!K29","v":5460125}]
["Grant Funding and Other (R'000)",null,null,{"$f":"'A1-Sum'!B27","v":312721147.32000005},{"$f":"'A1-Sum'!C27","v":363329782.92999995},{"$f":"'A1-Sum'!D27","v":395582260.51999986},{"$f":"'A1-Sum'!E27","v":456974890.50999999},{"$f":"'A1-Sum'!F27","v":477925973},{"$f":"'A1-Sum'!G27","v":477925973},{"$f":"'A1-Sum'!H27","v":0},{"$f":"'A1-Sum'!I27","v":376126520},{"$f":"'A1-Sum'!J27","v":429887271},{"$f":"'A1-Sum'!K27","v":455998188}]
["Internally Generated funds % of Non Grant Funding",null,null,{"$f":"IF(ISERROR(('A1-Sum'!B28+'A1-Sum'!B30)/('A1-Sum'!B31-'A1-Sum'!B27)),0,(('A1-Sum'!B28+'A1-Sum'!B30)/('A1-Sum'!B31-'A1-Sum'!B27)))","v":0.76375313986382043},{"$f":"IF(ISERROR(('A1-Sum'!C28+'A1-Sum'!C30)/('A1-Sum'!C31-'A1-Sum'!C27)),0,(('A1-Sum'!C28+'A1-Sum'!C30)/('A1-Sum'!C31-'A1-Sum'!C27)))","v":1.0000000000000002},{"$f":"IF(ISERROR(('A1-Sum'!D28+'A1-Sum'!D30)/('A1-Sum'!D31-'A1-Sum'!D27)),0,(('A1-Sum'!D28+'A1-Sum'!D30)/('A1-Sum'!D31-'A1-Sum'!D27)))","v":0.78136098933065301},{"$f":"IF(ISERROR(('A1-Sum'!E28+'A1-Sum'!E30)/('A1-Sum'!E31-'A1-Sum'!E27)),0,(('A1-Sum'!E28+'A1-Sum'!E30)/('A1-Sum'!E31-'A1-Sum'!E27)))","v":0.36159979931817038},{"$f":"IF(ISERROR(('A1-Sum'!F28+'A1-Sum'!F30)/('A1-Sum'!F31-'A1-Sum'!F27)),0,(('A1-Sum'!F28+'A1-Sum'!F30)/('A1-Sum'!F31-'A1-Sum'!F27)))","v":0.38983481745362103},{"$f":"IF(ISERROR(('A1-Sum'!G28+'A1-Sum'!G30)/('A1-Sum'!G31-'A1-Sum'!G27)),0,(('A1-Sum'!G28+'A1-Sum'!G30)/('A1-Sum'!G31-'A1-Sum'!G27)))","v":0.38983481745362103},{"$f":"IF(ISERROR(('A1-Sum'!H28+'A1-Sum'!H30)/('A1-Sum'!H31-'A1-Sum'!H27)),0,(('A1-Sum'!H28+'A1-Sum'!H30)/('A1-Sum'!H31-'A1-Sum'!H27)))","v":0},{"$f":"IF(ISERROR(('A1-Sum'!I28+'A1-Sum'!I30)/('A1-Sum'!I31-'A1-Sum'!I27)),0,(('A1-Sum'!I28+'A1-Sum'!I30)/('A1-Sum'!I31-'A1-Sum'!I27)))","v":0.35781816657347976},{"$f":"IF(ISERROR(('A1-Sum'!J28+'A1-Sum'!J30)/('A1-Sum'!J31-'A1-Sum'!J27)),0,(('A1-Sum'!J28+'A1-Sum'!J30)/('A1-Sum'!J31-'A1-Sum'!J27)))","v":1},{"$f":"IF(ISERROR(('A1-Sum'!K28+'A1-Sum'!K30)/('A1-Sum'!K31-'A1-Sum'!K27)),0,(('A1-Sum'!K28+'A1-Sum'!K30)/('A1-Sum'!K31-'A1-Sum'!K27)))","v":0.94535183509691234}]
["Borrowing % of Non Grant Funding",null,null,{"$f":"IF(ISERROR('A1-Sum'!B29/('A1-Sum'!B31-'A1-Sum'!B27)),0,('A1-Sum'!B29/('A1-Sum'!B31-'A1-Sum'!B27)))","v":0.23624686013617957},{"$f":"IF(ISERROR('A1-Sum'!C29/('A1-Sum'!C31-'A1-Sum'!C27)),0,('A1-Sum'!C29/('A1-Sum'!C31-'A1-Sum'!C27)))","v":0},{"$f":"IF(ISERROR('A1-Sum'!D29/('A1-Sum'!D31-'A1-Sum'!D27)),0,('A1-Sum'!D29/('A1-Sum'!D31-'A1-Sum'!D27)))","v":0.21863901066934699},{"$f":"IF(ISERROR('A1-Sum'!E29/('A1-Sum'!E31-'A1-Sum'!E27)),0,('A1-Sum'!E29/('A1-Sum'!E31-'A1-Sum'!E27)))","v":0.63840020068182968},{"$f":"IF(ISERROR('A1-Sum'!F29/('A1-Sum'!F31-'A1-Sum'!F27)),0,('A1-Sum'!F29/('A1-Sum'!F31-'A1-Sum'!F27)))","v":0.61016518254637897},{"$f":"IF(ISERROR('A1-Sum'!G29/('A1-Sum'!G31-'A1-Sum'!G27)),0,('A1-Sum'!G29/('A1-Sum'!G31-'A1-Sum'!G27)))","v":0.61016518254637897},{"$f":"IF(ISERROR('A1-Sum'!H29/('A1-Sum'!H31-'A1-Sum'!H27)),0,('A1-Sum'!H29/('A1-Sum'!H31-'A1-Sum'!H27)))","v":0},{"$f":"IF(ISERROR('A1-Sum'!I29/('A1-Sum'!I31-'A1-Sum'!I27)),0,('A1-Sum'!I29/('A1-Sum'!I31-'A1-Sum'!I27)))","v":0.64218183342652002},{"$f":"IF(ISERROR('A1-Sum'!J29/('A1-Sum'!J31-'A1-Sum'!J27)),0,('A1-Sum'!J29/('A1-Sum'!J31-'A1-Sum'!J27)))","v":0},{"$f":"IF(ISERROR('A1-Sum'!K29/('A1-Sum'!K31-'A1-Sum'!K27)),0,('A1-Sum'!K29/('A1-Sum'!K31-'A1-Sum'!K27)))","v":5.4648164903087652E-2}]
["Grant Funding % of Total Funding",null,null,{"$f":"IF(ISERROR('A1-Sum'!B27/'A1-Sum'!B31),0,('A1-Sum'!B27/'A1-Sum'!B31))","v":0.59928155864199673},{"$f":"IF(ISERROR('A1-Sum'!C27/'A1-Sum'!C31),0,('A1-Sum'!C27/'A1-Sum'!C31))","v":0.66326493172908307},{"$f":"IF(ISERROR('A1-Sum'!D27/'A1-Sum'!D31),0,('A1-Sum'!D27/'A1-Sum'!D31))","v":0.54464678974838532},{"$f":"IF(ISERROR('A1-Sum'!E27/'A1-Sum'!E31),0,('A1-Sum'!E27/'A1-Sum'!E31))","v":0.55457384826197986},{"$f":"IF(ISERROR('A1-Sum'!F27/'A1-Sum'!F31),0,('A1-Sum'!F27/'A1-Sum'!F31))","v":0.58529995503820442},{"$f":"IF(ISERROR('A1-Sum'!G27/'A1-Sum'!G31),0,('A1-Sum'!G27/'A1-Sum'!G31))","v":0.58529995503820442},{"$f":"IF(ISERROR('A1-Sum'!H27/'A1-Sum'!H31),0,('A1-Sum'!H27/'A1-Sum'!H31))","v":0},{"$f":"IF(ISERROR('A1-Sum'!I27/'A1-Sum'!I31),0,('A1-Sum'!I27/'A1-Sum'!I31))","v":0.59926068366905239},{"$f":"IF(ISERROR('A1-Sum'!J27/'A1-Sum'!J31),0,('A1-Sum'!J27/'A1-Sum'!J31))","v":0.82709236596711311},{"$f":"IF(ISERROR('A1-Sum'!K27/'A1-Sum'!K31),0,('A1-Sum'!K27/'A1-Sum'!K31))","v":0.82026995266964209}]
["Capital Expenditure"]
["Total Capital Programme (R'000)",null,null,{"$f":"'A1-Sum'!B26","v":521826748.73000014},{"$f":"'A1-Sum'!C26","v":547789828.08999991},{"$f":"'A1-Sum'!D26","v":726309725.80000007},{"$f":"'A1-Sum'!E26","v":824010890.42000008},{"$f":"'A1-Sum'!F26","v":816548795.25999999},{"$f":"'A1-Sum'!G26","v":816548795.25999999},{"$f":"'A1-Sum'!H26","v":0},{"$f":"'A1-Sum'!I26","v":627650921},{"$f":"'A1-Sum'!J26","v":519757271},{"$f":"'A1-Sum'!K26","v":555912339}]
["Asset Renewal",null,null,{"$f":"'A1-Sum'!B51","v":0},{"$f":"'A1-Sum'!C51","v":0},{"$f":"'A1-Sum'!D51","v":11937006},{"$f":"'A1-Sum'!E51","v":126776287},{"$f":"'A1-Sum'!F51","v":242726626},{"$f":"'A1-Sum'!G51","v":268258836},{"$f":"'A1-Sum'!H51","v":0},{"$f":"'A1-Sum'!I51","v":261626720},{"$f":"'A1-Sum'!J51","v":293856560},{"$f":"'A1-Sum'!K51","v":176919750}]
["Asset Renewal % of Total Capital Expenditure",null,null,{"$f":"IF(ISERROR('A1-Sum'!B51/'A1-Sum'!B31),0,('A1-Sum'!B51/'A1-Sum'!B31))","v":0},{"$f":"IF(ISERROR('A1-Sum'!C51/'A1-Sum'!C31),0,('A1-Sum'!C51/'A1-Sum'!C31))","v":0},{"$f":"IF(ISERROR('A1-Sum'!D51/'A1-Sum'!D31),0,('A1-Sum'!D51/'A1-Sum'!D31))","v":1.6435145470277003E-2},{"$f":"IF(ISERROR('A1-Sum'!E51/'A1-Sum'!E31),0,('A1-Sum'!E51/'A1-Sum'!E31))","v":0.15385268383453268},{"$f":"IF(ISERROR('A1-Sum'!F51/'A1-Sum'!F31),0,('A1-Sum'!F51/'A1-Sum'!F31))","v":0.2972591809409259},{"$f":"IF(ISERROR('A1-Sum'!G51/'A1-Sum'!G31),0,('A1-Sum'!G51/'A1-Sum'!G31))","v":0.32852762461060275},{"$f":"IF(ISERROR('A1-Sum'!H51/'A1-Sum'!H31),0,('A1-Sum'!H51/'A1-Sum'!H31))","v":0},{"$f":"IF(ISERROR('A1-Sum'!I51/'A1-Sum'!I31),0,('A1-Sum'!I51/'A1-Sum'!I31))","v":0.41683475840334722},{"$f":"IF(ISERROR('A1-Sum'!J51/'A1-Sum'!J31),0,('A1-Sum'!J51/'A1-Sum'!J31))","v":0.56537267758588028},{"$f":"IF(ISERROR('A1-Sum'!K51/'A1-Sum'!K31),0,('A1-Sum'!K51/'A1-Sum'!K31))","v":0.31825116585512597}]
["Cash"]
["Cash Receipts % of Rate Payer & Other",null,null,{"$f":"'SA10'!D10","v":0.3812942240513314},{"$f":"'SA10'!E10","v":0.38802973295486376},{"$f":"'SA10'!F10","v":0.41070796818846911},{"$f":"'SA10'!G10","v":0.41502502475472614},{"$f":"'SA10'!H10","v":0.41328637159940806},{"$f":"'SA10'!I10","v":0.41417791835903794},{"$f":"'SA10'!J10","v":0},{"$f":"'SA10'!K10","v":0.8547124057870148},{"$f":"'SA10'!L10","v":0.8546827317165071},{"$f":"'SA10'!M10","v":0.85451062384366128}]
["Cash Coverage Ratio",null,null,{"$f":"'SA10'!D7","v":0.62007619706941519},{"$f":"'SA10'!E7","v":1.1871642400171345},{"$f":"'SA10'!F7","v":0.85524877118456755},{"$f":"'SA10'!G7","v":1.0554219036435015},{"$f":"'SA10'!H7","v":1.1027611051567832},{"$f":"'SA10'!I7","v":1.0966297328713865},{"$f":"'SA10'!J7","v":0},{"$f":"'SA10'!K7","v":0.64700412495650705},{"$f":"'SA10'!L7","v":0.62196586410204258},{"$f":"'SA10'!M7","v":0.59040124709531761}]
["Borrowing"]
[]
["Most recent Credit Rating ",null,null,null,null,null,null,null,null,null,{"$f":"'SA8'!F6","v":0}]
["Capital Charges to Operating",null,null,{"$f":"'SA8'!C7","v":1.7132350606991725E-2},{"$f":"'SA8'!D7","v":3.6939894529698591E-2},{"$f":"'SA8'!E7","v":1.995511923242882E-2},{"$f":"'SA8'!F7","v":7.8547496941940784E-3},{"$f":"'SA8'!G7","v":1.1786634680260463E-2},{"$f":"'SA8'!H7","v":1.1786634680260463E-2},{"$f":"'SA8'!I7","v":0},{"$f":"'SA8'!J7","v":1.7073519486868589E-2},{"$f":"'SA8'!K7","v":1.639459493896573E-2},{"$f":"'SA8'!L7","v":1.6051844670255892E-2}]
["Borrowing Receipts % of Capital Expenditure",null,null,{"$f":"'SA10'!D13","v":0},{"$f":"'SA10'!E13","v":0},{"$f":"'SA10'!F13","v":0},{"$f":"'SA10'!G13","v":0.54490567696095604},{"$f":"'SA10'!H13","v":0.69196711088802088},{"$f":"'SA10'!I13","v":0.69196711088802088},{"$f":"'SA10'!J13","v":0},{"$f":"'SA10'!K13","v":0.64218183348342417},{"$f":"'SA10'!L13","v":0},{"$f":"'SA10'!M13","v":0}]
["Reserves"]
["Uncommitted reserves after application of cash and investments",null,null,{"$f":"'A8-ResRecon'!C19","v":-1008808686},{"$f":"'A8-ResRecon'!D19","v":-1756452734},{"$f":"'A8-ResRecon'!E19","v":-2696557717},{"$f":"'A8-ResRecon'!F19","v":-583979829},{"$f":"'A8-ResRecon'!G19","v":96933323},{"$f":"'A8-ResRecon'!H19","v":101375305},{"$f":"'A8-ResRecon'!I19","v":-597446881},{"$f":"'A8-ResRecon'!J19","v":303995879.54000002},{"$f":"'A8-ResRecon'!K19","v":428253048},{"$f":"'A8-ResRecon'!L19","v":513662472}]
["Free Services"]
["Free Basic Services as a % of Equitable Share",null,null,{"$f":"IF(ISERROR('A10-SerDel'!C60/'SA18'!C8),0,('A10-SerDel'!C60/'SA18'!C8))","v":0},{"$f":"IF(ISERROR('A10-SerDel'!D60/'SA18'!D8),0,('A10-SerDel'!D60/'SA18'!D8))","v":0},{"$f":"IF(ISERROR('A10-SerDel'!E60/'SA18'!E8),0,('A10-SerDel'!E60/'SA18'!E8))","v":0},{"$f":"IF(ISERROR('A10-SerDel'!F60/'SA18'!F8),0,('A10-SerDel'!F60/'SA18'!F8))","v":0.34350682178689945},{"$f":"IF(ISERROR('A10-SerDel'!G60/'SA18'!G8),0,('A10-SerDel'!G60/'SA18'!G8))","v":0.30990979743866715},{"$f":"IF(ISERROR('A10-SerDel'!H60/'SA18'!H8),0,('A10-SerDel'!H60/'SA18'!H8))","v":0.30326185419282009},{"$f":"IF(ISERROR('A10-SerDel'!I60/'SA18'!I8),0,('A10-SerDel'!I60/'SA18'!I8))","v":0.34451664630142981},{"$f":"IF(ISERROR('A10-SerDel'!I60/'SA18'!I8),0,('A10-SerDel'!I60/'SA18'!I8))","v":0.34451664630142981},{"$f":"IF(ISERROR('A10-SerDel'!J60/'SA18'!J8),0,('A10-SerDel'!J60/'SA18'!J8))","v":0.34212932033554833},{"$f":"IF(ISERROR('A10-SerDel'!K60/'SA18'!K8),0,('A10-SerDel'!K60/'SA18'!K8))","v":0.34336072348486801}]
["Free Services as a % of Operating Revenue \n(excl operational transfers)",null,null,{"$f":"IF(ISERROR('A10-SerDel'!C79/('A1-Sum'!B10-'A1-Sum'!B8)),0,('A10-SerDel'!C79/('A1-Sum'!B10-'A1-Sum'!B8)))","v":0},{"$f":"IF(ISERROR('A10-SerDel'!D79/('A1-Sum'!C10-'A1-Sum'!C8)),0,('A10-SerDel'!D79/('A1-Sum'!C10-'A1-Sum'!C8)))","v":0},{"$f":"IF(ISERROR('A10-SerDel'!E79/('A1-Sum'!D10-'A1-Sum'!D8)),0,('A10-SerDel'!E79/('A1-Sum'!D10-'A1-Sum'!D8)))","v":0},{"$f":"IF(ISERROR('A10-SerDel'!F79/('A1-Sum'!E10-'A1-Sum'!E8)),0,('A10-SerDel'!F79/('A1-Sum'!E10-'A1-Sum'!E8)))","v":1.5072368635632926E-2},{"$f":"IF(ISERROR('A10-SerDel'!G79/('A1-Sum'!F10-'A1-Sum'!F8)),0,('A10-SerDel'!G79/('A1-Sum'!F10-'A1-Sum'!F8)))","v":1.5211758246263064E-2},{"$f":"IF(ISERROR('A10-SerDel'!H79/('A1-Sum'!G10-'A1-Sum'!G8)),0,('A10-SerDel'!H79/('A1-Sum'!G10-'A1-Sum'!G8)))","v":1.5204144791856909E-2},{"$f":"IF(ISERROR('A10-SerDel'!I79/('A1-Sum'!H10-'A1-Sum'!H8)),0,('A10-SerDel'!I79/('A1-Sum'!H10-'A1-Sum'!H8)))","v":0.11797754731486856},{"$f":"IF(ISERROR('A10-SerDel'!I79/('A1-Sum'!I10-'A1-Sum'!I8)),0,('A10-SerDel'!I79/('A1-Sum'!I10-'A1-Sum'!I8)))","v":3.0302625737361855E-2},{"$f":"IF(ISERROR('A10-SerDel'!J79/('A1-Sum'!J10-'A1-Sum'!J8)),0,('A10-SerDel'!J79/('A1-Sum'!J10-'A1-Sum'!J8)))","v":3.0210301569478366E-2},{"$f":"IF(ISERROR('A10-SerDel'!K79/('A1-Sum'!K10-'A1-Sum'!K8)),0,('A10-SerDel'!K79/('A1-Sum'!K10-'A1-Sum'!K8)))","v":2.9655493268762056E-2}]
[]
["High Level Outcome of Funding Compliance"]
["Total Operating Revenue",null,null,{"$f":"D86","v":6116382600},{"$f":"E86","v":6427061377},6927536750,8963903224.4206104,8970488108.993309,8975953196.993309,{"$f":"J86","v":2193424248},9532880034.4623775,10017341183.857035,10459711911.559029]
["Total Operating Expenditure",null,null,{"$f":"D87","v":6722368497},6225701939,8034115714,8380270953.8223991,7875439701.8223991,7875439701.8223991,4943599042,8561796536,9070556519,9483681728]
["Surplus/(Deficit) Budgeted Operating Statement",null,null,-605985897,201359438,-1106578964,583632270.59821129,1095048407.1709099,1100513495.1709099,-2750174794,971083498.46237755,946784664.85703468,976030183.55902863]
["Surplus/(Deficit) Considering Reserves and Cash Backing",null,null,{"$f":"'A8-ResRecon'!C19","v":-1008808686},{"$f":"'A8-ResRecon'!D19","v":-1756452734},{"$f":"'A8-ResRecon'!E19","v":-2696557717},{"$f":"'A8-ResRecon'!F19","v":-583979829},{"$f":"'A8-ResRecon'!G19","v":96933323},{"$f":"'A8-ResRecon'!H19","v":101375305},{"$f":"'A8-ResRecon'!I19","v":-597446881},{"$f":"'A8-ResRecon'!J19","v":303995879.54000002},{"$f":"'A8-ResRecon'!K19","v":428253048},{"$f":"'A8-ResRecon'!L19","v":513662472}]
["MTREF Funded (1) / Unfunded (0)",null,15,{"$f":"IF(D133>=0,1,0)","v":0},{"$f":"IF(E133>=0,1,0)","v":0},0,0,1,1,0,1,1,1]
["MTREF Funded ü / Unfunded û",null,15,{"$f":"IF(D134=1,\"ü\",\"û\")","v":"û"},{"$f":"IF(E134=1,\"ü\",\"û\")","v":"û"},"û","û","ü","ü","û","ü","ü","ü"]
[]
[{"$f":"head27a","v":"References"}]
["15. Subject to figures provided in Schedule."]

{"sheet":"SA11","index":31,"n_rows":73,"n_cols":11,"rows_kept":73,"cut":false,"hidden":false,"merged":[[1,5,1,7],[1,8,1,10],[1,1,3,1],[1,0,2,0]]}
[{"$f":"muni&\" - \"&TableA11","v":"Choose name from list - Supporting Table SA11 Property rates summary"}]
[{"$f":"desc","v":"Description"},{"$f":"head27","v":"Ref"},{"$f":"head1b","v":"2021/22"},{"$f":"head1A","v":"2022/23"},{"$f":"Head1","v":"2023/24"},{"$f":"Head2","v":"Current Year 2024/25"},null,null,{"$f":"Head3","v":"2025/26 Medium Term Revenue & Expenditure Framework"}]
[null,null,{"$f":"Head5","v":"Audited Outcome"},{"$f":"Head5","v":"Audited Outcome"},{"$f":"Head5","v":"Audited Outcome"},{"$f":"Head6","v":"Original Budget"},{"$f":"Head7","v":"Adjusted Budget"},{"$f":"Head8","v":"Full Year Forecast"},{"$f":"Head9","v":"Budget Year 2025/26"},{"$f":"Head10","v":"Budget Year +1 2026/27"},{"$f":"Head11","v":"Budget Year +2 2027/28"}]
[]
["Valuation:",1]
["Date of valuation:",null,0,0,0,0,0,0,0,0,0]
["Financial year valuation used",null,0,0,0,0,0,0,0,0,0]
["Municipal by-laws s6 in place? (Y/N)","2",0,0,0,0,0,0,0,0,0]
["Municipal/assistant valuer appointed? (Y/N)",null,0,0,0,0,0,0,0,0,0]
["Municipal partnership s38 used? (Y/N)",null,0,0,0,0,0,0,0,0,0]
["No. of assistant valuers (FTE)",3," "," "," "," "," "," "," "," "," "]
["No. of data collectors (FTE)",3]
["No. of internal valuers (FTE)",3]
["No. of external valuers (FTE)",3]
["No. of additional valuers (FTE)",4]
["Valuation appeal board established? (Y/N)",null,"0","0","0","0","0","0","0","0","0"]
["Implementation time of new valuation roll (mths)"]
["No. of properties",5]
["No. of sectional title values",5]
["No. of unreasonably difficult properties s7(2)"]
["No. of supplementary valuations"]
["No. of valuation roll amendments"]
["No. of objections by rate payers"]
["No. of appeals by rate payers"]
["No. of successful objections",8]
["No. of successful objections > 10%",8]
["Supplementary valuation"]
["Public service infrastructure value (Rm)",5]
["Municipality owned property value (Rm)"]
["Valuation reductions:"]
["Valuation reductions-public infrastructure (Rm)"]
["Valuation reductions-nature reserves/park (Rm)"]
["Valuation reductions-mineral rights (Rm)"]
["Valuation reductions-R15,000 threshold (Rm)"]
["Valuation reductions-public worship (Rm)"]
["Valuation reductions-other (Rm)"]
["Total valuation reductions:",null,{"$f":"SUM(C31:C36)","v":0},{"$f":"SUM(D31:D36)","v":0},{"$f":"SUM(E31:E36)","v":0},0,0,0,{"$f":"SUM(I31:I36)","v":0},0,0]
["Total value used for rating (Rm)",5]
["Total land value (Rm)",5]
["Total value of improvements (Rm)",5]
["Total market value (Rm)",5]
[]
["Rating:"]
["Residential rate used to determine rate for other categories? (Y/N)"]
["Differential rates used? (Y/N)",5]
["Limit on annual rate increase (s20)? (Y/N)"]
["Special rating area used? (Y/N)"]
["Phasing-in properties s21 (number)"]
["Rates policy accompanying budget? (Y/N)"]
["Fixed amount minimum value (R'000)"]
["Non-residential prescribed ratio s19? (%)"]
[]
["Rate revenue:"]
["Rate revenue budget (R '000)",6]
["Rate revenue expected to collect (R'000)",6]
["Expected cash collection rate (%)"]
["Special rating areas (R'000)",7]
["Rebates, exemptions - indigent (R'000)"]
["Rebates, exemptions - pensioners (R'000)"]
["Rebates, exemptions - bona fide farm. (R'000)"]
["Rebates, exemptions - other (R'000)"]
["Phase-in reductions/discounts (R'000)"]
["Total rebates,exemptns,reductns,discs (R'000)",null,{"$f":"SUM(C58:C62)","v":0},{"$f":"SUM(D58:D62)","v":0},0,0,0,0,0,0,0]
[]
[{"$f":"head27a","v":"References"}]
["1. All numbers to be expressed as whole numbers except FTEs and Rates in the Rand"]
["2. To give effect to rates policy"]
["3. Full Time Equivalent (FTE)  should be expressed to one decimal place and takes into account full time and part time staff"]
["4. Required to implement new system (FTE)"]
["5. Provide relevant information for historical comparisons. Must reconcile to the total of Table SA12"]
[{"$f":"\"6. Current and budget year must reconcile to \"&'Template names'!F103","v":"6. Current and budget year must reconcile to Table A4 Budgeted Financial Performance (revenue and expenditure)"}]
["7. Included in rate revenue budget"]
["8. In favour of the rate-payer"]

{"sheet":"SA12a","index":32,"n_rows":56,"n_cols":13,"rows_kept":56,"cut":false,"hidden":false,"merged":[]}
[{"$f":"muni&\" - \"&TableA12a","v":"Choose name from list - Supporting Table SA12a Property rates by category (current year)"}]
[{"$f":"desc","v":"Description"},{"$f":"head27","v":"Ref"},"Business and commercial properties","Industrial properties","Mining properties","Residential properties","Agricultural properties","Public benefit organisations","Public service purpose properties","Public service infrastructure properties","Vacant land","Sport Clubs and Fields (Bitou only)","Sectional Title Garages (Drakenstein only)"]
[{"$f":"Head2","v":"Current Year 2024/25"}]
["Valuation:"]
["No. of properties"]
["No. of sectional title property values"]
["No. of unreasonably difficult properties s7(2)"]
["No. of supplementary valuations"]
["Supplementary valuation (Rm)"]
["No. of valuation roll amendments"]
["No. of objections by rate-payers"]
["No. of appeals by rate-payers"]
["No. of appeals by rate-payers finalised"]
["No. of successful objections",5]
["No. of successful objections > 10%",5]
["Estimated no. of properties not valued"]
["Years since last valuation (select)",null,"0","0","0","0","0","0","0","0","0","0","0"]
["Frequency of valuation (select)",null,"0","0","0","0","0","0","0","0","0","0","0"]
["Method of valuation used (select)",null,"0","0","0","0","0","0","0","0","0","0","0"]
["Base of valuation (select)",null,"0","0","0","0","0","0","0","0","0","0","0"]
["Phasing-in properties s21 (number)",null," "," "," "," "," "," "," "," "," "," "," "]
["Combination of rating types used? (Y/N)",null,"0","0","0","0","0","0","0","0","0","0","0"]
["Flat rate used? (Y/N)",null,"0","0","0","0","0","0","0","0","0","0","0"]
["Is balance rated by uniform rate/variable rate?",null,"0","0","0","0","0","0","0","0","0","0","0"]
["Valuation reductions:"]
["Valuation reductions-public infrastructure (Rm)"]
["Valuation reductions-nature reserves/park (Rm)"]
["Valuation reductions-mineral rights (Rm)"]
["Valuation reductions-R15,000 threshold (Rm)"]
["Valuation reductions-public worship (Rm)"]
["Valuation reductions-other (Rm)",2]
["Total valuation reductions:"]
["Total value used for rating (Rm)",6]
["Total land value (Rm)",6]
["Total value of improvements (Rm)",6]
["Total market value (Rm)",6]
["Rating:"]
["Average rate",3]
["Rate revenue budget (R '000)"]
["Rate revenue expected to collect (R'000)"]
["Expected cash collection rate (%)",4]
["Special rating areas (R'000)"]
["Rebates, exemptions - indigent (R'000)"]
["Rebates, exemptions - pensioners (R'000)"]
["Rebates, exemptions - bona fide farm. (R'000)"]
["Rebates, exemptions - other (R'000)"]
["Phase-in reductions/discounts (R'000)"]
["Total rebates,exemptns,reductns,discs (R'000)"]
[]
[{"$f":"head27a","v":"References"}]
["1. Land & Assistance Act, Restitution of Land Rights, Communual Property Associations"]
["2. Include value of additional reductions is 'free' value greater than MPRA minimum."]
["3. Average rate - cents in  the Rand. Eg 10.26 cents in the Rand is 0.1026, expressed to 6 decimal places maximum"]
["4. Include arrears collections"]
["5. In favour of the rate-payer"]
["6. Provide relevant information for historical comparisons."]

{"sheet":"SA12b","index":33,"n_rows":56,"n_cols":13,"rows_kept":56,"cut":false,"hidden":false,"merged":[]}
[{"$f":"muni&\" - \"&TableA12b","v":"Choose name from list - Supporting Table SA12b Property rates by category (budget year)"}]
[{"$f":"desc","v":"Description"},{"$f":"head27","v":"Ref"},"Business and commercial properties","Industrial properties","Mining properties","Residential properties","Agricultural properties","Public benefit organisations","Public service purpose properties","Public service infrastructure properties","Vacant land","Sport Clubs and Fields (Bitou only)","Sectional Title Garages (Drakenstein only)"]
[{"$f":"Head9","v":"Budget Year 2025/26"}]
["Valuation:"]
["No. of properties"]
["No. of sectional title property values"]
["No. of unreasonably difficult properties s7(2)"]
["No. of supplementary valuations"]
["Supplementary valuation (Rm)"]
["No. of valuation roll amendments"]
["No. of objections by rate-payers"]
["No. of appeals by rate-payers"]
["No. of appeals by rate-payers finalised"]
["No. of successful objections",5]
["No. of successful objections > 10%",5]
["Estimated no. of properties not valued"]
["Years since last valuation (select)",null,"0","0","0","0","0","0","0","0","0","0","0"]
["Frequency of valuation (select)",null,"0","0","0","0","0","0","0","0","0","0","0"]
["Method of valuation used (select)",null,"0","0","0","0","0","0","0","0","0","0","0"]
["Base of valuation (select)",null,"0","0","0","0","0","0","0","0","0","0","0"]
["Phasing-in properties s21 (number)",null," "," "," "," "," "," "," "," "," "," "," "]
["Combination of rating types used? (Y/N)",null,"0","0","0","0","0","0","0","0","0","0","0"]
["Flat rate used? (Y/N)",null,"0","0","0","0","0","0","0","0","0","0","0"]
["Is balance rated by uniform rate/variable rate?",null,"0","0","0","0","0","0","0","0","0","0","0"]
["Valuation reductions:"]
["Valuation reductions-public infrastructure (Rm)"]
["Valuation reductions-nature reserves/park (Rm)"]
["Valuation reductions-mineral rights (Rm)"]
["Valuation reductions-R15,000 threshold (Rm)"]
["Valuation reductions-public worship (Rm)"]
["Valuation reductions-other (Rm)",2]
["Total valuation reductions:"]
["Total value used for rating (Rm)",6]
["Total land value (Rm)",6]
["Total value of improvements (Rm)",6]
["Total market value (Rm)",6]
["Rating:"]
["Average rate",3]
["Rate revenue budget (R '000)"]
["Rate revenue expected to collect (R'000)"]
["Expected cash collection rate (%)",4]
["Special rating areas (R'000)"]
["Rebates, exemptions - indigent (R'000)"]
["Rebates, exemptions - pensioners (R'000)"]
["Rebates, exemptions - bona fide farm. (R'000)"]
["Rebates, exemptions - other (R'000)"]
["Phase-in reductions/discounts (R'000)"]
["Total rebates,exemptns,reductns,discs (R'000)"]
[]
[{"$f":"head27a","v":"References"}]
["1. Land & Assistance Act, Restitution of Land Rights, Communual Property Associations"]
["2. Include value of additional reductions is 'free' value greater than MPRA minimum."]
["3. Average rate - cents in  the Rand. Eg 10.26 cents in the Rand is 0.1026, expressed to 6 decimal places maximum"]
["4. Include arrears collections"]
["5. In favour of the rate-payer"]
["6. Provide relevant information for historical comparisons."]

{"sheet":"SA13a","index":34,"n_rows":104,"n_cols":19,"rows_kept":104,"cut":false,"hidden":false,"merged":[[107,6,108,6],[107,0,108,0],[107,1,108,1],[107,2,108,2],[107,3,108,3],[107,4,108,4],[107,5,108,5],[1,6,2,6],[1,0,2,0],[1,1,2,1],[1,2,2,2],[1,3,2,3],[1,4,2,4],[1,5,2,5]]}
[{"$f":"muni&\" - \"&TableA13a","v":"Choose name from list - Supporting Table SA13a Service Tariffs by category"}]
[{"$f":"desc","v":"Description"},{"$f":"head27","v":"Ref"},"Provide description of tariff structure where appropriate",{"$f":"head1b","v":"2021/22"},{"$f":"head1A","v":"2022/23"},{"$f":"Head1","v":"2023/24"},{"$f":"Head2","v":"Current Year 2024/25"},{"$f":"Head3","v":"2025/26 Medium Term Revenue & Expenditure Framework"}]
[null,null,null,null,null,null,null,{"$f":"Head9","v":"Budget Year 2025/26"},{"$f":"Head10","v":"Budget Year +1 2026/27"},{"$f":"Head11","v":"Budget Year +2 2027/28"}]
["Property rates (rate in the Rand)",1]
["Residential properties",null,null,null,1.3392000000000001E-2]
["Residential properties - vacant land",null,null,null,2.2032000000000003E-2]
["Formal/informal settlements"]
["Small holdings"]
["Farm properties - used",null,null,null,3.0240000000000002E-3]
["Farm properties - not used"]
["Industrial properties"]
["Business and commercial properties",null,null,null,2.1276E-2]
["Communal land - residential",null,null,null,1.6524E-2]
["Communal land - small holdings",null,null,null,1.6524E-2]
["Communal land - farm property",null,null,null,1.6524E-2]
["Communal land - business and commercial",null,null,null,1.6524E-2]
["Communal land - other",null,null,null,1.6524E-2]
["State-owned properties"]
["Municipal properties"]
["Public service infrastructure",null,null,null,3.0240000000000002E-3]
["Privately owned towns serviced by the owner"]
["State trust land"]
["Restitution and redistribution properties"]
["Protected areas"]
["National monuments properties"]
["Property rates by usage"]
["Business and commercial properties"]
["Industrial properties"]
["Mining properties"]
["Residential properties"]
["Agricultural properties"]
["Public benefit organisations"]
["Public service purpose properties"]
["Public service infrastructure properties"]
["Vacant land"]
["Sport Clubs and Fields (Bitou only)"]
["Sectional Title Garages (Drakenstein only)"]
[]
["Exemptions, reductions and rebates (Rands)"]
["Residential properties"]
["R15 000 threshhold rebate",null,null,15000,15000,15000,15000,15000,15000,15000]
["General residential rebate",null,null,null,91800,97308,103146.48000000001]
["Indigent rebate or exemption",null,null,null,91800,97308,103146.48000000001]
["Pensioners/social grants rebate or exemption ",null,null,null,"33%-40%","33%-40%","33%-40%"]
["Temporary relief rebate or exemption"]
[" Bona fide farmers rebate or exemption"]
["Other rebates or exemptions",2]
[]
["Water tariffs"]
["Domestic"]
["Basic charge/fixed fee (Rands/month)",null,null,null,null,null,null,null,null,null,null,null,null,null,null,null,null,null,{"$f":"SUM(C51:R51)","v":0}]
["Service point - vacant land (Rands/month)",null,null,null,null,null,null,null,null,null,null,null,null,null,null,null,null,null,{"$f":"SUM(C52:R52)","v":0}]
["Water usage - flat rate tariff (c/kl)"]
["Water usage - life line tariff",null,"(describe structure)"]
["Water usage - Block 1 (c/kl)",null," (fill in thresholds)"]
["Water usage - Block 2 (c/kl)",null," (fill in thresholds)"]
["Water usage - Block 3 (c/kl)",null," (fill in thresholds)"]
["Water usage - Block 4 (c/kl)",null," (fill in thresholds)"]
["Water usage - Block 5 (c/kl)",null," (fill in thresholds)"]
["Water usage - Block 6 (c/kl)",null," (fill in thresholds)"]
["Other",2]
[]
["Waste water tariffs"]
["Domestic"]
["Basic charge/fixed fee (Rands/month)"]
["Service point - vacant land (Rands/month)"]
["Waste water - flat rate tariff (c/kl)"]
["Volumetric charge - Block 1 (c/kl)",null,"(fill in structure)"]
["Volumetric charge - Block 2 (c/kl)",null,"(fill in structure)"]
["Volumetric charge - Block 3 (c/kl)",null,"(fill in structure)"]
["Volumetric charge - Block 4 (c/kl)",null,"(fill in structure)"]
["Other",2]
[]
["Electricity tariffs"]
["Domestic"]
["Basic charge/fixed fee (Rands/month)"]
["Service point - vacant land (Rands/month)"]
["FBE",null,"(how is this targeted?)"]
["Life-line tariff - meter",null,"(describe structure)"]
["Life-line tariff - prepaid",null,"(describe structure)"]
["Flat rate tariff - meter (c/kwh)"]
["Flat rate tariff - prepaid(c/kwh)"]
["Meter - IBT Block 1 (c/kwh)",null,"(fill in thresholds)"]
["Meter - IBT Block 2 (c/kwh)",null,"(fill in thresholds)"]
["Meter - IBT Block 3 (c/kwh)",null,"(fill in thresholds)"]
["Meter - IBT Block 4 (c/kwh)",null,"(fill in thresholds)"]
["Meter - IBT Block 5 (c/kwh)",null,"(fill in thresholds)"]
["Prepaid - IBT Block 1 (c/kwh)",null,"(fill in thresholds)"]
["Prepaid - IBT Block 2 (c/kwh)",null,"(fill in thresholds)"]
["Prepaid - IBT Block 3 (c/kwh)",null,"(fill in thresholds)"]
["Prepaid - IBT Block 4 (c/kwh)",null,"(fill in thresholds)"]
["Prepaid - IBT Block 5 (c/kwh)",null,"(fill in thresholds)"]
["Other",2]
[]
["Waste management tariffs"]
["Domestic"]
["Street cleaning charge"]
["Basic charge/fixed fee"]
["80l bin - once a week"]
["250l bin - once a week"]
[]
[{"$f":"head27a","v":"References"}]
["1. If properties are not rated or zero rated this must be indicated as such"]
["2.Please provide detailed descriptions on Sheet SA13b"]

{"sheet":"SA13b","index":35,"n_rows":50,"n_cols":19,"rows_kept":50,"cut":false,"hidden":false,"merged":[[94,0,95,0],[1,0,2,0],[1,1,2,1],[1,2,2,2],[1,3,2,3],[94,1,95,1],[94,2,95,2],[94,3,95,3],[94,5,95,5],[94,6,95,6],[1,6,2,6],[1,5,2,5],[1,4,2,4],[94,4,95,4]]}
[{"$f":"muni&\" - \"&TableA13b","v":"Choose name from list - Supporting Table SA13b Service Tariffs by category - explanatory"}]
[{"$f":"desc","v":"Description"},{"$f":"head27","v":"Ref"},"Provide description of tariff structure where appropriate",{"$f":"head1b","v":"2021/22"},{"$f":"head1A","v":"2022/23"},{"$f":"Head1","v":"2023/24"},{"$f":"Head2","v":"Current Year 2024/25"},{"$f":"Head3","v":"2025/26 Medium Term Revenue & Expenditure Framework"}]
[null,null,null,null,null,null,null,{"$f":"Head9","v":"Budget Year 2025/26"},{"$f":"Head10","v":"Budget Year +1 2026/27"},{"$f":"Head11","v":"Budget Year +2 2027/28"}]
["Exemptions, reductions and rebates (Rands)"]
["[Insert lines as applicable]",null,null,null,null,15000]
[null,null,null,null,null,85000]
[null,null,null,null,null,"30% - 40%"]
[null,null,null,null,null,"40%"]
[]
[null,null,null,null,null,"100%"]
[null,null,null,null,null,"66%"]
[null,null,null,null,null,"33%"]
[]
["Water tariffs"]
["[Insert blocks as applicable]",null," (fill in thresholds)",null,null,"6kl","6kl"]
[null,null," (fill in thresholds)"]
[null,null," (fill in thresholds)"]
[null,null," (fill in thresholds)"]
[null,null," (fill in thresholds)"]
[null,null," (fill in thresholds)"]
[null,null," (fill in thresholds)"]
[null,null," (fill in thresholds)"]
[null,null," (fill in thresholds)"]
[null,null," (fill in thresholds)"]
[]
["Waste water tariffs"]
["[Insert blocks as applicable]",null,"(fill in structure)",null,null,195.50815193]
[null,null,"(fill in structure)"]
[null,null,"(fill in structure)"]
[null,null,"(fill in structure)"]
[null,null,"(fill in structure)"]
[null,null,"(fill in structure)"]
[null,null,"(fill in structure)"]
[null,null,"(fill in structure)"]
[null,null,"(fill in structure)"]
[]
["Electricity tariffs"]
["[Insert blocks as applicable]",null,"(fill in thresholds)",null,null,"20 Amp 70 kWH"]
[null,null,"(fill in thresholds)",null,null,null,null,null,null,null,null,null,null,null,null,null,null,null,{"$f":"SUM(C39:R39)","v":0}]
[null,null,"(fill in thresholds)",null,null,null,null,null,null,null,null,null,null,null,null,null,null,null,{"$f":"SUM(C40:R40)","v":0}]
[null,null,"(fill in thresholds)"]
[null,null,"(fill in thresholds)"]
[null,null,"(fill in thresholds)"]
[null,null,"(fill in thresholds)"]
[null,null,"(fill in thresholds)"]
[null,null,"(fill in thresholds)"]
[null,null,"(fill in thresholds)"]
[null,null,"(fill in thresholds)"]
[null,null,"(fill in thresholds)"]
[null,null,"(fill in thresholds)"]

{"sheet":"SA14","index":36,"n_rows":54,"n_cols":12,"rows_kept":54,"cut":false,"hidden":false,"merged":[[1,1,3,1],[1,5,1,7],[1,0,2,0]]}
[{"$f":"muni&\" - \"&TableA14","v":"Choose name from list - Supporting Table SA14 Household bills"}]
[{"$f":"desc","v":"Description"},{"$f":"head27","v":"Ref"},{"$f":"head1b","v":"2021/22"},{"$f":"head1A","v":"2022/23"},{"$f":"Head1","v":"2023/24"},{"$f":"Head2","v":"Current Year 2024/25"},null,null,{"$f":"Head3","v":"2025/26 Medium Term Revenue & Expenditure Framework"}]
[null,null,{"$f":"Head5","v":"Audited Outcome"},{"$f":"Head5","v":"Audited Outcome"},{"$f":"Head5","v":"Audited Outcome"},{"$f":"Head6","v":"Original Budget"},{"$f":"Head7","v":"Adjusted Budget"},{"$f":"Head8","v":"Full Year Forecast"},{"$f":"Head9","v":"Budget Year 2025/26"},{"$f":"Head9","v":"Budget Year 2025/26"},{"$f":"Head10","v":"Budget Year +1 2026/27"},{"$f":"Head11","v":"Budget Year +2 2027/28"}]
["Rand/cent",null,null,null,null,null,null,null,"% incr."]
["Monthly Account for Household - 'Middle Income Range'",1]
["Rates and services charges:"]
["Property rates",null,707.87,667.8,697.85,791.36,791.36,791.36,7.0000000000000007E-2,846.76,888.25]
["Electricity: Basic levy",null,38.880000000000003,35.53,37.130000000000003,44.14,44.14,44.14,0.22,53.86,62.47]
["Electricity: Consumption",null,1038.3699999999999,949.06,991.77,1178.98,1178.98,1178.98,0.22,1438.36,1668.5]
["Water: Basic levy",null,23.1,21.07,22.02,27.29,27.29,27.29,0.1,30.02,31.49]
["Water: Consumption",null,607.79,554.54999999999995,579.51,718.1,718.1,718.1,0.1,789.91,828.61]
["Sanitation",null,162.55000000000001,153.35,160.25,181.72,181.72,181.72,0.16,210.8,221.13]
["Refuse removal",null,105.14,99.18,103.65,117.54,117.54,117.54,7.0000000000000007E-2,125.76,131.93]
["Other"]
["sub-total",null,{"$f":"SUM(C7:C14)","v":2683.7},{"$f":"SUM(D7:D14)","v":2480.5399999999995},{"$f":"SUM(E7:E14)","v":2592.1799999999998},{"$f":"SUM(F7:F14)","v":3059.1299999999997},{"$f":"SUM(G7:G14)","v":3059.1299999999997},3059.1299999999997,{"$f":"IF(ISERROR(ROUND((J15-F15)/F15,3)),0,(ROUND((J15-F15)/F15,3)))","v":0.14299999999999999},3495.4700000000003,3832.38,0]
["VAT on Services",null,402.55,372.08,388.83,458.87,458.87,458.87,0.15,397.31,441.62]
["Total large household bill:",null,{"$f":"SUM(C15:C16)","v":3086.25},{"$f":"SUM(D15:D16)","v":2852.6199999999994},{"$f":"SUM(E15:E16)","v":2981.0099999999998},{"$f":"SUM(F15:F16)","v":3517.9999999999995},{"$f":"SUM(G15:G16)","v":3517.9999999999995},3517.9999999999995,{"$f":"IF(ISERROR(ROUND((J17-F17)/F17,3)),0,(ROUND((J17-F17)/F17,3)))","v":0.107},3892.78,4274,0]
["% increase/-decrease",null,{"$f":"IF(ISERROR((C17/B17)-1),0,((C17/B17)-1))","v":0},-7.5700283515593547E-2,4.5007747263918985E-2,0.18013693345543946,0,0,{"$f":"IF(ISERROR(ROUND((J18-F18)/F18,3)),0,(ROUND((J18-F18)/F18,3)))","v":-0.40899999999999997},{"$f":"IF(ISERROR((J17/H17)-1),0,((J17/H17)-1))","v":0.10653212052302474},{"$f":"IF(ISERROR((K17/J17)-1),0,((K17/J17)-1))","v":9.7930014025966017E-2},{"$f":"IF(ISERROR((L17/K17)-1),0,((L17/K17)-1))","v":-1}]
[]
["Monthly Account for Household - 'Affordable Range' ",2]
[{"$f":"A6","v":"Rates and services charges:"}]
[{"$f":"A7","v":"Property rates"},null,472.66,445.91,465.98,528.41999999999996,528.41999999999996,528.41999999999996,7.0000000000000007E-2,565.41,593.11]
["Electricity: Basic levy",null,38.880000000000003,35.53,37.130000000000003,44.14,44.14,44.14,0.22,53.86,62.47]
["Electricity: Consumption",null,519.01,474.37,495.72,589.29,589.29,589.29,0.22,718.94,833.97]
["Water: Basic levy",null,23.1,21.07,22.02,27.29,27.29,27.29,0.1,30.02,31.49]
["Water: Consumption",null,425.92,388.61,406.1,503.22,503.22,503.22,0.1,553.54,580.66999999999996]
["Sanitation",null,162.55000000000001,153.35,160.25,181.72,181.72,181.72,0.16,210.8,221.13]
["Refuse removal",null,105.14,99.18,103.65,117.54,117.54,117.54,7.0000000000000007E-2,125.76,131.93]
["Other"]
["sub-total",null,{"$f":"SUM(C22:C29)","v":1747.26},{"$f":"SUM(D22:D29)","v":1618.0200000000002},1690.8500000000001,1991.62,1991.62,1991.62,{"$f":"IF(ISERROR(ROUND((J30-F30)/F30,3)),0,(ROUND((J30-F30)/F30,3)))","v":0.13400000000000001},{"$f":"SUM(J22:J29)","v":2258.3300000000004},{"$f":"SUM(K22:K29)","v":2454.77},{"$f":"SUM(L22:L29)","v":0}]
["VAT on Services",null,262.08999999999997,242.7,null,298.74,298.74,298.74,0.15,338.75,368.21]
["Total small household bill:",null,{"$f":"SUM(C30:C31)","v":2009.35},{"$f":"SUM(D30:D31)","v":1860.7200000000003},1690.8500000000001,2290.3599999999997,2290.3599999999997,2290.3599999999997,{"$f":"IF(ISERROR(ROUND((J32-F32)/F32,3)),0,(ROUND((J32-F32)/F32,3)))","v":0.13400000000000001},{"$f":"SUM(J30:J31)","v":2597.0800000000004},{"$f":"SUM(K30:K31)","v":2822.98},{"$f":"SUM(L30:L31)","v":0}]
["% increase/-decrease",null,null,{"$f":"IF(ISERROR((D32/C32)-1),0,((D32/C32)-1))","v":-7.3969194017965867E-2},-9.1292617911346241E-2,0.35456131531478219,0,0,{"$f":"IF(ISERROR(ROUND((J33-F33)/F33,3)),0,(ROUND((J33-F33)/F33,3)))","v":-0.622},{"$f":"IF(ISERROR((J32/H32)-1),0,((J32/H32)-1))","v":0.13391781204701481},{"$f":"IF(ISERROR((K32/J32)-1),0,((K32/J32)-1))","v":8.6982303202057576E-2},{"$f":"IF(ISERROR((L32/K32)-1),0,((L32/K32)-1))","v":-1}]
[null,null,null,null,{"$f":"IF(ISERROR((E33/D33)-1),0,((E33/D33)-1))","v":0.23419781874563639},{"$f":"IF(ISERROR((F33/E33)-1),0,((F33/E33)-1))","v":-4.8837895486696929},{"$f":"IF(ISERROR((G33/F33)-1),0,((G33/F33)-1))","v":-1},{"$f":"IF(ISERROR((H33/G33)-1),0,((H33/G33)-1))","v":0}]
["Monthly Account for Household - 'Indigent' Household receiving free basic services",3]
[{"$f":"A6","v":"Rates and services charges:"}]
[{"$f":"A7","v":"Property rates"},null,235.96,222.6,232.62,263.79000000000002,263.79000000000002,263.79000000000002,7.0000000000000007E-2,282.25,296.08]
["Electricity: Basic levy",null,null,null,null,null,null,null,0.22]
["Electricity: Consumption",null,311.5,284.70999999999998,297.52,353.68,353.68,353.68,0.22,431.49,500.53]
["Water: Basic levy",null,23.1,21.07,22.02,27.29,27.29,27.29,0.1,30.02,34.82]
["Water: Consumption",null,364.44,332.52,347.49,430.59,430.59,430.59,0.1,473.65,496.86]
["Sanitation",null,null,null,null,null,null,null,0.16]
["Refuse removal",null,null,null,null,null,null,null,7.0000000000000007E-2]
["Other",null,null,null,null,null,null,null,{"$f":"IF(J44>0,ROUND((J44-F44)/F44,3),\"\")","v":""}]
["sub-total",null,{"$f":"SUM(C37:C44)","v":935},{"$f":"SUM(D37:D44)","v":860.9},{"$f":"SUM(E37:E44)","v":899.65},{"$f":"SUM(F37:F44)","v":1075.3499999999999},{"$f":"SUM(G37:G44)","v":1075.3499999999999},1075.3499999999999,{"$f":"IF(ISERROR(ROUND((J45-F45)/F45,3)),0,(ROUND((J45-F45)/F45,3)))","v":0.13200000000000001},1217.4099999999999,1328.29,0]
["VAT on Services",null,null,null,null,null,null,null,{"$f":"IF(J46>0,I13ROUND((J46-F46)/F46,3),\"\")","v":""}]
["Total small household bill:",null,{"$f":"SUM(C45:C46)","v":935},{"$f":"SUM(D45:D46)","v":860.9},{"$f":"SUM(E45:E46)","v":899.65},{"$f":"SUM(F45:F46)","v":1075.3499999999999},{"$f":"SUM(G45:G46)","v":1075.3499999999999},1075.3499999999999,{"$f":"IF(ISERROR(ROUND((J47-F47)/F47,3)),0,(ROUND((J47-F47)/F47,3)))","v":0.13200000000000001},1217.4099999999999,1328.29,0]
[{"$f":"A18","v":"% increase/-decrease"},null,null,{"$f":"IF(ISERROR((D47/C47)-1),0,((D47/C47)-1))","v":-7.9251336898395697E-2},4.5011034963410301E-2,0.19529817151114326,0,{"$f":"IF(ISERROR((H47/G47)-1),0,((H47/G47)-1))","v":0},{"$f":"IF(ISERROR(ROUND((J48-F48)/F48,3)),0,(ROUND((J48-F48)/F48,3)))","v":-0.32400000000000001},{"$f":"IF(ISERROR((J47/H47)-1),0,((J47/H47)-1))","v":0.13210582601013621},{"$f":"IF(ISERROR((K47/J47)-1),0,((K47/J47)-1))","v":9.107860129290879E-2},{"$f":"IF(ISERROR((L47/K47)-1),0,((L47/K47)-1))","v":-1}]
[]
[{"$f":"head27a","v":"References"}]
["1. Use as basis property value of R700 000, 1 000 kWh electricity and 30kl water"]
["2. Use as basis property value  of R500 000 and R700 000, 500 kWh electricity and 25kl water"]
["3. Use as basis property value of R 300 000, 350kWh electricity and 20kl water (50 kWh electricity and 6 kl water free)"]
["4. Note this is for a SINGLE household."]

{"sheet":"SA15","index":37,"n_rows":32,"n_cols":11,"rows_kept":32,"cut":false,"hidden":false,"merged":[[1,5,1,7],[1,8,1,10],[1,1,3,1],[1,0,2,0]]}
[{"$f":"muni&\" - \"&TableA15","v":"Choose name from list - Supporting Table SA15 Investment particulars by type"}]
["Investment type",{"$f":"head27","v":"Ref"},{"$f":"head1b","v":"2021/22"},{"$f":"head1A","v":"2022/23"},{"$f":"Head1","v":"2023/24"},{"$f":"Head2","v":"Current Year 2024/25"},null,null,{"$f":"Head3","v":"2025/26 Medium Term Revenue & Expenditure Framework"}]
[null,null,{"$f":"Head5","v":"Audited Outcome"},{"$f":"Head5","v":"Audited Outcome"},{"$f":"Head5","v":"Audited Outcome"},{"$f":"Head6","v":"Original Budget"},{"$f":"Head7","v":"Adjusted Budget"},{"$f":"Head8","v":"Full Year Forecast"},{"$f":"Head9","v":"Budget Year 2025/26"},{"$f":"Head10","v":"Budget Year +1 2026/27"},{"$f":"Head11","v":"Budget Year +2 2027/28"}]
["R thousand"]
["Parent municipality"]
["Securities - National Government"]
["Listed Corporate Bonds"]
["Deposits - Bank"]
["Deposits - Public Investment Commissioners"]
["Deposits - Corporation for Public Deposits"]
["Bankers Acceptance Certificates"]
["Negotiable Certificates of Deposit - Banks"]
["Guaranteed Endowment Policies (sinking)"]
["Repurchase Agreements - Banks"]
["Municipal Bonds"]
[]
["Municipality sub-total",1,{"$f":"SUM(C6:C15)","v":0},{"$f":"SUM(D6:D15)","v":0},0,0,0,0,0,0,0]
[]
["Entities"]
[{"$f":"A6","v":"Securities - National Government"}]
[{"$f":"A7","v":"Listed Corporate Bonds"}]
["Deposits - Bank"]
["Deposits - Public Investment Commissioners"]
["Deposits - Corporation for Public Deposits"]
["Bankers Acceptance Certificates"]
["Negotiable Certificates of Deposit - Banks"]
["Guaranteed Endowment Policies (sinking)"]
["Repurchase Agreements - Banks"]
[]
["Entities sub-total",null,{"$f":"SUM(C20:C29)","v":0},{"$f":"SUM(D20:D29)","v":0},0,0,0,0,0,0,0]
[]
["Consolidated total:",null,{"$f":"C17+C30","v":0},{"$f":"D17+D30","v":0},0,0,0,0,0,0,0]

{"sheet":"SA16","index":38,"n_rows":32,"n_cols":15,"rows_kept":32,"cut":false,"hidden":false,"merged":[[1,3,2,3],[1,9,2,9],[2,10,2,14]]}
[{"$f":"muni&\" - \"&TableA16","v":"Choose name from list - Supporting Table SA16 Investment particulars by maturity"}]
["Investments by Maturity",{"$f":"head27","v":"Ref"},"Period of Investment","Type of Investment","Capital Guarantee\n(Yes/ No)","Variable or Fixed interest rate","Interest Rate ᶟ","Commission Paid (Rands)","Commission Recipient","Expiry date of investment","Opening balance","Interest to be realised","Partial / Premature Withdrawal (4)","Investment Top Up","Closing Balance"]
["Name of institution & investment ID",1,"Yrs/Months"]
["Parent municipality"]
[null,null,null,null,null,null,null,null,null,null,null,null,null,null,{"$f":"SUM(K5:N5)","v":0}]
[null,null,null,null,null,null,null,null,null,null,null,null,null,null,{"$f":"SUM(K6:N6)","v":0}]
[null,null,null,null,null,null,null,null,null,null,null,null,null,null,0]
[null,null,null,null,null,null,null,null,null,null,null,null,null,null,0]
[null,null,null,null,null,null,null,null,null,null,null,null,null,null,0]
[null,null,null,null,null,null,null,null,null,null,null,null,null,null,0]
[null,null,null,null,null,null,null,null,null,null,null,null,null,null,0]
["Municipality sub-total",null,null,null,null,null,null,null,null,null,{"$f":"SUM(K5:K11)","v":0},null,{"$f":"SUM(M5:M11)","v":0},{"$f":"SUM(N5:N11)","v":0},{"$f":"SUM(O5:O11)","v":0}]
[]
["Entities"]
[null,null,null,null,null,null,null,null,null,null,null,null,null,null,{"$f":"SUM(K15:N15)","v":0}]
[null,null,null,null,null,null,null,null,null,null,null,null,null,null,{"$f":"SUM(K16:N16)","v":0}]
[null,null,null,null,null,null,null,null,null,null,null,null,null,null,0]
[null,null,null,null,null,null,null,null,null,null,null,null,null,null,0]
[null,null,null,null,null,null,null,null,null,null,null,null,null,null,0]
[null,null,null,null,null,null,null,null,null,null,null,null,null,null,0]
[null,null,null,null,null,null,null,null,null,null,null,null,null,null,0]
["Entities sub-total",null,null,null,null,null,null,null,null,null,{"$f":"SUM(K15:K21)","v":0},null,{"$f":"SUM(M15:M21)","v":0},{"$f":"SUM(N15:N21)","v":0},{"$f":"SUM(O15:O21)","v":0}]
[]
["TOTAL INVESTMENTS AND INTEREST",1,null,null,null,null,null,null,null,null,{"$f":"K12+K22","v":0},null,{"$f":"M12+M22","v":0},{"$f":"N12+N22","v":0},{"$f":"O12+O22","v":0}]
[]
[{"$f":"head27a","v":"References"}]
["1. Total investments must reconcile to all items in Table SA15 for the Current Year (30 June)"]
["2. List investments in expiry date order"]
["3. If 'variable' is selected in column F, input interest rate range"]
["4. Withdrawals to be entered as negative"]
[]
[null,null,null,null,null,null,null,null,null,null,null,null,"`"]

{"sheet":"SA17","index":39,"n_rows":70,"n_cols":45,"rows_kept":70,"cut":false,"hidden":false,"merged":[[1,5,1,7],[1,8,1,10]]}
[{"$f":"muni&\" - \"&TableA17","v":"Choose name from list - Supporting Table SA17 Borrowing"}]
["Borrowing - Categorised by type",{"$f":"head27","v":"Ref"},{"$f":"head1b","v":"2021/22"},{"$f":"head1A","v":"2022/23"},{"$f":"Head1","v":"2023/24"},{"$f":"Head2","v":"Current Year 2024/25"},null,null,{"$f":"Head3","v":"2025/26 Medium Term Revenue & Expenditure Framework"}]
["R thousand",null,{"$f":"Head5","v":"Audited Outcome"},{"$f":"Head5","v":"Audited Outcome"},{"$f":"Head5","v":"Audited Outcome"},{"$f":"Head6","v":"Original Budget"},{"$f":"Head7","v":"Adjusted Budget"},{"$f":"Head8","v":"Full Year Forecast"},{"$f":"Head9","v":"Budget Year 2025/26"},{"$f":"Head10","v":"Budget Year +1 2026/27"},{"$f":"Head11","v":"Budget Year +2 2027/28"}]
["Parent municipality"]
["Annuity and Bullet Loans"]
["Long-Term Loans (non-annuity)"]
["Local registered stock"]
["Instalment Credit"]
["Financial Leases"]
["PPP liabilities"]
["Finance Granted By Cap Equipment Supplier"]
["Marketable Bonds"]
["Non-Marketable Bonds"]
["Bankers Acceptances"]
["Financial derivatives"]
["Other Securities"]
["Municipality sub-total",1,{"$f":"SUM(C5:C16)","v":0},{"$f":"SUM(D5:D16)","v":0},0,0,0,0,0,0,0]
[]
["Entities"]
[{"$f":"A5","v":"Annuity and Bullet Loans"}]
["Long-Term Loans (non-annuity)"]
["Local registered stock"]
["Instalment Credit"]
["Financial Leases"]
["PPP liabilities"]
["Finance Granted By Cap Equipment Supplier"]
["Marketable Bonds"]
["Non-Marketable Bonds"]
["Bankers Acceptances"]
["Financial derivatives"]
["Other Securities"]
["Entities sub-total",1,{"$f":"SUM(C20:C31)","v":0},{"$f":"SUM(D20:D31)","v":0},0,0,0,0,0,0,0]
[]
["Total Borrowing",1,{"$f":"C17+C32","v":0},{"$f":"D17+D32","v":0},0,0,0,0,0,0,0]
[]
["Unspent Borrowing - Categorised by type"]
["Parent municipality"]
["Long-Term Loans (annuity/reducing balance)"]
["Long-Term Loans (non-annuity)"]
["Local registered stock"]
["Instalment Credit",null,null,null,null,null,null,null,null,null,null,null,null,null,null,null,null,null,null,null,null,null,null,null,null,null,null,null,null,null,null,null,null,null,null,null,null,null,null,null,null,null,439005000,null,539442200]
["Financial Leases"]
["PPP liabilities",null,null,null,null,null,null,null,null,null,null,null,null,null,null,null,null,null,null,null,null,null,0,null,0,null,null,0,null,0,null,null,0,null,0,null,null,0,null,0,null,null,1834701353,null,1241876995]
["Finance Granted By Cap Equipment Supplier",null,null,null,null,null,null,null,null,null,null,null,null,null,null,null,null,null,null,null,null,null,null,null,null,null,null,null,null,null,null,null,null,null,null,null,null,null,null,null,null,null,839041298,null,440387617]
["Marketable Bonds",null,null,null,null,null,null,null,null,null,null,null,null,null,null,null,null,null,null,null,null,null,null,null,null,null,null,null,null,null,null,null,null,null,null,null,null,null,null,null,null,null,976543638,null,782372961]
["Non-Marketable Bonds",null,null,null,null,null,null,null,null,null,null,null,null,null,null,null,null,null,null,null,null,null,null,null,null,null,null,null,null,null,null,null,null,null,null,null,null,null,null,null,null,null,19116417,null,19116417]
["Bankers Acceptances",null,null,null,null,null,null,null,null,null,null,null,null,null,null,null,null,null,null,null,null,null,null,null,null,null,null,null,null,null,null,null,null,null,null,null,null,null,null,null,null,null,2273706353,null,1781319195]
["Financial derivatives",null,null,null,null,null,null,null,null,null,null,null,null,null,null,null,null,null,null,null,null,null,null,null,null,null,null,null,null,null,null,null,null,null,null,null,null,null,null,null,null,null,180259232,null,140396729]
["Other Securities",null,null,null,null,null,null,null,null,null,null,null,null,null,null,null,null,null,null,null,null,null,null,null,null,null,null,null,null,null,null,null,null,null,null,null,null,null,null,null,null,null,125005000,null,100442200]
["Municipality sub-total",1,{"$f":"SUM(C38:C49)","v":0},{"$f":"SUM(D38:D49)","v":0},0,0,0,0,0,0,0,null,null,null,null,null,null,null,null,null,null,null,null,null,null,null,null,null,null,null,null,null,null,null,null,null,null,null,null,null,null,null,40341797,null,38954529]
[null,null,null,null,null,null,null,null,null,null,null,null,null,null,null,null,null,null,null,null,null,null,null,null,null,null,null,null,null,null,null,null,null,null,null,null,null,null,null,null,null,null,14912435,null,1000000]
["Entities"]
[{"$f":"A38","v":"Long-Term Loans (annuity/reducing balance)"}]
["Long-Term Loans (non-annuity)"]
["Local registered stock"]
["Instalment Credit"]
["Financial Leases"]
["PPP liabilities"]
["Finance Granted By Cap Equipment Supplier"]
["Marketable Bonds"]
["Non-Marketable Bonds"]
["Bankers Acceptances"]
["Financial derivatives"]
["Other Securities"]
["Entities sub-total",1,{"$f":"SUM(C53:C64)","v":0},{"$f":"SUM(D53:D64)","v":0},0,0,0,0,0,0,0]
[]
["Total Unspent Borrowing",1,{"$f":"C50+C65","v":0},{"$f":"D50+D65","v":0},0,0,0,0,0,0,0]
[]
[{"$f":"head27a","v":"References"}]
["1. Total borrowing must reconcile to Budgeted Financial Position (Borrowing - non-current)"]

{"sheet":"SA18","index":40,"n_rows":75,"n_cols":11,"rows_kept":75,"cut":false,"hidden":false,"merged":[[1,5,1,7],[1,8,1,10]]}
[{"$f":"muni&\" - \"& TableA18","v":"Choose name from list - Supporting Table SA18 Transfers and grant receipts"}]
[{"$f":"desc","v":"Description"},{"$f":"head27","v":"Ref"},{"$f":"head1b","v":"2021/22"},{"$f":"head1A","v":"2022/23"},{"$f":"Head1","v":"2023/24"},{"$f":"Head2","v":"Current Year 2024/25"},null,null,{"$f":"Head3","v":"2025/26 Medium Term Revenue & Expenditure Framework"}]
["R thousand",null,{"$f":"Head5","v":"Audited Outcome"},{"$f":"Head5","v":"Audited Outcome"},{"$f":"Head5","v":"Audited Outcome"},{"$f":"Head6","v":"Original Budget"},{"$f":"Head7","v":"Adjusted Budget"},{"$f":"Head8","v":"Full Year Forecast"},{"$f":"Head9","v":"Budget Year 2025/26"},{"$f":"Head10","v":"Budget Year +1 2026/27"},{"$f":"Head11","v":"Budget Year +2 2027/28"}]
["RECEIPTS:","1, 2"]
[]
["Operating Transfers and Grants"]
["National Government:",null,{"$f":"SUM(C8:C20)","v":647795383},{"$f":"SUM(D8:D20)","v":765766722},795277217,895184080,953643716,953643716,966680480,1038865729,1084326699]
["Equitable Share",{"$f":"IF(A8=\"  Levy replacement\",3,\"\")","v":""},616262000,696056000,767222000,822072000,822072000,822072000,877312000,926722000,968645000]
["Energy Efficiency and Demand Side Management","",null,null,null,null,700000,700000,null,70000,70000]
["Expanded Public Works Programme Integrated Grant",{"$f":"IF(A10=\"  Levy replacement\",3,\"\")","v":""},3474322,5228151,4633583,2092000,2092000,2092000,2624000]
["Local Government Financial Management Grant","",1900000,1950000,1950000,1900000,1900000,1900000,2000000,2200000,2300000]
["Municipal Infrastructure Grant","",6107917,6977307,7455986,9120080,8077460,8077460,9744480,9873729,9936699]
["Municipal Systems Improvement Grant","",41692,null,67413]
["Municipal Water Infrastructure Grant  [Schedule 5B]","",19986410,55555264,13948235,30000000,60000000,60000000,25000000,25000000,25000000]
["Public Transport Network Grant",null,23042,null,null,30000000,30000000,30000000,50000000,75000000,78375000]
["Regional Bulk Infrastructure Grant","",null,null,null,null,28802256,28802256]
[null,""]
[null,""]
[null,""]
[null,""]
["Provincial Government:",null,{"$f":"SUM(C22:C31)","v":33882241},35984604,26320720,51159070,72751472,72751472,26516715,27234820,28713131]
["Infrastructure",{"$f":"IF(A22=\"  Housing\",4,\"\")","v":""},33882241,35816622,24658008,51159070,70551152,70551152,26516715,27234820,28713131]
["Capacity Building and Other",null,null,167982,1662712,null,2200320,2200320]
[]
[]
[]
[]
[null,{"$f":"IF(A28=\"  Housing\",4,\"\")","v":""}]
[null,{"$f":"IF(A29=\"  Housing\",4,\"\")","v":""}]
[null,{"$f":"IF(A30=\"  Housing\",4,\"\")","v":""}]
[{"$f":"A20","v":0}]
["District Municipality:",null,{"$f":"SUM(C33:C33)","v":0},0,0,0,0,0,0,0,0]
["Capacity Building and Other"]
["Other grant providers:",null,{"$f":"SUM(C35:C36)","v":0},{"$f":"SUM(D35:D36)","v":0},0,0,0,0,0,0,0]
["  [insert description]"]
[]
["Total Operating Transfers and Grants",5,{"$f":"C7+C21+C32+C34","v":681677624},801751326,821597937,946343150,1026395188,1026395188,993197195,1066100549,1113039830]
[]
["Capital Transfers and Grants"]
[{"$f":"A7","v":"National Government:"},null,{"$f":"SUM(C41:C54)","v":331771037},{"$f":"SUM(D41:D54)","v":286531411},260809725,325816920,373708175,373708175,376126520,429887271,457346507]
["Energy Efficiency and Demand Side Management Grant",null,null,null,5000000,4950000,5600000,5600000,null,4000000,4000000]
["Integrated National Electrification Programme (Municipal Grant)  [Schedule 5B]",null,11230497,27379643,12218873,4971000,4971000,4971000,null,6000000,6271000]
["Municipal Disaster Recovery Grant",null,null,null,null,null,73020442,73020442,13214000]
["Municipal Disaster Relief Grant",null,null,null,null,13214000]
["Municipal Infrastructure Grant",null,203223083,220208032,205413483,222681920,225609333,225609333,232912520,256887271,269700507]
["Neighbourhood Development Partnership Grant",null,34999545,34499416,12973388,20000000,20000000,20000000,30000000,33000000,40000000]
["Public Transport Network Grant",null,62323037,null,null,20000000,20000000,20000000,50000000,75000000,78375000]
["Water Services Infrastructure Grant",null,19994875,4444320,25203981,40000000,24507400,24507400,50000000,55000000,59000000]
[]
[]
[]
[]
[]
[]
[{"$f":"A21","v":"Provincial Government:"},null,{"$f":"SUM(C56:C56)","v":27734317},20972274,163695383,131157971,114987839,114987839,0,0,0]
["Infrastructure",null,27734317,20972274,163695383,131157971,114987839,114987839]
[]
[]
[]
["Other capital transfers/grants [insert description]"]
[{"$f":"A32","v":"District Municipality:"},null,{"$f":"SUM(C62:C63)","v":0},{"$f":"SUM(D62:D63)","v":0},0,0,0,0,0,0,0]
["Infrastructure"]
[]
[{"$f":"A34","v":"Other grant providers:"},null,{"$f":"SUM(C65:C66)","v":9219263},{"$f":"SUM(D65:D66)","v":16815586},3418052,0,0,0,0,0,0]
["Traditional Affairs",null,9219263,16815586,3418052]
[]
["Total Capital Transfers and Grants",5,{"$f":"C40+C55+C61+C64","v":368724617},324319271,427923160,456974891,488696014,488696014,376126520,429887271,457346507]
["TOTAL RECEIPTS OF TRANSFERS & GRANTS",null,{"$f":"C37+C67","v":1050402241},1126070597,1249521097,1403318041,1515091202,1515091202,1369323715,1495987820,1570386337]
[{"$f":"head27a","v":"References"}]
["1. Each transfer/grant is listed by name as gazetted together with the name of the transferring department or municipality, donor or other organisation"]
["2. Amounts actually RECEIVED; not revenue recognised (objective is to confirm grants transferred)"]
["3. Replacement of RSC levies"]
["4. Housing subsidies for housing where ownership transferred to organisations or persons outside the control of the municipality"]
["5. Total transfers and grants must reconcile to Budgeted Cash Flows"]
["6. Motor vehicle licensing refunds to be included under 'agency' services (Not Grant Receipts)"]

{"sheet":"SA19","index":41,"n_rows":61,"n_cols":11,"rows_kept":61,"cut":false,"hidden":false,"merged":[[1,5,1,7],[1,8,1,10]]}
[{"$f":"muni&\" - \"& TableA19","v":"Choose name from list - Supporting Table SA19 Expenditure on transfers and grant programme"}]
[{"$f":"desc","v":"Description"},{"$f":"head27","v":"Ref"},{"$f":"head1b","v":"2021/22"},{"$f":"head1A","v":"2022/23"},{"$f":"Head1","v":"2023/24"},{"$f":"Head2","v":"Current Year 2024/25"},null,null,{"$f":"Head3","v":"2025/26 Medium Term Revenue & Expenditure Framework"}]
["R thousand",null,{"$f":"Head5","v":"Audited Outcome"},{"$f":"Head5","v":"Audited Outcome"},{"$f":"Head5","v":"Audited Outcome"},{"$f":"Head6","v":"Original Budget"},{"$f":"Head7","v":"Adjusted Budget"},{"$f":"Head8","v":"Full Year Forecast"},{"$f":"Head9","v":"Budget Year 2025/26"},{"$f":"Head10","v":"Budget Year +1 2026/27"},{"$f":"Head11","v":"Budget Year +2 2027/28"}]
["EXPENDITURE:",1]
[]
["Operating expenditure of Transfers and Grants"]
[{"$f":"'SA18'!A7","v":"National Government:"},null,{"$f":"SUM(C8:C17)","v":621678000},758789414.62,787678629.80999994,72212078,94692000,94692000,78659000,101880000,105255000]
["Equitable Share",null,616262000,696056000,767222000,null,700000,700000,null,700000,700000]
["Energy Efficiency and Demand Side Management",null,1900000,1950000,1807398.14,2092000,2092000,2092000,2624000]
["Expanded Public Works Programme Integrated Grant",null,null,null,0,1899998,1900000,1900000,1035000,1180000,1180000]
["Local Government Financial Management Grant",null,3516000,5228150.62,4700996.67,8220080]
["Municipal Infrastructure Grant",null,null,55555264,13948235,30000000,60000000,60000000,25000000,25000000,25000000]
["Municipal Water Infrastructure Grant",null,null,null,0,30000000,30000000,30000000,50000000,75000000,78375000]
["Public Transport Network Grant",null,null,null,0]
[{"$f":"IF('SA18'!A18=\"\",\"\",'SA18'!A18)","v":""}]
[{"$f":"IF('SA18'!A19=\"\",\"\",'SA18'!A19)","v":""}]
[{"$f":"'SA18'!A20","v":0}]
[{"$f":"'SA18'!A21","v":"Provincial Government:"},null,{"$f":"SUM(C19:C20)","v":0},0,0,56659069,65335862,65335862,47440450,49393056,52178702]
["Infrastructure",null,null,null,null,56659069,65335862,65335862,47440450,49393056,52178702]
["Capacity Building and Other"]
[{"$f":"'SA18'!A32","v":"District Municipality:"},null,{"$f":"SUM(C22:C22)","v":0},0,0,0,0,0,0,0,0]
[]
[{"$f":"'SA18'!A34","v":"Other grant providers:"},null,{"$f":"SUM(C24:C25)","v":0},{"$f":"SUM(D24:D25)","v":0},0,0,0,0,0,0,0]
[{"$f":"'SA18'!A35","v":"  [insert description]"}]
[]
["Total operating expenditure of Transfers and Grants:",null,{"$f":"C7+C18+C21+C23","v":621678000},758789414.62,787678629.80999994,128871147,160027862,160027862,126099450,151273056,157433702]
[]
["Capital expenditure of Transfers and Grants"]
[{"$f":"'SA18'!A40","v":"National Government:"},null,{"$f":"SUM(C30:C46)","v":0},287092368,0,325816920,345980175,345980175,376126520,429887271,455998188]
["Energy Efficiency and Demand Side Management Grant",null,null,null,null,4950000,4300000,4300000,null,4000000,3271000]
["Integrated National Electrification Programme (Municipal Grant)  [Schedule 5B]",null,null,null,null,4971000,4971000,4971000,null,6000000,8211673]
["Municipal Disaster Recovery Grant",null,null,null,null,13214000,46592442,46592442,13214000,null,78375000]
["Municipal Infrastructure Grant",null,null,287092368,null,222681920,225609333,225609333,232912520,256887271,265702115]
["Neighbourhood Development Partnership Grant",null,null,null,null,20000000,20000000,20000000,30000000,33000000,40000000]
["Public Transport Network Grant",null,null,null,null,20000000,20000000,20000000,50000000,75000000,49438400]
["Water Services Infrastructure Grant",null,null,null,null,40000000,24507400,24507400,50000000,55000000,11000000]
[]
[]
[]
[]
[]
[]
[{"$f":"IF('SA18'!A51=\"\",\"\",'SA18'!A51)","v":""}]
[{"$f":"IF('SA18'!A52=\"\",\"\",'SA18'!A52)","v":""}]
[{"$f":"IF('SA18'!A53=\"\",\"\",'SA18'!A53)","v":""}]
[{"$f":"'SA18'!A54","v":0}]
[{"$f":"'SA18'!A55","v":"Provincial Government:"},null,{"$f":"SUM(C48:C48)","v":0},36821632,0,131157971,130883402,130883402,0,0,0]
["Infrastructure",null,null,36821632,null,131157971,130883402,130883402]
["Capacity Building and Other",null,null,null,null,null,1062396,1062396]
[]
[null,null,{"$f":"SUM(C52:C53)","v":0},{"$f":"SUM(D52:D53)","v":0},0,0,0,0,0,0,0]
[]
[]
[null,null,{"$f":"SUM(C55:C56)","v":0},{"$f":"SUM(D55:D56)","v":0},0,0,0,0,0,0,0]
["Other capital transfers/grants [insert description]"]
[]
["Total capital expenditure of Transfers and Grants",null,{"$f":"C29+C47+C51+C54","v":0},323914000,0,456974891,476863577,476863577,376126520,429887271,455998188]
[]
["TOTAL EXPENDITURE OF TRANSFERS AND GRANTS",null,{"$f":"C26+C57","v":621678000},1082703414.6199999,787678629.80999994,585846038,636891439,636891439,502225970,581160327,613431890]
[{"$f":"head27a","v":"References"}]
["1. Expenditure must be separately listed for each transfer or grant received or recognised"]

{"sheet":"SA20","index":42,"n_rows":341,"n_cols":11,"rows_kept":341,"cut":false,"hidden":false,"merged":[[57,0,57,10],[1,5,1,7],[1,8,1,10],[55,0,55,10],[56,0,56,10]]}
[{"$f":"muni&\" - \"& TableA20","v":"Choose name from list - Supporting Table SA20 Reconciliation of transfers, grant receipts and unspent funds"}]
[{"$f":"desc","v":"Description"},{"$f":"head27","v":"Ref"},{"$f":"head1b","v":"2021/22"},{"$f":"head1A","v":"2022/23"},{"$f":"Head1","v":"2023/24"},{"$f":"Head2","v":"Current Year 2024/25"},null,null,{"$f":"Head3","v":"2025/26 Medium Term Revenue & Expenditure Framework"}]
["R thousand",null,{"$f":"Head5","v":"Audited Outcome"},{"$f":"Head5","v":"Audited Outcome"},{"$f":"Head5","v":"Audited Outcome"},{"$f":"Head6","v":"Original Budget"},{"$f":"Head7","v":"Adjusted Budget"},{"$f":"Head8","v":"Full Year Forecast"},{"$f":"Head9","v":"Budget Year 2025/26"},{"$f":"Head10","v":"Budget Year +1 2026/27"},{"$f":"Head11","v":"Budget Year +2 2027/28"}]
["Operating transfers and grants:","1,3"]
[{"$f":"'SA18'!A7","v":"National Government:"}]
["Balance unspent at beginning of the year",null,0,-2849,-3]
["Current year receipts",null,-13590,0,-3655665]
["Repayment of grants"]
["Conditions met - transferred to revenue",null,{"$f":"C6+C7-C8-C10","v":-13590},{"$f":"D6+D7-D8-D10","v":-2849},-3655668,0,0,0,0,0,0]
["Conditions still to be met - transferred to liabilities"]
["Provincial Government:"]
["Balance unspent at beginning of the year",null,0,-12928106,-4851161]
[{"$f":"A7","v":"Current year receipts"},null,-19047330,0,-908825]
[{"$f":"A9","v":"Conditions met - transferred to revenue"},null,{"$f":"C12+C13-C15","v":-19047330},{"$f":"D12+D13-D15","v":-12928106},-5759986,0,0,0,0,0,0]
[{"$f":"A10","v":"Conditions still to be met - transferred to liabilities"}]
["District Municipality:"]
[{"$f":"A12","v":"Balance unspent at beginning of the year"},null,0,-1801479,-29279375]
[{"$f":"A13","v":"Current year receipts"},null,-695827,0,-33183309]
[{"$f":"A14","v":"Conditions met - transferred to revenue"},null,{"$f":"C17+C18-C20","v":-695827},-1801479,-62462684,0,0,0,0,0,0]
[{"$f":"A15","v":"Conditions still to be met - transferred to liabilities"}]
["Other grant providers:"]
[{"$f":"A12","v":"Balance unspent at beginning of the year"},null,0,-154218666,-112518207]
[{"$f":"A13","v":"Current year receipts"},null,-103455596,0,-1055100]
[{"$f":"A14","v":"Conditions met - transferred to revenue"},null,{"$f":"C22+C23-C25","v":-103455596},-154218666,-113573307,0,0,0,0,0,0]
[{"$f":"A15","v":"Conditions still to be met - transferred to liabilities"}]
["Total operating transfers and grants revenue",null,{"$f":"C9+C14+C19+C24","v":-123212343},-168951100,-185451645,0,0,0,0,0,0]
["Total operating transfers and grants - CTBM",2,0,0,0,0,0,0,0,0,0]
[]
["Capital transfers and grants:","1,3"]
[{"$f":"A5","v":"National Government:"}]
["Balance unspent at beginning of the year"]
["Current year receipts"]
["Conditions met - transferred to revenue",null,{"$f":"C31+C32-C34","v":0},0,0,0,0,0,0,0,0]
["Conditions still to be met - transferred to liabilities"]
["Provincial Government:"]
["Balance unspent at beginning of the year"]
[{"$f":"A32","v":"Current year receipts"}]
[{"$f":"A33","v":"Conditions met - transferred to revenue"},null,{"$f":"C36+C37-C39","v":0},0,0,0,0,0,0,0,0]
[{"$f":"A34","v":"Conditions still to be met - transferred to liabilities"}]
["District Municipality:"]
[{"$f":"A36","v":"Balance unspent at beginning of the year"}]
[{"$f":"A37","v":"Current year receipts"}]
[{"$f":"A38","v":"Conditions met - transferred to revenue"},null,{"$f":"C41+C42-C44","v":0},0,0,0,0,0,0,0,0]
[{"$f":"A39","v":"Conditions still to be met - transferred to liabilities"}]
["Other grant providers:"]
[{"$f":"A36","v":"Balance unspent at beginning of the year"},null,0,-6981756,-4079840]
[{"$f":"A37","v":"Current year receipts"},null,-12875183,0,0]
[{"$f":"A38","v":"Conditions met - transferred to revenue"},null,{"$f":"C46+C47-C49","v":-12875183},-6981756,-4079840,0,0,0,0,0,0]
[{"$f":"A39","v":"Conditions still to be met - transferred to liabilities"}]
["Total capital transfers and grants revenue",null,{"$f":"C33+C38+C43+C48","v":-12875183},-6981756,-4079840,0,0,0,0,0,0]
["Total capital transfers and grants - CTBM",2,0,0,0,0,0,0,0,0,0]
[]
["TOTAL TRANSFERS AND GRANTS REVENUE",null,{"$f":"C26+C50","v":-136087526},-175932856,-189531485,0,0,0,0,0,0]
["TOTAL TRANSFERS AND GRANTS - CTBM",null,{"$f":"C27+C51","v":0},{"$f":"D27+D51","v":0},0,0,0,0,0,0,0]
[{"$f":"head27a","v":"References"}]
["1. Total capital transfers and grants revenue must reconcile to Budgeted Financial Performance and Financial Position; total recurrent grants revenue must reconcile to Budgeted Financial Performance"]
["2. CTBM = conditions to be met"]
["3. National Treasury database will require this reconciliation for each transfer/grant"]
[]
[]
[]
[]
[]
[]
[]
[]
[]
[]
[]
[]
[]
[]
[]
[]
[]
[]
[]
[]
[]
[]
[]
[]
[]
[]
[]
[]
[]
[]
[]
[]
[]
[]
[]
[]
[]
[]
[]
[]
[]
[]
[]
[]
[]
[]
[]
[]
[]
[]
[]
[]
[]
[]
[]
[]
[]
[]
[]
[]
[]
[]
[]
[]
[]
[]
[]
[]
[]
[]
[]
[]
[]
[]
[]
[]
[]
[]
[]
[]
[]
[]
[]
[]
[]
[]
[]
[]
[]
[]
[]
[]
[]
[]
[]
[]
[]
[]
[]
[]
[]
[]
[]
[]
[]
[]
[]
[]
[]
[]
[]
[]
[]
[]
[]
[]
[]
[]
[]
[]
[]
[]
[]
[]
[]
[]
[]
[]
[]
[]
[]
[]
[]
[]
[]
[]
[]
[]
[]
[]
[]
[]
[]
[]
[]
[]
[]
[]
[]
[]
[]
[]
[]
[]
[]
[]
[]
[]
[]
[]
[]
[]
[]
[]
[]
[]
[]
[]
[]
[]
[]
[]
[]
[]
[]
[]
[]
[]
[]
[]
[]
[]
[]
[]
[]
[]
[]
[]
[]
[]
[]
[]
[]
[]
[]
[]
[]
[]
[]
[]
[]
[]
[]
[]
[]
[]
[]
[]
[]
[]
[]
[]
[]
[]
[]
[]
[]
[]
[]
[]
[]
[]
[]
[]
[]
[]
[]
[]
[]
[]
[]
[]
[]
[]
[]
[]
[]
[]
[]
[]
[]
[]
[]
[]
[]
[]
[]
[]
[]
[]
[]
[]
[]
[]
[]
[]
[]
[]
[]
[]
[]
[]
[]
[]
[]
[]
[]
[]
[]
[]
[]
[]
[]
[]
[]
[]
[]
[]
[]
[]
[]
[]
[null,null,null,null,null,null,null,null,null,null," "]

{"sheet":"SA21","index":43,"n_rows":71,"n_cols":12,"rows_kept":71,"cut":false,"hidden":false,"merged":[[1,9,1,11],[1,5,1,8]]}
[{"$f":"muni&\" - \"& TableA21","v":"Choose name from list - Supporting Table SA21 Transfers and grants made by the municipality"}]
[{"$f":"desc","v":"Description"},{"$f":"head27","v":"Ref"},{"$f":"head1b","v":"2021/22"},{"$f":"head1A","v":"2022/23"},{"$f":"Head1","v":"2023/24"},{"$f":"Head2","v":"Current Year 2024/25"},null,null,null,{"$f":"Head3","v":"2025/26 Medium Term Revenue & Expenditure Framework"}]
["R thousand",null,{"$f":"Head5","v":"Audited Outcome"},{"$f":"Head5","v":"Audited Outcome"},{"$f":"Head5","v":"Audited Outcome"},{"$f":"Head6","v":"Original Budget"},{"$f":"Head7","v":"Adjusted Budget"},{"$f":"Head8","v":"Full Year Forecast"},{"$f":"Head5b","v":"Pre-audit outcome"},{"$f":"Head9","v":"Budget Year 2025/26"},{"$f":"Head10","v":"Budget Year +1 2026/27"},{"$f":"Head11","v":"Budget Year +2 2027/28"}]
[]
["Cash Transfers to other municipalities"]
["Municipal entities",1,12416889,12877892,14026746,17380750,17380750,17380750,18075980,18961703,19890827]
[]
[]
["Total Cash Transfers To Municipalities:",null,{"$f":"SUM(C6:C8)","v":12416889},{"$f":"SUM(D6:D8)","v":12877892},14026746,17380750,17380750,17380750,18075980,18961703,19890827,0]
[]
["Cash Transfers to Entities/Other External Mechanisms"]
[{"$f":"$A$6","v":"Municipal entities"},2]
[]
[]
["Total Cash Transfers To Entities/Ems'",null,{"$f":"SUM(C12:C14)","v":0},{"$f":"SUM(D12:D14)","v":0},0,0,0,0,0,0,0,0]
[]
["Cash Transfers to other Organs of State"]
[{"$f":"$A$6","v":"Municipal entities"},3]
[]
[]
["Total Cash Transfers To Other Organs Of State:",null,{"$f":"SUM(C18:C20)","v":0},{"$f":"SUM(D18:D20)","v":0},0,0,0,0,0,0,{"$f":"SUM(K18:K20)","v":0},0]
[]
["Cash Transfers to Organisations"]
[{"$f":"$A$6","v":"Municipal entities"}]
[]
["Total Cash Transfers To Organisations",null,{"$f":"SUM(C24:C25)","v":0},{"$f":"SUM(D24:D25)","v":0},0,0,0,0,0,0,0,0]
[]
["Cash Transfers to Groups of Individuals"]
["Households",null,10995785,10264363,2212757,52289382,52289382,52289382,54380957,57045622,59840856,79731684.477447003]
[]
["Total Cash Transfers To Groups Of Individuals:",null,{"$f":"SUM(C29:C30)","v":10995785},{"$f":"SUM(D29:D30)","v":10264363},2212757,52289382,52289382,52289382,54380957,57045622,59840856,79731684.477447003]
["TOTAL CASH TRANSFERS AND GRANTS",6,{"$f":"C9+C15+C21+C26+C31","v":23412674},{"$f":"D9+D15+D21+D26+D31","v":23142255},16239503,69670132,69670132,69670132,72456937,76007325,79731683,79731684.477447003]
[]
["Non-Cash Transfers to other municipalities"]
["Insert description",1]
[]
[]
["Total Non-Cash Transfers To Municipalities:",null,{"$f":"SUM(C35:C37)","v":0},{"$f":"SUM(D35:D37)","v":0},0,0,0,0,0,0,0,0]
[]
["Non-Cash Transfers to Entities/Other External Mechanisms"]
[{"$f":"$A$6","v":"Municipal entities"},2]
[]
[]
["Total Non-Cash Transfers To Entities/Ems'",null,{"$f":"SUM(C41:C43)","v":0},{"$f":"SUM(D41:D43)","v":0},0,0,0,0,0,0,0,0]
[]
["Non-Cash Transfers to other Organs of State"]
[{"$f":"$A$6","v":"Municipal entities"},3]
[]
[]
["Total Non-Cash Transfers To Other Organs Of State:",null,{"$f":"SUM(C47:C49)","v":0},{"$f":"SUM(D47:D49)","v":0},0,0,0,0,0,0,{"$f":"SUM(K47:K49)","v":0},{"$f":"SUM(L47:L49)","v":0}]
[]
["Non-Cash Grants to Organisations"]
["Households",4,9000000,6420000,9000000]
[]
[]
["Total Non-Cash Grants To Organisations",null,{"$f":"SUM(C53:C55)","v":9000000},{"$f":"SUM(D53:D55)","v":6420000},9000000,0,0,0,0,0,{"$f":"SUM(K53:K55)","v":0},{"$f":"SUM(L53:L55)","v":0}]
[]
["Groups of Individuals"]
[{"$f":"$A$6","v":"Municipal entities"},5]
[]
[]
["Total Non-Cash Grants To Groups Of Individuals:",null,{"$f":"SUM(C59:C61)","v":0},{"$f":"SUM(D59:D61)","v":0},0,0,0,0,0,0,0,0]
["TOTAL NON-CASH TRANSFERS AND GRANTS",null,{"$f":"C38+C44+C50+C56+C62","v":9000000},{"$f":"D38+D44+D50+D56+D62","v":6420000},9000000,0,0,0,0,0,0,0]
["TOTAL TRANSFERS AND GRANTS",6,{"$f":"C32+C63","v":32412674},{"$f":"D32+D63","v":29562255},25239503,69670132,69670132,69670132,72456937,76007325,79731683,79731684.477447003]
[{"$f":"head27a","v":"References"}]
["1. Insert description listed by municipal name and demarcation code of recipient"]
["2. Insert description of each entity or external mechanism (an external mechanism may be provided with resources to ensure a minimum level of service)"]
["3. Insert description of each Organ of State (e.g. transfer to electricity provider to compensate for FBS provided)"]
["4. Insert description of each other organisation (e.g. charity)"]
["5 Insert description of each other organisation (e.g. the aged, child-headed households)"]
["6. All descriptions should separate transfers for 'capital purposes' and 'operating purposes'"]

{"sheet":"SA22","index":44,"n_rows":140,"n_cols":12,"rows_kept":140,"cut":false,"hidden":false,"merged":[[1,5,1,7],[1,8,1,10]]}
[{"$f":"muni&\" - \"&TableA22","v":"Choose name from list - Supporting Table SA22 Summary councillor and staff benefits"}]
["Summary of Employee and Councillor remuneration",{"$f":"head27","v":"Ref"},{"$f":"head1b","v":"2021/22"},{"$f":"head1A","v":"2022/23"},{"$f":"Head1","v":"2023/24"},{"$f":"Head2","v":"Current Year 2024/25"},null,null,{"$f":"Head3","v":"2025/26 Medium Term Revenue & Expenditure Framework"}]
["R thousand",null,{"$f":"Head5","v":"Audited Outcome"},{"$f":"Head5","v":"Audited Outcome"},{"$f":"Head5","v":"Audited Outcome"},{"$f":"Head6","v":"Original Budget"},{"$f":"Head7","v":"Adjusted Budget"},{"$f":"Head8","v":"Full Year Forecast"},{"$f":"Head9","v":"Budget Year 2025/26"},{"$f":"Head10","v":"Budget Year +1 2026/27"},{"$f":"Head11","v":"Budget Year +2 2027/28"}]
[null,1,"A","B","C","D","E","F","G","H","I"]
["Councillors (Political Office Bearers plus Other)"]
["Basic Salaries and Wages",null,12777530,13173685,null,12983083,12983083,12983083,16342944,15015720,15916680]
["Pension and UIF Contributions"]
["Medical Aid Contributions"]
["Motor Vehicle Allowance",null,null,null,null,281092,281092,281092,291912,295152,312864]
["Cellphone Allowance",null,1867270,2068734,null,1474861,1474861,1474861,1639104,1209000,1281456]
["Housing Allowances",null,null,null,null,183605,183605,183605,259608,269808,281832]
["Other benefits and allowances",null,null,null,null,19345,19345,19345,174120]
["Sub Total - Councillors",null,{"$f":"SUM(C6:C12)","v":14644800},{"$f":"SUM(D6:D12)","v":15242419},0,14941986,14941986,14941986,18707688,16789680,17792832]
["% increase",4,null,{"$f":"IF(ISERROR((D13/C13)-1),0,((D13/C13)-1))","v":4.0807590407516692E-2},{"$f":"IF(ISERROR((E13/D13)-1),0,((E13/D13)-1))","v":-1},0,0,0,0.25202151842465925,-0.10252512229196897,5.9748130994753845E-2]
[]
["Senior Managers of the Municipality",2]
["Basic Salaries and Wages",null,9447869,10218105,null,9508164,9508164,9508164,9564360,9740544,9740544]
["Pension and UIF Contributions",null,833619,1025932,null,828360,828360,828360]
["Medical Aid Contributions",null,null,null,null,61994,61994,61994,null,54432,54432]
["Overtime"]
["Performance Bonus"]
["Motor Vehicle Allowance",3,1195861,1400482,null,1209259,1209259,1209259,1322040,1220856,1220856]
["Cellphone Allowance",3,118292,104134,null,20379,20379,20379,13200,21336,21336]
["Housing Allowances",3,438972,1637275,null,1649139,1649139,1649139,1674480,1665120,1665120]
["Other benefits and allowances",3,20140,171121,null,27868,27868,27868,28704,57096,57096]
["Payments in lieu of leave",null,null,224506]
["Long service awards",null,null,null,null,635861,635861,635861,645576,836376,836376]
["Post-retirement benefit obligations",6,null,null,null,null,null,null,15030288,21983136,21983520]
["Entertainment"]
["Scarcity"]
["Acting and post related allowance"]
["In kind benefits"]
["Sub Total - Senior Managers of Municipality",null,{"$f":"SUM(C17:C32)","v":12054753},{"$f":"SUM(D17:D32)","v":14781555},0,{"$f":"SUM(F17:F32)","v":13941024},13941024,13941024,28278648,35578896,35579280]
[{"$f":"$A$14","v":"% increase"},{"$f":"$B$14","v":4},null,{"$f":"IF(ISERROR((D33/C33)-1),0,((D33/C33)-1))","v":0.22620139956413876},{"$f":"IF(ISERROR((E33/D33)-1),0,((E33/D33)-1))","v":-1},0,0,0,1.0284484123978266,0.25815406733730684,1.0792914991064606E-5]
[]
["Other Municipal Staff"]
["Basic Salaries and Wages",null,740832517,834266264,834686909,919049676,898821917,898821917,952751232,995625038,1040428164]
["Pension and UIF Contributions",null,160019109,165852527,168035281,193654657,273709272,273709272,290131828,303187760,316831209]
["Medical Aid Contributions",null,59601206,63734292,65721060,97380050,114989004,114989004,121888344,127373319,133105119]
["Overtime",null,109897994,97740396,110788735,104444507,95136075,95136075,100844240,105382230,110124431]
["Performance Bonus",null,60827252,64175047,67213811,81378534,83369901]
["Motor Vehicle Allowance",3,26856168,28743305,28706315,35360911,34331442,34331442,36391328,38028938,39740240]
["Cellphone Allowance",3,7568260,4243796,-78950,4916887,4867041,4867041,5159063,5391221,5633826]
["Housing Allowances",3,4128372,4325827,4244809,4627854,4708236,4708236,4990730,5215313,5450002]
["Other benefits and allowances",3,59511537,141401173,82853259,37582196,37687020,37687020,39948241,41745912,43624478]
["Payments in lieu of leave",null,18610702,null,19775085]
["Long service awards",null,27903119,13952238,27794892,18381554,17411222,17411222,18455895,19286410,20154299]
["Post-retirement benefit obligations",6,60780815,null,62450000]
["Entertainment"]
["Scarcity",null,null,null,7385411]
["Acting and post related allowance",null,null,null,17961606]
["In kind benefits"]
["Sub Total - Other Municipal Staff",null,{"$f":"SUM(C37:C52)","v":1336537051},{"$f":"SUM(D37:D52)","v":1418434865},1497538223,1496776826,1565031130,1481661229,1570560901,1641236141,1715091768]
[{"$f":"$A$14","v":"% increase"},{"$f":"$B$14","v":4},null,{"$f":"IF(ISERROR((D53/C53)-1),0,((D53/C53)-1))","v":6.1276126942177767E-2},{"$f":"IF(ISERROR((E53/D53)-1),0,((E53/D53)-1))","v":5.5768058126518305E-2},-5.0843243151066364E-4,4.5600855661564133E-2,-5.327044261413505E-2,5.9999998825642553E-2,4.4999999652990175E-2,4.5000000399089357E-2]
[]
["Total Parent Municipality",null,{"$f":"C13+C33+C53","v":1363236604},{"$f":"D13+D33+D53","v":1448458839},1497538223,1525659836,1593914140,1510544239,1617547237,1693604717,1768463880]
[null,null,null,{"$f":"IF(ISERROR((D56/C56)-1),0,((D56/C56)-1))","v":6.251463227288756E-2},{"$f":"IF(ISERROR((E56/D56)-1),0,((E56/D56)-1))","v":3.3883865166568272E-2},1.8778561086517209E-2,4.4737563636039868E-2,-5.2305139221614505E-2,7.0837381148689316E-2,4.7020252800196838E-2,4.4201083197620727E-2]
[]
["Board Members of Entities"]
["Basic Salaries and Wages",null,232305,250633,241166,381420,null,381420,null,404305,424520,445746]
["Pension and UIF Contributions"]
["Medical Aid Contributions"]
["Overtime"]
["Performance Bonus"]
["Motor Vehicle Allowance",3]
["Cellphone Allowance",3]
["Housing Allowances",3]
["Other benefits and allowances",3]
["Board Fees"]
["Payments in lieu of leave"]
["Long service awards"]
["Post-retirement benefit obligations",6]
["Entertainment"]
["Scarcity"]
["Acting and post related allowance"]
["In kind benefits"]
["Sub Total - Board Members of Entities",null,{"$f":"SUM(C60:C76)","v":232305},{"$f":"SUM(D60:D76)","v":250633},241166,381420,0,381420,0,404305,424520]
[{"$f":"$A$14","v":"% increase"},{"$f":"$B$14","v":4},null,{"$f":"IF(ISERROR((D77/C77)-1),0,((D77/C77)-1))","v":7.8896278599255298E-2},{"$f":"IF(ISERROR((E77/D77)-1),0,((E77/D77)-1))","v":-3.7772360383508952E-2},0.58156622409460712,-1,0,-1,0,4.9999381654938668E-2]
[]
["Senior Managers of Entities"]
["Basic Salaries and Wages",null,773185,807029,787099,857644,null,857644,null,909103,954558,1002286]
["Pension and UIF Contributions"]
["Medical Aid Contributions",null,28649,30967,35201,35178,null,35178,null,37287,39151,41109]
["Overtime"]
["Performance Bonus"]
["Motor Vehicle Allowance",3,30000,30000,30000,31620,null,31620,null,33517,35193,36953]
["Cellphone Allowance",3,10000,10800,10800,11383,null,11383,null,12066,12670,13203]
["Housing Allowances",3]
["Other benefits and allowances",3]
["Payments in lieu of leave"]
["Long service awards"]
["Post-retirement benefit obligations",6]
["Entertainment"]
["Scarcity"]
["Acting and post related allowance"]
["In kind benefits"]
["Sub Total - Senior Managers of Entities",null,{"$f":"SUM(C81:C96)","v":841834},{"$f":"SUM(D81:D96)","v":878796},863100,935825,0,935825,0,991973,1041572]
[{"$f":"$A$14","v":"% increase"},{"$f":"$B$14","v":4},null,{"$f":"IF(ISERROR((D97/C97)-1),0,((D97/C97)-1))","v":4.3906518387235582E-2},{"$f":"IF(ISERROR((E97/D97)-1),0,((E97/D97)-1))","v":-1.7860800458809556E-2},8.4260224771173675E-2,-1,0,-1,0,5.0000352832183959E-2]
[]
["Other Staff of Entities"]
["Basic Salaries and Wages",null,8219030,8513277,8484402,9727493,null,9727493,null,10311144,10826702,11368036]
["Pension and UIF Contributions",null,554656,572845,565897,646205,null,646205,null,684977,719225,755187]
["Medical Aid Contributions",null,1036396,1083322,1176634,1149241,null,1149241,null,1218196,1279106,1343062]
["Overtime",null,375761,381185,401013,462771,null,462771,null,490537,515064,540817]
["Performance Bonus"]
["Motor Vehicle Allowance",3,102000,102000,102000,107508,null,107508,null,113958,119656,125639]
["Cellphone Allowance",3,87800,106200,106200,111935,null,111935,null,118651,124583,130813]
["Housing Allowances",3]
["Other benefits and allowances",3]
["Payments in lieu of leave"]
["Long service awards"]
["Post-retirement benefit obligations",6]
["Entertainment"]
["Scarcity"]
["Acting and post related allowance"]
["In kind benefits"]
["Sub Total - Other Staff of Entities",null,{"$f":"SUM(C101:C116)","v":10375643},{"$f":"SUM(D101:D116)","v":10758829},10836146,12205153,0,12205153,0,12937463,13584336]
[{"$f":"$A$14","v":"% increase"},{"$f":"$B$14","v":4},null,{"$f":"IF(ISERROR((D117/C117)-1),0,((D117/C117)-1))","v":3.6931301510662928E-2},{"$f":"IF(ISERROR((E117/D117)-1),0,((E117/D117)-1))","v":7.1863768817219675E-3},0.12633707593087062,-1,0,-1,0,4.9999988405764029E-2]
[]
["Total Municipal Entities",null,{"$f":"C77+C97+C117","v":11449782},{"$f":"D77+D97+D117","v":11888258},11940412,13522398,0,13522398,0,14333741,15050428]
[]
["TOTAL SALARY, ALLOWANCES & BENEFITS",null,{"$f":"C56+C120","v":1374686386},{"$f":"D56+D120","v":1460347097},{"$f":"E56+E120","v":1509478635},1539182234,1593914140,1524066637,1617547237,1707938458,1783514308]
[{"$f":"$A$14","v":"% increase"},{"$f":"$B$14","v":4},null,{"$f":"IF(ISERROR((D122/C122)-1),0,((D122/C122)-1))","v":6.2312911419201367E-2},{"$f":"IF(ISERROR((E122/D122)-1),0,((E122/D122)-1))","v":3.3643739971771947E-2},1.9678051952023878E-2,3.5559081173750062E-2,-4.3821371080878913E-2,6.1336294444453543E-2,5.5881657692819608E-2,4.4249750127706378E-2]
["TOTAL MANAGERS AND STAFF","5,7",{"$f":"C33+C53+C97+C117","v":1359809281},{"$f":"D33+D53+D97+D117","v":1444854045},1509237469,1523858828,1578972154,1508743231,1598839549,1690744473,1765296956]
[{"$f":"head27a","v":"References"}]
["1. Include 'Loans and advances' where applicable if any reportable amounts until phased compliance with s164 of MFMA achieved"]
["2. s57 of the Systems Act"]
["3. In kind benefits (e.g. provision of living quarters) must be shown as the cost (full market value) to the municipality, as part of the relevant allowance"]
["4. B/A, C/B, D/C, E/C, F/C, G/D, H/D, I/D"]
["5. Must agree to the sub-total appearing on Table A1 (Employee costs)"]
["6. Includes pension payments and employer contributions to medical aid"]
["7. Correct as at 30 June"]
[]
["Column Definitions:"]
["A, B and C. Audited actual as per the audited financial statements. If audited amounts are unavailable, unaudited amounts must be provided with a note stating these are unaudited"]
["D. The original budget approved by council for the budget year."]
["E. The budget for the budget year as adjusted by council resolution in terms of section 28 of the MFMA."]
["F. An estimate of final actual amounts (pre audit) for the current year at the point in time of preparing the budget for the budget year. This may differ from E."]
["G. The amount to be appropriated for the budget year."]
["H and I. The indicative projection"]

{"sheet":"SA23","index":45,"n_rows":70,"n_cols":9,"rows_kept":70,"cut":false,"hidden":false,"merged":[[1,2,2,2],[1,5,2,5],[1,3,2,3],[1,6,2,6]]}
[{"$f":"muni&\" - \"&TableA23","v":"Choose name from list - Supporting Table SA23 Salaries, allowances & benefits (political office bearers/councillors/senior managers)"}]
["Disclosure of Salaries, Allowances & Benefits 1.",{"$f":"head27","v":"Ref"},"No.","Salary","\nContributions\n","Allowances","Performance  Bonuses","In-kind benefits","Total Package"]
["Rand per annum",null,null,null,"1.",null,null,null,"2."]
["Councillors",3]
["Speaker",4,null,51889,167604,1038748,null,null,{"$f":"SUM(D5:F5)","v":1258241}]
["Chief Whip",null,null,30853,22710,966705,null,null,{"$f":"SUM(D6:F6)","v":1020268}]
["Executive Mayor",null,null,51889,1047308,181169,null,null,1280366]
["Deputy Executive Mayor",null,null,1230684,45216,null,null,null,1275900]
["Executive Committee",null,null,246824,null,null,null,null,246824]
["Total for all other councillors",null,null,2005448,10013070,45599817,null,null,57618335]
[{"$f":"\"Total \"&A4","v":"Total Councillors"},8,{"$f":"SUM(C5:C10)","v":0},{"$f":"SUM(D5:D10)","v":3617587},11295908,47786439,null,null,62699934]
[]
["Senior Managers of the Municipality",5]
["Municipal Manager (MM)",null,null,null,null,null,null,null,{"$f":"SUM(D14:H14)","v":0}]
["Chief Finance Officer",null,null,null,null,null,null,null,{"$f":"SUM(D15:H15)","v":0}]
[null,null,null,null,null,null,null,null,0]
[null,null,null,null,null,null,null,null,0]
[null,null,null,null,null,null,null,null,0]
[null,null,null,null,null,null,null,null,0]
[]
["List of each offical with packages >= senior manager"]
[null,null,null,null,null,null,null,null,{"$f":"SUM(D22:H22)","v":0}]
[null,null,null,null,null,null,null,null,{"$f":"SUM(D23:H23)","v":0}]
[null,null,null,null,null,null,null,null,0]
[null,null,null,null,null,null,null,null,0]
[null,null,null,null,null,null,null,null,0]
[null,null,null,null,null,null,null,null,0]
[null,null,null,null,null,null,null,null,0]
[null,null,null,null,null,null,null,null,0]
[null,null,null,null,null,null,null,null,0]
[null,null,null,null,null,null,null,null,0]
[null,null,null,null,null,null,null,null,0]
[null,null,null,null,null,null,null,null,{"$f":"SUM(D33:H33)","v":0}]
[null,null,null,null,null,null,null,null,{"$f":"SUM(D34:H34)","v":0}]
[{"$f":"\"Total \"&A13","v":"Total Senior Managers of the Municipality"},"8,10",{"$f":"SUM(C14:C34)","v":0},{"$f":"SUM(D14:D34)","v":0},{"$f":"SUM(E14:E34)","v":0},{"$f":"SUM(F14:F34)","v":0},{"$f":"SUM(G14:G34)","v":0},null,{"$f":"SUM(I14:I34)","v":0}]
[]
["A Heading for Each Entity","6,7"]
["List each member of board by designation"]
[null,null,null,null,null,null,null,null,{"$f":"SUM(D39:G39)","v":0}]
[null,null,null,null,null,null,null,null,{"$f":"SUM(D40:G40)","v":0}]
[null,null,null,null,null,null,null,null,0]
[null,null,null,null,null,null,null,null,0]
[null,null,null,null,null,null,null,null,0]
[null,null,null,null,null,null,null,null,0]
[null,null,null,null,null,null,null,null,0]
[null,null,null,null,null,null,null,null,0]
[null,null,null,null,null,null,null,null,0]
[null,null,null,null,null,null,null,null,0]
[null,null,null,null,null,null,null,null,0]
[null,null,null,null,null,null,null,null,0]
[null,null,null,null,null,null,null,null,0]
[null,null,null,null,null,null,null,null,0]
[null,null,null,null,null,null,null,null,0]
[null,null,null,null,null,null,null,null,0]
["Total for municipal entities","8,10",{"$f":"SUM(C39:C54)","v":0},{"$f":"SUM(D39:D54)","v":0},{"$f":"SUM(E39:E54)","v":0},{"$f":"SUM(F39:F54)","v":0},{"$f":"SUM(G39:G54)","v":0},null,{"$f":"SUM(I39:I54)","v":0}]
[]
["TOTAL COST OF COUNCILLOR, DIRECTOR and EXECUTIVE REMUNERATION",10,{"$f":"C11+C35+C55","v":0},{"$f":"D11+D35+D55","v":3617587},11295908,47786439,0,null,62699934]
[]
[{"$f":"head27a","v":"References"}]
["1. Pension and medical aid"]
["2. Total package must equal the total cost to the municipality"]
["3. List each political office bearer by designation. Provide a total for all other councillors"]
["4. Political office bearer is defined in MFMA s 1: speaker, executive mayor, deputy executive mayor, member of executive committee,"]
["    mayor, deputy mayor, member of mayoral committee, the councillor designated to exercise powers and duties of mayor (MSA s 57)"]
["5. Also list each senior manager reporting to MM by designation and each official with package >= senior manager by designation"]
["6. List each entity where municipality has an interest and state percentage ownership and control"]
["7. List each senior manager reporting to the CEO of an Entity by designation"]
["8. Must reconcile to relevant section of Table SA24"]
["9. Must reconcile to totals shown for the budget year of Table SA22"]
["10. Correct as at 30 June"]

{"sheet":"SA24","index":46,"n_rows":53,"n_cols":11,"rows_kept":53,"cut":false,"hidden":false,"merged":[[1,5,1,7],[1,8,1,10],[1,2,1,4]]}
[{"$f":"muni&\" - \"&TableA24","v":"Choose name from list - Supporting Table SA24 Summary of personnel numbers"}]
["Summary of Personnel Numbers",{"$f":"head27","v":"Ref"},{"$f":"Head1","v":"2023/24"},null,null,{"$f":"Head2","v":"Current Year 2024/25"},null,null,{"$f":"Head9","v":"Budget Year 2025/26"}]
["Number","1,2","Positions","Permanent employees","Contract employees","Positions","Permanent employees","Contract employees","Positions","Permanent employees","Contract employees"]
["Municipal Council and Boards of Municipal Entities"]
["Councillors (Political Office Bearers plus Other Councillors)",null,81,null,81,81,null,81,81,81,81]
["Board Members of municipal entities",4]
["Municipal employees",5]
["Municipal Manager and Senior Managers",3,6,2,4,6,2,4,6,2,4]
["Other Managers",7,25,23,1,25,23,1,25,23,1]
["Professionals",null,{"$f":"SUM(C11:C19)","v":411},{"$f":"SUM(D11:D19)","v":208},1,411,208,1,1335,1214,123]
["Finance",null,31,16,1,31,16,1,277,228,50]
["Spatial/town planning",null,11,9,null,11,9,null,21,20,1]
["Information Technology",null,4,3,null,4,3,null,29,17,12]
["Roads",null,107,41,null,107,41,null,278,274,4]
["Electricity",null,26,6,null,26,6,null,134,114,21]
["Water",null,77,23,null,77,23,null,2,1,1]
["Sanitation",null,1,2,null,1,2,null,295,265,30]
["Refuse",null,4,3,null,4,3,null,299,295,4]
["Other",null,150,105,null,150,105]
["Technicians",null,{"$f":"SUM(C21:C29)","v":1377},{"$f":"SUM(D21:D29)","v":820},17,1377,820,17,961,810,152]
["Finance",null,131,80,6,131,80,6,205,172,33]
["Spatial/town planning",null,45,21,null,45,21,null,284,249,35]
["Information Technology",null,21,15,null,21,15,null,148,134,14]
["Roads",null,23,21,null,23,21,null,89,63,26]
["Electricity",null,218,73,null,218,73,null,134,114,21]
["Water",null,58,37,null,58,37,null,1,1]
["Sanitation",null,32,5,null,32,5,null,50,30,20]
["Refuse",null,19,9,null,19,9,null,50,47,3]
["Other",null,830,559,11,830,559,11]
["Clerks (Clerical and administrative)",null,554,441,87,554,441,87,135,100,35]
["Service and sales workers",null,383,149,null,383,149,null,72,37,30]
["Skilled agricultural and fishery workers",null,23,19,null,23,19,null,62,20,52]
["Craft and related trades",null,167,63,null,167,63,null,72,37,30]
["Plant and Machine Operators",null,365,121,null,365,121,null,330,306,24]
["Elementary Occupations",null,2571,1276,null,2571,1276,null,1000,983,17]
["TOTAL PERSONNEL NUMBERS",9,{"$f":"SUM(C5:C9)+SUM(C11:C19)+SUM(C21:C35)","v":5963},{"$f":"SUM(D5:D9)+SUM(D11:D19)+SUM(D21:D35)","v":3122},191,5963,3122,{"$f":"SUM(H5:H9)+SUM(H11:H19)+SUM(H21:H35)","v":191},4079,3613,549]
["% increase",null,null,null,null,{"$f":"IF(ISERROR((F36/C36)-1),0,((F36/C36)-1))","v":0},0,0,-0.31594834814690587,0.15727098014093532,1.8743455497382198]
[]
["Total municipal employees headcount","6, 10"]
["Finance personnel headcount","8, 10",673,425,24,673,425,24,513,423,90]
["Human Resources personnel headcount","8, 10",150,78,2,150,78,2,89,80,9]
[]
[{"$f":"head27a","v":"References"}]
["1. Positions must be funded and aligned to the municipality's current organisational structure"]
["2. Full Time Equivalent (FTE). E.g. One full time person = 1FTE. A person working half time (say 4 hours out of 8) = 0.5FTE."]
["3. s57 of the Systems Act"]
["4. Include only in Consolidated Statements"]
["5. Include municipal entity employees in Consolidated Statements"]
["6.  Include headcount (number fo persons, Not FTE) of managers and staff only (exclude councillors)"]
["7. Managers who provide the direction of a critical technical function"]
["8. Total number of employees working on these functions"]
["9. Correct as at 30 June"]
["10. Must account for all budgeted positions, as per the municipal organogram"]

{"sheet":"SA25","index":47,"n_rows":63,"n_cols":17,"rows_kept":63,"cut":false,"hidden":false,"merged":[[1,2,1,13],[1,14,1,16]]}
[{"$f":"muni&\" - \"& TableA25","v":"Choose name from list - Supporting Table SA25 Budgeted monthly revenue and expenditure"}]
[{"$f":"desc","v":"Description"},{"$f":"head27","v":"Ref"},{"$f":"Head9","v":"Budget Year 2025/26"},null,null,null,null,null,null,null,null,null,null,null,"Medium Term Revenue and Expenditure Framework"]
["R thousand",null,"July","August","Sept.","October","November","December","January","February","March","April","May","June",{"$f":"Head9","v":"Budget Year 2025/26"},{"$f":"Head10","v":"Budget Year +1 2026/27"},{"$f":"Head11","v":"Budget Year +2 2027/28"}]
["Revenue"," "]
["Exchange Revenue"," "]
["Service charges - Electricity",null,391879607.83333331,391879607.83333331,391879607.83333331,391879607.83333331,391879607.83333331,391879607.83333331,391879607.83333331,391879607.83333331,391879607.83333331,391879607.83333331,391879607.83333331,{"$f":"O6-SUM(C6:M6)","v":391879606.29571056},{"$f":"'A4-FinPerf RE'!J6","v":4702555292.4623775},{"$f":"'A4-FinPerf RE'!K6","v":4932980501.8570347},{"$f":"'A4-FinPerf RE'!L6","v":5174696546.5590277}]
["Service charges - Water",null,96768674.5,96768674.5,96768674.5,96768674.5,96768674.5,96768674.5,96768674.5,96768674.5,96768674.5,96768674.5,96768674.5,{"$f":"O7-SUM(C7:M7)","v":96768674.5},{"$f":"'A4-FinPerf RE'!J7","v":1161224094},{"$f":"'A4-FinPerf RE'!K7","v":1218124075},{"$f":"'A4-FinPerf RE'!L7","v":1277812155}]
["Service charges - Waste Water Management",null,20876893,20876893,20876893,20876893,20876893,20876893,20876893,20876893,20876893,20876893,20876893,20876893,{"$f":"'A4-FinPerf RE'!J8","v":250522716},{"$f":"'A4-FinPerf RE'!K8","v":262798330},{"$f":"'A4-FinPerf RE'!L8","v":275675448}]
["Service charges - Waste Management",null,13855677.583333334,13855677.583333334,13855677.583333334,13855677.583333334,13855677.583333334,13855677.583333334,13855677.583333334,13855677.583333334,13855677.583333334,13855677.583333334,13855677.583333334,13855677.583333343,{"$f":"'A4-FinPerf RE'!J9","v":166268131},{"$f":"'A4-FinPerf RE'!K9","v":174415270},{"$f":"'A4-FinPerf RE'!L9","v":182961618}]
["Sale of Goods and Rendering of Services",null,1950262.4166666667,1950262.4166666667,1950262.4166666667,1950262.4166666667,1950262.4166666667,1950262.4166666667,1950262.4166666667,1950262.4166666667,1950262.4166666667,1950262.4166666667,1950262.4166666667,1950262.4166666642,{"$f":"'A4-FinPerf RE'!J10","v":23403149},{"$f":"'A4-FinPerf RE'!K10","v":24549906},{"$f":"'A4-FinPerf RE'!L10","v":25752852}]
["Agency services"," ",458965.25,458965.25,458965.25,458965.25,458965.25,458965.25,458965.25,458965.25,458965.25,458965.25,458965.25,458965.25,{"$f":"'A4-FinPerf RE'!J11","v":5507583},{"$f":"'A4-FinPerf RE'!K11","v":5777455},{"$f":"'A4-FinPerf RE'!L11","v":6060550}]
["Interest"," ",0,0,0,0,0,0,0,0,0,0,0,0,{"$f":"'A4-FinPerf RE'!J12","v":0},{"$f":"'A4-FinPerf RE'!K12","v":0},{"$f":"'A4-FinPerf RE'!L12","v":0}]
["Interest earned from Receivables"," ",21338065.583333332,21338065.583333332,21338065.583333332,21338065.583333332,21338065.583333332,21338065.583333332,21338065.583333332,21338065.583333332,21338065.583333332,21338065.583333332,21338065.583333332,21338065.583333313,{"$f":"'A4-FinPerf RE'!J13","v":256056787},{"$f":"'A4-FinPerf RE'!K13","v":268603569},{"$f":"'A4-FinPerf RE'!L13","v":281765143}]
["Interest earned from Current and Non Current Assets"," ",1666352.3333333333,1666352.3333333333,1666352.3333333333,1666352.3333333333,1666352.3333333333,1666352.3333333333,1666352.3333333333,1666352.3333333333,1666352.3333333333,1666352.3333333333,1666352.3333333333,1666352.3333333321,{"$f":"'A4-FinPerf RE'!J14","v":19996228},{"$f":"'A4-FinPerf RE'!K14","v":20976044},{"$f":"'A4-FinPerf RE'!L14","v":22003870}]
["Dividends"," ",0,0,0,0,0,0,0,0,0,0,0,0,{"$f":"'A4-FinPerf RE'!J15","v":0},{"$f":"'A4-FinPerf RE'!K15","v":0},{"$f":"'A4-FinPerf RE'!L15","v":0}]
["Rent on Land"," ",0,0,0,0,0,0,0,0,0,0,0,0,{"$f":"'A4-FinPerf RE'!J16","v":0},{"$f":"'A4-FinPerf RE'!K16","v":0},{"$f":"'A4-FinPerf RE'!L16","v":0}]
["Rental from Fixed Assets"," ",3722645,3722645,3722645,3722645,3722645,3722645,3722645,3722645,3722645,3722645,3722645,3722645,{"$f":"'A4-FinPerf RE'!J17","v":44671740},{"$f":"'A4-FinPerf RE'!K17","v":46860648},{"$f":"'A4-FinPerf RE'!L17","v":49156823}]
["Licence and permits"," ",258054.75,258054.75,258054.75,258054.75,258054.75,258054.75,258054.75,258054.75,258054.75,258054.75,258054.75,258054.75,{"$f":"'A4-FinPerf RE'!J18","v":3096657},{"$f":"'A4-FinPerf RE'!K18","v":3248392},{"$f":"'A4-FinPerf RE'!L18","v":3407563}]
["Special rating levies",null,0,0,0,0,0,0,0,0,0,0,0]
["Operational Revenue"," ",8509307.75,8509307.75,8509307.75,8509307.75,8509307.75,8509307.75,8509307.75,8509307.75,8509307.75,8509307.75,8509307.75,8509307.75,{"$f":"'A4-FinPerf RE'!J20","v":102111693},{"$f":"'A4-FinPerf RE'!K20","v":107115164},{"$f":"'A4-FinPerf RE'!L20","v":112363810}]
["Non-Exchange Revenue"," "]
["Property rates",null,143472053.41666666,143472053.41666666,143472053.41666666,143472053.41666666,143472053.41666666,143472053.41666666,143472053.41666666,143472053.41666666,143472053.41666666,143472053.41666666,143472053.41666666,{"$f":"O22-SUM(C22:M22)","v":143472053.41666651},{"$f":"'A4-FinPerf RE'!J22","v":1721664641},{"$f":"'A4-FinPerf RE'!K22","v":1799139551},{"$f":"'A4-FinPerf RE'!L22","v":1844118038}]
["Surcharges and Taxes"," ",0,0,0,0,0,0,0,0,0,0,0,0,{"$f":"'A4-FinPerf RE'!J23","v":0},{"$f":"'A4-FinPerf RE'!K23","v":0},{"$f":"'A4-FinPerf RE'!L23","v":0}]
["Fines, penalties and forfeits"," ",1017767.25,1017767.25,1017767.25,1017767.25,1017767.25,1017767.25,1017767.25,1017767.25,1017767.25,1017767.25,1017767.25,1017767.25,{"$f":"'A4-FinPerf RE'!J24","v":12213207},{"$f":"'A4-FinPerf RE'!K24","v":12811652},{"$f":"'A4-FinPerf RE'!L24","v":13439425}]
["Licences or permits"," ",0,0,0,0,0,0,0,0,0,0,0,0,{"$f":"'A4-FinPerf RE'!J25","v":0},{"$f":"'A4-FinPerf RE'!K25","v":0},{"$f":"'A4-FinPerf RE'!L25","v":0}]
["Transfer and subsidies - Operational"," ",82766432.916666672,82766432.916666672,82766432.916666672,82766432.916666672,82766432.916666672,82766432.916666672,82766432.916666672,82766432.916666672,82766432.916666672,82766432.916666672,82766432.916666672,82766432.916666746,{"$f":"'A4-FinPerf RE'!J26","v":993197195},{"$f":"'A4-FinPerf RE'!K26","v":1066100549},{"$f":"'A4-FinPerf RE'!L26","v":1113039830}]
["Interest"," ",5509513,5509513,5509513,5509513,5509513,5509513,5509513,5509513,5509513,5509513,5509513,5509513,{"$f":"'A4-FinPerf RE'!J27","v":66114156},{"$f":"'A4-FinPerf RE'!K27","v":69353750},{"$f":"'A4-FinPerf RE'!L27","v":72752083}]
["Fuel Levy"," ",0,0,0,0,0,0,0,0,0,0,0,0,{"$f":"'A4-FinPerf RE'!J28","v":0},{"$f":"'A4-FinPerf RE'!K28","v":0},{"$f":"'A4-FinPerf RE'!L28","v":0}]
["Operational Revenue"," ",0,0,0,0,0,0,0,0,0,0,0,0,{"$f":"'A4-FinPerf RE'!J29","v":0},{"$f":"'A4-FinPerf RE'!K29","v":0},{"$f":"'A4-FinPerf RE'!L29","v":0}]
["Gains on disposal of Assets"," ",356397.08333333331,356397.08333333331,356397.08333333331,356397.08333333331,356397.08333333331,356397.08333333331,356397.08333333331,356397.08333333331,356397.08333333331,356397.08333333331,356397.08333333331,356397.08333333256,{"$f":"'A4-FinPerf RE'!J30","v":4276765},{"$f":"'A4-FinPerf RE'!K30","v":4486327},{"$f":"'A4-FinPerf RE'!L30","v":4706157}]
["Other Gains"," ",null,null,null,null,null,null,null,null,null,null,null,0,{"$f":"'A4-FinPerf RE'!J31","v":0},{"$f":"'A4-FinPerf RE'!K31","v":0},{"$f":"'A4-FinPerf RE'!L31","v":0}]
["Discontinued Operations"," ",null,null,null,null,null,null,null,null,null,null,null,0,{"$f":"'A4-FinPerf RE'!J32","v":0},{"$f":"'A4-FinPerf RE'!K32","v":0},{"$f":"'A4-FinPerf RE'!L32","v":0}]
["Total Revenue (excluding capital transfers and contributions)"," ",{"$f":"SUM(C6:C20)+SUM(C22:C32)","v":794406669.66666663},{"$f":"SUM(D6:D20)+SUM(D22:D32)","v":794406669.66666663},794406669.66666663,794406669.66666663,794406669.66666663,794406669.66666663,794406669.66666663,794406669.66666663,794406669.66666663,794406669.66666663,794406669.66666663,{"$f":"SUM(N6:N20)+SUM(N22:N32)","v":794406668.12904394},{"$f":"SUM(O6:O20)+SUM(O22:O32)","v":9532880034.4623775},{"$f":"SUM(P6:P20)+SUM(P22:P32)","v":10017341183.857035},{"$f":"SUM(Q6:Q20)+SUM(Q22:Q32)","v":10459711911.559029}]
["Expenditure"]
["Employee related costs",null,160203251.83333334,160203251.83333334,160203251.83333334,160203251.83333334,160203251.83333334,160203251.83333334,160203251.83333334,160203251.83333334,160203251.83333334,160203251.83333334,160203251.83333334,{"$f":"O35-SUM(C35:M35)","v":174536992.83333349},{"$f":"'A4-FinPerf RE'!J35","v":1936772763},{"$f":"'A4-FinPerf RE'!K35","v":2074266277},{"$f":"'A4-FinPerf RE'!L35","v":2220504452}]
["Remuneration of councillors",null,5870804,5870804,5870804,5870804,5870804,5870804,5870804,5870804,5870804,5870804,5870804,5870804,{"$f":"'A4-FinPerf RE'!J36","v":70449648},{"$f":"'A4-FinPerf RE'!K36","v":73901678},{"$f":"'A4-FinPerf RE'!L36","v":77522858}]
["Bulk purchases - electricity",null,293544430.66666669,293544430.66666669,293544430.66666669,293544430.66666669,293544430.66666669,293544430.66666669,293544430.66666669,293544430.66666669,293544430.66666669,293544430.66666669,293544430.66666669,293544430.66666698,{"$f":"'A4-FinPerf RE'!J37","v":3522533168},{"$f":"'A4-FinPerf RE'!K37","v":3695137293},{"$f":"'A4-FinPerf RE'!L37","v":3876199021}]
["Inventory consumed",null,84467186.916666672,84467186.916666672,84467186.916666672,84467186.916666672,84467186.916666672,84467186.916666672,84467186.916666672,84467186.916666672,84467186.916666672,84467186.916666672,84467186.916666672,84467186.916666746,{"$f":"'A4-FinPerf RE'!J38","v":1013606243},{"$f":"'A4-FinPerf RE'!K38","v":1068601379},{"$f":"'A4-FinPerf RE'!L38","v":1123752159}]
["Debt impairment",null,35000000,35000000,35000000,35000000,35000000,35000000,35000000,35000000,35000000,35000000,35000000,35000000,{"$f":"'A4-FinPerf RE'!J39","v":420000000},{"$f":"'A4-FinPerf RE'!K39","v":438900000},{"$f":"'A4-FinPerf RE'!L39","v":458650500}]
["Depreciation and amortisation",null,32521695.833333332,32521695.833333332,32521695.833333332,32521695.833333332,32521695.833333332,32521695.833333332,32521695.833333332,32521695.833333332,32521695.833333332,32521695.833333332,32521695.833333332,33383692.833333373,{"$f":"'A4-FinPerf RE'!J40","v":391122347},{"$f":"'A4-FinPerf RE'!K40","v":387623527},{"$f":"'A4-FinPerf RE'!L40","v":283437179}]
["Interest"," ",4681666.666666667,4681666.666666667,4681666.666666667,4681666.666666667,4681666.666666667,4681666.666666667,4681666.666666667,4681666.666666667,4681666.666666667,4681666.666666667,4681666.666666667,4681666.6666666716,{"$f":"'A4-FinPerf RE'!J41","v":56180000},{"$f":"'A4-FinPerf RE'!K41","v":58708099.999999993},{"$f":"'A4-FinPerf RE'!L41","v":62230585.999999993}]
["Contracted services"," ",71319195,71319195,71319195,71319195,71319195,71319195,71319195,71319195,71319195,71319195,71319195,72675694,{"$f":"'A4-FinPerf RE'!J42","v":857186839},{"$f":"'A4-FinPerf RE'!K42","v":972240531},{"$f":"'A4-FinPerf RE'!L42","v":1043106862}]
["Transfers and subsidies"," ",6038078.083333333,6038078.083333333,6038078.083333333,6038078.083333333,6038078.083333333,6038078.083333333,6038078.083333333,6038078.083333333,6038078.083333333,6038078.083333333,6038078.083333333,-12353588.916666679,{"$f":"'A4-FinPerf RE'!J43","v":54065270},{"$f":"'A4-FinPerf RE'!K43","v":56768065},{"$f":"'A4-FinPerf RE'!L43","v":59573673}]
["Irrecoverable debts written off"," ",0,0,0,0,0,0,0,0,0,0,0,0,{"$f":"'A4-FinPerf RE'!J44","v":0},{"$f":"'A4-FinPerf RE'!K44","v":0},{"$f":"'A4-FinPerf RE'!L44","v":0}]
["Operational costs"," ",19836735.666666668,19836735.666666668,19836735.666666668,19836735.666666668,19836735.666666668,19836735.666666668,19836735.666666668,19836735.666666668,19836735.666666668,19836735.666666668,19836735.666666668,21556165.666666687,{"$f":"'A4-FinPerf RE'!J45","v":239760258},{"$f":"'A4-FinPerf RE'!K45","v":244303719},{"$f":"'A4-FinPerf RE'!L45","v":278593849}]
["Losses on disposal of Assets"," ",null,null,null,null,null,null,null,null,null,null,null,120000,{"$f":"'A4-FinPerf RE'!J46","v":120000},{"$f":"'A4-FinPerf RE'!K46","v":105950},{"$f":"'A4-FinPerf RE'!L46","v":110589}]
["Other Losses"," ",null,null,null,null,null,null,null,null,null,null,null,0,{"$f":"'A4-FinPerf RE'!J47","v":0},{"$f":"'A4-FinPerf RE'!K47","v":0},{"$f":"'A4-FinPerf RE'!L47","v":0}]
["Total Expenditure"," ",{"$f":"SUM(C35:C47)","v":713483044.66666663},{"$f":"SUM(D35:D47)","v":713483044.66666663},713483044.66666663,713483044.66666663,713483044.66666663,713483044.66666663,713483044.66666663,713483044.66666663,713483044.66666663,713483044.66666663,713483044.66666663,713483044.66666722,{"$f":"SUM(O35:O47)","v":8561796536},9070556519,9483681728]
["Surplus/(Deficit)",null,{"$f":"+C33-C48","v":80923625},{"$f":"+D33-D48","v":80923625},80923625,80923625,80923625,80923625,80923625,80923625,80923625,80923625,80923625,80923623.462376714,{"$f":"+O33-O48","v":971083498.46237755},946784664.85703468,976030183.55902863]
["Transfers and subsidies - capital (monetary allocations)",null,31343876.666666668,31343876.666666668,31343876.666666668,31343876.666666668,31343876.666666668,31343876.666666668,31343876.666666668,31343876.666666668,31343876.666666668,31343876.666666668,31343876.666666668,{"$f":"O50-SUM(C50:M50)","v":31343876.666666627},{"$f":"'A4-FinPerf RE'!J50","v":376126520},{"$f":"'A4-FinPerf RE'!K50","v":429887271},{"$f":"'A4-FinPerf RE'!L50","v":457346507}]
["Transfers and subsidies - capital (in-kind)",null,null,null,null,null,null,null,null,null,null,null,null,0,{"$f":"'A4-FinPerf RE'!J51","v":0},{"$f":"'A4-FinPerf RE'!K51","v":0},{"$f":"'A4-FinPerf RE'!L51","v":0}]
["Surplus/(Deficit) after capital transfers & contributions",null,{"$f":"SUM(C49:C51)","v":112267501.66666667},{"$f":"SUM(D49:D51)","v":112267501.66666667},112267501.66666667,112267501.66666667,112267501.66666667,112267501.66666667,112267501.66666667,112267501.66666667,112267501.66666667,112267501.66666667,112267501.66666667,112267500.12904334,{"$f":"SUM(O49:O51)","v":1347210018.4623775},1376671935.8570347,1433376690.5590286]
["Income Tax",null,null,null,null,null,null,null,null,null,null,null,null,{"$f":"O53-SUM(C53:M53)","v":0},{"$f":"'A4-FinPerf RE'!J53","v":0},{"$f":"'A4-FinPerf RE'!K53","v":0},{"$f":"'A4-FinPerf RE'!L53","v":0}]
["Surplus/(Deficit) after income tax",null,{"$f":"+C52-C53","v":112267501.66666667},{"$f":"+D52-D53","v":112267501.66666667},112267501.66666667,112267501.66666667,112267501.66666667,112267501.66666667,112267501.66666667,112267501.66666667,112267501.66666667,112267501.66666667,112267501.66666667,{"$f":"O54-SUM(C54:M54)","v":112267500.12904429},{"$f":"+O52-O53","v":1347210018.4623775},1376671935.8570347,1433376690.5590286]
["Share of Surplus/Deficit attributable to Joint Venture",null,null,null,null,null,null,null,null,null,null,null,null,0,{"$f":"'A4-FinPerf RE'!J55","v":0},{"$f":"'A4-FinPerf RE'!K55","v":0},{"$f":"'A4-FinPerf RE'!L55","v":0}]
["Share of Surplus/Deficit attributable to Minorities",null,null,null,null,null,null,null,null,null,null,null,null,0,{"$f":"'A4-FinPerf RE'!J56","v":0},{"$f":"'A4-FinPerf RE'!K56","v":0},{"$f":"'A4-FinPerf RE'!L56","v":0}]
["Surplus/(Deficit) attributable to municipality",null,{"$f":"SUM(C54:C56)","v":112267501.66666667},{"$f":"SUM(D54:D56)","v":112267501.66666667},112267501.66666667,112267501.66666667,112267501.66666667,112267501.66666667,112267501.66666667,112267501.66666667,112267501.66666667,112267501.66666667,112267501.66666667,112267500.12904429,{"$f":"SUM(O54:O56)","v":1347210018.4623775},1376671935.8570347,1433376690.5590286]
["Share of Surplus/Deficit attributable to Associate",null,null,null,null,null,null,null,null,null,null,null,null,{"$f":"O58-SUM(C58:M58)","v":0},{"$f":"'A4-FinPerf RE'!J58","v":0},{"$f":"'A4-FinPerf RE'!K58","v":0},{"$f":"'A4-FinPerf RE'!L58","v":0}]
["Intercompany/Parent subsidiary transactions",null,null,null,null,null,null,null,null,null,null,null,null,0,{"$f":"'A4-FinPerf RE'!J59","v":0},{"$f":"'A4-FinPerf RE'!K59","v":0},{"$f":"'A4-FinPerf RE'!L59","v":0}]
[{"$f":"result","v":"Surplus/(Deficit) for the year"},1,{"$f":"SUM(C57:C59)","v":112267501.66666667},{"$f":"SUM(D57:D59)","v":112267501.66666667},112267501.66666667,112267501.66666667,112267501.66666667,112267501.66666667,112267501.66666667,112267501.66666667,112267501.66666667,112267501.66666667,112267501.66666667,112267500.12904429,{"$f":"SUM(O57:O59)","v":1347210018.4623775},1376671935.8570347,1433376690.5590286]
[{"$f":"head27a","v":"References"}]
["1. Surplus (Deficit) must reconcile with Budgeted Financial Performance"]
[null,null,null,null,null,null,null,null,null,null,null,null,null,null,{"$f":"O60-'A4-FinPerf RE'!J60","v":0},{"$f":"P60-'A4-FinPerf RE'!K60","v":0},{"$f":"Q60-'A4-FinPerf RE'!L60","v":0}]

{"sheet":"SA26","index":48,"n_rows":48,"n_cols":17,"rows_kept":48,"cut":false,"hidden":false,"merged":[[1,2,1,13],[1,14,1,16]]}
[{"$f":"muni&\" - \"&TableA26","v":"Choose name from list - Supporting Table SA26 Budgeted monthly revenue and expenditure (municipal vote)"}]
[{"$f":"desc","v":"Description"},{"$f":"head27","v":"Ref"},{"$f":"Head9","v":"Budget Year 2025/26"},null,null,null,null,null,null,null,null,null,null,null,"Medium Term Revenue and Expenditure Framework"]
["R thousand",null,"July","August","Sept.","October","November","December","January","February","March","April","May","June",{"$f":"Head9","v":"Budget Year 2025/26"},{"$f":"Head10","v":"Budget Year +1 2026/27"},{"$f":"Head11","v":"Budget Year +2 2027/28"}]
[{"$f":"'A3-FinPerf V'!A4","v":"Revenue by Vote"}]
[{"$f":"'A3-FinPerf V'!A5","v":"Vote 1 - City Manager"},null,null,null,null,null,null,null,null,null,null,null,null,{"$f":"O5-SUM(C5:M5)","v":0},{"$f":"'A3-FinPerf V'!I5","v":0},{"$f":"'A3-FinPerf V'!J5","v":0},{"$f":"'A3-FinPerf V'!K5","v":0}]
[{"$f":"'A3-FinPerf V'!A6","v":"Vote 2 - City Finance"},null,232420816.34109911,232420816.34109911,232420816.34109911,232420816.34109911,232420816.34109911,232420816.34109911,232420816.34109911,232420816.34109911,232420816.34109911,232420816.34109911,232420816.34109911,232420816.34109926,{"$f":"'A3-FinPerf V'!I6","v":2789049796.0931892},{"$f":"'A3-FinPerf V'!J6","v":2925325208.4140849},{"$f":"'A3-FinPerf V'!K6","v":3021943447.3469601}]
[{"$f":"'A3-FinPerf V'!A7","v":"Vote 3 - Corporate Services"},null,158852.421,158852.421,158852.421,158852.421,158852.421,158852.421,158852.421,158852.421,158852.421,158852.421,158852.421,158852.42099999962,{"$f":"'A3-FinPerf V'!I7","v":1906229.0519999999},{"$f":"'A3-FinPerf V'!J7","v":1999634.2755479999},{"$f":"'A3-FinPerf V'!K7","v":2097616.3550498518}]
[{"$f":"'A3-FinPerf V'!A8","v":"Vote 4 - Community Services and Social Equity"},null,22111962.407797169,22111962.407797169,22111962.407797169,22111962.407797169,22111962.407797169,22111962.407797169,22111962.407797169,22111962.407797169,22111962.407797169,22111962.407797169,22111962.407797169,22111962.407797188,{"$f":"'A3-FinPerf V'!I8","v":265343548.89356601},{"$f":"'A3-FinPerf V'!J8","v":289822722.70935071},{"$f":"'A3-FinPerf V'!K8","v":271591823.07730895}]
[{"$f":"'A3-FinPerf V'!A9","v":"Vote 5 - Infrastructure Services"},null,167252934.07245183,167252934.07245183,167252934.07245183,167252934.07245183,167252934.07245183,167252934.07245183,167252934.07245183,167252934.07245183,167252934.07245183,167252934.07245183,167252934.07245183,167252934.07245183,{"$f":"'A3-FinPerf V'!I9","v":2007035208.869422},{"$f":"'A3-FinPerf V'!J9","v":2149916079.2240238},{"$f":"'A3-FinPerf V'!K9","v":2254291237.6452007}]
[{"$f":"'A3-FinPerf V'!A10","v":"Vote 6 - Sustainable Development and City Enterprises"},null,8101455.5109815001,8101455.5109815001,8101455.5109815001,8101455.5109815001,8101455.5109815001,8101455.5109815001,8101455.5109815001,8101455.5109815001,8101455.5109815001,8101455.5109815001,8101455.5109815001,8101455.5109815001,{"$f":"'A3-FinPerf V'!I10","v":97217466.131778002},{"$f":"'A3-FinPerf V'!J10","v":102103352.12223513},{"$f":"'A3-FinPerf V'!K10","v":115235864.95807463}]
[{"$f":"'A3-FinPerf V'!A11","v":"Vote 7 - Electricity"},null,396942311.64268613,396942311.64268613,396942311.64268613,396942311.64268613,396942311.64268613,396942311.64268613,396942311.64268613,396942311.64268613,396942311.64268613,396942311.64268613,396942311.64268613,{"$f":"O11-SUM(C11:M11)","v":382088878.89049721},{"$f":"'A3-FinPerf V'!I11","v":4748454306.9600439},{"$f":"'A3-FinPerf V'!J11","v":4978061458.2547569},{"$f":"'A3-FinPerf V'!K11","v":5251898426.617404}]
[{"$f":"'A3-FinPerf V'!A12","v":"Vote 8 - [NAME OF VOTE 8]"},null,null,null,null,null,null,null,null,null,null,null,null,{"$f":"O12-SUM(C12:M12)","v":0},{"$f":"'A3-FinPerf V'!I12","v":0},{"$f":"'A3-FinPerf V'!J12","v":0},{"$f":"'A3-FinPerf V'!K12","v":0}]
[{"$f":"'A3-FinPerf V'!A13","v":"Vote 9 - [NAME OF VOTE 9]"},null,null,null,null,null,null,null,null,null,null,null,null,{"$f":"O13-SUM(C13:M13)","v":0},{"$f":"'A3-FinPerf V'!I13","v":0},{"$f":"'A3-FinPerf V'!J13","v":0},{"$f":"'A3-FinPerf V'!K13","v":0}]
[{"$f":"'A3-FinPerf V'!A14","v":"Vote 10 - [NAME OF VOTE 10]"},null,null,null,null,null,null,null,null,null,null,null,null,{"$f":"O14-SUM(C14:M14)","v":0},{"$f":"'A3-FinPerf V'!I14","v":0},{"$f":"'A3-FinPerf V'!J14","v":0},{"$f":"'A3-FinPerf V'!K14","v":0}]
[{"$f":"'A3-FinPerf V'!A15","v":"Vote 11 - [NAME OF VOTE 11]"},null,null,null,null,null,null,null,null,null,null,null,null,0,{"$f":"'A3-FinPerf V'!I15","v":0},{"$f":"'A3-FinPerf V'!J15","v":0},{"$f":"'A3-FinPerf V'!K15","v":0}]
[{"$f":"'A3-FinPerf V'!A16","v":"Vote 12 - [NAME OF VOTE 12]"},null,null,null,null,null,null,null,null,null,null,null,null,0,{"$f":"'A3-FinPerf V'!I16","v":0},{"$f":"'A3-FinPerf V'!J16","v":0},{"$f":"'A3-FinPerf V'!K16","v":0}]
[{"$f":"'A3-FinPerf V'!A17","v":"Vote 13 - [NAME OF VOTE 13]"},null,null,null,null,null,null,null,null,null,null,null,null,0,{"$f":"'A3-FinPerf V'!I17","v":0},{"$f":"'A3-FinPerf V'!J17","v":0},{"$f":"'A3-FinPerf V'!K17","v":0}]
[{"$f":"'A3-FinPerf V'!A18","v":"Vote 14 - [NAME OF VOTE 14]"},null,null,null,null,null,null,null,null,null,null,null,null,0,{"$f":"'A3-FinPerf V'!I18","v":0},{"$f":"'A3-FinPerf V'!J18","v":0},{"$f":"'A3-FinPerf V'!K18","v":0}]
[{"$f":"'A3-FinPerf V'!A19","v":"Vote 15 - [NAME OF VOTE 15]"},null,null,null,null,null,null,null,null,null,null,null,null,0,{"$f":"'A3-FinPerf V'!I19","v":0},{"$f":"'A3-FinPerf V'!J19","v":0},{"$f":"'A3-FinPerf V'!K19","v":0}]
[{"$f":"'A3-FinPerf V'!A20","v":"Total Revenue by Vote"},null,{"$f":"SUM(C5:C19)","v":826988332.39601564},{"$f":"SUM(D5:D19)","v":826988332.39601564},826988332.39601564,{"$f":"SUM(F5:F19)","v":826988332.39601564},826988332.39601564,826988332.39601564,826988332.39601564,826988332.39601564,826988332.39601564,826988332.39601564,826988332.39601564,{"$f":"SUM(N5:N19)","v":812134899.64382696},9909006556,10447228455,10917058416]
[]
[{"$f":"'A3-FinPerf V'!A22","v":"Expenditure by Vote to be appropriated"}]
[{"$f":"A5","v":"Vote 1 - City Manager"},null,19049160.723749999,19049160.723749999,19049160.723749999,19049160.723749999,19049160.723749999,19049160.723749999,19049160.723749999,19049160.723749999,19049160.723749999,19049160.723749999,19049160.723749999,{"$f":"O23-SUM(C23:M23)","v":19049160.723750025},{"$f":"'A3-FinPerf V'!I23","v":228589928.685},{"$f":"'A3-FinPerf V'!J23","v":241140983.97751501},{"$f":"'A3-FinPerf V'!K23","v":254015719.76592311}]
["Vote 2 - City Finance",null,99928373.526103333,99928373.526103333,99928373.526103333,99928373.526103333,99928373.526103333,99928373.526103333,99928373.526103333,99928373.526103333,99928373.526103333,99928373.526103333,99928373.526103333,99928373.526103258,{"$f":"'A3-FinPerf V'!I24","v":1199140482.3132401},{"$f":"'A3-FinPerf V'!J24","v":1234176459.1968589},{"$f":"'A3-FinPerf V'!K24","v":1290052443.7214754}]
["Vote 3 - Corporate Services",null,17271012.357316673,17271012.357316673,17271012.357316673,17271012.357316673,17271012.357316673,17271012.357316673,17271012.357316673,17271012.357316673,17271012.357316673,17271012.357316673,17271012.357316673,17271012.357316673,{"$f":"'A3-FinPerf V'!I25","v":207252148.28780007},{"$f":"'A3-FinPerf V'!J25","v":198150989.50219214},{"$f":"'A3-FinPerf V'!K25","v":229549191.54277956}]
["Vote 4 - Community Services and Social Equity",null,70429623.739399984,70429623.739399984,70429623.739399984,70429623.739399984,70429623.739399984,70429623.739399984,70429623.739399984,70429623.739399984,70429623.739399984,70429623.739399984,70429623.739399984,70429623.73939991,{"$f":"'A3-FinPerf V'!I26","v":845155484.87279987},{"$f":"'A3-FinPerf V'!J26","v":872797494.20032752},{"$f":"'A3-FinPerf V'!K26","v":934891620.44449139}]
["Vote 5 - Infrastructure Services",null,156744596.72294998,156744596.72294998,156744596.72294998,156744596.72294998,156744596.72294998,156744596.72294998,156744596.72294998,156744596.72294998,156744596.72294998,156744596.72294998,156744596.72294998,156744596.72294998,{"$f":"'A3-FinPerf V'!I27","v":1880935160.6753998},{"$f":"'A3-FinPerf V'!J27","v":2019302931.1662617},{"$f":"'A3-FinPerf V'!K27","v":2078904865.1930318}]
["Vote 6 - Sustainable Development and City Enterprises",null,28329642.270813558,28329642.270813558,28329642.270813558,28329642.270813558,28329642.270813558,28329642.270813558,28329642.270813558,28329642.270813558,28329642.270813558,28329642.270813558,28329642.270813558,28329642.270813525,{"$f":"'A3-FinPerf V'!I28","v":339955707.24976271},{"$f":"'A3-FinPerf V'!J28","v":357731147.67826796},{"$f":"'A3-FinPerf V'!K28","v":373729002.53418076}]
["Vote 7 - Electricity",null,343650213.90643334,343650213.90643334,343650213.90643334,343650213.90643334,343650213.90643334,343650213.90643334,343650213.90643334,343650213.90643334,343650213.90643334,343650213.90643334,343650213.90643334,80615260.648231506,{"$f":"'A3-FinPerf V'!I29","v":3860767613.6189976},{"$f":"'A3-FinPerf V'!J29","v":4147256500.1268945},{"$f":"'A3-FinPerf V'!K29","v":4322538886.9440269}]
["Vote 8 - [NAME OF VOTE 8]",null,null,null,null,null,null,null,null,null,null,null,null,{"$f":"O30-SUM(C30:M30)","v":0},{"$f":"'A3-FinPerf V'!I30","v":0},{"$f":"'A3-FinPerf V'!J30","v":0},{"$f":"'A3-FinPerf V'!K30","v":0}]
["Vote 9 - [NAME OF VOTE 9]",null,null,null,null,null,null,null,null,null,null,null,null,{"$f":"O31-SUM(C31:M31)","v":0},{"$f":"'A3-FinPerf V'!I31","v":0},{"$f":"'A3-FinPerf V'!J31","v":0},{"$f":"'A3-FinPerf V'!K31","v":0}]
[{"$f":"A14","v":"Vote 10 - [NAME OF VOTE 10]"},null,null,null,null,null,null,null,null,null,null,null,null,{"$f":"O32-SUM(C32:M32)","v":0},{"$f":"'A3-FinPerf V'!I32","v":0},{"$f":"'A3-FinPerf V'!J32","v":0},{"$f":"'A3-FinPerf V'!K32","v":0}]
["Vote 11 - [NAME OF VOTE 11]",null,null,null,null,null,null,null,null,null,null,null,null,0,{"$f":"'A3-FinPerf V'!I33","v":0},{"$f":"'A3-FinPerf V'!J33","v":0},{"$f":"'A3-FinPerf V'!K33","v":0}]
["Vote 12 - [NAME OF VOTE 12]",null,null,null,null,null,null,null,null,null,null,null,null,0,{"$f":"'A3-FinPerf V'!I34","v":0},{"$f":"'A3-FinPerf V'!J34","v":0},{"$f":"'A3-FinPerf V'!K34","v":0}]
["Vote 13 - [NAME OF VOTE 13]",null,null,null,null,null,null,null,null,null,null,null,null,0,{"$f":"'A3-FinPerf V'!I35","v":0},{"$f":"'A3-FinPerf V'!J35","v":0},{"$f":"'A3-FinPerf V'!K35","v":0}]
["Vote 14 - [NAME OF VOTE 14]",null,null,null,null,null,null,null,null,null,null,null,null,0,{"$f":"'A3-FinPerf V'!I36","v":0},{"$f":"'A3-FinPerf V'!J36","v":0},{"$f":"'A3-FinPerf V'!K36","v":0}]
["Vote 15 - [NAME OF VOTE 15]",null,null,null,null,null,null,null,null,null,null,null,null,0,{"$f":"'A3-FinPerf V'!I37","v":0},{"$f":"'A3-FinPerf V'!J37","v":0},{"$f":"'A3-FinPerf V'!K37","v":0}]
[{"$f":"'A3-FinPerf V'!A38","v":"Total Expenditure by Vote"},null,{"$f":"SUM(C23:C37)","v":735402623.24676681},{"$f":"SUM(D23:D37)","v":735402623.24676681},735402623.24676681,735402623.24676681,735402623.24676681,735402623.24676681,735402623.24676681,735402623.24676681,735402623.24676681,735402623.24676681,735402623.24676681,472367669.98856491,{"$f":"SUM(O23:O37)","v":8561796525.7030001},{"$f":"SUM(P23:P37)","v":9070556505.8483181},{"$f":"SUM(Q23:Q37)","v":9483681730.1459084}]
[]
[{"$f":"'A4-FinPerf RE'!A49&\" before assoc.\"","v":"Surplus/(Deficit) before assoc."},null,{"$f":"C20-C38","v":91585709.149248838},{"$f":"D20-D38","v":91585709.149248838},91585709.149248838,91585709.149248838,91585709.149248838,91585709.149248838,91585709.149248838,91585709.149248838,91585709.149248838,91585709.149248838,91585709.149248838,339767229.65526205,1347210030.2969999,1376671949.1516819,1433376685.8540916]
[]
[{"$f":"'SA25'!A53","v":"Income Tax"},null,null,null,null,null,null,null,null,null,null,null,null,{"$f":"O42-SUM(C42:M42)","v":0},{"$f":"'SA25'!O53","v":0},{"$f":"'SA25'!P53","v":0},{"$f":"'SA25'!Q53","v":0}]
[{"$f":"'SA25'!A56","v":"Share of Surplus/Deficit attributable to Minorities"},null,null,null,null,null,null,null,null,null,null,null,null,{"$f":"O43-SUM(C43:M43)","v":0},{"$f":"'SA25'!O56","v":0},{"$f":"'SA25'!P56","v":0},{"$f":"'SA25'!Q56","v":0}]
[{"$f":"'A4-FinPerf RE'!A59","v":"Intercompany/Parent subsidiary transactions"},null,null,null,null,null,null,null,null,null,null,null,null,{"$f":"O44-SUM(C44:M44)","v":0},{"$f":"'A4-FinPerf RE'!J59","v":0},{"$f":"'A4-FinPerf RE'!K59","v":0},{"$f":"'A4-FinPerf RE'!L59","v":0}]
[{"$f":"'A4-FinPerf RE'!A49","v":"Surplus/(Deficit)"},1,{"$f":"C40+C44+C42+C43","v":91585709.149248838},{"$f":"D40+D44+D42+D43","v":91585709.149248838},91585709.149248838,91585709.149248838,91585709.149248838,91585709.149248838,91585709.149248838,91585709.149248838,91585709.149248838,91585709.149248838,91585709.149248838,339767229.65526205,1347210030.2969999,1376671949.1516819,1433376685.8540916]
[{"$f":"head27a","v":"References"}]
["1. Surplus (Deficit) must reconcile with Budgeted Financial Performance"]
[null,null,null,null,null,null,null,null,null,null,null,null,null,null,{"$f":"O45-'A4-FinPerf RE'!J60","v":11.834622383117676},{"$f":"P45-'A4-FinPerf RE'!K60","v":13.294647216796875},{"$f":"Q45-'A4-FinPerf RE'!L60","v":-4.7049369812011719}]

{"sheet":"SA27","index":49,"n_rows":55,"n_cols":17,"rows_kept":55,"cut":false,"hidden":false,"merged":[[1,2,1,13],[1,14,1,16]]}
[{"$f":"muni&\" - \"&TableA27","v":"Choose name from list - Supporting Table SA27 Budgeted monthly revenue and expenditure (functional classification)"}]
[{"$f":"desc","v":"Description"},{"$f":"head27","v":"Ref"},{"$f":"Head9","v":"Budget Year 2025/26"},null,null,null,null,null,null,null,null,null,null,null,"Medium Term Revenue and Expenditure Framework"]
["R thousand",null,"July","August","Sept.","October","November","December","January","February","March","April","May","June",{"$f":"Head9","v":"Budget Year 2025/26"},{"$f":"Head10","v":"Budget Year +1 2026/27"},{"$f":"Head11","v":"Budget Year +2 2027/28"}]
[{"$f":"'A2-FinPerf SC'!A4","v":"Revenue - Functional"}]
[{"$f":"'A2-FinPerf SC'!A5","v":"Governance and administration"},null,{"$f":"SUM(C6:C8)","v":233568066.41666666},{"$f":"SUM(D6:D8)","v":233568066.41666666},{"$f":"SUM(E6:E8)","v":233568066.41666666},233568066.41666666,233568066.41666666,233568066.41666666,233568066.41666666,233568066.41666666,233568066.41666666,233568066.41666666,233568066.41666666,{"$f":"O5-SUM(C5:M5)","v":233568066.41666651},{"$f":"'A2-FinPerf SC'!I5","v":2802816797},{"$f":"'A2-FinPerf SC'!J5","v":2939443643},{"$f":"'A2-FinPerf SC'!K5","v":3036382010}]
[{"$f":"'A2-FinPerf SC'!A6","v":"Executive and council"},null,null,null,null,null,null,null,null,null,null,null,null,{"$f":"O6-SUM(C6:M6)","v":0},{"$f":"'A2-FinPerf SC'!I6","v":0},{"$f":"'A2-FinPerf SC'!J6","v":0},{"$f":"'A2-FinPerf SC'!K6","v":0}]
[{"$f":"'A2-FinPerf SC'!A7","v":"Finance and administration"},null,233568066.41666666,233568066.41666666,233568066.41666666,233568066.41666666,233568066.41666666,233568066.41666666,233568066.41666666,233568066.41666666,233568066.41666666,233568066.41666666,233568066.41666666,{"$f":"O7-SUM(C7:M7)","v":233568066.41666651},{"$f":"'A2-FinPerf SC'!I7","v":2802816797},{"$f":"'A2-FinPerf SC'!J7","v":2939443643},{"$f":"'A2-FinPerf SC'!K7","v":3036382010}]
[{"$f":"'A2-FinPerf SC'!A8","v":"Internal audit"},null,null,null,null,null,null,null,null,null,null,null,null,{"$f":"O8-SUM(C8:M8)","v":0},{"$f":"'A2-FinPerf SC'!I8","v":0},{"$f":"'A2-FinPerf SC'!J8","v":0},{"$f":"'A2-FinPerf SC'!K8","v":0}]
[{"$f":"'A2-FinPerf SC'!A9","v":"Community and public safety"},null,{"$f":"SUM(C10:C14)","v":5265848.4271625001},{"$f":"SUM(D10:D14)","v":5265848.4271625001},5265848.4271625001,5265848.4271625001,5265848.4271625001,5265848.4271625001,5265848.4271625001,5265848.4271625001,5265848.4271625001,5265848.4271625001,5265848.4271625001,{"$f":"O9-SUM(C9:M9)","v":5265848.4271625057},{"$f":"'A2-FinPerf SC'!I9","v":63190181.125949994},{"$f":"'A2-FinPerf SC'!J9","v":62952706.60012155},{"$f":"'A2-FinPerf SC'!K9","v":66181196.642527506}]
[{"$f":"'A2-FinPerf SC'!A10","v":"Community and social services"},null,2098730.75,2098730.75,2098730.75,2098730.75,2098730.75,2098730.75,2098730.75,2098730.75,2098730.75,2098730.75,2098730.75,{"$f":"O10-SUM(C10:M10)","v":2098730.75},{"$f":"'A2-FinPerf SC'!I10","v":25184769},{"$f":"'A2-FinPerf SC'!J10","v":22969656},{"$f":"'A2-FinPerf SC'!K10","v":24116792}]
[{"$f":"'A2-FinPerf SC'!A11","v":"Sport and recreation"},null,101989.83333333333,101989.83333333333,101989.83333333333,101989.83333333333,101989.83333333333,101989.83333333333,101989.83333333333,101989.83333333333,101989.83333333333,101989.83333333333,101989.83333333333,101989.83333333326,{"$f":"'A2-FinPerf SC'!I11","v":1223878},{"$f":"'A2-FinPerf SC'!J11","v":1283846},{"$f":"'A2-FinPerf SC'!K11","v":1346755}]
[{"$f":"'A2-FinPerf SC'!A12","v":"Public safety"},null,1404261.0104958331,1404261.0104958331,1404261.0104958331,1404261.0104958331,1404261.0104958331,1404261.0104958331,1404261.0104958331,1404261.0104958331,1404261.0104958331,1404261.0104958331,1404261.0104958331,1404261.0104958303,{"$f":"'A2-FinPerf SC'!I12","v":16851132.125949997},{"$f":"'A2-FinPerf SC'!J12","v":17676837.60012155},{"$f":"'A2-FinPerf SC'!K12","v":18543002.642527502}]
[{"$f":"'A2-FinPerf SC'!A13","v":"Housing"},null,1660866.8333333333,1660866.8333333333,1660866.8333333333,1660866.8333333333,1660866.8333333333,1660866.8333333333,1660866.8333333333,1660866.8333333333,1660866.8333333333,1660866.8333333333,1660866.8333333333,1660866.8333333321,{"$f":"'A2-FinPerf SC'!I13","v":19930402},{"$f":"'A2-FinPerf SC'!J13","v":21022367},{"$f":"'A2-FinPerf SC'!K13","v":22174647}]
[{"$f":"'A2-FinPerf SC'!A14","v":"Health"},null,null,null,null,null,null,null,null,null,null,null,null,0,{"$f":"'A2-FinPerf SC'!I14","v":0},{"$f":"'A2-FinPerf SC'!J14","v":0},{"$f":"'A2-FinPerf SC'!K14","v":0}]
[{"$f":"'A2-FinPerf SC'!A15","v":"Economic and environmental services"},null,{"$f":"SUM(C16:C18)","v":12186438.068425},{"$f":"SUM(D16:D18)","v":12186438.068425},12186438.068425,12186438.068425,12186438.068425,12186438.068425,12186438.068425,12186438.068425,12186438.068425,12186438.068425,12186438.068425,12186438.068425,{"$f":"'A2-FinPerf SC'!I15","v":146237256.8211},{"$f":"'A2-FinPerf SC'!J15","v":200032881.3573339},{"$f":"'A2-FinPerf SC'!K15","v":214617493.95784327}]
[{"$f":"'A2-FinPerf SC'!A16","v":"Planning and development"},null,3388712.6666666665,3388712.6666666665,3388712.6666666665,3388712.6666666665,3388712.6666666665,3388712.6666666665,3388712.6666666665,3388712.6666666665,3388712.6666666665,3388712.6666666665,3388712.6666666665,3388712.6666666642,{"$f":"'A2-FinPerf SC'!I16","v":40664552},{"$f":"'A2-FinPerf SC'!J16","v":44187114},{"$f":"'A2-FinPerf SC'!K16","v":51735284}]
[{"$f":"'A2-FinPerf SC'!A17","v":"Road transport"},null,8333333.333333333,8333333.333333333,8333333.333333333,8333333.333333333,8333333.333333333,8333333.333333333,8333333.333333333,8333333.333333333,8333333.333333333,8333333.333333333,8333333.333333333,8333333.3333333433,{"$f":"'A2-FinPerf SC'!I17","v":100000000},{"$f":"'A2-FinPerf SC'!J17","v":150000000},{"$f":"'A2-FinPerf SC'!K17","v":156750000}]
[{"$f":"'A2-FinPerf SC'!A18","v":"Environmental protection"},null,464392.068425,464392.068425,464392.068425,464392.068425,464392.068425,464392.068425,464392.068425,464392.068425,464392.068425,464392.068425,464392.068425,464392.06842499971,{"$f":"'A2-FinPerf SC'!I18","v":5572704.8211000003},{"$f":"'A2-FinPerf SC'!J18","v":5845767.3573339004},{"$f":"'A2-FinPerf SC'!K18","v":6132209.9578432608}]
[{"$f":"'A2-FinPerf SC'!A19","v":"Trading services"},null,{"$f":"SUM(C20:C23)","v":570060273.66666663},{"$f":"SUM(D20:D23)","v":570060273.66666663},570060273.66666663,570060273.66666663,570060273.66666663,570060273.66666663,570060273.66666663,570060273.66666663,570060273.66666663,570060273.66666663,570060273.66666663,{"$f":"O19-SUM(C19:M19)","v":570060273.66666603},{"$f":"'A2-FinPerf SC'!I19","v":6840723284},{"$f":"'A2-FinPerf SC'!J19","v":7186014276},{"$f":"'A2-FinPerf SC'!K19","v":7538212303}]
[{"$f":"'A2-FinPerf SC'!A20","v":"Energy sources"},null,395042151.41666669,395042151.41666669,395042151.41666669,395042151.41666669,395042151.41666669,395042151.41666669,395042151.41666669,395042151.41666669,395042151.41666669,395042151.41666669,395042151.41666669,395042151.41666698,{"$f":"'A2-FinPerf SC'!I20","v":4740505817},{"$f":"'A2-FinPerf SC'!J20","v":4982860597},{"$f":"'A2-FinPerf SC'!K20","v":5226798336}]
[{"$f":"'A2-FinPerf SC'!A21","v":"Water management"},null,113826330.83333333,113826330.83333333,113826330.83333333,113826330.83333333,113826330.83333333,113826330.83333333,113826330.83333333,113826330.83333333,113826330.83333333,113826330.83333333,113826330.83333333,113826330.83333325,{"$f":"'A2-FinPerf SC'!I21","v":1365915970},{"$f":"'A2-FinPerf SC'!J21","v":1435395855},{"$f":"'A2-FinPerf SC'!K21","v":1507035251}]
[{"$f":"'A2-FinPerf SC'!A22","v":"Waste water management"},null,46079166.916666664,46079166.916666664,46079166.916666664,46079166.916666664,46079166.916666664,46079166.916666664,46079166.916666664,46079166.916666664,46079166.916666664,46079166.916666664,46079166.916666664,46079166.916666567,{"$f":"'A2-FinPerf SC'!I22","v":552950003},{"$f":"'A2-FinPerf SC'!J22","v":577520106},{"$f":"'A2-FinPerf SC'!K22","v":604819351}]
[{"$f":"'A2-FinPerf SC'!A23","v":"Waste management"},null,15112624.5,15112624.5,15112624.5,15112624.5,15112624.5,15112624.5,15112624.5,15112624.5,15112624.5,15112624.5,15112624.5,15112624.5,{"$f":"'A2-FinPerf SC'!I23","v":181351494},{"$f":"'A2-FinPerf SC'!J23","v":190237718},{"$f":"'A2-FinPerf SC'!K23","v":199559365}]
[{"$f":"'A2-FinPerf SC'!A24","v":"Other"},null,4669919.75,4669919.75,4669919.75,4669919.75,4669919.75,4669919.75,4669919.75,4669919.75,4669919.75,4669919.75,4669919.75,4669919.75,{"$f":"'A2-FinPerf SC'!I24","v":56039037},{"$f":"'A2-FinPerf SC'!J24","v":58784948},{"$f":"'A2-FinPerf SC'!K24","v":61665412}]
[{"$f":"'A2-FinPerf SC'!A25","v":"Total Revenue - Functional"},null,{"$f":"C5+C9+C15+C19+C24","v":825750546.32892084},{"$f":"D5+D9+D15+D19+D24","v":825750546.32892084},{"$f":"E5+E9+E15+E19+E24","v":825750546.32892084},825750546.32892084,825750546.32892084,825750546.32892084,825750546.32892084,825750546.32892084,825750546.32892084,825750546.32892084,825750546.32892084,{"$f":"N5+N9+N15+N19+N24","v":825750546.32892001},9909006555.9470501,10447228454.957455,10917058415.60037]
[]
[{"$f":"'A2-FinPerf SC'!A27","v":"Expenditure - Functional"}]
[{"$f":"'A2-FinPerf SC'!A28","v":"Governance and administration"},null,{"$f":"SUM(C29:C31)","v":193325955.33333334},{"$f":"SUM(D29:D31)","v":193325955.33333334},{"$f":"SUM(E29:E31)","v":193325955.33333334},193325955.33333334,193325955.33333334,193325955.33333334,193325955.33333334,193325955.33333334,193325955.33333334,193325955.33333334,193325955.33333334,{"$f":"O28-SUM(C28:M28)","v":193325955.33333373},{"$f":"'A2-FinPerf SC'!I28","v":2319911464},{"$f":"'A2-FinPerf SC'!J28","v":2479162719},{"$f":"'A2-FinPerf SC'!K28","v":2616799642}]
[{"$f":"'A2-FinPerf SC'!A29","v":"Executive and council"},null,72664754.416666672,72664754.416666672,72664754.416666672,72664754.416666672,72664754.416666672,72664754.416666672,72664754.416666672,72664754.416666672,72664754.416666672,72664754.416666672,72664754.416666672,{"$f":"O29-SUM(C29:M29)","v":72664754.416666746},{"$f":"'A2-FinPerf SC'!I29","v":871977053},{"$f":"'A2-FinPerf SC'!J29","v":1003249896},{"$f":"'A2-FinPerf SC'!K29","v":1058341513}]
[{"$f":"'A2-FinPerf SC'!A30","v":"Finance and administration"},null,117920018.66666667,117920018.66666667,117920018.66666667,117920018.66666667,117920018.66666667,117920018.66666667,117920018.66666667,117920018.66666667,117920018.66666667,117920018.66666667,117920018.66666667,117920018.66666675,{"$f":"'A2-FinPerf SC'!I30","v":1415040224},{"$f":"'A2-FinPerf SC'!J30","v":1440489734},{"$f":"'A2-FinPerf SC'!K30","v":1520303283}]
[{"$f":"'A2-FinPerf SC'!A31","v":"Internal audit"},null,2741182.25,2741182.25,2741182.25,2741182.25,2741182.25,2741182.25,2741182.25,2741182.25,2741182.25,2741182.25,2741182.25,2741182.25,{"$f":"'A2-FinPerf SC'!I31","v":32894187},{"$f":"'A2-FinPerf SC'!J31","v":35423089},{"$f":"'A2-FinPerf SC'!K31","v":38154846}]
[{"$f":"'A2-FinPerf SC'!A32","v":"Community and public safety"},null,{"$f":"SUM(C33:C37)","v":45637729.333333336},{"$f":"SUM(D33:D37)","v":45637729.333333336},45637729.333333336,45637729.333333336,45637729.333333336,45637729.333333336,45637729.333333336,45637729.333333336,45637729.333333336,45637729.333333336,45637729.333333336,45637729.333333433,{"$f":"'A2-FinPerf SC'!I32","v":547652752},{"$f":"'A2-FinPerf SC'!J32","v":572186292},{"$f":"'A2-FinPerf SC'!K32","v":594666910}]
[{"$f":"'A2-FinPerf SC'!A33","v":"Community and social services"},null,11011990.333333334,11011990.333333334,11011990.333333334,11011990.333333334,11011990.333333334,11011990.333333334,11011990.333333334,11011990.333333334,11011990.333333334,11011990.333333334,11011990.333333334,11011990.333333343,{"$f":"'A2-FinPerf SC'!I33","v":132143884},{"$f":"'A2-FinPerf SC'!J33","v":137089636},{"$f":"'A2-FinPerf SC'!K33","v":140344067}]
[{"$f":"'A2-FinPerf SC'!A34","v":"Sport and recreation"},null,9713287,9713287,9713287,9713287,9713287,9713287,9713287,9713287,9713287,9713287,9713287,9713287,{"$f":"'A2-FinPerf SC'!I34","v":116559444},{"$f":"'A2-FinPerf SC'!J34","v":121528808},{"$f":"'A2-FinPerf SC'!K34","v":125809640}]
[{"$f":"'A2-FinPerf SC'!A35","v":"Public safety"},null,16489308.25,16489308.25,16489308.25,16489308.25,16489308.25,16489308.25,16489308.25,16489308.25,16489308.25,16489308.25,16489308.25,16489308.25,{"$f":"'A2-FinPerf SC'!I35","v":197871699},{"$f":"'A2-FinPerf SC'!J35","v":207397353},{"$f":"'A2-FinPerf SC'!K35","v":217176069}]
[{"$f":"'A2-FinPerf SC'!A36","v":"Housing"},null,7662787.416666667,7662787.416666667,7662787.416666667,7662787.416666667,7662787.416666667,7662787.416666667,7662787.416666667,7662787.416666667,7662787.416666667,7662787.416666667,7662787.416666667,7662787.4166666567,{"$f":"'A2-FinPerf SC'!I36","v":91953449},{"$f":"'A2-FinPerf SC'!J36","v":96599636},{"$f":"'A2-FinPerf SC'!K36","v":101298102}]
[{"$f":"'A2-FinPerf SC'!A37","v":"Health"},null,760356.33333333337,760356.33333333337,760356.33333333337,760356.33333333337,760356.33333333337,760356.33333333337,760356.33333333337,760356.33333333337,760356.33333333337,760356.33333333337,760356.33333333337,760356.33333333489,{"$f":"'A2-FinPerf SC'!I37","v":9124276},{"$f":"'A2-FinPerf SC'!J37","v":9570859},{"$f":"'A2-FinPerf SC'!K37","v":10039032}]
[{"$f":"'A2-FinPerf SC'!A38","v":"Economic and environmental services"},null,{"$f":"SUM(C39:C41)","v":38080664.749999993},{"$f":"SUM(D39:D41)","v":38080664.749999993},38080664.749999993,38080664.749999993,38080664.749999993,38080664.749999993,38080664.749999993,38080664.749999993,38080664.749999993,38080664.749999993,38080664.749999993,{"$f":"O38-SUM(C38:M38)","v":38080664.75000006},{"$f":"'A2-FinPerf SC'!I38","v":456967977},{"$f":"'A2-FinPerf SC'!J38","v":509996460},{"$f":"'A2-FinPerf SC'!K38","v":502934197}]
[{"$f":"'A2-FinPerf SC'!A39","v":"Planning and development"},null,12450661.5,12450661.5,12450661.5,12450661.5,12450661.5,12450661.5,12450661.5,12450661.5,12450661.5,12450661.5,12450661.5,12450661.5,{"$f":"'A2-FinPerf SC'!I39","v":149407938},{"$f":"'A2-FinPerf SC'!J39","v":158045112},{"$f":"'A2-FinPerf SC'!K39","v":165764065}]
[{"$f":"'A2-FinPerf SC'!A40","v":"Road transport"},null,22807722.833333332,22807722.833333332,22807722.833333332,22807722.833333332,22807722.833333332,22807722.833333332,22807722.833333332,22807722.833333332,22807722.833333332,22807722.833333332,22807722.833333332,22807722.833333284,{"$f":"'A2-FinPerf SC'!I40","v":273692674},{"$f":"'A2-FinPerf SC'!J40","v":316399082},{"$f":"'A2-FinPerf SC'!K40","v":299867230}]
[{"$f":"'A2-FinPerf SC'!A41","v":"Environmental protection"},null,2822280.4166666665,2822280.4166666665,2822280.4166666665,2822280.4166666665,2822280.4166666665,2822280.4166666665,2822280.4166666665,2822280.4166666665,2822280.4166666665,2822280.4166666665,2822280.4166666665,2822280.4166666605,{"$f":"'A2-FinPerf SC'!I41","v":33867365},{"$f":"'A2-FinPerf SC'!J41","v":35552266},{"$f":"'A2-FinPerf SC'!K41","v":37302902}]
[{"$f":"'A2-FinPerf SC'!A42","v":"Trading services"},null,{"$f":"SUM(C43:C46)","v":431425505.5},{"$f":"SUM(D43:D46)","v":431425505.5},431425505.5,431425505.5,431425505.5,431425505.5,431425505.5,431425505.5,431425505.5,431425505.5,431425505.5,{"$f":"O42-SUM(C42:M42)","v":431425505.5},{"$f":"'A2-FinPerf SC'!I42","v":5177106066},{"$f":"'A2-FinPerf SC'!J42","v":5446369788},{"$f":"'A2-FinPerf SC'!K42","v":5704756154}]
[{"$f":"'A2-FinPerf SC'!A43","v":"Energy sources"},null,294118245.41666669,294118245.41666669,294118245.41666669,294118245.41666669,294118245.41666669,294118245.41666669,294118245.41666669,294118245.41666669,294118245.41666669,294118245.41666669,294118245.41666669,294118245.41666698,{"$f":"'A2-FinPerf SC'!I43","v":3529418945},{"$f":"'A2-FinPerf SC'!J43","v":3702057408},{"$f":"'A2-FinPerf SC'!K43","v":3883155159}]
[{"$f":"'A2-FinPerf SC'!A44","v":"Water management"},null,92281957.833333328,92281957.833333328,92281957.833333328,92281957.833333328,92281957.833333328,92281957.833333328,92281957.833333328,92281957.833333328,92281957.833333328,92281957.833333328,92281957.833333328,92281957.833333135,{"$f":"'A2-FinPerf SC'!I44","v":1107383494},{"$f":"'A2-FinPerf SC'!J44","v":1165499615},{"$f":"'A2-FinPerf SC'!K44","v":1211258659}]
[{"$f":"'A2-FinPerf SC'!A45","v":"Waste water management"},null,34571423.083333336,34571423.083333336,34571423.083333336,34571423.083333336,34571423.083333336,34571423.083333336,34571423.083333336,34571423.083333336,34571423.083333336,34571423.083333336,34571423.083333336,34571423.083333373,{"$f":"'A2-FinPerf SC'!I45","v":414857077},{"$f":"'A2-FinPerf SC'!J45","v":447530898},{"$f":"'A2-FinPerf SC'!K45","v":473184421}]
[{"$f":"'A2-FinPerf SC'!A46","v":"Waste management"},null,10453879.166666666,10453879.166666666,10453879.166666666,10453879.166666666,10453879.166666666,10453879.166666666,10453879.166666666,10453879.166666666,10453879.166666666,10453879.166666666,10453879.166666666,10453879.166666657,{"$f":"'A2-FinPerf SC'!I46","v":125446550},{"$f":"'A2-FinPerf SC'!J46","v":131281867},{"$f":"'A2-FinPerf SC'!K46","v":137157915}]
[{"$f":"'A2-FinPerf SC'!A47","v":"Other"},null,5013189.75,5013189.75,5013189.75,5013189.75,5013189.75,5013189.75,5013189.75,5013189.75,5013189.75,5013189.75,5013189.75,5013189.75,{"$f":"'A2-FinPerf SC'!I47","v":60158277},{"$f":"'A2-FinPerf SC'!J47","v":62841260},{"$f":"'A2-FinPerf SC'!K47","v":64524825}]
[{"$f":"'A2-FinPerf SC'!A48","v":"Total Expenditure - Functional"},null,{"$f":"C28+C32+C38+C42+C47","v":713483044.66666675},{"$f":"D28+D32+D38+D42+D47","v":713483044.66666675},713483044.66666675,713483044.66666675,713483044.66666675,713483044.66666675,713483044.66666675,713483044.66666675,713483044.66666675,713483044.66666675,713483044.66666675,713483044.66666722,8561796536,9070556519,{"$f":"Q28+Q32+Q38+Q42+Q47","v":9483681728}]
[]
[{"$f":"'A4-FinPerf RE'!A49&\" before assoc.\"","v":"Surplus/(Deficit) before assoc."},null,{"$f":"C25-C48","v":112267501.6622541},{"$f":"D25-D48","v":112267501.6622541},112267501.6622541,112267501.6622541,112267501.6622541,112267501.6622541,112267501.6622541,112267501.6622541,112267501.6622541,112267501.6622541,112267501.6622541,112267501.66225278,1347210019.9470501,1376671935.9574547,1433376687.6003704]
[]
[{"$f":"'A4-FinPerf RE'!A59","v":"Intercompany/Parent subsidiary transactions"},null,null,null,null,null,null,null,null,null,null,null,null,{"$f":"O52-SUM(C52:M52)","v":0},{"$f":"'A4-FinPerf RE'!J59","v":0},{"$f":"'A4-FinPerf RE'!K59","v":0},{"$f":"'A4-FinPerf RE'!L59","v":0}]
[{"$f":"'A4-FinPerf RE'!A49","v":"Surplus/(Deficit)"},1,{"$f":"C50+C52","v":112267501.6622541},{"$f":"D50+D52","v":112267501.6622541},112267501.6622541,112267501.6622541,112267501.6622541,112267501.6622541,112267501.6622541,112267501.6622541,112267501.6622541,112267501.6622541,112267501.6622541,112267501.66225278,1347210019.9470501,1376671935.9574547,1433376687.6003704]
[{"$f":"head27a","v":"References"}]
["1. Surplus (Deficit) must reconcile with Budeted Financial Performance"]

{"sheet":"SA28","index":50,"n_rows":46,"n_cols":17,"rows_kept":46,"cut":false,"hidden":false,"merged":[[1,2,1,13],[1,14,1,16]]}
[{"$f":"muni&\" - \"& TableA28","v":"Choose name from list - Supporting Table SA28 Budgeted monthly capital expenditure (municipal vote)"}]
[{"$f":"desc","v":"Description"},{"$f":"head27","v":"Ref"},{"$f":"Head9","v":"Budget Year 2025/26"},null,null,null,null,null,null,null,null,null,null,null,"Medium Term Revenue and Expenditure Framework"]
["R thousand",null,"July","August","Sept.","October","Nov.","Dec.","January","Feb.","March","April","May","June",{"$f":"Head9","v":"Budget Year 2025/26"},{"$f":"Head10","v":"Budget Year +1 2026/27"},{"$f":"Head11","v":"Budget Year +2 2027/28"}]
["Multi-year expenditure to be appropriated",1]
[{"$f":"'A5-Capex'!A6","v":"Vote 1 - City Manager"},null,null,null,null,null,null,null,null,null,null,null,null,{"$f":"O5-SUM(C5:M5)","v":0},{"$f":"'A5-Capex'!J6","v":0},{"$f":"'A5-Capex'!K6","v":0},{"$f":"'A5-Capex'!L6","v":0}]
[{"$f":"'A5-Capex'!A7","v":"Vote 2 - City Finance"},null,3750000,3750000,3750000,3750000,3750000,3750000,3750000,3750000,3750000,3750000,3750000,{"$f":"O6-SUM(C6:M6)","v":3750000},{"$f":"'A5-Capex'!J7","v":45000000},{"$f":"'A5-Capex'!K7","v":45000000},{"$f":"'A5-Capex'!L7","v":50000000}]
[{"$f":"'A5-Capex'!A8","v":"Vote 3 - Corporate Services"},null,833333.33333333337,833333.33333333337,833333.33333333337,833333.33333333337,833333.33333333337,833333.33333333337,833333.33333333337,833333.33333333337,833333.33333333337,833333.33333333337,833333.33333333337,833333.33333333395,{"$f":"'A5-Capex'!J8","v":10000000},{"$f":"'A5-Capex'!K8","v":10000000},{"$f":"'A5-Capex'!L8","v":10000000}]
[{"$f":"'A5-Capex'!A9","v":"Vote 4 - Community Services and Social Equity"},null,2884726.6666666665,2884726.6666666665,2884726.6666666665,2884726.6666666665,2884726.6666666665,2884726.6666666665,2884726.6666666665,2884726.6666666665,2884726.6666666665,2884726.6666666665,2884726.6666666665,2884726.6666666605,{"$f":"'A5-Capex'!J9","v":34616720},{"$f":"'A5-Capex'!K9","v":18493723.199999999},{"$f":"'A5-Capex'!L9","v":18423346.592}]
[{"$f":"'A5-Capex'!A10","v":"Vote 5 - Infrastructure Services"},null,28891786.666666668,28891786.666666668,28891786.666666668,28891786.666666668,28891786.666666668,28891786.666666668,28891786.666666668,28891786.666666668,28891786.666666668,28891786.666666668,28891786.666666668,28891786.666666687,{"$f":"'A5-Capex'!J10","v":346701440},{"$f":"'A5-Capex'!K10","v":386016686.20000005},{"$f":"'A5-Capex'!L10","v":408006319.11199999}]
[{"$f":"'A5-Capex'!A11","v":"Vote 6 - Sustainable Development and City Enterprises"},null,0,0,0,0,0,0,0,0,0,0,0,0,{"$f":"'A5-Capex'!J11","v":0},{"$f":"'A5-Capex'!K11","v":0},{"$f":"'A5-Capex'!L11","v":8000000}]
[{"$f":"'A5-Capex'!A12","v":"Vote 7 - Electricity"},null,15111063.413333332,15111063.413333332,15111063.413333332,15111063.413333332,15111063.413333332,15111063.413333332,15111063.413333332,15111063.413333332,15111063.413333332,15111063.413333332,15111063.413333332,15111063.413333356,{"$f":"'A5-Capex'!J12","v":181332760.95999998},{"$f":"'A5-Capex'!K12","v":30246861.600000001},{"$f":"'A5-Capex'!L12","v":31482673.296}]
[{"$f":"'A5-Capex'!A13","v":"Vote 8 - [NAME OF VOTE 8]"},null,null,null,null,null,null,null,null,null,null,null,null,{"$f":"O12-SUM(C12:M12)","v":0},{"$f":"'A5-Capex'!J13","v":0},{"$f":"'A5-Capex'!K13","v":0},{"$f":"'A5-Capex'!L13","v":0}]
[{"$f":"'A5-Capex'!A14","v":"Vote 9 - [NAME OF VOTE 9]"},null,null,null,null,null,null,null,null,null,null,null,null,{"$f":"O13-SUM(C13:M13)","v":0},{"$f":"'A5-Capex'!J14","v":0},{"$f":"'A5-Capex'!K14","v":0},{"$f":"'A5-Capex'!L14","v":0}]
[{"$f":"'A5-Capex'!A15","v":"Vote 10 - [NAME OF VOTE 10]"},null,null,null,null,null,null,null,null,null,null,null,null,{"$f":"O14-SUM(C14:M14)","v":0},{"$f":"'A5-Capex'!J15","v":0},{"$f":"'A5-Capex'!K15","v":0},{"$f":"'A5-Capex'!L15","v":0}]
[{"$f":"'A5-Capex'!A16","v":"Vote 11 - [NAME OF VOTE 11]"},null,null,null,null,null,null,null,null,null,null,null,null,0,{"$f":"'A5-Capex'!J16","v":0},{"$f":"'A5-Capex'!K16","v":0},{"$f":"'A5-Capex'!L16","v":0}]
[{"$f":"'A5-Capex'!A17","v":"Vote 12 - [NAME OF VOTE 12]"},null,null,null,null,null,null,null,null,null,null,null,null,0,{"$f":"'A5-Capex'!J17","v":0},{"$f":"'A5-Capex'!K17","v":0},{"$f":"'A5-Capex'!L17","v":0}]
[{"$f":"'A5-Capex'!A18","v":"Vote 13 - [NAME OF VOTE 13]"},null,null,null,null,null,null,null,null,null,null,null,null,0,{"$f":"'A5-Capex'!J18","v":0},{"$f":"'A5-Capex'!K18","v":0},{"$f":"'A5-Capex'!L18","v":0}]
[{"$f":"'A5-Capex'!A19","v":"Vote 14 - [NAME OF VOTE 14]"},null,null,null,null,null,null,null,null,null,null,null,null,0,{"$f":"'A5-Capex'!J19","v":0},{"$f":"'A5-Capex'!K19","v":0},{"$f":"'A5-Capex'!L19","v":0}]
[{"$f":"'A5-Capex'!A20","v":"Vote 15 - [NAME OF VOTE 15]"},null,null,null,null,null,null,null,null,null,null,null,null,0,{"$f":"'A5-Capex'!J20","v":0},{"$f":"'A5-Capex'!K20","v":0},{"$f":"'A5-Capex'!L20","v":0}]
["Capital multi-year expenditure sub-total",2,{"$f":"SUM(C5:C19)","v":51470910.080000006},{"$f":"SUM(D5:D19)","v":51470910.080000006},51470910.080000006,51470910.080000006,51470910.080000006,51470910.080000006,51470910.080000006,51470910.080000006,51470910.080000006,51470910.080000006,{"$f":"SUM(M5:M19)","v":51470910.080000006},51470910.080000035,{"$f":"SUM(O5:O19)","v":617650920.96000004},489757271.00000006,525912339]
[]
["Single-year expenditure to be appropriated"]
[{"$f":"'A5-Capex'!A24","v":"Vote 1 - City Manager"},null,null,null,null,null,null,null,null,null,null,null,null,{"$f":"O23-SUM(C23:M23)","v":0},{"$f":"'A5-Capex'!J24","v":0},{"$f":"'A5-Capex'!K24","v":0},{"$f":"'A5-Capex'!L24","v":0}]
[{"$f":"'A5-Capex'!A25","v":"Vote 2 - City Finance"},null,null,null,null,null,null,null,null,null,null,null,null,{"$f":"O24-SUM(C24:M24)","v":0},{"$f":"'A5-Capex'!J25","v":0},{"$f":"'A5-Capex'!K25","v":0},{"$f":"'A5-Capex'!L25","v":0}]
[{"$f":"'A5-Capex'!A26","v":"Vote 3 - Corporate Services"},null,null,null,null,null,null,null,null,null,null,null,null,0,{"$f":"'A5-Capex'!J26","v":0},{"$f":"'A5-Capex'!K26","v":0},{"$f":"'A5-Capex'!L26","v":0}]
[{"$f":"'A5-Capex'!A27","v":"Vote 4 - Community Services and Social Equity"},null,833333.33333333337,833333.33333333337,833333.33333333337,833333.33333333337,833333.33333333337,833333.33333333337,833333.33333333337,833333.33333333337,833333.33333333337,833333.33333333337,833333.33333333337,833333.33333333395,{"$f":"'A5-Capex'!J27","v":10000000},{"$f":"'A5-Capex'!K27","v":30000000},{"$f":"'A5-Capex'!L27","v":30000000}]
[{"$f":"'A5-Capex'!A28","v":"Vote 5 - Infrastructure Services"},null,null,null,null,null,null,null,null,null,null,null,null,0,{"$f":"'A5-Capex'!J28","v":0},{"$f":"'A5-Capex'!K28","v":0},{"$f":"'A5-Capex'!L28","v":0}]
[{"$f":"'A5-Capex'!A29","v":"Vote 6 - Sustainable Development and City Enterprises"},null,null,null,null,null,null,null,null,null,null,null,null,0,{"$f":"'A5-Capex'!J29","v":0},{"$f":"'A5-Capex'!K29","v":0},{"$f":"'A5-Capex'!L29","v":0}]
[{"$f":"'A5-Capex'!A30","v":"Vote 7 - Electricity"},null,null,null,null,null,null,null,null,null,null,null,null,0,{"$f":"'A5-Capex'!J30","v":0},{"$f":"'A5-Capex'!K30","v":0},{"$f":"'A5-Capex'!L30","v":0}]
[{"$f":"'A5-Capex'!A31","v":"Vote 8 - [NAME OF VOTE 8]"},null,null,null,null,null,null,null,null,null,null,null,null,{"$f":"O30-SUM(C30:M30)","v":0},{"$f":"'A5-Capex'!J31","v":0},{"$f":"'A5-Capex'!K31","v":0},{"$f":"'A5-Capex'!L31","v":0}]
[{"$f":"'A5-Capex'!A32","v":"Vote 9 - [NAME OF VOTE 9]"},null,null,null,null,null,null,null,null,null,null,null,null,{"$f":"O31-SUM(C31:M31)","v":0},{"$f":"'A5-Capex'!J32","v":0},{"$f":"'A5-Capex'!K32","v":0},{"$f":"'A5-Capex'!L32","v":0}]
[{"$f":"'A5-Capex'!A33","v":"Vote 10 - [NAME OF VOTE 10]"},null,null,null,null,null,null,null,null,null,null,null,null,{"$f":"O32-SUM(C32:M32)","v":0},{"$f":"'A5-Capex'!J33","v":0},{"$f":"'A5-Capex'!K33","v":0},{"$f":"'A5-Capex'!L33","v":0}]
[{"$f":"'A5-Capex'!A34","v":"Vote 11 - [NAME OF VOTE 11]"},null,null,null,null,null,null,null,null,null,null,null,null,0,{"$f":"'A5-Capex'!J34","v":0},{"$f":"'A5-Capex'!K34","v":0},{"$f":"'A5-Capex'!L34","v":0}]
[{"$f":"'A5-Capex'!A35","v":"Vote 12 - [NAME OF VOTE 12]"},null,null,null,null,null,null,null,null,null,null,null,null,0,{"$f":"'A5-Capex'!J35","v":0},{"$f":"'A5-Capex'!K35","v":0},{"$f":"'A5-Capex'!L35","v":0}]
[{"$f":"'A5-Capex'!A36","v":"Vote 13 - [NAME OF VOTE 13]"},null,null,null,null,null,null,null,null,null,null,null,null,0,{"$f":"'A5-Capex'!J36","v":0},{"$f":"'A5-Capex'!K36","v":0},{"$f":"'A5-Capex'!L36","v":0}]
[{"$f":"'A5-Capex'!A37","v":"Vote 14 - [NAME OF VOTE 14]"},null,null,null,null,null,null,null,null,null,null,null,null,0,{"$f":"'A5-Capex'!J37","v":0},{"$f":"'A5-Capex'!K37","v":0},{"$f":"'A5-Capex'!L37","v":0}]
[{"$f":"'A5-Capex'!A38","v":"Vote 15 - [NAME OF VOTE 15]"},null,null,null,null,null,null,null,null,null,null,null,null,0,{"$f":"'A5-Capex'!J38","v":0},{"$f":"'A5-Capex'!K38","v":0},{"$f":"'A5-Capex'!L38","v":0}]
["Capital single-year expenditure sub-total",2,{"$f":"SUM(C23:C37)","v":833333.33333333337},{"$f":"SUM(D23:D37)","v":833333.33333333337},833333.33333333337,833333.33333333337,833333.33333333337,833333.33333333337,833333.33333333337,833333.33333333337,833333.33333333337,833333.33333333337,833333.33333333337,833333.33333333395,10000000,30000000,30000000]
["Total Capital Expenditure",2,{"$f":"C20+C38","v":52304243.413333341},{"$f":"D20+D38","v":52304243.413333341},52304243.413333341,52304243.413333341,52304243.413333341,52304243.413333341,52304243.413333341,52304243.413333341,52304243.413333341,52304243.413333341,52304243.413333341,52304243.413333371,{"$f":"O20+O38","v":627650920.96000004},{"$f":"P20+P38","v":519757271.00000006},{"$f":"Q20+Q38","v":555912339}]
[]
[]
[{"$f":"head27a","v":"References"}]
["1. Table should be completed as either Multi-Year expenditure appropriation or Budget Year and Forward Year estimates"]
["2. Total Capital Expenditure must reconcile to Budgeted Capital Expenditure"]
[]
[null,null,null,null,"Add single year stuff"]

{"sheet":"SA29","index":51,"n_rows":39,"n_cols":17,"rows_kept":39,"cut":false,"hidden":false,"merged":[[1,2,1,13],[1,14,1,16]]}
[{"$f":"muni&\" - \"& TableA29","v":"Choose name from list - Supporting Table SA29 Budgeted monthly capital expenditure (functional classification)"}]
[{"$f":"desc","v":"Description"},{"$f":"head27","v":"Ref"},{"$f":"Head9","v":"Budget Year 2025/26"},null,null,null,null,null,null,null,null,null,null,null,"Medium Term Revenue and Expenditure Framework"]
["R thousand",null,"July","August","Sept.","October","Nov.","Dec.","January","Feb.","March","April","May","June",{"$f":"Head9","v":"Budget Year 2025/26"},{"$f":"Head10","v":"Budget Year +1 2026/27"},{"$f":"Head11","v":"Budget Year +2 2027/28"}]
[{"$f":"'A5-Capex'!A42","v":"Capital Expenditure - Functional"},1]
[{"$f":"'A5-Capex'!A43","v":"Governance and administration"},null,{"$f":"SUM(C6:C8)","v":4583333.333333333},{"$f":"SUM(D6:D8)","v":4583333.333333333},{"$f":"SUM(E6:E8)","v":4583333.333333333},4583333.333333333,4583333.333333333,4583333.333333333,4583333.333333333,4583333.333333333,4583333.333333333,4583333.333333333,4583333.333333333,{"$f":"O5-SUM(C5:M5)","v":4583333.3333333284},{"$f":"'A5-Capex'!J43","v":55000000},{"$f":"'A5-Capex'!K43","v":57475000},{"$f":"'A5-Capex'!L43","v":49681000}]
[{"$f":"'A5-Capex'!A44","v":"Executive and council"},null,null,null,null,null,null,null,null,null,null,null,null,{"$f":"O6-SUM(C6:M6)","v":0},{"$f":"'A5-Capex'!J44","v":0},{"$f":"'A5-Capex'!K44","v":0},{"$f":"'A5-Capex'!L44","v":0}]
[{"$f":"'A5-Capex'!A45","v":"Finance and administration"},null,4583333.333333333,4583333.333333333,4583333.333333333,4583333.333333333,4583333.333333333,4583333.333333333,4583333.333333333,4583333.333333333,4583333.333333333,4583333.333333333,4583333.333333333,4583333.3333333284,{"$f":"'A5-Capex'!J45","v":55000000},{"$f":"'A5-Capex'!K45","v":57475000},{"$f":"'A5-Capex'!L45","v":49681000}]
[{"$f":"'A5-Capex'!A46","v":"Internal audit"},null,null,null,null,null,null,null,null,null,null,null,null,0,{"$f":"'A5-Capex'!J46","v":0},{"$f":"'A5-Capex'!K46","v":0},{"$f":"'A5-Capex'!L46","v":0}]
[{"$f":"'A5-Capex'!A47","v":"Community and public safety"},null,{"$f":"SUM(C10:C14)","v":1218060},{"$f":"SUM(D10:D14)","v":1218060},1218060,1218060,1218060,1218060,1218060,1218060,1218060,1218060,1218060,1218060,{"$f":"'A5-Capex'!J47","v":14616720},{"$f":"'A5-Capex'!K47","v":15493723},{"$f":"'A5-Capex'!L47","v":48221227}]
[{"$f":"'A5-Capex'!A48","v":"Community and social services"},null,1218060,1218060,1218060,1218060,1218060,1218060,1218060,1218060,1218060,1218060,1218060,1218060,{"$f":"'A5-Capex'!J48","v":14616720},{"$f":"'A5-Capex'!K48","v":15493723},{"$f":"'A5-Capex'!L48","v":48221227}]
[{"$f":"'A5-Capex'!A49","v":"Sport and recreation"},null,null,null,null,null,null,null,null,null,null,null,null,0,{"$f":"'A5-Capex'!J49","v":0},{"$f":"'A5-Capex'!K49","v":0},{"$f":"'A5-Capex'!L49","v":0}]
[{"$f":"'A5-Capex'!A50","v":"Public safety"},null,null,null,null,null,null,null,null,null,null,null,null,0,{"$f":"'A5-Capex'!J50","v":0},{"$f":"'A5-Capex'!K50","v":0},{"$f":"'A5-Capex'!L50","v":0}]
[{"$f":"'A5-Capex'!A51","v":"Housing"},null,null,null,null,null,null,null,null,null,null,null,null,0,{"$f":"'A5-Capex'!J51","v":0},{"$f":"'A5-Capex'!K51","v":0},{"$f":"'A5-Capex'!L51","v":0}]
[{"$f":"'A5-Capex'!A52","v":"Health"},null,null,null,null,null,null,null,null,null,null,null,null,0,{"$f":"'A5-Capex'!J52","v":0},{"$f":"'A5-Capex'!K52","v":0},{"$f":"'A5-Capex'!L52","v":0}]
[{"$f":"'A5-Capex'!A53","v":"Economic and environmental services"},null,{"$f":"SUM(C16:C18)","v":12965333.333333334},{"$f":"SUM(D16:D18)","v":12965333.333333334},12965333.333333334,12965333.333333334,12965333.333333334,12965333.333333334,12965333.333333334,12965333.333333334,12965333.333333334,12965333.333333334,12965333.333333334,12965333.333333343,{"$f":"'A5-Capex'!J53","v":155584000},{"$f":"'A5-Capex'!K53","v":169782200},{"$f":"'A5-Capex'!L53","v":213712595}]
[{"$f":"'A5-Capex'!A54","v":"Planning and development"},null,2500000,2500000,2500000,2500000,2500000,2500000,2500000,2500000,2500000,2500000,2500000,2500000,{"$f":"'A5-Capex'!J54","v":30000000},{"$f":"'A5-Capex'!K54","v":33000000},{"$f":"'A5-Capex'!L54","v":40000000}]
[{"$f":"'A5-Capex'!A55","v":"Road transport"},null,10465333.333333334,10465333.333333334,10465333.333333334,10465333.333333334,10465333.333333334,10465333.333333334,10465333.333333334,10465333.333333334,10465333.333333334,10465333.333333334,10465333.333333334,10465333.333333343,{"$f":"'A5-Capex'!J55","v":125584000},{"$f":"'A5-Capex'!K55","v":136782200},{"$f":"'A5-Capex'!L55","v":173712595}]
[{"$f":"'A5-Capex'!A56","v":"Environmental protection"},null,null,null,null,null,null,null,null,null,null,null,null,0,{"$f":"'A5-Capex'!J56","v":0},{"$f":"'A5-Capex'!K56","v":0},{"$f":"'A5-Capex'!L56","v":0}]
[{"$f":"'A5-Capex'!A57","v":"Trading services"},null,{"$f":"SUM(C20:C23)","v":33537516.75},{"$f":"SUM(D20:D23)","v":33537516.75},33537516.75,33537516.75,33537516.75,33537516.75,33537516.75,33537516.75,33537516.75,33537516.75,33537516.75,{"$f":"O19-SUM(C19:M19)","v":33537516.75},{"$f":"'A5-Capex'!J57","v":402450201},{"$f":"'A5-Capex'!K57","v":277006348},{"$f":"'A5-Capex'!L57","v":244297517}]
[{"$f":"'A5-Capex'!A58","v":"Energy sources"},null,15111063.416666666,15111063.416666666,15111063.416666666,15111063.416666666,15111063.416666666,15111063.416666666,15111063.416666666,15111063.416666666,15111063.416666666,15111063.416666666,15111063.416666666,15111063.416666687,{"$f":"'A5-Capex'!J58","v":181332761},{"$f":"'A5-Capex'!K58","v":30809362},{"$f":"'A5-Capex'!L58","v":31863048}]
[{"$f":"'A5-Capex'!A59","v":"Water management"},null,9075000,9075000,9075000,9075000,9075000,9075000,9075000,9075000,9075000,9075000,9075000,9075000,{"$f":"'A5-Capex'!J59","v":108900000},{"$f":"'A5-Capex'!K59","v":127246500},{"$f":"'A5-Capex'!L59","v":83650313}]
[{"$f":"'A5-Capex'!A60","v":"Waste water management"},null,9351453.333333334,9351453.333333334,9351453.333333334,9351453.333333334,9351453.333333334,9351453.333333334,9351453.333333334,9351453.333333334,9351453.333333334,9351453.333333334,9351453.333333334,9351453.3333333433,{"$f":"'A5-Capex'!J60","v":112217440},{"$f":"'A5-Capex'!K60","v":118950486},{"$f":"'A5-Capex'!L60","v":128784156}]
[{"$f":"'A5-Capex'!A61","v":"Waste management"},null,null,null,null,null,null,null,null,null,null,null,null,0,{"$f":"'A5-Capex'!J61","v":0},{"$f":"'A5-Capex'!K61","v":0},{"$f":"'A5-Capex'!L61","v":0}]
[{"$f":"'A5-Capex'!A62","v":"Other"},null,null,null,null,null,null,null,null,null,null,null,null,{"$f":"O24-SUM(C24:M24)","v":0},{"$f":"'A5-Capex'!J62","v":0},{"$f":"'A5-Capex'!K62","v":0},{"$f":"'A5-Capex'!L62","v":0}]
[{"$f":"'A5-Capex'!A63","v":"Total Capital Expenditure - Functional"},2,{"$f":"C5+C9+C15+C19+C24","v":52304243.416666672},{"$f":"D5+D9+D15+D19+D24","v":52304243.416666672},52304243.416666672,52304243.416666672,52304243.416666672,52304243.416666672,52304243.416666672,52304243.416666672,52304243.416666672,52304243.416666672,52304243.416666672,{"$f":"N5+N9+N15+N19+N24","v":52304243.416666672},627650921,519757271,555912339]
[]
["Funded by:"]
["National Government",null,31343876.666666668,31343876.666666668,31343876.666666668,31343876.666666668,31343876.666666668,31343876.666666668,31343876.666666668,31343876.666666668,31343876.666666668,31343876.666666668,31343876.666666668,{"$f":"O28-SUM(C28:M28)","v":31343876.666666627},{"$f":"'A5-Capex'!J66","v":376126520},{"$f":"'A5-Capex'!K66","v":429887271},{"$f":"'A5-Capex'!L66","v":455998188}]
["Provincial Government",null,null,null,null,null,null,null,null,null,null,null,null,{"$f":"O29-SUM(C29:M29)","v":0},{"$f":"'A5-Capex'!J67","v":0},{"$f":"'A5-Capex'!K67","v":0},{"$f":"'A5-Capex'!L67","v":0}]
["District Municipality",null,null,null,null,null,null,null,null,null,null,null,null,{"$f":"O30-SUM(C30:M30)","v":0},{"$f":"'A5-Capex'!J68","v":0},{"$f":"'A5-Capex'!K68","v":0},{"$f":"'A5-Capex'!L68","v":0}]
[{"$f":"'A5-Capex'!A69","v":"Transfers and subsidies - capital (monetary allocations) (Nat / Prov Departm Agencies, Households, Non-profit Institutions, Private Enterprises, Public Corporatons, Higher Educ Institutions)"},null,null,null,null,null,null,null,null,null,null,null,null,{"$f":"O31-SUM(C31:M31)","v":0},{"$f":"'A5-Capex'!J69","v":0},{"$f":"'A5-Capex'!K69","v":0},{"$f":"'A5-Capex'!L69","v":0}]
["Transfers recognised - capital",null,{"$f":"SUM(C28:C31)","v":31343876.666666668},{"$f":"SUM(D28:D31)","v":31343876.666666668},31343876.666666668,31343876.666666668,31343876.666666668,31343876.666666668,31343876.666666668,31343876.666666668,31343876.666666668,31343876.666666668,31343876.666666668,{"$f":"SUM(N28:N31)","v":31343876.666666627},376126520,429887271,455998188]
[]
["Borrowing",null,13460366.746666664,13460366.746666664,13460366.746666664,13460366.746666664,13460366.746666664,13460366.746666664,13460366.746666664,13460366.746666664,13460366.746666664,13460366.746666664,13460366.746666664,13460366.74666664,{"$f":"'A5-Capex'!J72","v":161524400.95999998},{"$f":"'A5-Capex'!K72","v":0},{"$f":"'A5-Capex'!L72","v":5460125}]
["Internally generated funds",null,7500000,7500000,7500000,7500000,7500000,7500000,7500000,7500000,7500000,7500000,7500000,7500000,{"$f":"'A5-Capex'!J73","v":90000000},{"$f":"'A5-Capex'!K73","v":89870000},{"$f":"'A5-Capex'!L73","v":94454026}]
["Total Capital Funding",null,{"$f":"+C32+C34+C35","v":52304243.413333334},{"$f":"+D32+D34+D35","v":52304243.413333334},52304243.413333334,52304243.413333334,52304243.413333334,52304243.413333334,52304243.413333334,52304243.413333334,52304243.413333334,52304243.413333334,52304243.413333334,52304243.413333267,627650920.96000004,519757271,555912339]
[{"$f":"head27a","v":"References"}]
["1. Table should be completed as either Multi-Year expenditure appropriation or Budget Year and Forward Year estimates"]
[{"$f":"'SA28'!A44","v":"2. Total Capital Expenditure must reconcile to Budgeted Capital Expenditure"}]

{"sheet":"SA30","index":52,"n_rows":63,"n_cols":19,"rows_kept":63,"cut":false,"hidden":false,"merged":[[1,13,1,15],[1,1,1,12],[56,0,56,15]]}
[{"$f":"muni&\" - \"& TableA30","v":"Choose name from list - Supporting Table SA30 Budgeted monthly cash flow"}]
["MONTHLY CASH FLOWS",{"$f":"Head9","v":"Budget Year 2025/26"},null,null,null,null,null,null,null,null,null,null,null,"Medium Term Revenue and Expenditure Framework"]
["R thousand","July","August","Sept.","October","November","December","January","February","March","April","May","June",{"$f":"Head9","v":"Budget Year 2025/26"},{"$f":"Head10","v":"Budget Year +1 2026/27"},{"$f":"Head11","v":"Budget Year +2 2027/28"}]
["Cash Receipts By Source",null,null,null,null,null,null,null,null,null,null,null,null,1]
["Property rates",127690132.19924951,127690132.19924951,127690132.19924951,127690132.19924951,127690132.19924951,127690132.19924951,127690132.19924951,127690132.19924951,127690132.19924951,127690132.19924951,127690132.19924951,{"$f":"N5-SUM(B5:L5)","v":127690134.80825543},1532281589,1601234261,1641265119,100001,100001,100001]
["Service charges - electricity revenue",325260074.69855118,325260074.69855118,325260074.69855118,325260074.69855118,325260074.69855118,325260074.69855118,325260074.69855118,325260074.69855118,325260074.69855118,325260074.69855118,325260074.69855118,325260071.31593704,3903120893,4094373816,4294998133]
["Service charges - water revenue",80317999.612998724,80317999.612998724,80317999.612998724,80317999.612998724,80317999.612998724,80317999.612998724,80317999.612998724,80317999.612998724,80317999.612998724,80317999.612998724,80317999.612998724,80318002.257014036,963815998,1011042982,1060584088]
["Service charges - sanitation revenue",17327821.479862839,17327821.479862839,17327821.479862839,17327821.479862839,17327821.479862839,17327821.479862839,17327821.479862839,17327821.479862839,17327821.479862839,17327821.479862839,17327821.479862839,17327818.721508771,207933855,218122614,228810622]
["Service charges - refuse revenue",12154965.696754321,12154965.696754321,12154965.696754321,12154965.696754321,12154965.696754321,12154965.696754321,12154965.696754321,12154965.696754321,12154965.696754321,12154965.696754321,12154965.696754321,12154964.335702464,145859587,153006707,160504035]
[" "]
["Rental of facilities and equipment",3713844.6739000008,3713844.6739000008,3713844.6739000008,3713844.6739000008,3713844.6739000008,3713844.6739000008,3713844.6739000008,3713844.6739000008,3713844.6739000008,3713844.6739000008,3713844.6739000008,3713843.5870999917,44566135,46749876,49040619]
["Interest earned - external investments",1666351.9611666687,1666351.9611666687,1666351.9611666687,1666351.9611666687,1666351.9611666687,1666351.9611666687,1666351.9611666687,1666351.9611666687,1666351.9611666687,1666351.9611666687,1666351.9611666687,1666356.4271666445,19996228,20976044,22003870]
["Interest earned - outstanding debtors",0,0,0,0,0,0,0,0,0,0,0,0,0,0,0]
["Dividends received",0,0,0,0,0,0,0,0,0,0,0,0,0,0,0]
["Fines, penalties and forfeits",1017762.1828583293,1017762.1828583293,1017762.1828583293,1017762.1828583293,1017762.1828583293,1017762.1828583293,1017762.1828583293,1017762.1828583293,1017762.1828583293,1017762.1828583293,1017762.1828583293,1017757.9885583781,12213142,12811586,13439353]
["Licences and permits",258054.7696999996,258054.7696999996,258054.7696999996,258054.7696999996,258054.7696999996,258054.7696999996,258054.7696999996,258054.7696999996,258054.7696999996,258054.7696999996,258054.7696999996,258053.53330000443,3096656,3248392,3407563]
["Agency services",458965.20599999931,458965.20599999931,458965.20599999931,458965.20599999931,458965.20599999931,458965.20599999931,458965.20599999931,458965.20599999931,458965.20599999931,458965.20599999931,458965.20599999931,458965.73400000762,5507583,5777455,6060550]
["Transfers and Subsidies - Operational",85091349.583333254,85091349.583333254,85091349.583333254,85091349.583333254,85091349.583333254,85091349.583333254,85091349.583333254,85091349.583333254,85091349.583333254,85091349.583333254,85091349.583333254,56227349.583334208,992232195,1065080549,1111919830]
["Other revenue",10739694.287359923,10739694.287359923,10739694.287359923,10739694.287359923,10739694.287359923,10739694.287359923,10739694.287359923,10739694.287359923,10739694.287359923,10739694.287359923,10739694.287359923,10739697.839040846,128876335,135191276,141815648]
["Cash Receipts by Source",{"$f":"SUM(B5:B9)+SUM(B11:B19)","v":665697016.35173476},{"$f":"SUM(C5:C9)+SUM(C11:C19)","v":665697016.35173476},665697016.35173476,665697016.35173476,665697016.35173476,665697016.35173476,665697016.35173476,665697016.35173476,665697016.35173476,665697016.35173476,665697016.35173476,636833016.13091779,{"$f":"SUM(N5:N9)+SUM(N11:N19)","v":7959500196},8367615558,8733849430]
[]
["Other Cash Flows by Source"]
["Transfers and subsidies - capital (monetary allocations) (National / Provincial and District)",31343876.666666668,31343876.666666668,31343876.666666668,31343876.666666668,31343876.666666668,31343876.666666668,31343876.666666668,31343876.666666668,31343876.666666668,31343876.666666668,31343876.666666668,{"$f":"N23-SUM(B23:L23)","v":31343876.666666627},376126520,429887271,457346507]
["Transfers and subsidies - capital (monetary allocations) (Nat / Prov Departm Agencies, Households, Non-profit Institutions, Private Enterprises, Public Corporatons, Higher Educ Institutions)",null,null,null,null,null,null,null,null,null,null,null,{"$f":"N24-SUM(B24:L24)","v":0},0,0,0]
["Proceeds on Disposal of Fixed and Intangible Assets",null,null,null,null,null,null,null,null,null,null,null,0,0,0,0]
["Short term loans",null,null,null,null,null,null,null,null,null,null,null,0,0,0,0]
["Borrowing long term/refinancing",null,null,null,null,null,null,null,null,null,null,null,161524401,161524401,0,0]
["Increase (decrease) in consumer deposits",null,null,null,null,null,null,null,null,null,null,null,0,0,0,0]
["VAT Control (receipts)",null,null,null,null,null,null,null,null,null,null,null,0,0,0,0]
["Decrease (increase) in non-current receivables",null,null,null,null,null,null,null,null,null,null,null,0,0,0,0]
["Decrease (increase) in non-current investments",null,null,null,null,null,null,null,null,null,null,null,0,0,0,0]
["Total Cash Receipts by Source",{"$f":"SUM(B20:B31)","v":697040893.01840138},{"$f":"SUM(C20:C31)","v":697040893.01840138},697040893.01840138,697040893.01840138,697040893.01840138,697040893.01840138,697040893.01840138,697040893.01840138,697040893.01840138,697040893.01840138,697040893.01840138,829701293.79758441,8497151117,8797502829,9191195937]
[]
["Cash Payments by Type"]
["Employee related costs",160057918.5,160057918.5,160057918.5,160057918.5,160057918.5,160057918.5,160057918.5,160057918.5,160057918.5,160057918.5,160057918.5,{"$f":"(N35-SUM(B35:L35))","v":160057918.5},1920695022,2059215848,2204701581]
["Remuneration of councillors",5870803.916666667,5870803.916666667,5870803.916666667,5870803.916666667,5870803.916666667,5870803.916666667,5870803.916666667,5870803.916666667,5870803.916666667,5870803.916666667,5870803.916666667,{"$f":"(N36-SUM(B36:L36))","v":5870803.9166666791},70449647,73901680,77522862]
["Interest",4681666.666666667,4681666.666666667,4681666.666666667,4681666.666666667,4681666.666666667,4681666.666666667,4681666.666666667,4681666.666666667,4681666.666666667,4681666.666666667,4681666.666666667,{"$f":"(N37-SUM(B37:L37))","v":4681666.6666666716},56180000,58708100,62230586]
["Bulk purchases - electricity ",293544430.66666669,293544430.66666669,293544430.66666669,293544430.66666669,293544430.66666669,293544430.66666669,293544430.66666669,293544430.66666669,293544430.66666669,293544430.66666669,293544430.66666669,{"$f":"(N38-SUM(B38:L38))","v":293544430.66666698},3522533168,3695137293,3776199021]
["Acquisitions - water & other inventory",84460520.166666672,84460520.166666672,84460520.166666672,84460520.166666672,84460520.166666672,84460520.166666672,84460520.166666672,84460520.166666672,84460520.166666672,84460520.166666672,84460520.166666672,{"$f":"(N39-SUM(B39:L39))","v":84460520.166666746},1013526242,1068601365,1023752156]
[]
["Contracted services",71319194.833333328,71319194.833333328,71319194.833333328,71319194.833333328,71319194.833333328,71319194.833333328,71319194.833333328,71319194.833333328,71319194.833333328,71319194.833333328,71319194.833333328,{"$f":"(N41-SUM(B41:L41))","v":71319194.833333254},855830338,970844182,1041668704]
["Transfers and subsidies - other municipalities",6038078,6038078,6038078,6038078,6038078,6038078,6038078,6038078,6038078,6038078,6038078,{"$f":"(N42-SUM(B42:L42))","v":6038078},72456936,76007326,79731684]
["Transfers and subsidies - other",0,0,0,0,0,0,0,0,0,0,0,{"$f":"(N43-SUM(B43:L43))*-1","v":0}]
["Other expenditure",null,null,null,null,null,null,null,null,null,null,null,0]
["Cash Payments by Type",{"$f":"SUM(B35:B44)","v":625972612.75},{"$f":"SUM(C35:C44)","v":625972612.75},625972612.75,625972612.75,625972612.75,625972612.75,625972612.75,625972612.75,625972612.75,625972612.75,625972612.75,{"$f":"(N45-SUM(B45:L45))","v":625972612.75},{"$f":"SUM(N35:N44)","v":7511671353},8002415794,{"$f":"SUM(P35:P44)","v":8265806594}]
[]
["Other Cash Flows/Payments by Type"]
["Capital assets",52304243.416666664,52304243.416666664,52304243.416666664,52304243.416666664,52304243.416666664,52304243.416666664,52304243.416666664,52304243.416666664,52304243.416666664,52304243.416666664,52304243.416666664,{"$f":"N48-SUM(B48:L48)","v":52304243.416666627},627650921,519887271,557346507]
["Repayment of borrowing",7500000,7500000,7500000,7500000,7500000,7500000,7500000,7500000,7500000,7500000,7500000,{"$f":"N49-SUM(B49:L49)","v":7500000},90000000,90000000,90000000]
["Other Cash Flows/Payments",19895231.916666668,19895231.916666668,19895231.916666668,19895231.916666668,19895231.916666668,19895231.916666668,19895231.916666668,19895231.916666668,19895231.916666668,19895231.916666668,19895231.916666668,{"$f":"N50-SUM(B50:L50)","v":19895231.916666687},238742783,173655797,276898848]
["Total Cash Payments by Type",{"$f":"SUM(B45:B50)","v":705672088.08333325},{"$f":"SUM(C45:C50)","v":705672088.08333325},705672088.08333325,705672088.08333325,705672088.08333325,705672088.08333325,705672088.08333325,705672088.08333325,705672088.08333325,705672088.08333325,705672088.08333325,705672088.08333325,8468065057,8785958862,9190051949,null,"Check"]
[]
["NET INCREASE/(DECREASE) IN CASH HELD",{"$f":"B32-B51","v":-8631195.0649318695},{"$f":"C32-C51","v":-8631195.0649318695},-8631195.0649318695,-8631195.0649318695,-8631195.0649318695,-8631195.0649318695,-8631195.0649318695,-8631195.0649318695,-8631195.0649318695,-8631195.0649318695,-8631195.0649318695,124029205.71425116,29086060,11543967,1143988]
["Cash/cash equivalents at the month/year begin:",366360226,{"$f":"B55","v":357729030.93506813},{"$f":"C55","v":349097835.87013626},340466640.80520439,331835445.74027252,323204250.67534065,314573055.61040878,305941860.54547691,297310665.48054504,288679470.41561317,280048275.3506813,271417080.28574944,{"$f":"B54","v":366360226},{"$f":"N55","v":395446286},{"$f":"O55","v":406990253}]
["Cash/cash equivalents at the month/year end:",{"$f":"B54+B53","v":357729030.93506813},{"$f":"C54+C53","v":349097835.87013626},{"$f":"D54+D53","v":340466640.80520439},331835445.74027252,323204250.67534065,314573055.61040878,305941860.54547691,297310665.48054504,288679470.41561317,280048275.3506813,271417080.28574944,395446286.0000006,{"$f":"N54+N53","v":395446286},406990253,408134241]
[{"$f":"head27a","v":"References"}]
["1. Note that this section of Table SA 30 is deliberately not linked to Table A4 because timing differences between the invoicing of clients and receiving the cash means that the cashflow will differ from budgeted revenue, and similarly for budgeted expenditure. However for the MTREF it is now directly linked to A7."]
["2. Bulk purchases - Electricity & Waste Water - use detail information from Table SA1"]
["3. Acquisition Inventory - Water & other inventory - use detail information from Table SA3"]
[]
[]
[null,null,null,null,{"$f":"E45+E61","v":625972612.75},625972612.75,625972612.75,625972612.75,625972612.75,625972612.75,625972612.75,625972612.75]
[null,null,null,null,{"$f":"E53-E61","v":-8631195.0649318695},-8631195.0649318695,-8631195.0649318695,-8631195.0649318695,-8631195.0649318695,-8631195.0649318695,-8631195.0649318695,-8631195.0649318695]

{"sheet":"SA31","index":53,"n_rows":41,"n_cols":11,"rows_kept":41,"cut":false,"hidden":false,"merged":[[1,5,1,7],[1,8,1,10],[1,1,2,1]]}
[{"$f":"muni&\" - \"& TableA31","v":"Choose name from list - NOT REQUIRED - municipality does not have entities"}]
[{"$f":"desc","v":"Description"},{"$f":"head27","v":"Ref"},{"$f":"head1b","v":"2021/22"},{"$f":"head1A","v":"2022/23"},{"$f":"Head1","v":"2023/24"},{"$f":"Head2","v":"Current Year 2024/25"},null,null,{"$f":"Head3","v":"2025/26 Medium Term Revenue & Expenditure Framework"}]
["R million",null,{"$f":"Head5","v":"Audited Outcome"},{"$f":"Head5","v":"Audited Outcome"},{"$f":"Head5","v":"Audited Outcome"},{"$f":"Head6","v":"Original Budget"},{"$f":"Head7","v":"Adjusted Budget"},{"$f":"Head8","v":"Full Year Forecast"},{"$f":"Head9","v":"Budget Year 2025/26"},{"$f":"Head10","v":"Budget Year +1 2026/27"},{"$f":"Head11","v":"Budget Year +2 2027/28"}]
["Financial Performance"]
["Property rates"]
["Service charges"]
["Investment revenue"]
["Transfer and subsidies - Operational"]
["Other own revenue"]
["Transfers and subsidies - capital (monetary allocations) (National / Provincial Departmental Agencies, Households, Non-profit Institutions, Private Enterprises, Public Corporatons, Higher Educational Institutions) & Transfers and subsidies - capital (in-kind - all) "]
[{"$f":"'A4-FinPerf RE'!A33","v":"Total Revenue (excluding capital transfers and contributions)"},null,{"$f":"SUM(C5:C10)","v":0},{"$f":"SUM(D5:D10)","v":0},0,0,0,0,0,{"$f":"SUM(J5:J10)","v":0},{"$f":"SUM(K5:K10)","v":0}]
["Employee costs"]
["Remuneration of Board Members"]
["Depreciation and amortisation"]
["Interest"]
["Inventory consumed and bulk purchases"]
["Transfers and subsidies"]
["Other expenditure"]
[{"$f":"'A4-FinPerf RE'!A48","v":"Total Expenditure"},null,{"$f":"SUM(C12:C18)","v":0},{"$f":"SUM(D12:D18)","v":0},0,0,0,0,0,0,0]
[{"$f":"'A4-FinPerf RE'!A49","v":"Surplus/(Deficit)"},null,{"$f":"+C11-C19","v":0},{"$f":"+D11-D19","v":0},0,0,0,0,0,0,0]
[]
["Capital expenditure & funds sources"]
["Capital expenditure"]
["Transfers recognised - capital"]
[]
[{"$f":"'A5-Capex'!A72","v":"Borrowing"}]
[{"$f":"'A5-Capex'!A73","v":"Internally generated funds"}]
["Total sources",null,{"$f":"SUM(C24:C27)","v":0},{"$f":"SUM(D24:D27)","v":0},0,0,0,0,0,0,0]
[]
["Financial position"]
[{"$f":"'A6-FinPos'!A13","v":"Total current assets"}]
[{"$f":"'A6-FinPos'!A25","v":"Total non current assets"}]
[{"$f":"'A6-FinPos'!A37","v":"Total current liabilities"}]
[{"$f":"'A6-FinPos'!A43","v":"Total non current liabilities"}]
["Community wealth/Equity"]
[]
["Cash flows"]
["Net cash from (used) operating"]
["Net cash from (used) investing"]
["Net cash from (used) financing"]
[{"$f":"LEFT('A7-CFlow'!A40,37)","v":"Cash/cash equivalents at the year end"}]

{"sheet":"SA32","index":54,"n_rows":27,"n_cols":6,"rows_kept":27,"cut":false,"hidden":false,"merged":[[1,3,2,3],[1,4,2,4],[1,1,2,1]]}
[{"$f":"muni&\" - \"&TableA32","v":"Choose name from list - Supporting Table SA32 List of external mechanisms"}]
["External mechanism","Yrs/ Mths","Period of agreement 1.","Service provided","Expiry date of service delivery agreement or contract","Monetary value of agreement 2."]
["Name of organisation",null,"Number",null,null,"R thousand"]
[]
[]
[]
[]
[]
[]
[]
[]
[]
[]
[]
[]
[]
[]
[]
[]
[]
[]
[]
[]
[]
[{"$f":"head27a","v":"References"}]
["1. Total agreement period from commencement until end"]
["2. Annual value"]

{"sheet":"SA33","index":55,"n_rows":48,"n_cols":15,"rows_kept":48,"cut":false,"hidden":false,"merged":[[1,4,1,6],[47,0,47,13]]}
[{"$f":"muni&\" - \"& TableA33","v":"Choose name from list - Supporting Table SA33 Contracts having future budgetary implications"}]
[{"$f":"desc","v":"Description"},{"$f":"head27","v":"Ref"},"Preceding Years",{"$f":"Head2","v":"Current Year 2024/25"},{"$f":"Head3","v":"2025/26 Medium Term Revenue & Expenditure Framework"},null,null,{"$f":"Head12","v":"Forecast 2028/29"},{"$f":"Head13","v":"Forecast 2029/30"},{"$f":"Head14","v":"Forecast 2030/31"},{"$f":"Head15","v":"Forecast 2031/32"},{"$f":"Head16","v":"Forecast 2032/33"},{"$f":"Head17","v":"Forecast 2033/34"},{"$f":"Head18","v":"Forecast 2034/35"},"Total Contract Value"]
["R thousand","1,3","Total",{"$f":"Head6","v":"Original Budget"},{"$f":"Head9","v":"Budget Year 2025/26"},{"$f":"Head10","v":"Budget Year +1 2026/27"},{"$f":"Head11","v":"Budget Year +2 2027/28"},"Estimate","Estimate","Estimate","Estimate","Estimate","Estimate","Estimate","Estimate"]
["Parent Municipality:"]
["Revenue Obligation By Contract",2]
["Contract 1",null,null,null,null,null,null,null,null,null,null,null,null,null,{"$f":"SUM(C6:N6)","v":0}]
["Contract 2",null,null,null,null,null,null,null,null,null,null,null,null,null,{"$f":"SUM(C7:N7)","v":0}]
["Contract 3 etc",null,null,null,null,null,null,null,null,null,null,null,null,null,{"$f":"SUM(C8:N8)","v":0}]
["Total Operating Revenue Implication",null,{"$f":"SUM(C6:C8)","v":0},{"$f":"SUM(D6:D8)","v":0},0,0,0,0,0,0,0,0,0,0,{"$f":"SUM(C9:N9)","v":0}]
[]
["Expenditure Obligation By Contract",2]
["Contract 1",null,null,null,null,null,null,null,null,null,null,null,null,null,{"$f":"SUM(C12:N12)","v":0}]
["Contract 2",null,null,null,null,null,null,null,null,null,null,null,null,null,{"$f":"SUM(C13:N13)","v":0}]
["Contract 3 etc",null,null,null,null,null,null,null,null,null,null,null,null,null,{"$f":"SUM(C14:N14)","v":0}]
["Total Operating Expenditure Implication",null,{"$f":"SUM(C12:C14)","v":0},{"$f":"SUM(D12:D14)","v":0},0,0,0,0,0,0,0,0,0,0,{"$f":"SUM(C15:N15)","v":0}]
[]
["Capital Expenditure Obligation By Contract",2]
["Contract 1",null,null,null,null,null,null,null,null,null,null,null,null,null,{"$f":"SUM(C18:N18)","v":0}]
["Contract 2",null,null,null,null,null,null,null,null,null,null,null,null,null,{"$f":"SUM(C19:N19)","v":0}]
["Contract 3 etc",null,null,null,null,null,null,null,null,null,null,null,null,null,{"$f":"SUM(C20:N20)","v":0}]
["Total Capital Expenditure Implication",null,{"$f":"SUM(C18:C20)","v":0},{"$f":"SUM(D18:D20)","v":0},0,0,0,0,0,0,0,0,0,0,{"$f":"SUM(C21:N21)","v":0}]
[]
["Total Parent Expenditure Implication",null,{"$f":"C15+C21","v":0},{"$f":"D15+D21","v":0},0,0,0,0,0,0,0,0,0,0,0]
[]
["Entities:"]
["Revenue Obligation By Contract",2]
["Contract 1",null,null,null,null,null,null,null,null,null,null,null,null,null,{"$f":"SUM(C27:N27)","v":0}]
["Contract 2",null,null,null,null,null,null,null,null,null,null,null,null,null,{"$f":"SUM(C28:N28)","v":0}]
["Contract 3 etc",null,null,null,null,null,null,null,null,null,null,null,null,null,{"$f":"SUM(C29:N29)","v":0}]
["Total Operating Revenue Implication",null,{"$f":"SUM(C27:C29)","v":0},{"$f":"SUM(D27:D29)","v":0},0,0,0,0,0,0,0,0,0,0,{"$f":"SUM(C30:N30)","v":0}]
[]
["Expenditure Obligation By Contract",2]
["Contract 1",null,null,null,null,null,null,null,null,null,null,null,null,null,{"$f":"SUM(C33:N33)","v":0}]
["Contract 2",null,null,null,null,null,null,null,null,null,null,null,null,null,{"$f":"SUM(C34:N34)","v":0}]
["Contract 3 etc",null,null,null,null,null,null,null,null,null,null,null,null,null,{"$f":"SUM(C35:N35)","v":0}]
["Total Operating Expenditure Implication",null,{"$f":"SUM(C33:C35)","v":0},{"$f":"SUM(D33:D35)","v":0},0,0,0,0,0,0,0,0,0,0,{"$f":"SUM(C36:N36)","v":0}]
[]
["Capital Expenditure Obligation By Contract",2]
["Contract 1",null,null,null,null,null,null,null,null,null,null,null,null,null,{"$f":"SUM(C39:N39)","v":0}]
["Contract 2",null,null,null,null,null,null,null,null,null,null,null,null,null,{"$f":"SUM(C40:N40)","v":0}]
["Contract 3 etc",null,null,null,null,null,null,null,null,null,null,null,null,null,{"$f":"SUM(C41:N41)","v":0}]
["Total Capital Expenditure Implication",null,{"$f":"SUM(C39:C41)","v":0},{"$f":"SUM(D39:D41)","v":0},0,0,0,0,0,0,0,0,0,0,{"$f":"SUM(C42:N42)","v":0}]
[]
["Total Entity Expenditure Implication",null,{"$f":"C36+C42","v":0},{"$f":"D36+D42","v":0},0,0,0,0,0,0,0,0,0,0,0]
[{"$f":"head27a","v":"References"}]
["1. Total implication for all preceding years to be summed and total stated in 'Preceding Years' column"]
["2. List all contracts with future financial obligations beyond the three years covered by the MTREF (MFMA s33)"]
["3. For municipalities with approved total revenue not exceeding R250 m - all contracts with an annual cost greater than R500 000. For municipalities with approved total revenue greater than R250 m - all contracts with an annual cost greater than R1million. For municipalities with approved total revenue greater than R500 m - all contracts with an annual cost greater than R5 million"]

{"sheet":"SA34a","index":56,"n_rows":178,"n_cols":11,"rows_kept":178,"cut":false,"hidden":false,"merged":[[1,5,1,7],[1,8,1,10]]}
[{"$f":"muni&\" - \"&TableA34a","v":"Choose name from list - Supporting Table SA34a Capital expenditure on new assets by asset class"}]
[{"$f":"desc","v":"Description"},{"$f":"head27","v":"Ref"},{"$f":"head1b","v":"2021/22"},{"$f":"head1A","v":"2022/23"},{"$f":"Head1","v":"2023/24"},{"$f":"Head2","v":"Current Year 2024/25"},null,null,{"$f":"Head3","v":"2025/26 Medium Term Revenue & Expenditure Framework"}]
["R thousand",1,{"$f":"Head5","v":"Audited Outcome"},{"$f":"Head5","v":"Audited Outcome"},{"$f":"Head5","v":"Audited Outcome"},{"$f":"Head6","v":"Original Budget"},{"$f":"Head7","v":"Adjusted Budget"},{"$f":"Head8","v":"Full Year Forecast"},{"$f":"Head9","v":"Budget Year 2025/26"},{"$f":"Head10","v":"Budget Year +1 2026/27"},{"$f":"Head11","v":"Budget Year +2 2027/28"}]
["Capital expenditure on new assets by Asset Class/Sub-class"]
[]
["Infrastructure",null,{"$f":"C7+C12+C16+C26+C37+C44+C52+C62+C68","v":12565963813},{"$f":"D7+D12+D16+D26+D37+D44+D52+D62+D68","v":552513858},819701147,448519890,378931771,378931771,300264201,157227348,237118905]
["Roads Infrastructure",null,{"$f":"SUM(C8:C11)","v":0},0,0,41070144,44271280,44271280,13214000,1045000,79467025]
["Roads",null,null,null,null,5550000,43471280,43471280,13214000,1045000,79467025]
["Road Structures",null,null,null,null,35420144]
["Road Furniture",null,null,null,null,100000,800000,800000]
["Capital Spares"]
["Storm water Infrastructure",null,{"$f":"SUM(C13:C15)","v":0},{"$f":"SUM(D13:D15)","v":0},0,0,0,0,0,0,0]
["Drainage Collection"]
["Storm water Conveyance"]
["Attenuation"]
["Electrical Infrastructure",null,{"$f":"SUM(C17:C25)","v":12565963813},552513858,819701147,222417552,226690856,226690856,181332761,30809362,31863048]
["Power Plants"]
["HV Substations",null,null,null,null,40007000,172315856,172315856,126524401,null,5460125]
["HV Switching Station"]
["HV Transmission Conductors"]
["MV Substations",null,12565963813,552513858,819701147]
["MV Switching Stations"]
["MV Networks",null,null,null,null,null,14300000,14300000,5000000]
["LV Networks",null,null,null,null,182410552,9571000,9571000,30308360,13746862,12211673]
["Capital Spares",null,null,null,null,null,30504000,30504000,19500000,17062500,14191250]
["Water Supply Infrastructure",null,{"$f":"SUM(C27:C36)","v":0},{"$f":"SUM(D27:D36)","v":0},0,87985559,37499304,37499304,37500000,53062500,46650313]
["Dams and Weirs"]
["Boreholes"]
["Reservoirs",null,null,null,null,18805000,9320000,9320000,12500000,13062500,13650313]
["Pump Stations",null,null,null,null,null,2727295,2727295]
["Water Treatment Works"]
["Bulk Mains"]
["Distribution",null,null,null,null,64180559,10000000,10000000,25000000,30000000,3000000]
["Distribution Points",null,null,null,null,null,15452009,15452009,null,10000000,30000000]
["PRV Stations"]
["Capital Spares",null,null,null,null,5000000]
["Sanitation Infrastructure",null,{"$f":"SUM(C38:C43)","v":0},{"$f":"SUM(D38:D43)","v":0},0,97046635,70470331,70470331,68217440,72310486,79138519]
["Pump Station"]
["Reticulation",null,null,null,null,97046635,3000000,3000000,44184440,46835506,27003479]
["Waste Water Treatment Works"]
["Outfall Sewers",null,null,null,null,null,67470331,67470331,24033000,25474980,52135040]
["Toilet Facilities"]
["Capital Spares"]
["Solid Waste Infrastructure",null,{"$f":"SUM(C45:C51)","v":0},{"$f":"SUM(D45:D51)","v":0},0,0,0,0,0,0,0]
["Landfill Sites"]
["Waste Transfer Stations"]
["Waste Processing Facilities"]
["Waste Drop-off Points"]
["Waste Separation Facilities"]
["Electricity Generation Facilities"]
["Capital Spares"]
["Rail Infrastructure",null,{"$f":"SUM(C53:C61)","v":0},0,0,0,0,0,0,0,0]
["Rail Lines"]
["Rail Structures"]
["Rail Furniture"]
["Drainage Collection"]
["Storm water Conveyance"]
["Attenuation"]
["MV Substations"]
["LV Networks"]
["Capital Spares"]
["Coastal Infrastructure",null,{"$f":"SUM(C63:C67)","v":0},{"$f":"SUM(D63:D67)","v":0},0,0,0,0,0,0,0]
["Sand Pumps"]
["Piers"]
["Revetments"]
["Promenades"]
["Capital Spares"]
["Information and Communication Infrastructure",null,{"$f":"SUM(C69:C72)","v":0},{"$f":"SUM(D69:D72)","v":0},0,0,0,0,0,0,0]
["Data Centres"]
["Core Layers"]
["Distribution Layers"]
["Capital Spares"]
[]
["Community Assets",null,{"$f":"C75+C98","v":0},{"$f":"D75+D98","v":0},0,31232711,29871392,29871392,13400000,14204000,42547047]
["Community Facilities",null,{"$f":"SUM(C76:C97)","v":0},{"$f":"SUM(D76:D97)","v":0},0,24280151,19785832,19785832,13400000,14204000,42547047]
["Halls",null,null,null,null,13905120,17723436,17723436,13400000,14204000,42547047]
["Centres"]
["Crèches"]
["Clinics/Care Centres"]
["Fire/Ambulance Stations"]
["Testing Stations"]
["Museums"]
["Galleries"]
["Theatres"]
["Libraries"]
["Cemeteries/Crematoria",null,null,null,null,8375031]
["Police"]
["Parks"]
["Public Open Space"]
["Nature Reserves"]
["Public Ablution Facilities"]
["Markets",null,null,null,null,null,1000000,1000000]
["Stalls",null,null,null,null,2000000,1062396,1062396]
["Abattoirs"]
["Airports"]
["Taxi Ranks/Bus Terminals"]
["Capital Spares"]
["Sport and Recreation Facilities",null,{"$f":"SUM(C99:C101)","v":0},{"$f":"SUM(D99:D101)","v":0},0,6952560,10085560,10085560,0,0,0]
["Indoor Facilities"]
["Outdoor Facilities",null,null,null,null,6952560,10085560,10085560]
["Capital Spares"]
[]
["Heritage assets",null,{"$f":"SUM(C104:C108)","v":0},{"$f":"SUM(D104:D108)","v":0},50449589,0,0,0,0,0,0]
["Monuments"]
["Historic Buildings"]
["Works of Art"]
["Conservation Areas"]
["Other Heritage",null,null,null,50449589]
[]
["Investment properties",null,{"$f":"+C111+C114","v":0},{"$f":"+D111+D114","v":0},0,0,0,0,0,0,0]
["Revenue Generating",null,{"$f":"SUM(C112:C113)","v":0},0,0,0,0,0,0,0,0]
["Improved Property"]
["Unimproved Property"]
["Non-revenue Generating",null,{"$f":"SUM(C115:C116)","v":0},{"$f":"SUM(D115:D116)","v":0},0,0,0,0,0,0,0]
["Improved Property"]
["Unimproved Property"]
[]
["Other assets",null,{"$f":"+C119+C131","v":0},{"$f":"+D119+D131","v":0},0,127592971,79038771,79038771,0,0,0]
["Operational Buildings",null,{"$f":"SUM(C120:C130)","v":0},{"$f":"SUM(D120:D130)","v":0},0,0,650000,650000,0,0,0]
["Municipal Offices",null,null,null,null,null,650000,650000]
["Pay/Enquiry Points"]
["Building Plan Offices"]
["Workshops"]
["Yards"]
["Stores"]
["Laboratories"]
["Training Centres"]
["Manufacturing Plant"]
["Depots"]
["Capital Spares"]
["Housing",null,{"$f":"SUM(C132:C134)","v":0},{"$f":"SUM(D132:D134)","v":0},0,127592971,78388771,78388771,0,0,0]
["Staff Housing"]
["Social Housing",null,null,null,null,127592971,78388771,78388771]
["Capital Spares"]
[]
["Biological or Cultivated Assets",null,{"$f":"SUM(C137:C137)","v":0},0,0,0,0,0,0,0,0]
["Biological or Cultivated Assets"]
[]
["Intangible Assets",null,{"$f":"+C140+C141","v":0},{"$f":"+D140+D141","v":0},0,25650000,3400000,3400000,40000000,41800000,6000000]
["Servitudes"]
["Licences and Rights",null,{"$f":"SUM(C142:C147)","v":0},{"$f":"SUM(D142:D147)","v":0},0,25650000,3400000,3400000,40000000,41800000,6000000]
["Water Rights"]
["Effluent Licenses"]
["Solid Waste Licenses"]
["Computer Software and Applications",null,null,null,null,25000000,3400000,3400000,40000000,41800000,6000000]
["Load Settlement Software Applications",null,null,null,null,100000]
["Unspecified",null,null,null,null,550000]
[]
["Computer Equipment",null,{"$f":"SUM(C150:C150)","v":0},0,0,5400000,23408184,23408184,0,0,0]
["Computer Equipment",null,null,null,null,5400000,23408184,23408184]
[]
["Furniture and Office Equipment",null,{"$f":"SUM(C153:C153)","v":0},0,0,5205000,4697620,4697620,5000000,5225000,43681000]
["Furniture and Office Equipment",null,null,null,null,5205000,4697620,4697620,5000000,5225000,43681000]
[]
["Machinery and Equipment",null,{"$f":"SUM(C156:C156)","v":41032224.439999998},7759840.5199999996,46679332.63000001,53272822,13574431,13574431,10000000,10450000,0]
["Machinery and Equipment",null,41032224.439999998,7759840.5199999996,46679332.63000001,53272822,13574431,13574431,10000000,10450000]
[]
["Transport Assets",null,{"$f":"SUM(C159:C159)","v":0},0,0,53272822,13574431,13574431,10000000,10450000,0]
["Transport Assets",null,null,null,null,53272822,13574431,13574431,10000000,10450000]
[]
["Land",null,{"$f":"SUM(C162:C162)","v":0},0,0,18800000,21400000,21400000,0,0,0]
["Land",null,null,null,null,18800000,21400000,21400000]
[]
["Zoo's, Marine and Non-biological Animals",null,{"$f":"SUM(C165:C165)","v":0},{"$f":"SUM(D165:D165)","v":0},0,0,0,0,0,0,0]
["Zoo's, Marine and Non-biological Animals"]
[]
["Living resources"," ",{"$f":"+C168+C171","v":0},{"$f":"+D168+D171","v":0},0,0,0,0,0,0,0]
["Mature"," ",{"$f":"SUM(C169:C170)","v":0},{"$f":"SUM(D169:D170)","v":0},0,0,0,0,0,0,0]
["Policing and Protection"," "]
["Zoological plants and animals"," "]
["Immature"," ",{"$f":"SUM(C172:C173)","v":0},{"$f":"SUM(D172:D173)","v":0},0,0,0,0,0,0,0]
["Policing and Protection"," "]
["Zoological plants and animals"," "]
[""]
["Total Capital Expenditure on new assets ",1,{"$f":"C6+C74+C103+C110+C118+C136+C139+C149+C152+C155+C158+C161+C164+C167","v":12606996037.440001},{"$f":"D6+D74+D103+D110+D118+D136+D139+D149+D152+D155+D158+D161+D164+D167","v":560273698.51999998},916830068.63,768946216,567896600,567896600,378664201,239356348,329346952]
[]
[{"$f":"head27a","v":"References"}]
["1. Total Capital Expenditure on new assets (SA34a) plus Total Capital Expenditure on renewal of existing assets (SA34b) plus Total Capital Expenditure  on upgrading of existing assets (SA34e) must reconcile to total capital expenditure in Budgeted Capital Expenditure"]

{"sheet":"SA34b","index":57,"n_rows":180,"n_cols":11,"rows_kept":180,"cut":false,"hidden":false,"merged":[[1,5,1,7],[1,8,1,10]]}
[{"$f":"muni&\" - \"&TableA34b","v":"Choose name from list - Supporting Table SA34b Capital expenditure on the renewal of existing assets by asset class"}]
[{"$f":"desc","v":"Description"},{"$f":"head27","v":"Ref"},{"$f":"head1b","v":"2021/22"},{"$f":"head1A","v":"2022/23"},{"$f":"Head1","v":"2023/24"},{"$f":"Head2","v":"Current Year 2024/25"},null,null,{"$f":"Head3","v":"2025/26 Medium Term Revenue & Expenditure Framework"}]
["R thousand",1,{"$f":"Head5","v":"Audited Outcome"},{"$f":"Head5","v":"Audited Outcome"},{"$f":"Head5","v":"Audited Outcome"},{"$f":"Head6","v":"Original Budget"},{"$f":"Head7","v":"Adjusted Budget"},{"$f":"Head8","v":"Full Year Forecast"},{"$f":"Head9","v":"Budget Year 2025/26"},{"$f":"Head10","v":"Budget Year +1 2026/27"},{"$f":"Head11","v":"Budget Year +2 2027/28"}]
["Capital expenditure on renewal of existing assets by Asset Class/Sub-class"]
[]
["Infrastructure",null,{"$f":"C7+C12+C16+C26+C37+C44+C52+C62+C68","v":0},0,11937006,38471790,83722937,112015147,96640000,124645637,50530425]
["Roads Infrastructure",null,{"$f":"SUM(C8:C11)","v":0},0,0,22264000,53815147,53815147,50000000,75000000,50530425]
["Roads",null,null,null,null,22264000,29665147,29665147]
["Road Structures",null,null,null,null,null,24150000,24150000,50000000,75000000,50530425]
["Road Furniture"]
["Capital Spares"]
["Storm water Infrastructure",null,{"$f":"SUM(C13:C15)","v":0},{"$f":"SUM(D13:D15)","v":0},0,0,14200000,14200000,0,0,0]
["Drainage Collection"]
["Storm water Conveyance"]
["Attenuation",null,null,null,null,null,14200000,14200000]
["Electrical Infrastructure",null,{"$f":"SUM(C17:C25)","v":0},0,0,0,0,0,0,0,0]
["Power Plants"]
["HV Substations"]
["HV Switching Station"]
["HV Transmission Conductors"]
["MV Substations"]
["MV Switching Stations"]
["MV Networks"]
["LV Networks"]
["Capital Spares"]
["Water Supply Infrastructure",null,{"$f":"SUM(C27:C36)","v":0},{"$f":"SUM(D27:D36)","v":0},0,0,0,0,0,0,0]
["Dams and Weirs"]
["Boreholes"]
["Reservoirs"]
["Pump Stations"]
["Water Treatment Works"]
["Bulk Mains"]
["Distribution"]
["Distribution Points"]
["PRV Stations"]
["Capital Spares"]
["Sanitation Infrastructure",null,{"$f":"SUM(C38:C43)","v":0},{"$f":"SUM(D38:D43)","v":0},0,15707790,15707790,44000000,46640000,49645637,0]
["Pump Station"]
["Reticulation",null,null,null,null,15707790,15707790,44000000,46640000,49645637]
["Waste Water Treatment Works"]
["Outfall Sewers"]
["Toilet Facilities"]
["Capital Spares"]
["Solid Waste Infrastructure",null,{"$f":"SUM(C45:C51)","v":0},{"$f":"SUM(D45:D51)","v":0},0,0,0,0,0,0,0]
["Landfill Sites"]
["Waste Transfer Stations"]
["Waste Processing Facilities"]
["Waste Drop-off Points"]
["Waste Separation Facilities"]
["Electricity Generation Facilities"]
["Capital Spares"]
["Rail Infrastructure",null,{"$f":"SUM(C53:C61)","v":0},0,0,500000,0,0,0,0,0]
["Rail Lines"]
["Rail Structures"]
["Rail Furniture"]
["Drainage Collection"]
["Storm water Conveyance",null,null,null,null,500000]
["Attenuation"]
["MV Substations"]
["LV Networks"]
["Capital Spares"]
["Coastal Infrastructure",null,{"$f":"SUM(C63:C67)","v":0},{"$f":"SUM(D63:D67)","v":0},0,0,0,0,0,0,0]
["Sand Pumps"]
["Piers"]
["Revetments"]
["Promenades"]
["Capital Spares"]
["Information and Communication Infrastructure",null,{"$f":"SUM(C69:C72)","v":0},{"$f":"SUM(D69:D72)","v":0},11937006,0,0,0,0,0,0]
["Data Centres",null,null,null,11937006]
["Core Layers"]
["Distribution Layers"]
["Capital Spares"]
[]
["Community Assets",null,{"$f":"C75+C98","v":0},{"$f":"D75+D98","v":0},0,2500000,0,0,0,0,0]
["Community Facilities",null,{"$f":"SUM(C76:C97)","v":0},{"$f":"SUM(D76:D97)","v":0},0,2500000,0,0,0,0,0]
["Halls"]
["Centres"]
["Crèches"]
["Clinics/Care Centres"]
["Fire/Ambulance Stations"]
["Testing Stations"]
["Museums"]
["Galleries"]
["Theatres"]
["Libraries"]
["Cemeteries/Crematoria"]
["Police"]
["Parks"]
["Public Open Space"]
["Nature Reserves"]
["Public Ablution Facilities"]
["Markets",null,null,null,null,2500000]
["Stalls"]
["Abattoirs"]
["Airports"]
["Taxi Ranks/Bus Terminals"]
["Capital Spares"]
["Sport and Recreation Facilities",null,{"$f":"SUM(C99:C101)","v":0},{"$f":"SUM(D99:D101)","v":0},0,0,0,0,0,0,0]
["Indoor Facilities"]
["Outdoor Facilities"]
["Capital Spares"]
[]
["Heritage assets",null,{"$f":"SUM(C104:C108)","v":0},{"$f":"SUM(D104:D108)","v":0},0,0,0,0,0,0,0]
["Monuments"]
["Historic Buildings"]
["Works of Art"]
["Conservation Areas"]
["Other Heritage"]
[]
["Investment properties",null,{"$f":"+C111+C114","v":0},{"$f":"+D111+D114","v":0},0,0,0,0,0,0,0]
["Revenue Generating",null,{"$f":"SUM(C112:C113)","v":0},0,0,0,0,0,0,0,0]
["Improved Property"]
["Unimproved Property"]
["Non-revenue Generating",null,{"$f":"SUM(C115:C116)","v":0},{"$f":"SUM(D115:D116)","v":0},0,0,0,0,0,0,0]
["Improved Property"]
["Unimproved Property"]
[]
["Other assets",null,{"$f":"+C119+C131","v":0},{"$f":"+D119+D131","v":0},0,2760000,2760000,0,0,0,0]
["Operational Buildings",null,{"$f":"SUM(C120:C130)","v":0},{"$f":"SUM(D120:D130)","v":0},0,2760000,2760000,0,0,0,0]
["Municipal Offices",null,null,null,null,2510000,2510000]
["Pay/Enquiry Points"]
["Building Plan Offices",null,null,null,null,250000,250000]
["Workshops"]
["Yards"]
["Stores"]
["Laboratories"]
["Training Centres"]
["Manufacturing Plant"]
["Depots"]
["Capital Spares"]
["Housing",null,{"$f":"SUM(C132:C134)","v":0},{"$f":"SUM(D132:D134)","v":0},0,0,0,0,0,0,0]
["Staff Housing"]
["Social Housing"]
["Capital Spares"]
[]
["Biological or Cultivated Assets",null,{"$f":"SUM(C137:C137)","v":0},0,0,0,0,0,0,0,0]
["Biological or Cultivated Assets"]
[]
["Intangible Assets",null,{"$f":"+C140+C141","v":0},{"$f":"+D140+D141","v":0},0,0,0,0,0,0,0]
["Servitudes"]
["Licences and Rights",null,{"$f":"SUM(C142:C147)","v":0},{"$f":"SUM(D142:D147)","v":0},0,0,0,0,0,0,0]
["Water Rights"]
["Effluent Licenses"]
["Solid Waste Licenses"]
["Computer Software and Applications"]
["Load Settlement Software Applications"]
["Unspecified"]
[]
["Computer Equipment",null,{"$f":"SUM(C150:C150)","v":0},0,0,0,0,0,0,0,0]
["Computer Equipment"]
[]
["Furniture and Office Equipment",null,{"$f":"SUM(C153:C153)","v":0},0,0,9644178,0,0,0,0,0]
["Furniture and Office Equipment",null,null,null,null,9644178]
[]
["Machinery and Equipment",null,{"$f":"SUM(C156:C156)","v":0},0,0,0,0,0,0,0,0]
["Machinery and Equipment"]
[]
["Transport Assets",null,{"$f":"SUM(C159:C159)","v":0},0,0,0,0,0,0,0,0]
["Transport Assets"]
[]
["Land",null,{"$f":"SUM(C162:C162)","v":0},0,0,0,0,0,0,0,0]
["Land"]
[]
["Zoo's, Marine and Non-biological Animals",null,{"$f":"SUM(C165:C165)","v":0},0,0,0,0,0,0,0,0]
["Zoo's, Marine and Non-biological Animals"]
[]
["Living resources"," ",{"$f":"+C168+C171","v":0},{"$f":"+D168+D171","v":0},0,0,0,0,0,0,0]
["Mature"," ",{"$f":"SUM(C169:C170)","v":0},0,0,0,0,0,0,0,0]
["Policing and Protection"," "]
["Zoological plants and animals"," "]
["Immature"," ",{"$f":"SUM(C172:C173)","v":0},{"$f":"SUM(D172:D173)","v":0},0,0,0,0,0,0,0]
["Policing and Protection"," "]
["Zoological plants and animals"," "]
[""]
["Total Capital Expenditure on renewal of existing assets ",1,{"$f":"C6+C74+C103+C110+C118+C136+C139+C149+C152+C155+C158+C161+C164+C167","v":0},0,11937006,53375968,86482937,112015147,96640000,124645637,50530425]
[]
["Renewal of Existing Assets as % of total capex",null,{"$f":"IF(ISERROR(C175/'A9-Asset'!C110),0,(C175/'A9-Asset'!C110))","v":0},{"$f":"IF(ISERROR(D175/'A9-Asset'!D110),0,(D175/'A9-Asset'!D110))","v":0},{"$f":"IF(ISERROR(E175/'A9-Asset'!E110),0,(E175/'A9-Asset'!E110))","v":1.2852529257408738E-2},{"$f":"IF(ISERROR(F175/'A9-Asset'!F110),0,(F175/'A9-Asset'!F110))","v":5.95898482188741E-2},{"$f":"IF(ISERROR(G175/'A9-Asset'!G110),0,(G175/'A9-Asset'!G110))","v":0.10668697148828055},{"$f":"IF(ISERROR(H175/'A9-Asset'!H110),0,(H175/'A9-Asset'!H110))","v":0.13396450250429276},{"$f":"IF(ISERROR(I175/'A9-Asset'!I110),0,(I175/'A9-Asset'!I110))","v":0.15093139201328765},{"$f":"IF(ISERROR(J175/'A9-Asset'!J110),0,(J175/'A9-Asset'!J110))","v":0.23376335255559869},{"$f":"IF(ISERROR(K175/'A9-Asset'!K110),0,(K175/'A9-Asset'!K110))","v":9.9809892296649605E-2}]
["Renewal of Existing Assets as % of deprecn\"",null,{"$f":"IF(ISERROR(C175/'A9-Asset'!C183),0,(C175/'A9-Asset'!C183))","v":0},{"$f":"IF(ISERROR(D175/'A9-Asset'!D183),0,(D175/'A9-Asset'!D183))","v":0},{"$f":"IF(ISERROR(E175/'A9-Asset'!E183),0,(E175/'A9-Asset'!E183))","v":3.324519800064922E-2},{"$f":"IF(ISERROR(F175/'A9-Asset'!F183),0,(F175/'A9-Asset'!F183))","v":0.14737465612456083},{"$f":"IF(ISERROR(G175/'A9-Asset'!G183),0,(G175/'A9-Asset'!G183))","v":0.23878523572662996},{"$f":"IF(ISERROR(H175/'A9-Asset'!H183),0,(H175/'A9-Asset'!H183))","v":0.3092813936389337},{"$f":"IF(ISERROR(I175/'A9-Asset'!I183),0,(I175/'A9-Asset'!I183))","v":0.24762956318775403},{"$f":"IF(ISERROR(J175/'A9-Asset'!J183),0,(J175/'A9-Asset'!J183))","v":0.32229617291456458},{"$f":"IF(ISERROR(K175/'A9-Asset'!K183),0,(K175/'A9-Asset'!K183))","v":0.17885182300292879}]
[{"$f":"head27a","v":"References"}]
["1. Total Capital Expenditure  on renewal of existing assets (SA34b) plus Total Capital Expenditure on new assets (SA34a) plus Total Capital Expenditure  on upgrading of existing assets (SA34e) must reconcile to total capital expenditure in Budgeted Capital Expenditure"]

{"sheet":"SA34c","index":58,"n_rows":180,"n_cols":11,"rows_kept":180,"cut":false,"hidden":false,"merged":[[1,5,1,7],[1,8,1,10]]}
[{"$f":"muni&\" - \"&TableA34c","v":"Choose name from list - Supporting Table SA34c Repairs and maintenance expenditure by asset class"}]
[{"$f":"desc","v":"Description"},{"$f":"head27","v":"Ref"},{"$f":"head1b","v":"2021/22"},{"$f":"head1A","v":"2022/23"},{"$f":"Head1","v":"2023/24"},{"$f":"Head2","v":"Current Year 2024/25"},null,null,{"$f":"Head3","v":"2025/26 Medium Term Revenue & Expenditure Framework"}]
["R thousand",1,{"$f":"Head5","v":"Audited Outcome"},{"$f":"Head5","v":"Audited Outcome"},{"$f":"Head5","v":"Audited Outcome"},{"$f":"Head6","v":"Original Budget"},{"$f":"Head7","v":"Adjusted Budget"},{"$f":"Head8","v":"Full Year Forecast"},{"$f":"Head9","v":"Budget Year 2025/26"},{"$f":"Head10","v":"Budget Year +1 2026/27"},{"$f":"Head11","v":"Budget Year +2 2027/28"}]
["Repairs and maintenance expenditure by Asset Class/Sub-class"]
[]
["Infrastructure",null,{"$f":"C7+C12+C16+C26+C37+C44+C52+C62+C68","v":0},{"$f":"D7+D12+D16+D26+D37+D44+D52+D62+D68","v":0},0,520477757,341327757,341327757,422851020,468309088,501048949]
["Roads Infrastructure",null,{"$f":"SUM(C8:C11)","v":0},0,0,155466888,82866888,82866888,44920923,60212791,65348317]
["Roads",null,null,null,null,148240154,77579179,77579179,41794189,56773382,61564968]
["Road Structures",null,null,null,null,3400947,2400947,2400947,1400947,1541042,1695146]
["Road Furniture",null,null,null,null,3825787,2886762,2886762,1725787,1898367,2088203]
["Capital Spares"]
["Storm water Infrastructure",null,{"$f":"SUM(C13:C15)","v":0},{"$f":"SUM(D13:D15)","v":0},0,0,0,0,0,0,0]
["Drainage Collection"]
["Storm water Conveyance"]
["Attenuation"]
["Electrical Infrastructure",null,{"$f":"SUM(C17:C25)","v":0},0,0,27650000,23400000,23400000,20665400,27154336,29598225]
["Power Plants",null,null,null,null,3350000]
["HV Substations"]
["HV Switching Station"]
["HV Transmission Conductors",null,null,null,null,24000000]
["MV Substations"]
["MV Switching Stations"]
["MV Networks"]
["LV Networks",null,null,null,null,300000,22100000,22100000,19472000,25586208,27888966]
["Capital Spares",null,null,null,null,null,1300000,1300000,1193400,1568128,1709259]
["Water Supply Infrastructure",null,{"$f":"SUM(C27:C36)","v":0},{"$f":"SUM(D27:D36)","v":0},0,25675000,23725000,23725000,38080000,41888000,46076800]
["Dams and Weirs"]
["Boreholes"]
["Reservoirs"]
["Pump Stations"]
["Water Treatment Works"]
["Bulk Mains",null,null,null,null,600000,100000,100000,1000000,1100000,1210000]
["Distribution",null,null,null,null,25075000,23625000,23625000,37080000,40788000,44866800]
["Distribution Points"]
["PRV Stations"]
["Capital Spares"]
["Sanitation Infrastructure",null,{"$f":"SUM(C38:C43)","v":0},{"$f":"SUM(D38:D43)","v":0},0,311175869,209475869,209475869,311581697,330916599,351475595]
["Pump Station"]
["Reticulation",null,null,null,null,10000000,3300000,3300000,16000000,17600000,19360000]
["Waste Water Treatment Works"]
["Outfall Sewers"]
["Toilet Facilities",null,null,null,null,301175869,206175869,206175869,295581697,313316599,332115595]
["Capital Spares"]
["Solid Waste Infrastructure",null,{"$f":"SUM(C45:C51)","v":0},{"$f":"SUM(D45:D51)","v":0},0,255000,1605000,1605000,4133000,4504272,4749800]
["Landfill Sites",null,null,null,null,255000,255000,255000,3470000,3633090,3800212]
["Waste Transfer Stations"]
["Waste Processing Facilities"]
["Waste Drop-off Points"]
["Waste Separation Facilities"]
["Electricity Generation Facilities"]
["Capital Spares",null,null,null,null,null,1350000,1350000,663000,871182,949588]
["Rail Infrastructure",null,{"$f":"SUM(C53:C61)","v":0},0,0,255000,255000,255000,3470000,3633090,3800212]
["Rail Lines",null,null,null,null,255000,255000,255000,3470000,3633090,3800212]
["Rail Structures"]
["Rail Furniture"]
["Drainage Collection"]
["Storm water Conveyance"]
["Attenuation"]
["MV Substations"]
["LV Networks"]
["Capital Spares"]
["Coastal Infrastructure",null,{"$f":"SUM(C63:C67)","v":0},{"$f":"SUM(D63:D67)","v":0},0,0,0,0,0,0,0]
["Sand Pumps"]
["Piers"]
["Revetments"]
["Promenades"]
["Capital Spares"]
["Information and Communication Infrastructure",null,{"$f":"SUM(C69:C72)","v":0},{"$f":"SUM(D69:D72)","v":0},0,0,0,0,0,0,0]
["Data Centres"]
["Core Layers"]
["Distribution Layers"]
["Capital Spares"]
[]
["Community Assets",null,{"$f":"C75+C98","v":0},{"$f":"D75+D98","v":0},0,30549668,23819668,23819668,10669918,11189159,11723748]
["Community Facilities",null,{"$f":"SUM(C76:C97)","v":0},{"$f":"SUM(D76:D97)","v":0},0,29291668,22612668,22612668,9243918,9696136,10162048]
["Halls",null,null,null,null,23032388,15953388,15953388,8504638,8909428,9324939]
["Centres"]
["Crèches"]
["Clinics/Care Centres"]
["Fire/Ambulance Stations"]
["Testing Stations"]
["Museums"]
["Galleries"]
["Theatres"]
["Libraries",null,null,null,null,5170000,5170000,5170000]
["Cemeteries/Crematoria"]
["Police"]
["Parks"]
["Public Open Space"]
["Nature Reserves"]
["Public Ablution Facilities",null,null,null,null,850000,850000,850000,500000,523500,547581]
["Markets"]
["Stalls"]
["Abattoirs"]
["Airports"]
["Taxi Ranks/Bus Terminals",null,null,null,null,239280,639280,639280,239280,263208,289528]
["Capital Spares"]
["Sport and Recreation Facilities",null,{"$f":"SUM(C99:C101)","v":0},{"$f":"SUM(D99:D101)","v":0},0,1258000,1207000,1207000,1426000,1493023,1561700]
["Indoor Facilities"]
["Outdoor Facilities",null,null,null,null,1258000,1207000,1207000,1426000,1493023,1561700]
["Capital Spares"]
[]
["Heritage assets",null,{"$f":"SUM(C104:C108)","v":0},{"$f":"SUM(D104:D108)","v":0},0,0,0,0,0,0,0]
["Monuments"]
["Historic Buildings"]
["Works of Art"]
["Conservation Areas"]
["Other Heritage"]
[]
["Investment properties",null,{"$f":"+C111+C114","v":0},{"$f":"+D111+D114","v":0},0,0,0,0,0,0,0]
["Revenue Generating",null,{"$f":"SUM(C112:C113)","v":0},0,0,0,0,0,0,0,0]
["Improved Property"]
["Unimproved Property"]
["Non-revenue Generating",null,{"$f":"SUM(C115:C116)","v":0},{"$f":"SUM(D115:D116)","v":0},0,0,0,0,0,0,0]
["Improved Property"]
["Unimproved Property"]
[]
["Other assets",null,{"$f":"+C119+C131","v":0},{"$f":"+D119+D131","v":0},0,37809225,36039975,36039975,18399509,18764186,20105032]
["Operational Buildings",null,{"$f":"SUM(C120:C130)","v":0},{"$f":"SUM(D120:D130)","v":0},0,33772925,12685630,12685630,17949509,18287186,19599412]
["Municipal Offices",null,null,null,null,32687925,12000630,12000630,16859509,16936886,18165745]
["Pay/Enquiry Points"]
["Building Plan Offices",null,null,null,null,1000000,600000,600000,1000000,1272000,1348320]
["Workshops"]
["Yards"]
["Stores",null,null,null,null,85000,85000,85000,90000,78300,85347]
["Laboratories"]
["Training Centres"]
["Manufacturing Plant"]
["Depots"]
["Capital Spares"]
["Housing",null,{"$f":"SUM(C132:C134)","v":0},{"$f":"SUM(D132:D134)","v":0},0,4036300,23354345,23354345,450000,477000,505620]
["Staff Housing"]
["Social Housing",null,null,null,null,4036300,23354345,23354345,450000,477000,505620]
["Capital Spares"]
[]
["Biological or Cultivated Assets",null,{"$f":"SUM(C137:C137)","v":0},0,0,0,0,0,0,0,0]
["Biological or Cultivated Assets"]
[]
["Intangible Assets",null,{"$f":"+C140+C141","v":0},{"$f":"+D140+D141","v":0},0,0,140000,140000,148400,157304,166742]
["Servitudes"]
["Licences and Rights",null,{"$f":"SUM(C142:C147)","v":0},{"$f":"SUM(D142:D147)","v":0},0,{"$f":"SUM(F142:F147)","v":0},140000,140000,148400,157304,166742]
["Water Rights"]
["Effluent Licenses"]
["Solid Waste Licenses"]
["Computer Software and Applications"]
["Load Settlement Software Applications"]
["Unspecified",null,null,null,null,null,140000,140000,148400,157304,166742]
[]
["Computer Equipment",null,{"$f":"SUM(C150:C150)","v":0},0,0,0,0,0,0,0,0]
["Computer Equipment"]
[]
["Furniture and Office Equipment",null,{"$f":"SUM(C153:C153)","v":0},0,0,0,0,0,0,0,0]
["Furniture and Office Equipment"]
[]
["Machinery and Equipment",null,{"$f":"SUM(C156:C156)","v":0},0,0,14367077,10380077,10380077,14539541,16230549,17417562]
["Machinery and Equipment",null,null,null,null,14367077,10380077,10380077,14539541,16230549,17417562]
[]
["Transport Assets",null,{"$f":"SUM(C159:C159)","v":0},0,0,21411481,18407731,18407731,32425638,34926340,38009138]
["Transport Assets",null,null,null,null,21411481,18407731,18407731,32425638,34926340,38009138]
[]
["Land",null,{"$f":"SUM(C162:C162)","v":0},0,0,0,0,0,0,0,0]
["Land"]
[]
["Zoo's, Marine and Non-biological Animals",null,{"$f":"SUM(C165:C165)","v":0},{"$f":"SUM(D165:D165)","v":0},0,0,0,0,0,0,0]
["Zoo's, Marine and Non-biological Animals"]
[]
["Living resources"," ",{"$f":"+C168+C171","v":0},{"$f":"+D168+D171","v":0},0,0,0,0,0,0,0]
["Mature"," ",{"$f":"SUM(C169:C170)","v":0},{"$f":"SUM(D169:D170)","v":0},0,0,0,0,0,0,0]
["Policing and Protection"," "]
["Zoological plants and animals"," "]
["Immature"," ",{"$f":"SUM(C172:C173)","v":0},{"$f":"SUM(D172:D173)","v":0},0,0,0,0,0,0,0]
["Policing and Protection"," "]
["Zoological plants and animals"," "]
[""]
["Total Repairs and Maintenance Expenditure",1,{"$f":"C6+C74+C103+C110+C118+C136+C139+C149+C152+C155+C158+C161+C164+C167","v":0},{"$f":"D6+D74+D103+D110+D118+D136+D139+D149+D152+D155+D158+D161+D164+D167","v":0},0,624615208,430115208,430115208,499034026,549576626,588471171]
[]
["R&M as a % of PPE & Investment Property ",null,{"$f":"'A9-Asset'!C223","v":0},{"$f":"'A9-Asset'!D223","v":0},{"$f":"'A9-Asset'!E223","v":0},{"$f":"'A9-Asset'!F223","v":6.946526726160665E-2},{"$f":"'A9-Asset'!G223","v":4.7700309416866933E-2},{"$f":"'A9-Asset'!H223","v":4.7700309416866933E-2},{"$f":"'A9-Asset'!I223","v":6.7640953480343199E-2},{"$f":"'A9-Asset'!J223","v":7.1352426625401519E-2},{"$f":"'A9-Asset'!K223","v":7.2865115276002104E-2}]
["R&M as % Operating Expenditure",null,{"$f":"IF(ISERROR(ROUND(C175/'A1-Sum'!B18,3)),0,(ROUND(C175/'A1-Sum'!B18,3)))","v":0},{"$f":"IF(ISERROR(ROUND(D175/'A1-Sum'!C18,3)),0,(ROUND(D175/'A1-Sum'!C18,3)))","v":0},{"$f":"IF(ISERROR(ROUND(E175/'A1-Sum'!D18,3)),0,(ROUND(E175/'A1-Sum'!D18,3)))","v":0},{"$f":"IF(ISERROR(ROUND(F175/'A1-Sum'!E18,3)),0,(ROUND(F175/'A1-Sum'!E18,3)))","v":7.4999999999999997E-2},{"$f":"IF(ISERROR(ROUND(G175/'A1-Sum'!F18,3)),0,(ROUND(G175/'A1-Sum'!F18,3)))","v":5.5E-2},{"$f":"IF(ISERROR(ROUND(H175/'A1-Sum'!G18,3)),0,(ROUND(H175/'A1-Sum'!G18,3)))","v":5.5E-2},{"$f":"IF(ISERROR(ROUND(I175/'A1-Sum'!H18,3)),0,(ROUND(I175/'A1-Sum'!H18,3)))","v":0.10100000000000001},{"$f":"IF(ISERROR(ROUND(J175/'A1-Sum'!I18,3)),0,(ROUND(J175/'A1-Sum'!I18,3)))","v":6.4000000000000001E-2},{"$f":"IF(ISERROR(ROUND(K175/'A1-Sum'!J18,3)),0,(ROUND(K175/'A1-Sum'!J18,3)))","v":6.5000000000000002E-2}]
[{"$f":"head27a","v":"References"}]
["1. Total Repairs and Maintenance Expenditure by Asset Category must reconcile to total repairs and maintenance expenditure on Table SA1"]

{"sheet":"SA34d","index":59,"n_rows":178,"n_cols":11,"rows_kept":178,"cut":false,"hidden":false,"merged":[[1,5,1,7],[1,8,1,10]]}
[{"$f":"muni&\" - \"&TableA34d","v":"Choose name from list - Supporting Table SA34d Depreciation by asset class"}]
[{"$f":"desc","v":"Description"},{"$f":"head27","v":"Ref"},{"$f":"head1b","v":"2021/22"},{"$f":"head1A","v":"2022/23"},{"$f":"Head1","v":"2023/24"},{"$f":"Head2","v":"Current Year 2024/25"},null,null,{"$f":"Head3","v":"2025/26 Medium Term Revenue & Expenditure Framework"}]
["R thousand",1,{"$f":"Head5","v":"Audited Outcome"},{"$f":"Head5","v":"Audited Outcome"},{"$f":"Head5","v":"Audited Outcome"},{"$f":"Head6","v":"Original Budget"},{"$f":"Head7","v":"Adjusted Budget"},{"$f":"Head8","v":"Full Year Forecast"},{"$f":"Head9","v":"Budget Year 2025/26"},{"$f":"Head10","v":"Budget Year +1 2026/27"},{"$f":"Head11","v":"Budget Year +2 2027/28"}]
["Depreciation by Asset Class/Sub-class"]
[]
["Infrastructure",null,{"$f":"C7+C12+C16+C26+C37+C44+C52+C62+C68","v":283452464},{"$f":"D7+D12+D16+D26+D37+D44+D52+D62+D68","v":262368882},278333794,281040335,281040335,281040335,295462738,293962761,209161370]
["Roads Infrastructure",null,{"$f":"SUM(C8:C11)","v":96142851},82420061,87584034,87237393,87237393,87237393,91904839,91429842,62832056]
["Roads",null,96132595,82409805,87573778,87227137,87227137,87227137,91894583,91419586,62821800]
["Road Structures"]
["Road Furniture",null,10256,10256,10256,10256,10256,10256,10256,10256,10256]
["Capital Spares"]
["Storm water Infrastructure",null,{"$f":"SUM(C13:C15)","v":22071438},{"$f":"SUM(D13:D15)","v":23277011},27597794,26783603,26783603,26783603,33525086,33525086,33497141]
["Drainage Collection",null,12666474,13142609,16713099,15981143,15981143,15981143,21860971,21860971,21860971]
["Storm water Conveyance",null,9404964,10134402,10884695,10802460,10802460,10802460,11664115,11664115,11636170]
["Attenuation"]
["Electrical Infrastructure",null,{"$f":"SUM(C17:C25)","v":93402381},90249598,97393911,97095902,97095902,97095902,100365427,100173930,54297100]
["Power Plants",null,null,0,0,0,0,0,0,0,0]
["HV Substations",null,2552721,2475808,2492708,2475808,2475808,2475808,2507212,2507203,2176610]
["HV Switching Station"]
["HV Transmission Conductors"]
["MV Substations",null,1823470,1940317,1946285,1946285,1946285,1946285,1946285,1946180,1907450]
["MV Switching Stations"]
["MV Networks",null,52364296,50679409,50798440,50679407,50679407,50679407,52061274,51941019,8166315]
["LV Networks",null,36661894,35154064,42156478,41994402,41994402,41994402,43850656,43779528,42046725]
["Capital Spares"]
["Water Supply Infrastructure",null,{"$f":"SUM(C27:C36)","v":49001680},{"$f":"SUM(D27:D36)","v":46160925},40883478,45186542,45186542,45186542,40312793,39483697,29478541]
["Dams and Weirs"]
["Boreholes"]
["Reservoirs",null,8446820,6980102,6953226,6979957,6979957,6979957,6962753,6949608,6088080]
["Pump Stations",null,123076,122776,125663,122776,122776,122776,176126,174080,173787]
["Water Treatment Works"]
["Bulk Mains",null,32481367,31109589,25856186,30147538,30147538,30147538,25080832,24272906,15199998]
["Distribution",null,7796320,7794920,7868166,7794920,7794920,7794920,8012845,8012834,8008864]
["Distribution Points"]
["PRV Stations",null,154097,153538,80237,141351,141351,141351,80237,74269,7812]
["Capital Spares"]
["Sanitation Infrastructure",null,{"$f":"SUM(C38:C43)","v":20914671},{"$f":"SUM(D38:D43)","v":21297548},23247854,23107540,23107540,23107540,27643526,27643232,27535297]
["Pump Station",null,359732,325943,325951,325943,325943,325943,329070,328873,256694]
["Reticulation",null,19883926,20313045,22263343,22123037,22123037,22123037,26655896,26655894,26654800]
["Waste Water Treatment Works",null,671013,658560,658560,658560,658560,658560,658560,658465,623803]
["Outfall Sewers"]
["Toilet Facilities"]
["Capital Spares"]
["Solid Waste Infrastructure",null,{"$f":"SUM(C45:C51)","v":1803991},{"$f":"SUM(D45:D51)","v":-1150163},1512821,1515453,1515453,1515453,1509445,1505364,1324713]
["Landfill Sites",null,1488719,-1472582,1164015,1165905,1165905,1165905,1164015,1159984,991139]
["Waste Transfer Stations"]
["Waste Processing Facilities",null,315272,322419,348806,349548,349548,349548,345430,345380,333574]
["Waste Drop-off Points"]
["Waste Separation Facilities"]
["Electricity Generation Facilities"]
["Capital Spares"]
["Rail Infrastructure",null,{"$f":"SUM(C53:C61)","v":115452},113902,113902,113902,113902,113902,113902,113890,108802]
["Rail Lines",null,115452,113902,113902,113902,113902,113902,113902,113890,108802]
["Rail Structures"]
["Rail Furniture"]
["Drainage Collection"]
["Storm water Conveyance"]
["Attenuation"]
["MV Substations"]
["LV Networks"]
["Capital Spares"]
["Coastal Infrastructure",null,{"$f":"SUM(C63:C67)","v":0},{"$f":"SUM(D63:D67)","v":0},0,0,0,0,0,0,0]
["Sand Pumps"]
["Piers"]
["Revetments"]
["Promenades"]
["Capital Spares"]
["Information and Communication Infrastructure",null,{"$f":"SUM(C69:C72)","v":0},{"$f":"SUM(D69:D72)","v":0},0,0,0,0,87720,87720,87720]
["Data Centres"]
["Core Layers"]
["Distribution Layers",null,null,null,null,null,null,null,87720,87720,87720]
["Capital Spares"]
[]
["Community Assets",null,{"$f":"C75+C98","v":24958757},{"$f":"D75+D98","v":24116253},24546881,24507308,24507308,24507308,25564580,25421781,22783001]
["Community Facilities",null,{"$f":"SUM(C76:C97)","v":16463445},{"$f":"SUM(D76:D97)","v":15774591},16144489,16105467,16105467,16105467,16507436,16419816,14484538]
["Halls",null,null,0,0,0,0,0,0,0,0]
["Centres",null,3041628,3018069,3232019,3204245,3204245,3204245,3380538,3320887,2876096]
["Crèches",null,460709,448706,448630,448706,448706,448706,448629,448341,404204]
["Clinics/Care Centres",null,664156,664156,664156,664156,664156,664156,664156,664156,664117]
["Fire/Ambulance Stations",null,521424,501759,501759,501760,501760,501760,501760,501545,422832]
["Testing Stations"]
["Museums"]
["Galleries"]
["Theatres",null,172323,167473,167473,167473,167473,167473,167473,167420,147771]
["Libraries",null,2385124,2223173,2226206,2224840,2224840,2224840,2232067,2232065,2231348]
["Cemeteries/Crematoria",null,430993,320864,332314,332319,332319,332319,332271,316576,145088]
["Police"]
["Parks"]
["Public Open Space",null,2396122,2312813,2324340,2324593,2324593,2324593,2522182,2515167,2461863]
["Nature Reserves"]
["Public Ablution Facilities",null,887230,849762,963171,952512,952512,952512,973939,972003,799639]
["Markets",null,4985662,4753384,4752949,4753384,4753384,4753384,4752949,4750225,3816152]
["Stalls"]
["Abattoirs"]
["Airports",null,518074,514432,531472,531479,531479,531479,531472,531431,515428]
["Taxi Ranks/Bus Terminals",null,null,0,0,0,0,0,0,0,0]
["Capital Spares",null,null,0,0,0,0,0,0,0,0]
["Sport and Recreation Facilities",null,{"$f":"SUM(C99:C101)","v":8495312},{"$f":"SUM(D99:D101)","v":8341662},8402392,8401841,8401841,8401841,9057144,9001965,8298463]
["Indoor Facilities",null,null,null,0,0]
["Outdoor Facilities",null,8495312,8341662,8402392,8401841,8401841,8401841,9057144,9001965,8298463]
["Capital Spares",null,null,null,0,0]
[]
["Heritage assets",null,{"$f":"SUM(C104:C108)","v":0},{"$f":"SUM(D104:D108)","v":0},0,0,0,0,0,0,0]
["Monuments"]
["Historic Buildings"]
["Works of Art"]
["Conservation Areas"]
["Other Heritage"]
[]
["Investment properties",null,{"$f":"+C111+C114","v":0},{"$f":"+D111+D114","v":0},0,0,0,0,0,0,0]
["Revenue Generating",null,{"$f":"SUM(C112:C113)","v":0},0,0,0,0,0,0,0,0]
["Improved Property"]
["Unimproved Property"]
["Non-revenue Generating",null,{"$f":"SUM(C115:C116)","v":0},{"$f":"SUM(D115:D116)","v":0},0,0,0,0,0,0,0]
["Improved Property"]
["Unimproved Property"]
[]
["Other assets",null,{"$f":"+C119+C131","v":18732649},{"$f":"+D119+D131","v":18170283},19579418,19075597,19075597,19075597,20915139,20727969,13796549]
["Operational Buildings",null,{"$f":"SUM(C120:C130)","v":18703274},{"$f":"SUM(D120:D130)","v":18141332},19550468,19046647,19046647,19046647,20886188,20699032,13772669]
["Municipal Offices",null,17925216,17389715,18799222,18295030,18295030,18295030,20134941,19947909,13128335]
["Pay/Enquiry Points"]
["Building Plan Offices"]
["Workshops"]
["Yards"]
["Stores"]
["Laboratories"]
["Training Centres"]
["Manufacturing Plant"]
["Depots",null,778058,751617,751246,751617,751617,751617,751247,751123,644334]
["Capital Spares"]
["Housing",null,{"$f":"SUM(C132:C134)","v":29375},{"$f":"SUM(D132:D134)","v":28951},28950,28950,28950,28950,28951,28937,23880]
["Staff Housing",null,29375,28951,28950,28950,28950,28950,28951,28937,23880]
["Social Housing"]
["Capital Spares"]
[]
["Biological or Cultivated Assets",null,{"$f":"SUM(C137:C137)","v":53636},52872,48238,48224,48224,48224,49313,49313,49300]
["Biological or Cultivated Assets",null,53636,52872,48238,48224,48224,48224,49313,49313,49300]
[]
["Intangible Assets",null,{"$f":"+C140+C141","v":6037323},{"$f":"+D140+D141","v":5157235},5252568,5248272,5248272,5248272,6477272,6472249,3313672]
["Servitudes"]
["Licences and Rights",null,{"$f":"SUM(C142:C147)","v":6037323},{"$f":"SUM(D142:D147)","v":5157235},5252568,5248272,5248272,5248272,6477272,6472249,3313672]
["Water Rights"]
["Effluent Licenses"]
["Solid Waste Licenses"]
["Computer Software and Applications",null,6037323,5157235,5252568,5248272,5248272,5248272,6477272,6472249,3313672]
["Load Settlement Software Applications"]
["Unspecified"]
[]
["Computer Equipment",null,{"$f":"SUM(C150:C150)","v":7660691},5419334,7253858,8302920,8302920,8302920,11186673,10605314,8871715]
["Computer Equipment",null,7660691,5419334,7253858,8302920,8302920,8302920,11186673,10605314,8871715]
[]
["Furniture and Office Equipment",null,{"$f":"SUM(C153:C153)","v":1851365},2031520,2192866,2266464,2266464,2266464,2234519,2218373,1888766]
["Furniture and Office Equipment",null,1851365,2031520,2192866,2266464,2266464,2266464,2234519,2218373,1888766]
[]
["Machinery and Equipment",null,{"$f":"SUM(C156:C156)","v":6840999},6774738,7127696,7380841,7380841,7380841,8312134,8157370,7641842]
["Machinery and Equipment",null,6840999,6774738,7127696,7380841,7380841,7380841,8312134,8157370,7641842]
[]
["Transport Assets",null,{"$f":"SUM(C159:C159)","v":16111432},13361270,14724236,14308784,14308784,14308784,20057982,19127399,15020539]
["Transport Assets",null,16111432,13361270,14724236,14308784,14308784,14308784,20057982,19127399,15020539]
[]
["Land",null,{"$f":"SUM(C162:C162)","v":0},0,0,0,0,0,0,0,0]
["Land"]
[]
["Zoo's, Marine and Non-biological Animals",null,{"$f":"SUM(C165:C165)","v":0},0,0,0,0,0,0,0,0]
["Zoo's, Marine and Non-biological Animals"]
[]
["Living resources"," ",{"$f":"+C168+C171","v":0},{"$f":"+D168+D171","v":0},0,0,0,0,0,0,0]
["Mature"," ",{"$f":"SUM(C169:C170)","v":0},0,0,0,0,0,0,0,0]
["Policing and Protection"," "]
["Zoological plants and animals"," "]
["Immature"," ",{"$f":"SUM(C172:C173)","v":0},{"$f":"SUM(D172:D173)","v":0},0,0,0,0,0,0,0]
["Policing and Protection"," "]
["Zoological plants and animals"," "]
[""]
["Total Depreciation",1,{"$f":"C6+C74+C103+C110+C118+C136+C139+C149+C152+C155+C158+C161+C164+C167","v":365699316},{"$f":"D6+D74+D103+D110+D118+D136+D139+D149+D152+D155+D158+D161+D164+D167","v":337452387},359059555,362178745,362178745,362178745,390260350,386742529,282526754]
[]
[{"$f":"head27a","v":"References"}]
["1. Depreciation based on write down values. Not including Depreciation resulting from revaluation."]

{"sheet":"SA34e","index":60,"n_rows":180,"n_cols":11,"rows_kept":180,"cut":false,"hidden":false,"merged":[[1,5,1,7],[1,8,1,10]]}
[{"$f":"muni&\" - \"&TableA34e","v":"Choose name from list - Supporting Table SA34e Capital expenditure on the upgrading of existing assets by asset class"}]
[{"$f":"desc","v":"Description"},{"$f":"head27","v":"Ref"},{"$f":"head1b","v":"2021/22"},{"$f":"head1A","v":"2022/23"},{"$f":"Head1","v":"2023/24"},{"$f":"Head2","v":"Current Year 2024/25"},null,null,{"$f":"Head3","v":"2025/26 Medium Term Revenue & Expenditure Framework"}]
["R thousand",1,{"$f":"Head5","v":"Audited Outcome"},{"$f":"Head5","v":"Audited Outcome"},{"$f":"Head5","v":"Audited Outcome"},{"$f":"Head6","v":"Original Budget"},{"$f":"Head7","v":"Adjusted Budget"},{"$f":"Head8","v":"Full Year Forecast"},{"$f":"Head9","v":"Budget Year 2025/26"},{"$f":"Head10","v":"Budget Year +1 2026/27"},{"$f":"Head11","v":"Budget Year +2 2027/28"}]
["Capital expenditure on upgrading of existing assets by Asset Class/Sub-class"]
[]
["Infrastructure",null,{"$f":"C7+C12+C16+C26+C37+C44+C52+C62+C68","v":0},{"$f":"D7+D12+D16+D26+D37+D44+D52+D62+D68","v":0},0,73400319,155943689,155943689,153770000,134921200,110715145]
["Roads Infrastructure",null,{"$f":"SUM(C8:C11)","v":0},0,0,52080319,93464784,93464784,82370000,60737200,73715145]
["Roads",null,null,null,null,32080319,55544017,55544017,58470000,56603200,43715145]
["Road Structures",null,null,null,null,20000000,37920767,37920767,23900000,4134000,30000000]
["Road Furniture"]
["Capital Spares"]
["Storm water Infrastructure",null,{"$f":"SUM(C13:C15)","v":0},{"$f":"SUM(D13:D15)","v":0},0,0,500000,500000,0,0,0]
["Drainage Collection",null,null,null,null,null,500000,500000]
["Storm water Conveyance"]
["Attenuation"]
["Electrical Infrastructure",null,{"$f":"SUM(C17:C25)","v":0},0,0,3000000,0,0,0,0,0]
["Power Plants"]
["HV Substations"]
["HV Switching Station"]
["HV Transmission Conductors"]
["MV Substations"]
["MV Switching Stations"]
["MV Networks",null,null,null,null,3000000]
["LV Networks"]
["Capital Spares"]
["Water Supply Infrastructure",null,{"$f":"SUM(C27:C36)","v":0},{"$f":"SUM(D27:D36)","v":0},0,8320000,41185988,41185988,71400000,74184000,37000000]
["Dams and Weirs"]
["Boreholes"]
["Reservoirs"]
["Pump Stations"]
["Water Treatment Works"]
["Bulk Mains",null,null,null,null,3000000]
["Distribution",null,null,null,null,5320000,41185988,41185988,71400000,74184000,37000000]
["Distribution Points"]
["PRV Stations"]
["Capital Spares"]
["Sanitation Infrastructure",null,{"$f":"SUM(C38:C43)","v":0},{"$f":"SUM(D38:D43)","v":0},0,0,13792917,13792917,0,0,0]
["Pump Station"]
["Reticulation",null,null,null,null,null,13792917,13792917]
["Waste Water Treatment Works"]
["Outfall Sewers"]
["Toilet Facilities"]
["Capital Spares"]
["Solid Waste Infrastructure",null,{"$f":"SUM(C45:C51)","v":0},{"$f":"SUM(D45:D51)","v":0},0,10000000,7000000,7000000,0,0,0]
["Landfill Sites",null,null,null,null,10000000,7000000,7000000]
["Waste Transfer Stations"]
["Waste Processing Facilities"]
["Waste Drop-off Points"]
["Waste Separation Facilities"]
["Electricity Generation Facilities"]
["Capital Spares"]
["Rail Infrastructure",null,{"$f":"SUM(C53:C61)","v":0},0,0,0,0,0,0,0,0]
["Rail Lines"]
["Rail Structures"]
["Rail Furniture"]
["Drainage Collection"]
["Storm water Conveyance"]
["Attenuation"]
["MV Substations"]
["LV Networks"]
["Capital Spares"]
["Coastal Infrastructure",null,{"$f":"SUM(C63:C67)","v":0},{"$f":"SUM(D63:D67)","v":0},0,0,0,0,0,0,0]
["Sand Pumps"]
["Piers"]
["Revetments"]
["Promenades"]
["Capital Spares"]
["Information and Communication Infrastructure",null,{"$f":"SUM(C69:C72)","v":0},{"$f":"SUM(D69:D72)","v":0},0,0,0,0,0,0,0]
["Data Centres"]
["Core Layers"]
["Distribution Layers"]
["Capital Spares"]
[]
["Community Assets",null,{"$f":"C75+C98","v":0},{"$f":"D75+D98","v":0},0,0,0,0,11216720,34289723,15674180]
["Community Facilities",null,{"$f":"SUM(C76:C97)","v":0},{"$f":"SUM(D76:D97)","v":0},0,0,0,0,10000000,33000000,10000000]
["Halls"]
["Centres"]
["Crèches"]
["Clinics/Care Centres"]
["Fire/Ambulance Stations"]
["Testing Stations"]
["Museums"]
["Galleries"]
["Theatres"]
["Libraries"]
["Cemeteries/Crematoria"]
["Police"]
["Parks"]
["Public Open Space",null,null,null,null,null,null,null,10000000,33000000,10000000]
["Nature Reserves"]
["Public Ablution Facilities"]
["Markets"]
["Stalls"]
["Abattoirs"]
["Airports"]
["Taxi Ranks/Bus Terminals"]
["Capital Spares"]
["Sport and Recreation Facilities",null,{"$f":"SUM(C99:C101)","v":0},{"$f":"SUM(D99:D101)","v":0},0,0,0,0,1216720,1289723,5674180]
["Indoor Facilities"]
["Outdoor Facilities",null,null,null,null,null,null,null,1216720,1289723,5674180]
["Capital Spares"]
[]
["Heritage assets",null,{"$f":"SUM(C104:C108)","v":0},{"$f":"SUM(D104:D108)","v":0},0,0,0,0,0,0,0]
["Monuments"]
["Historic Buildings"]
["Works of Art"]
["Conservation Areas"]
["Other Heritage"]
[]
["Investment properties",null,{"$f":"+C111+C114","v":0},{"$f":"+D111+D114","v":0},0,0,0,0,0,0,0]
["Revenue Generating",null,{"$f":"SUM(C112:C113)","v":0},0,0,0,0,0,0,0,0]
["Improved Property"]
["Unimproved Property"]
["Non-revenue Generating",null,{"$f":"SUM(C115:C116)","v":0},{"$f":"SUM(D115:D116)","v":0},0,0,0,0,0,0,0]
["Improved Property"]
["Unimproved Property"]
[]
["Other assets",null,{"$f":"+C119+C131","v":0},{"$f":"+D119+D131","v":0},0,0,0,0,0,0,0]
["Operational Buildings",null,{"$f":"SUM(C120:C130)","v":0},{"$f":"SUM(D120:D130)","v":0},0,0,0,0,0,0,0]
["Municipal Offices"]
["Pay/Enquiry Points"]
["Building Plan Offices"]
["Workshops"]
["Yards"]
["Stores"]
["Laboratories"]
["Training Centres"]
["Manufacturing Plant"]
["Depots"]
["Capital Spares"]
["Housing",null,{"$f":"SUM(C132:C134)","v":0},{"$f":"SUM(D132:D134)","v":0},0,0,0,0,0,0,0]
["Staff Housing"]
["Social Housing"]
["Capital Spares"]
[]
["Biological or Cultivated Assets",null,{"$f":"SUM(C137:C137)","v":0},0,0,0,0,0,0,0,0]
["Biological or Cultivated Assets"]
[]
["Intangible Assets",null,{"$f":"+C140+C141","v":0},{"$f":"+D140+D141","v":0},0,0,0,0,0,0,0]
["Servitudes"]
["Licences and Rights",null,{"$f":"SUM(C142:C147)","v":0},{"$f":"SUM(D142:D147)","v":0},0,0,0,0,0,0,0]
["Water Rights"]
["Effluent Licenses"]
["Solid Waste Licenses"]
["Computer Software and Applications"]
["Load Settlement Software Applications"]
["Unspecified"]
[]
["Computer Equipment",null,{"$f":"SUM(C150:C150)","v":0},0,0,0,0,0,0,0,0]
["Computer Equipment"]
[]
["Furniture and Office Equipment",null,{"$f":"SUM(C153:C153)","v":0},0,0,0,300000,300000,0,0,0]
["Furniture and Office Equipment",null,null,null,null,null,300000,300000]
[]
["Machinery and Equipment",null,{"$f":"SUM(C156:C156)","v":0},0,0,0,0,0,0,0,0]
["Machinery and Equipment"]
[]
["Transport Assets",null,{"$f":"SUM(C159:C159)","v":0},0,0,0,0,0,0,0,0]
["Transport Assets"]
[]
["Land",null,{"$f":"SUM(C162:C162)","v":0},{"$f":"SUM(D162:D162)","v":0},0,0,0,0,0,0,0]
["Land"]
[]
["Zoo's, Marine and Non-biological Animals",null,{"$f":"SUM(C165:C165)","v":0},{"$f":"SUM(D165:D165)","v":0},0,0,0,0,0,0,0]
["Zoo's, Marine and Non-biological Animals"]
[]
["Living resources"," ",{"$f":"+C168+C171","v":0},{"$f":"+D168+D171","v":0},0,0,0,0,0,0,0]
["Mature"," ",{"$f":"SUM(C169:C170)","v":0},{"$f":"SUM(D169:D170)","v":0},0,0,0,0,0,0,0]
["Policing and Protection"," "]
["Zoological plants and animals"," "]
["Immature"," ",{"$f":"SUM(C172:C173)","v":0},{"$f":"SUM(D172:D173)","v":0},0,0,0,0,0,0,0]
["Policing and Protection"," "]
["Zoological plants and animals"," "]
[""]
["Total Capital Expenditure on upgrading of existing assets ",1,{"$f":"C6+C74+C103+C110+C118+C136+C139+C149+C152+C155+C158+C161+C164+C167","v":0},{"$f":"D6+D74+D103+D110+D118+D136+D139+D149+D152+D155+D158+D161+D164+D167","v":0},0,73400319,156243689,156243689,164986720,169210923,126389325]
[]
["Upgrading of Existing Assets as % of total capex",null,{"$f":"IF(ISERROR(C175/'A9-Asset'!C110),0,(C175/'A9-Asset'!C110))","v":0},{"$f":"IF(ISERROR(D175/'A9-Asset'!D110),0,(D175/'A9-Asset'!D110))","v":0},{"$f":"IF(ISERROR(E175/'A9-Asset'!E110),0,(E175/'A9-Asset'!E110))","v":0},{"$f":"IF(ISERROR(F175/'A9-Asset'!F110),0,(F175/'A9-Asset'!F110))","v":8.1945377897913549E-2},{"$f":"IF(ISERROR(G175/'A9-Asset'!G110),0,(G175/'A9-Asset'!G110))","v":0.19274514224195199},{"$f":"IF(ISERROR(H175/'A9-Asset'!H110),0,(H175/'A9-Asset'!H110))","v":0.18685962235375578},{"$f":"IF(ISERROR(I175/'A9-Asset'!I110),0,(I175/'A9-Asset'!I110))","v":0.25767462037775796},{"$f":"IF(ISERROR(J175/'A9-Asset'!J110),0,(J175/'A9-Asset'!J110))","v":0.31734213568588254},{"$f":"IF(ISERROR(K175/'A9-Asset'!K110),0,(K175/'A9-Asset'!K110))","v":0.24964968958199427}]
["Upgrading of Existing Assets as % of deprecn\"",null,{"$f":"IF(ISERROR(C175/'A9-Asset'!C183),0,(C175/'A9-Asset'!C183))","v":0},{"$f":"IF(ISERROR(D175/'A9-Asset'!D183),0,(D175/'A9-Asset'!D183))","v":0},{"$f":"IF(ISERROR(E175/'A9-Asset'!E183),0,(E175/'A9-Asset'!E183))","v":0},{"$f":"IF(ISERROR(F175/'A9-Asset'!F183),0,(F175/'A9-Asset'!F183))","v":0.20266324297965083},{"$f":"IF(ISERROR(G175/'A9-Asset'!G183),0,(G175/'A9-Asset'!G183))","v":0.43139938816674622},{"$f":"IF(ISERROR(H175/'A9-Asset'!H183),0,(H175/'A9-Asset'!H183))","v":0.43139938816674622},{"$f":"IF(ISERROR(I175/'A9-Asset'!I183),0,(I175/'A9-Asset'!I183))","v":0.42276065195964696},{"$f":"IF(ISERROR(J175/'A9-Asset'!J183),0,(J175/'A9-Asset'!J183))","v":0.43752861480615701},{"$f":"IF(ISERROR(K175/'A9-Asset'!K183),0,(K175/'A9-Asset'!K183))","v":0.44735347435450307}]
[{"$f":"head27a","v":"References"}]
["1.  Total Capital Expenditure  on upgrading of existing assets (SA34e) plus Total Capital Expenditure on new assets (SA34a)  plus Total Capital Expenditure  on renewal of existing assets (SA34b) must reconcile to total capital expenditure in Budgeted Capital Expenditure"]

{"sheet":"SA35","index":61,"n_rows":57,"n_cols":9,"rows_kept":57,"cut":false,"hidden":false,"merged":[[1,5,1,8],[1,2,1,4]]}
[{"$f":"muni&\" - \"&TableA35","v":"Choose name from list - Supporting Table SA35 Future financial implications of the capital budget"}]
[{"$f":"Vdesc","v":"Vote Description"},{"$f":"head27","v":"Ref"},{"$f":"Head3","v":"2025/26 Medium Term Revenue & Expenditure Framework"},null,null,"Forecasts"]
["R thousand",null,{"$f":"Head9","v":"Budget Year 2025/26"},{"$f":"Head10","v":"Budget Year +1 2026/27"},{"$f":"Head11","v":"Budget Year +2 2027/28"},{"$f":"Head12","v":"Forecast 2028/29"},{"$f":"Head13","v":"Forecast 2029/30"},{"$f":"Head14","v":"Forecast 2030/31"},{"$f":"Head48","v":"Present value"}]
["Capital expenditure",1]
[{"$f":"'A5-Capex'!A6","v":"Vote 1 - City Manager"},null,{"$f":"'A5-Capex'!J6+'A5-Capex'!J24","v":0},{"$f":"'A5-Capex'!K6+'A5-Capex'!K24","v":0},{"$f":"'A5-Capex'!L6+'A5-Capex'!L24","v":0}]
[{"$f":"'A5-Capex'!A7","v":"Vote 2 - City Finance"},null,{"$f":"'A5-Capex'!J7+'A5-Capex'!J25","v":45000000},{"$f":"'A5-Capex'!K7+'A5-Capex'!K25","v":45000000},{"$f":"'A5-Capex'!L7+'A5-Capex'!L25","v":50000000}]
[{"$f":"'A5-Capex'!A8","v":"Vote 3 - Corporate Services"},null,{"$f":"'A5-Capex'!J8+'A5-Capex'!J26","v":10000000},{"$f":"'A5-Capex'!K8+'A5-Capex'!K26","v":10000000},{"$f":"'A5-Capex'!L8+'A5-Capex'!L26","v":10000000}]
[{"$f":"'A5-Capex'!A9","v":"Vote 4 - Community Services and Social Equity"},null,{"$f":"'A5-Capex'!J9+'A5-Capex'!J27","v":44616720},{"$f":"'A5-Capex'!K9+'A5-Capex'!K27","v":48493723.200000003},{"$f":"'A5-Capex'!L9+'A5-Capex'!L27","v":48423346.592}]
[{"$f":"'A5-Capex'!A10","v":"Vote 5 - Infrastructure Services"},null,{"$f":"'A5-Capex'!J10+'A5-Capex'!J28","v":346701440},{"$f":"'A5-Capex'!K10+'A5-Capex'!K28","v":386016686.20000005},{"$f":"'A5-Capex'!L10+'A5-Capex'!L28","v":408006319.11199999}]
[{"$f":"'A5-Capex'!A11","v":"Vote 6 - Sustainable Development and City Enterprises"},null,{"$f":"'A5-Capex'!J11+'A5-Capex'!J29","v":0},{"$f":"'A5-Capex'!K11+'A5-Capex'!K29","v":0},{"$f":"'A5-Capex'!L11+'A5-Capex'!L29","v":8000000}]
[{"$f":"'A5-Capex'!A12","v":"Vote 7 - Electricity"},null,{"$f":"'A5-Capex'!J12+'A5-Capex'!J30","v":181332760.95999998},{"$f":"'A5-Capex'!K12+'A5-Capex'!K30","v":30246861.600000001},{"$f":"'A5-Capex'!L12+'A5-Capex'!L30","v":31482673.296}]
[{"$f":"'A5-Capex'!A13","v":"Vote 8 - [NAME OF VOTE 8]"},null,{"$f":"'A5-Capex'!J13+'A5-Capex'!J31","v":0},{"$f":"'A5-Capex'!K13+'A5-Capex'!K31","v":0},{"$f":"'A5-Capex'!L13+'A5-Capex'!L31","v":0}]
[{"$f":"'A5-Capex'!A14","v":"Vote 9 - [NAME OF VOTE 9]"},null,{"$f":"'A5-Capex'!J14+'A5-Capex'!J32","v":0},{"$f":"'A5-Capex'!K14+'A5-Capex'!K32","v":0},{"$f":"'A5-Capex'!L14+'A5-Capex'!L32","v":0}]
[{"$f":"'A5-Capex'!A15","v":"Vote 10 - [NAME OF VOTE 10]"},null,{"$f":"'A5-Capex'!J15+'A5-Capex'!J33","v":0},{"$f":"'A5-Capex'!K15+'A5-Capex'!K33","v":0},{"$f":"'A5-Capex'!L15+'A5-Capex'!L33","v":0}]
[{"$f":"'A5-Capex'!A16","v":"Vote 11 - [NAME OF VOTE 11]"},null,{"$f":"'A5-Capex'!J16+'A5-Capex'!J34","v":0},{"$f":"'A5-Capex'!K16+'A5-Capex'!K34","v":0},{"$f":"'A5-Capex'!L16+'A5-Capex'!L34","v":0}]
[{"$f":"'A5-Capex'!A17","v":"Vote 12 - [NAME OF VOTE 12]"},null,{"$f":"'A5-Capex'!J17+'A5-Capex'!J35","v":0},{"$f":"'A5-Capex'!K17+'A5-Capex'!K35","v":0},{"$f":"'A5-Capex'!L17+'A5-Capex'!L35","v":0}]
[{"$f":"'A5-Capex'!A18","v":"Vote 13 - [NAME OF VOTE 13]"},null,{"$f":"'A5-Capex'!J18+'A5-Capex'!J36","v":0},{"$f":"'A5-Capex'!K18+'A5-Capex'!K36","v":0},{"$f":"'A5-Capex'!L18+'A5-Capex'!L36","v":0}]
[{"$f":"'A5-Capex'!A19","v":"Vote 14 - [NAME OF VOTE 14]"},null,{"$f":"'A5-Capex'!J19+'A5-Capex'!J37","v":0},{"$f":"'A5-Capex'!K19+'A5-Capex'!K37","v":0},{"$f":"'A5-Capex'!L19+'A5-Capex'!L37","v":0}]
[{"$f":"'A5-Capex'!A20","v":"Vote 15 - [NAME OF VOTE 15]"},null,{"$f":"'A5-Capex'!J20+'A5-Capex'!J38","v":0},{"$f":"'A5-Capex'!K20+'A5-Capex'!K38","v":0},{"$f":"'A5-Capex'!L20+'A5-Capex'!L38","v":0}]
["List entity summary if applicable"]
["Total Capital Expenditure ",null,{"$f":"SUM(C5:C20)","v":627650920.96000004},{"$f":"SUM(D5:D20)","v":519757271.00000006},555912339,{"$f":"SUM(F5:F20)","v":0},0,0,0]
[]
["Future operational costs by vote",2]
[{"$f":"A5","v":"Vote 1 - City Manager"}]
[{"$f":"A6","v":"Vote 2 - City Finance"}]
["Vote 3 - Corporate Services"]
["Vote 4 - Community Services and Social Equity"]
["Vote 5 - Infrastructure Services"]
["Vote 6 - Sustainable Development and City Enterprises"]
["Vote 7 - Electricity"]
["Vote 8 - [NAME OF VOTE 8]"]
["Vote 9 - [NAME OF VOTE 9]"]
["Vote 10 - [NAME OF VOTE 10]"]
["Vote 11 - [NAME OF VOTE 11]"]
["Vote 12 - [NAME OF VOTE 12]"]
["Vote 13 - [NAME OF VOTE 13]"]
["Vote 14 - [NAME OF VOTE 14]"]
["Vote 15 - [NAME OF VOTE 15]"]
["List entity summary if applicable"]
["Total future operational costs",null,{"$f":"SUM(C24:C39)","v":0},{"$f":"SUM(D24:D39)","v":0},0,0,0,0,0]
[]
["Future revenue by source",3]
[{"$f":"'A4-FinPerf RE'!A5","v":"Exchange Revenue"}]
[{"$f":"'A4-FinPerf RE'!A6","v":"Service charges - Electricity"}]
[{"$f":"'A4-FinPerf RE'!A7","v":"Service charges - Water"}]
[{"$f":"'A4-FinPerf RE'!A8","v":"Service charges - Waste Water Management"}]
[{"$f":"'A4-FinPerf RE'!A9","v":"Service charges - Waste Management"}]
[]
[{"$f":"'A4-FinPerf RE'!A11","v":"Agency services"}]
["List other revenues sources if applicable"]
["List entity summary if applicable"]
["Total future revenue",null,{"$f":"SUM(C43:C47)+SUM(C49:C51)","v":0},{"$f":"SUM(D43:D47)+SUM(D49:D51)","v":0},0,0,0,0,0]
["Net Financial Implications",null,{"$f":"C21+C40-C52","v":627650920.96000004},{"$f":"D21+D40-D52","v":519757271.00000006},555912339,0,0,0,0]
[{"$f":"head27a","v":"References"}]
["1. Summarise the total capital cost until capital project is operational (MFMA s19(2)(a))"]
["2. Summary of future operational costs from when projects operational (present value until the end of each asset's useful life) (MFMA s19(2)(b))"]
["3. Summarise the future revenue from when projects are operational, including municipal tax and tariff implications, (present value until the end of asset's useful life)"]

{"sheet":"SA36","index":62,"n_rows":381,"n_cols":17,"rows_kept":381,"cut":false,"hidden":false,"merged":[[1,12,1,13],[1,14,1,16]]}
[{"$f":"muni&\" - \"&TableA36","v":"Choose name from list - Supporting Table SA36 Detailed capital budget"}]
["R thousand",null,null,null,null,null,null,null,null,null,null,null,null,null,{"$f":"Head3","v":"2025/26 Medium Term Revenue & Expenditure Framework"}]
["Function","Project Description","Project Number","Type","MTSF Service Outcome","IUDF","Own Strategic Objectives","Asset Class","Asset Sub-Class","Ward Location","GPS Longitude","GPS Lattitude",{"$f":"Head5&\"    \"&Head1","v":"Audited Outcome    2023/24"},{"$f":"Head2 & \"        \"&Head8","v":"Current Year 2024/25        Full Year Forecast"},{"$f":"Head9","v":"Budget Year 2025/26"},{"$f":"Head10","v":"Budget Year +1 2026/27"},{"$f":"Head11","v":"Budget Year +2 2027/28"}]
["Parent municipality:"]
["List all capital projects grouped by Function"]
[]
["Administrative and Corporate Support","LEVS:ZA:PRINTING SECTION - RENOVATIONS","PC002002001003001003_05553","Renewal","An efficient, competitive and responsive economic infrastructure network","Inclusion and access","Improved state of Municipal Infrastructure","Operational Buildings","Building Plan Offices","Whole of the Municipality","17","-21",null,250000]
["Administrative and Corporate Support","LEVS:AH:NEW:FURNITURE & OFFICE EQUIP","PC002003005_03779","New","A skilled and capable workforce to support an inclusive growth path","Growth","Increased institutional capacity and promote transformation","Furniture and Office Equipment"," ","Whole of the Municipality","17","-21",null,40000]
["Air Transport","LEVS:AH:NEW:COMPUTER EQUIPMENT","PC002003004_05501","New","A skilled and capable workforce to support an inclusive growth path","Growth","Increased institutional capacity and promote transformation","Computer Equipment"," ","Whole of the Municipality","17","-21",null,250000]
["Air Transport","LEVS:AH:NEW:MACHINERY & EQUIPM","PC002003009_05502","New","A skilled and capable workforce to support an inclusive growth path","Growth","Increased institutional capacity and promote transformation","Machinery and Equipment"," ","Whole of the Municipality","17","-21",null,100000]
["Asset Management","LEVS:ZA:NEW:TRANSPORT ASSETS","PC002003010_04912","New","A skilled and capable workforce to support an inclusive growth path","Growth","Increased institutional capacity and promote transformation","Transport Assets"," ","Whole of the Municipality","17","-21",null,3600000]
["Cemeteries, Funeral Parlours and Crematoriums","MIG:Z5:WARD 35 DEV OF ETHEMBENI CEMETRY","PC002003002001011_04872","New","An efficient, competitive and responsive economic infrastructure network","Inclusion and access","Improved state of Municipal Infrastructure","Community Facilities","Cemeteries/Crematoria","Zone 5: Northern (Ward 28,29,30,31,32,34,35&38)","-16.35","12.25"]
["Community Halls and Facilities","MIG:Z2:WARD 16 CONSTRUCTION OF  MULTI-PURPOSE SPORT FACILITY KWAPATA","PC002002002002002002_05017","Upgrading","An efficient, competitive and responsive economic infrastructure network","Inclusion and access","Improved state of Municipal Infrastructure","Sport and Recreation Facilities","Outdoor Facilities","Whole of the Municipality","17","-21",null,null,1216720,1289723,5674180]
["Community Halls and Facilities","MIG:Z1:WARD 8 COMMUNITY HALL","PC002003002001001_00001","New","An efficient, competitive and responsive economic infrastructure network","Inclusion and access","Improved state of Municipal Infrastructure","Community Facilities","Halls","Zone 1: Vulindlela (Ward 1,2,3,4,5,6,7,8,9&39),Zone 3: Imbali (Ward 13,14,15,17,18,19),...","-16.35","12.25"]
["Community Halls and Facilities","MIG:Z4:WARD 24 COMMUNITY HALL","PC002003002001001_04363","New","An efficient, competitive and responsive economic infrastructure network","Inclusion and access","Improved state of Municipal Infrastructure","Community Facilities","Halls","Whole of the Municipality,Zone 4:Central (Ward 24,25,26,27,33,36,37),...","17","-21",null,9201115,1200000,1272000,2247200]
["Community Halls and Facilities","MIG:Z1:WARD 8 COMMUNITY HALL","PC002003002001001_04364","New","An efficient, competitive and responsive economic infrastructure network","Inclusion and access","Improved state of Municipal Infrastructure","Community Facilities","Halls","Whole of the Municipality,Zone 1: Vulindlela (Ward 1,2,3,4,5,6,7,8,9&39),...","17","-21",null,708125,2000000,2120000,5786540]
["Community Halls and Facilities","MIG:Z5:MADIBA COMMUNITY HALL","PC002003002001001_04374","New","An efficient, competitive and responsive economic infrastructure network","Inclusion and access","Improved state of Municipal Infrastructure","Community Facilities","Halls","Whole of the Municipality,Zone 5: Northern (Ward 28,29,30,31,32,34,35&38),...","17","-21",null,3000000,5150000,5459000,1367107]
["Community Halls and Facilities","MIG:Z1:WARD 8 COMMUNITY HALL LANDSKOP","PC002003002001001_05506","New","An efficient, competitive and responsive economic infrastructure network","Inclusion and access","Improved state of Municipal Infrastructure","Community Facilities","Halls","Whole of the Municipality","17","-21",null,914387,5050000,5353000,33146200]
["Community Halls and Facilities","MIG:Z1:COMMUNITY HALL WARD 5","PC002003002001001_05558","New","An efficient, competitive and responsive economic infrastructure network","Inclusion and access","Improved state of Municipal Infrastructure","Community Facilities","Halls","Whole of the Municipality","17","-21",null,81493]
["Economic Development/Planning","NDPG: OLD EDENDALE ROAD UPGRADE","PC001001002006002_04686","Upgrading","An efficient, competitive and responsive economic infrastructure network","Inclusion and access","Improved state of Municipal Infrastructure","Roads Infrastructure","Road Structures","Whole of the Municipality,Zone 2: Edendale (Ward 10,11,12,16,20,21,22,23),...","17","-21",null,20000000,20000000,null,30000000]
["Economic Development/Planning","NDPG: DEVELOPMENT OF EMATSHENI PHASE 2 &3","PC002002002002001014_00001","Upgrading","An efficient, competitive and responsive economic infrastructure network","Inclusion and access","Improved state of Municipal Infrastructure","Community Facilities","Public Open Space","Whole of the Municipality","17","-21",null,null,5000000,7000000,2000000]
["Economic Development/Planning","NDPG:EDENDALE STREAM REHABILITATION","PC002002002002001014_00002","Upgrading","An efficient, competitive and responsive economic infrastructure network","Inclusion and access","Improved state of Municipal Infrastructure","Community Facilities","Public Open Space","Whole of the Municipality","17","-21",null,null,null,3000000,8000000]
["Economic Development/Planning","NDPG: EDENDALE TOWN CENTRE: CIVIC ZONE","PC002002002002001014_04693","Upgrading","An efficient, competitive and responsive economic infrastructure network","Inclusion and access","Improved state of Municipal Infrastructure","Community Facilities","Public Open Space","Whole of the Municipality","17","-21"]
["Economic Development/Planning","NDPG:CBD REGENERATION PHASE 1","PC002002002002001014_05486","Upgrading","An efficient, competitive and responsive economic infrastructure network","Inclusion and access","Improved state of Municipal Infrastructure","Community Facilities","Public Open Space","Whole of the Municipality","17","-21",null,null,5000000,23000000]
["Economic Development/Planning","LEVS:Z4:EMATSHENI INFOMAL TRADERS","PC002003002001017_05492","New","An efficient, competitive and responsive economic infrastructure network","Inclusion and access","Improved state of Municipal Infrastructure","Community Facilities","Markets","Whole of the Municipality","17","-21",null,1000000]
["Economic Development/Planning","EDTEA:Z4:EMATSHENI INFOMAL TRADERS","PC002003002001018_00001","New","An efficient, competitive and responsive economic infrastructure network","Inclusion and access","Improved state of Municipal Infrastructure","Community Facilities","Stalls","Whole of the Municipality,Zone 4:Central (Ward 24,25,26,27,33,36,37),...","-16.35","12.25"]
["Economic Development/Planning","EDTEA:Z4:EMATSHENI INFORMAL TRADER PROJ","PC002003002001018_05428","New","An efficient, competitive and responsive economic infrastructure network","Inclusion and access","Improved state of Municipal Infrastructure","Community Facilities","Stalls","Whole of the Municipality","17","-21",null,1062396]
["Economic Development/Planning","LEVS: Z4:NEW: COMPUTER EQUIPMENT","PC002003004_05494","New","A skilled and capable workforce to support an inclusive growth path","Growth","Increased institutional capacity and promote transformation","Computer Equipment"," ","Whole of the Municipality","17","-21",null,50000]
["Economic Development/Planning","LEVS:AH:NEW:COMPUTER EQUIPMENT","PC002003004_05497","New","A skilled and capable workforce to support an inclusive growth path","Growth","Increased institutional capacity and promote transformation","Computer Equipment"," ","Whole of the Municipality","17","-21",null,210000]
["Economic Development/Planning","LEVS:Z4:NEW:FURNITURE & OFFICE EQUIP","PC002003005_05495","New","A skilled and capable workforce to support an inclusive growth path","Growth","Increased institutional capacity and promote transformation","Furniture and Office Equipment"," ","Whole of the Municipality","17","-21",null,150000]
["Economic Development/Planning","LEVS:AH:NEW:FURNITURE & OFFICE EQUIP","PC002003005_05498","New","A skilled and capable workforce to support an inclusive growth path","Growth","Increased institutional capacity and promote transformation","Furniture and Office Equipment"," ","Whole of the Municipality","17","-21",null,50000]
["Economic Development/Planning","LEVS:AH:NEW:MACHINERY & EQUIPM","PC002003009_05499","New","A skilled and capable workforce to support an inclusive growth path","Growth","Increased institutional capacity and promote transformation","Machinery and Equipment"," ","Whole of the Municipality","17","-21",null,90000]
["Electricity","ALNS:Z1: HILTON INFRASTRUCTURE UPGRADE","PC001002001002_05177","New","An efficient, competitive and responsive economic infrastructure network","Inclusion and access","Improved state of Municipal Infrastructure","Electrical Infrastructure","HV Substations","Whole of the Municipality","17","-21",null,10000000,11031404]
["Electricity","ALNS:Z1:Medium Voltage Network Upgrade","PC001002001002_05178","New","An efficient, competitive and responsive economic infrastructure network","Inclusion and access","Improved state of Municipal Infrastructure","Electrical Infrastructure","HV Substations","Whole of the Municipality","17","-21",null,57900000,32677621]
["Electricity","ALNS:Z4:E/WOOD PRIMARY 132KV INSTALLATIO","PC001002001002_05184","New","An efficient, competitive and responsive economic infrastructure network","Inclusion and access","Improved state of Municipal Infrastructure","Electrical Infrastructure","HV Substations","Whole of the Municipality,Zone 4:Central (Ward 24,25,26,27,33,36,37),...","17","-21",null,40000000,21336493]
["Electricity","ALNS:Z4:MASONS 132/11kv PRIMARY SUBSTATI","PC001002001002_05189","New","An efficient, competitive and responsive economic infrastructure network","Inclusion and access","Improved state of Municipal Infrastructure","Electrical Infrastructure","HV Substations","Whole of the Municipality","17","-21",null,60915856,61478883,null,5460125]
["Electricity","LEVS:ZA:ALABASTER SWITCHGEAR REPLACE","PC001002001002_05543","New","An efficient, competitive and responsive economic infrastructure network","Inclusion and access","Improved state of Municipal Infrastructure","Electrical Infrastructure","HV Substations","Whole of the Municipality","17","-21",null,3500000]
["Electricity","ALNS:Z1:MID-BLOCK SERVICES RELOCATION","PC001002001007_05179","New","An efficient, competitive and responsive economic infrastructure network","Inclusion and access","Improved state of Municipal Infrastructure","Electrical Infrastructure","MV Networks","Whole of the Municipality","17","-21",null,14300000,5000000]
["Electricity","MSU1/I/704062.003","PC001002001008_05173","New","An efficient, competitive and responsive economic infrastructure network","Inclusion and access","Improved state of Municipal Infrastructure","Electrical Infrastructure","LV Networks","Whole of the Municipality","17","-21",null,3271000,null,2500000,8211673]
["Electricity","MIG:Z1:HIGH MAST LIGHTS-VUL & GREAT EDN","PC001002001008_05176","New","An efficient, competitive and responsive economic infrastructure network","Inclusion and access","Improved state of Municipal Infrastructure","Electrical Infrastructure","LV Networks","Whole of the Municipality,Zone 1: Vulindlela (Ward 1,2,3,4,5,6,7,8,9&39),...","17","-21",null,null,7308360,7746862,4000000]
["Electricity","ALNS:Z4:HESKET PRIMARY NETWORK UPDRADE","PC001002001008_05186","New","An efficient, competitive and responsive economic infrastructure network","Inclusion and access","Improved state of Municipal Infrastructure","Electrical Infrastructure","LV Networks","Whole of the Municipality","17","-21",null,3000000,23000000]
["Electricity","LEVS:ZA:ELECTR METER AUDIT & REPLACEMENT","PC001002001008_05318","New","An efficient, competitive and responsive economic infrastructure network","Inclusion and access","Improved state of Municipal Infrastructure","Electrical Infrastructure","LV Networks","Whole of the Municipality","-16.35","12.25",null,1600000]
["Electricity","INEP:Z1:PHAYIPHINI INFILLS (TYPE 1)","PC001002001008_05345","New","An efficient, competitive and responsive economic infrastructure network","Inclusion and access","Improved state of Municipal Infrastructure","Electrical Infrastructure","LV Networks","Whole of the Municipality","17","-21",null,1700000,null,3500000]
["Electricity","ALNS:ZA:NEW MACHINERY & EQUIPMENT","PC001002001009_05196","New","An efficient, competitive and responsive economic infrastructure network","Inclusion and access","Improved state of Municipal Infrastructure","Electrical Infrastructure","Capital Spares","Whole of the Municipality","17","-21",null,16500000,7000000]
["Electricity","LEVS:AH:NEW:MACHINERY & EQUIPM","PC001002001009_05335","New","An efficient, competitive and responsive economic infrastructure network","Inclusion and access","Improved state of Municipal Infrastructure","Electrical Infrastructure","Capital Spares","Whole of the Municipality","17","-21",null,2697000]
["Electricity","EEDSM:ZA:RETROFIT OF HPS FITTINGS LED","PC001002001009_05343","New","An efficient, competitive and responsive economic infrastructure network","Inclusion and access","Improved state of Municipal Infrastructure","Electrical Infrastructure","Capital Spares","Whole of the Municipality","17","-21",null,4300000,null,4000000,3271000]
["Electricity","LEVS:ZA:SWITCH GEARS AND TRANSFORMERS","PC001002001009_05447","New","An efficient, competitive and responsive economic infrastructure network","Inclusion and access","Improved state of Municipal Infrastructure","Electrical Infrastructure","Capital Spares","Whole of the Municipality","17","-21",null,7007000,12500000,13062500,10920250]
["Electricity","LEVS:ZA: BUILDING AND REFURBISHMENT","PC002002001003001001_05533","Renewal","An efficient, competitive and responsive economic infrastructure network","Inclusion and access","Improved state of Municipal Infrastructure","Operational Buildings","Municipal Offices","Whole of the Municipality","17","-21",null,10000]
["Electricity","LEVS:ZA:NEW:FURNITURE & EQUIP","PC002003005_05458","New","A skilled and capable workforce to support an inclusive growth path","Growth","Increased institutional capacity and promote transformation","Furniture and Office Equipment"," ","Whole of the Municipality","17","-21",null,50000]
["Electricity","LEVS:AH:NEW:MACHINERY & EQUIPM","PC002003009_05335","New","A skilled and capable workforce to support an inclusive growth path","Growth","Increased institutional capacity and promote transformation","Machinery and Equipment"," ","Whole of the Municipality","17","-21",null,8007000]
["Finance","-","PC001001001009001_00099","Renewal"," "," ","-","Information and Communication Infrastructure","Data Centres","Whole of the Municipality","-","-",11937006]
["Finance","Elerctrical","PC001002001007_00099","New","Responsive, accountable, effective and efficient local government","Growth","Improved state of Municipal Infrastructure","Electrical Infrastructure","MV Networks","Whole of the Municipality","17","-21",819701147]
["Finance","-","PC002003004_00099","New"," "," ","-","Computer Equipment"," ","Whole of the Municipality","-","-"]
["Finance","LEVS:AH:NEW:COMPUTER EQUIPMENT","PC002003004_03748","New","A skilled and capable workforce to support an inclusive growth path","Growth","Increased institutional capacity and promote transformation","Computer Equipment"," ","Whole of the Municipality","17","-21",null,1000000]
["Finance","LEVS:AH:NEW:FURNITURE & OFFICE EQUIP","PC002003005_03749","New","An efficient, competitive and responsive economic infrastructure network","Inclusion and access","Improved state of Municipal Infrastructure","Furniture and Office Equipment"," ","Whole of the Municipality","17","-21",null,125000,5000000,5225000,43681000]
["Finance","-","PC002003006005_00099","New"," "," ","-","Heritage Assets","Other Heritage","Whole of the Municipality","-","-",50449589]
["Finance","LEVS:ZA:FINANCIAL MANAGEMENT SYSTEM SAP","PC002003007002004_01237","New","An efficient, competitive and responsive economic infrastructure network","Inclusion and access","Improved state of Municipal Infrastructure","Licences and Rights","Computer Software and Applications","Whole of the Municipality","17","-21",null,2500000,40000000,41800000,6000000]
["Finance","LEVS:AH:NEW:MACHINERY & EQUIPMENT","PC002003009_04761","New","A skilled and capable workforce to support an inclusive growth path","Growth","Increased institutional capacity and promote transformation","Machinery and Equipment"," ","Whole of the Municipality","17","-21",null,175000]
["Fire Fighting and Protection","LEVS:ZA:PPE-COMPUTER EQUIP.-ALL OR EXCL","PC002003004_04951","New","A skilled and capable workforce to support an inclusive growth path","Growth","Increased institutional capacity and promote transformation","Computer Equipment"," ","Whole of the Municipality","17","-21",null,150000]
["Fire Fighting and Protection","LEVS:ZA:NEW:MACHINERY & EQUIPM","PC002003009_03841","New","A skilled and capable workforce to support an inclusive growth path","Growth","Increased institutional capacity and promote transformation","Machinery and Equipment"," ","Whole of the Municipality","17","-21",null,1150000]
["Fire Fighting and Protection","LEVS:ZA:NEW:TRANSPORT ASSETS","PC002003010_03839","New","A skilled and capable workforce to support an inclusive growth path","Growth","Increased institutional capacity and promote transformation","Transport Assets"," ","Whole of the Municipality","17","-21",null,800000]
["Housing","ISUP:Z4:SIGNAL HILL ROUTE","PC001002006001_05438","New","An efficient, competitive and responsive economic infrastructure network","Inclusion and access","Improved state of Municipal Infrastructure","Roads Infrastructure","Roads","Whole of the Municipality","17","-21",null,32301136]
["Housing","HSDV:Z2:COMMUNITY HALL","PC002003002001001_05437","New","An efficient, competitive and responsive economic infrastructure network","Inclusion and access","Improved state of Municipal Infrastructure","Community Facilities","Halls","Whole of the Municipality","17","-21",null,3818316]
["Housing","HSDV:Z2:EDENDALE & SNATHING MIL VETERANS","PC002003003002002_00001","New","An efficient, competitive and responsive economic infrastructure network","Inclusion and access","Improved state of Municipal Infrastructure","Housing","Social Housing","Whole of the Municipality,Zone 4:Central (Ward 24,25,26,27,33,36,37),...","-16.35","12.25"]
["Housing","ISUP:Z2:KWA 30 HOUSING PROJECT-BULK","PC002003003002002_05349","New","A skilled and capable workforce to support an inclusive growth path","Growth","Increased institutional capacity and promote transformation","Housing","Social Housing","Whole of the Municipality","17","-21",null,11359735]
["Housing","ISUP:Z2:HAREWOOD HOUSING PROJECT","PC002003003002002_05398","New","A skilled and capable workforce to support an inclusive growth path","Growth","Increased institutional capacity and promote transformation","Housing","Social Housing","Whole of the Municipality","17","-21",null,52980954]
["Housing","HSDV:Z2:EDENDALE & SNATHING MIL VETERANS","PC002003003002002_05436","New","A skilled and capable workforce to support an inclusive growth path","Growth","Increased institutional capacity and promote transformation","Housing","Social Housing","Whole of the Municipality","17","-21",null,6718473]
["Housing","MIG:Z2:BULK SERVICES TO JIKA JOE CRU","PC002003003002002_05518","New","A skilled and capable workforce to support an inclusive growth path","Growth","Increased institutional capacity and promote transformation","Housing","Social Housing","Whole of the Municipality","17","-21",null,908439]
["Housing","HSDV:Z5:NORTH EAST INTERNAL SERV","PC002003003002002_05590","New","A skilled and capable workforce to support an inclusive growth path","Growth","Increased institutional capacity and promote transformation","Housing","Social Housing","Whole of the Municipality","17","-21",null,6421170]
["Housing","ACRDC:AH:NEW:NEW:COMPUTER EQUIPMENT","PC002003004_02339","New","An efficient, competitive and responsive economic infrastructure network","Inclusion and access","Improved state of Municipal Infrastructure","Computer Equipment"," ","Administrative or Head Office (Including Satellite Offices),Whole of the Municipality,...","-16.35","12.25",null,200000]
["Housing","LEVS: Z4:NEW: COMPUTER EQUIPMENT","PC002003004_05556","New","A skilled and capable workforce to support an inclusive growth path","Growth","Increased institutional capacity and promote transformation","Computer Equipment"," ","Whole of the Municipality","17","-21",null,350000]
["Housing","ACRDC:AH:NEW:NEW:FURNITURE & OFFICE EQUIP","PC002003005_02338","New","A skilled and capable workforce to support an inclusive growth path","Growth","Increased institutional capacity and promote transformation","Furniture and Office Equipment"," ","Whole of the Municipality","17","-21",null,200000]
["Housing","ACRDC:AH:NEW:NEW:FURNITURE & OFFICE EQUIP","PC002003009_02338","New","A skilled and capable workforce to support an inclusive growth path","Growth","Increased institutional capacity and promote transformation","Machinery and Equipment"," ","Administrative or Head Office (Including Satellite Offices)","-16.35","12.25"]
["Housing","ACRDC:ZA:NEW MACHINERY & EQUIPM","PC002003009_04462","New","An efficient, competitive and responsive economic infrastructure network","Inclusion and access","Improved state of Municipal Infrastructure","Machinery and Equipment"," ","Whole of the Municipality","-16.35","12.25",null,300000]
["Human Resources","LEVS:AH:NEW:FURNITURE & OFFICE EQUIP","PC002002002005_03773","Upgrading","An efficient, competitive and responsive economic infrastructure network","Inclusion and access","Improved state of Municipal Infrastructure","Furniture and Office Equipment"," ","Whole of the Municipality","17","-21",null,300000]
["Human Resources","LEVS:AH:NEW:COMPUTER EQUIPMENT","PC002003004_03772","New","A skilled and capable workforce to support an inclusive growth path","Growth","Increased institutional capacity and promote transformation","Computer Equipment"," ","Whole of the Municipality","17","-21",null,160000]
["Human Resources","MIG:Z2:NEW FURNITURE & OFFICE EQUIP","PC002003005_05552","New","A skilled and capable workforce to support an inclusive growth path","Growth","Increased institutional capacity and promote transformation","Furniture and Office Equipment"," ","Whole of the Municipality","17","-21",null,132620]
["Human Resources","MIG:Z4:NEW COMPUTER SOFTWARE","PC002003007002004_05514","New","A skilled and capable workforce to support an inclusive growth path","Growth","Increased institutional capacity and promote transformation","Licences and Rights","Computer Software and Applications","Whole of the Municipality","17","-21",null,900000]
["Human Resources","MIG:Z4:EXS:NEW:MACHINERY & EQUIPM","PC002003009_00002","New","A skilled and capable workforce to support an inclusive growth path","Growth","Increased institutional capacity and promote transformation","Machinery and Equipment"," ","Whole of the Municipality","17","-21",null,150000]
["Human Resources","LEVS:AH:NEW MACHINERY & EQUIPM","PC002003009_04454","New","A skilled and capable workforce to support an inclusive growth path","Growth","Increased institutional capacity and promote transformation","Machinery and Equipment"," ","Whole of the Municipality","17","-21",null,50000]
["Information Technology","LEVS:ZA:LAN/WAN","PC002002001004_00001","Renewal","An efficient, competitive and responsive economic infrastructure network","Inclusion and access","Improved state of Municipal Infrastructure","Computer Equipment"," ","Whole of the Municipality","-16.35","12.25"]
["Information Technology","LEVS:AH:NEW:COMPUTER EQUIPMENT","PC002002001004_03782","Renewal","An efficient, competitive and responsive economic infrastructure network","Inclusion and access","Improved state of Municipal Infrastructure","Computer Equipment"," ","Administrative or Head Office (Including Satellite Offices)","-16.35","12.25"]
["Information Technology","LEVS:ZA:LAN/WAN","PC002003004_00002","New","A skilled and capable workforce to support an inclusive growth path","Growth","Increased institutional capacity and promote transformation","Computer Equipment"," ","Whole of the Municipality","17","-21",null,1039231]
["Information Technology","LEVS:AH:NEW:COMPUTER EQUIPMENT","PC002003004_03782","New","A skilled and capable workforce to support an inclusive growth path","Growth","Increased institutional capacity and promote transformation","Computer Equipment"," ","Whole of the Municipality","17","-21",null,13584160]
["Information Technology","LEVS:AH:NEW:MACHINERY & EQUIPM","PC002003009_04263","New","An efficient, competitive and responsive economic infrastructure network","Inclusion and access","Improved state of Municipal Infrastructure","Machinery and Equipment"," ","Administrative or Head Office (Including Satellite Offices),Whole of the Municipality,...","17","-21",null,282431,10000000,10450000]
["Libraries and Archives","ART:AH:NEW COMPUTER EQUIPMENT","PC002003004_04716","New","An efficient, competitive and responsive economic infrastructure network","Inclusion and access","Improved state of Municipal Infrastructure","Computer Equipment"," ","Administrative or Head Office (Including Satellite Offices),Whole of the Municipality,...","-16.35","12.25",null,300000]
["Libraries and Archives","ART:AH:NEW FURNITURE & OFFICE EQUIP","PC002003005_04662","New","A skilled and capable workforce to support an inclusive growth path","Growth","Increased institutional capacity and promote transformation","Furniture and Office Equipment"," ","Whole of the Municipality","17","-21",null,600000]
["Libraries and Archives","ART:AH:NEW FURNITURE & OFFICE EQUIP","PC002003005_05005","New","A long and healthy life for all South Africans","Inclusion and access","Improved community and environmental health and safety","Furniture and Office Equipment"," ","Administrative or Head Office (Including Satellite Offices),Whole of the Municipality,...","-16.35","12.25",null,500000]
["Markets","LEVS:Z4:ROOF SHEETING","PC002002001002001017_00001","Renewal","An efficient, competitive and responsive economic infrastructure network","Inclusion and access","Improved state of Municipal Infrastructure","Community Facilities","Markets","Zone 4:Central (Ward 24,25,26,27,33,36,37)","-16.35","12.25"]
["Markets","LEVS:Z4:ROOF SHEETING","PC002002001003001001_05157","Renewal","An efficient, competitive and responsive economic infrastructure network","Inclusion and access","Improved state of Municipal Infrastructure","Operational Buildings","Municipal Offices","Whole of the Municipality","17","-21",null,2500000]
["Mayor and Council","LEVS.ZI NEW: OFFICE WARD 2","PC002003003001001_05479","New","A skilled and capable workforce to support an inclusive growth path","Growth","Increased institutional capacity and promote transformation","Operational Buildings","Municipal Offices","Whole of the Municipality","17","-21",null,650000]
["Municipal Manager, Town Secretary and Chief Executive","ALNS:Z4:HESKET PRIMARY NETWORK UPDRADE","PC001001002001007_00001","Upgrading","An efficient, competitive and responsive economic infrastructure network","Inclusion and access","Improved state of Municipal Infrastructure","Electrical Infrastructure","MV Networks","Zone 4:Central (Ward 24,25,26,27,33,36,37)","-16.35","12.25"]
["Municipal Manager, Town Secretary and Chief Executive","LEVS:ZA:NEW:MV NETWORKS","PC001002001002_00001","New","An efficient, competitive and responsive economic infrastructure network","Inclusion and access","Improved state of Municipal Infrastructure","Electrical Infrastructure","HV Substations","Administrative or Head Office (Including Satellite Offices)","-16.35","12.2"]
["Municipal Manager, Town Secretary and Chief Executive","LEVS:ZA:NEW:MV NETWORKS","PC001002001008_00001","New","An efficient, competitive and responsive economic infrastructure network","Inclusion and access","Improved state of Municipal Infrastructure","Electrical Infrastructure","LV Networks","Whole of the Municipality,Zone 4:Central (Ward 24,25,26,27,33,36,37),...","-16.35","12.2"]
["Municipal Manager, Town Secretary and Chief Executive","ALNS:Z1:MID-BLOCK SERVICES RELOCATION","PC001002001008_05179","New","A skilled and capable workforce to support an inclusive growth path","Growth","Increased institutional capacity and promote transformation","Electrical Infrastructure","LV Networks","Zone 1: Vulindlela (Ward 1,2,3,4,5,6,7,8,9&39)","-16.35","12.25"]
["Municipal Manager, Town Secretary and Chief Executive","ALNS:Z4:MASONS 132/11kv PRIMARY SUBSTATI","PC001002001008_05189","New","An efficient, competitive and responsive economic infrastructure network","Inclusion and access","Improved state of Municipal Infrastructure","Electrical Infrastructure","LV Networks","Zone 4:Central (Ward 24,25,26,27,33,36,37)","-16.35","12.25"]
["Municipal Manager, Town Secretary and Chief Executive","INEP:Z5:EZINKETHENI FEEDER LINER","PC001002001008_05342","New","An efficient, competitive and responsive economic infrastructure network","Inclusion and access","Improved state of Municipal Infrastructure","Electrical Infrastructure","LV Networks","Whole of the Municipality","-16.35","12.25"]
["Municipal Manager, Town Secretary and Chief Executive","INEP:Z1:SWEETWATERS INFILLS (TYPE 1)","PC001002001008_05343","New","A skilled and capable workforce to support an inclusive growth path","Growth","Increased institutional capacity and promote transformation","Electrical Infrastructure","LV Networks","Whole of the Municipality","-16.35","12.25"]
["Municipal Manager, Town Secretary and Chief Executive","LEVS:AH:NEW:COMPUTER EQUIPMENT","PC002003004_03735","New","An efficient, competitive and responsive economic infrastructure network","Inclusion and access","Improved state of Municipal Infrastructure","Computer Equipment"," ","Administrative or Head Office (Including Satellite Offices),Whole of the Municipality,...","-16.35","12.25",null,4800000]
["Municipal Manager, Town Secretary and Chief Executive","LEVS:ZA:NEW COMPUTER EQUIPMENT","PC002003004_04655","New","A skilled and capable workforce to support an inclusive growth path","Growth","Increased institutional capacity and promote transformation","Computer Equipment"," ","Whole of the Municipality","17","-21",null,25000]
["Municipal Manager, Town Secretary and Chief Executive","LEVS:AH:NEW:FURNITURE & OFFICE EQUIP","PC002003005_03736","New","An efficient, competitive and responsive economic infrastructure network","Inclusion and access","Improved state of Municipal Infrastructure","Furniture and Office Equipment"," ","Administrative or Head Office (Including Satellite Offices),Whole of the Municipality,...","-16.35","12.25",null,1400000]
["Municipal Manager, Town Secretary and Chief Executive","LEVS:AH:NEW FURNITURE & OFFICE EQUIP","PC002003005_05551","New","A skilled and capable workforce to support an inclusive growth path","Growth","Increased institutional capacity and promote transformation","Furniture and Office Equipment"," ","Whole of the Municipality","17","-21",null,365000]
["Municipal Manager, Town Secretary and Chief Executive","LEVS:AH:NEW:MACHINERY & EQUIPMENT","PC002003009_04252","New","A skilled and capable workforce to support an inclusive growth path","Growth","Increased institutional capacity and promote transformation","Machinery and Equipment"," ","Whole of the Municipality","17","-21",null,200000]
["Municipal Manager, Town Secretary and Chief Executive","LEVS:AH:NEW:MACHINERY & EQUIPM","PC002003009_04589","New","A skilled and capable workforce to support an inclusive growth path","Growth","Increased institutional capacity and promote transformation","Machinery and Equipment"," ","Whole of the Municipality","17","-21",null,10000]
["Municipal Manager, Town Secretary and Chief Executive","ALNS:ZA:NEW MACHINERY & EQUIPMENT","PC002003009_05196","New","A skilled and capable workforce to support an inclusive growth path","Growth","Increased institutional capacity and promote transformation","Machinery and Equipment"," ","Whole of the Municipality","-16.35","12.25"]
["Municipal Manager, Town Secretary and Chief Executive","ALNS:AH: NEW: TRANSPORT ASSETS","PC002003010_05195","New","A skilled and capable workforce to support an inclusive growth path","Growth","Increased institutional capacity and promote transformation","Transport Assets"," ","Administrative or Head Office (Including Satellite Offices),Whole of the Municipality,...","-16.35","12.25",null,4000000]
["Museums and Art Galleries","ART:AH:NEW:COMPUTER EQUIPMENT","PC002003004_04414","New","A skilled and capable workforce to support an inclusive growth path","Growth","Increased institutional capacity and promote transformation","Computer Equipment"," ","Whole of the Municipality","17","-21",null,80000]
["Museums and Art Galleries","ART:Z4: INSTALLATION OF WIFI AT TAG","PC002003005_05490","New","A skilled and capable workforce to support an inclusive growth path","Growth","Increased institutional capacity and promote transformation","Furniture and Office Equipment"," ","Whole of the Municipality","17","-21",null,60000]
["Museums and Art Galleries","ART:Z4:INSTAL DIGITAL MARKETING SIGNAGE","PC002003005_05491","New","A skilled and capable workforce to support an inclusive growth path","Growth","Increased institutional capacity and promote transformation","Furniture and Office Equipment"," ","Whole of the Municipality","17","-21",null,25000]
["Police Forces, Traffic and Street Parking Control","LEVS:ZA:NEW:MACHINERY & EQUIPM","PC002003009_04381","New","An efficient, competitive and responsive economic infrastructure network","Inclusion and access","Improved state of Municipal Infrastructure","Machinery and Equipment"," ","Whole of the Municipality","-16.35","12.25",null,540000]
["Police Forces, Traffic and Street Parking Control","LEVS:AH:NEW:TRANSPORT ASSETS","PC002003010_03178","New","An efficient, competitive and responsive economic infrastructure network","Inclusion and access","Improved state of Municipal Infrastructure","Transport Assets"," ","Administrative or Head Office (Including Satellite Offices),Whole of the Municipality,...","-16.35","12.25",null,1000000]
["Population Development","LEVS:ZA:NEW:COMPUTER EQUIPMENT","PC002003004_04276","New","A skilled and capable workforce to support an inclusive growth path","Growth","Increased institutional capacity and promote transformation","Computer Equipment"," ","Whole of the Municipality","17","-21",null,100000]
["Population Development","LEVS:AH:NEW:FURNITURE & OFFICE EQUIP","PC002003005_03836","New","A skilled and capable workforce to support an inclusive growth path","Growth","Increased institutional capacity and promote transformation","Furniture and Office Equipment"," ","Whole of the Municipality","17","-21",null,400000]
["Population Development","LEVS:ZA:NEW:TRANSPORT ASSETS","PC002003010_04123","New","A skilled and capable workforce to support an inclusive growth path","Growth","Increased institutional capacity and promote transformation","Transport Assets"," ","Whole of the Municipality","17","-21",null,1000000]
["Project Management Unit","MSU1/A/504527.HZ4.A52","PC002003004_05381","New","A skilled and capable workforce to support an inclusive growth path","Growth","Increased institutional capacity and promote transformation","Computer Equipment"," ","Whole of the Municipality","-16.35","12.25",null,9793]
["Project Management Unit","NEW SOFTWARE","PC002003007002005_00001","New","A skilled and capable workforce to support an inclusive growth path","Growth","Increased institutional capacity and promote transformation","Licences and Rights","Load Settlement Software Applications","Zone 4:Central (Ward 24,25,26,27,33,36,37)","-16.35","12.2"]
["Public Transport","LEVS:Z5:TRAFFIC CALMING MEASURES","PC001001002006001_01340","Upgrading","An efficient, competitive and responsive economic infrastructure network","Inclusion and access","Improved state of Municipal Infrastructure","Roads Infrastructure","Roads","Whole of the Municipality","17","-21",null,250000]
["Public Transport","LEVS:Z5:TRAFFIC CALMING MEASURES","PC001002006002_01340","New","A long and healthy life for all South Africans","Inclusion and access","Improved community and environmental health and safety","Roads Infrastructure","Road Structures","Zone 5: Northern (Ward 28,29,30,31,32,34,35&38)","-16.35","12.25"]
["Public Transport","LEVS:ZA:INSTALLAT OF NEW TRAFFIC SIGNALS","PC001002006003_00001","New","An efficient, competitive and responsive economic infrastructure network","Inclusion and access","Improved state of Municipal Infrastructure","Roads Infrastructure","Road Furniture","Whole of the Municipality","-16.35","12.25"]
["Public Transport","LEVS:Z4:NEW:FURNITURE & OFFICE EQUIP","PC002003005_02331","New","A skilled and capable workforce to support an inclusive growth path","Growth","Increased institutional capacity and promote transformation","Furniture and Office Equipment"," ","Whole of the Municipality","17","-21",null,100000]
["Recreational Facilities","LEVS:AH:PPE-COMPUTER EQUIP.-ALL OR EXCL","PC002003004_04952","New","A skilled and capable workforce to support an inclusive growth path","Growth","Increased institutional capacity and promote transformation","Computer Equipment"," ","Whole of the Municipality","17","-21",null,80000]
["Recreational Facilities","LEVS:Z4:NEW:FURNITURE & OFFICE EQUIP","PC002003005_00001","New","An efficient, competitive and responsive economic infrastructure network","Inclusion and access","Improved state of Municipal Infrastructure","Furniture and Office Equipment"," ","Administrative or Head Office (Including Satellite Offices),Whole of the Municipality,...","-16.35","12.25",null,500000]
["Recreational Facilities","LEVS:AH:NEW:MACHINERY & EQUIPM","PC002003009_00001","New","An efficient, competitive and responsive economic infrastructure network","Inclusion and access","Improved state of Municipal Infrastructure","Machinery and Equipment"," ","Administrative or Head Office (Including Satellite Offices),Whole of the Municipality,...","-16.35","12.25",null,200000]
["Recreational Facilities","LEVS:ZA:PPE-MACHINERY & EQUIP","PC002003009_04689","New","A skilled and capable workforce to support an inclusive growth path","Growth","Increased institutional capacity and promote transformation","Machinery and Equipment"," ","Whole of the Municipality","17","-21",null,1000000]
["Recreational Facilities","LEVS:AH: NEW: TRANSPORT ASSETS","PC002003010_00001","New","An efficient, competitive and responsive economic infrastructure network","Inclusion and access","Improved state of Municipal Infrastructure","Transport Assets"," ","Administrative or Head Office (Including Satellite Offices),Whole of the Municipality,...","-16.35","12.25",null,2500000]
["Recreational Facilities","LEVS:ZA:NEW:TRANSPORT ASSETS","PC002003010_00002","New","A skilled and capable workforce to support an inclusive growth path","Growth","Increased institutional capacity and promote transformation","Transport Assets"," ","Whole of the Municipality","17","-21",null,1000000]
["Roads","LEVS:ZA:STORMWATER UPGRADE","PC001001001003005_00001","Renewal","An efficient, competitive and responsive economic infrastructure network","Inclusion and access","Improved state of Municipal Infrastructure","Rail Infrastructure","Storm water Conveyance","Whole of the Municipality","-16.35","12.25"]
["Roads","MDRG:Z4:MUNICIPAL DISASTER RD REHAB","PC001001001006001_00001","Renewal","An efficient, competitive and responsive economic infrastructure network","Inclusion and access","Improved state of Municipal Infrastructure","Roads Infrastructure","Roads","Whole of the Municipality,Zone 4:Central (Ward 24,25,26,27,33,36,37),...","-16.35","12.25"]
["Roads","MIG:Z1: REHAB OF BALENI ROAD SWEETWATER","PC001001001006001_04873","Renewal","An efficient, competitive and responsive economic infrastructure network","Inclusion and access","Improved state of Municipal Infrastructure","Roads Infrastructure","Roads","Zone 1: Vulindlela (Ward 1,2,3,4,5,6,7,8,9&39)","-16.35","12.25"]
["Roads","MSU1/I/504125.084","PC001001001006001_05573","Renewal","An efficient, competitive and responsive economic infrastructure network","Inclusion and access","Improved state of Municipal Infrastructure","Roads Infrastructure","Roads","Whole of the Municipality","17","-21",null,1946469]
["Roads","MSU1/I/504125.085","PC001001001006001_05574","Renewal","An efficient, competitive and responsive economic infrastructure network","Inclusion and access","Improved state of Municipal Infrastructure","Roads Infrastructure","Roads","Whole of the Municipality","17","-21",null,7057157]
["Roads","MSU1/I/504125.086","PC001001001006001_05575","Renewal","An efficient, competitive and responsive economic infrastructure network","Inclusion and access","Improved state of Municipal Infrastructure","Roads Infrastructure","Roads","Whole of the Municipality","17","-21",null,7447521]
["Roads","MSU1/I/504125.087","PC001001001006001_05580","Renewal","An efficient, competitive and responsive economic infrastructure network","Inclusion and access","Improved state of Municipal Infrastructure","Roads Infrastructure","Roads","Whole of the Municipality","17","-21",null,1514000]
["Roads","MSU1/I/504125.088","PC001001001006001_05581","Renewal","An efficient, competitive and responsive economic infrastructure network","Inclusion and access","Improved state of Municipal Infrastructure","Roads Infrastructure","Roads","Whole of the Municipality","17","-21",null,5200000]
["Roads","MSU1/I/504125.089","PC001001001006001_05582","Renewal","An efficient, competitive and responsive economic infrastructure network","Inclusion and access","Improved state of Municipal Infrastructure","Roads Infrastructure","Roads","Whole of the Municipality","17","-21",null,6500000]
["Roads","LEVS:Z4:ROAD REHAB - PMS","PC001001001006002_01294","Renewal","An efficient, competitive and responsive economic infrastructure network","Inclusion and access","Improved state of Municipal Infrastructure","Roads Infrastructure","Road Structures","Whole of the Municipality","17","-21",null,4150000,null,null,1092025]
["Roads","PTIG:Z4:PUBLIC TRANSPORT INFRASTR","PC001001001006002_04327","Renewal","An efficient, competitive and responsive economic infrastructure network","Inclusion and access","Improved state of Municipal Infrastructure","Roads Infrastructure","Road Structures","Whole of the Municipality","17","-21",null,20000000,50000000,75000000,49438400]
["Roads","MSU1/I/504126.021","PC001001001007003_05576","Renewal","An efficient, competitive and responsive economic infrastructure network","Inclusion and access","Improved state of Municipal Infrastructure","Storm water Infrastructure","Attenuation","Whole of the Municipality","17","-21",null,5500000]
["Roads","MSU1/I/504126.022","PC001001001007003_05577","Renewal","An efficient, competitive and responsive economic infrastructure network","Inclusion and access","Improved state of Municipal Infrastructure","Storm water Infrastructure","Attenuation","Whole of the Municipality","17","-21",null,1500000]
["Roads","MSU1/I/504126.023","PC001001001007003_05578","Renewal","An efficient, competitive and responsive economic infrastructure network","Inclusion and access","Improved state of Municipal Infrastructure","Storm water Infrastructure","Attenuation","Whole of the Municipality","17","-21",null,1500000]
["Roads","MSU1/I/504126.024","PC001001001007003_05579","Renewal","An efficient, competitive and responsive economic infrastructure network","Inclusion and access","Improved state of Municipal Infrastructure","Storm water Infrastructure","Attenuation","Whole of the Municipality","17","-21",null,5700000]
["Roads","MIG:Z1: UPGR GRV ROADS MISSION","PC001001002006001_00001","Upgrading","An efficient, competitive and responsive economic infrastructure network","Inclusion and access","Improved state of Municipal Infrastructure","Roads Infrastructure","Roads","Zone 1: Vulindlela (Ward 1,2,3,4,5,6,7,8,9&39)","-16.35","12.25"]
["Roads","MIG:Z2:UPG GRV RD-EDN-DAMBUZA MJ SWD UPG","PC001001002006001_01302","Upgrading","An efficient, competitive and responsive economic infrastructure network","Inclusion and access","Improved state of Municipal Infrastructure","Roads Infrastructure","Roads","Whole of the Municipality,Zone 2: Edendale (Ward 10,11,12,16,20,21,22,23),...","17","-21",null,7300000,29500000,31270000,13483200]
["Roads","MIG:Z1:UPGR GRV ROADS-VULINDLELA-WARD 4","PC001001002006001_01317","Upgrading","An efficient, effective and development-oriented public service","Inclusion and access","Improved Municipal Planning and spatial development","Roads Infrastructure","Roads","Whole of the Municipality,Zone 1: Vulindlela (Ward 1,2,3,4,5,6,7,8,9&39),...","-16.35","12.25",null,3000000]
["Roads","MIG:Z1:UPGR GRV ROADS-VUL-WARD 1","PC001001002006001_03721","Upgrading","An efficient, competitive and responsive economic infrastructure network","Inclusion and access","Improved state of Municipal Infrastructure","Roads Infrastructure","Roads","Whole of the Municipality,Zone 1: Vulindlela (Ward 1,2,3,4,5,6,7,8,9&39),...","17","-21",null,16342240,12000000,12720000,5618000]
["Roads","MIG:Z1:UPGR GRV ROADS-VUL-WARD 5","PC001001002006001_03722","Upgrading","An efficient, competitive and responsive economic infrastructure network","Inclusion and access","Improved state of Municipal Infrastructure","Roads Infrastructure","Roads","Whole of the Municipality,Zone 1: Vulindlela (Ward 1,2,3,4,5,6,7,8,9&39),...","17","-21",null,12000000,5000000,5300000,2213492]
["Roads","MIG:Z1: REHAB OF BALENI ROAD SWEETWATER","PC001001002006001_04873","Upgrading","An efficient, competitive and responsive economic infrastructure network","Inclusion and access","Improved state of Municipal Infrastructure","Roads Infrastructure","Roads","Whole of the Municipality","17","-21",null,8051777,1970000,2088200,4382040]
["Roads","LEVS:Z2:Canalisation of Streams/bank pro","PC001001002006001_04895","Upgrading","An efficient, competitive and responsive economic infrastructure network","Inclusion and access","Improved state of Municipal Infrastructure","Roads Infrastructure","Roads","Administrative or Head Office (Including Satellite Offices),Whole of the Municipality,...","17","-21",null,2000000,null,1045000,13650313]
["Roads","LEVS:ZA:PURCHASE OF ROADS DESIGN SOFTWAR","PC001001002006001_05024","Upgrading","An efficient, competitive and responsive economic infrastructure network","Inclusion and access","Improved state of Municipal Infrastructure","Roads Infrastructure","Roads","Whole of the Municipality","17","-21",null,650000]
["Roads","LEVS:ZA:UPGRADE/ REHAB","PC001001002006001_05509","Upgrading","An efficient, competitive and responsive economic infrastructure network","Inclusion and access","Improved state of Municipal Infrastructure","Roads Infrastructure","Roads","Whole of the Municipality","17","-21",null,4050000]
["Roads","LEVS:Z2:UPG GRV RD-EDN-DAMBUZA SWD UPG","PC001001002006001_05538","Upgrading","An efficient, competitive and responsive economic infrastructure network","Inclusion and access","Improved state of Municipal Infrastructure","Roads Infrastructure","Roads","Whole of the Municipality","17","-21",null,475000,null,1045000,1092025]
["Roads","LEVS:Z1:UPGR GRV ROADS-VULINDLELA-WARD 4","PC001001002006001_05539","Upgrading","An efficient, competitive and responsive economic infrastructure network","Inclusion and access","Improved state of Municipal Infrastructure","Roads Infrastructure","Roads","Whole of the Municipality","17","-21",null,475000,null,1045000,1092025]
["Roads","LEVS:Z1:ward","PC001001002006001_05540","Upgrading","An efficient, competitive and responsive economic infrastructure network","Inclusion and access","Improved state of Municipal Infrastructure","Roads Infrastructure","Roads","Whole of the Municipality","17","-21",null,475000,null,1045000,1092025]
["Roads","LEVS:Ward 27 CBD","PC001001002006001_05541","Upgrading","An efficient, competitive and responsive economic infrastructure network","Inclusion and access","Improved state of Municipal Infrastructure","Roads Infrastructure","Roads","Whole of the Municipality","17","-21",null,475000,10000000,1045000,1092025]
["Roads","MIG:Z1: UPGR GRV ROADS MISSION","PC001001002006002_05507","Upgrading","An efficient, competitive and responsive economic infrastructure network","Inclusion and access","Improved state of Municipal Infrastructure","Roads Infrastructure","Road Structures","Whole of the Municipality","17","-21",null,5402149,3900000,4134000]
["Roads","LEVS:ZA:STORMWATER UPGRADE","PC001001002007001_05508","Upgrading","An efficient, competitive and responsive economic infrastructure network","Inclusion and access","Improved state of Municipal Infrastructure","Storm water Infrastructure","Drainage Collection","Whole of the Municipality","17","-21",null,500000]
["Roads","MDRG:Z4:LOWER BACK STREET","PC001002006001_00001","New","An efficient, competitive and responsive economic infrastructure network","Inclusion and access","Improved state of Municipal Infrastructure","Roads Infrastructure","Roads","Whole of the Municipality","17","-21",null,null,13214000,null,78375000]
["Roads","LEVS:Z4:ROAD REHAB - PMS","PC001002006001_01294","New","An efficient, competitive and responsive economic infrastructure network","Inclusion and access","Improved state of Municipal Infrastructure","Roads Infrastructure","Roads","Zone 4:Central (Ward 24,25,26,27,33,36,37)","-16.35","12.25"]
["Roads","LEVS:Z4:PUBLIC TRANSPORT INFRASTR","PC001002006001_05383","New","An efficient, competitive and responsive economic infrastructure network","Inclusion and access","Improved state of Municipal Infrastructure","Roads Infrastructure","Roads","Whole of the Municipality","17","-21",null,11170144]
["Roads","LEVS:ZA:SMALL PLANT","PC001002006001_05510","New","An efficient, competitive and responsive economic infrastructure network","Inclusion and access","Improved state of Municipal Infrastructure","Roads Infrastructure","Roads","Whole of the Municipality","17","-21",null,null,null,1045000,1092025]
["Roads","LEVS:ZA:SMALL PLANT","PC001002006002_00001","New","An efficient, competitive and responsive economic infrastructure network","Inclusion and access","Improved state of Municipal Infrastructure","Roads Infrastructure","Road Structures","Administrative or Head Office (Including Satellite Offices),Zone 4:Central (Ward 24,25,26,27,33,36,37),...","-16.35","12.25"]
["Roads","MSU1/I/504143.005","PC001002006002_05383","New","An efficient, competitive and responsive economic infrastructure network","Inclusion and access","Improved state of Municipal Infrastructure","Roads Infrastructure","Road Structures","Zone 4:Central (Ward 24,25,26,27,33,36,37)","-16.35","12.25"]
["Roads","LEVS:Z4:INSTALLAT OF NEW GUARD RAILS","PC001002006003_01343","New","An efficient, competitive and responsive economic infrastructure network","Inclusion and access","Improved state of Municipal Infrastructure","Roads Infrastructure","Road Furniture","Whole of the Municipality","17","-21",null,800000]
["Roads","LEVS:ZA: PPE-COMPUTER EQUIP-NERSA ACQUI","PC002003004_03179","New","A skilled and capable workforce to support an inclusive growth path","Growth","Increased institutional capacity and promote transformation","Computer Equipment"," ","Whole of the Municipality","17","-21",null,60000]
["Roads","LEVS:ZA:PURCHASE OF ROADS DESIGN SOFTWAR","PC002003007002006_00001","New","An efficient, competitive and responsive economic infrastructure network","Inclusion and access","Improved state of Municipal Infrastructure","Licences and Rights","Unspecified","Whole of the Municipality","-16.35","12.25"]
["Roads","LEVS:AH:NEW:MACHINERY & EQUIPMENT","PC002003009_03177","New","A skilled and capable workforce to support an inclusive growth path","Growth","Increased institutional capacity and promote transformation","Machinery and Equipment"," ","Whole of the Municipality","17","-21",null,560000]
["Roads","LEVS:ZA:NEW:MACHINERY AND EQUIPMENT","PC002003009_04958","New","A skilled and capable workforce to support an inclusive growth path","Growth","Increased institutional capacity and promote transformation","Machinery and Equipment"," ","Whole of the Municipality","17","-21",null,400000]
["Roads","LEVS:ZA:NEW:TRANSPORT ASSETS","PC002003010_04957","New","An efficient, competitive and responsive economic infrastructure network","Inclusion and access","Improved state of Municipal Infrastructure","Transport Assets"," ","Whole of the Municipality","-16.35","12.25",null,3000000]
["Sewerage","MIG:Z3:SHENSTONE AMBLETON SANIT SYSTEM","PC001001001005002_04706","Renewal","An efficient, competitive and responsive economic infrastructure network","Inclusion and access","Improved state of Municipal Infrastructure","Sanitation Infrastructure","Reticulation","Whole of the Municipality","17","-21",null,15707790,44000000,46640000,49645637]
["Sewerage","MIG:ZA:ELIM OF CONSERV TANKS:SEWER","PC001001002005002_03723","Upgrading","An efficient, competitive and responsive economic infrastructure network","Inclusion and access","Improved state of Municipal Infrastructure","Sanitation Infrastructure","Reticulation","Whole of the Municipality","17","-21",null,13792917]
["Sewerage","MDRG:Z3:LYNFIELD PARK SEWER P/STATION","PC001002004004_05470","New","An efficient, competitive and responsive economic infrastructure network","Inclusion and access","Improved state of Municipal Infrastructure","Water Supply Infrastructure","Pump Station","Whole of the Municipality","17","-21",null,600000]
["Sewerage","MDRG:Z2:CAMPSDRIFT STATION","PC001002004004_05471","New","An efficient, competitive and responsive economic infrastructure network","Inclusion and access","Improved state of Municipal Infrastructure","Water Supply Infrastructure","Pump Station","Whole of the Municipality","17","-21",null,400000]
["Sewerage","MDRG:Z4:LYNNROY PUMP STATION","PC001002004004_05472","New","An efficient, competitive and responsive economic infrastructure network","Inclusion and access","Improved state of Municipal Infrastructure","Water Supply Infrastructure","Pump Station","Whole of the Municipality","17","-21",null,600000]
["Sewerage","MDRG:Z4:WILLOWTON RD PUMP STATION","PC001002004004_05473","New","An efficient, competitive and responsive economic infrastructure network","Inclusion and access","Improved state of Municipal Infrastructure","Water Supply Infrastructure","Pump Station","Whole of the Municipality","17","-21",null,800000]
["Sewerage","MDRG:Z4:MITCHELL RD PUMP STATION","PC001002004004_05475","New","An efficient, competitive and responsive economic infrastructure network","Inclusion and access","Improved state of Municipal Infrastructure","Water Supply Infrastructure","Pump Station","Whole of the Municipality","17","-21",null,327295]
["Sewerage","MIG:Z3:SHENSTONE AMBLETON SANITATION S","PC001002005002_00001","New","A skilled and capable workforce to support an inclusive growth path","Growth","Increased institutional capacity and promote transformation","Sanitation Infrastructure","Reticulation","Whole of the Municipality","-16.35","12.25"]
["Sewerage","MIG:ZA:ELIM OF CONSERV TANKS:SEWER","PC001002005002_03723","New","An efficient, competitive and responsive economic infrastructure network","Inclusion and access","Improved state of Municipal Infrastructure","Sanitation Infrastructure","Reticulation","Whole of the Municipality","-16.35","12.25"]
["Sewerage","MIG:Z2:EDENDALE-SEWER RETICULATION- W16","PC001002005002_04864","New","An efficient, competitive and responsive economic infrastructure network","Inclusion and access","Improved state of Municipal Infrastructure","Sanitation Infrastructure","Reticulation","Whole of the Municipality","17","-21",null,3000000,44184440,46835506,27003479]
["Sewerage","MIG:ZA:DARVIL SEWER OUTFALL","PC001002005002_05269","New","A long and healthy life for all South Africans","Inclusion and access","Improved community and environmental health and safety","Sanitation Infrastructure","Reticulation","Whole of the Municipality","-16.35","12.25"]
["Sewerage","MIG:ZA:DARVIL SEWER OUTFALL","PC001002005004_05269","New","An efficient, competitive and responsive economic infrastructure network","Inclusion and access","Improved state of Municipal Infrastructure","Sanitation Infrastructure","Outfall Sewers","Whole of the Municipality","17","-21",null,67470331,24033000,25474980,52135040]
["Solid Waste Disposal (Landfill Sites)","LEVS:ZA:LANDFILL UPGRADE","PC001001002002001_05100","Upgrading","An efficient, competitive and responsive economic infrastructure network","Inclusion and access","Improved state of Municipal Infrastructure","Solid Waste Infrastructure","Landfill Sites","Whole of the Municipality","-16.35","12.25",null,7000000]
["Solid Waste Removal","ART:Z4:NEW: COMPUTER EQUIPMENT","PC002003004_00001","New","An efficient, competitive and responsive economic infrastructure network","Inclusion and access","Improved state of Municipal Infrastructure","Computer Equipment"," ","Administrative or Head Office (Including Satellite Offices),Zone 4:Central (Ward 24,25,26,27,33,36,37),...","-16.35","12.25",null,200000]
["Solid Waste Removal","LEVS:ZA: PPE-COMPUTER EQUIP-NERSA ACQUI","PC002003004_04764","New","A skilled and capable workforce to support an inclusive growth path","Growth","Increased institutional capacity and promote transformation","Computer Equipment"," ","Whole of the Municipality","17","-21",null,60000]
["Sports Grounds and Stadiums","MSU1/I/404478.001","PC002003002002002_05417","New","An efficient, competitive and responsive economic infrastructure network","Inclusion and access","Improved state of Municipal Infrastructure","Sport and Recreation Facilities","Outdoor Facilities","Whole of the Municipality,Zone 1: Vulindlela (Ward 1,2,3,4,5,6,7,8,9&39),...","-16.35","12.25",null,10085560]
["Town Planning, Building Regulations and Enforcement, and City Engineer","PGCAP:Z2:GREATER EDENDALE PROJECTS","PC001001002006002_02354","Upgrading","An efficient, competitive and responsive economic infrastructure network","Inclusion and access","Improved state of Municipal Infrastructure","Roads Infrastructure","Road Structures","Whole of the Municipality","17","-21",null,12518618]
["Town Planning, Building Regulations and Enforcement, and City Engineer","LEVS:AH:NEW:COMPUTER EQUIPMENT","PC002003004_05504","New","A skilled and capable workforce to support an inclusive growth path","Growth","Increased institutional capacity and promote transformation","Computer Equipment"," ","Whole of the Municipality","17","-21",null,700000]
["Town Planning, Building Regulations and Enforcement, and City Engineer","LEVS:AH:NEW:MACHINERY & EQUIPM","PC002003009_03805","New","A skilled and capable workforce to support an inclusive growth path","Growth","Increased institutional capacity and promote transformation","Machinery and Equipment"," ","Whole of the Municipality","17","-21",null,60000]
["Town Planning, Building Regulations and Enforcement, and City Engineer","LEVS:AH:NEW:TRANSPORT ASSETS","PC002003010_03957","New","A skilled and capable workforce to support an inclusive growth path","Growth","Increased institutional capacity and promote transformation","Transport Assets"," ","Whole of the Municipality","17","-21",null,500000]
["Water Distribution","MIG:ZA:REDUCTION OF NON REVENUE WATER","PC001001002004006_01368","Upgrading","A skilled and capable workforce to support an inclusive growth path","Growth","Increased institutional capacity and promote transformation","Water Supply Infrastructure","Bulk Mains","Whole of the Municipality","-16.35","12.25"]
["Water Distribution","MIG:Z5:COPESVILLE RESERVOIR","PC001001002004007_04866","Upgrading","An efficient, competitive and responsive economic infrastructure network","Inclusion and access","Improved state of Municipal Infrastructure","Water Supply Infrastructure","Distribution","Whole of the Municipality","17","-21",null,26678588,46400000,49184000,29000000]
["Water Distribution","MIG:Z1:NCWADI PHASE 2A","PC001001002004007_04963","Upgrading","An efficient, effective and development-oriented public service","Inclusion and access","Improved Customer experience & Public participation","Water Supply Infrastructure","Distribution","Zone 1: Vulindlela (Ward 1,2,3,4,5,6,7,8,9&39)","-16.35","12.25"]
["Water Distribution","WSIG:Z1:VULINDLELA PHASE 3 (Planning & D","PC001001002004007_05071","Upgrading","An efficient, competitive and responsive economic infrastructure network","Inclusion and access","Improved state of Municipal Infrastructure","Water Supply Infrastructure","Distribution","Whole of the Municipality","17","-21",null,14507400,25000000,25000000,8000000]
["Water Distribution","MIG:Z5:COPESVILLE RESERVOIR","PC001002004003_04866","New","A skilled and capable workforce to support an inclusive growth path","Growth","Increased institutional capacity and promote transformation","Water Supply Infrastructure","Reservoirs","Zone 5: Northern (Ward 28,29,30,31,32,34,35&38)","-16.35","12.25"]
["Water Distribution","MIG:Z1:NCWADI PHASE 2A","PC001002004003_04963","New","An efficient, competitive and responsive economic infrastructure network","Inclusion and access","Improved state of Municipal Infrastructure","Water Supply Infrastructure","Reservoirs","Whole of the Municipality","17","-21",null,5320000]
["Water Distribution","LEVS:ZA:WATER METER REPLACEMENT","PC001002004003_05390","New","An efficient, competitive and responsive economic infrastructure network","Inclusion and access","Improved state of Municipal Infrastructure","Water Supply Infrastructure","Reservoirs","Whole of the Municipality","17","-21",null,4000000,12500000,13062500,13650313]
["Water Distribution","WSIG:Z1:VULINDLELA PHASE 3B","PC001002004007_00001","New","An efficient, competitive and responsive economic infrastructure network","Inclusion and access","Improved state of Municipal Infrastructure","Water Supply Infrastructure","Distribution","Whole of the Municipality,Zone 2: Edendale (Ward 10,11,12,16,20,21,22,23),...","-16.35","12.25"]
["Water Distribution","WSIG:Z1:VULINDLELA PHASE 3 (Planning & D","PC001002004007_05071","New","An efficient, competitive and responsive economic infrastructure network","Inclusion and access","Improved state of Municipal Infrastructure","Water Supply Infrastructure","Distribution","Whole of the Municipality","-16.35","12.25"]
["Water Distribution","WSIG:Z1:VULINDLELA PHASE 3B","PC001002004007_05515","New","An efficient, competitive and responsive economic infrastructure network","Inclusion and access","Improved state of Municipal Infrastructure","Water Supply Infrastructure","Distribution","Whole of the Municipality","17","-21",null,2000000,25000000,30000000,3000000]
["Water Distribution","WSIG: Z1:WILLOWFONTEIN PH1","PC001002004007_05516","New","An efficient, competitive and responsive economic infrastructure network","Inclusion and access","Improved state of Municipal Infrastructure","Water Supply Infrastructure","Distribution","Whole of the Municipality","17","-21",null,8000000]
["Water Distribution","MIG:Z1:NCWADI PHASE 1","PC001002004008_05513","New","An efficient, competitive and responsive economic infrastructure network","Inclusion and access","Improved state of Municipal Infrastructure","Water Supply Infrastructure","Distribution Points","Whole of the Municipality","17","-21",null,15452009,null,10000000,30000000]
["Water Distribution","MSU1/I/504787.040","PC001002004010_05390","New","A long and healthy life for all South Africans","Inclusion and access","Improved community and environmental health and safety","Water Supply Infrastructure","Capital Spares","Whole of the Municipality","-16.35","12.25"]
["Water Distribution","LEVS:ZA:NEW:MACHINERY AND EQUIPMENT","PC002003009_01426","New","A skilled and capable workforce to support an inclusive growth path","Growth","Increased institutional capacity and promote transformation","Machinery and Equipment"," ","Whole of the Municipality","17","-21",null,300000]
["Water Distribution","LEVS:ZA:NEW:TRANSPORT ASSETS","PC002003010_03787","New","A long and healthy life for all South Africans","Inclusion and access","Improved community and environmental health and safety","Transport Assets"," ","Whole of the Municipality","-16.35","12.25",null,4000000]
["Z ???","ALNS:Z4:RETIEF PRIMARY SUBSTATION UPGD","PC001001002001002_00001"," ","A skilled and capable workforce to support an inclusive growth path","Growth","Increased institutional capacity and promote transformation"," "," "," ","-16.35","12.25"]
["Z ???","MIG:Z2:UPG GRV RD-EDN-M89","PC001001002004007_00001"," ","An efficient, competitive and responsive economic infrastructure network","Inclusion and access","Improved state of Municipal Infrastructure"," "," "," ","-16.35","12.25"]
["Z ???","PURCHASE OF TRANSFORMER CAPITAL EQUIPMENT","PC001002001009_00001"," ","An efficient, competitive and responsive economic infrastructure network","Inclusion and access","Improved state of Municipal Infrastructure"," "," "," ","-16.35","12.25"]
["Z ???","MIG:Z2:Edendale Outfall Sewer: Ward 11 WMPI-S3","PC001002004003_00001"," ","A skilled and capable workforce to support an inclusive growth path","Growth","Increased institutional capacity and promote transformation"," "," "," ","-16.35","12.25"]
["Z ???","NDPG:Z2:EDENDALE TOWN CENTRE:SKY BRIDGE","PC001002008004_00001"," ","An efficient, competitive and responsive economic infrastructure network","Inclusion and access","Improved state of Municipal Infrastructure"," "," "," ","-16.35","12.25"]
["Z ???","NDPG:Z2:EDENDALE TOWN CENTRE: INFORMAL MARKET","PC002002002002001017_00001"," ","An efficient, competitive and responsive economic infrastructure network","Inclusion and access","Improved state of Municipal Infrastructure"," "," "," ","-16.35","12.25"]
["Z ???","NDPG:Z4:CBD REGENERATION: PHASE 1","PC002002002003001001_00001"," ","An efficient, competitive and responsive economic infrastructure network","Inclusion and access","Improved state of Municipal Infrastructure"," "," "," ","-16.35","12.25"]
["Z ???","ART:Z4:NEW:MACHINERY & EQUIP AIR COND","PC002003009_04217"," ","An efficient, competitive and responsive economic infrastructure network","Inclusion and access","Improved state of Municipal Infrastructure"," "," "," ","-16.35","12.25"]
[]
[]
[]
[]
[]
[]
[]
[]
[]
[]
[]
[]
[]
[]
[]
[]
[]
[]
[]
[]
[]
[]
[]
[]
[]
[]
[]
[]
[]
[]
[]
[]
[]
[]
[]
[]
[]
[]
[]
[]
[]
[]
[]
[]
[]
[]
[]
[]
[]
[]
[]
[]
[]
[]
[]
[]
[]
[]
[]
[]
[]
[]
[]
[]
[]
[]
[]
[]
[]
[]
[]
[]
[]
[]
[]
[]
[]
[]
[]
[]
[]
[]
[]
[]
[]
[]
[]
[]
[]
[]
[]
[]
[]
[]
[]
[]
[]
[]
[]
[]
[]
[]
[]
[]
[]
[]
[]
[]
[]
[]
[]
[]
[]
[]
[]
[]
[]
[]
[]
[]
[]
[]
[]
[]
[]
[]
[]
[]
[]
[]
[]
[]
[]
[]
[]
[]
[]
[]
[]
[]
[]
[]
[]
[]
[]
[]
[]
[]
["Parent Capital expenditure",null,null,null,null,null,null,null,null,null,null,null,{"$f":"SUM(M7:M359)","v":882087742},{"$f":"SUM(N7:N359)","v":797048795},{"$f":"SUM(O7:O359)","v":627650921},{"$f":"SUM(P7:P359)","v":519757271},{"$f":"SUM(Q7:Q359)","v":555912339}]
[]
["Entities:"]
["List all capital projects grouped by Entity"]
[]
["Entity A"]
["Water project A"]
[]
["Entity B"]
["Electricity project B"]
[]
[]
[]
["Entity Capital expenditure",null,null,null,null,null,null,null,null,null,null,null,{"$f":"SUM(M365:M372)","v":0},{"$f":"SUM(N365:N372)","v":0},{"$f":"SUM(O365:O372)","v":0},{"$f":"SUM(P365:P372)","v":0},{"$f":"SUM(Q365:Q372)","v":0}]
["Total Capital expenditure",null,null,null,null,null,null,null,null,null,null,null,{"$f":"SUM(M7:M359)+SUM(M365:M372)","v":882087742},{"$f":"SUM(N7:N359)+SUM(N365:N372)","v":797048795},{"$f":"SUM(O7:O359)+SUM(O365:O372)","v":627650921},{"$f":"SUM(P7:P359)+SUM(P365:P372)","v":519757271},{"$f":"SUM(Q7:Q359)+SUM(Q365:Q372)","v":555912339}]
[{"$f":"head27a","v":"References"}]
["Must reconcile with Budgeted Capital Expenditure"]
["Projects that fall above the threshold values applicable to the municipality as identified in regulation 13 of the Municipal Budget and Reporting Regulations must be listed individually. Other projects by Function"]
["Asset class as per table A9 and asset sub-class as per table SA34"]
["GPS coordinates correct to seconds. Provide a logical starting point on networked infrastructure."]
["Distinguish projects approved in terms of MFMA section 19(1)(b) and MRRR Regulation 13",null,null,null,null,null,null,null,null,null,null,"check",{"$f":"SUM(SA34a!E175+SA34b!E175+SA34e!E175)-'SA36'!M374","v":46679332.629999995},{"$f":"SUM(SA34a!H175+SA34b!H175+SA34e!H175)-'SA36'!N374","v":39106641},{"$f":"SUM(SA34a!I175+SA34b!I175+SA34e!I175)-'SA36'!O374","v":12640000},{"$f":"SUM(SA34a!J175+SA34b!J175+SA34e!J175)-'SA36'!P374","v":13455637},{"$f":"SUM(SA34a!K175+SA34b!K175+SA34e!K175)-'SA36'!Q374","v":-49645637}]
["Project Number consists of MSCOA Project Longcode and seq No (sample PC001002006002_00002)"]

{"sheet":"SA37","index":63,"n_rows":27,"n_cols":18,"rows_kept":27,"cut":false,"hidden":false,"merged":[[1,12,2,12],[1,13,1,14],[1,15,1,17]]}
[{"$f":"muni&\" - \"&TableA37","v":"Choose name from list - Supporting Table SA37 Projects delayed from previous financial year/s"}]
["R thousand",null,null,null,null,null,null,null,null,null,null,null,{"$f":"Head47","v":"Previous target year to complete"},{"$f":"Head2","v":"Current Year 2024/25"},null,{"$f":"Head3","v":"2025/26 Medium Term Revenue & Expenditure Framework"}]
["Function","Project name","Project number","Type","MTSF Service Outcome","IUDF","Own Strategic Objectives","Asset Class","Asset Sub-Class","Ward Location","GPS Longitude","GPS Lattitude",null,{"$f":"Head6","v":"Original Budget"},{"$f":"Head8","v":"Full Year Forecast"},{"$f":"Head9","v":"Budget Year 2025/26"},{"$f":"Head10","v":"Budget Year +1 2026/27"},{"$f":"Head11","v":"Budget Year +2 2027/28"}]
["Parent municipality:"]
["List all capital projects grouped by Function"]
[]
[]
[]
[]
[]
[]
[]
[]
["Entities:"]
["List all capital projects grouped by Entity"]
[]
["Entity Name"]
["Project name"]
[]
[]
[]
[]
[{"$f":"head27a","v":"References"}]
["List all projects with planned completion dates in current year that have been re-budgeted in the MTREF"]
["Asset class as per table A9 and asset sub-class as per table SA34"]
["GPS coordinates correct to seconds. Provide a logical starting point on networked infrastructure."]
["Project Number consists of MSCOA Project Longcode and seq No (sample PC001002006002_00002)"]

{"sheet":"SA38","index":64,"n_rows":306,"n_cols":17,"rows_kept":306,"cut":false,"hidden":false,"merged":[[1,12,1,13],[1,14,1,16]]}
[{"$f":"muni&\" - \"&TableA38","v":"Choose name from list - Supporting Table SA38 Consolidated detailed operational projects"}]
["R thousand",null,null,null,null,null,null,null,null,null,null,null,"Prior year outcomes",null,{"$f":"Head3","v":"2025/26 Medium Term Revenue & Expenditure Framework"}]
["Function","Project Description","Project Number","Type","MTSF Service Outcome","IUDF","Own Strategic Objectives","Asset Class","Asset Sub-Class","Ward Location","GPS Longitude","GPS Lattitude",{"$f":"Head5&\"    \"&Head1","v":"Audited Outcome    2023/24"},{"$f":"Head2 & \"        \"&Head8","v":"Current Year 2024/25        Full Year Forecast"},{"$f":"Head9","v":"Budget Year 2025/26"},{"$f":"Head10","v":"Budget Year +1 2026/27"},{"$f":"Head11","v":"Budget Year +2 2027/28"}]
["Parent municipality:"]
["List all operational projects grouped by Function"]
[]
["Administrative and Corporate Support","LEVS:AH:NIF:MACH & EQUIPMENT:PL","PO001002001001009_03340","Preventative Maintenance","An efficient, competitive and responsive economic infrastructure network","Inclusion and access","Improved state of Municipal Infrastructure","Interval Based","Machinery and Equipment","Administrative or Head Office (Including Satellite Offices),Whole of the Municipality,...","17","-21",null,20000,10000,10000,150]
["Administrative and Corporate Support","LEVS:AH:NIF:MACH & EQUIPMENT:PL","PO001002001001009_03341","Preventative Maintenance","An efficient, competitive and responsive economic infrastructure network","Inclusion and access","Improved state of Municipal Infrastructure","Interval Based","Machinery and Equipment","Administrative or Head Office (Including Satellite Offices),Whole of the Municipality,...","17","-21",null,300000,500000,500000,500000]
["Administrative and Corporate Support","LEVS:AH:NIF:MACH & EQUIPMENT:PL","PO001002001001009_03342","Preventative Maintenance","An efficient, competitive and responsive economic infrastructure network","Inclusion and access","Improved state of Municipal Infrastructure","Interval Based","Machinery and Equipment","Administrative or Head Office (Including Satellite Offices),Whole of the Municipality,...","17","-21",null,60000,20000,50000,50000]
["Administrative and Corporate Support","LEVS:AH:NIF:TRANSPORT ASSETS:PL","PO001002001001010_00393","Preventative Maintenance","An efficient, competitive and responsive economic infrastructure network","Inclusion and access","Improved state of Municipal Infrastructure","Interval Based","Transport Assets","Administrative or Head Office (Including Satellite Offices),Whole of the Municipality,...","17","-21",null,50000,50000,55000,56000]
["Administrative and Corporate Support","LEVS:Z4:NIF:TRANSPORT ASSETS:PL","PO001002001001010_03353","Preventative Maintenance","An efficient, competitive and responsive economic infrastructure network","Inclusion and access","Improved state of Municipal Infrastructure","Interval Based","Transport Assets","Administrative or Head Office (Including Satellite Offices),Whole of the Municipality,...","17","-21",null,32500,50000,52350,54758]
["Administrative and Corporate Support","LEVS:Z5:NIF:TRANSPORT ASSETS:PL","PO001002001001010_03356","Preventative Maintenance","An efficient, competitive and responsive economic infrastructure network","Inclusion and access","Improved state of Municipal Infrastructure","Interval Based","Transport Assets","Administrative or Head Office (Including Satellite Offices),Whole of the Municipality,...","17","-21",null,59500,60000,62820,65710]
["Administrative and Corporate Support","LEVS:Z3:NIF:TRANSPORT ASSETS:PL","PO001002001001010_03359","Preventative Maintenance","An efficient, competitive and responsive economic infrastructure network","Inclusion and access","Improved state of Municipal Infrastructure","Interval Based","Transport Assets","Administrative or Head Office (Including Satellite Offices),Whole of the Municipality,...","17","-21",null,42500,50000,52350,54758]
["Administrative and Corporate Support","LEVS:Z2:NIF:TRANSPORT ASSETS:PL","PO001002001001010_03362","Preventative Maintenance","An efficient, competitive and responsive economic infrastructure network","Inclusion and access","Improved state of Municipal Infrastructure","Interval Based","Transport Assets","Whole of the Municipality","17","-21",null,42500,90000,94230,98565]
["Administrative and Corporate Support","LEVS:Z1:NIF:TRANSPORT ASSETS:PL","PO001002001001010_03365","Preventative Maintenance","An efficient, competitive and responsive economic infrastructure network","Inclusion and access","Improved state of Municipal Infrastructure","Interval Based","Transport Assets","Administrative or Head Office (Including Satellite Offices),Whole of the Municipality,...","17","-21",null,42500,45000,47115,49282]
["Administrative and Corporate Support","LEVS:Z4:NIF:BUILD & OTHER STRUCT:PL","PO001002001002002001001002_03351","Preventative Maintenance","An efficient, competitive and responsive economic infrastructure network","Inclusion and access","Improved state of Municipal Infrastructure","Community Facilities","Halls","Whole of the Municipality","17","-21",null,59500,100000,104700,109516]
["Administrative and Corporate Support","LEVS:Z5:NIF:BUILD & OTHER STRUCT:PL","PO001002001002002001001002_03354","Preventative Maintenance","An efficient, competitive and responsive economic infrastructure network","Inclusion and access","Improved state of Municipal Infrastructure","Community Facilities","Halls","Whole of the Municipality","17","-21",null,59500,50000,52350,54758]
["Administrative and Corporate Support","LEVS:Z3:NIF:BUILD & OTHER STRUCT:PL","PO001002001002002001001002_03357","Preventative Maintenance","An efficient, competitive and responsive economic infrastructure network","Inclusion and access","Improved state of Municipal Infrastructure","Community Facilities","Halls","Whole of the Municipality","17","-21",null,42500,70000,73290,76661]
["Administrative and Corporate Support","LEVS:Z2:NIF:BUILD & OTHER STRUCT:PL","PO001002001002002001001002_03360","Preventative Maintenance","An efficient, competitive and responsive economic infrastructure network","Inclusion and access","Improved state of Municipal Infrastructure","Community Facilities","Halls","Administrative or Head Office (Including Satellite Offices),Whole of the Municipality,...","17","-21",null,20000,75000,78525,82137]
["Administrative and Corporate Support","LEVS:Z1:NIF:BUILD & OTHER STRUCT:PL","PO001002001002002001001002_03363","Preventative Maintenance","An efficient, competitive and responsive economic infrastructure network","Inclusion and access","Improved state of Municipal Infrastructure","Community Facilities","Halls","Whole of the Municipality","17","-21",null,20000,60000,62820,65710]
["Administrative and Corporate Support","\"LEVS:AH:TWS:CAPBUIL:W/SH","PO003004010_03568","Work Streams","An efficient, competitive and responsive economic infrastructure network","Inclusion and access","Improved state of Municipal Infrastructure"," "," ","Whole of the Municipality","17","-21",null,500,2500,5500,5500]
["Administrative and Corporate Support","LEVS:AH:TWS:FUNT&EV:EVENTS & ORGANISATNS","PO003017003_00001","Work Streams","A skilled and capable workforce to support an inclusive growth path","Growth","Increased institutional capacity and promote transformation"," "," ","Administrative or Head Office (Including Satellite Offices)","-16.35","12.25"]
["Air Transport","MSE:AH:NIF:BUILD & OTHER STRUCT:PL","PO001002001001003001001002_00497","Preventative Maintenance","An efficient, competitive and responsive economic infrastructure network","Inclusion and access","Improved state of Municipal Infrastructure","Operational Buildings","Municipal Offices","Administrative or Head Office (Including Satellite Offices),Whole of the Municipality,...","17","-21",null,268053,549136,582084,617009]
["Air Transport","\"MSE:AH:TWS:CAPBUIL:W/SH","PO003004010_03670","Work Streams","An efficient, competitive and responsive economic infrastructure network","Inclusion and access","Improved state of Municipal Infrastructure"," "," ","Administrative or Head Office (Including Satellite Offices),Whole of the Municipality,...","17","-21",null,400000,424000,449440,476406]
["Asset Management","LEVS:AH:NIF:TRANSPORT ASSETS:PL","PO001002001001010_00383","Preventative Maintenance","An efficient, competitive and responsive economic infrastructure network","Inclusion and access","Improved state of Municipal Infrastructure","Interval Based","Transport Assets","Administrative or Head Office (Including Satellite Offices),Whole of the Municipality,...","17","-21",null,1700000,1500000,1305000,1422450]
["Asset Management","LEVS:AH:TWS:ASSETPR:VEHICLE MGMT SYST","PO003003001_03548","Work Streams","An efficient, competitive and responsive economic infrastructure network","Inclusion and access","Improved state of Municipal Infrastructure"," "," ","Whole of the Municipality","17","-21",null,91680,120000,104400,113796]
["Civil Defence","MSE:AH:NIF:BUILD & OTHER STRUCT:PL","PO003014002_00001","Work Streams","An efficient, competitive and responsive economic infrastructure network","Inclusion and access","Improved state of Municipal Infrastructure"," "," ","Administrative or Head Office (Including Satellite Offices)","-16.35","12.25"]
["Civil Defence","MSE:AH:NIF:BUILD & OTHER STRUCT:PL","PO003014002_00419","Work Streams","An efficient, competitive and responsive economic infrastructure network","Inclusion and access","Increased Provision of Municipal Services"," "," ","Whole of the Municipality","17","-21",null,68000]
["Community Halls and Facilities","MSE:AH:NIF:TRANSPORT ASSETS:PL","PO001002001001010_03346","Preventative Maintenance","An efficient, competitive and responsive economic infrastructure network","Inclusion and access","Improved state of Municipal Infrastructure","Interval Based","Transport Assets","Whole of the Municipality","17","-21",null,null,13500,14135,14785]
["Community Halls and Facilities","MSE:AH:NIF:TRANSPORT ASSETS:PL","PO001002001001010_03349","Preventative Maintenance","An efficient, competitive and responsive economic infrastructure network","Inclusion and access","Improved state of Municipal Infrastructure","Interval Based","Transport Assets","Administrative or Head Office (Including Satellite Offices),Whole of the Municipality,...","-16.35","12.25",null,92500]
["Community Halls and Facilities","MSE:AH:NIF:BUILD & OTHER STRUCT:PL","PO001002001002002001001002_00398","Preventative Maintenance","An efficient, competitive and responsive economic infrastructure network","Inclusion and access","Improved state of Municipal Infrastructure","Community Facilities","Halls","Administrative or Head Office (Including Satellite Offices),Whole of the Municipality,...","17","-21",null,10000000,3000000,3141000,3285486]
["Community Halls and Facilities","LEVS:AH:NIF:BUILD & OTHER STRUCT:PL","PO001002001002002001001002_00463","Preventative Maintenance","A skilled and capable workforce to support an inclusive growth path","Growth","Increased institutional capacity and promote transformation","Community Facilities","Halls","Administrative or Head Office (Including Satellite Offices),Whole of the Municipality,...","17","-21",null,3000000,3000000,3141000,3285486]
["Community Halls and Facilities","MSE:AH:NIF:MACH & EQUIPMENT:PL","PO001002001002009_03345","Preventative Maintenance","An efficient, competitive and responsive economic infrastructure network","Inclusion and access","Improved state of Municipal Infrastructure","Condition Based","Machinery and Equipment","Whole of the Municipality","17","-21",null,12750,10500,10994,11499]
["Community Parks (including Nurseries)","MSE:AH:NIF:TRANSPORT ASSETS:PL","PO001002001001010_03409","Preventative Maintenance","A skilled and capable workforce to support an inclusive growth path","Growth","Increased institutional capacity and promote transformation","Interval Based","Transport Assets","Administrative or Head Office (Including Satellite Offices),Whole of the Municipality,...","17","-21",null,37513,127500,133493,139633]
["Community Parks (including Nurseries)","MSE:AH:NIF:TRANSPORT ASSETS:PL","PO001002001001010_03411","Preventative Maintenance","A skilled and capable workforce to support an inclusive growth path","Growth","Increased institutional capacity and promote transformation","Interval Based","Transport Assets","Administrative or Head Office (Including Satellite Offices),Whole of the Municipality,...","17","-21",null,150383,170000,177990,186178]
["Community Parks (including Nurseries)","MSE:AH:NIF:TRANSPORT ASSETS:PL","PO001002001001010_03413","Preventative Maintenance","A skilled and capable workforce to support an inclusive growth path","Growth","Increased institutional capacity and promote transformation","Interval Based","Transport Assets","Administrative or Head Office (Including Satellite Offices),Whole of the Municipality,...","17","-21",null,68339,85000,88995,93089]
["Community Parks (including Nurseries)","MSE:AH:NIF:TRANSPORT ASSETS:PL","PO001002001001010_03414","Preventative Maintenance","A skilled and capable workforce to support an inclusive growth path","Growth","Increased institutional capacity and promote transformation","Interval Based","Transport Assets","Administrative or Head Office (Including Satellite Offices),Whole of the Municipality,...","17","-21",null,144931,170000,177990,186178]
["Community Parks (including Nurseries)","MSE:AH:NIF:BUILD & OTHER STRUCT:PL","PO001002001002003001001002_00432","Preventative Maintenance","A skilled and capable workforce to support an inclusive growth path","Growth","Increased institutional capacity and promote transformation","Operational Buildings","Municipal Offices","Whole of the Municipality","17","-21",null,212500,200000,209400,219032]
["Community Parks (including Nurseries)","MSE:AH:NIF:BUILD & OTHER STRUCT:PL","PO001002001002003001001002_00434","Preventative Maintenance","A skilled and capable workforce to support an inclusive growth path","Growth","Increased institutional capacity and promote transformation","Operational Buildings","Municipal Offices","Whole of the Municipality","17","-21",null,212500,150000,157050,164274]
["Community Parks (including Nurseries)","MSE:AH:NIF:BUILD & OTHER STRUCT:PL","PO001002001002003001001002_00436","Preventative Maintenance","A skilled and capable workforce to support an inclusive growth path","Growth","Increased institutional capacity and promote transformation","Operational Buildings","Municipal Offices","Whole of the Municipality","17","-21",null,85000,85000,88995,93089]
["Community Parks (including Nurseries)","MSE:AH:NIF:BUILD & OTHER STRUCT:PL","PO001002001002003001001002_00437","Preventative Maintenance","A skilled and capable workforce to support an inclusive growth path","Growth","Increased institutional capacity and promote transformation","Operational Buildings","Municipal Offices","Whole of the Municipality","17","-21",null,127500,127500,133493,139633]
["Community Parks (including Nurseries)","MSE:AH:NIF:MACH & EQUIPMENT:PL","PO001002001002009_03410","Preventative Maintenance","A skilled and capable workforce to support an inclusive growth path","Growth","Increased institutional capacity and promote transformation","Condition Based","Machinery and Equipment","Whole of the Municipality","17","-21",null,127500,127500,133493,139633]
["Corporate Wide Strategic Planning (IDPs, LEDs)","\"LEVS:AH:TWS:CAPBUIL:W/SH","PO003004010_03517","Work Streams","An efficient, competitive and responsive economic infrastructure network","Inclusion and access","Improved state of Municipal Infrastructure"," "," ","Whole of the Municipality","17","-21",null,null,20000,22000,24200]
["Economic Development/Planning","MSE:AH:NIF:BUILD & OTHER STRUCT:PL","PO001002002001003001003002_05360","Corrective Maintenance","An efficient, competitive and responsive economic infrastructure network","Inclusion and access","Improved state of Municipal Infrastructure","Operational Buildings","Building Plan Offices","Administrative or Head Office (Including Satellite Offices),Whole of the Municipality,...","17","-21",null,600000,1000000,1272000,1348320]
["Economic Development/Planning","\"MSE:AH:TWS:CAPBUIL:W/SH","PO003004010_03666","Work Streams","An efficient, competitive and responsive economic infrastructure network","Inclusion and access","Improved state of Municipal Infrastructure"," "," ","Administrative or Head Office (Including Satellite Offices),Whole of the Municipality,...","17","-21",null,5271,200000,212000,224720]
["Economic Development/Planning","\"MSE:AH:TWS:CAPBUIL:W/SH","PO003004010_03667","Work Streams","An efficient, competitive and responsive economic infrastructure network","Inclusion and access","Improved state of Municipal Infrastructure"," "," ","Administrative or Head Office (Including Satellite Offices),Whole of the Municipality,...","17","-21",null,229197,490845,520295,551513]
["Economic Development/Planning","PRVOT:Z4:MEIG","PO003023002_05328","Work Streams","An efficient, competitive and responsive economic infrastructure network","Inclusion and access","Increased Provision of Municipal Services"," "," ","Whole of the Municipality","17","-21",null,403301]
["Electricity","MSE:AH:INF:STATION EQUIPMENT:PL","PO001001001002001001005_05293","Preventative Maintenance","Responsive, accountable, effective and efficient local government","Growth","Increased performance","Electrical Infrastructure","Power Plants","Administrative or Head Office (Including Satellite Offices)","-16.35","12.25"]
["Electricity","MSE:AH:INF:CUSTOMER INSTALLTNS:PL","PO001001001002001001005_05294","Preventative Maintenance","Responsive, accountable, effective and efficient local government","Growth","Increased performance","Electrical Infrastructure","Power Plants","Administrative or Head Office (Including Satellite Offices)","-16.35","12.25"]
["Electricity","MSE:AH:INF:UNSPECIFIED ACTIVITY:UPL","PO001001001002001001005_05295","Preventative Maintenance","An efficient, competitive and responsive economic infrastructure network","Inclusion and access","Increased Provision of Municipal Services","Electrical Infrastructure","Power Plants","Administrative or Head Office (Including Satellite Offices)","-16.35","12.25"]
["Electricity","MSE:AH:INF:STATION EQUIPMENT:UPL","PO001001001002001001005_05296","Preventative Maintenance","An efficient, competitive and responsive economic infrastructure network","Inclusion and access","Increased Provision of Municipal Services","Electrical Infrastructure","Power Plants","Administrative or Head Office (Including Satellite Offices)","-16.35","12.25"]
["Electricity","MSE:AH:INF:CUSTOMER INSTALLTNS:UPL","PO001001001002001001005_05297","Preventative Maintenance","Responsive, accountable, effective and efficient local government","Growth","Increased performance","Electrical Infrastructure","Power Plants","Administrative or Head Office (Including Satellite Offices)","-16.35","12.25"]
["Electricity","MSE:AH:INF:STATION EQUIPMENT:PL","PO001001002001001001005_05255","Corrective Maintenance","An efficient, competitive and responsive economic infrastructure network","Inclusion and access","Improved state of Municipal Infrastructure","Electrical Infrastructure","Power Plants","Administrative or Head Office (Including Satellite Offices)","-16.35","12.25"]
["Electricity","MSE:AH:INF:UNSPECIFIED ACTIVITY:PL","PO001001002001001008003_05292","Corrective Maintenance","An efficient, competitive and responsive economic infrastructure network","Inclusion and access","Increased Provision of Municipal Services","Electrical Infrastructure","LV Networks","Administrative or Head Office (Including Satellite Offices)","-16.35","12.25"]
["Electricity","MSE:AH:INF:OVERHEAD LINE:PL","PO001001002002001004002_05167","Corrective Maintenance","An efficient, competitive and responsive economic infrastructure network","Inclusion and access","Improved state of Municipal Infrastructure","Electrical Infrastructure","HV Transmission Conductors","Administrative or Head Office (Including Satellite Offices)","-16.35","12.25"]
["Finance","LEVS:AH:NIF:BUILD & OTHER STRUCT:PL","PO001002001001003001001002_00376","Preventative Maintenance","An efficient, competitive and responsive economic infrastructure network","Inclusion and access","Improved state of Municipal Infrastructure","Operational Buildings","Municipal Offices","Administrative or Head Office (Including Satellite Offices),Whole of the Municipality,...","17","-21",null,191250,200000,174000,189660]
["Finance","LEVS:AH:NIF:BUILD & OTHER STRUCT:PL","PO001002001001003001001002_03328","Preventative Maintenance","An efficient, competitive and responsive economic infrastructure network","Inclusion and access","Improved state of Municipal Infrastructure","Operational Buildings","Municipal Offices","Administrative or Head Office (Including Satellite Offices),Whole of the Municipality,...","17","-21",null,377500,130000,113100,123279]
["Finance","LEVS:AH:NIF:MACH & EQUIPMENT:PL","PO001002001001009_03331","Preventative Maintenance","An efficient, competitive and responsive economic infrastructure network","Inclusion and access","Improved state of Municipal Infrastructure","Interval Based","Machinery and Equipment","Administrative or Head Office (Including Satellite Offices),Whole of the Municipality,...","17","-21",null,432500,163625,142354,155166]
["Finance","LEVS:AH:NIF:TRANSPORT ASSETS:PL","PO001002001001010_00377","Preventative Maintenance","An efficient, competitive and responsive economic infrastructure network","Inclusion and access","Improved state of Municipal Infrastructure","Interval Based","Transport Assets","Administrative or Head Office (Including Satellite Offices),Whole of the Municipality,...","17","-21",null,109097,120000,104400,113796]
["Finance","LEVS:AH:MRC:MUNICIPAL RUNNING COSTS","PO001002001002003001001002_05260","Preventative Maintenance","An efficient, competitive and responsive economic infrastructure network","Inclusion and access","Improved state of Municipal Infrastructure","Operational Buildings","Municipal Offices","Administrative or Head Office (Including Satellite Offices)","-16.35","12.25"]
["Finance","\"LEVS:AH:TWS:CAPBUIL:W/SH","PO003004010_03529","Work Streams","An efficient, competitive and responsive economic infrastructure network","Inclusion and access","Improved state of Municipal Infrastructure"," "," ","Administrative or Head Office (Including Satellite Offices),Whole of the Municipality,...","17","-21",null,166431,60000,52200,115000]
["Fire Fighting and Protection","MSE:AH:NIF:BUILD & OTHER STRUCT:PL","PO001002001001010_00418","Preventative Maintenance","Responsive, accountable, effective and efficient local government","Growth","Increased performance","Interval Based","Transport Assets","Administrative or Head Office (Including Satellite Offices),Whole of the Municipality,...","-16.35","12.25",null,340000]
["Fire Fighting and Protection","MSE:AH:NIF:TRANSPORT ASSETS:PL","PO001002001001010_03385","Preventative Maintenance","A skilled and capable workforce to support an inclusive growth path","Growth","Increased institutional capacity and promote transformation","Interval Based","Transport Assets","Administrative or Head Office (Including Satellite Offices),Whole of the Municipality,...","17","-21",null,1098000,1300000,1361100,1423711]
["Fire Fighting and Protection","MSE:AH:NIF:BUILD & OTHER STRUCT:PL","PO001002001002003001001002_00420","Preventative Maintenance","A skilled and capable workforce to support an inclusive growth path","Growth","Increased institutional capacity and promote transformation","Operational Buildings","Municipal Offices","Administrative or Head Office (Including Satellite Offices),Whole of the Municipality,...","17","-21",null,76500,79942,83699,87549]
["Fire Fighting and Protection","MSE:AH:NIF:MACH & EQUIPMENT:PL","PO001002001002009_03386","Preventative Maintenance","A skilled and capable workforce to support an inclusive growth path","Growth","Increased institutional capacity and promote transformation","Condition Based","Machinery and Equipment","Whole of the Municipality","17","-21",null,25500,44413,46500,48639]
["Fire Fighting and Protection","LEVS:AH:NIF:MACH & EQUIPMENT:PL","PO001002001002009_03388","Preventative Maintenance","A skilled and capable workforce to support an inclusive growth path","Growth","Increased institutional capacity and promote transformation","Condition Based","Machinery and Equipment","Whole of the Municipality","17","-21",null,21250,22206,23250,24319]
["Fire Fighting and Protection","MSE:AH:NIF:MACH & EQUIPMENT:PL","PO001002001002009_03390","Preventative Maintenance","A skilled and capable workforce to support an inclusive growth path","Growth","Increased institutional capacity and promote transformation","Condition Based","Machinery and Equipment","Administrative or Head Office (Including Satellite Offices),Whole of the Municipality,...","17","-21",null,42500,44413,46500,48639]
["Fire Fighting and Protection","MSE:AH:NIF:MACH & EQUIPMENT:PL","PO001002001002009_03392","Preventative Maintenance","A skilled and capable workforce to support an inclusive growth path","Growth","Increased institutional capacity and promote transformation","Condition Based","Machinery and Equipment","Administrative or Head Office (Including Satellite Offices),Whole of the Municipality,...","17","-21",null,127500,133238,139500,145917]
["Fire Fighting and Protection","\"MSE:AH:TWS:CAPBUIL:W/SH","PO003004010_03595","Work Streams","A skilled and capable workforce to support an inclusive growth path","Growth","Increased institutional capacity and promote transformation"," "," ","Administrative or Head Office (Including Satellite Offices),Whole of the Municipality,...","17","-21",null,8000,177650,186000,194556]
["Forestry","NIF:BUILD & OTHER STRUCT:PL","PO001002001002003001001002_04195","Preventative Maintenance","An efficient, competitive and responsive economic infrastructure network","Inclusion and access","Improved state of Municipal Infrastructure","Operational Buildings","Municipal Offices","Administrative or Head Office (Including Satellite Offices),Whole of the Municipality,...","17","-21",null,100000,106000,112360,119102]
["Forestry","NIF:MACH & EQUIPMENT:PL","PO001002001002009_04197","Preventative Maintenance","An efficient, competitive and responsive economic infrastructure network","Inclusion and access","Improved state of Municipal Infrastructure","Condition Based","Machinery and Equipment","Administrative or Head Office (Including Satellite Offices),Whole of the Municipality,...","17","-21",null,10000,10600,11236,11910]
["Forestry","NIF:TRANSPORT ASSETS:PL","PO001002001002010_04196","Preventative Maintenance","An efficient, competitive and responsive economic infrastructure network","Inclusion and access","Improved state of Municipal Infrastructure","Condition Based","Transport Assets","Administrative or Head Office (Including Satellite Offices),Whole of the Municipality,...","17","-21",null,10000,10600,11236,11910]
["Forestry","FRST:Z5:TWS:ENVIRM:CATCHMENT & FORESTRY","PO003015010_04193","Work Streams","An efficient, competitive and responsive economic infrastructure network","Inclusion and access","Improved state of Municipal Infrastructure"," "," ","Administrative or Head Office (Including Satellite Offices),Whole of the Municipality,...","17","-21",null,150000,159000,168540,178652]
["Governance Function","\"LEVS:AH:TWS:CAPBUIL:W/SH","PO003004010_00001","Work Streams","An efficient, competitive and responsive economic infrastructure network","Inclusion and access","Improved state of Municipal Infrastructure"," "," ","Administrative or Head Office (Including Satellite Offices)","-16.35","12.25"]
["Governance Function","\"LEVS:AH:TWS:CAPBUIL:W/SH","PO003004010_03509","Work Streams","An efficient, competitive and responsive economic infrastructure network","Inclusion and access","Improved state of Municipal Infrastructure"," "," ","Whole of the Municipality","17","-21",null,null,120000,132000,145200]
["Governance Function","LEVS:AH:TWS:CAPBUIL:W/SH","PO003004010_03992","Work Streams","An efficient, competitive and responsive economic infrastructure network","Inclusion and access","Improved state of Municipal Infrastructure"," "," ","Administrative or Head Office (Including Satellite Offices),Whole of the Municipality,...","17","-21",null,null,79000,86900,95590]
["Health Services","MSE:AH:NIF:MACH & EQUIPMENT:PL","PO001002001002009_03398","Preventative Maintenance","A skilled and capable workforce to support an inclusive growth path","Growth","Increased institutional capacity and promote transformation","Condition Based","Machinery and Equipment","Whole of the Municipality","17","-21",null,20000,60000,62820,65710]
["Health Services","\"MSE:AH:TWS:CAPBUIL:W/SH","PO003004010_03604","Work Streams","A skilled and capable workforce to support an inclusive growth path","Growth","Increased institutional capacity and promote transformation"," "," ","Administrative or Head Office (Including Satellite Offices),Whole of the Municipality,...","17","-21",null,42500,35000,36645,38331]
["Housing","HSDV:ZA: ASSESSEMNT OF ASBESTOS HOUSING","PO001002001001003001001002_00001","Preventative Maintenance","An efficient, competitive and responsive economic infrastructure network","Inclusion and access","Increased Provision of Municipal Services","Operational Buildings","Municipal Offices","Administrative or Head Office (Including Satellite Offices)","-16.35","12.25"]
["Housing","MSE:AH:NIF:BUILD & OTHER STRUCT:PL","PO001002001001003001001002_00494","Preventative Maintenance","An efficient, competitive and responsive economic infrastructure network","Inclusion and access","Improved state of Municipal Infrastructure","Operational Buildings","Municipal Offices","Administrative or Head Office (Including Satellite Offices),Whole of the Municipality,...","17","-21",null,1950000,3150000,3335850,3532665]
["Housing","MSE:AH:NIF:BUILD & OTHER STRUCT:PL","PO001002001002003001001002_00417","Preventative Maintenance","A skilled and capable workforce to support an inclusive growth path","Growth","Increased institutional capacity and promote transformation","Operational Buildings","Municipal Offices","Administrative or Head Office (Including Satellite Offices),Whole of the Municipality,...","17","-21",null,297500,150000,157050,164274]
["Housing","MSU1/O/604564.B85.X40.L","PO001002001002003002002002_05583","Preventative Maintenance","An efficient, competitive and responsive economic infrastructure network","Inclusion and access","Improved state of Municipal Infrastructure","Housing","Social Housing","Whole of the Municipality","17","-21",null,8500000]
["Housing","MSU1/O/604564.B82.X40.M","PO001002001002003002002002_05584","Preventative Maintenance","An efficient, competitive and responsive economic infrastructure network","Inclusion and access","Improved state of Municipal Infrastructure","Housing","Social Housing","Whole of the Municipality","17","-21",null,3411579]
["Housing","MSU1/O/604564.B82.X40.N","PO001002001002003002002002_05585","Preventative Maintenance","An efficient, competitive and responsive economic infrastructure network","Inclusion and access","Improved state of Municipal Infrastructure","Housing","Social Housing","Whole of the Municipality","17","-21",null,234872]
["Housing","MSU1/O/604564.B83.X40.O","PO001002001002003002002002_05586","Preventative Maintenance","An efficient, competitive and responsive economic infrastructure network","Inclusion and access","Improved state of Municipal Infrastructure","Housing","Social Housing","Whole of the Municipality","17","-21",null,1783758]
["Housing","MSU1/O/604564.B84.X40.P","PO001002001002003002002002_05587","Preventative Maintenance","An efficient, competitive and responsive economic infrastructure network","Inclusion and access","Improved state of Municipal Infrastructure","Housing","Social Housing","Whole of the Municipality","17","-21",null,410952]
["Housing","HSDV:Z2:CINDERELLA, MADIBA & EDENDALE BB","PO001002001002003002002002_05595","Preventative Maintenance","An efficient, competitive and responsive economic infrastructure network","Inclusion and access","Improved state of Municipal Infrastructure","Housing","Social Housing","Whole of the Municipality","17","-21",null,9013184]
["Housing","MSE:AH:NIF:MACH & EQUIPMENT:PL","PO001002001002009_03383","Preventative Maintenance","A skilled and capable workforce to support an inclusive growth path","Growth","Increased institutional capacity and promote transformation","Condition Based","Machinery and Equipment","Whole of the Municipality","17","-21",null,170000,150000,157050,164274]
["Housing","HSDV:Z2:EDENDALE & SNATHING MIL VETERANS","PO001002002001003002002002_00001","Corrective Maintenance","An efficient, competitive and responsive economic infrastructure network","Inclusion and access","Improved state of Municipal Infrastructure","Housing","Social Housing","Administrative or Head Office (Including Satellite Offices)","-16.35","12.25"]
["Housing","HSDV:Z2:REFURBISHMENT OF RENTAL STOCK","PO001002002001003002002002_05079","Corrective Maintenance","An efficient, competitive and responsive economic infrastructure network","Inclusion and access","Increased Provision of Municipal Services","Housing","Social Housing","Administrative or Head Office (Including Satellite Offices)","-16.35","12.25"]
["Housing","ACRDO:AH:TWS:CAPBUIL:W/SH,SEM,SUB MAT TRN","PO003004010_04166","Work Streams","An efficient, competitive and responsive economic infrastructure network","Inclusion and access","Improved state of Municipal Infrastructure"," "," ","Whole of the Municipality","17","-21",null,700000,700000,741300,785036]
["Housing","HSDV:Z2:LAND ACQUISITION:EDENDALE","PO005003003002002_04471","New","An efficient, competitive and responsive economic infrastructure network","Inclusion and access","Improved state of Municipal Infrastructure","Housing","Social Housing","Whole of the Municipality","17","-21",null,1000000,1000000,1059000,1121481]
["Housing","ISUP:Z2:BHOBHONONO","PO005003003002002_05095","New","An efficient, competitive and responsive economic infrastructure network","Inclusion and access","Improved state of Municipal Infrastructure","Housing","Social Housing","Whole of the Municipality","17","-21",null,3537715,3537715,3746440,3967480]
["Housing","HSDV:Z5:EDENDALE & SNATHING MILITARY VET","PO005003003002002_05448","New","An efficient, competitive and responsive economic infrastructure network","Inclusion and access","Improved state of Municipal Infrastructure","Housing","Social Housing","Whole of the Municipality","17","-21",null,36300,36300,38442,40710]
["Housing","HSDV:Z3:RENTAL ALOE RIDGE OCCUPANTS","PO005003003002002_05454","New","An efficient, competitive and responsive economic infrastructure network","Inclusion and access","Improved state of Municipal Infrastructure","Housing","Social Housing","Whole of the Municipality","17","-21",null,5325150,5325150,5639334,5972055]
["Housing","HSDV:ZA: ASSESSEMNT OF ASBESTOS HOUSING","PO005003003002002_05505","New","An efficient, competitive and responsive economic infrastructure network","Inclusion and access","Improved state of Municipal Infrastructure","Housing","Social Housing","Whole of the Municipality","17","-21",null,510000,9100000,9636900,10205477]
["Human Resources","LEVS:AH:NIF:MACH & EQUIPMENT:PL","PO001002001001009_03338","Preventative Maintenance","An efficient, competitive and responsive economic infrastructure network","Inclusion and access","Improved state of Municipal Infrastructure","Interval Based","Machinery and Equipment","Administrative or Head Office (Including Satellite Offices),Whole of the Municipality,...","17","-21",null,60000,50000,60000,60000]
["Human Resources","LEVS:AH:NIF:BUILD & OTHER STRUCT:PL","PO001002001002003001001002_00391","Preventative Maintenance","An efficient, competitive and responsive economic infrastructure network","Inclusion and access","Improved state of Municipal Infrastructure","Operational Buildings","Municipal Offices","Administrative or Head Office (Including Satellite Offices),Whole of the Municipality,...","17","-21",null,20000,20000,30000,30000]
["Human Resources","LEVS:BAH.NIF:MACH & EQUIPMENT:PL","PO001002001002009_04243","Preventative Maintenance","An efficient, competitive and responsive economic infrastructure network","Inclusion and access","Improved state of Municipal Infrastructure","Condition Based","Machinery and Equipment","Administrative or Head Office (Including Satellite Offices)","-16.35","12.25"]
["Human Resources","LEVS:AH:TWS:HIV:AWARENESS & INFORMN","PO003002001_03562","Work Streams","An efficient, competitive and responsive economic infrastructure network","Inclusion and access","Improved state of Municipal Infrastructure"," "," ","Administrative or Head Office (Including Satellite Offices),Whole of the Municipality,...","17","-21",null,2000000,1500000,2100000,2500000]
["Human Resources","SETA:AH:CAPACITY BUILD & TRAINING","PO003004003_05331","Work Streams","An efficient, competitive and responsive economic infrastructure network","Inclusion and access","Increased Provision of Municipal Services"," "," ","Whole of the Municipality","17","-21",null,1075945]
["Human Resources","LEVS:AH:MRC:MUNICIPAL RUNNING COST","PO003004010_03551","Work Streams","An efficient, competitive and responsive economic infrastructure network","Inclusion and access","Improved state of Municipal Infrastructure"," "," ","Whole of the Municipality","17","-21",null,null,122000,272000,275000]
["Human Resources","\"LEVS:AH:TWS:CAPBUIL:W/SH","PO003004010_03563","Work Streams","An efficient, competitive and responsive economic infrastructure network","Inclusion and access","Improved state of Municipal Infrastructure"," "," ","Whole of the Municipality","17","-21",null,500,500,500,500]
["Human Resources","\"LEVS:AH:TWS:CAPBUIL:W/SH","PO003004010_03570","Work Streams","An efficient, competitive and responsive economic infrastructure network","Inclusion and access","Improved state of Municipal Infrastructure"," "," ","Whole of the Municipality","17","-21",null,500,32400,500,500]
["Human Resources","LEVS:AH:TWS:FUNT&EV:EVENTS & ORGANISATNS","PO003017003_03552","Work Streams","An efficient, competitive and responsive economic infrastructure network","Inclusion and access","Improved state of Municipal Infrastructure"," "," ","Whole of the Municipality","17","-21",null,9000,10000,10000,10000]
["Human Resources","LEVS:AH:TWS:HUMRES:EMPL ASSISTANCE PROG","PO003020002_03564","Work Streams","An efficient, competitive and responsive economic infrastructure network","Inclusion and access","Improved state of Municipal Infrastructure"," "," ","Administrative or Head Office (Including Satellite Offices),Whole of the Municipality,...","17","-21",null,400000,1000000,2000000,2000000]
["Information Technology","LEVS:AH:NIF:MACH & EQUIPMENT:PL","PO001002001001009_03343","Preventative Maintenance","An efficient, competitive and responsive economic infrastructure network","Inclusion and access","Improved state of Municipal Infrastructure","Interval Based","Machinery and Equipment","Administrative or Head Office (Including Satellite Offices),Whole of the Municipality,...","17","-21",null,6000000,11000000,12500000,13500000]
["Information Technology","\"LEVS:AH:TWS:CAPBUIL:W/SH","PO003004010_03569","Work Streams","An efficient, competitive and responsive economic infrastructure network","Inclusion and access","Improved state of Municipal Infrastructure"," "," ","Whole of the Municipality","17","-21",null,500,200,200,200]
["Legal Services","LEVS:AH:NIF:MACH & EQUIPMENT:PL","PO001002001001009_03339","Preventative Maintenance","An efficient, competitive and responsive economic infrastructure network","Inclusion and access","Improved state of Municipal Infrastructure","Interval Based","Machinery and Equipment","Administrative or Head Office (Including Satellite Offices),Whole of the Municipality,...","17","-21",null,25000,30000,31000,34000]
["Legal Services","\"LEVS:AH:TWS:CAPBUIL:W/SH","PO003004010_03565","Work Streams","An efficient, competitive and responsive economic infrastructure network","Inclusion and access","Improved state of Municipal Infrastructure"," "," ","Whole of the Municipality","17","-21",null,500,100500,500,500]
["Libraries and Archives","CLSG:AH:NIF:BUILD & OTHER STRUCT:PL","PO001002001002002001010002_05330","Preventative Maintenance","An efficient, competitive and responsive economic infrastructure network","Inclusion and access","Improved state of Municipal Infrastructure","Community Facilities","Libraries","Administrative or Head Office (Including Satellite Offices),Whole of the Municipality,...","-16.35","12.25",null,5170000]
["Licensing and Regulation","MSE:AH:NIF:MACH & EQUIPMENT:PL","PO001002001001009_03494","Preventative Maintenance","An efficient, competitive and responsive economic infrastructure network","Inclusion and access","Improved state of Municipal Infrastructure","Interval Based","Machinery and Equipment","Administrative or Head Office (Including Satellite Offices),Whole of the Municipality,...","17","-21",null,105410,126492,134082,142126]
["Licensing and Regulation","MSE:AH:NIF:TRANSPORT ASSETS:PL","PO001002001001010_03495","Preventative Maintenance","An efficient, competitive and responsive economic infrastructure network","Inclusion and access","Improved state of Municipal Infrastructure","Interval Based","Transport Assets","Administrative or Head Office (Including Satellite Offices),Whole of the Municipality,...","17","-21",null,84328,101194,107265,113701]
["Markets","MSE:AH:NIF:BUILD & OTHER STRUCT:PL","PO001002001001003001001002_03496","Preventative Maintenance","An efficient, competitive and responsive economic infrastructure network","Inclusion and access","Improved state of Municipal Infrastructure","Operational Buildings","Municipal Offices","Administrative or Head Office (Including Satellite Offices),Whole of the Municipality,...","17","-21",null,105410,111735,118439,125545]
["Markets","LEVS:AH:NIF:BUILD & OTHER STRUCT:PL","PO001002001001003001001002_03501","Preventative Maintenance","An efficient, competitive and responsive economic infrastructure network","Inclusion and access","Improved state of Municipal Infrastructure","Operational Buildings","Municipal Offices","Administrative or Head Office (Including Satellite Offices),Whole of the Municipality,...","17","-21",null,1050000,1155000,1270500,1397550]
["Markets","MSE:AH:NIF:MACH & EQUIPMENT:PL","PO001002001001009_03502","Preventative Maintenance","An efficient, competitive and responsive economic infrastructure network","Inclusion and access","Improved state of Municipal Infrastructure","Interval Based","Machinery and Equipment","Administrative or Head Office (Including Satellite Offices),Whole of the Municipality,...","17","-21",null,360000,396000,435600,479160]
["Markets","MSE:AH:NIF:TRANSPORT ASSETS:PL","PO001002001001010_03503","Preventative Maintenance","An efficient, competitive and responsive economic infrastructure network","Inclusion and access","Improved state of Municipal Infrastructure","Interval Based","Transport Assets","Administrative or Head Office (Including Satellite Offices),Whole of the Municipality,...","17","-21",null,26231,28854,31740,34914]
["Mayor and Council","LEVS:AH:NIF:BUILD & OTHER STRUCT:PL","PO001002001001003001001002_00372","Preventative Maintenance","An efficient, competitive and responsive economic infrastructure network","Inclusion and access","Improved state of Municipal Infrastructure","Operational Buildings","Municipal Offices","Administrative or Head Office (Including Satellite Offices),Whole of the Municipality,...","17","-21",null,null,500000,550000,605000]
["Mayor and Council","LEVS:AH:NIF:MACH & EQUIPMENT:PL","PO001002001001009_03324","Preventative Maintenance","An efficient, competitive and responsive economic infrastructure network","Inclusion and access","Improved state of Municipal Infrastructure","Interval Based","Machinery and Equipment","Administrative or Head Office (Including Satellite Offices),Whole of the Municipality,...","17","-21",null,null,70000,77000,84700]
["Mayor and Council","LEVS:AH:NIF:TRANSPORT ASSETS:PL","PO001002001001010_03325","Preventative Maintenance","An efficient, competitive and responsive economic infrastructure network","Inclusion and access","Improved state of Municipal Infrastructure","Interval Based","Transport Assets","Administrative or Head Office (Including Satellite Offices),Whole of the Municipality,...","17","-21",null,null,100000,110000,121000]
["Mayor and Council","LEVS:AH:NIF:TRANSPORT ASSETS:PL","PO001002001001010_03327","Preventative Maintenance","An efficient, competitive and responsive economic infrastructure network","Inclusion and access","Improved state of Municipal Infrastructure","Interval Based","Transport Assets","Administrative or Head Office (Including Satellite Offices),Whole of the Municipality,...","17","-21",null,null,150000,165000,181500]
["Mayor and Council","LEVS:AH:TWS:HIV:AWARENESS & INFORMN","PO003002001_03513","Work Streams","An efficient, competitive and responsive economic infrastructure network","Inclusion and access","Improved state of Municipal Infrastructure"," "," ","Administrative or Head Office (Including Satellite Offices),Whole of the Municipality,...","17","-21",null,null,150000,165000,181500]
["Mayor and Council","\"LEVS:AH:TWS:CAPBUIL:W/SH","PO003004010_03512","Work Streams","An efficient, competitive and responsive economic infrastructure network","Inclusion and access","Improved state of Municipal Infrastructure"," "," ","Whole of the Municipality","17","-21",null,null,442000,486200,534820]
["Mayor and Council","\"LEVS:AH:TWS:CAPBUIL:W/SH","PO003004010_03514","Work Streams","An efficient, competitive and responsive economic infrastructure network","Inclusion and access","Improved state of Municipal Infrastructure"," "," ","Administrative or Head Office (Including Satellite Offices),Whole of the Municipality,...","17","-21",null,null,1035000,1138500,1252350]
["Mayor and Council","\"LEVS:AH:TWS:CAPBUIL:W/SH","PO003004010_03528","Work Streams","An efficient, competitive and responsive economic infrastructure network","Inclusion and access","Improved state of Municipal Infrastructure"," "," ","Administrative or Head Office (Including Satellite Offices),Whole of the Municipality,...","17","-21",null,null,50000,55000,60500]
["Mayor and Council","LEVS:AH:TWS:PUBLIC PROTECT & SAFETY","PO003038_03515","Work Streams","An efficient, competitive and responsive economic infrastructure network","Inclusion and access","Improved state of Municipal Infrastructure"," "," ","Administrative or Head Office (Including Satellite Offices),Whole of the Municipality,...","17","-21",null,null,100000,110000,121000]
["Mayor and Council","LEVS:AH:TWS:PUBLIC PROTECT & SAFETY","PO003038_04505","Work Streams","An efficient, competitive and responsive economic infrastructure network","Inclusion and access","Improved state of Municipal Infrastructure"," "," ","Whole of the Municipality","17","-21",null,null,20000,22000,24200]
["Municipal Manager, Town Secretary and Chief Executive","MSE:AH:INF:STATION EQUIPMENT:PL","PO001001001001001009_05293","Preventative Maintenance","An efficient, competitive and responsive economic infrastructure network","Inclusion and access","Improved state of Municipal Infrastructure","Electrical Infrastructure","Capital Spares","Whole of the Municipality","17","-21",null,550000,780000,1024920,1117163]
["Municipal Manager, Town Secretary and Chief Executive","MSE:AH:INF:UNSPECIFIED ACTIVITY:UPL","PO001001001001001009_05295","Preventative Maintenance","An efficient, competitive and responsive economic infrastructure network","Inclusion and access","Improved state of Municipal Infrastructure","Electrical Infrastructure","Capital Spares","Whole of the Municipality","17","-21",null,750000,413400,543208,592096]
["Municipal Manager, Town Secretary and Chief Executive","MSE:AH:INF:CUSTOMER INSTALLTNS:PL","PO001001001002010_05294","Preventative Maintenance","An efficient, competitive and responsive economic infrastructure network","Inclusion and access","Improved state of Municipal Infrastructure","Condition Based","Capital Spares","Whole of the Municipality","17","-21",null,1000000,468000,614952,670298]
["Municipal Manager, Town Secretary and Chief Executive","MSE:AH:INF:STATION EQUIPMENT:UPL","PO001001001002010_05296","Preventative Maintenance","An efficient, competitive and responsive economic infrastructure network","Inclusion and access","Improved state of Municipal Infrastructure","Condition Based","Capital Spares","Whole of the Municipality","17","-21",null,100000,39000,51246,55858]
["Municipal Manager, Town Secretary and Chief Executive","MSE:AH:INF:CUSTOMER INSTALLTNS:UPL","PO001001001002010_05297","Preventative Maintenance","An efficient, competitive and responsive economic infrastructure network","Inclusion and access","Improved state of Municipal Infrastructure","Condition Based","Capital Spares","Whole of the Municipality","17","-21",null,250000,156000,204984,223432]
["Municipal Manager, Town Secretary and Chief Executive","MSE:AH:INF:STR LIGHT&SIGNAL SYST:PL","PO001001002001001008002_05243","Corrective Maintenance","An efficient, competitive and responsive economic infrastructure network","Inclusion and access","Improved state of Municipal Infrastructure","Electrical Infrastructure","LV Networks","Whole of the Municipality","17","-21",null,15800000,14600000,19184400,20910996]
["Municipal Manager, Town Secretary and Chief Executive","MSE:ZA:PVT WORK: INDUSTRIAL & COMM","PO001001002001001008003_05413","Corrective Maintenance","An efficient, competitive and responsive economic infrastructure network","Inclusion and access","Improved state of Municipal Infrastructure","Electrical Infrastructure","LV Networks","Whole of the Municipality","17","-21",null,900000,780000,1024920,1117162]
["Municipal Manager, Town Secretary and Chief Executive","MSE:ZA: CUSTOMER INSTALL:PVT WK:DOME","PO001001002001001008003_05419","Corrective Maintenance","An efficient, competitive and responsive economic infrastructure network","Inclusion and access","Improved state of Municipal Infrastructure","Electrical Infrastructure","LV Networks","Whole of the Municipality","17","-21",null,1800000,1092000,1434888,1564028]
["Municipal Manager, Town Secretary and Chief Executive","LEVS:AH:METER AUDIT & REPLACEMENT","PO001001002001001008004_05554","Corrective Maintenance","An efficient, competitive and responsive economic infrastructure network","Inclusion and access","Improved state of Municipal Infrastructure","Electrical Infrastructure","LV Networks","Whole of the Municipality","17","-21",null,3600000,3000000,3942000,4296780]
["Municipal Manager, Town Secretary and Chief Executive","MSE:AH:NIF:BUILD & OTHER STRUCT:PL","PO001002001002003001001002_00397","Preventative Maintenance","An efficient, competitive and responsive economic infrastructure network","Inclusion and access","Improved state of Municipal Infrastructure","Operational Buildings","Municipal Offices","Administrative or Head Office (Including Satellite Offices),Whole of the Municipality,...","17","-21",null,25500,25500,26699,27927]
["Municipal Manager, Town Secretary and Chief Executive","LEVS:AH:NIF:MACH & EQUIPMENT:PL","PO001002002001009_05235","Corrective Maintenance","An efficient, competitive and responsive economic infrastructure network","Inclusion and access","Improved state of Municipal Infrastructure","Planned","Machinery and Equipment","Whole of the Municipality","17","-21",null,600000,100000,131400,143226]
["Municipal Manager, Town Secretary and Chief Executive","\"MSE:AH:TWS:CAPBUIL:W/SH","PO003004010_03571","Work Streams","An efficient, competitive and responsive economic infrastructure network","Inclusion and access","Improved state of Municipal Infrastructure"," "," ","Administrative or Head Office (Including Satellite Offices),Whole of the Municipality,...","17","-21",null,3047200,1018700,1066579,1115641]
["Municipal Manager, Town Secretary and Chief Executive","LEVS:AH:TWS:PUBLIC PROTECT & SAFETY","PO003038_00001","Work Streams","An efficient, competitive and responsive economic infrastructure network","Inclusion and access","Improved state of Municipal Infrastructure"," "," ","Administrative or Head Office (Including Satellite Offices)","-16.35","12.25"]
["Municipal Manager, Town Secretary and Chief Executive","LEVS:AH:TWS:PUBLIC PROTECT & SAFETY","PO003038_03508","Work Streams","An efficient, competitive and responsive economic infrastructure network","Inclusion and access","Improved state of Municipal Infrastructure"," "," ","Whole of the Municipality","17","-21",null,null,100000,110000,121000]
["Museums and Art Galleries","MSE:AH:NIF:BUILD & OTHER STRUCT:PL","PO001002001001003001001002_00516","Preventative Maintenance","An efficient, competitive and responsive economic infrastructure network","Inclusion and access","Improved state of Municipal Infrastructure","Operational Buildings","Municipal Offices","Administrative or Head Office (Including Satellite Offices),Whole of the Municipality,...","17","-21",null,170939,234196,248247,263142]
["Museums and Art Galleries","MSE:AH:NIF:INTANGIBLE ASSET:PL","PO001002001001007002006_00517","Preventative Maintenance","An efficient, competitive and responsive economic infrastructure network","Inclusion and access","Improved state of Municipal Infrastructure","Intangible Assets","Licences and Rights","Whole of the Municipality","17","-21",null,140000,148400,157304,166742]
["Museums and Art Galleries","MSE:AH:NIF:MACH & EQUIPMENT:PL","PO001002001001009_03504","Preventative Maintenance","An efficient, competitive and responsive economic infrastructure network","Inclusion and access","Improved state of Municipal Infrastructure","Interval Based","Machinery and Equipment","Administrative or Head Office (Including Satellite Offices),Whole of the Municipality,...","17","-21",null,136047,144210,152862,162034]
["Museums and Art Galleries","MSE:AH:NIF:TRANSPORT ASSETS:PL","PO001002001001010_03505","Preventative Maintenance","An efficient, competitive and responsive economic infrastructure network","Inclusion and access","Improved state of Municipal Infrastructure","Interval Based","Transport Assets","Administrative or Head Office (Including Satellite Offices),Whole of the Municipality,...","17","-21",null,46950,49767,52753,55918]
["Museums and Art Galleries","MSE:AH:TWS:CAPBUIL:DEV OF FIRE-FIGHTERS","PO003004007_03679","Work Streams","An efficient, competitive and responsive economic infrastructure network","Inclusion and access","Improved state of Municipal Infrastructure"," "," ","Administrative or Head Office (Including Satellite Offices),Whole of the Municipality,...","17","-21",null,23420,24825,26314,27893]
["Museums and Art Galleries","MSE:AH:TWS:PUBLIC PROTECT & SAFETY","PO003038_03682","Work Streams","An efficient, competitive and responsive economic infrastructure network","Inclusion and access","Improved state of Municipal Infrastructure"," "," ","Administrative or Head Office (Including Satellite Offices),Whole of the Municipality,...","17","-21",null,40000,42400,44944,47641]
["Nature Conservation","LEVS:ZA:NIF:BUILD & OTHER STRUCT:PL","PO001002001001003001001002_03485","Preventative Maintenance","An efficient, competitive and responsive economic infrastructure network","Inclusion and access","Improved state of Municipal Infrastructure","Operational Buildings","Municipal Offices","Administrative or Head Office (Including Satellite Offices),Whole of the Municipality,...","17","-21",null,79199,100000,106000,112360]
["Police Forces, Traffic and Street Parking Control","MSE:AH:NIF:TRANSPORT ASSETS:PL","PO001002001001010_03395","Preventative Maintenance","A skilled and capable workforce to support an inclusive growth path","Growth","Increased institutional capacity and promote transformation","Interval Based","Transport Assets","Administrative or Head Office (Including Satellite Offices),Whole of the Municipality,...","17","-21",null,467500,480000,502560,525678]
["Police Forces, Traffic and Street Parking Control","MSE:AH:NIF:BUILD & OTHER STRUCT:PL","PO001002001002003001001002_00423","Preventative Maintenance","A skilled and capable workforce to support an inclusive growth path","Growth","Increased institutional capacity and promote transformation","Operational Buildings","Municipal Offices","Administrative or Head Office (Including Satellite Offices),Whole of the Municipality,...","17","-21",null,382500,350000,366450,383307]
["Police Forces, Traffic and Street Parking Control","MSE:AH:NIF:MACH & EQUIPMENT:PL","PO001002001002009_03393","Preventative Maintenance","A skilled and capable workforce to support an inclusive growth path","Growth","Increased institutional capacity and promote transformation","Condition Based","Machinery and Equipment","Whole of the Municipality","17","-21",null,127500,132619,138852,145240]
["Police Forces, Traffic and Street Parking Control","MSE:AH:NIF:MACH & EQUIPMENT:PL","PO001002001002009_03394","Preventative Maintenance","A skilled and capable workforce to support an inclusive growth path","Growth","Increased institutional capacity and promote transformation","Condition Based","Machinery and Equipment","Whole of the Municipality","17","-21",null,34000,8883,9301,9728]
["Pollution Control","MSE:AH:NIF:TRANSPORT ASSETS:PL","PO001002001001010_03489","Preventative Maintenance","An efficient, competitive and responsive economic infrastructure network","Inclusion and access","Improved state of Municipal Infrastructure","Interval Based","Transport Assets","Administrative or Head Office (Including Satellite Offices),Whole of the Municipality,...","17","-21",null,126492,134082,142126,150654]
["Pollution Control","MSE:AH:NIF:MACH & EQUIPMENT:PL","PO001002002001009_04920","Corrective Maintenance","An efficient, competitive and responsive economic infrastructure network","Inclusion and access","Improved state of Municipal Infrastructure","Planned","Machinery and Equipment","Administrative or Head Office (Including Satellite Offices),Whole of the Municipality,...","17","-21",null,25558,27091,28717,30440]
["Project Management Unit","0","PO001002001002003001001002_04264","Preventative Maintenance","An efficient, competitive and responsive economic infrastructure network","Inclusion and access","Improved state of Municipal Infrastructure","Operational Buildings","Municipal Offices","Administrative or Head Office (Including Satellite Offices),Whole of the Municipality,...","-16.35","12.25",null,150000]
["Property Services","MSE:AH:NIF:BUILD & OTHER STRUCT:PL","PO001002001001003001001002_00386","Preventative Maintenance","An efficient, competitive and responsive economic infrastructure network","Inclusion and access","Improved state of Municipal Infrastructure","Operational Buildings","Municipal Offices","Administrative or Head Office (Including Satellite Offices),Whole of the Municipality,...","17","-21",null,1186779,5000000,4350000,4741500]
["Property Services","MSE:AH:NIF:MACH & EQUIPMENT:PL","PO001002001001009_03335","Preventative Maintenance","An efficient, competitive and responsive economic infrastructure network","Inclusion and access","Improved state of Municipal Infrastructure","Interval Based","Machinery and Equipment","Administrative or Head Office (Including Satellite Offices),Whole of the Municipality,...","17","-21",null,3825,5000,4350,4742]
["Property Services","MSE:AH:NIF:TRANSPORT ASSETS:PL","PO001002001001010_03366","Preventative Maintenance","An efficient, competitive and responsive economic infrastructure network","Inclusion and access","Improved state of Municipal Infrastructure","Interval Based","Transport Assets","Whole of the Municipality","17","-21",null,25500,25500,26699,27927]
["Property Services","MSE:AH:NIF:BUILD & OTHER STRUCT:PL","PO001002001002003001001002_00400","Preventative Maintenance","An efficient, competitive and responsive economic infrastructure network","Inclusion and access","Improved state of Municipal Infrastructure","Operational Buildings","Municipal Offices","Administrative or Head Office (Including Satellite Offices),Whole of the Municipality,...","17","-21",null,595000,400000,418800,438065]
["Property Services","WWAT:AH:NIF:BUILD & OTHER STRUCT:PL","PO001002001002003001001002_00411","Preventative Maintenance","A skilled and capable workforce to support an inclusive growth path","Growth","Increased institutional capacity and promote transformation","Operational Buildings","Municipal Offices","Whole of the Municipality","17","-21",null,272000,150000,157050,164274]
["Property Services","MSE:AH:NIF:BUILD & OTHER STRUCT:PL","PO001002001002003001001002_00413","Preventative Maintenance","A skilled and capable workforce to support an inclusive growth path","Growth","Increased institutional capacity and promote transformation","Operational Buildings","Municipal Offices","Whole of the Municipality","17","-21",null,170000,150000,157050,164274]
["Property Services","MSE:AH:NIF:BUILD & OTHER STRUCT:PL","PO001002001002003001001002_00414","Preventative Maintenance","A skilled and capable workforce to support an inclusive growth path","Growth","Increased institutional capacity and promote transformation","Operational Buildings","Municipal Offices","Whole of the Municipality","17","-21",null,170000,150000,157050,164274]
["Property Services","MSE:AH:NIF:BUILD & OTHER STRUCT:PL","PO001002001002003001001002_00415","Preventative Maintenance","A skilled and capable workforce to support an inclusive growth path","Growth","Increased institutional capacity and promote transformation","Operational Buildings","Municipal Offices","Whole of the Municipality","17","-21",null,127500,127500,133493,139633]
["Property Services","WWAT:AH:NIF:BUILD & OTHER STRUCT:PL","PO001002001002003001001002_03379","Preventative Maintenance","A skilled and capable workforce to support an inclusive growth path","Growth","Increased institutional capacity and promote transformation","Operational Buildings","Municipal Offices","Administrative or Head Office (Including Satellite Offices),Whole of the Municipality,...","17","-21",null,850000,450000,471150,492823]
["Property Services","MSE:AH:NIF:MACH & EQUIPMENT:PL","PO001002001002009_03350","Preventative Maintenance","An efficient, competitive and responsive economic infrastructure network","Inclusion and access","Improved state of Municipal Infrastructure","Condition Based","Machinery and Equipment","Administrative or Head Office (Including Satellite Offices),Whole of the Municipality,...","17","-21",null,7000,17000,17799,18618]
["Property Services","WWAT:AH:NIF:MACH & EQUIPMENT:PL","PO001002001002009_03380","Preventative Maintenance","A skilled and capable workforce to support an inclusive growth path","Growth","Increased institutional capacity and promote transformation","Condition Based","Machinery and Equipment","Whole of the Municipality","17","-21",null,127500,100000,104700,109516]
["Public Toilets","MSE:AH:NIF:TRANSPORT ASSETS:PL","PO001002001001010_03368","Preventative Maintenance","An efficient, competitive and responsive economic infrastructure network","Inclusion and access","Improved state of Municipal Infrastructure","Interval Based","Transport Assets","Administrative or Head Office (Including Satellite Offices),Whole of the Municipality,...","17","-21",null,637500,800000,837600,876130]
["Public Toilets","MSE:AH:NIF:MACH & EQUIPMENT:PL","PO001002001002009_00001","Preventative Maintenance","An efficient, competitive and responsive economic infrastructure network","Inclusion and access","Improved state of Municipal Infrastructure","Condition Based","Machinery and Equipment","Administrative or Head Office (Including Satellite Offices)","-16.35","12.25"]
["Public Toilets","MSE:AH:NIF:MACH & EQUIPMENT:PL","PO001002001002009_05102","Preventative Maintenance","An efficient, competitive and responsive economic infrastructure network","Inclusion and access","Improved state of Municipal Infrastructure","Condition Based","Machinery and Equipment","Whole of the Municipality","17","-21",null,42500]
["Public Toilets","MSE:AH:NIF:BUILD & OTHER STRUCT:PL","PO001002002001002001016002_00403","Corrective Maintenance","An efficient, competitive and responsive economic infrastructure network","Inclusion and access","Improved state of Municipal Infrastructure","Community Facilities","Public Ablution Facilities","Administrative or Head Office (Including Satellite Offices),Whole of the Municipality,...","17","-21",null,850000,500000,523500,547581]
["Public Transport","MSE:AH:NIF:BUILD & OTHER STRUCT:PL","PO001002001002003001001002_00416","Preventative Maintenance","A skilled and capable workforce to support an inclusive growth path","Growth","Increased institutional capacity and promote transformation","Operational Buildings","Municipal Offices","Whole of the Municipality","17","-21",null,127500,127500,133493,139633]
["Public Transport","MSE:AH:NIF:MACH & EQUIPMENT:PL","PO001002001002009_03381","Preventative Maintenance","A skilled and capable workforce to support an inclusive growth path","Growth","Increased institutional capacity and promote transformation","Condition Based","Machinery and Equipment","Whole of the Municipality","17","-21",null,85000,85000,88995,93089]
["Recreational Facilities","MSE:AH:NIF:BUILD & OTHER STRUCT:PL","PO001002001001002001001002_00001","Preventative Maintenance","An efficient, competitive and responsive economic infrastructure network","Inclusion and access","Improved state of Municipal Infrastructure","Community Facilities","Halls","Administrative or Head Office (Including Satellite Offices)","-16.35","12.25"]
["Recreational Facilities","MSE:AH:NIF:BUILD & OTHER STRUCT:PL","PO001002001001002001001002_00446","Preventative Maintenance","A skilled and capable workforce to support an inclusive growth path","Growth","Increased institutional capacity and promote transformation","Community Facilities","Halls","Administrative or Head Office (Including Satellite Offices),Whole of the Municipality,...","17","-21",null,170000,127500,133493,139633]
["Recreational Facilities","MSE:AH:NIF:BUILD & OTHER STRUCT:PL","PO001002001001002001001002_00451","Preventative Maintenance","A skilled and capable workforce to support an inclusive growth path","Growth","Increased institutional capacity and promote transformation","Community Facilities","Halls","Administrative or Head Office (Including Satellite Offices),Whole of the Municipality,...","17","-21",null,85000,85000,88995,93089]
["Recreational Facilities","MSE:AH:NIF:BUILD & OTHER STRUCT:PL","PO001002001001002001001002_00452","Preventative Maintenance","A skilled and capable workforce to support an inclusive growth path","Growth","Increased institutional capacity and promote transformation","Community Facilities","Halls","Administrative or Head Office (Including Satellite Offices),Whole of the Municipality,...","17","-21",null,187000,150000,157050,164274]
["Recreational Facilities","MSE:AH:NIF:BUILD & OTHER STRUCT:PL","PO001002001001002001001002_00453","Preventative Maintenance","A skilled and capable workforce to support an inclusive growth path","Growth","Increased institutional capacity and promote transformation","Community Facilities","Halls","Administrative or Head Office (Including Satellite Offices),Whole of the Municipality,...","17","-21",null,170000,127500,133493,139633]
["Recreational Facilities","MSE:AH:NIF:BUILD & OTHER STRUCT:PL","PO001002001001002001001002_00454","Preventative Maintenance","An efficient, competitive and responsive economic infrastructure network","Inclusion and access","Improved state of Municipal Infrastructure","Community Facilities","Halls","Whole of the Municipality","17","-21",null,25500]
["Recreational Facilities","MSE:AH:NIF:BUILD & OTHER STRUCT:PL","PO001002001001002001001002_00455","Preventative Maintenance","A skilled and capable workforce to support an inclusive growth path","Growth","Increased institutional capacity and promote transformation","Community Facilities","Halls","Administrative or Head Office (Including Satellite Offices),Whole of the Municipality,...","17","-21",null,144500,127500,133493,139633]
["Recreational Facilities","MSE:AH:NIF:BUILD & OTHER STRUCT:PL","PO001002001001002001001002_00456","Preventative Maintenance","A skilled and capable workforce to support an inclusive growth path","Growth","Increased institutional capacity and promote transformation","Community Facilities","Halls","Administrative or Head Office (Including Satellite Offices),Whole of the Municipality,...","17","-21",null,110500,85000,88995,93089]
["Recreational Facilities","MSE:AH:NIF:BUILD & OTHER STRUCT:PL","PO001002001001002001001002_00457","Preventative Maintenance","A skilled and capable workforce to support an inclusive growth path","Growth","Increased institutional capacity and promote transformation","Community Facilities","Halls","Administrative or Head Office (Including Satellite Offices),Whole of the Municipality,...","17","-21",null,935000,850000,889950,930888]
["Recreational Facilities","MSE:AH:NIF:BUILD & OTHER STRUCT:PL","PO001002001001002001001002_00458","Preventative Maintenance","A skilled and capable workforce to support an inclusive growth path","Growth","Increased institutional capacity and promote transformation","Community Facilities","Halls","Administrative or Head Office (Including Satellite Offices),Whole of the Municipality,...","17","-21",null,238000,170000,177990,186178]
["Recreational Facilities","MSE:AH:NIF:BUILD & OTHER STRUCT:PL","PO001002001001002001001002_00460","Preventative Maintenance","A skilled and capable workforce to support an inclusive growth path","Growth","Increased institutional capacity and promote transformation","Community Facilities","Halls","Administrative or Head Office (Including Satellite Offices),Whole of the Municipality,...","17","-21",null,102000,85000,88995,93089]
["Recreational Facilities","MSE:AH:NIF:BUILD & OTHER STRUCT:PL","PO001002001001002001001002_03423","Preventative Maintenance","An efficient, competitive and responsive economic infrastructure network","Inclusion and access","Improved state of Municipal Infrastructure","Community Facilities","Halls","Whole of the Municipality","17","-21",null,42500]
["Recreational Facilities","MSE:AH:NIF:BUILD & OTHER STRUCT:PL","PO001002001001002001001002_03424","Preventative Maintenance","A skilled and capable workforce to support an inclusive growth path","Growth","Increased institutional capacity and promote transformation","Community Facilities","Halls","Administrative or Head Office (Including Satellite Offices),Whole of the Municipality,...","17","-21",null,153000,127500,133493,139633]
["Recreational Facilities","MSE:AH:NIF:BUILD & OTHER STRUCT:PL","PO001002001001002001001002_03425","Preventative Maintenance","A skilled and capable workforce to support an inclusive growth path","Growth","Increased institutional capacity and promote transformation","Community Facilities","Halls","Whole of the Municipality","17","-21",null,85000,59500,62297,65162]
["Recreational Facilities","MSE:AH:NIF:BUILD & OTHER STRUCT:PL","PO001002001001002001001002_03426","Preventative Maintenance","A skilled and capable workforce to support an inclusive growth path","Growth","Increased institutional capacity and promote transformation","Community Facilities","Halls","Administrative or Head Office (Including Satellite Offices),Whole of the Municipality,...","17","-21",null,85000,59500,62297,65162]
["Recreational Facilities","MSE:AH:NIF:BUILD & OTHER STRUCT:PL","PO001002001001002001001002_03427","Preventative Maintenance","An efficient, competitive and responsive economic infrastructure network","Inclusion and access","Improved state of Municipal Infrastructure","Community Facilities","Halls","Whole of the Municipality","17","-21",null,25500]
["Recreational Facilities","MSE:AH:NIF:BUILD & OTHER STRUCT:PL","PO001002001001002001001002_03428","Preventative Maintenance","An efficient, competitive and responsive economic infrastructure network","Inclusion and access","Improved state of Municipal Infrastructure","Community Facilities","Halls","Whole of the Municipality","17","-21",null,25500]
["Recreational Facilities","MSE:AH:NIF:BUILD & OTHER STRUCT:PL","PO001002001001002001001002_03429","Preventative Maintenance","An efficient, competitive and responsive economic infrastructure network","Inclusion and access","Improved state of Municipal Infrastructure","Community Facilities","Halls","Whole of the Municipality","17","-21",null,25500]
["Recreational Facilities","MSE:AH:NIF:BUILD & OTHER STRUCT:PL","PO001002001001002001001002_03438","Preventative Maintenance","An efficient, competitive and responsive economic infrastructure network","Inclusion and access","Improved state of Municipal Infrastructure","Community Facilities","Halls","Whole of the Municipality","17","-21",null,17000]
["Recreational Facilities","MSE:AH:NIF:BUILD & OTHER STRUCT:PL","PO001002001001002001001002_03440","Preventative Maintenance","An efficient, competitive and responsive economic infrastructure network","Inclusion and access","Improved state of Municipal Infrastructure","Community Facilities","Halls","Whole of the Municipality","17","-21",null,12750]
["Recreational Facilities","MSE:AH:NIF:BUILD & OTHER STRUCT:PL","PO001002001001002001001002_03441","Preventative Maintenance","An efficient, competitive and responsive economic infrastructure network","Inclusion and access","Improved state of Municipal Infrastructure","Community Facilities","Halls","Administrative or Head Office (Including Satellite Offices),Whole of the Municipality,...","-16.35","12.25",null,17000]
["Recreational Facilities","MSE:AH:NIF:TRANSPORT ASSETS:PL","PO001002001001010_03401","Preventative Maintenance","A skilled and capable workforce to support an inclusive growth path","Growth","Increased institutional capacity and promote transformation","Interval Based","Transport Assets","Administrative or Head Office (Including Satellite Offices),Whole of the Municipality,...","17","-21",null,586012,590000,617730,646146]
["Recreational Facilities","MSE:AH:NIF:TRANSPORT ASSETS:PL","PO001002001001010_03407","Preventative Maintenance","A skilled and capable workforce to support an inclusive growth path","Growth","Increased institutional capacity and promote transformation","Interval Based","Transport Assets","Administrative or Head Office (Including Satellite Offices),Whole of the Municipality,...","17","-21",null,80000,85000,88995,93089]
["Recreational Facilities","MSE:AH:NIF:TRANSPORT ASSETS:PL","PO001002001001010_03436","Preventative Maintenance","A skilled and capable workforce to support an inclusive growth path","Growth","Increased institutional capacity and promote transformation","Interval Based","Transport Assets","Administrative or Head Office (Including Satellite Offices),Whole of the Municipality,...","17","-21",null,1006436,127500,133493,139633]
["Recreational Facilities","MSE:AH:NIF:TRANSPORT ASSETS:PL","PO001002001001010_03437","Preventative Maintenance","A skilled and capable workforce to support an inclusive growth path","Growth","Increased institutional capacity and promote transformation","Interval Based","Transport Assets","Whole of the Municipality","17","-21",null,32886,85000,88995,93089]
["Recreational Facilities","MSE:AH:NIF:TRANSPORT ASSETS:PL","PO001002001001010_03442","Preventative Maintenance","A skilled and capable workforce to support an inclusive growth path","Growth","Increased institutional capacity and promote transformation","Interval Based","Transport Assets","Administrative or Head Office (Including Satellite Offices),Whole of the Municipality,...","17","-21",null,null,25500,26699,27927]
["Recreational Facilities","MSE:AH:NIF:TRANSPORT ASSETS:PL","PO001002001002002002002003_00001","Preventative Maintenance","An efficient, competitive and responsive economic infrastructure network","Inclusion and access","Improved state of Municipal Infrastructure","Sport and Recreation Facilities","Outdoor Facilities","Administrative or Head Office (Including Satellite Offices)","-16.35","12.25"]
["Recreational Facilities","MSE:AH:NIF:BUILD & OTHER STRUCT:PL","PO001002001002002002002003_00438","Preventative Maintenance","A skilled and capable workforce to support an inclusive growth path","Growth","Increased institutional capacity and promote transformation","Sport and Recreation Facilities","Outdoor Facilities","Administrative or Head Office (Including Satellite Offices),Whole of the Municipality,...","17","-21",null,255000,250000,261750,273791]
["Recreational Facilities","MSE:AH:NIF:BUILD & OTHER STRUCT:PL","PO001002001002002002002003_00439","Preventative Maintenance","An efficient, competitive and responsive economic infrastructure network","Inclusion and access","Improved state of Municipal Infrastructure","Sport and Recreation Facilities","Outdoor Facilities","Administrative or Head Office (Including Satellite Offices),Whole of the Municipality,...","-16.35","12.25",null,85000]
["Recreational Facilities","MSE:AH:NIF:BUILD & OTHER STRUCT:PL","PO001002001002002002002003_00440","Preventative Maintenance","A skilled and capable workforce to support an inclusive growth path","Growth","Increased institutional capacity and promote transformation","Sport and Recreation Facilities","Outdoor Facilities","Whole of the Municipality","17","-21",null,null,200000,209400,219032]
["Recreational Facilities","MSE:AH:NIF:BUILD & OTHER STRUCT:PL","PO001002001002002002002003_00444","Preventative Maintenance","A skilled and capable workforce to support an inclusive growth path","Growth","Increased institutional capacity and promote transformation","Sport and Recreation Facilities","Outdoor Facilities","Administrative or Head Office (Including Satellite Offices),Whole of the Municipality,...","17","-21",null,76500,100000,104700,109516]
["Recreational Facilities","MSE:AH:NIF:TRANSPORT ASSETS:PL","PO001002001002002002002003_03415","Preventative Maintenance","A skilled and capable workforce to support an inclusive growth path","Growth","Increased institutional capacity and promote transformation","Sport and Recreation Facilities","Outdoor Facilities","Whole of the Municipality","17","-21",null,null,51000,53397,55853]
["Recreational Facilities","MSE:AH:NIF:BUILD & OTHER STRUCT:PL","PO001002001002002002002003_03418","Preventative Maintenance","A skilled and capable workforce to support an inclusive growth path","Growth","Increased institutional capacity and promote transformation","Sport and Recreation Facilities","Outdoor Facilities","Administrative or Head Office (Including Satellite Offices),Whole of the Municipality,...","17","-21",null,68000,100000,104700,109516]
["Recreational Facilities","MSE:AH:NIF:BUILD & OTHER STRUCT:PL","PO001002001002002002002003_03422","Preventative Maintenance","A skilled and capable workforce to support an inclusive growth path","Growth","Increased institutional capacity and promote transformation","Sport and Recreation Facilities","Outdoor Facilities","Administrative or Head Office (Including Satellite Offices),Whole of the Municipality,...","17","-21",null,127500,227500,238193,249149]
["Recreational Facilities","MSE:AH:NIF:BUILD & OTHER STRUCT:PL","PO001002001002003001001002_00429","Preventative Maintenance","A skilled and capable workforce to support an inclusive growth path","Growth","Increased institutional capacity and promote transformation","Operational Buildings","Municipal Offices","Administrative or Head Office (Including Satellite Offices),Whole of the Municipality,...","17","-21",null,850000,500000,523500,547581]
["Recreational Facilities","MSE:AH:NIF:BUILD & OTHER STRUCT:PL","PO001002001002003001001002_00433","Preventative Maintenance","A skilled and capable workforce to support an inclusive growth path","Growth","Increased institutional capacity and promote transformation","Operational Buildings","Municipal Offices","Administrative or Head Office (Including Satellite Offices),Whole of the Municipality,...","17","-21",null,127500,127500,133493,139633]
["Recreational Facilities","MSE:AH:NIF:MACH & EQUIPMENT:PL","PO001002001002009_03400","Preventative Maintenance","A skilled and capable workforce to support an inclusive growth path","Growth","Increased institutional capacity and promote transformation","Condition Based","Machinery and Equipment","Administrative or Head Office (Including Satellite Offices),Whole of the Municipality,...","17","-21",null,255000,100000,104700,109516]
["Recreational Facilities","MSE:AH:NIF:MACH & EQUIPMENT:PL","PO001002001002009_03431","Preventative Maintenance","A skilled and capable workforce to support an inclusive growth path","Growth","Increased institutional capacity and promote transformation","Condition Based","Machinery and Equipment","Whole of the Municipality","17","-21",null,127500,127500,133493,139633]
["Recreational Facilities","MSE:AH:NIF:MACH & EQUIPMENT:PL","PO001002001002009_03435","Preventative Maintenance","A skilled and capable workforce to support an inclusive growth path","Growth","Increased institutional capacity and promote transformation","Condition Based","Machinery and Equipment","Whole of the Municipality","17","-21",null,127500,127500,133493,139633]
["Recreational Facilities","MSE:AH:NIF:BUILD & OTHER STRUCT:PL","PO001002002001002002002004_00001","Corrective Maintenance","An efficient, competitive and responsive economic infrastructure network","Inclusion and access","Improved state of Municipal Infrastructure","Sport and Recreation Facilities","Outdoor Facilities","Administrative or Head Office (Including Satellite Offices)","-16.35","12.25"]
["Recreational Facilities","MSE:AH:NIF:BUILD & OTHER STRUCT:PL","PO001002002001002002002004_00441","Corrective Maintenance","An efficient, competitive and responsive economic infrastructure network","Inclusion and access","Improved state of Municipal Infrastructure","Sport and Recreation Facilities","Outdoor Facilities","Administrative or Head Office (Including Satellite Offices),Whole of the Municipality,...","-16.35","12.25",null,85000]
["Recreational Facilities","MSE:AH:NIF:BUILD & OTHER STRUCT:PL","PO001002002001002002002004_00442","Corrective Maintenance","A skilled and capable workforce to support an inclusive growth path","Growth","Increased institutional capacity and promote transformation","Sport and Recreation Facilities","Outdoor Facilities","Administrative or Head Office (Including Satellite Offices),Whole of the Municipality,...","17","-21",null,59500,100000,104700,109516]
["Recreational Facilities","MSE:AH:NIF:BUILD & OTHER STRUCT:PL","PO001002002001002002002004_00443","Corrective Maintenance","A skilled and capable workforce to support an inclusive growth path","Growth","Increased institutional capacity and promote transformation","Sport and Recreation Facilities","Outdoor Facilities","Administrative or Head Office (Including Satellite Offices),Whole of the Municipality,...","17","-21",null,68000,100000,104700,109516]
["Recreational Facilities","MSE:AH:NIF:BUILD & OTHER STRUCT:PL","PO001002002001002002002004_00449","Corrective Maintenance","A skilled and capable workforce to support an inclusive growth path","Growth","Increased institutional capacity and promote transformation","Sport and Recreation Facilities","Outdoor Facilities","Whole of the Municipality","17","-21",null,170000,127500,133493,139633]
["Recreational Facilities","MSE:AH:NIF:BUILD & OTHER STRUCT:PL","PO001002002001002002002004_00461","Corrective Maintenance","A skilled and capable workforce to support an inclusive growth path","Growth","Increased institutional capacity and promote transformation","Sport and Recreation Facilities","Outdoor Facilities","Administrative or Head Office (Including Satellite Offices),Whole of the Municipality,...","17","-21",null,110500,85000,88995,93089]
["Recreational Facilities","MSE:AH:NIF:BUILD & OTHER STRUCT:PL","PO001002002001002002002004_00462","Corrective Maintenance","A skilled and capable workforce to support an inclusive growth path","Growth","Increased institutional capacity and promote transformation","Sport and Recreation Facilities","Outdoor Facilities","Administrative or Head Office (Including Satellite Offices),Whole of the Municipality,...","17","-21",null,102000,85000,88995,93089]
["Roads","MSE:AH:INF:ROADS","PO001001001001002003001_00001","Preventative Maintenance","An efficient, competitive and responsive economic infrastructure network","Inclusion and access","Increased Provision of Municipal Services","Roads Infrastructure","Road Furniture","Administrative or Head Office (Including Satellite Offices)","-16.35","12.25"]
["Roads","MSE:AH:INF:ROADS","PO001001001001002003001_04698","Preventative Maintenance","An efficient, competitive and responsive economic infrastructure network","Inclusion and access","Improved state of Municipal Infrastructure","Roads Infrastructure","Road Furniture","Administrative or Head Office (Including Satellite Offices),Whole of the Municipality,...","17","-21",null,1500000,939025,1032928,1136220]
["Roads","MSE:AH:INF:ROADS","PO001001001001002003001_04699","Preventative Maintenance","An efficient, competitive and responsive economic infrastructure network","Inclusion and access","Improved state of Municipal Infrastructure","Roads Infrastructure","Road Furniture","Whole of the Municipality","17","-21",null,1000000,500000,550000,605000]
["Roads","\"MSE:AH:INF:ROADS","PO001001002001002001002_00001","Corrective Maintenance","An efficient, effective and development-oriented public service","Inclusion and access","Improved Customer experience & Public participation","Roads Infrastructure","Roads","Administrative or Head Office (Including Satellite Offices)","-16.35","12.25"]
["Roads","\"MSE:AH:INF:ROADS","PO001001002001002001002_00468","Corrective Maintenance","A skilled and capable workforce to support an inclusive growth path","Growth","Increased institutional capacity and promote transformation","Roads Infrastructure","Roads","Administrative or Head Office (Including Satellite Offices),Whole of the Municipality,...","17","-21",null,1690362,2290362,2519398,2771338]
["Roads","MSE:AH:SURFACE MAINTENANCE","PO001001002001002001002_00469","Corrective Maintenance","A skilled and capable workforce to support an inclusive growth path","Growth","Increased institutional capacity and promote transformation","Roads Infrastructure","Roads","Administrative or Head Office (Including Satellite Offices),Whole of the Municipality,...","17","-21",null,18036365,6636365,7300000,8030000]
["Roads","MSE:AH:INF:ROADS,PAVEM,BRG,STWTR:PL","PO001001002001002001002_00470","Corrective Maintenance","An efficient, competitive and responsive economic infrastructure network","Inclusion and access","Improved state of Municipal Infrastructure","Roads Infrastructure","Roads","Administrative or Head Office (Including Satellite Offices),Whole of the Municipality,...","17","-21",null,7434538,4534538,4987992,5486790]
["Roads","\"MSE:AH:INF:ROADS","PO001001002001002001002_00471","Corrective Maintenance","An efficient, competitive and responsive economic infrastructure network","Inclusion and access","Improved state of Municipal Infrastructure","Roads Infrastructure","Roads","Whole of the Municipality","17","-21",null,2594471,1094471,1203918,1324310]
["Roads","\"MSE:AH:INF:ROADS","PO001001002001002001002_00474","Corrective Maintenance","An efficient, competitive and responsive economic infrastructure network","Inclusion and access","Improved state of Municipal Infrastructure","Roads Infrastructure","Roads","Administrative or Head Office (Including Satellite Offices),Whole of the Municipality,...","17","-21",null,1850000,1550000,1705000,1875500]
["Roads","\"MSE:AH:INF:ROADS","PO001001002001002001002_00475","Corrective Maintenance","An efficient, competitive and responsive economic infrastructure network","Inclusion and access","Improved state of Municipal Infrastructure","Roads Infrastructure","Roads","Administrative or Head Office (Including Satellite Offices),Whole of the Municipality,...","17","-21",null,400000,300000,330000,363000]
["Roads","MSE:AH:INF:ROADS,PAVEM,BRG,STWTR:UPL","PO001001002001002001002_04625","Corrective Maintenance","An efficient, competitive and responsive economic infrastructure network","Inclusion and access","Improved state of Municipal Infrastructure","Roads Infrastructure","Roads","Administrative or Head Office (Including Satellite Offices),Whole of the Municipality,...","17","-21",null,22913986,14168021,26384599,28137308]
["Roads","MSE:AH:INF:ROADS,PAVEM,BRG,STWTR:UPL","PO001001002001002001002_04627","Corrective Maintenance","An efficient, competitive and responsive economic infrastructure network","Inclusion and access","Improved state of Municipal Infrastructure","Roads Infrastructure","Roads","Administrative or Head Office (Including Satellite Offices),Whole of the Municipality,...","17","-21",null,9659457,6220432,6842475,7526722]
["Roads","MSE:AH:INF:ROADS,PAVEM,BRG,STWTR:UPL","PO001001002001002001002_04628","Corrective Maintenance","An efficient, competitive and responsive economic infrastructure network","Inclusion and access","Improved state of Municipal Infrastructure","Roads Infrastructure","Roads","Administrative or Head Office (Including Satellite Offices),Whole of the Municipality,...","17","-21",null,13000000,5000000,5500000,6050000]
["Roads","MSE:AH:INF:ROADS,PAVEM,BRG,STWTR:PL","PO001001002001002002001_00472","Corrective Maintenance","An efficient, competitive and responsive economic infrastructure network","Inclusion and access","Improved state of Municipal Infrastructure","Roads Infrastructure","Road Structures","Administrative or Head Office (Including Satellite Offices),Whole of the Municipality,...","17","-21",null,1311532,511532,562685,618954]
["Roads","\"MSE:AH:INF:ROADS","PO001001002001002002001_00473","Corrective Maintenance","An efficient, competitive and responsive economic infrastructure network","Inclusion and access","Improved state of Municipal Infrastructure","Roads Infrastructure","Road Structures","Administrative or Head Office (Including Satellite Offices),Whole of the Municipality,...","17","-21",null,1089415,889415,978357,1076192]
["Roads","MSE:AH:NIF:TRANSPORT ASSETS:PL","PO001002001001010_03446","Preventative Maintenance","A skilled and capable workforce to support an inclusive growth path","Growth","Increased institutional capacity and promote transformation","Interval Based","Transport Assets","Administrative or Head Office (Including Satellite Offices),Whole of the Municipality,...","17","-21",null,154932,154932,170425,187468]
["Roads","MSE:AH:NIF:TRANSPORT ASSETS:PL","PO001002001001010_03447","Preventative Maintenance","An efficient, competitive and responsive economic infrastructure network","Inclusion and access","Improved state of Municipal Infrastructure","Interval Based","Transport Assets","Administrative or Head Office (Including Satellite Offices),Whole of the Municipality,...","-16.35","12.25",null,152413]
["Roads","MSE:AH:NIF:TRANSPORT ASSETS:PL","PO001002001001010_03448","Preventative Maintenance","An efficient, competitive and responsive economic infrastructure network","Inclusion and access","Improved state of Municipal Infrastructure","Interval Based","Transport Assets","Administrative or Head Office (Including Satellite Offices),Whole of the Municipality,...","17","-21",null,123442,123442,135786,149365]
["Roads","MSE:AH:NIF:TRANSPORT ASSETS:PL","PO001002001001010_03451","Preventative Maintenance","An efficient, competitive and responsive economic infrastructure network","Inclusion and access","Improved state of Municipal Infrastructure","Interval Based","Transport Assets","Administrative or Head Office (Including Satellite Offices),Whole of the Municipality,...","17","-21",null,245418,245418,269960,296956]
["Roads","MSE:AH:NIF:TRANSPORT ASSETS:UPL","PO001002001001010_04626","Preventative Maintenance","An efficient, competitive and responsive economic infrastructure network","Inclusion and access","Improved state of Municipal Infrastructure","Interval Based","Transport Assets","Administrative or Head Office (Including Satellite Offices),Whole of the Municipality,...","17","-21",null,123442,123442,135786,149365]
["Security Services","MSE:AH:NIF:TRANSPORT ASSETS:PL","PO001002001001010_03397","Preventative Maintenance","A skilled and capable workforce to support an inclusive growth path","Growth","Increased institutional capacity and promote transformation","Interval Based","Transport Assets","Administrative or Head Office (Including Satellite Offices),Whole of the Municipality,...","17","-21",null,595000,550000,575850,602339]
["Security Services","MSE:AH:MRC:MUNICIPAL RUNNING COST","PO001002001002009_03396","Preventative Maintenance","A skilled and capable workforce to support an inclusive growth path","Growth","Increased institutional capacity and promote transformation","Condition Based","Machinery and Equipment","Whole of the Municipality","17","-21",null,null,100000,104700,109516]
["Sewerage","WWAT:AH:INF:METERS BULK","PO001001001002008003010_01023","Preventative Maintenance","An efficient, competitive and responsive economic infrastructure network","Inclusion and access","Improved state of Municipal Infrastructure","Sanitation Infrastructure","Waste Water Treatment","Administrative or Head Office (Including Satellite Offices),Whole of the Municipality,...","17","-21",null,206175869,295581697,313316599,332115595]
["Sewerage","WWAT:AH:INF:BULK SANITATION RETIC:PL","PO001001002001008002002_03460","Corrective Maintenance","An efficient, competitive and responsive economic infrastructure network","Inclusion and access","Improved state of Municipal Infrastructure","Sanitation Infrastructure","Reticulation","Administrative or Head Office (Including Satellite Offices),Whole of the Municipality,...","17","-21",null,3300000,16000000,17600000,19360000]
["Sewerage","WSIG:Z1:GREATER MSUNDUZI VIP TOILETS","PO001001002001008005001_04893","Corrective Maintenance","Responsive, accountable, effective and efficient local government","Growth","Increased performance","Sanitation Infrastructure","Toilet Facilities","Administrative or Head Office (Including Satellite Offices)","-16.35","12.25"]
["Sewerage","WWAT:AH:NIF:TRANSPORT ASSETS:PL","PO001002001001010_00001","Preventative Maintenance","An efficient, competitive and responsive economic infrastructure network","Inclusion and access","Improved state of Municipal Infrastructure","Interval Based","Transport Assets","Administrative or Head Office (Including Satellite Offices)","-16.35","12.25"]
["Sewerage","WWAT:AH:NIF:TRANSPORT ASSETS:PL","PO001002001001010_03461","Preventative Maintenance","An efficient, competitive and responsive economic infrastructure network","Inclusion and access","Improved state of Municipal Infrastructure","Interval Based","Transport Assets","Administrative or Head Office (Including Satellite Offices),Whole of the Municipality,...","17","-21",null,3200000,11400000,12540000,13794000]
["Sewerage","WWAT:AH:NIF:TRANSPORT ASSETS:PL","PO001002001001010_03462","Preventative Maintenance","An efficient, competitive and responsive economic infrastructure network","Inclusion and access","Improved state of Municipal Infrastructure","Interval Based","Transport Assets","Whole of the Municipality","17","-21",null,115000,300000,330000,363000]
["Sewerage","WWAT:AH:INF:BUILD & OTHER STRUCT:UPL","PO001002002001003001001002_00001","Corrective Maintenance","An efficient, competitive and responsive economic infrastructure network","Inclusion and access","Improved state of Municipal Infrastructure","Operational Buildings","Municipal Offices","Administrative or Head Office (Including Satellite Offices)","-16.35","12.25"]
["Sewerage","WWAT:AH:INF:BUILD & OTHER STRUCT:UPL","PO001002002001003001001002_04643","Corrective Maintenance","An efficient, competitive and responsive economic infrastructure network","Inclusion and access","Improved state of Municipal Infrastructure","Operational Buildings","Municipal Offices","Whole of the Municipality","17","-21",null,750000,1500000,1650000,1815000]
["Solid Waste Disposal (Landfill Sites)","WAST:AH:INF:SOLID WASTE DISPOSAL:PL","PO001001002001004001002_03375","Corrective Maintenance","An efficient, competitive and responsive economic infrastructure network","Inclusion and access","Improved state of Municipal Infrastructure","Solid Waste Disposal","Landfill Sites","Administrative or Head Office (Including Satellite Offices),Whole of the Municipality,...","17","-21",null,170000,170000,177990,186178]
["Solid Waste Disposal (Landfill Sites)","WAST:AH:NIF:TRANSPORT ASSETS:PL","PO001002001001010_03376","Preventative Maintenance","An efficient, competitive and responsive economic infrastructure network","Inclusion and access","Improved state of Municipal Infrastructure","Interval Based","Transport Assets","Administrative or Head Office (Including Satellite Offices),Whole of the Municipality,...","17","-21",null,1700000,1200000,1256400,1314194]
["Solid Waste Disposal (Landfill Sites)","WAST:AH:NIF:BUILD & OTHER STRUCT:PL","PO001002001002003001001002_00407","Preventative Maintenance","An efficient, competitive and responsive economic infrastructure network","Inclusion and access","Improved state of Municipal Infrastructure","Operational Buildings","Municipal Offices","Administrative or Head Office (Including Satellite Offices),Whole of the Municipality,...","17","-21",null,212500,220000,230340,240936]
["Solid Waste Removal","MSE:AH:INF:SOLID WASTE DISPOSAL:PL","PO001001001002004001004_00001","Preventative Maintenance","An efficient, competitive and responsive economic infrastructure network","Inclusion and access","Improved state of Municipal Infrastructure","Solid Waste Disposal","Landfill Sites","Administrative or Head Office (Including Satellite Offices)","-16.35","12.25"]
["Solid Waste Removal","MSE:AH:INF:SOLID WASTE DISPOSAL:PL","PO001001001002004001004_03377","Preventative Maintenance","A skilled and capable workforce to support an inclusive growth path","Growth","Increased institutional capacity and promote transformation","Solid Waste Disposal","Landfill Sites","Whole of the Municipality","17","-21",null,85000,3300000,3455100,3614034]
["Solid Waste Removal","MSE:AH:NIF:TRANSPORT ASSETS:PL","PO001002001001010_03370","Preventative Maintenance","An efficient, competitive and responsive economic infrastructure network","Inclusion and access","Improved state of Municipal Infrastructure","Interval Based","Transport Assets","Administrative or Head Office (Including Satellite Offices),Whole of the Municipality,...","17","-21",null,850000,160000,167520,175226]
["Solid Waste Removal","MSE:AH:NIF:TRANSPORT ASSETS:PL","PO001002001001010_03372","Preventative Maintenance","An efficient, competitive and responsive economic infrastructure network","Inclusion and access","Improved state of Municipal Infrastructure","Interval Based","Transport Assets","Administrative or Head Office (Including Satellite Offices),Whole of the Municipality,...","17","-21",null,170000,177000,185319,193844]
["Solid Waste Removal","MSE:AH:NIF:TRANSPORT ASSETS:PL","PO001002001001010_03374","Preventative Maintenance","An efficient, competitive and responsive economic infrastructure network","Inclusion and access","Improved state of Municipal Infrastructure","Interval Based","Transport Assets","Administrative or Head Office (Including Satellite Offices),Whole of the Municipality,...","17","-21",null,170000,170000,177990,186178]
["Solid Waste Removal","MSE:AH:NIF:TRANSPORT ASSETS:PL","PO001002001001010_03378","Preventative Maintenance","An efficient, competitive and responsive economic infrastructure network","Inclusion and access","Improved state of Municipal Infrastructure","Interval Based","Transport Assets","Administrative or Head Office (Including Satellite Offices),Whole of the Municipality,...","-16.35","12.25",null,85000]
["Solid Waste Removal","MSE:AH:NIF:BUILD & OTHER STRUCT:PL","PO001002001002003001001002_00001","Preventative Maintenance","An efficient, competitive and responsive economic infrastructure network","Inclusion and access","Increased Provision of Municipal Services","Operational Buildings","Municipal Offices","Administrative or Head Office (Including Satellite Offices)","-16.35","12.25"]
["Solid Waste Removal","MSE:AH:NIF:BUILD & OTHER STRUCT:PL","PO001002001002003001001002_00402","Preventative Maintenance","A skilled and capable workforce to support an inclusive growth path","Growth","Increased institutional capacity and promote transformation","Operational Buildings","Municipal Offices","Administrative or Head Office (Including Satellite Offices),Whole of the Municipality,...","-16.35","12.25",null,127500]
["Solid Waste Removal","MSE:AH:NIF:BUILD & OTHER STRUCT:PL","PO001002001002003001001002_00405","Preventative Maintenance","An efficient, competitive and responsive economic infrastructure network","Inclusion and access","Improved state of Municipal Infrastructure","Operational Buildings","Municipal Offices","Whole of the Municipality","17","-21",null,127500,133000,139251,145657]
["Solid Waste Removal","MSE:AH:NIF:BUILD & OTHER STRUCT:PL","PO001002001002003001001002_00406","Preventative Maintenance","An efficient, competitive and responsive economic infrastructure network","Inclusion and access","Improved state of Municipal Infrastructure","Operational Buildings","Municipal Offices","Whole of the Municipality","17","-21",null,425000,400000,418800,438065]
["Solid Waste Removal","MSE:AH:NIF:MACH & EQUIPMENT:PL","PO001002001002009_03367","Preventative Maintenance","An efficient, competitive and responsive economic infrastructure network","Inclusion and access","Improved state of Municipal Infrastructure","Condition Based","Machinery and Equipment","Whole of the Municipality","17","-21",null,8500,8000,8376,8761]
["Solid Waste Removal","MSE:AH:NIF:MACH & EQUIPMENT:PL","PO001002001002009_03369","Preventative Maintenance","An efficient, competitive and responsive economic infrastructure network","Inclusion and access","Improved state of Municipal Infrastructure","Condition Based","Machinery and Equipment","Whole of the Municipality","17","-21",null,85000,88000,92136,96374]
["Solid Waste Removal","MSE:AH:NIF:MACH & EQUIPMENT:PL","PO001002001002009_03371","Preventative Maintenance","An efficient, competitive and responsive economic infrastructure network","Inclusion and access","Improved state of Municipal Infrastructure","Condition Based","Machinery and Equipment","Whole of the Municipality","17","-21",null,25500,30000,31410,32855]
["Solid Waste Removal","MSE:AH:NIF:MACH & EQUIPMENT:PL","PO001002001002009_03373","Preventative Maintenance","An efficient, competitive and responsive economic infrastructure network","Inclusion and access","Improved state of Municipal Infrastructure","Condition Based","Machinery and Equipment","Whole of the Municipality","17","-21",null,42500]
["Sports Grounds and Stadiums","MSE:AH:NIF:BUILD & OTHER STRUCT:PL","PO005003002002002_00001","New","An efficient, competitive and responsive economic infrastructure network","Inclusion and access","Improved state of Municipal Infrastructure","Sport and Recreation Facilities","Outdoor Facilities","Administrative or Head Office (Including Satellite Offices)","-16.35","12.25"]
["Sports Grounds and Stadiums","LEVS:AH:NIF:BUILD & OTHER STRUCT:PL","PO005003002002002_04936","New","An efficient, competitive and responsive economic infrastructure network","Inclusion and access","Improved state of Municipal Infrastructure","Sport and Recreation Facilities","Outdoor Facilities","Whole of the Municipality","17","-21",null,17000]
["Storm Water Management","MSE:AH:NIF:TRANSPORT ASSETS:PL","PO001002001001010_03452","Preventative Maintenance","An efficient, competitive and responsive economic infrastructure network","Inclusion and access","Improved state of Municipal Infrastructure","Interval Based","Transport Assets","Whole of the Municipality","17","-21",null,94471,94471,103918,114310]
["Supply Chain Management","LEVS:AH:NIF:BUILD & OTHER STRUCT:PL","PO001002001001003001006002_00379","Preventative Maintenance","An efficient, competitive and responsive economic infrastructure network","Inclusion and access","Improved state of Municipal Infrastructure","Operational Buildings","Stores","Administrative or Head Office (Including Satellite Offices),Whole of the Municipality,...","17","-21",null,85000,90000,78300,85347]
["Supply Chain Management","LEVS:AH:NIF:MACH & EQUIPMENT:PL","PO001002001001009_03334","Preventative Maintenance","An efficient, competitive and responsive economic infrastructure network","Inclusion and access","Improved state of Municipal Infrastructure","Interval Based","Machinery and Equipment","Administrative or Head Office (Including Satellite Offices),Whole of the Municipality,...","17","-21",null,102060,95000,82650,90089]
["Supply Chain Management","LEVS:AH:NIF:TRANSPORT ASSETS:PL","PO001002001001010_00380","Preventative Maintenance","An efficient, competitive and responsive economic infrastructure network","Inclusion and access","Improved state of Municipal Infrastructure","Interval Based","Transport Assets","Administrative or Head Office (Including Satellite Offices),Whole of the Municipality,...","17","-21",null,4542,4542,3952,4308]
["Taxi Ranks","MSE:AH:INF:TRANSPORTATION:PL","PO001001002001002003001_00001","Corrective Maintenance","An efficient, competitive and responsive economic infrastructure network","Inclusion and access","Increased Provision of Municipal Services","Roads Infrastructure","Road Furniture","Administrative or Head Office (Including Satellite Offices)","-16.35","12.25"]
["Taxi Ranks","MSE:AH:INF:TRANSPORTATION:PL","PO001001002001002003001_03453","Corrective Maintenance","An efficient, competitive and responsive economic infrastructure network","Inclusion and access","Improved state of Municipal Infrastructure","Roads Infrastructure","Road Furniture","Whole of the Municipality","17","-21",null,358645,258645,284510,312961]
["Taxi Ranks","MSE:AH:INF:TRANSPORTATION:PL","PO001001002001002003001_03455","Corrective Maintenance","An efficient, competitive and responsive economic infrastructure network","Inclusion and access","Improved state of Municipal Infrastructure","Roads Infrastructure","Road Furniture","Whole of the Municipality","17","-21",null,28117,28117,30929,34022]
["Taxi Ranks","MSE:AH:INF:TRANSPORTATION:UPL","PO001002001001010_04632","Preventative Maintenance","An efficient, competitive and responsive economic infrastructure network","Inclusion and access","Improved state of Municipal Infrastructure","Interval Based","Transport Assets","Whole of the Municipality","17","-21",null,11955,11955,13150,14465]
["Taxi Ranks","LEVS:Z4:NIF:BUILD & OTHER STRUCT:PL","PO001002001002002001001002_00001","Preventative Maintenance","An efficient, competitive and responsive economic infrastructure network","Inclusion and access","Improved state of Municipal Infrastructure","Community Facilities","Halls","Administrative or Head Office (Including Satellite Offices)","-16.35","12.25"]
["Taxi Ranks","MSE:AH:NIF:BUILD & OTHER STRUCT:UPL","PO001002001002002001001002_04631","Preventative Maintenance","An efficient, competitive and responsive economic infrastructure network","Inclusion and access","Improved state of Municipal Infrastructure","Community Facilities","Halls","Whole of the Municipality","17","-21",null,47819,47819,52601,57861]
["Taxi Ranks","MSE:AH:NIF:BUILD & OTHER STRUCT:UPL","PO001002001002002001001002_04633","Preventative Maintenance","An efficient, competitive and responsive economic infrastructure network","Inclusion and access","Improved state of Municipal Infrastructure","Community Facilities","Halls","Administrative or Head Office (Including Satellite Offices),Whole of the Municipality,...","17","-21",null,47819,47819,52601,57861]
["Taxi Ranks","MSE:AH:NIF:BUILD & OTHER STRUCT:PL","PO001002002001002001021002_00001","Corrective Maintenance","An efficient, competitive and responsive economic infrastructure network","Inclusion and access","Improved state of Municipal Infrastructure","Community Facilities","Taxi Ranks/Bus Terminals","Administrative or Head Office (Including Satellite Offices)","-16.35","12.25"]
["Taxi Ranks","MSE:AH:NIF:BUILD & OTHER STRUCT:PL","PO001002002001002001021002_00477","Corrective Maintenance","An efficient, competitive and responsive economic infrastructure network","Inclusion and access","Improved state of Municipal Infrastructure","Community Facilities","Taxi Ranks/Bus Terminals","Whole of the Municipality","17","-21",null,47819,47819,52601,57861]
["Taxi Ranks","MSE:AH:NIF:BUILD & OTHER STRUCT:PL","PO001002002001002001021002_03454","Corrective Maintenance","An efficient, competitive and responsive economic infrastructure network","Inclusion and access","Improved state of Municipal Infrastructure","Community Facilities","Taxi Ranks/Bus Terminals","Whole of the Municipality","17","-21",null,591461,191461,210607,231667]
["Tourism","LEVS:AH:NIF:MACH & EQUIPMENT:PL","PO001002001001009_03493","Preventative Maintenance","An efficient, competitive and responsive economic infrastructure network","Inclusion and access","Improved state of Municipal Infrastructure","Interval Based","Machinery and Equipment","Administrative or Head Office (Including Satellite Offices),Whole of the Municipality,...","17","-21",null,89388,94751,100436,106462]
["Town Planning, Building Regulations and Enforcement, and City Engineer","MSE:AH:NIF:MACH & EQUIPMENT:PL","PO001002001001009_03483","Preventative Maintenance","An efficient, competitive and responsive economic infrastructure network","Inclusion and access","Improved state of Municipal Infrastructure","Interval Based","Machinery and Equipment","Administrative or Head Office (Including Satellite Offices),Whole of the Municipality,...","17","-21",null,50000,80000,84800,89888]
["Town Planning, Building Regulations and Enforcement, and City Engineer","MSE:AH:NIF:MACH & EQUIPMENT:PL","PO001002001001009_03488","Preventative Maintenance","An efficient, competitive and responsive economic infrastructure network","Inclusion and access","Improved state of Municipal Infrastructure","Interval Based","Machinery and Equipment","Administrative or Head Office (Including Satellite Offices),Whole of the Municipality,...","17","-21",null,358289,100000,106000,112360]
["Town Planning, Building Regulations and Enforcement, and City Engineer","LEVS:AH:NIF:TRANSPORT ASSETS:PL","PO001002001001010_03482","Preventative Maintenance","An efficient, competitive and responsive economic infrastructure network","Inclusion and access","Improved state of Municipal Infrastructure","Interval Based","Transport Assets","Administrative or Head Office (Including Satellite Offices),Whole of the Municipality,...","17","-21",null,42164,44694,47375,50218]
["Town Planning, Building Regulations and Enforcement, and City Engineer","MSE:AH:NIF:TRANSPORT ASSETS:PL","PO001002001001010_03500","Preventative Maintenance","An efficient, competitive and responsive economic infrastructure network","Inclusion and access","Improved state of Municipal Infrastructure","Interval Based","Transport Assets","Administrative or Head Office (Including Satellite Offices),Whole of the Municipality,...","17","-21",null,114854,121745,129050,136793]
["Town Planning, Building Regulations and Enforcement, and City Engineer","LEVS:AH:NIF:BUILD & OTHER STRUCT:PL","PO001002002001003002002002_04862","Corrective Maintenance","An efficient, competitive and responsive economic infrastructure network","Inclusion and access","Improved state of Municipal Infrastructure","Housing","Social Housing","Whole of the Municipality","17","-21",null,null,450000,477000,505620]
["Water Distribution","WATR:AH:INF:METERS BULK:PL","PO001001001001007003001_00001","Preventative Maintenance","An efficient, competitive and responsive economic infrastructure network","Inclusion and access","Improved state of Municipal Infrastructure","Water Supply Infrastructure","Bulk Mains","Administrative or Head Office (Including Satellite Offices)","-16.35","12.25"]
["Water Distribution","WATR:AH:INF:METERS BULK:PL","PO001001001001007003001_00490","Preventative Maintenance","An efficient, competitive and responsive economic infrastructure network","Inclusion and access","Improved state of Municipal Infrastructure","Water Supply Infrastructure","Bulk Mains","Whole of the Municipality","17","-21",null,100000]
["Water Distribution","WATR:AH:INF:METERS BULK","PO001001001002007003001_00001","Preventative Maintenance","An efficient, competitive and responsive economic infrastructure network","Inclusion and access","Improved state of Municipal Infrastructure","Water Supply Infrastructure","Bulk Mains","Administrative or Head Office (Including Satellite Offices)","-16.35","12.25"]
["Water Distribution","WATR:AH:INF:METERS BULK","PO001001001002007003001_01097","Preventative Maintenance","An efficient, competitive and responsive economic infrastructure network","Inclusion and access","Improved state of Municipal Infrastructure","Water Supply Infrastructure","Bulk Mains","Whole of the Municipality","17","-21",null,null,1000000,1100000,1210000]
["Water Distribution","WATR:AH:INF:BULK WATER RETIC:PL","PO001001002001007004002_03479","Corrective Maintenance","An efficient, competitive and responsive economic infrastructure network","Inclusion and access","Improved state of Municipal Infrastructure","Water Supply Infrastructure","Distribution","Administrative or Head Office (Including Satellite Offices),Whole of the Municipality,...","17","-21",null,8500000,19000000,20900000,22990000]
["Water Distribution","WATR:AH:INF:BULK WATER RETIC:UPL","PO001001002001007004002_04637","Corrective Maintenance","An efficient, competitive and responsive economic infrastructure network","Inclusion and access","Improved state of Municipal Infrastructure","Water Supply Infrastructure","Distribution","Administrative or Head Office (Including Satellite Offices),Whole of the Municipality,...","17","-21",null,15125000,18080000,19888000,21876800]
["Water Distribution","WATR:AH:NIF:TRANSPORT ASSETS:PL","PO001002001001010_03478","Preventative Maintenance","An efficient, competitive and responsive economic infrastructure network","Inclusion and access","Improved state of Municipal Infrastructure","Interval Based","Transport Assets","Administrative or Head Office (Including Satellite Offices),Whole of the Municipality,...","17","-21",null,100000,200000,220000,242000]
["Water Distribution","WATR:AH:NIF:TRANSPORT ASSETS:PL","PO001002001001010_03480","Preventative Maintenance","An efficient, competitive and responsive economic infrastructure network","Inclusion and access","Improved state of Municipal Infrastructure","Interval Based","Transport Assets","Administrative or Head Office (Including Satellite Offices),Whole of the Municipality,...","17","-21",null,1100000,10000000,11000000,12100000]
["Water Distribution","WATR:AH:NIF:TRANSPORT ASSETS:PL","PO001002001001010_03481","Preventative Maintenance","An efficient, competitive and responsive economic infrastructure network","Inclusion and access","Improved state of Municipal Infrastructure","Interval Based","Transport Assets","Administrative or Head Office (Including Satellite Offices),Whole of the Municipality,...","17","-21",null,115000,20000,24000,30000]
["Water Distribution","WATR:AH:NIF:TRANSPORT ASSETS:UPL","PO001002001001010_04639","Preventative Maintenance","An efficient, competitive and responsive economic infrastructure network","Inclusion and access","Improved state of Municipal Infrastructure","Interval Based","Transport Assets","Administrative or Head Office (Including Satellite Offices),Whole of the Municipality,...","17","-21",null,2000000,700000,770000,847000]
["Water Distribution","Municipal running costs","PO002"," ","An efficient, competitive and responsive economic infrastructure network","Inclusion and access","Improved state of Municipal Infrastructure"," "," ","Administrative or Head Office (Including Satellite Offices),Whole of the Municipality,...","17","-21",6873853701,6756488624,7618896825,8055267410,8407831321]
["Water Distribution","RBIG:ZA:FEASIBILITY STUDY","PO003044006_05565","Work Streams","An efficient, competitive and responsive economic infrastructure network","Inclusion and access","Increased Provision of Municipal Services"," "," ","Whole of the Municipality","17","-21",null,18185791]
["Water Distribution","MSU1/O/504787.G71.Z06","PO003044006_05567","Work Streams","An efficient, competitive and responsive economic infrastructure network","Inclusion and access","Increased Provision of Municipal Services"," "," ","Whole of the Municipality","17","-21",null,568675]
["Water Distribution","MSU1/O/504787.G73.Z06","PO003044006_05568","Work Streams","An efficient, competitive and responsive economic infrastructure network","Inclusion and access","Increased Provision of Municipal Services"," "," ","Whole of the Municipality","17","-21",null,10047790]
["Z ???","EQSA:ZA:IFREE SERVICES:ELECTRICITY","PO003057001"," ","An efficient, competitive and responsive economic infrastructure network","Inclusion and access","Improved state of Municipal Infrastructure"," "," "," ","17","-21"]
["Z ???","EQSA:ZA:IFREE SERVICES:WASTE WATER","PO003057002"," ","An efficient, competitive and responsive economic infrastructure network","Inclusion and access","Improved state of Municipal Infrastructure"," "," "," ","17","-21"]
["Z ???","EQBS:ZA:IFREE SERVICES:WASTE MGMT","PO003057003"," ","An efficient, competitive and responsive economic infrastructure network","Inclusion and access","Improved state of Municipal Infrastructure"," "," "," ","17","-21"]
["Z ???","EQSA:ZA:IFREE SERVICES:WATER","PO003057004"," ","An efficient, competitive and responsive economic infrastructure network","Inclusion and access","Improved state of Municipal Infrastructure"," "," "," ","17","-21"]
["Z ???","LEVS:ZA:IRATES REBATE:INDIGENT OWNERS","PO003059002"," ","An efficient, competitive and responsive economic infrastructure network","Inclusion and access","Improved state of Municipal Infrastructure"," "," "," ","17","-21"]

{"sheet":"LGDB_EXPORT","index":65,"n_rows":2876,"n_cols":23,"rows_kept":2876,"cut":false,"hidden":false,"merged":[]}
["FORM","YEAR END","MUNCDE","ITEMCODE","SEQ","DESCRIPTION",null,null,null,null,null,null,null,null,null,null,null,null,null,null,null,null,"~"]
["BSD",{"$f":"+MTREF","v":2025},{"$f":"LEFT(muni,(FIND(\" \",muni,1)-1))","v":"Choose"},"1000",1,"Household service targets (000)",null,null,null,null,null,null,null,null,null,null,null,null,null,null,null,null,"~"]
["BSD",2025,"Choose","1100",2,"Water:",null,null,null,null,null,null,null,null,null,null,null,null,null,null,null,null,"~"]
["BSD",2025,"Choose","1101",3,"Piped water inside dwelling",null,null,null,null,null,null,null,null,null,null,null,null,null,null,null,null,"~"]
["BSD",2025,"Choose","1102",4,"Piped water inside yard (but not in dwelling)",null,null,null,null,null,null,null,null,null,null,null,null,null,null,null,null,"~"]
["BSD",2025,"Choose","1103",5,"Using public tap (at least min.service level)",null,null,null,null,null,null,null,null,null,null,null,null,null,null,null,null,"~"]
["BSD",2025,"Choose","1104",6,"Other water supply (at least min.service level)",null,null,null,null,null,null,null,null,null,null,null,null,null,null,null,null,"~"]
["BSD",2025,"Choose","1105",7,"Minimum Service Level and Above sub-total",null,null,null,null,null,null,null,null,null,null,null,null,null,null,null,null,"~"]
["BSD",2025,"Choose","1106",8,"Using public tap (< min.service level)",null,null,null,null,null,null,null,null,null,null,null,null,null,null,null,null,"~"]
["BSD",2025,"Choose","1107",9,"Other water supply (< min.service level)",null,null,null,null,null,null,null,null,null,null,null,null,null,null,null,null,"~"]
["BSD",2025,"Choose","1108",10,"No water supply",null,null,null,null,null,null,null,null,null,null,null,null,null,null,null,null,"~"]
["BSD",2025,"Choose","1109",11,"Below Minimum Service Level sub-total",null,null,null,null,null,null,null,null,null,null,null,null,null,null,null,null,"~"]
["BSD",2025,"Choose","1110",12,"Total number of households",null,null,null,null,null,null,null,null,null,null,null,null,null,null,null,null,"~"]
["BSD",2025,"Choose","1200",13,"Sanitation/sewerage:",null,null,null,null,null,null,null,null,null,null,null,null,null,null,null,null,"~"]
["BSD",2025,"Choose","1201",14,"Flush toilet (connected to sewerage)",null,null,null,null,null,null,null,null,null,null,null,null,null,null,null,null,"~"]
["BSD",2025,"Choose","1202",15,"Flush toilet (with septic tank)",null,null,null,null,null,null,null,null,null,null,null,null,null,null,null,null,"~"]
["BSD",2025,"Choose","1203",16,"Chemical toilet",null,null,null,null,null,null,null,null,null,null,null,null,null,null,null,null,"~"]
["BSD",2025,"Choose","1204",17,"Pit toilet (ventilated)",null,null,null,null,null,null,null,null,null,null,null,null,null,null,null,null,"~"]
["BSD",2025,"Choose","1205",18,"Other toilet provisions (> min.service level)",null,null,null,null,null,null,null,null,null,null,null,null,null,null,null,null,"~"]
["BSD",2025,"Choose","1206",19,"Minimum Service Level and Above sub-total",null,null,null,null,null,null,null,null,null,null,null,null,null,null,null,null,"~"]
["BSD",2025,"Choose","1207",20,"Bucket toilet",null,null,null,null,null,null,null,null,null,null,null,null,null,null,null,null,"~"]
["BSD",2025,"Choose","1208",21,"Other toilet provisions (< min.service level)",null,null,null,null,null,null,null,null,null,null,null,null,null,null,null,null,"~"]
["BSD",2025,"Choose","1209",22,"No toilet provisions",null,null,null,null,null,null,null,null,null,null,null,null,null,null,null,null,"~"]
["BSD",2025,"Choose","1210",23,"Below Minimum Service Level sub-total",null,null,null,null,null,null,null,null,null,null,null,null,null,null,null,null,"~"]
["BSD",2025,"Choose","1211",24,"Total number of households",null,null,null,null,null,null,null,null,null,null,null,null,null,null,null,null,"~"]
["BSD",2025,"Choose","1300",25,"Energy:",null,null,null,null,null,null,null,null,null,null,null,null,null,null,null,null,"~"]
["BSD",2025,"Choose","1301",26,"Electricity (at least min.service level)",null,null,null,null,null,null,null,null,null,null,null,null,null,null,null,null,"~"]
["BSD",2025,"Choose","1302",27,"Electricity - prepaid (min.service level)",null,null,null,null,null,null,null,null,null,null,null,null,null,null,null,null,"~"]
["BSD",2025,"Choose","1303",28,"Minimum Service Level and Above sub-total",null,null,null,null,null,null,null,null,null,null,null,null,null,null,null,null,"~"]
["BSD",2025,"Choose","1304",29,"Electricity (< min.service level)",null,null,null,null,null,null,null,null,null,null,null,null,null,null,null,null,"~"]
["BSD",2025,"Choose","1305",30,"Electricity - prepaid (< min. service level)",null,null,null,null,null,null,null,null,null,null,null,null,null,null,null,null,"~"]
["BSD",2025,"Choose","1306",31,"Other energy sources",null,null,null,null,null,null,null,null,null,null,null,null,null,null,null,null,"~"]
["BSD",2025,"Choose","1307",32,"Below Minimum Service Level sub-total",null,null,null,null,null,null,null,null,null,null,null,null,null,null,null,null,"~"]
["BSD",2025,"Choose","1308",33,"Total number of households",null,null,null,null,null,null,null,null,null,null,null,null,null,null,null,null,"~"]
["BSD",2025,"Choose","1400",34,"Refuse:",null,null,null,null,null,null,null,null,null,null,null,null,null,null,null,null,"~"]
["BSD",2025,"Choose","1401",35,"Removed at least once a week",null,null,null,null,null,null,null,null,null,null,null,null,null,null,null,null,"~"]
["BSD",2025,"Choose","1402",36,"Minimum Service Level and Above sub-total",null,null,null,null,null,null,null,null,null,null,null,null,null,null,null,null,"~"]
["BSD",2025,"Choose","1403",37,"Removed less frequently than once a week",null,null,null,null,null,null,null,null,null,null,null,null,null,null,null,null,"~"]
["BSD",2025,"Choose","1404",38,"Using communal refuse dump",null,null,null,null,null,null,null,null,null,null,null,null,null,null,null,null,"~"]
["BSD",2025,"Choose","1405",39,"Using own refuse dump",null,null,null,null,null,null,null,null,null,null,null,null,null,null,null,null,"~"]
["BSD",2025,"Choose","1406",40,"Other rubbish disposal",null,null,null,null,null,null,null,null,null,null,null,null,null,null,null,null,"~"]
["BSD",2025,"Choose","1407",41,"No rubbish disposal",null,null,null,null,null,null,null,null,null,null,null,null,null,null,null,null,"~"]
["BSD",2025,"Choose","1408",42,"Below Minimum Service Level sub-total",null,null,null,null,null,null,null,null,null,null,null,null,null,null,null,null,"~"]
["BSD",2025,"Choose","1409",43,"Total number of households",null,null,null,null,null,null,null,null,null,null,null,null,null,null,null,null,"~"]
["BSD",2025,"Choose",null,null,null,null,null,null,null,null,null,null,null,null,null,null,null,null,null,null,null,"~"]
["BSD",2025,"Choose","1500",45,"Households receiving Free Basic Service",null,null,null,null,null,null,null,null,null,null,null,null,null,null,null,null,"~"]
["BSD",2025,"Choose","1501",46,"Water (6 kilolitres per household per month)",null,null,null,null,null,null,null,null,null,null,null,null,null,null,null,null,"~"]
["BSD",2025,"Choose","1502",47,"Sanitation (free minimum level service)",null,null,null,null,null,null,null,null,null,null,null,null,null,null,null,null,"~"]
["BSD",2025,"Choose","1503",48,"Electricity/other energy (50kwh per household per month)",null,null,null,null,null,null,null,null,null,null,null,null,null,null,null,null,"~"]
["BSD",2025,"Choose","1504",49,"Refuse (removed at least once a week)",null,null,null,null,null,null,null,null,null,null,null,null,null,null,null,null,"~"]
["BSD",2025,"Choose",null,null,null,null,null,null,null,null,null,null,null,null,null,null,null,null,null,null,null,"~"]
["BSD",2025,"Choose","1600",51,"Cost of Free Basic Services provided - Formal Settlements (R'000)",null,null,null,null,null,null,null,null,null,null,null,null,null,null,null,null,"~"]
["BSD",2025,"Choose","1601",52,"Water (6 kilolitres per indigent household per month)",null,null,null,null,null,null,null,null,null,null,null,null,null,null,null,null,"~"]
["BSD",2025,"Choose","1602",53,"Sanitation (free sanitation service to indigent households)",null,null,null,null,null,null,null,null,null,null,null,null,null,null,null,null,"~"]
["BSD",2025,"Choose","1603",54,"Electricity/other energy (50kwh per indigent household per month)",null,null,null,null,null,null,null,null,null,null,null,null,null,null,null,null,"~"]
["BSD",2025,"Choose","1604",55,"Refuse (removed once a week for indigent households)",null,null,null,null,null,null,null,null,null,null,null,null,null,null,null,null,"~"]
["BSD",2025,"Choose",1606,56,"Cost of Free Basic Services provided - Informal Formal Settlements (R'000)",null,null,null,null,null,null,null,null,null,null,null,null,null,null,null,null,"~"]
["BSD",2025,"Choose",1607,57,"Total cost of FBS provided  ",null,null,null,null,null,null,null,null,null,null,null,null,null,null,null,null,"~"]
["BSD",2025,"Choose",null,null,null,null,null,null,null,null,null,null,null,null,null,null,null,null,null,null,null,"~"]
["BSD",2025,"Choose","1700",58,"Highest level of free service provided per household",null,null,null,null,null,null,null,null,null,null,null,null,null,null,null,null,"~"]
["BSD",2025,"Choose","1701",59,"Property rates (R value threshold)",null,null,null,null,null,null,null,null,null,null,null,null,null,null,null,null,"~"]
["BSD",2025,"Choose","1702",60,"Water (kilolitres per household per month)",null,null,null,null,null,null,null,null,null,null,null,null,null,null,null,null,"~"]
["BSD",2025,"Choose","1703",61,"Sanitation (kilolitres per household per month)",null,null,null,null,null,null,null,null,null,null,null,null,null,null,null,null,"~"]
["BSD",2025,"Choose","1704",62,"Sanitation (Rand per household per month)",null,null,null,null,null,null,null,null,null,null,null,null,null,null,null,null,"~"]
["BSD",2025,"Choose","1705",63,"Electricity (kwh per household per month)",null,null,null,null,null,null,null,null,null,null,null,null,null,null,null,null,"~"]
["BSD",{"$f":"+MTREF","v":2025},{"$f":"LEFT(muni,(FIND(\" \",muni,1)-1))","v":"Choose"},"1706",64,"Refuse (average litres per week)",null,null,null,null,null,null,null,null,null,null,null,null,null,null,null,null,"~"]
["BSD",2025,"Choose","1707",65,"Revenue  cost of subsidised services provided (R'000)",null,null,null,null,null,null,null,null,null,null,null,null,null,null,null,null,"~"]
["BSD",2025,"Choose","1708",66,"Property rates (tariff adjustment) ( impermissable values per section 17 of MPRA)",null,null,null,null,null,null,null,null,null,null,null,null,null,null,null,null,"~"]
["BSD",2025,"Choose","1709",67,"Property rates  exemptions, reductions and rebates and impermissable values in excess of section 17 of MPRA)",null,null,null,null,null,null,null,null,null,null,null,null,null,null,null,null,"~"]
["BSD",2025,"Choose","1710",68,"Water (in excess of 6 kilolitres per indigent household per month)",null,null,null,null,null,null,null,null,null,null,null,null,null,null,null,null,"~"]
["BSD",2025,"Choose","1711",69,"Sanitation (in excess of free sanitation service to indigent households)",null,null,null,null,null,null,null,null,null,null,null,null,null,null,null,null,"~"]
["BSD",2025,"Choose","1712",70,"Electricity/other energy (in excess of 50 kwh per indigent household per month)",null,null,null,null,null,null,null,null,null,null,null,null,null,null,null,null,"~"]
["BSD",2025,"Choose","1713",71,"Refuse (in excess of one removal a week for indigent households)",null,null,null,null,null,null,null,null,null,null,null,null,null,null,null,null,"~"]
["BSD",2025,"Choose","1714",72,"Municipal Housing - rental rebates",null,null,null,null,null,null,null,null,null,null,null,null,null,null,null,null,"~"]
["BSD",2025,"Choose","1715",73,"Housing - top structure subsidies",null,null,null,null,null,null,null,null,null,null,null,null,null,null,null,null,"~"]
["BSD",2025,"Choose","1716",74,"Other",null,null,null,null,null,null,null,null,null,null,null,null,null,null,null,null,"~"]
["BSD",2025,"Choose","1717",75,"Total revenue cost of subsidised services provided ",null,null,null,null,null,null,null,null,null,null,null,null,null,null,null,null,"~"]
["SA11",2025,"Choose",1000,"T","Valuation:",null,null,null,null,null,null,null,null,null,null,null,null,null,null,null,null,"~"]
["SA11",2025,"Choose",1001,"T","Date of valuation:",null,null,null,null,null,null,null,null,null,null,null,null,null,null,null,null,"~"]
["SA11",2025,"Choose",1002,"T","Financial year valuation used",null,null,null,null,null,null,null,null,null,null,null,null,null,null,null,null,"~"]
["SA11",2025,"Choose",1003,"T","Municipal by-laws s6 in place? (Y/N)",null,null,null,null,null,null,null,null,null,null,null,null,null,null,null,null,"~"]
["SA11",2025,"Choose",1004,"T","Municipal/assistant valuer appointed? (Y/N)",null,null,null,null,null,null,null,null,null,null,null,null,null,null,null,null,"~"]
["SA11",2025,"Choose",1005,"T","Municipal partnership s38 used? (Y/N)",null,null,null,null,null,null,null,null,null,null,null,null,null,null,null,null,"~"]
["SA11",2025,"Choose",1006,"V","No. of assistant valuers (FTE)",null,null,null,null,null,null,null,null,null,null,null,null,null,null,null,null,"~"]
["SA11",2025,"Choose",1007,"V","No. of data collectors (FTE)",null,null,null,null,null,null,null,null,null,null,null,null,null,null,null,null,"~"]
["SA11",2025,"Choose",1008,"V","No. of internal valuers (FTE)",null,null,null,null,null,null,null,null,null,null,null,null,null,null,null,null,"~"]
["SA11",2025,"Choose",1009,"V","No. of external valuers (FTE)",null,null,null,null,null,null,null,null,null,null,null,null,null,null,null,null,"~"]
["SA11",2025,"Choose",1010,"V","No. of additional valuers (FTE)",null,null,null,null,null,null,null,null,null,null,null,null,null,null,null,null,"~"]
["SA11",2025,"Choose",1011,"T","Valuation appeal board established? (Y/N)",null,null,null,null,null,null,null,null,null,null,null,null,null,null,null,null,"~"]
["SA11",2025,"Choose",1012,"V","Implementation time of new valuation roll (mths)",null,null,null,null,null,null,null,null,null,null,null,null,null,null,null,null,"~"]
["SA11",2025,"Choose",1020,"V","No. of properties",null,null,null,null,null,null,null,null,null,null,null,null,null,null,null,null,"~"]
["SA11",2025,"Choose",1021,"V","No. of sectional title values",null,null,null,null,null,null,null,null,null,null,null,null,null,null,null,null,"~"]
["SA11",2025,"Choose",1022,"V","No. of unreasonably difficult properties s7(2)",null,null,null,null,null,null,null,null,null,null,null,null,null,null,null,null,"~"]
["SA11",2025,"Choose",1023,"V","No. of supplementary valuations",null,null,null,null,null,null,null,null,null,null,null,null,null,null,null,null,"~"]
["SA11",2025,"Choose",1024,"V","No. of valuation roll amendments",null,null,null,null,null,null,null,null,null,null,null,null,null,null,null,null,"~"]
["SA11",2025,"Choose",1025,"V","No. of objections by rate payers",null,null,null,null,null,null,null,null,null,null,null,null,null,null,null,null,"~"]
["SA11",2025,"Choose",1026,"V","No. of appeals by rate payers",null,null,null,null,null,null,null,null,null,null,null,null,null,null,null,null,"~"]
["SA11",2025,"Choose",1028,"V","No. of successful objections",null,null,null,null,null,null,null,null,null,null,null,null,null,null,null,null,"~"]
["SA11",2025,"Choose",1029,"V","No. of successful objections > 10%",null,null,null,null,null,null,null,null,null,null,null,null,null,null,null,null,"~"]
["SA11",2025,"Choose",1030,"V","Supplementary valuation",null,null,null,null,null,null,null,null,null,null,null,null,null,null,null,null,"~"]
["SA11",2025,"Choose",1031,"V","Public service infrastructure value ",null,null,null,null,null,null,null,null,null,null,null,null,null,null,null,null,"~"]
["SA11",2025,"Choose",1032,"V","Municipality owned property value ",null,null,null,null,null,null,null,null,null,null,null,null,null,null,null,null,"~"]
["SA11",2025,"Choose",1100,"T","Valuation reductions:",null,null,null,null,null,null,null,null,null,null,null,null,null,null,null,null,"~"]
["SA11",2025,"Choose",1101,"V","Valuation reductions-public infrastructure",null,null,null,null,null,null,null,null,null,null,null,null,null,null,null,null,"~"]
["SA11",2025,"Choose",1102,"V","Valuation reductions-nature reserves/park",null,null,null,null,null,null,null,null,null,null,null,null,null,null,null,null,"~"]
["SA11",2025,"Choose",1103,"V","Valuation reductions-mineral rights",null,null,null,null,null,null,null,null,null,null,null,null,null,null,null,null,"~"]
["SA11",2025,"Choose",1104,"V","Valuation reductions-R15,000 threshold",null,null,null,null,null,null,null,null,null,null,null,null,null,null,null,null,"~"]
["SA11",2025,"Choose",1105,"V","Valuation reductions-public worship ",null,null,null,null,null,null,null,null,null,null,null,null,null,null,null,null,"~"]
["SA11",2025,"Choose",1106,"V","Valuation reductions-other",null,null,null,null,null,null,null,null,null,null,null,null,null,null,null,null,"~"]
["SA11",2025,"Choose",1107,"V","Total valuation reductions:",null,null,null,null,null,null,null,null,null,null,null,null,null,null,null,null,"~"]
["SA11",2025,"Choose",1108,"V","Total value used for rating",null,null,null,null,null,null,null,null,null,null,null,null,null,null,null,null,"~"]
["SA11",2025,"Choose",1109,"V","Total land value ",null,null,null,null,null,null,null,null,null,null,null,null,null,null,null,null,"~"]
["SA11",2025,"Choose",1110,"V","Total value of improvements",null,null,null,null,null,null,null,null,null,null,null,null,null,null,null,null,"~"]
["SA11",2025,"Choose",1111,"V","Total market value",null,null,null,null,null,null,null,null,null,null,null,null,null,null,null,null,"~"]
["SA11",2025,"Choose",null,null,null,null,null,null,null,null,null,null,null,null,null,null,null,null,null,null,null,"~"]
["SA11",2025,"Choose",1200,"T","Rating:",null,null,null,null,null,null,null,null,null,null,null,null,null,null,null,null,"~"]
["SA11",2025,"Choose",1202,"T","Residential rate used to determine rate for other categories? (Y/N)",null,null,null,null,null,null,null,null,null,null,null,null,null,null,null,null,"~"]
["SA11",2025,"Choose",1203,"T","Differential rates used? (Y/N)",null,null,null,null,null,null,null,null,null,null,null,null,null,null,null,null,"~"]
["SA11",2025,"Choose",1204,"T","Limit on annual rate increase (s20)? (Y/N)",null,null,null,null,null,null,null,null,null,null,null,null,null,null,null,null,"~"]
["SA11",2025,"Choose",1205,"T","Special rating area used? (Y/N)",null,null,null,null,null,null,null,null,null,null,null,null,null,null,null,null,"~"]
["SA11",2025,"Choose",1206,"V","Phasing-in properties s21 (number)",null,null,null,null,null,null,null,null,null,null,null,null,null,null,null,null,"~"]
["SA11",2025,"Choose",1207,"T","Rates policy accompanying budget? (Y/N)",null,null,null,null,null,null,null,null,null,null,null,null,null,null,null,null,"~"]
["SA11",2025,"Choose",1208,"V","Fixed amount minimum value",null,null,null,null,null,null,null,null,null,null,null,null,null,null,null,null,"~"]
["SA11",2025,"Choose",1209,"P","Non-residential prescribed ratio s19? (%)",null,null,null,null,null,null,null,null,null,null,null,null,null,null,null,null,"~"]
["SA11",2025,"Choose",null,null,null,null,null,null,null,null,null,null,null,null,null,null,null,null,null,null,null,"~"]
["SA11",2025,"Choose",1300,"T","Rate revenue:",null,null,null,null,null,null,null,null,null,null,null,null,null,null,null,null,"~"]
["SA11",2025,"Choose",1301,"V","Rate revenue budget ",null,null,null,null,null,null,null,null,null,null,null,null,null,null,null,null,"~"]
["SA11",2025,"Choose",1302,"V","Rate revenue expected to collect",null,null,null,null,null,null,null,null,null,null,null,null,null,null,null,null,"~"]
["SA11",2025,"Choose",1303,"P","Expected cash collection rate (%)",null,null,null,null,null,null,null,null,null,null,null,null,null,null,null,null,"~"]
["SA11",{"$f":"+MTREF","v":2025},{"$f":"LEFT(muni,(FIND(\" \",muni,1)-1))","v":"Choose"},1304,"V","Special rating areas",null,null,null,null,null,null,null,null,null,null,null,null,null,null,null,null,"~"]
["SA11",2025,"Choose",1305,"V","Rebates, exemptions - indigent",null,null,null,null,null,null,null,null,null,null,null,null,null,null,null,null,"~"]
["SA11",2025,"Choose",1306,"V","Rebates, exemptions - pensioners",null,null,null,null,null,null,null,null,null,null,null,null,null,null,null,null,"~"]
["SA11",2025,"Choose",1307,"V","Rebates, exemptions - bona fide farm",null,null,null,null,null,null,null,null,null,null,null,null,null,null,null,null,"~"]
["SA11",2025,"Choose",1308,"V","Rebates, exemptions - other",null,null,null,null,null,null,null,null,null,null,null,null,null,null,null,null,"~"]
["SA11",2025,"Choose",1309,"V","Phase-in reductions/discounts",null,null,null,null,null,null,null,null,null,null,null,null,null,null,null,null,"~"]
["SA11",2025,"Choose",1310,"V","Total rebates,exemptns,reductns,discs",null,null,null,null,null,null,null,null,null,null,null,null,null,null,null,null,"~"]
["SA12",2025,"Choose",1000,"T","Valuation:",null,null,null,null,null,null,null,null,null,null,null,null,null,null,null,null,"~"]
["SA12",2025,"Choose",1020,"V","No. of properties",null,null,null,null,null,null,null,null,null,null,null,null,null,null,null,null,"~"]
["SA12",2025,"Choose",1021,"V","No. of sectional title property values",null,null,null,null,null,null,null,null,null,null,null,null,null,null,null,null,"~"]
["SA12",2025,"Choose",1022,"V","No. of unreasonably difficult properties s7(2)",null,null,null,null,null,null,null,null,null,null,null,null,null,null,null,null,"~"]
["SA12",2025,"Choose",1023,"V","No. of supplementary valuations",null,null,null,null,null,null,null,null,null,null,null,null,null,null,null,null,"~"]
["SA12",2025,"Choose",1030,"V","Supplementary valuation ",null,null,null,null,null,null,null,null,null,null,null,null,null,null,null,null,"~"]
["SA12",2025,"Choose",1024,"V","No. of valuation roll amendments",null,null,null,null,null,null,null,null,null,null,null,null,null,null,null,null,"~"]
["SA12",2025,"Choose",1025,"V","No. of objections by rate-payers",null,null,null,null,null,null,null,null,null,null,null,null,null,null,null,null,"~"]
["SA12",2025,"Choose",1026,"V","No. of appeals by rate-payers",null,null,null,null,null,null,null,null,null,null,null,null,null,null,null,null,"~"]
["SA12",2025,"Choose",1027,"V","No. of appeals by rate-payers finalised",null,null,null,null,null,null,null,null,null,null,null,null,null,null,null,null,"~"]
["SA12",2025,"Choose",1028,"V","No. of successful objections",null,null,null,null,null,null,null,null,null,null,null,null,null,null,null,null,"~"]
["SA12",2025,"Choose",1029,"V","No. of successful objections > 10%",null,null,null,null,null,null,null,null,null,null,null,null,null,null,null,null,"~"]
["SA12",2025,"Choose",1040,"V","Estimated no. of properties not valued",null,null,null,null,null,null,null,null,null,null,null,null,null,null,null,null,"~"]
["SA12",2025,"Choose",1041,"T","Years since last valuation",null,null,null,null,null,null,null,null,null,null,null,null,null,null,null,null,"~"]
["SA12",2025,"Choose",1042,"T","Frequency of valuation ",null,null,null,null,null,null,null,null,null,null,null,null,null,null,null,null,"~"]
["SA12",2025,"Choose",1043,"T","Method of valuation used",null,null,null,null,null,null,null,null,null,null,null,null,null,null,null,null,"~"]
["SA12",2025,"Choose",1044,"T","Base of valuation",null,null,null,null,null,null,null,null,null,null,null,null,null,null,null,null,"~"]
["SA12",2025,"Choose",1206,"V","Phasing-in properties s21 (number)",null,null,null,null,null,null,null,null,null,null,null,null,null,null,null,null,"~"]
["SA12",2025,"Choose",1046,"T","Combination of rating types used? (Y/N)",null,null,null,null,null,null,null,null,null,null,null,null,null,null,null,null,"~"]
["SA12",2025,"Choose",1047,"T","Flat rate used? (Y/N)",null,null,null,null,null,null,null,null,null,null,null,null,null,null,null,null,"~"]
["SA12",2025,"Choose",1048,"T","Is balance rated by uniform rate/variable rate?",null,null,null,null,null,null,null,null,null,null,null,null,null,null,null,null,"~"]
["SA12",2025,"Choose",1100,"T","Valuation reductions:",null,null,null,null,null,null,null,null,null,null,null,null,null,null,null,null,"~"]
["SA12",2025,"Choose",1101,"V","Valuation reductions-public infrastructure",null,null,null,null,null,null,null,null,null,null,null,null,null,null,null,null,"~"]
["SA12",2025,"Choose",1102,"V","Valuation reductions-nature reserves/park",null,null,null,null,null,null,null,null,null,null,null,null,null,null,null,null,"~"]
["SA12",2025,"Choose",1103,"V","Valuation reductions-mineral rights",null,null,null,null,null,null,null,null,null,null,null,null,null,null,null,null,"~"]
["SA12",2025,"Choose",1104,"V","Valuation reductions-R15,000 threshold ",null,null,null,null,null,null,null,null,null,null,null,null,null,null,null,null,"~"]
["SA12",2025,"Choose",1105,"V","Valuation reductions-public worship",null,null,null,null,null,null,null,null,null,null,null,null,null,null,null,null,"~"]
["SA12",2025,"Choose",1106,"V","Valuation reductions-other",null,null,null,null,null,null,null,null,null,null,null,null,null,null,null,null,"~"]
["SA12",2025,"Choose",1107,"V","Total valuation reductions:",null,null,null,null,null,null,null,null,null,null,null,null,null,null,null,null,"~"]
["SA12",2025,"Choose",1108,"V","Total value used for rating",null,null,null,null,null,null,null,null,null,null,null,null,null,null,null,null,"~"]
["SA12",2025,"Choose",1109,"V","Total land value ",null,null,null,null,null,null,null,null,null,null,null,null,null,null,null,null,"~"]
["SA12",2025,"Choose",1110,"V","Total value of improvements",null,null,null,null,null,null,null,null,null,null,null,null,null,null,null,null,"~"]
["SA12",2025,"Choose",1111,"V","Total market value ",null,null,null,null,null,null,null,null,null,null,null,null,null,null,null,null,"~"]
["SA12",2025,"Choose",1200,"T","Rating:",null,null,null,null,null,null,null,null,null,null,null,null,null,null,null,null,"~"]
["SA12",2025,"Choose",1201,"V","Average rate",null,null,null,null,null,null,null,null,null,null,null,null,null,null,null,null,"~"]
["SA12",2025,"Choose",1301,"V","Rate revenue budget ",null,null,null,null,null,null,null,null,null,null,null,null,null,null,null,null,"~"]
["SA12",2025,"Choose",1302,"V","Rate revenue expected to collect",null,null,null,null,null,null,null,null,null,null,null,null,null,null,null,null,"~"]
["SA12",2025,"Choose",1303,"P","Expected cash collection rate (%)",null,null,null,null,null,null,null,null,null,null,null,null,null,null,null,null,"~"]
["SA12",2025,"Choose",1304,"V","Special rating areas",null,null,null,null,null,null,null,null,null,null,null,null,null,null,null,null,"~"]
["SA12",2025,"Choose",1305,"V","Rebates, exemptions - indigent",null,null,null,null,null,null,null,null,null,null,null,null,null,null,null,null,"~"]
["SA12",2025,"Choose",1306,"V","Rebates, exemptions - pensioners",null,null,null,null,null,null,null,null,null,null,null,null,null,null,null,null,"~"]
["SA12",2025,"Choose",1307,"V","Rebates, exemptions - bona fide farm. ",null,null,null,null,null,null,null,null,null,null,null,null,null,null,null,null,"~"]
["SA12",2025,"Choose",1308,"V","Rebates, exemptions - other ",null,null,null,null,null,null,null,null,null,null,null,null,null,null,null,null,"~"]
["SA12",2025,"Choose",1309,"V","Phase-in reductions/discounts ",null,null,null,null,null,null,null,null,null,null,null,null,null,null,null,null,"~"]
["SA12",2025,"Choose",1310,"V","Total rebates,exemptns,reductns,discs",null,null,null,null,null,null,null,null,null,null,null,null,null,null,null,null,"~"]
["SA12",2025,"Choose",null,null,null,null,null,null,null,null,null,null,null,null,null,null,null,null,null,null,null,"~"]
["SA12",2025,"Choose",null,null,null,null,null,null,null,null,null,null,null,null,null,null,null,null,null,null,null,"~"]
["SA12",2025,"Choose",null,null,null,null,null,null,null,null,null,null,null,null,null,null,null,null,null,null,null,"~"]
["SA12",2025,"Choose",null,null,null,null,null,null,null,null,null,null,null,null,null,null,null,null,null,null,null,"~"]
["SA12",2025,"Choose",1000,"T","Valuation:",null,null,null,null,null,null,null,null,null,null,null,null,null,null,null,null,"~"]
["SA12",2025,"Choose",1020,"V","No. of properties",null,null,null,null,null,null,null,null,null,null,null,null,null,null,null,null,"~"]
["SA12",2025,"Choose",1021,"V","No. of sectional title property values",null,null,null,null,null,null,null,null,null,null,null,null,null,null,null,null,"~"]
["SA12",2025,"Choose",1022,"V","No. of unreasonably difficult properties s7(2)",null,null,null,null,null,null,null,null,null,null,null,null,null,null,null,null,"~"]
["SA12",2025,"Choose",1023,"V","No. of supplementary valuations",null,null,null,null,null,null,null,null,null,null,null,null,null,null,null,null,"~"]
["SA12",2025,"Choose",1030,"V","Supplementary valuation ",null,null,null,null,null,null,null,null,null,null,null,null,null,null,null,null,"~"]
["SA12",2025,"Choose",1024,"V","No. of valuation roll amendments",null,null,null,null,null,null,null,null,null,null,null,null,null,null,null,null,"~"]
["SA12",2025,"Choose",1025,"V","No. of objections by rate-payers",null,null,null,null,null,null,null,null,null,null,null,null,null,null,null,null,"~"]
["SA12",{"$f":"+MTREF","v":2025},{"$f":"LEFT(muni,(FIND(\" \",muni,1)-1))","v":"Choose"},1026,"V","No. of appeals by rate-payers",null,null,null,null,null,null,null,null,null,null,null,null,null,null,null,null,"~"]
["SA12",2025,"Choose",1027,"V","No. of appeals by rate-payers finalised",null,null,null,null,null,null,null,null,null,null,null,null,null,null,null,null,"~"]
["SA12",2025,"Choose",1028,"V","No. of successful objections",null,null,null,null,null,null,null,null,null,null,null,null,null,null,null,null,"~"]
["SA12",2025,"Choose",1029,"V","No. of successful objections > 10%",null,null,null,null,null,null,null,null,null,null,null,null,null,null,null,null,"~"]
["SA12",2025,"Choose",1040,"V","Estimated no. of properties not valued",null,null,null,null,null,null,null,null,null,null,null,null,null,null,null,null,"~"]
["SA12",2025,"Choose",1041,"T","Years since last valuation",null,null,null,null,null,null,null,null,null,null,null,null,null,null,null,null,"~"]
["SA12",2025,"Choose",1042,"T","Frequency of valuation ",null,null,null,null,null,null,null,null,null,null,null,null,null,null,null,null,"~"]
["SA12",2025,"Choose",1043,"T","Method of valuation used",null,null,null,null,null,null,null,null,null,null,null,null,null,null,null,null,"~"]
["SA12",2025,"Choose",1044,"T","Base of valuation",null,null,null,null,null,null,null,null,null,null,null,null,null,null,null,null,"~"]
["SA12",2025,"Choose",1206,"V","Phasing-in properties s21 (number)",null,null,null,null,null,null,null,null,null,null,null,null,null,null,null,null,"~"]
["SA12",2025,"Choose",1046,"T","Combination of rating types used? (Y/N)",null,null,null,null,null,null,null,null,null,null,null,null,null,null,null,null,"~"]
["SA12",2025,"Choose",1047,"T","Flat rate used? (Y/N)",null,null,null,null,null,null,null,null,null,null,null,null,null,null,null,null,"~"]
["SA12",2025,"Choose",1048,"T","Is balance rated by uniform rate/variable rate?",null,null,null,null,null,null,null,null,null,null,null,null,null,null,null,null,"~"]
["SA12",2025,"Choose",1100,"T","Valuation reductions:",null,null,null,null,null,null,null,null,null,null,null,null,null,null,null,null,"~"]
["SA12",2025,"Choose",1101,"V","Valuation reductions-public infrastructure",null,null,null,null,null,null,null,null,null,null,null,null,null,null,null,null,"~"]
["SA12",2025,"Choose",1102,"V","Valuation reductions-nature reserves/park",null,null,null,null,null,null,null,null,null,null,null,null,null,null,null,null,"~"]
["SA12",2025,"Choose",1103,"V","Valuation reductions-mineral rights",null,null,null,null,null,null,null,null,null,null,null,null,null,null,null,null,"~"]
["SA12",2025,"Choose",1104,"V","Valuation reductions-R15,000 threshold ",null,null,null,null,null,null,null,null,null,null,null,null,null,null,null,null,"~"]
["SA12",2025,"Choose",1105,"V","Valuation reductions-public worship",null,null,null,null,null,null,null,null,null,null,null,null,null,null,null,null,"~"]
["SA12",2025,"Choose",1106,"V","Valuation reductions-other",null,null,null,null,null,null,null,null,null,null,null,null,null,null,null,null,"~"]
["SA12",2025,"Choose",1107,"V","Total valuation reductions:",null,null,null,null,null,null,null,null,null,null,null,null,null,null,null,null,"~"]
["SA12",2025,"Choose",1108,"V","Total value used for rating",null,null,null,null,null,null,null,null,null,null,null,null,null,null,null,null,"~"]
["SA12",2025,"Choose",1109,"V","Total land value ",null,null,null,null,null,null,null,null,null,null,null,null,null,null,null,null,"~"]
["SA12",2025,"Choose",1110,"V","Total value of improvements",null,null,null,null,null,null,null,null,null,null,null,null,null,null,null,null,"~"]
["SA12",2025,"Choose",1111,"V","Total market value ",null,null,null,null,null,null,null,null,null,null,null,null,null,null,null,null,"~"]
["SA12",2025,"Choose",1200,"T","Rating:",null,null,null,null,null,null,null,null,null,null,null,null,null,null,null,null,"~"]
["SA12",2025,"Choose",1201,"V","Average rate",null,null,null,null,null,null,null,null,null,null,null,null,null,null,null,null,"~"]
["SA12",2025,"Choose",1301,"V","Rate revenue budget ",null,null,null,null,null,null,null,null,null,null,null,null,null,null,null,null,"~"]
["SA12",2025,"Choose",1302,"V","Rate revenue expected to collect",null,null,null,null,null,null,null,null,null,null,null,null,null,null,null,null,"~"]
["SA12",2025,"Choose",1303,"P","Expected cash collection rate (%)",null,null,null,null,null,null,null,null,null,null,null,null,null,null,null,null,"~"]
["SA12",2025,"Choose",1304,"V","Special rating areas",null,null,null,null,null,null,null,null,null,null,null,null,null,null,null,null,"~"]
["SA12",2025,"Choose",1305,"V","Rebates, exemptions - indigent",null,null,null,null,null,null,null,null,null,null,null,null,null,null,null,null,"~"]
["SA12",2025,"Choose",1306,"V","Rebates, exemptions - pensioners",null,null,null,null,null,null,null,null,null,null,null,null,null,null,null,null,"~"]
["SA12",2025,"Choose",1307,"V","Rebates, exemptions - bona fide farm. ",null,null,null,null,null,null,null,null,null,null,null,null,null,null,null,null,"~"]
["SA12",2025,"Choose",1308,"V","Rebates, exemptions - other ",null,null,null,null,null,null,null,null,null,null,null,null,null,null,null,null,"~"]
["SA12",2025,"Choose",1309,"V","Phase-in reductions/discounts ",null,null,null,null,null,null,null,null,null,null,null,null,null,null,null,null,"~"]
["SA12",2025,"Choose",1310,"V","Total rebates,exemptns,reductns,discs",null,null,null,null,null,null,null,null,null,null,null,null,null,null,null,null,"~"]
["SA13",2025,"Choose",1000,1,"Property rates (rate in the Rand)",null,null,null,null,null,null,null,null,null,null,null,null,null,null,null,null,"~"]
["SA13",2025,"Choose",1001,2,"Residential properties",null,null,null,null,null,null,null,null,null,null,null,null,null,null,null,null,"~"]
["SA13",2025,"Choose",1002,3,"Residential properties - vacant land",null,null,null,null,null,null,null,null,null,null,null,null,null,null,null,null,"~"]
["SA13",2025,"Choose",1003,4,"Formal/informal settlements",null,null,null,null,null,null,null,null,null,null,null,null,null,null,null,null,"~"]
["SA13",2025,"Choose",1004,5,"Small holdings",null,null,null,null,null,null,null,null,null,null,null,null,null,null,null,null,"~"]
["SA13",2025,"Choose",1005,6,"Farm properties - used",null,null,null,null,null,null,null,null,null,null,null,null,null,null,null,null,"~"]
["SA13",2025,"Choose",1006,7,"Farm properties - not used",null,null,null,null,null,null,null,null,null,null,null,null,null,null,null,null,"~"]
["SA13",2025,"Choose",1007,8,"Industrial properties",null,null,null,null,null,null,null,null,null,null,null,null,null,null,null,null,"~"]
["SA13",2025,"Choose",1008,9,"Business and commercial properties",null,null,null,null,null,null,null,null,null,null,null,null,null,null,null,null,"~"]
["SA13",2025,"Choose",1009,10,"Communal land - residential",null,null,null,null,null,null,null,null,null,null,null,null,null,null,null,null,"~"]
["SA13",2025,"Choose",1010,11,"Communal land - small holdings",null,null,null,null,null,null,null,null,null,null,null,null,null,null,null,null,"~"]
["SA13",2025,"Choose",1011,12,"Communal land - farm property",null,null,null,null,null,null,null,null,null,null,null,null,null,null,null,null,"~"]
["SA13",2025,"Choose",1012,13,"Communal land - business and commercial",null,null,null,null,null,null,null,null,null,null,null,null,null,null,null,null,"~"]
["SA13",2025,"Choose",1013,14,"Communal land - other",null,null,null,null,null,null,null,null,null,null,null,null,null,null,null,null,"~"]
["SA13",2025,"Choose",1014,15,"State-owned properties",null,null,null,null,null,null,null,null,null,null,null,null,null,null,null,null,"~"]
["SA13",2025,"Choose",1015,16,"Municipal properties",null,null,null,null,null,null,null,null,null,null,null,null,null,null,null,null,"~"]
["SA13",2025,"Choose",1016,17,"Public service infrastructure",null,null,null,null,null,null,null,null,null,null,null,null,null,null,null,null,"~"]
["SA13",2025,"Choose",1017,18,"Privately owned towns serviced by the owner",null,null,null,null,null,null,null,null,null,null,null,null,null,null,null,null,"~"]
["SA13",2025,"Choose",1018,19,"State trust land",null,null,null,null,null,null,null,null,null,null,null,null,null,null,null,null,"~"]
["SA13",2025,"Choose",1019,20,"Restitution and redistribution properties",null,null,null,null,null,null,null,null,null,null,null,null,null,null,null,null,"~"]
["SA13",2025,"Choose",1020,21,"Protected areas",null,null,null,null,null,null,null,null,null,null,null,null,null,null,null,null,"~"]
["SA13",2025,"Choose",1021,22,"National monuments properties",null,null,null,null,null,null,null,null,null,null,null,null,null,null,null,null,"~"]
["SA13",2025,"Choose",null,null,null,null,null,null,null,null,null,null,null,null,null,null,null,null,null,null,null,"~"]
["SA13",2025,"Choose",1030,23,"Exemptions, reductions and rebates (Rands)",null,null,null,null,null,null,null,null,null,null,null,null,null,null,null,null,"~"]
["SA13",2025,"Choose",1031,24,"Residential properties",null,null,null,null,null,null,null,null,null,null,null,null,null,null,null,null,"~"]
["SA13",2025,"Choose",1032,25,"R15 000 threshhold rebate",null,null,null,null,null,null,null,null,null,null,null,null,null,null,null,null,"~"]
["SA13",2025,"Choose",1033,26,"General residential rebate",null,null,null,null,null,null,null,null,null,null,null,null,null,null,null,null,"~"]
["SA13",{"$f":"+MTREF","v":2025},{"$f":"LEFT(muni,(FIND(\" \",muni,1)-1))","v":"Choose"},1034,27,"Indigent rebate or exemption",null,null,null,null,null,null,null,null,null,null,null,null,null,null,null,null,"~"]
["SA13",2025,"Choose",1035,28,"Pensioners/social grants rebate or exemption ",null,null,null,null,null,null,null,null,null,null,null,null,null,null,null,null,"~"]
["SA13",2025,"Choose",1036,29,"Temporary relief rebate or exemption",null,null,null,null,null,null,null,null,null,null,null,null,null,null,null,null,"~"]
["SA13",2025,"Choose",1037,30," Bona fide farmers rebate or exemption",null,null,null,null,null,null,null,null,null,null,null,null,null,null,null,null,"~"]
["SA13",2025,"Choose",1038,31,"Other rebates or exemptions",null,null,null,null,null,null,null,null,null,null,null,null,null,null,null,null,"~"]
["SA13",2025,"Choose",null,null,null,null,null,null,null,null,null,null,null,null,null,null,null,null,null,null,null,"~"]
["SA13",2025,"Choose",1100,32,"Water tariffs",null,null,null,null,null,null,null,null,null,null,null,null,null,null,null,null,"~"]
["SA13",2025,"Choose",1101,33,"Domestic",null,null,null,null,null,null,null,null,null,null,null,null,null,null,null,null,"~"]
["SA13",2025,"Choose",1102,34,"Basic charge/fixed fee (Rands/month)",null,null,null,null,null,null,null,null,null,null,null,null,null,null,null,null,"~"]
["SA13",2025,"Choose",1103,35,"Service point - vacant land (Rands/month)",null,null,null,null,null,null,null,null,null,null,null,null,null,null,null,null,"~"]
["SA13",2025,"Choose",1104,36,"Water usage - flat rate tariff (c/kl)",null,null,null,null,null,null,null,null,null,null,null,null,null,null,null,null,"~"]
["SA13",2025,"Choose",1105,37,"Water usage - life line tariff",null,null,null,null,null,null,null,null,null,null,null,null,null,null,null,null,"~"]
["SA13",2025,"Choose",1106,38,"Water usage - Block 1 (c/kl)",null,null,null,null,null,null,null,null,null,null,null,null,null,null,null,null,"~"]
["SA13",2025,"Choose",1107,39,"Water usage - Block 2 (c/kl)",null,null,null,null,null,null,null,null,null,null,null,null,null,null,null,null,"~"]
["SA13",2025,"Choose",1108,40,"Water usage - Block 3 (c/kl)",null,null,null,null,null,null,null,null,null,null,null,null,null,null,null,null,"~"]
["SA13",2025,"Choose",1109,41,"Water usage - Block 4 (c/kl)",null,null,null,null,null,null,null,null,null,null,null,null,null,null,null,null,"~"]
["SA13",2025,"Choose",1110,42,"Other",null,null,null,null,null,null,null,null,null,null,null,null,null,null,null,null,"~"]
["SA13",2025,"Choose",null,null,null,null,null,null,null,null,null,null,null,null,null,null,null,null,null,null,null,"~"]
["SA13",2025,"Choose",1200,43,"Waste water tariffs",null,null,null,null,null,null,null,null,null,null,null,null,null,null,null,null,"~"]
["SA13",2025,"Choose",1201,44,"Domestic",null,null,null,null,null,null,null,null,null,null,null,null,null,null,null,null,"~"]
["SA13",2025,"Choose",1202,45,"Basic charge/fixed fee (Rands/month)",null,null,null,null,null,null,null,null,null,null,null,null,null,null,null,null,"~"]
["SA13",2025,"Choose",1203,46,"Service point - vacant land (Rands/month)",null,null,null,null,null,null,null,null,null,null,null,null,null,null,null,null,"~"]
["SA13",2025,"Choose",1204,47,"Waste water - flat rate tariff (c/kl)",null,null,null,null,null,null,null,null,null,null,null,null,null,null,null,null,"~"]
["SA13",2025,"Choose",1205,48,"Volumetric charge - Block 1 (c/kl)",null,null,null,null,null,null,null,null,null,null,null,null,null,null,null,null,"~"]
["SA13",2025,"Choose",1206,49,"Volumetric charge - Block 2 (c/kl)",null,null,null,null,null,null,null,null,null,null,null,null,null,null,null,null,"~"]
["SA13",2025,"Choose",1207,50,"Volumetric charge - Block 3 (c/kl)",null,null,null,null,null,null,null,null,null,null,null,null,null,null,null,null,"~"]
["SA13",2025,"Choose",1208,51,"Volumetric charge - Block 4 (c/kl)",null,null,null,null,null,null,null,null,null,null,null,null,null,null,null,null,"~"]
["SA13",2025,"Choose",1209,52,"Other",null,null,null,null,null,null,null,null,null,null,null,null,null,null,null,null,"~"]
["SA13",2025,"Choose",null,null,null,null,null,null,null,null,null,null,null,null,null,null,null,null,null,null,null,"~"]
["SA13",2025,"Choose",1300,53,"Electricity tariffs",null,null,null,null,null,null,null,null,null,null,null,null,null,null,null,null,"~"]
["SA13",2025,"Choose",1301,54,"Domestic",null,null,null,null,null,null,null,null,null,null,null,null,null,null,null,null,"~"]
["SA13",2025,"Choose",1302,55,"Basic charge/fixed fee (Rands/month)",null,null,null,null,null,null,null,null,null,null,null,null,null,null,null,null,"~"]
["SA13",2025,"Choose",1303,56,"Service point - vacant land (Rands/month)",null,null,null,null,null,null,null,null,null,null,null,null,null,null,null,null,"~"]
["SA13",2025,"Choose",1304,57,"FBE",null,null,null,null,null,null,null,null,null,null,null,null,null,null,null,null,"~"]
["SA13",2025,"Choose",1305,58,"Life-line tariff - meter",null,null,null,null,null,null,null,null,null,null,null,null,null,null,null,null,"~"]
["SA13",2025,"Choose",1306,59,"Life-line tariff - prepaid",null,null,null,null,null,null,null,null,null,null,null,null,null,null,null,null,"~"]
["SA13",2025,"Choose",1307,60,"Flat rate tariff - meter (c/kwh)",null,null,null,null,null,null,null,null,null,null,null,null,null,null,null,null,"~"]
["SA13",2025,"Choose",1308,61,"Flat rate tariff - prepaid(c/kwh)",null,null,null,null,null,null,null,null,null,null,null,null,null,null,null,null,"~"]
["SA13",2025,"Choose",1309,62,"Meter - IBT Block 1 (c/kwh)",null,null,null,null,null,null,null,null,null,null,null,null,null,null,null,null,"~"]
["SA13",2025,"Choose",1310,63,"Meter - IBT Block 2 (c/kwh)",null,null,null,null,null,null,null,null,null,null,null,null,null,null,null,null,"~"]
["SA13",2025,"Choose",1311,64,"Meter - IBT Block 3 (c/kwh)",null,null,null,null,null,null,null,null,null,null,null,null,null,null,null,null,"~"]
["SA13",2025,"Choose",1312,65,"Meter - IBT Block 4 (c/kwh)",null,null,null,null,null,null,null,null,null,null,null,null,null,null,null,null,"~"]
["SA13",2025,"Choose",1313,66,"Meter - IBT Block 5 (c/kwh)",null,null,null,null,null,null,null,null,null,null,null,null,null,null,null,null,"~"]
["SA13",2025,"Choose",1314,67,"Prepaid - IBT Block 1 (c/kwh)",null,null,null,null,null,null,null,null,null,null,null,null,null,null,null,null,"~"]
["SA13",2025,"Choose",1315,68,"Prepaid - IBT Block 2 (c/kwh)",null,null,null,null,null,null,null,null,null,null,null,null,null,null,null,null,"~"]
["SA13",2025,"Choose",1316,69,"Prepaid - IBT Block 3 (c/kwh)",null,null,null,null,null,null,null,null,null,null,null,null,null,null,null,null,"~"]
["SA13",2025,"Choose",1317,70,"Prepaid - IBT Block 4 (c/kwh)",null,null,null,null,null,null,null,null,null,null,null,null,null,null,null,null,"~"]
["SA13",2025,"Choose",1318,71,"Prepaid - IBT Block 5 (c/kwh)",null,null,null,null,null,null,null,null,null,null,null,null,null,null,null,null,"~"]
["SA13",2025,"Choose",1319,72,"Other",null,null,null,null,null,null,null,null,null,null,null,null,null,null,null,null,"~"]
["SA13",2025,"Choose",null,null,null,null,null,null,null,null,null,null,null,null,null,null,null,null,null,null,null,"~"]
["SA13",2025,"Choose",1400,73,"Waste management tariffs",null,null,null,null,null,null,null,null,null,null,null,null,null,null,null,null,"~"]
["SA13",2025,"Choose",1401,74,"Domestic",null,null,null,null,null,null,null,null,null,null,null,null,null,null,null,null,"~"]
["SA13",2025,"Choose",1402,75,"Street cleaning charge",null,null,null,null,null,null,null,null,null,null,null,null,null,null,null,null,"~"]
["SA13",2025,"Choose",1403,76,"Basic charge/fixed fee",null,null,null,null,null,null,null,null,null,null,null,null,null,null,null,null,"~"]
["SA13",2025,"Choose",1404,77,"80l bin - once a week",null,null,null,null,null,null,null,null,null,null,null,null,null,null,null,null,"~"]
["SA13",2025,"Choose",1405,78,"250l bin - once a week",null,null,null,null,null,null,null,null,null,null,null,null,null,null,null,null,"~"]
["SA14",2025,"Choose",1000,1,"Monthly Account for Household - 'Middle Income Range'",null,null,null,null,null,null,null,null,null,null,null,null,null,null,null,null,"~"]
["SA14",2025,"Choose",1001,2,"Rates and services charges:",null,null,null,null,null,null,null,null,null,null,null,null,null,null,null,null,"~"]
["SA14",2025,"Choose",1002,3,"Property rates",null,null,null,null,null,null,null,null,null,null,null,null,null,null,null,null,"~"]
["SA14",2025,"Choose",1003,4,"Electricity: Basic levy",null,null,null,null,null,null,null,null,null,null,null,null,null,null,null,null,"~"]
["SA14",2025,"Choose",1004,5,"Electricity: Consumption",null,null,null,null,null,null,null,null,null,null,null,null,null,null,null,null,"~"]
["SA14",2025,"Choose",1005,6,"Water: Basic levy",null,null,null,null,null,null,null,null,null,null,null,null,null,null,null,null,"~"]
["SA14",2025,"Choose",1006,7,"Water: Consumption",null,null,null,null,null,null,null,null,null,null,null,null,null,null,null,null,"~"]
["SA14",2025,"Choose",1007,8,"Sanitation",null,null,null,null,null,null,null,null,null,null,null,null,null,null,null,null,"~"]
["SA14",{"$f":"+MTREF","v":2025},{"$f":"LEFT(muni,(FIND(\" \",muni,1)-1))","v":"Choose"},1008,9,"Refuse removal",null,null,null,null,null,null,null,null,null,null,null,null,null,null,null,null,"~"]
["SA14",2025,"Choose",1009,10,"Other",null,null,null,null,null,null,null,null,null,null,null,null,null,null,null,null,"~"]
["SA14",2025,"Choose",1090,11,"sub-total",null,null,null,null,null,null,null,null,null,null,null,null,null,null,null,null,"~"]
["SA14",2025,"Choose",1091,12,"VAT on Services",null,null,null,null,null,null,null,null,null,null,null,null,null,null,null,null,"~"]
["SA14",2025,"Choose",1095,13,"Total large household bill:",null,null,null,null,null,null,null,null,null,null,null,null,null,null,null,null,"~"]
["SA14",2025,"Choose",1096,14,"% increase/-decrease",null,null,null,null,null,null,null,null,null,null,null,null,null,null,null,null,"~"]
["SA14",2025,"Choose",null,null,null,null,null,null,null,null,null,null,null,null,null,null,null,null,null,null,null,"~"]
["SA14",2025,"Choose",1100,15,"Monthly Account for Household - 'Affordable Range' ",null,null,null,null,null,null,null,null,null,null,null,null,null,null,null,null,"~"]
["SA14",2025,"Choose",1101,16,"Rates and services charges:",null,null,null,null,null,null,null,null,null,null,null,null,null,null,null,null,"~"]
["SA14",2025,"Choose",1102,17,"Property rates",null,null,null,null,null,null,null,null,null,null,null,null,null,null,null,null,"~"]
["SA14",2025,"Choose",1103,18,"Electricity: Basic levy",null,null,null,null,null,null,null,null,null,null,null,null,null,null,null,null,"~"]
["SA14",2025,"Choose",1110,19,"Electricity: Consumption",null,null,null,null,null,null,null,null,null,null,null,null,null,null,null,null,"~"]
["SA14",2025,"Choose",1107,20,"Water: Basic levy",null,null,null,null,null,null,null,null,null,null,null,null,null,null,null,null,"~"]
["SA14",2025,"Choose",1104,21,"Water: Consumption",null,null,null,null,null,null,null,null,null,null,null,null,null,null,null,null,"~"]
["SA14",2025,"Choose",1105,22,"Sanitation",null,null,null,null,null,null,null,null,null,null,null,null,null,null,null,null,"~"]
["SA14",2025,"Choose",1106,23,"Refuse removal",null,null,null,null,null,null,null,null,null,null,null,null,null,null,null,null,"~"]
["SA14",2025,"Choose",1108,24,"Other",null,null,null,null,null,null,null,null,null,null,null,null,null,null,null,null,"~"]
["SA14",2025,"Choose",1190,25,"sub-total",null,null,null,null,null,null,null,null,null,null,null,null,null,null,null,null,"~"]
["SA14",2025,"Choose",1191,26,"VAT on Services",null,null,null,null,null,null,null,null,null,null,null,null,null,null,null,null,"~"]
["SA14",2025,"Choose",1195,27,"Total small household bill:",null,null,null,null,null,null,null,null,null,null,null,null,null,null,null,null,"~"]
["SA14",2025,"Choose",1196,28,"% increase/-decrease",null,null,null,null,null,null,null,null,null,null,null,null,null,null,null,null,"~"]
["SA14",2025,"Choose",null,null,null,null,null,null,null,null,null,null,null,null,null,null,null,null,null,null,null,"~"]
["SA14",2025,"Choose",1200,29,"Monthly Account for Household - 'Indigent' HH receiving FBS",null,null,null,null,null,null,null,null,null,null,null,null,null,null,null,null,"~"]
["SA14",2025,"Choose",1201,30,"Rates and services charges:",null,null,null,null,null,null,null,null,null,null,null,null,null,null,null,null,"~"]
["SA14",2025,"Choose",1202,31,"Property rates",null,null,null,null,null,null,null,null,null,null,null,null,null,null,null,null,"~"]
["SA14",2025,"Choose",1203,32,"Electricity: Basic levy",null,null,null,null,null,null,null,null,null,null,null,null,null,null,null,null,"~"]
["SA14",2025,"Choose",1207,33,"Electricity: Consumption",null,null,null,null,null,null,null,null,null,null,null,null,null,null,null,null,"~"]
["SA14",2025,"Choose",1208,34,"Water: Basic levy",null,null,null,null,null,null,null,null,null,null,null,null,null,null,null,null,"~"]
["SA14",2025,"Choose",1204,35,"Water: Consumption",null,null,null,null,null,null,null,null,null,null,null,null,null,null,null,null,"~"]
["SA14",2025,"Choose",1205,36,"Sanitation",null,null,null,null,null,null,null,null,null,null,null,null,null,null,null,null,"~"]
["SA14",2025,"Choose",1206,37,"Refuse removal",null,null,null,null,null,null,null,null,null,null,null,null,null,null,null,null,"~"]
["SA14",2025,"Choose",1209,38,"Other",null,null,null,null,null,null,null,null,null,null,null,null,null,null,null,null,"~"]
["SA14",2025,"Choose",1290,39,"sub-total",null,null,null,null,null,null,null,null,null,null,null,null,null,null,null,null,"~"]
["SA14",2025,"Choose",1291,40,"VAT on Services",null,null,null,null,null,null,null,null,null,null,null,null,null,null,null,null,"~"]
["SA14",2025,"Choose",1295,41,"Total small household bill:",null,null,null,null,null,null,null,null,null,null,null,null,null,null,null,null,"~"]
["SA14",2025,"Choose",1296,42,"% increase/-decrease",null,null,null,null,null,null,null,null,null,null,null,null,null,null,null,null,"~"]
["SA22",2025,"Choose",1000,1,"Councillors (Political Office Bearers plus Other)",null,null,null,null,null,null,null,null,null,null,null,null,null,null,null,null,"~"]
["SA22",2025,"Choose",1001,2,"Basic Salaries and Wages",null,null,null,null,null,null,null,null,null,null,null,null,null,null,null,null,"~"]
["SA22",2025,"Choose",1002,3,"Pension and UIF Contributions",null,null,null,null,null,null,null,null,null,null,null,null,null,null,null,null,"~"]
["SA22",2025,"Choose",1003,4,"Medical Aid Contributions",null,null,null,null,null,null,null,null,null,null,null,null,null,null,null,null,"~"]
["SA22",2025,"Choose",1004,5,"Motor Vehicle Allowance",null,null,null,null,null,null,null,null,null,null,null,null,null,null,null,null,"~"]
["SA22",2025,"Choose",1005,6,"Cellphone Allowance",null,null,null,null,null,null,null,null,null,null,null,null,null,null,null,null,"~"]
["SA22",2025,"Choose",1006,7,"Housing Allowances",null,null,null,null,null,null,null,null,null,null,null,null,null,null,null,null,"~"]
["SA22",2025,"Choose",1007,8,"Other benefits and allowances",null,null,null,null,null,null,null,null,null,null,null,null,null,null,null,null,"~"]
["SA22",2025,"Choose",1090,9,"Sub Total - Councillors",null,null,null,null,null,null,null,null,null,null,null,null,null,null,null,null,"~"]
["SA22",2025,"Choose",1091,10,"% increase",null,null,null,null,null,null,null,null,null,null,null,null,null,null,null,null,"~"]
["SA22",2025,"Choose",null,null,null,null,null,null,null,null,null,null,null,null,null,null,null,null,null,null,null,"~"]
["SA22",2025,"Choose",1100,11,"Senior Managers of the Municipality",null,null,null,null,null,null,null,null,null,null,null,null,null,null,null,null,"~"]
["SA22",2025,"Choose",1101,12,"Basic Salaries and Wages",null,null,null,null,null,null,null,null,null,null,null,null,null,null,null,null,"~"]
["SA22",2025,"Choose",1102,13,"Pension and UIF Contributions",null,null,null,null,null,null,null,null,null,null,null,null,null,null,null,null,"~"]
["SA22",2025,"Choose",1103,14,"Medical Aid Contributions",null,null,null,null,null,null,null,null,null,null,null,null,null,null,null,null,"~"]
["SA22",2025,"Choose",1110,15,"Overtime",null,null,null,null,null,null,null,null,null,null,null,null,null,null,null,null,"~"]
["SA22",2025,"Choose",1107,16,"Performance Bonus",null,null,null,null,null,null,null,null,null,null,null,null,null,null,null,null,"~"]
["SA22",2025,"Choose",1104,17,"Motor Vehicle Allowance",null,null,null,null,null,null,null,null,null,null,null,null,null,null,null,null,"~"]
["SA22",2025,"Choose",1105,18,"Cellphone Allowance",null,null,null,null,null,null,null,null,null,null,null,null,null,null,null,null,"~"]
["SA22",2025,"Choose",1106,19,"Housing Allowances",null,null,null,null,null,null,null,null,null,null,null,null,null,null,null,null,"~"]
["SA22",2025,"Choose",1108,20,"Other benefits and allowances",null,null,null,null,null,null,null,null,null,null,null,null,null,null,null,null,"~"]
["SA22",2025,"Choose",1111,21,"Payments in lieu of leave",null,null,null,null,null,null,null,null,null,null,null,null,null,null,null,null,"~"]
["SA22",2025,"Choose",1112,22,"Long service awards",null,null,null,null,null,null,null,null,null,null,null,null,null,null,null,null,"~"]
["SA22",2025,"Choose",1113,23,"Post-retirement benefit obligations",null,null,null,null,null,null,null,null,null,null,null,null,null,null,null,null,"~"]
["SA22",2025,"Choose",1190,24,"Sub Total - Senior Managers of Municipality",null,null,null,null,null,null,null,null,null,null,null,null,null,null,null,null,"~"]
["SA22",2025,"Choose",1191,25,"% increase",null,null,null,null,null,null,null,null,null,null,null,null,null,null,null,null,"~"]
["SA22",2025,"Choose",null,null,null,null,null,null,null,null,null,null,null,null,null,null,null,null,null,null,null,"~"]
["SA22",2025,"Choose",1200,26,"Other Municipal Staff",null,null,null,null,null,null,null,null,null,null,null,null,null,null,null,null,"~"]
["SA22",{"$f":"+MTREF","v":2025},{"$f":"LEFT(muni,(FIND(\" \",muni,1)-1))","v":"Choose"},1201,27,"Basic Salaries and Wages",null,null,null,null,null,null,null,null,null,null,null,null,null,null,null,null,"~"]
["SA22",2025,"Choose",1202,28,"Pension and UIF Contributions",null,null,null,null,null,null,null,null,null,null,null,null,null,null,null,null,"~"]
["SA22",2025,"Choose",1203,29,"Medical Aid Contributions",null,null,null,null,null,null,null,null,null,null,null,null,null,null,null,null,"~"]
["SA22",2025,"Choose",1207,30,"Overtime",null,null,null,null,null,null,null,null,null,null,null,null,null,null,null,null,"~"]
["SA22",2025,"Choose",1208,31,"Performance Bonus",null,null,null,null,null,null,null,null,null,null,null,null,null,null,null,null,"~"]
["SA22",2025,"Choose",1204,32,"Motor Vehicle Allowance",null,null,null,null,null,null,null,null,null,null,null,null,null,null,null,null,"~"]
["SA22",2025,"Choose",1205,33,"Cellphone Allowance",null,null,null,null,null,null,null,null,null,null,null,null,null,null,null,null,"~"]
["SA22",2025,"Choose",1206,34,"Housing Allowances",null,null,null,null,null,null,null,null,null,null,null,null,null,null,null,null,"~"]
["SA22",2025,"Choose",1209,35,"Other benefits and allowances",null,null,null,null,null,null,null,null,null,null,null,null,null,null,null,null,"~"]
["SA22",2025,"Choose",1211,36,"Payments in lieu of leave",null,null,null,null,null,null,null,null,null,null,null,null,null,null,null,null,"~"]
["SA22",2025,"Choose",1212,37,"Long service awards",null,null,null,null,null,null,null,null,null,null,null,null,null,null,null,null,"~"]
["SA22",2025,"Choose",1213,38,"Post-retirement benefit obligations",null,null,null,null,null,null,null,null,null,null,null,null,null,null,null,null,"~"]
["SA22",2025,"Choose",1290,39,"Sub Total - Other Municipal Staff",null,null,null,null,null,null,null,null,null,null,null,null,null,null,null,null,"~"]
["SA22",2025,"Choose",1291,40,"% increase",null,null,null,null,null,null,null,null,null,null,null,null,null,null,null,null,"~"]
["SA22",2025,"Choose",null,null,null,null,null,null,null,null,null,null,null,null,null,null,null,null,null,null,null,"~"]
["SA22",2025,"Choose",1295,41,"Total Parent Municipality",null,null,null,null,null,null,null,null,null,null,null,null,null,null,null,null,"~"]
["SA22",2025,"Choose",1297,42,"% increase",null,null,null,null,null,null,null,null,null,null,null,null,null,null,null,null,"~"]
["SA22",2025,"Choose",null,null,null,null,null,null,null,null,null,null,null,null,null,null,null,null,null,null,null,"~"]
["SA22",2025,"Choose",2000,43,"Board Members of Entities",null,null,null,null,null,null,null,null,null,null,null,null,null,null,null,null,"~"]
["SA22",2025,"Choose",2001,44,"Basic Salaries and Wages",null,null,null,null,null,null,null,null,null,null,null,null,null,null,null,null,"~"]
["SA22",2025,"Choose",2002,45,"Pension and UIF Contributions",null,null,null,null,null,null,null,null,null,null,null,null,null,null,null,null,"~"]
["SA22",2025,"Choose",2003,46,"Medical Aid Contributions",null,null,null,null,null,null,null,null,null,null,null,null,null,null,null,null,"~"]
["SA22",2025,"Choose",2010,47,"Overtime",null,null,null,null,null,null,null,null,null,null,null,null,null,null,null,null,"~"]
["SA22",2025,"Choose",2011,48,"Performance Bonus",null,null,null,null,null,null,null,null,null,null,null,null,null,null,null,null,"~"]
["SA22",2025,"Choose",2004,49,"Motor Vehicle Allowance",null,null,null,null,null,null,null,null,null,null,null,null,null,null,null,null,"~"]
["SA22",2025,"Choose",2005,50,"Cellphone Allowance",null,null,null,null,null,null,null,null,null,null,null,null,null,null,null,null,"~"]
["SA22",2025,"Choose",2006,51,"Housing Allowances",null,null,null,null,null,null,null,null,null,null,null,null,null,null,null,null,"~"]
["SA22",2025,"Choose",2008,52,"Other benefits and allowances",null,null,null,null,null,null,null,null,null,null,null,null,null,null,null,null,"~"]
["SA22",2025,"Choose",2007,53,"Board Fees",null,null,null,null,null,null,null,null,null,null,null,null,null,null,null,null,"~"]
["SA22",2025,"Choose",2012,54,"Payments in lieu of leave",null,null,null,null,null,null,null,null,null,null,null,null,null,null,null,null,"~"]
["SA22",2025,"Choose",2013,55,"Long service awards",null,null,null,null,null,null,null,null,null,null,null,null,null,null,null,null,"~"]
["SA22",2025,"Choose",2014,56,"Post-retirement benefit obligations",null,null,null,null,null,null,null,null,null,null,null,null,null,null,null,null,"~"]
["SA22",2025,"Choose",2090,57,"Sub Total - Board Members of Entities",null,null,null,null,null,null,null,null,null,null,null,null,null,null,null,null,"~"]
["SA22",2025,"Choose",2091,58,"% increase",null,null,null,null,null,null,null,null,null,null,null,null,null,null,null,null,"~"]
["SA22",2025,"Choose",null,null,null,null,null,null,null,null,null,null,null,null,null,null,null,null,null,null,null,"~"]
["SA22",2025,"Choose",2100,59,"Senior Managers of Entities",null,null,null,null,null,null,null,null,null,null,null,null,null,null,null,null,"~"]
["SA22",2025,"Choose",2101,60,"Basic Salaries and Wages",null,null,null,null,null,null,null,null,null,null,null,null,null,null,null,null,"~"]
["SA22",2025,"Choose",2102,61,"Pension and UIF Contributions",null,null,null,null,null,null,null,null,null,null,null,null,null,null,null,null,"~"]
["SA22",2025,"Choose",2103,62,"Medical Aid Contributions",null,null,null,null,null,null,null,null,null,null,null,null,null,null,null,null,"~"]
["SA22",2025,"Choose",2110,63,"Overtime",null,null,null,null,null,null,null,null,null,null,null,null,null,null,null,null,"~"]
["SA22",2025,"Choose",2107,64,"Performance Bonus",null,null,null,null,null,null,null,null,null,null,null,null,null,null,null,null,"~"]
["SA22",2025,"Choose",2104,65,"Motor Vehicle Allowance",null,null,null,null,null,null,null,null,null,null,null,null,null,null,null,null,"~"]
["SA22",2025,"Choose",2105,66,"Cellphone Allowance",null,null,null,null,null,null,null,null,null,null,null,null,null,null,null,null,"~"]
["SA22",2025,"Choose",2106,67,"Housing Allowances",null,null,null,null,null,null,null,null,null,null,null,null,null,null,null,null,"~"]
["SA22",2025,"Choose",2108,68,"Other benefits and allowances",null,null,null,null,null,null,null,null,null,null,null,null,null,null,null,null,"~"]
["SA22",2025,"Choose",2111,69,"Payments in lieu of leave",null,null,null,null,null,null,null,null,null,null,null,null,null,null,null,null,"~"]
["SA22",2025,"Choose",2112,70,"Long service awards",null,null,null,null,null,null,null,null,null,null,null,null,null,null,null,null,"~"]
["SA22",2025,"Choose",2113,71,"Post-retirement benefit obligations",null,null,null,null,null,null,null,null,null,null,null,null,null,null,null,null,"~"]
["SA22",2025,"Choose",2190,72,"Sub Total - Senior Managers of Entities",null,null,null,null,null,null,null,null,null,null,null,null,null,null,null,null,"~"]
["SA22",2025,"Choose",2191,73,"% increase",null,null,null,null,null,null,null,null,null,null,null,null,null,null,null,null,"~"]
["SA22",2025,"Choose",null,null,null,null,null,null,null,null,null,null,null,null,null,null,null,null,null,null,null,"~"]
["SA22",2025,"Choose",2200,74,"Other Staff of Entities",null,null,null,null,null,null,null,null,null,null,null,null,null,null,null,null,"~"]
["SA22",2025,"Choose",2201,75,"Basic Salaries and Wages",null,null,null,null,null,null,null,null,null,null,null,null,null,null,null,null,"~"]
["SA22",2025,"Choose",2202,76,"Pension and UIF Contributions",null,null,null,null,null,null,null,null,null,null,null,null,null,null,null,null,"~"]
["SA22",2025,"Choose",2203,77,"Medical Aid Contributions",null,null,null,null,null,null,null,null,null,null,null,null,null,null,null,null,"~"]
["SA22",2025,"Choose",2207,78,"Overtime",null,null,null,null,null,null,null,null,null,null,null,null,null,null,null,null,"~"]
["SA22",2025,"Choose",2208,79,"Performance Bonus",null,null,null,null,null,null,null,null,null,null,null,null,null,null,null,null,"~"]
["SA22",2025,"Choose",2204,80,"Motor Vehicle Allowance",null,null,null,null,null,null,null,null,null,null,null,null,null,null,null,null,"~"]
["SA22",2025,"Choose",2205,81,"Cellphone Allowance",null,null,null,null,null,null,null,null,null,null,null,null,null,null,null,null,"~"]
["SA22",2025,"Choose",2206,82,"Housing Allowances",null,null,null,null,null,null,null,null,null,null,null,null,null,null,null,null,"~"]
["SA22",2025,"Choose",2209,83,"Other benefits and allowances",null,null,null,null,null,null,null,null,null,null,null,null,null,null,null,null,"~"]
["SA22",2025,"Choose",2211,84,"Payments in lieu of leave",null,null,null,null,null,null,null,null,null,null,null,null,null,null,null,null,"~"]
["SA22",2025,"Choose",2212,85,"Long service awards",null,null,null,null,null,null,null,null,null,null,null,null,null,null,null,null,"~"]
["SA22",2025,"Choose",2213,86,"Post-retirement benefit obligations",null,null,null,null,null,null,null,null,null,null,null,null,null,null,null,null,"~"]
["SA22",{"$f":"+MTREF","v":2025},{"$f":"LEFT(muni,(FIND(\" \",muni,1)-1))","v":"Choose"},2290,87,"Sub Total - Other Staff of Entities",null,null,null,null,null,null,null,null,null,null,null,null,null,null,null,null,"~"]
["SA22",2025,"Choose",2291,89,"% increase",null,null,null,null,null,null,null,null,null,null,null,null,null,null,null,null,"~"]
["SA22",2025,"Choose",null,null,null,null,null,null,null,null,null,null,null,null,null,null,null,null,null,null,null,"~"]
["SA22",2025,"Choose",2295,90,"Total Municipal Entities",null,null,null,null,null,null,null,null,null,null,null,null,null,null,null,null,"~"]
["SA22",2025,"Choose",null,null,null,null,null,null,null,null,null,null,null,null,null,null,null,null,null,null,null,"~"]
["SA22",2025,"Choose",2296,91,"TOTAL SALARY, ALLOWANCES & BENEFITS",null,null,null,null,null,null,null,null,null,null,null,null,null,null,null,null,"~"]
["SA22",2025,"Choose",2297,92,"% increase",null,null,null,null,null,null,null,null,null,null,null,null,null,null,null,null,"~"]
["SA22",2025,"Choose",2298,93,"TOTAL MANAGERS AND STAFF",null,null,null,null,null,null,null,null,null,null,null,null,null,null,null,null,"~"]
["SA23",2025,"Choose",1000,1,null,null,null,null,null,null,null,null,null,null,null,null,null,null,null,null,null,"~"]
["SA23",2025,"Choose",1001,2,null,null,null,null,null,null,null,null,null,null,null,null,null,null,null,null,null,"~"]
["SA23",2025,"Choose",1002,3,null,null,null,null,null,null,null,null,null,null,null,null,null,null,null,null,null,"~"]
["SA23",2025,"Choose",1003,4,null,null,null,null,null,null,null,null,null,null,null,null,null,null,null,null,null,"~"]
["SA23",2025,"Choose",1004,5,null,null,null,null,null,null,null,null,null,null,null,null,null,null,null,null,null,"~"]
["SA23",2025,"Choose",1005,6,null,null,null,null,null,null,null,null,null,null,null,null,null,null,null,null,null,"~"]
["SA23",2025,"Choose",1006,7,null,null,null,null,null,null,null,null,null,null,null,null,null,null,null,null,null,"~"]
["SA23",2025,"Choose",1090,8,null,null,null,null,null,null,null,null,null,null,null,null,null,null,null,null,null,"~"]
["SA23",2025,"Choose",null,null,null,null,null,null,null,null,null,null,null,null,null,null,null,null,null,null,null,"~"]
["SA23",2025,"Choose",null,null,null,null,null,null,null,null,null,null,null,null,null,null,null,null,null,null,null,"~"]
["SA23",2025,"Choose",null,null,null,null,null,null,null,null,null,null,null,null,null,null,null,null,null,null,null,"~"]
["SA23",2025,"Choose",null,null,null,null,null,null,null,null,null,null,null,null,null,null,null,null,null,null,null,"~"]
["SA23",2025,"Choose",null,null,null,null,null,null,null,null,null,null,null,null,null,null,null,null,null,null,null,"~"]
["SA23",2025,"Choose",null,null,null,null,null,null,null,null,null,null,null,null,null,null,null,null,null,null,null,"~"]
["SA23",2025,"Choose",null,null,null,null,null,null,null,null,null,null,null,null,null,null,null,null,null,null,null,"~"]
["SA23",2025,"Choose",null,null,null,null,null,null,null,null,null,null,null,null,null,null,null,null,null,null,null,"~"]
["SA23",2025,"Choose",null,null,null,null,null,null,null,null,null,null,null,null,null,null,null,null,null,null,null,"~"]
["SA23",2025,"Choose",null,null,null,null,null,null,null,null,null,null,null,null,null,null,null,null,null,null,null,"~"]
["SA23",2025,"Choose",null,null,null,null,null,null,null,null,null,null,null,null,null,null,null,null,null,null,null,"~"]
["SA23",2025,"Choose",null,null,null,null,null,null,null,null,null,null,null,null,null,null,null,null,null,null,null,"~"]
["SA23",2025,"Choose",null,null,null,null,null,null,null,null,null,null,null,null,null,null,null,null,null,null,null,"~"]
["SA23",2025,"Choose",null,null,null,null,null,null,null,null,null,null,null,null,null,null,null,null,null,null,null,"~"]
["SA23",2025,"Choose",null,null,null,null,null,null,null,null,null,null,null,null,null,null,null,null,null,null,null,"~"]
["SA23",2025,"Choose",null,null,null,null,null,null,null,null,null,null,null,null,null,null,null,null,null,null,null,"~"]
["SA23",2025,"Choose",null,null,null,null,null,null,null,null,null,null,null,null,null,null,null,null,null,null,null,"~"]
["SA23",2025,"Choose",null,null,null,null,null,null,null,null,null,null,null,null,null,null,null,null,null,null,null,"~"]
["SA23",2025,"Choose",null,null,null,null,null,null,null,null,null,null,null,null,null,null,null,null,null,null,null,"~"]
["SA23",2025,"Choose",null,null,null,null,null,null,null,null,null,null,null,null,null,null,null,null,null,null,null,"~"]
["SA23",2025,"Choose",null,null,null,null,null,null,null,null,null,null,null,null,null,null,null,null,null,null,null,"~"]
["SA23",2025,"Choose",null,null,null,null,null,null,null,null,null,null,null,null,null,null,null,null,null,null,null,"~"]
["SA23",2025,"Choose",null,null,null,null,null,null,null,null,null,null,null,null,null,null,null,null,null,null,null,"~"]
["SA23",2025,"Choose",null,null,null,null,null,null,null,null,null,null,null,null,null,null,null,null,null,null,null,"~"]
["SA23",2025,"Choose",null,null,null,null,null,null,null,null,null,null,null,null,null,null,null,null,null,null,null,"~"]
["SA23",2025,"Choose",null,null,null,null,null,null,null,null,null,null,null,null,null,null,null,null,null,null,null,"~"]
["SA23",2025,"Choose",null,null,null,null,null,null,null,null,null,null,null,null,null,null,null,null,null,null,null,"~"]
["SA23",2025,"Choose",null,null,null,null,null,null,null,null,null,null,null,null,null,null,null,null,null,null,null,"~"]
["SA23",2025,"Choose",null,null,null,null,null,null,null,null,null,null,null,null,null,null,null,null,null,null,null,"~"]
["SA23",2025,"Choose",null,null,null,null,null,null,null,null,null,null,null,null,null,null,null,null,null,null,null,"~"]
["SA23",2025,"Choose",null,null,null,null,null,null,null,null,null,null,null,null,null,null,null,null,null,null,null,"~"]
["SA23",2025,"Choose",null,null,null,null,null,null,null,null,null,null,null,null,null,null,null,null,null,null,null,"~"]
["SA23",2025,"Choose",null,null,null,null,null,null,null,null,null,null,null,null,null,null,null,null,null,null,null,"~"]
["SA23",2025,"Choose",null,null,null,null,null,null,null,null,null,null,null,null,null,null,null,null,null,null,null,"~"]
["SA23",2025,"Choose",null,null,null,null,null,null,null,null,null,null,null,null,null,null,null,null,null,null,null,"~"]
["SA23",2025,"Choose",null,null,null,null,null,null,null,null,null,null,null,null,null,null,null,null,null,null,null,"~"]
["SA23",2025,"Choose",null,null,null,null,null,null,null,null,null,null,null,null,null,null,null,null,null,null,null,"~"]
["SA23",2025,"Choose",null,null,null,null,null,null,null,null,null,null,null,null,null,null,null,null,null,null,null,"~"]
["SA23",2025,"Choose",null,null,null,null,null,null,null,null,null,null,null,null,null,null,null,null,null,null,null,"~"]
["SA23",2025,"Choose",null,null,null,null,null,null,null,null,null,null,null,null,null,null,null,null,null,null,null,"~"]
["SA23",2025,"Choose",null,null,null,null,null,null,null,null,null,null,null,null,null,null,null,null,null,null,null,"~"]
["SA23",2025,"Choose",null,null,null,null,null,null,null,null,null,null,null,null,null,null,null,null,null,null,null,"~"]
["SA23",2025,"Choose",null,null,null,null,null,null,null,null,null,null,null,null,null,null,null,null,null,null,null,"~"]
["SA23",2025,"Choose",null,null,null,null,null,null,null,null,null,null,null,null,null,null,null,null,null,null,null,"~"]
["SA23",2025,"Choose",null,null,null,null,null,null,null,null,null,null,null,null,null,null,null,null,null,null,null,"~"]
["SA23",2025,"Choose",null,null,null,null,null,null,null,null,null,null,null,null,null,null,null,null,null,null,null,"~"]
["SA23",2025,"Choose",null,null,null,null,null,null,null,null,null,null,null,null,null,null,null,null,null,null,null,"~"]
["SA23",2025,"Choose",null,null,null,null,null,null,null,null,null,null,null,null,null,null,null,null,null,null,null,"~"]
["SA23",{"$f":"+MTREF","v":2025},{"$f":"LEFT(muni,(FIND(\" \",muni,1)-1))","v":"Choose"},null,null,null,null,null,null,null,null,null,null,null,null,null,null,null,null,null,null,null,"~"]
["SA23",2025,"Choose",null,null,null,null,null,null,null,null,null,null,null,null,null,null,null,null,null,null,null,"~"]
["SA23",2025,"Choose",null,null,null,null,null,null,null,null,null,null,null,null,null,null,null,null,null,null,null,"~"]
["SA23",2025,"Choose",null,null,null,null,null,null,null,null,null,null,null,null,null,null,null,null,null,null,null,"~"]
["SA23",2025,"Choose",null,null,null,null,null,null,null,null,null,null,null,null,null,null,null,null,null,null,null,"~"]
["SA23",2025,"Choose",null,null,null,null,null,null,null,null,null,null,null,null,null,null,null,null,null,null,null,"~"]
["SA23",2025,"Choose",null,null,null,null,null,null,null,null,null,null,null,null,null,null,null,null,null,null,null,"~"]
["SA23",2025,"Choose",null,null,null,null,null,null,null,null,null,null,null,null,null,null,null,null,null,null,null,"~"]
["SA23",2025,"Choose",null,null,null,null,null,null,null,null,null,null,null,null,null,null,null,null,null,null,null,"~"]
["SA23",2025,"Choose",null,null,null,null,null,null,null,null,null,null,null,null,null,null,null,null,null,null,null,"~"]
["SA23",2025,"Choose",null,null,null,null,null,null,null,null,null,null,null,null,null,null,null,null,null,null,null,"~"]
["SA23",2025,"Choose",null,null,null,null,null,null,null,null,null,null,null,null,null,null,null,null,null,null,null,"~"]
["SA23",2025,"Choose",null,null,null,null,null,null,null,null,null,null,null,null,null,null,null,null,null,null,null,"~"]
["SA23",2025,"Choose",null,null,null,null,null,null,null,null,null,null,null,null,null,null,null,null,null,null,null,"~"]
["SA23",2025,"Choose",null,null,null,null,null,null,null,null,null,null,null,null,null,null,null,null,null,null,null,"~"]
["SA23",2025,"Choose",null,null,null,null,null,null,null,null,null,null,null,null,null,null,null,null,null,null,null,"~"]
["SA23",2025,"Choose",null,null,null,null,null,null,null,null,null,null,null,null,null,null,null,null,null,null,null,"~"]
["SA23",2025,"Choose",null,null,null,null,null,null,null,null,null,null,null,null,null,null,null,null,null,null,null,"~"]
["SA23",2025,"Choose",null,null,null,null,null,null,null,null,null,null,null,null,null,null,null,null,null,null,null,"~"]
["SA23",2025,"Choose",null,null,null,null,null,null,null,null,null,null,null,null,null,null,null,null,null,null,null,"~"]
["SA23",2025,"Choose",null,null,null,null,null,null,null,null,null,null,null,null,null,null,null,null,null,null,null,"~"]
["SA23",2025,"Choose",null,null,null,null,null,null,null,null,null,null,null,null,null,null,null,null,null,null,null,"~"]
["SA23",2025,"Choose",null,null,null,null,null,null,null,null,null,null,null,null,null,null,null,null,null,null,null,"~"]
["SA23",2025,"Choose",null,null,null,null,null,null,null,null,null,null,null,null,null,null,null,null,null,null,null,"~"]
["SA23",2025,"Choose",null,null,null,null,null,null,null,null,null,null,null,null,null,null,null,null,null,null,null,"~"]
["SA23",2025,"Choose",null,null,null,null,null,null,null,null,null,null,null,null,null,null,null,null,null,null,null,"~"]
["SA23",2025,"Choose",null,null,null,null,null,null,null,null,null,null,null,null,null,null,null,null,null,null,null,"~"]
["SA23",2025,"Choose",null,null,null,null,null,null,null,null,null,null,null,null,null,null,null,null,null,null,null,"~"]
["SA23",2025,"Choose",null,null,null,null,null,null,null,null,null,null,null,null,null,null,null,null,null,null,null,"~"]
["SA23",2025,"Choose",null,null,null,null,null,null,null,null,null,null,null,null,null,null,null,null,null,null,null,"~"]
["SA23",2025,"Choose",null,null,null,null,null,null,null,null,null,null,null,null,null,null,null,null,null,null,null,"~"]
["SA23",2025,"Choose",null,null,null,null,null,null,null,null,null,null,null,null,null,null,null,null,null,null,null,"~"]
["SA23",2025,"Choose",null,null,null,null,null,null,null,null,null,null,null,null,null,null,null,null,null,null,null,"~"]
["SA23",2025,"Choose",null,null,null,null,null,null,null,null,null,null,null,null,null,null,null,null,null,null,null,"~"]
["SA23",2025,"Choose",null,null,null,null,null,null,null,null,null,null,null,null,null,null,null,null,null,null,null,"~"]
["SA23",2025,"Choose",null,null,null,null,null,null,null,null,null,null,null,null,null,null,null,null,null,null,null,"~"]
["SA23",2025,"Choose",null,null,null,null,null,null,null,null,null,null,null,null,null,null,null,null,null,null,null,"~"]
["SA23",2025,"Choose",null,null,null,null,null,null,null,null,null,null,null,null,null,null,null,null,null,null,null,"~"]
["SA23",2025,"Choose",null,null,null,null,null,null,null,null,null,null,null,null,null,null,null,null,null,null,null,"~"]
["SA23",2025,"Choose",null,null,null,null,null,null,null,null,null,null,null,null,null,null,null,null,null,null,null,"~"]
["SA23",2025,"Choose",null,null,null,null,null,null,null,null,null,null,null,null,null,null,null,null,null,null,null,"~"]
["SA23",2025,"Choose",null,null,null,null,null,null,null,null,null,null,null,null,null,null,null,null,null,null,null,"~"]
["SA23",2025,"Choose",null,null,null,null,null,null,null,null,null,null,null,null,null,null,null,null,null,null,null,"~"]
["SA24",2025,"Choose",1000,1,"Municipal Council and Boards of Municipal Entities",null,null,null,null,null,null,null,null,null,null,null,null,null,null,null,null,"~"]
["SA24",2025,"Choose",1001,2,"Councillors (Political Office Bearers and Other Councillors)",null,null,null,null,null,null,null,null,null,null,null,null,null,null,null,null,"~"]
["SA24",2025,"Choose",1002,3,"Board Members of municipal entities",null,null,null,null,null,null,null,null,null,null,null,null,null,null,null,null,"~"]
["SA24",2025,"Choose",1100,4,"Municipal employees",null,null,null,null,null,null,null,null,null,null,null,null,null,null,null,null,"~"]
["SA24",2025,"Choose",1101,5,"Municipal Manager and Senior Managers",null,null,null,null,null,null,null,null,null,null,null,null,null,null,null,null,"~"]
["SA24",2025,"Choose",1102,6,"Other Managers",null,null,null,null,null,null,null,null,null,null,null,null,null,null,null,null,"~"]
["SA24",2025,"Choose",1103,7,"Professionals",null,null,null,null,null,null,null,null,null,null,null,null,null,null,null,null,"~"]
["SA24",2025,"Choose",1104,8,"Finance",null,null,null,null,null,null,null,null,null,null,null,null,null,null,null,null,"~"]
["SA24",2025,"Choose",1105,9,"Spatial/town planning",null,null,null,null,null,null,null,null,null,null,null,null,null,null,null,null,"~"]
["SA24",2025,"Choose",1106,10,"Information Technology",null,null,null,null,null,null,null,null,null,null,null,null,null,null,null,null,"~"]
["SA24",2025,"Choose",1107,11,"Roads",null,null,null,null,null,null,null,null,null,null,null,null,null,null,null,null,"~"]
["SA24",2025,"Choose",1108,12,"Electricity",null,null,null,null,null,null,null,null,null,null,null,null,null,null,null,null,"~"]
["SA24",2025,"Choose",1109,13,"Water",null,null,null,null,null,null,null,null,null,null,null,null,null,null,null,null,"~"]
["SA24",2025,"Choose",1110,14,"Sanitation",null,null,null,null,null,null,null,null,null,null,null,null,null,null,null,null,"~"]
["SA24",2025,"Choose",1111,15,"Refuse",null,null,null,null,null,null,null,null,null,null,null,null,null,null,null,null,"~"]
["SA24",2025,"Choose",1112,16,"Other",null,null,null,null,null,null,null,null,null,null,null,null,null,null,null,null,"~"]
["SA24",2025,"Choose",1113,17,"Technicians",null,null,null,null,null,null,null,null,null,null,null,null,null,null,null,null,"~"]
["SA24",2025,"Choose",1114,18,"Finance",null,null,null,null,null,null,null,null,null,null,null,null,null,null,null,null,"~"]
["SA24",2025,"Choose",1115,19,"Spatial/town planning",null,null,null,null,null,null,null,null,null,null,null,null,null,null,null,null,"~"]
["SA24",2025,"Choose",1116,20,"Information Technology",null,null,null,null,null,null,null,null,null,null,null,null,null,null,null,null,"~"]
["SA24",2025,"Choose",1117,21,"Roads",null,null,null,null,null,null,null,null,null,null,null,null,null,null,null,null,"~"]
["SA24",{"$f":"+MTREF","v":2025},{"$f":"LEFT(muni,(FIND(\" \",muni,1)-1))","v":"Choose"},1118,22,"Electricity",null,null,null,null,null,null,null,null,null,null,null,null,null,null,null,null,"~"]
["SA24",2025,"Choose",1119,23,"Water",null,null,null,null,null,null,null,null,null,null,null,null,null,null,null,null,"~"]
["SA24",2025,"Choose",1120,24,"Sanitation",null,null,null,null,null,null,null,null,null,null,null,null,null,null,null,null,"~"]
["SA24",2025,"Choose",1121,25,"Refuse",null,null,null,null,null,null,null,null,null,null,null,null,null,null,null,null,"~"]
["SA24",2025,"Choose",1122,26,"Other",null,null,null,null,null,null,null,null,null,null,null,null,null,null,null,null,"~"]
["SA24",2025,"Choose",1123,27,"Clerks (Clerical and administrative)",null,null,null,null,null,null,null,null,null,null,null,null,null,null,null,null,"~"]
["SA24",2025,"Choose",1124,28,"Service and sales workers",null,null,null,null,null,null,null,null,null,null,null,null,null,null,null,null,"~"]
["SA24",2025,"Choose",1125,29,"Skilled agricultural and fishery workers",null,null,null,null,null,null,null,null,null,null,null,null,null,null,null,null,"~"]
["SA24",2025,"Choose",1126,30,"Craft and related trades",null,null,null,null,null,null,null,null,null,null,null,null,null,null,null,null,"~"]
["SA24",2025,"Choose",1127,31,"Plant and Machine Operators",null,null,null,null,null,null,null,null,null,null,null,null,null,null,null,null,"~"]
["SA24",2025,"Choose",1128,32,"Elementary Occupations",null,null,null,null,null,null,null,null,null,null,null,null,null,null,null,null,"~"]
["SA24",2025,"Choose",1190,33,"TOTAL PERSONNEL NUMBERS",null,null,null,null,null,null,null,null,null,null,null,null,null,null,null,null,"~"]
["SA24",2025,"Choose",1191,34,"% increase",null,null,null,null,null,null,null,null,null,null,null,null,null,null,null,null,"~"]
["SA24",2025,"Choose",null,null,null,null,null,null,null,null,null,null,null,null,null,null,null,null,null,null,null,"~"]
["SA24",2025,"Choose",1200,35,"Total municipal employees headcount",null,null,null,null,null,null,null,null,null,null,null,null,null,null,null,null,"~"]
["SA24",2025,"Choose",1201,36,"Finance personnel headcount",null,null,null,null,null,null,null,null,null,null,null,null,null,null,null,null,"~"]
["SA24",2025,"Choose",1202,37,"Human Resources personnel headcount",null,null,null,null,null,null,null,null,null,null,null,null,null,null,null,null,"~"]
["OTHER",2025,"Choose","1001",1,"Unspent conditional transfers",null,null,null,null,null,null,null,null,null,null,null,null,null,null,null,null,"~"]
["OTHER",2025,"Choose","1002",2,"Unspent borrowing",null,null,null,null,null,null,null,null,null,null,null,null,null,null,null,null,"~"]
["OTHER",2025,"Choose","1003",3,"Statutory requirements",null,null,null,null,null,null,null,null,null,null,null,null,null,null,null,null,"~"]
["OTHER",2025,"Choose","1005",5,"Other provisions",null,null,null,null,null,null,null,null,null,null,null,null,null,null,null,null,"~"]
["OTHER",2025,"Choose","1006",6,"Long term investments committed",null,null,null,null,null,null,null,null,null,null,null,null,null,null,null,null,"~"]
["OTHER",2025,"Choose","1007",7,"Reserves to be backed by cash/investments",null,null,null,null,null,null,null,null,null,null,null,null,null,null,null,null,"~"]
["OTHER",2025,"Choose","1008",8,"Estimate of other debtors > 90 days",null,null,null,null,null,null,null,null,null,null,null,null,null,null,null,null,"~"]
["OTHER",2025,"Choose",2001,9,"Contributions recognised - capital",null,null,null,null,null,null,null,null,null,null,null,null,null,null,null,null,"~"]
["OTHER",2025,"Choose","3001",10,"Depreciation offsets",null,null,null,null,null,null,null,null,null,null,null,null,null,null,null,null,"~"]
["OTHER",2025,"Choose","4001",11,"Fixed operational expenditure % assumption",null,null,null,null,null,null,null,null,null,null,null,null,null,null,null,null,"~"]
["OTHER",2025,"Choose",5000,50,"Repairs and Maintenance by Expenditure Item",null,null,null,null,null,null,null,null,null,null,null,null,null,null,null,null,"~"]
["OTHER",2025,"Choose",5001,51,"Employee related costs",null,null,null,null,null,null,null,null,null,null,null,null,null,null,null,null,"~"]
["OTHER",2025,"Choose",5002,52,"Other materials",null,null,null,null,null,null,null,null,null,null,null,null,null,null,null,null,"~"]
["OTHER",2025,"Choose",5003,53,"Contracted Services",null,null,null,null,null,null,null,null,null,null,null,null,null,null,null,null,"~"]
["OTHER",2025,"Choose",5004,54,"Other Expenditure",null,null,null,null,null,null,null,null,null,null,null,null,null,null,null,null,"~"]
["OTHER",2025,"Choose",5005,55,"Total Repairs and Maintenance Expenditure",null,null,null,null,null,null,null,null,null,null,null,null,null,null,null,null,"~"]
["OTHER",2025,"Choose",6001,61,"Volume Electricity Distribution Losses",null,null,null,null,null,null,null,null,null,null,null,null,null,null,null,null,"~"]
["OTHER",2025,"Choose",6002,62,"Cost Electiricty Distribution Losses",null,null,null,null,null,null,null,null,null,null,null,null,null,null,null,null,"~"]
["OTHER",2025,"Choose",null,null,null,null,null,null,null,null,null,null,null,null,null,null,null,null,null,null,null,"~"]
["OTHER",2025,"Choose",6003,63,"Volume Water Distribution Losses",null,null,null,null,null,null,null,null,null,null,null,null,null,null,null,null,"~"]
["OTHER",2025,"Choose",6004,64,"Cost Water Distribution Losses",null,null,null,null,null,null,null,null,null,null,null,null,null,null,null,null,"~"]
["OTHER",2025,"Choose",null,null,null,null,null,null,null,null,null,null,null,null,null,null,null,null,null,null,null,"~"]
["OTHER",2025,"Choose",7001,71,"Consultant Fees",null,null,null,null,null,null,null,null,null,null,null,null,null,null,null,null,"~"]
["OTHER",2025,"Choose",7002,72,"Audit Fees",null,null,null,null,null,null,null,null,null,null,null,null,null,null,null,null,"~"]
["SA36",2025,"Choose",1,null,null,null,null,null,null,null,null,null,null,null,null,null,null,null,null,null,null,"~"]
["SA36",2025,"Choose",2,null,null,null,null,null,null,null,null,null,null,null,null,null,null,null,null,null,null,"~"]
["SA36",2025,"Choose",3,null,null,null,null,null,null,null,null,null,null,null,null,null,null,null,null,null,null,"~"]
["SA36",2025,"Choose",4,null,null,null,null,null,null,null,null,null,null,null,null,null,null,null,null,null,null,"~"]
["SA36",2025,"Choose",5,null,null,null,null,null,null,null,null,null,null,null,null,null,null,null,null,null,null,"~"]
["SA36",2025,"Choose",6,null,null,null,null,null,null,null,null,null,null,null,null,null,null,null,null,null,null,"~"]
["SA36",2025,"Choose",7,null,null,null,null,null,null,null,null,null,null,null,null,null,null,null,null,null,null,"~"]
["SA36",2025,"Choose",8,null,null,null,null,null,null,null,null,null,null,null,null,null,null,null,null,null,null,"~"]
["SA36",2025,"Choose",9,null,null,null,null,null,null,null,null,null,null,null,null,null,null,null,null,null,null,"~"]
["SA36",2025,"Choose",10,null,null,null,null,null,null,null,null,null,null,null,null,null,null,null,null,null,null,"~"]
["SA36",2025,"Choose",11,null,null,null,null,null,null,null,null,null,null,null,null,null,null,null,null,null,null,"~"]
["SA36",2025,"Choose",12,null,null,null,null,null,null,null,null,null,null,null,null,null,null,null,null,null,null,"~"]
["SA36",2025,"Choose",13,null,null,null,null,null,null,null,null,null,null,null,null,null,null,null,null,null,null,"~"]
["SA36",2025,"Choose",14,null,null,null,null,null,null,null,null,null,null,null,null,null,null,null,null,null,null,"~"]
["SA36",2025,"Choose",15,null,null,null,null,null,null,null,null,null,null,null,null,null,null,null,null,null,null,"~"]
["SA36",2025,"Choose",16,null,null,null,null,null,null,null,null,null,null,null,null,null,null,null,null,null,null,"~"]
["SA36",2025,"Choose",17,null,null,null,null,null,null,null,null,null,null,null,0,0,null,null,0,null,null,"~"]
["SA36",2025,"Choose",18,null,null,null,null,null,null,null,null,null,null,null,null,null,null,null,null,null,null,"~"]
["SA36",2025,"Choose",19,null,null,null,null,null,null,null,null,null,null,null,null,null,null,null,null,null,null,"~"]
["SA36",2025,"Choose",20,null,null,null,null,null,null,null,null,null,null,null,null,null,null,null,null,null,null,"~"]
["SA36",2025,"Choose",21,null,null,null,null,null,null,null,null,null,null,null,null,null,null,null,null,null,null,"~"]
["SA36",2025,"Choose",22,null,null,null,null,null,null,null,null,null,null,null,null,null,null,null,null,null,null,"~"]
["SA36",2025,"Choose",23,null,null,null,null,null,null,null,null,null,null,null,null,null,null,null,null,null,null,"~"]
["SA36",{"$f":"+MTREF","v":2025},{"$f":"LEFT(muni,(FIND(\" \",muni,1)-1))","v":"Choose"},24,null,null,null,null,null,null,null,null,null,null,null,null,null,null,null,null,null,null,"~"]
["SA36",2025,"Choose",25,null,null,null,null,null,null,null,null,null,null,null,null,null,null,null,null,null,null,"~"]
["SA36",2025,"Choose",26,null,null,null,null,null,null,null,null,null,null,null,null,null,null,null,null,null,null,"~"]
["SA36",2025,"Choose",27,null,null,null,null,null,null,null,null,null,null,null,null,null,null,null,null,null,null,"~"]
["SA36",2025,"Choose",28,null,null,null,null,null,null,null,null,null,null,null,null,null,null,null,null,null,null,"~"]
["SA36",2025,"Choose",29,null,null,null,null,null,null,null,null,null,null,null,null,null,null,null,null,null,null,"~"]
["SA36",2025,"Choose",30,null,null,null,null,null,null,null,null,null,0,0,0,0,null,null,null,null,null,"~"]
["SA36",2025,"Choose",31,null,null,null,null,null,null,null,null,null,0,0,0,0,null,null,null,null,null,"~"]
["SA36",2025,"Choose",32,null,null,null,null,null,null,null,null,null,null,null,null,null,null,null,null,null,null,"~"]
["SA36",2025,"Choose",33,null,null,null,null,null,null,null,null,null,null,null,null,null,null,null,null,null,null,"~"]
["SA36",2025,"Choose",34,null,null,null,null,null,null,null,null,null,null,null,null,null,null,null,null,null,null,"~"]
["SA36",2025,"Choose",35,null,null,null,null,null,null,null,null,null,null,null,null,null,null,null,null,null,null,"~"]
["SA36",2025,"Choose",36,null,null,null,null,null,null,null,null,null,null,null,null,null,null,null,null,null,null,"~"]
["SA36",2025,"Choose",37,null,null,null,null,null,null,null,null,null,null,null,null,null,null,null,null,null,null,"~"]
["SA36",2025,"Choose",38,null,null,null,null,null,null,null,null,"Check",0,null,null,null,null,null,null,null,null,"~"]
["SA36",2025,"Choose",39,null,null,null,null,null,null,null,null,null,null,null,null,null,null,null,null,null,null,"~"]
["SA36",2025,"Choose",40,null,null,null,null,null,null,null,null,null,null,null,null,null,null,null,null,null,null,"~"]
["SA36",2025,"Choose",41,null,null,null,null,null,null,null,null,null,null,null,null,null,null,null,null,null,null,"~"]
["SA36",2025,"Choose",42,null,null,null,null,null,null,null,null,null,null,null,null,null,null,null,null,null,null,"~"]
["SA36",2025,"Choose",43,null,null,null,null,null,null,null,null,null,null,null,null,null,null,null,null,null,null,"~"]
["SA36",2025,"Choose",44,null,null,null,null,null,null,null,null,null,null,null,null,null,null,null,null,null,null,"~"]
["SA36",2025,"Choose",45,null,null,null,null,null,null,null,null,null,null,null,null,null,null,null,null,null,null,"~"]
["SA36",2025,"Choose",46,null,null,null,null,null,null,null,null,null,null,null,null,null,null,null,null,null,null,"~"]
["SA36",2025,"Choose",47,null,null,null,null,null,null,null,null,null,null,null,null,null,null,null,null,null,null,"~"]
["SA36",2025,"Choose",48,null,null,null,null,null,null,null,null,null,null,null,null,null,null,null,null,null,null,"~"]
["SA36",2025,"Choose",49,null,null,null,null,null,null,null,null,null,null,null,null,null,null,null,null,null,null,"~"]
["SA36",2025,"Choose",50,null,null,null,null,null,null,null,null,null,null,null,null,null,null,null,null,null,null,"~"]
["SA36",2025,"Choose",51,null,null,null,null,null,null,null,null,null,null,null,null,null,null,null,null,null,null,"~"]
["SA36",2025,"Choose",52,null,null,null,null,null,null,null,null,null,null,null,null,null,null,null,null,null,null,"~"]
["SA36",2025,"Choose",53,null,null,null,null,null,null,null,null,null,null,null,null,null,null,null,null,null,null,"~"]
["SA36",2025,"Choose",54,null,null,null,null,null,null,null,null,null,null,null,null,null,null,null,null,null,null,"~"]
["SA36",2025,"Choose",55,null,null,null,null,null,null,null,null,null,null,null,null,null,null,null,null,null,null,"~"]
["SA36",2025,"Choose",56,null,null,null,null,null,null,null,null,null,null,null,null,null,null,null,null,null,null,"~"]
["SA36",2025,"Choose",57,null,null,null,null,null,null,null,null,null,null,null,null,null,null,null,null,null,null,"~"]
["SA36",2025,"Choose",58,null,null,null,null,null,null,null,null,null,null,null,null,null,null,null,null,null,null,"~"]
["SA36",2025,"Choose",59,null,null,null,null,null,null,null,null,null,null,null,null,null,null,null,null,null,null,"~"]
["SA36",2025,"Choose",60,null,null,null,null,null,null,null,null,null,null,null,null,null,null,null,null,null,null,"~"]
["SA36",2025,"Choose",61,null,null,null,null,null,null,null,null,null,null,null,null,null,null,null,null,null,null,"~"]
["SA36",2025,"Choose",62,null,null,null,null,null,null,null,null,null,null,null,null,null,null,null,null,null,null,"~"]
["SA36",2025,"Choose",63,null,null,null,null,null,null,null,null,null,null,null,null,null,null,null,null,null,null,"~"]
["SA36",2025,"Choose",64,null,null,null,null,null,null,null,null,null,null,null,null,null,null,null,null,null,null,"~"]
["SA36",2025,"Choose",65,null,null,null,null,null,null,null,null,null,null,null,null,null,null,null,null,null,null,"~"]
["SA36",2025,"Choose",66,null,null,null,null,null,null,null,null,null,null,null,null,null,null,null,null,null,null,"~"]
["SA36",2025,"Choose",67,null,null,null,null,null,null,null,null,null,null,null,null,null,null,null,null,null,null,"~"]
["SA36",2025,"Choose",68,null,null,null,null,null,null,null,null,null,null,null,null,null,null,null,null,null,null,"~"]
["SA36",2025,"Choose",69,null,null,null,null,null,null,null,null,null,null,null,null,null,null,null,null,null,null,"~"]
["SA36",2025,"Choose",70,null,null,null,null,null,null,null,null,null,null,null,null,null,null,null,null,null,null,"~"]
["SA36",2025,"Choose",71,null,null,null,null,null,null,null,null,null,null,null,null,null,null,null,null,null,null,"~"]
["SA36",2025,"Choose",72,null,null,null,null,null,null,null,null,null,null,null,null,null,null,null,null,null,null,"~"]
["SA36",2025,"Choose",73,null,null,null,null,null,null,null,null,null,null,null,null,null,null,null,null,null,null,"~"]
["SA36",2025,"Choose",74,null,null,null,null,null,null,null,null,null,null,null,null,null,null,null,null,null,null,"~"]
["SA36",2025,"Choose",75,null,null,null,null,null,null,null,null,null,null,null,null,null,null,null,null,null,null,"~"]
["SA36",2025,"Choose",76,null,null,null,null,null,null,null,null,null,null,null,null,null,null,null,null,null,null,"~"]
["SA36",2025,"Choose",77,null,null,null,null,null,null,null,null,null,null,null,null,null,null,null,null,null,null,"~"]
["SA36",2025,"Choose",78,null,null,null,null,null,null,null,null,null,null,null,null,null,null,null,null,null,null,"~"]
["SA36",2025,"Choose",79,null,null,null,null,null,null,null,null,null,null,null,null,null,null,null,null,null,null,"~"]
["SA36",2025,"Choose",80,null,null,null,null,null,null,null,null,null,null,null,null,null,null,null,null,null,null,"~"]
["SA36",2025,"Choose",81,null,null,null,null,null,null,null,null,null,null,null,null,null,null,null,null,null,null,"~"]
["SA36",2025,"Choose",82,null,null,null,null,null,null,null,null,null,null,null,null,null,null,null,null,null,null,"~"]
["SA36",2025,"Choose",83,null,null,null,null,null,null,null,null,null,null,null,null,null,null,null,null,null,null,"~"]
["SA36",2025,"Choose",84,null,null,null,null,null,null,null,null,null,null,null,null,null,null,null,null,null,null,"~"]
["SA36",2025,"Choose",85,null,null,null,null,null,null,null,null,null,null,null,null,null,null,null,null,null,null,"~"]
["SA36",2025,"Choose",86,null,null,null,null,null,null,null,null,null,null,null,null,null,null,null,null,null,null,"~"]
["SA36",2025,"Choose",87,null,null,null,null,null,null,null,null,null,null,null,null,null,null,null,null,null,null,"~"]
["SA36",{"$f":"+MTREF","v":2025},{"$f":"LEFT(muni,(FIND(\" \",muni,1)-1))","v":"Choose"},88,null,null,null,null,null,null,null,null,null,null,null,null,null,null,null,null,null,null,"~"]
["SA36",2025,"Choose",89,null,null,null,null,null,null,null,null,null,null,null,null,null,null,null,null,null,null,"~"]
["SA36",2025,"Choose",90,null,null,null,null,null,null,null,null,null,null,null,null,null,null,null,null,null,null,"~"]
["SA36",2025,"Choose",91,null,null,null,null,null,null,null,null,null,null,null,null,null,null,null,null,null,null,"~"]
["SA36",2025,"Choose",92,null,null,null,null,null,null,null,null,null,null,null,null,null,null,null,null,null,null,"~"]
["SA36",2025,"Choose",93,null,null,null,null,null,null,null,null,null,null,null,null,null,null,null,null,null,null,"~"]
["SA36",2025,"Choose",94,null,null,null,null,null,null,null,null,null,null,null,null,null,null,null,null,null,null,"~"]
["SA36",2025,"Choose",95,null,null,null,null,null,null,null,null,null,null,null,null,null,null,null,null,null,null,"~"]
["SA36",2025,"Choose",96,null,null,null,null,null,null,null,null,null,null,null,null,null,null,null,null,null,null,"~"]
["SA36",2025,"Choose",97,null,null,null,null,null,null,null,null,null,null,null,null,null,null,null,null,null,null,"~"]
["SA36",2025,"Choose",98,null,null,null,null,null,null,null,null,null,null,null,null,null,null,null,null,null,null,"~"]
["SA36",2025,"Choose",99,null,null,null,null,null,null,null,null,null,null,null,null,null,null,null,null,null,null,"~"]
["SA36",2025,"Choose",100,null,null,null,null,null,null,null,null,null,null,null,null,null,null,null,null,null,null,"~"]
["SA36",2025,"Choose",101,null,null,null,null,null,null,null,null,null,null,null,null,null,null,null,null,null,null,"~"]
["SA36",2025,"Choose",102,null,null,null,null,null,null,null,null,null,null,null,null,null,null,null,null,null,null,"~"]
["SA36",2025,"Choose",103,null,null,null,null,null,null,null,null,null,null,null,null,null,null,null,null,null,null,"~"]
["SA36",2025,"Choose",104,null,null,null,null,null,null,null,null,null,null,null,null,null,null,null,null,null,null,"~"]
["SA36",2025,"Choose",105,null,null,null,null,null,null,null,null,null,null,null,null,null,null,null,null,null,null,"~"]
["SA36",2025,"Choose",106,null,null,null,null,null,null,null,null,null,null,null,null,null,null,null,null,null,null,"~"]
["SA36",2025,"Choose",107,null,null,null,null,null,null,null,null,null,null,null,null,null,null,null,null,null,null,"~"]
["SA36",2025,"Choose",108,null,null,null,null,null,null,null,null,null,null,null,null,null,null,null,null,null,null,"~"]
["SA36",2025,"Choose",109,null,null,null,null,null,null,null,null,null,null,null,null,null,null,null,null,null,null,"~"]
["SA36",2025,"Choose",110,null,null,null,null,null,null,null,null,null,null,null,null,null,null,null,null,null,null,"~"]
["SA36",2025,"Choose",111,null,null,null,null,null,null,null,null,null,null,null,null,null,null,null,null,null,null,"~"]
["SA36",2025,"Choose",112,null,null,null,null,null,null,null,null,null,null,null,null,null,null,null,null,null,null,"~"]
["SA36",2025,"Choose",113,null,null,null,null,null,null,null,null,null,null,null,null,null,null,null,null,null,null,"~"]
["SA36",2025,"Choose",114,null,null,null,null,null,null,null,null,null,null,null,null,null,null,null,null,null,null,"~"]
["SA36",2025,"Choose",115,null,null,null,null,null,null,null,null,null,null,null,null,null,null,null,null,null,null,"~"]
["SA36",2025,"Choose",116,null,null,null,null,null,null,null,null,null,null,null,null,null,null,null,null,null,null,"~"]
["SA36",2025,"Choose",117,null,null,null,null,null,null,null,null,null,null,null,null,null,null,null,null,null,null,"~"]
["SA36",2025,"Choose",118,null,null,null,null,null,null,null,null,null,null,null,null,null,null,null,null,null,null,"~"]
["SA36",2025,"Choose",119,null,null,null,null,null,null,null,null,null,null,null,null,null,null,null,null,null,null,"~"]
["SA36",2025,"Choose",120,null,null,null,null,null,null,null,null,null,null,null,null,null,null,null,null,null,null,"~"]
["SA36",2025,"Choose",121,null,null,null,null,null,null,null,null,null,null,null,null,null,null,null,null,null,null,"~"]
["SA36",2025,"Choose",122,null,null,null,null,null,null,null,null,null,null,null,null,null,null,null,null,null,null,"~"]
["SA36",2025,"Choose",123,null,null,null,null,null,null,null,null,null,null,null,null,null,null,null,null,null,null,"~"]
["SA36",2025,"Choose",124,null,null,null,null,null,null,null,null,null,null,null,null,null,null,null,null,null,null,"~"]
["SA36",2025,"Choose",125,null,null,null,null,null,null,null,null,null,null,null,null,null,null,null,null,null,null,"~"]
["SA36",2025,"Choose",126,null,null,null,null,null,null,null,null,null,null,null,null,null,null,null,null,null,null,"~"]
["SA36",2025,"Choose",127,null,null,null,null,null,null,null,null,null,null,null,null,null,null,null,null,null,null,"~"]
["SA36",2025,"Choose",128,null,null,null,null,null,null,null,null,null,null,null,null,null,null,null,null,null,null,"~"]
["SA36",2025,"Choose",129,null,null,null,null,null,null,null,null,null,null,null,null,null,null,null,null,null,null,"~"]
["SA36",2025,"Choose",130,null,null,null,null,null,null,null,null,null,null,null,null,null,null,null,null,null,null,"~"]
["SA36",2025,"Choose",131,null,null,null,null,null,null,null,null,null,null,null,null,null,null,null,null,null,null,"~"]
["SA36",2025,"Choose",132,null,null,null,null,null,null,null,null,null,null,null,null,null,null,null,null,null,null,"~"]
["SA36",2025,"Choose",133,null,null,null,null,null,null,null,null,null,null,null,null,null,null,null,null,null,null,"~"]
["SA36",2025,"Choose",134,null,null,null,null,null,null,null,null,null,null,null,null,null,null,null,null,null,null,"~"]
["SA36",2025,"Choose",135,null,null,null,null,null,null,null,null,null,null,null,null,null,null,null,null,null,null,"~"]
["SA36",2025,"Choose",136,null,null,null,null,null,null,null,null,null,null,null,null,null,null,null,null,null,null,"~"]
["SA36",2025,"Choose",137,null,null,null,null,null,null,null,null,null,null,null,null,null,null,null,null,null,null,"~"]
["SA36",2025,"Choose",138,null,null,null,null,null,null,null,null,null,null,null,null,null,null,null,null,null,null,"~"]
["SA36",2025,"Choose",139,null,null,null,null,null,null,null,null,null,null,null,null,null,null,null,null,null,null,"~"]
["SA36",2025,"Choose",140,null,null,null,null,null,null,null,null,null,null,null,null,null,null,null,null,null,null,"~"]
["SA36",2025,"Choose",141,null,null,null,null,null,null,null,null,null,null,null,null,null,null,null,null,null,null,"~"]
["SA36",2025,"Choose",142,null,null,null,null,null,null,null,null,null,null,null,null,null,null,null,null,null,null,"~"]
["SA36",2025,"Choose",143,null,null,null,null,null,null,null,null,null,null,null,null,null,null,null,null,null,null,"~"]
["SA36",2025,"Choose",144,null,null,null,null,null,null,null,null,null,null,null,null,null,null,null,null,null,null,"~"]
["SA36",2025,"Choose",145,null,null,null,null,null,null,null,null,null,null,null,null,null,null,null,null,null,null,"~"]
["SA36",2025,"Choose",146,null,null,null,null,null,null,null,null,null,null,null,null,null,null,null,null,null,null,"~"]
["SA36",2025,"Choose",147,null,null,null,null,null,null,null,null,null,null,null,null,null,null,null,null,null,null,"~"]
["SA36",2025,"Choose",148,null,null,null,null,null,null,null,null,null,null,null,null,null,null,null,null,null,null,"~"]
["SA36",2025,"Choose",149,null,null,null,null,null,null,null,null,null,null,null,null,null,null,null,null,null,null,"~"]
["SA36",2025,"Choose",150,null,null,null,null,null,null,null,null,null,null,null,null,null,null,null,null,null,null,"~"]
["SA36",2025,"Choose",151,null,null,null,null,null,null,null,null,null,null,null,null,null,null,null,null,null,null,"~"]
["SA36",{"$f":"+MTREF","v":2025},{"$f":"LEFT(muni,(FIND(\" \",muni,1)-1))","v":"Choose"},152,null,null,null,null,null,null,null,null,null,null,null,null,null,null,null,null,null,null,"~"]
["SA36",2025,"Choose",153,null,null,null,null,null,null,null,null,null,null,null,null,null,null,null,null,null,null,"~"]
["SA36",2025,"Choose",154,null,null,null,null,null,null,null,null,null,null,null,null,null,null,null,null,null,null,"~"]
["SA36",2025,"Choose",155,null,null,null,null,null,null,null,null,null,null,null,null,null,null,null,null,null,null,"~"]
["SA36",2025,"Choose",156,null,null,null,null,null,null,null,null,null,null,null,null,null,null,null,null,null,null,"~"]
["SA36",2025,"Choose",157,null,null,null,null,null,null,null,null,null,null,null,null,null,null,null,null,null,null,"~"]
["SA36",2025,"Choose",158,null,null,null,null,null,null,null,null,null,null,null,null,null,null,null,null,null,null,"~"]
["SA36",2025,"Choose",159,null,null,null,null,null,null,null,null,null,null,null,null,null,null,null,null,null,null,"~"]
["SA36",2025,"Choose",160,null,null,null,null,null,null,null,null,null,null,null,null,null,null,null,null,null,null,"~"]
["SA36",2025,"Choose",161,null,null,null,null,null,null,null,null,null,null,null,null,null,null,null,null,null,null,"~"]
["SA36",2025,"Choose",162,null,null,null,null,null,null,null,null,null,null,null,null,null,null,null,null,null,null,"~"]
["SA36",2025,"Choose",163,null,null,null,null,null,null,null,null,null,null,null,null,null,null,null,null,null,null,"~"]
["SA36",2025,"Choose",164,null,null,null,null,null,null,null,null,null,null,null,null,null,null,null,null,null,null,"~"]
["SA36",2025,"Choose",165,null,null,null,null,null,null,null,null,null,null,null,null,null,null,null,null,null,null,"~"]
["SA36",2025,"Choose",166,null,null,null,null,null,null,null,null,null,null,null,null,null,null,null,null,null,null,"~"]
["SA36",2025,"Choose",167,null,null,null,null,null,null,null,null,null,null,null,null,null,null,null,null,null,null,"~"]
["SA36",2025,"Choose",168,null,null,null,null,null,null,null,null,null,null,null,null,null,null,null,null,null,null,"~"]
["SA36",2025,"Choose",169,null,null,null,null,null,null,null,null,null,null,null,null,null,null,null,null,null,null,"~"]
["SA36",2025,"Choose",170,null,null,null,null,null,null,null,null,null,null,null,null,null,null,null,null,null,null,"~"]
["SA36",2025,"Choose",171,null,null,null,null,null,null,null,null,null,null,null,null,null,null,null,null,null,null,"~"]
["SA36",2025,"Choose",172,null,null,null,null,null,null,null,null,null,null,null,null,null,null,null,null,null,null,"~"]
["SA36",2025,"Choose",173,null,null,null,null,null,null,null,null,null,null,null,null,null,null,null,null,null,null,"~"]
["SA36",2025,"Choose",174,null,null,null,null,null,null,null,null,null,null,null,null,null,null,null,null,null,null,"~"]
["SA36",2025,"Choose",175,null,null,null,null,null,null,null,null,null,null,null,null,null,null,null,null,null,null,"~"]
["SA36",2025,"Choose",176,null,null,null,null,null,null,null,null,null,null,null,null,null,null,null,null,null,null,"~"]
["SA36",2025,"Choose",177,null,null,null,null,null,null,null,null,null,null,null,null,null,null,null,null,null,null,"~"]
["SA36",2025,"Choose",178,null,null,null,null,null,null,null,null,null,null,null,null,null,null,null,null,null,null,"~"]
["SA36",2025,"Choose",179,null,null,null,null,null,null,null,null,null,null,null,null,null,null,null,null,null,null,"~"]
["SA36",2025,"Choose",180,null,null,null,null,null,null,null,null,null,null,null,null,null,null,null,null,null,null,"~"]
["SA36",2025,"Choose",181,null,null,null,null,null,null,null,null,null,null,null,null,null,null,null,null,null,null,"~"]
["SA36",2025,"Choose",182,null,null,null,null,null,null,null,null,null,null,null,null,null,null,null,null,null,null,"~"]
["SA36",2025,"Choose",183,null,null,null,null,null,null,null,null,null,null,null,null,null,null,null,null,null,null,"~"]
["SA36",2025,"Choose",184,null,null,null,null,null,null,null,null,null,null,null,null,null,null,null,null,null,null,"~"]
["SA36",2025,"Choose",185,null,null,null,null,null,null,null,null,null,null,null,null,null,null,null,null,null,null,"~"]
["SA36",2025,"Choose",186,null,null,null,null,null,null,null,null,null,null,null,null,null,null,null,null,null,null,"~"]
["SA36",2025,"Choose",187,null,null,null,null,null,null,null,null,null,null,null,null,null,null,null,null,null,null,"~"]
["SA36",2025,"Choose",188,null,null,null,null,null,null,null,null,null,null,null,null,null,null,null,null,null,null,"~"]
["SA36",2025,"Choose",189,null,null,null,null,null,null,null,null,null,null,null,null,null,null,null,null,null,null,"~"]
["SA36",2025,"Choose",190,null,null,null,null,null,null,null,null,null,null,null,null,null,null,null,null,null,null,"~"]
["SA36",2025,"Choose",191,null,null,null,null,null,null,null,null,null,null,null,null,null,null,null,null,null,null,"~"]
["SA36",2025,"Choose",192,null,null,null,null,null,null,null,null,null,null,null,null,null,null,null,null,null,null,"~"]
["SA36",2025,"Choose",193,null,null,null,null,null,null,null,null,null,null,null,null,null,null,null,null,null,null,"~"]
["SA36",2025,"Choose",194,null,null,null,null,null,null,null,null,null,null,null,null,null,null,null,null,null,null,"~"]
["SA36",2025,"Choose",195,null,null,null,null,null,null,null,null,null,null,null,null,null,null,null,null,null,null,"~"]
["SA36",2025,"Choose",196,null,null,null,null,null,null,null,null,null,null,null,null,null,null,null,null,null,null,"~"]
["SA36",2025,"Choose",197,null,null,null,null,null,null,null,null,null,null,null,null,null,null,null,null,null,null,"~"]
["SA36",2025,"Choose",198,null,null,null,null,null,null,null,null,null,null,null,null,null,null,null,null,null,null,"~"]
["SA36",2025,"Choose",199,null,null,null,null,null,null,null,null,null,null,null,null,null,null,null,null,null,null,"~"]
["SA36",2025,"Choose",200,null,null,null,null,null,null,null,null,null,null,null,null,null,null,null,null,null,null,"~"]
["SA36",2025,"Choose",201,null,null,null,null,null,null,null,null,null,null,null,null,null,null,null,null,null,null,"~"]
["SA36",2025,"Choose",202,null,null,null,null,null,null,null,null,null,null,null,null,null,null,null,null,null,null,"~"]
["SA36",2025,"Choose",203,null,null,null,null,null,null,null,null,null,null,null,null,null,null,null,null,null,null,"~"]
["SA36",2025,"Choose",204,null,null,null,null,null,null,null,null,null,null,null,null,null,null,null,null,null,null,"~"]
["SA36",2025,"Choose",205,null,null,null,null,null,null,null,null,null,null,null,null,null,null,null,null,null,null,"~"]
["SA36",2025,"Choose",206,null,null,null,null,null,null,null,null,null,null,null,null,null,null,null,null,null,null,"~"]
["SA36",2025,"Choose",207,null,null,null,null,null,null,null,null,null,null,null,null,null,null,null,null,null,null,"~"]
["SA36",2025,"Choose",208,null,null,null,null,null,null,null,null,null,null,null,null,null,null,null,null,null,null,"~"]
["SA36",2025,"Choose",209,null,null,null,null,null,null,null,null,null,null,null,null,null,null,null,null,null,null,"~"]
["SA36",2025,"Choose",210,null,null,null,null,null,null,null,null,null,null,null,null,null,null,null,null,null,null,"~"]
["SA36",2025,"Choose",211,null,null,null,null,null,null,null,null,null,null,null,null,null,null,null,null,null,null,"~"]
["SA36",2025,"Choose",212,null,null,null,null,null,null,null,null,null,null,null,null,null,null,null,null,null,null,"~"]
["SA36",2025,"Choose",213,null,null,null,null,null,null,null,null,null,null,null,null,null,null,null,null,null,null,"~"]
["SA36",2025,"Choose",214,null,null,null,null,null,null,null,null,null,null,null,null,null,null,null,null,null,null,"~"]
["SA36",2025,"Choose",215,null,null,null,null,null,null,null,null,null,null,null,null,null,null,null,null,null,null,"~"]
["SA36",{"$f":"+MTREF","v":2025},{"$f":"LEFT(muni,(FIND(\" \",muni,1)-1))","v":"Choose"},216,null,null,null,null,null,null,null,null,null,null,null,null,null,null,null,null,null,null,"~"]
["SA36",2025,"Choose",217,null,null,null,null,null,null,null,null,null,null,null,null,null,null,null,null,null,null,"~"]
["SA36",2025,"Choose",218,null,null,null,null,null,null,null,null,null,null,null,null,null,null,null,null,null,null,"~"]
["SA36",2025,"Choose",219,null,null,null,null,null,null,null,null,null,null,null,null,null,null,null,null,null,null,"~"]
["SA36",2025,"Choose",220,null,null,null,null,null,null,null,null,null,null,null,null,null,null,null,null,null,null,"~"]
["SA36",2025,"Choose",221,null,null,null,null,null,null,null,null,null,null,null,null,null,null,null,null,null,null,"~"]
["SA36",2025,"Choose",222,null,null,null,null,null,null,null,null,null,null,null,null,null,null,null,null,null,null,"~"]
["SA36",2025,"Choose",223,null,null,null,null,null,null,null,null,null,null,null,null,null,null,null,null,null,null,"~"]
["SA36",2025,"Choose",224,null,null,null,null,null,null,null,null,null,null,null,null,null,null,null,null,null,null,"~"]
["SA36",2025,"Choose",225,null,null,null,null,null,null,null,null,null,null,null,null,null,null,null,null,null,null,"~"]
["SA36",2025,"Choose",226,null,null,null,null,null,null,null,null,null,null,null,null,null,null,null,null,null,null,"~"]
["SA36",2025,"Choose",227,null,null,null,null,null,null,null,null,null,null,null,null,null,null,null,null,null,null,"~"]
["SA36",2025,"Choose",228,null,null,null,null,null,null,null,null,null,null,null,null,null,null,null,null,null,null,"~"]
["SA36",2025,"Choose",229,null,null,null,null,null,null,null,null,null,null,null,null,null,null,null,null,null,null,"~"]
["SA36",2025,"Choose",230,null,null,null,null,null,null,null,null,null,null,null,null,null,null,null,null,null,null,"~"]
["SA36",2025,"Choose",231,null,null,null,null,null,null,null,null,null,null,null,null,null,null,null,null,null,null,"~"]
["SA36",2025,"Choose",232,null,null,null,null,null,null,null,null,null,null,null,null,null,null,null,null,null,null,"~"]
["SA36",2025,"Choose",233,null,null,null,null,null,null,null,null,null,null,null,null,null,null,null,null,null,null,"~"]
["SA36",2025,"Choose",234,null,null,null,null,null,null,null,null,null,null,null,null,null,null,null,null,null,null,"~"]
["SA36",2025,"Choose",235,null,null,null,null,null,null,null,null,null,null,null,null,null,null,null,null,null,null,"~"]
["SA36",2025,"Choose",236,null,null,null,null,null,null,null,null,null,null,null,null,null,null,null,null,null,null,"~"]
["SA36",2025,"Choose",237,null,null,null,null,null,null,null,null,null,null,null,null,null,null,null,null,null,null,"~"]
["SA36",2025,"Choose",238,null,null,null,null,null,null,null,null,null,null,null,null,null,null,null,null,null,null,"~"]
["SA36",2025,"Choose",239,null,null,null,null,null,null,null,null,null,null,null,null,null,null,null,null,null,null,"~"]
["SA36",2025,"Choose",240,null,null,null,null,null,null,null,null,null,null,null,null,null,null,null,null,null,null,"~"]
["SA36",2025,"Choose",241,null,null,null,null,null,null,null,null,null,null,null,null,null,null,null,null,null,null,"~"]
["SA36",2025,"Choose",242,null,null,null,null,null,null,null,null,null,null,null,null,null,null,null,null,null,null,"~"]
["SA36",2025,"Choose",243,null,null,null,null,null,null,null,null,null,null,null,null,null,null,null,null,null,null,"~"]
["SA36",2025,"Choose",244,null,null,null,null,null,null,null,null,null,null,null,null,null,null,null,null,null,null,"~"]
["SA36",2025,"Choose",245,null,null,null,null,null,null,null,null,null,null,null,null,null,null,null,null,null,null,"~"]
["SA36",2025,"Choose",246,null,null,null,null,null,null,null,null,null,null,null,null,null,null,null,null,null,null,"~"]
["SA36",2025,"Choose",247,null,null,null,null,null,null,null,null,null,null,null,null,null,null,null,null,null,null,"~"]
["SA36",2025,"Choose",248,null,null,null,null,null,null,null,null,null,null,null,null,null,null,null,null,null,null,"~"]
["SA36",2025,"Choose",249,null,null,null,null,null,null,null,null,null,null,null,null,null,null,null,null,null,null,"~"]
["SA36",2025,"Choose",250,null,null,null,null,null,null,null,null,null,null,null,null,null,null,null,null,null,null,"~"]
["SA36",2025,"Choose",251,null,null,null,null,null,null,null,null,null,null,null,null,null,null,null,null,null,null,"~"]
["SA36",2025,"Choose",252,null,null,null,null,null,null,null,null,null,null,null,null,null,null,null,null,null,null,"~"]
["SA36",2025,"Choose",253,null,null,null,null,null,null,null,null,null,null,null,null,null,null,null,null,null,null,"~"]
["SA36",2025,"Choose",254,null,null,null,null,null,null,null,null,null,null,null,null,null,null,null,null,null,null,"~"]
["SA36",2025,"Choose",255,null,null,null,null,null,null,null,null,null,null,null,null,null,null,null,null,null,null,"~"]
["SA36",2025,"Choose",256,null,null,null,null,null,null,null,null,null,null,null,null,null,null,null,null,null,null,"~"]
["SA36",2025,"Choose",257,null,null,null,null,null,null,null,null,null,null,null,null,null,null,null,null,null,null,"~"]
["SA36",2025,"Choose",258,null,null,null,null,null,null,null,null,null,null,null,null,null,null,null,null,null,null,"~"]
["SA36",2025,"Choose",259,null,null,null,null,null,null,null,null,null,null,null,null,null,null,null,null,null,null,"~"]
["SA36",2025,"Choose",260,null,null,null,null,null,null,null,null,null,null,null,null,null,null,null,null,null,null,"~"]
["SA36",2025,"Choose",261,null,null,null,null,null,null,null,null,null,null,null,null,null,null,null,null,null,null,"~"]
["SA36",2025,"Choose",262,null,null,null,null,null,null,null,null,null,null,null,null,null,null,null,null,null,null,"~"]
["SA36",2025,"Choose",263,null,null,null,null,null,null,null,null,null,null,null,null,null,null,null,null,null,null,"~"]
["SA36",2025,"Choose",264,null,null,null,null,null,null,null,null,null,null,null,null,null,null,null,null,null,null,"~"]
["SA36",2025,"Choose",265,null,null,null,null,null,null,null,null,null,null,null,null,null,null,null,null,null,null,"~"]
["SA36",2025,"Choose",266,null,null,null,null,null,null,null,null,null,null,null,null,null,null,null,null,null,null,"~"]
["SA36",2025,"Choose",267,null,null,null,null,null,null,null,null,null,null,null,null,null,null,null,null,null,null,"~"]
["SA36",2025,"Choose",268,null,null,null,null,null,null,null,null,null,null,null,null,null,null,null,null,null,null,"~"]
["SA36",2025,"Choose",269,null,null,null,null,null,null,null,null,null,null,null,null,null,null,null,null,null,null,"~"]
["SA36",2025,"Choose",270,null,null,null,null,null,null,null,null,null,null,null,null,null,null,null,null,null,null,"~"]
["SA36",2025,"Choose",271,null,null,null,null,null,null,null,null,null,null,null,null,null,null,null,null,null,null,"~"]
["SA36",2025,"Choose",272,null,null,null,null,null,null,null,null,null,null,null,null,null,null,null,null,null,null,"~"]
["SA36",2025,"Choose",273,null,null,null,null,null,null,null,null,null,null,null,null,null,null,null,null,null,null,"~"]
["SA36",2025,"Choose",274,null,null,null,null,null,null,null,null,null,null,null,null,null,null,null,null,null,null,"~"]
["SA36",2025,"Choose",275,null,null,null,null,null,null,null,null,null,null,null,null,null,null,null,null,null,null,"~"]
["SA36",2025,"Choose",276,null,null,null,null,null,null,null,null,null,null,null,null,null,null,null,null,null,null,"~"]
["SA36",2025,"Choose",277,null,null,null,null,null,null,null,null,null,null,null,null,null,null,null,null,null,null,"~"]
["SA36",2025,"Choose",278,null,null,null,null,null,null,null,null,null,null,null,null,null,null,null,null,null,null,"~"]
["SA36",2025,"Choose",279,null,null,null,null,null,null,null,null,null,null,null,null,null,null,null,null,null,null,"~"]
["SA36",{"$f":"+MTREF","v":2025},{"$f":"LEFT(muni,(FIND(\" \",muni,1)-1))","v":"Choose"},280,null,null,null,null,null,null,null,null,null,null,null,null,null,null,null,null,null,null,"~"]
["SA36",2025,"Choose",281,null,null,null,null,null,null,null,null,null,null,null,null,null,null,null,null,null,null,"~"]
["SA36",2025,"Choose",282,null,null,null,null,null,null,null,null,null,null,null,null,null,null,null,null,null,null,"~"]
["SA36",2025,"Choose",283,null,null,null,null,null,null,null,null,null,null,null,null,null,null,null,null,null,null,"~"]
["SA36",2025,"Choose",284,null,null,null,null,null,null,null,null,null,null,null,null,null,null,null,null,null,null,"~"]
["SA36",2025,"Choose",285,null,null,null,null,null,null,null,null,null,null,null,null,null,null,null,null,null,null,"~"]
["SA36",2025,"Choose",286,null,null,null,null,null,null,null,null,null,null,null,null,null,null,null,null,null,null,"~"]
["SA36",2025,"Choose",287,null,null,null,null,null,null,null,null,null,null,null,null,null,null,null,null,null,null,"~"]
["SA36",2025,"Choose",288,null,null,null,null,null,null,null,null,null,null,null,null,null,null,null,null,null,null,"~"]
["SA36",2025,"Choose",289,null,null,null,null,null,null,null,null,null,null,null,null,null,null,null,null,null,null,"~"]
["SA36",2025,"Choose",290,null,null,null,null,null,null,null,null,null,null,null,null,null,null,null,null,null,null,"~"]
["SA36",2025,"Choose",291,null,null,null,null,null,null,null,null,null,null,null,null,null,null,null,null,null,null,"~"]
["SA36",2025,"Choose",292,null,null,null,null,null,null,null,null,null,null,null,null,null,null,null,null,null,null,"~"]
["SA36",2025,"Choose",293,null,null,null,null,null,null,null,null,null,null,null,null,null,null,null,null,null,null,"~"]
["SA36",2025,"Choose",294,null,null,null,null,null,null,null,null,null,null,null,null,null,null,null,null,null,null,"~"]
["SA36",2025,"Choose",295,null,null,null,null,null,null,null,null,null,null,null,null,null,null,null,null,null,null,"~"]
["SA36",2025,"Choose",296,null,null,null,null,null,null,null,null,null,null,null,null,null,null,null,null,null,null,"~"]
["SA36",2025,"Choose",297,null,null,null,null,null,null,null,null,null,null,null,null,null,null,null,null,null,null,"~"]
["SA36",2025,"Choose",298,null,null,null,null,null,null,null,null,null,null,null,null,null,null,null,null,null,null,"~"]
["SA36",2025,"Choose",299,null,null,null,null,null,null,null,null,null,null,null,null,null,null,null,null,null,null,"~"]
["SA36",2025,"Choose",300,null,null,null,null,null,null,null,null,null,null,null,null,null,null,null,null,null,null,"~"]
["SA36",2025,"Choose",301,null,null,null,null,null,null,null,null,null,null,null,null,null,null,null,null,null,null,"~"]
["SA36",2025,"Choose",302,null,null,null,null,null,null,null,null,null,null,null,null,null,null,null,null,null,null,"~"]
["SA36",2025,"Choose",303,null,null,null,null,null,null,null,null,null,null,null,null,null,null,null,null,null,null,"~"]
["SA36",2025,"Choose",304,null,null,null,null,null,null,null,null,null,null,null,null,null,null,null,null,null,null,"~"]
["SA36",2025,"Choose",305,null,null,null,null,null,null,null,null,null,null,null,null,null,null,null,null,null,null,"~"]
["SA36",2025,"Choose",306,null,null,null,null,null,null,null,null,null,null,null,null,null,null,null,null,null,null,"~"]
["SA36",2025,"Choose",307,null,null,null,null,null,null,null,null,null,null,null,null,null,null,null,null,null,null,"~"]
["SA36",2025,"Choose",308,null,null,null,null,null,null,null,null,null,null,null,null,null,null,null,null,null,null,"~"]
["SA36",2025,"Choose",309,null,null,null,null,null,null,null,null,null,null,null,null,null,null,null,null,null,null,"~"]
["SA36",2025,"Choose",310,null,null,null,null,null,null,null,null,null,null,null,null,null,null,null,null,null,null,"~"]
["SA36",2025,"Choose",311,null,null,null,null,null,null,null,null,null,null,null,null,null,null,null,null,null,null,"~"]
["SA36",2025,"Choose",312,null,null,null,null,null,null,null,null,null,null,null,null,null,null,null,null,null,null,"~"]
["SA36",2025,"Choose",313,null,null,null,null,null,null,null,null,null,null,null,null,null,null,null,null,null,null,"~"]
["SA36",2025,"Choose",314,null,null,null,null,null,null,null,null,null,null,null,null,null,null,null,null,null,null,"~"]
["SA36",2025,"Choose",315,null,null,null,null,null,null,null,null,null,null,null,null,null,null,null,null,null,null,"~"]
["SA36",2025,"Choose",316,null,null,null,null,null,null,null,null,null,null,null,null,null,null,null,null,null,null,"~"]
["SA36",2025,"Choose",317,null,null,null,null,null,null,null,null,null,null,null,null,null,null,null,null,null,null,"~"]
["SA36",2025,"Choose",318,null,null,null,null,null,null,null,null,null,null,null,null,null,null,null,null,null,null,"~"]
["SA36",2025,"Choose",319,null,null,null,null,null,null,null,null,null,null,null,null,null,null,null,null,null,null,"~"]
["SA36",2025,"Choose",320,null,null,null,null,null,null,null,null,null,null,null,null,null,null,null,null,null,null,"~"]
["SA36",2025,"Choose",321,null,null,null,null,null,null,null,null,null,null,null,null,null,null,null,null,null,null,"~"]
["SA36",2025,"Choose",322,null,null,null,null,null,null,null,null,null,null,null,null,null,null,null,null,null,null,"~"]
["SA36",2025,"Choose",323,null,null,null,null,null,null,null,null,null,null,null,null,null,null,null,null,null,null,"~"]
["SA36",2025,"Choose",324,null,null,null,null,null,null,null,null,null,null,null,null,null,null,null,null,null,null,"~"]
["SA36",2025,"Choose",325,null,null,null,null,null,null,null,null,null,null,null,null,null,null,null,null,null,null,"~"]
["SA36",2025,"Choose",326,null,null,null,null,null,null,null,null,null,null,null,null,null,null,null,null,null,null,"~"]
["SA36",2025,"Choose",327,null,null,null,null,null,null,null,null,null,null,null,null,null,null,null,null,null,null,"~"]
["SA36",2025,"Choose",328,null,null,null,null,null,null,null,null,null,null,null,null,null,null,null,null,null,null,"~"]
["SA36",2025,"Choose",329,null,null,null,null,null,null,null,null,null,null,null,null,null,null,null,null,null,null,"~"]
["SA36",2025,"Choose",330,null,null,null,null,null,null,null,null,null,null,null,null,null,null,null,null,null,null,"~"]
["SA36",2025,"Choose",331,null,null,null,null,null,null,null,null,null,null,null,null,null,null,null,null,null,null,"~"]
["SA36",2025,"Choose",332,null,null,null,null,null,null,null,null,null,null,null,null,null,null,null,null,null,null,"~"]
["SA36",2025,"Choose",333,null,null,null,null,null,null,null,null,null,null,null,null,null,null,null,null,null,null,"~"]
["SA36",2025,"Choose",334,null,null,null,null,null,null,null,null,null,null,null,null,null,null,null,null,null,null,"~"]
["SA36",2025,"Choose",335,null,null,null,null,null,null,null,null,null,null,null,null,null,null,null,null,null,null,"~"]
["SA36",2025,"Choose",336,null,null,null,null,null,null,null,null,null,null,null,null,null,null,null,null,null,null,"~"]
["SA36",2025,"Choose",337,null,null,null,null,null,null,null,null,null,null,null,null,null,null,null,null,null,null,"~"]
["SA36",2025,"Choose",338,null,null,null,null,null,null,null,null,null,null,null,null,null,null,null,null,null,null,"~"]
["SA36",2025,"Choose",339,null,null,null,null,null,null,null,null,null,null,null,null,null,null,null,null,null,null,"~"]
["SA36",2025,"Choose",340,null,null,null,null,null,null,null,null,null,null,null,null,null,null,null,null,null,null,"~"]
["SA36",2025,"Choose",341,null,null,null,null,null,null,null,null,null,null,null,null,null,null,null,null,null,null,"~"]
["SA36",2025,"Choose",342,null,null,null,null,null,null,null,null,null,null,null,null,null,null,null,null,null,null,"~"]
["SA36",2025,"Choose",343,null,null,null,null,null,null,null,null,null,null,null,null,null,null,null,null,null,null,"~"]
["SA36",{"$f":"+MTREF","v":2025},{"$f":"LEFT(muni,(FIND(\" \",muni,1)-1))","v":"Choose"},344,null,null,null,null,null,null,null,null,null,null,null,null,null,null,null,null,null,null,"~"]
["SA36",2025,"Choose",345,null,null,null,null,null,null,null,null,null,null,null,null,null,null,null,null,null,null,"~"]
["SA36",2025,"Choose",346,null,null,null,null,null,null,null,null,null,null,null,null,null,null,null,null,null,null,"~"]
["SA36",2025,"Choose",347,null,null,null,null,null,null,null,null,null,null,null,null,null,null,null,null,null,null,"~"]
["SA36",2025,"Choose",348,null,null,null,null,null,null,null,null,null,null,null,null,null,null,null,null,null,null,"~"]
["SA36",2025,"Choose",349,null,null,null,null,null,null,null,null,null,null,null,null,null,null,null,null,null,null,"~"]
["SA36",2025,"Choose",350,null,null,null,null,null,null,null,null,null,null,null,null,null,null,null,null,null,null,"~"]
["SA36",2025,"Choose",351,null,null,null,null,null,null,null,null,null,null,null,null,null,null,null,null,null,null,"~"]
["SA36",2025,"Choose",352,null,null,null,null,null,null,null,null,null,null,null,null,null,null,null,null,null,null,"~"]
["SA36",2025,"Choose",353,null,null,null,null,null,null,null,null,null,null,null,null,null,null,null,null,null,null,"~"]
["SA36",2025,"Choose",354,null,null,null,null,null,null,null,null,null,null,null,null,null,null,null,null,null,null,"~"]
["SA36",2025,"Choose",355,null,null,null,null,null,null,null,null,null,null,null,null,null,null,null,null,null,null,"~"]
["SA36",2025,"Choose",356,null,null,null,null,null,null,null,null,null,null,null,null,null,null,null,null,null,null,"~"]
["SA36",2025,"Choose",357,null,null,null,null,null,null,null,null,null,null,null,null,null,null,null,null,null,null,"~"]
["SA36",2025,"Choose",358,null,null,null,null,null,null,null,null,null,null,null,null,null,null,null,null,null,null,"~"]
["SA36",2025,"Choose",359,null,null,null,null,null,null,null,null,null,null,null,null,null,null,null,null,null,null,"~"]
["SA36",2025,"Choose",360,null,null,null,null,null,null,null,null,null,null,null,null,null,null,null,null,null,null,"~"]
["SA36",2025,"Choose",361,null,null,null,null,null,null,null,null,null,null,null,null,null,null,null,null,null,null,"~"]
["SA36",2025,"Choose",362,null,null,null,null,null,null,null,null,null,null,null,null,null,null,null,null,null,null,"~"]
["SA36",2025,"Choose",363,null,null,null,null,null,null,null,null,null,null,null,null,null,null,null,null,null,null,"~"]
["SA36",2025,"Choose",364,null,null,null,null,null,null,null,null,null,null,null,null,null,null,null,null,null,null,"~"]
["SA36",2025,"Choose",365,null,null,null,null,null,null,null,null,null,null,null,null,null,null,null,null,null,null,"~"]
["SA36",2025,"Choose",366,null,null,null,null,null,null,null,null,null,null,null,null,null,null,null,null,null,null,"~"]
["SA36",2025,"Choose",367,null,null,null,null,null,null,null,null,null,null,null,null,null,null,null,null,null,null,"~"]
["SA36",2025,"Choose",368,null,null,null,null,null,null,null,null,null,null,null,null,null,null,null,null,null,null,"~"]
["SA36",2025,"Choose",369,null,null,null,null,null,null,null,null,null,null,null,null,null,null,null,null,null,null,"~"]
["SA36",2025,"Choose",370,null,null,null,null,null,null,null,null,null,null,null,null,null,null,null,null,null,null,"~"]
["SA36",2025,"Choose",371,null,null,null,null,null,null,null,null,null,null,null,null,null,null,null,null,null,null,"~"]
["SA36",2025,"Choose",372,null,null,null,null,null,null,null,null,null,null,null,null,null,null,null,null,null,null,"~"]
["SA36",2025,"Choose",373,null,null,null,null,null,null,null,null,null,null,null,null,null,null,null,null,null,null,"~"]
["SA36",2025,"Choose",374,null,null,null,null,null,null,null,null,null,null,null,null,null,null,null,null,null,null,"~"]
["SA36",2025,"Choose",375,null,null,null,null,null,null,null,null,null,null,null,null,null,null,null,null,null,null,"~"]
["SA36",2025,"Choose",376,null,null,null,null,null,null,null,null,null,null,null,null,null,null,null,null,null,null,"~"]
["SA36",2025,"Choose",377,null,null,null,null,null,null,null,null,null,null,null,null,null,null,null,null,null,null,"~"]
["SA36",2025,"Choose",378,null,null,null,null,null,null,null,null,null,null,null,null,null,null,null,null,null,null,"~"]
["SA36",2025,"Choose",379,null,null,null,null,null,null,null,null,null,null,null,null,null,null,null,null,null,null,"~"]
["SA36",2025,"Choose",380,null,null,null,null,null,null,null,null,null,null,null,null,null,null,null,null,null,null,"~"]
["SA36",2025,"Choose",381,null,null,null,null,null,null,null,null,null,null,null,null,null,null,null,null,null,null,"~"]
["SA36",2025,"Choose",382,null,null,null,null,null,null,null,null,null,null,null,null,null,null,null,null,null,null,"~"]
["SA36",2025,"Choose",383,null,null,null,null,null,null,null,null,null,null,null,null,null,null,null,null,null,null,"~"]
["SA36",2025,"Choose",384,null,null,null,null,null,null,null,null,null,null,null,null,null,null,null,null,null,null,"~"]
["SA36",2025,"Choose",385,null,null,null,null,null,null,null,null,null,null,null,null,null,null,null,null,null,null,"~"]
["SA36",2025,"Choose",386,null,null,null,null,null,null,null,null,null,null,null,null,null,null,null,null,null,null,"~"]
["SA36",2025,"Choose",387,null,null,null,null,null,null,null,null,null,null,null,null,null,null,null,null,null,null,"~"]
["SA36",2025,"Choose",388,null,null,null,null,null,null,null,null,null,null,null,null,null,null,null,null,null,null,"~"]
["SA36",2025,"Choose",389,null,null,null,null,null,null,null,null,null,null,null,null,null,null,null,null,null,null,"~"]
["SA36",2025,"Choose",390,null,null,null,null,null,null,null,null,null,null,null,null,null,null,null,null,null,null,"~"]
["SA36",2025,"Choose",391,null,null,null,null,null,null,null,null,null,null,null,null,null,null,null,null,null,null,"~"]
["SA36",2025,"Choose",392,null,null,null,null,null,null,null,null,null,null,null,null,null,null,null,null,null,null,"~"]
["SA36",2025,"Choose",393,null,null,null,null,null,null,null,null,null,null,null,null,null,null,null,null,null,null,"~"]
["SA36",2025,"Choose",394,null,null,null,null,null,null,null,null,null,null,null,null,null,null,null,null,null,null,"~"]
["SA36",2025,"Choose",395,null,null,null,null,null,null,null,null,null,null,null,null,null,null,null,null,null,null,"~"]
["SA36",2025,"Choose",396,null,null,null,null,null,null,null,null,null,null,null,null,null,null,null,null,null,null,"~"]
["SA36",2025,"Choose",397,null,null,null,null,null,null,null,null,null,null,null,null,null,null,null,null,null,null,"~"]
["SA36",2025,"Choose",398,null,null,null,null,null,null,null,null,null,null,null,null,null,null,null,null,null,null,"~"]
["SA36",2025,"Choose",399,null,null,null,null,null,null,null,null,null,null,null,null,null,null,null,null,null,null,"~"]
["SA36",2025,"Choose",400,null,null,null,null,null,null,null,null,null,null,null,null,null,null,null,null,null,null,"~"]
["SA36",2025,"Choose",401,null,null,null,null,null,null,null,null,null,null,null,null,null,null,null,null,null,null,"~"]
["SA36",2025,"Choose",402,null,null,null,null,null,null,null,null,null,null,null,null,null,null,null,null,null,null,"~"]
["SA36",2025,"Choose",403,null,null,null,null,null,null,null,null,null,null,null,null,null,null,null,null,null,null,"~"]
["SA36",2025,"Choose",404,null,null,null,null,null,null,null,null,null,null,null,null,null,null,null,null,null,null,"~"]
["SA36",2025,"Choose",405,null,null,null,null,null,null,null,null,null,null,null,null,null,null,null,null,null,null,"~"]
["SA36",2025,"Choose",406,null,null,null,null,null,null,null,null,null,null,null,null,null,null,null,null,null,null,"~"]
["SA36",2025,"Choose",407,null,null,null,null,null,null,null,null,null,null,null,null,null,null,null,null,null,null,"~"]
["SA36",{"$f":"+MTREF","v":2025},{"$f":"LEFT(muni,(FIND(\" \",muni,1)-1))","v":"Choose"},408,null,null,null,null,null,null,null,null,null,null,null,null,null,null,null,null,null,null,"~"]
["SA36",2025,"Choose",409,null,null,null,null,null,null,null,null,null,null,null,null,null,null,null,null,null,null,"~"]
["SA36",2025,"Choose",410,null,null,null,null,null,null,null,null,null,null,null,null,null,null,null,null,null,null,"~"]
["SA36",2025,"Choose",411,null,null,null,null,null,null,null,null,null,null,null,null,null,null,null,null,null,null,"~"]
["SA36",2025,"Choose",412,null,null,null,null,null,null,null,null,null,null,null,null,null,null,null,null,null,null,"~"]
["SA36",2025,"Choose",413,null,null,null,null,null,null,null,null,null,null,null,null,null,null,null,null,null,null,"~"]
["SA36",2025,"Choose",414,null,null,null,null,null,null,null,null,null,null,null,null,null,null,null,null,null,null,"~"]
["SA36",2025,"Choose",415,null,null,null,null,null,null,null,null,null,null,null,null,null,null,null,null,null,null,"~"]
["SA36",2025,"Choose",416,null,null,null,null,null,null,null,null,null,null,null,null,null,null,null,null,null,null,"~"]
["SA36",2025,"Choose",417,null,null,null,null,null,null,null,null,null,null,null,null,null,null,null,null,null,null,"~"]
["SA36",2025,"Choose",418,null,null,null,null,null,null,null,null,null,null,null,null,null,null,null,null,null,null,"~"]
["SA36",2025,"Choose",419,null,null,null,null,null,null,null,null,null,null,null,null,null,null,null,null,null,null,"~"]
["SA36",2025,"Choose",420,null,null,null,null,null,null,null,null,null,null,null,null,null,null,null,null,null,null,"~"]
["SA36",2025,"Choose",421,null,null,null,null,null,null,null,null,null,null,null,null,null,null,null,null,null,null,"~"]
["SA36",2025,"Choose",422,null,null,null,null,null,null,null,null,null,null,null,null,null,null,null,null,null,null,"~"]
["SA36",2025,"Choose",423,null,null,null,null,null,null,null,null,null,null,null,null,null,null,null,null,null,null,"~"]
["SA36",2025,"Choose",424,null,null,null,null,null,null,null,null,null,null,null,null,null,null,null,null,null,null,"~"]
["SA36",2025,"Choose",425,null,null,null,null,null,null,null,null,null,null,null,null,null,null,null,null,null,null,"~"]
["SA36",2025,"Choose",426,null,null,null,null,null,null,null,null,null,null,null,null,null,null,null,null,null,null,"~"]
["SA36",2025,"Choose",427,null,null,null,null,null,null,null,null,null,null,null,null,null,null,null,null,null,null,"~"]
["SA36",2025,"Choose",428,null,null,null,null,null,null,null,null,null,null,null,null,null,null,null,null,null,null,"~"]
["SA36",2025,"Choose",429,null,null,null,null,null,null,null,null,null,null,null,null,null,null,null,null,null,null,"~"]
["SA36",2025,"Choose",430,null,null,null,null,null,null,null,null,null,null,null,null,null,null,null,null,null,null,"~"]
["SA36",2025,"Choose",431,null,null,null,null,null,null,null,null,null,null,null,null,null,null,null,null,null,null,"~"]
["SA36",2025,"Choose",432,null,null,null,null,null,null,null,null,null,null,null,null,null,null,null,null,null,null,"~"]
["SA36",2025,"Choose",433,null,null,null,null,null,null,null,null,null,null,null,null,null,null,null,null,null,null,"~"]
["SA36",2025,"Choose",434,null,null,null,null,null,null,null,null,null,null,null,null,null,null,null,null,null,null,"~"]
["SA36",2025,"Choose",435,null,null,null,null,null,null,null,null,null,null,null,null,null,null,null,null,null,null,"~"]
["SA36",2025,"Choose",436,null,null,null,null,null,null,null,null,null,null,null,null,null,null,null,null,null,null,"~"]
["SA36",2025,"Choose",437,null,null,null,null,null,null,null,null,null,null,null,null,null,null,null,null,null,null,"~"]
["SA36",2025,"Choose",438,null,null,null,null,null,null,null,null,null,null,null,null,null,null,null,null,null,null,"~"]
["SA36",2025,"Choose",439,null,null,null,null,null,null,null,null,null,null,null,null,null,null,null,null,null,null,"~"]
["SA36",2025,"Choose",440,null,null,null,null,null,null,null,null,null,null,null,null,null,null,null,null,null,null,"~"]
["SA36",2025,"Choose",441,null,null,null,null,null,null,null,null,null,null,null,null,null,null,null,null,null,null,"~"]
["SA36",2025,"Choose",442,null,null,null,null,null,null,null,null,null,null,null,null,null,null,null,null,null,null,"~"]
["SA36",2025,"Choose",443,null,null,null,null,null,null,null,null,null,null,null,null,null,null,null,null,null,null,"~"]
["SA36",2025,"Choose",444,null,null,null,null,null,null,null,null,null,null,null,null,null,null,null,null,null,null,"~"]
["SA36",2025,"Choose",445,null,null,null,null,null,null,null,null,null,null,null,null,null,null,null,null,null,null,"~"]
["SA36",2025,"Choose",446,null,null,null,null,null,null,null,null,null,null,null,null,null,null,null,null,null,null,"~"]
["SA36",2025,"Choose",447,null,null,null,null,null,null,null,null,null,null,null,null,null,null,null,null,null,null,"~"]
["SA36",2025,"Choose",448,null,null,null,null,null,null,null,null,null,null,null,null,null,null,null,null,null,null,"~"]
["SA36",2025,"Choose",449,null,null,null,null,null,null,null,null,null,null,null,null,null,null,null,null,null,null,"~"]
["SA36",2025,"Choose",450,null,null,null,null,null,null,null,null,null,null,null,null,null,null,null,null,null,null,"~"]
["SA36",2025,"Choose",451,null,null,null,null,null,null,null,null,null,null,null,null,null,null,null,null,null,null,"~"]
["SA36",2025,"Choose",452,null,null,null,null,null,null,null,null,null,null,null,null,null,null,null,null,null,null,"~"]
["SA36",2025,"Choose",453,null,null,null,null,null,null,null,null,null,null,null,null,null,null,null,null,null,null,"~"]
["SA36",2025,"Choose",454,null,null,null,null,null,null,null,null,null,null,null,null,null,null,null,null,null,null,"~"]
["SA36",2025,"Choose",455,null,null,null,null,null,null,null,null,null,null,null,null,null,null,null,null,null,null,"~"]
["SA36",2025,"Choose",456,null,null,null,null,null,null,null,null,null,null,null,null,null,null,null,null,null,null,"~"]
["SA36",2025,"Choose",457,null,null,null,null,null,null,null,null,null,null,null,null,null,null,null,null,null,null,"~"]
["SA36",2025,"Choose",458,null,null,null,null,null,null,null,null,null,null,null,null,null,null,null,null,null,null,"~"]
["SA36",2025,"Choose",459,null,null,null,null,null,null,null,null,null,null,null,null,null,null,null,null,null,null,"~"]
["SA36",2025,"Choose",460,null,null,null,null,null,null,null,null,null,null,null,null,null,null,null,null,null,null,"~"]
["SA36",2025,"Choose",461,null,null,null,null,null,null,null,null,null,null,null,null,null,null,null,null,null,null,"~"]
["SA36",2025,"Choose",462,null,null,null,null,null,null,null,null,null,null,null,null,null,null,null,null,null,null,"~"]
["SA36",2025,"Choose",463,null,null,null,null,null,null,null,null,null,null,null,null,null,null,null,null,null,null,"~"]
["SA36",2025,"Choose",464,null,null,null,null,null,null,null,null,null,null,null,null,null,null,null,null,null,null,"~"]
["SA36",2025,"Choose",465,null,null,null,null,null,null,null,null,null,null,null,null,null,null,null,null,null,null,"~"]
["SA36",2025,"Choose",466,null,null,null,null,null,null,null,null,null,null,null,null,null,null,null,null,null,null,"~"]
["SA36",2025,"Choose",467,null,null,null,null,null,null,null,null,null,null,null,null,null,null,null,null,null,null,"~"]
["SA36",2025,"Choose",468,null,null,null,null,null,null,null,null,null,null,null,null,null,null,null,null,null,null,"~"]
["SA36",2025,"Choose",469,null,null,null,null,null,null,null,null,null,null,null,null,null,null,null,null,null,null,"~"]
["SA36",2025,"Choose",470,null,null,null,null,null,null,null,null,null,null,null,null,null,null,null,null,null,null,"~"]
["SA36",2025,"Choose",471,null,null,null,null,null,null,null,null,null,null,null,null,null,null,null,null,null,null,"~"]
["SA36",{"$f":"+MTREF","v":2025},{"$f":"LEFT(muni,(FIND(\" \",muni,1)-1))","v":"Choose"},472,null,null,null,null,null,null,null,null,null,null,null,null,null,null,null,null,null,null,"~"]
["SA36",2025,"Choose",473,null,null,null,null,null,null,null,null,null,null,null,null,null,null,null,null,null,null,"~"]
["SA36",2025,"Choose",474,null,null,null,null,null,null,null,null,null,null,null,null,null,null,null,null,null,null,"~"]
["SA36",2025,"Choose",475,null,null,null,null,null,null,null,null,null,null,null,null,null,null,null,null,null,null,"~"]
["SA36",2025,"Choose",476,null,null,null,null,null,null,null,null,null,null,null,null,null,null,null,null,null,null,"~"]
["SA36",2025,"Choose",477,null,null,null,null,null,null,null,null,null,null,null,null,null,null,null,null,null,null,"~"]
["SA36",2025,"Choose",478,null,null,null,null,null,null,null,null,null,null,null,null,null,null,null,null,null,null,"~"]
["SA36",2025,"Choose",479,null,null,null,null,null,null,null,null,null,null,null,null,null,null,null,null,null,null,"~"]
["SA36",2025,"Choose",480,null,null,null,null,null,null,null,null,null,null,null,null,null,null,null,null,null,null,"~"]
["SA36",2025,"Choose",481,null,null,null,null,null,null,null,null,null,null,null,null,null,null,null,null,null,null,"~"]
["SA36",2025,"Choose",482,null,null,null,null,null,null,null,null,null,null,null,null,null,null,null,null,null,null,"~"]
["SA36",2025,"Choose",483,null,null,null,null,null,null,null,null,null,null,null,null,null,null,null,null,null,null,"~"]
["SA36",2025,"Choose",484,null,null,null,null,null,null,null,null,null,null,null,null,null,null,null,null,null,null,"~"]
["SA36",2025,"Choose",485,null,null,null,null,null,null,null,null,null,null,null,null,null,null,null,null,null,null,"~"]
["SA36",2025,"Choose",486,null,null,null,null,null,null,null,null,null,null,null,null,null,null,null,null,null,null,"~"]
["SA36",2025,"Choose",487,null,null,null,null,null,null,null,null,null,null,null,null,null,null,null,null,null,null,"~"]
["SA36",2025,"Choose",488,null,null,null,null,null,null,null,null,null,null,null,null,null,null,null,null,null,null,"~"]
["SA36",2025,"Choose",489,null,null,null,null,null,null,null,null,null,null,null,null,null,null,null,null,null,null,"~"]
["SA36",2025,"Choose",490,null,null,null,null,null,null,null,null,null,null,null,null,null,null,null,null,null,null,"~"]
["SA36",2025,"Choose",491,null,null,null,null,null,null,null,null,null,null,null,null,null,null,null,null,null,null,"~"]
["SA36",2025,"Choose",492,null,null,null,null,null,null,null,null,null,null,null,null,null,null,null,null,null,null,"~"]
["SA36",2025,"Choose",493,null,null,null,null,null,null,null,null,null,null,null,null,null,null,null,null,null,null,"~"]
["SA36",2025,"Choose",494,null,null,null,null,null,null,null,null,null,null,null,null,null,null,null,null,null,null,"~"]
["SA36",2025,"Choose",495,null,null,null,null,null,null,null,null,null,null,null,null,null,null,null,null,null,null,"~"]
["SA36",2025,"Choose",496,null,null,null,null,null,null,null,null,null,null,null,null,null,null,null,null,null,null,"~"]
["SA36",2025,"Choose",497,null,null,null,null,null,null,null,null,null,null,null,null,null,null,null,null,null,null,"~"]
["SA36",2025,"Choose",498,null,null,null,null,null,null,null,null,null,null,null,null,null,null,null,null,null,null,"~"]
["SA36",2025,"Choose",499,null,null,null,null,null,null,null,null,null,null,null,null,null,null,null,null,null,null,"~"]
["SA36",2025,"Choose",500,null,null,null,null,null,null,null,null,null,null,null,null,null,null,null,null,null,null,"~"]
["SA36",2025,"Choose",501,null,null,null,null,null,null,null,null,null,null,null,null,null,null,null,null,null,null,"~"]
["SA36",2025,"Choose",502,null,null,null,null,null,null,null,null,null,null,null,null,null,null,null,null,null,null,"~"]
["SA36",2025,"Choose",503,null,null,null,null,null,null,null,null,null,null,null,null,null,null,null,null,null,null,"~"]
["SA36",2025,"Choose",504,null,null,null,null,null,null,null,null,null,null,null,null,null,null,null,null,null,null,"~"]
["SA36",2025,"Choose",505,null,null,null,null,null,null,null,null,null,null,null,null,null,null,null,null,null,null,"~"]
["SA36",2025,"Choose",506,null,null,null,null,null,null,null,null,null,null,null,null,null,null,null,null,null,null,"~"]
["SA36",2025,"Choose",507,null,null,null,null,null,null,null,null,null,null,null,null,null,null,null,null,null,null,"~"]
["SA36",2025,"Choose",508,null,null,null,null,null,null,null,null,null,null,null,null,null,null,null,null,null,null,"~"]
["SA36",2025,"Choose",509,null,null,null,null,null,null,null,null,null,null,null,null,null,null,null,null,null,null,"~"]
["SA36",2025,"Choose",510,null,null,null,null,null,null,null,null,null,null,null,null,null,null,null,null,null,null,"~"]
["SA36",2025,"Choose",511,null,null,null,null,null,null,null,null,null,null,null,null,null,null,null,null,null,null,"~"]
["SA36",2025,"Choose",512,null,null,null,null,null,null,null,null,null,null,null,null,null,null,null,null,null,null,"~"]
["SA36",2025,"Choose",513,null,null,null,null,null,null,null,null,null,null,null,null,null,null,null,null,null,null,"~"]
["SA36",2025,"Choose",514,null,null,null,null,null,null,null,null,null,null,null,null,null,null,null,null,null,null,"~"]
["SA36",2025,"Choose",515,null,null,null,null,null,null,null,null,null,null,null,null,null,null,null,null,null,null,"~"]
["SA36",2025,"Choose",516,null,null,null,null,null,null,null,null,null,null,null,null,null,null,null,null,null,null,"~"]
["SA36",2025,"Choose",517,null,null,null,null,null,null,null,null,null,null,null,null,null,null,null,null,null,null,"~"]
["SA36",2025,"Choose",518,null,null,null,null,null,null,null,null,null,null,null,null,null,null,null,null,null,null,"~"]
["SA36",2025,"Choose",519,null,null,null,null,null,null,null,null,null,null,null,null,null,null,null,null,null,null,"~"]
["SA36",2025,"Choose",520,null,null,null,null,null,null,null,null,null,null,null,null,null,null,null,null,null,null,"~"]
["SA36",2025,"Choose",521,null,null,null,null,null,null,null,null,null,null,null,null,null,null,null,null,null,null,"~"]
["SA36",2025,"Choose",522,null,null,null,null,null,null,null,null,null,null,null,null,null,null,null,null,null,null,"~"]
["SA36",2025,"Choose",523,null,null,null,null,null,null,null,null,null,null,null,null,null,null,null,null,null,null,"~"]
["SA36",2025,"Choose",524,null,null,null,null,null,null,null,null,null,null,null,null,null,null,null,null,null,null,"~"]
["SA36",2025,"Choose",525,null,null,null,null,null,null,null,null,null,null,null,null,null,null,null,null,null,null,"~"]
["SA36",2025,"Choose",526,null,null,null,null,null,null,null,null,null,null,null,null,null,null,null,null,null,null,"~"]
["SA36",2025,"Choose",527,null,null,null,null,null,null,null,null,null,null,null,null,null,null,null,null,null,null,"~"]
["SA36",2025,"Choose",528,null,null,null,null,null,null,null,null,null,null,null,null,null,null,null,null,null,null,"~"]
["SA36",2025,"Choose",529,null,null,null,null,null,null,null,null,null,null,null,null,null,null,null,null,null,null,"~"]
["SA36",2025,"Choose",530,null,null,null,null,null,null,null,null,null,null,null,null,null,null,null,null,null,null,"~"]
["SA36",2025,"Choose",531,null,null,null,null,null,null,null,null,null,null,null,null,null,null,null,null,null,null,"~"]
["SA36",2025,"Choose",532,null,null,null,null,null,null,null,null,null,null,null,null,null,null,null,null,null,null,"~"]
["SA36",2025,"Choose",533,null,null,null,null,null,null,null,null,null,null,null,null,null,null,null,null,null,null,"~"]
["SA36",2025,"Choose",534,null,null,null,null,null,null,null,null,null,null,null,null,null,null,null,null,null,null,"~"]
["SA36",2025,"Choose",535,null,null,null,null,null,null,null,null,null,null,null,null,null,null,null,null,null,null,"~"]
["SA36",{"$f":"+MTREF","v":2025},{"$f":"LEFT(muni,(FIND(\" \",muni,1)-1))","v":"Choose"},536,null,null,null,null,null,null,null,null,null,null,null,null,null,null,null,null,null,null,"~"]
["SA36",2025,"Choose",537,null,null,null,null,null,null,null,null,null,null,null,null,null,null,null,null,null,null,"~"]
["SA36",2025,"Choose",538,null,null,null,null,null,null,null,null,null,null,null,null,null,null,null,null,null,null,"~"]
["SA36",2025,"Choose",539,null,null,null,null,null,null,null,null,null,null,null,null,null,null,null,null,null,null,"~"]
["SA36",2025,"Choose",540,null,null,null,null,null,null,null,null,null,null,null,null,null,null,null,null,null,null,"~"]
["SA36",2025,"Choose",541,null,null,null,null,null,null,null,null,null,null,null,null,null,null,null,null,null,null,"~"]
["SA36",2025,"Choose",542,null,null,null,null,null,null,null,null,null,null,null,null,null,null,null,null,null,null,"~"]
["SA36",2025,"Choose",543,null,null,null,null,null,null,null,null,null,null,null,null,null,null,null,null,null,null,"~"]
["SA36",2025,"Choose",544,null,null,null,null,null,null,null,null,null,null,null,null,null,null,null,null,null,null,"~"]
["SA36",2025,"Choose",545,null,null,null,null,null,null,null,null,null,null,null,null,null,null,null,null,null,null,"~"]
["SA36",2025,"Choose",546,null,null,null,null,null,null,null,null,null,null,null,null,null,null,null,null,null,null,"~"]
["SA36",2025,"Choose",547,null,null,null,null,null,null,null,null,null,null,null,null,null,null,null,null,null,null,"~"]
["SA36",2025,"Choose",548,null,null,null,null,null,null,null,null,null,null,null,null,null,null,null,null,null,null,"~"]
["SA36",2025,"Choose",549,null,null,null,null,null,null,null,null,null,null,null,null,null,null,null,null,null,null,"~"]
["SA36",2025,"Choose",550,null,null,null,null,null,null,null,null,null,null,null,null,null,null,null,null,null,null,"~"]
["SA36",2025,"Choose",551,null,null,null,null,null,null,null,null,null,null,null,null,null,null,null,null,null,null,"~"]
["SA36",2025,"Choose",552,null,null,null,null,null,null,null,null,null,null,null,null,null,null,null,null,null,null,"~"]
["SA36",2025,"Choose",553,null,null,null,null,null,null,null,null,null,null,null,null,null,null,null,null,null,null,"~"]
["SA36",2025,"Choose",554,null,null,null,null,null,null,null,null,null,null,null,null,null,null,null,null,null,null,"~"]
["SA36",2025,"Choose",555,null,null,null,null,null,null,null,null,null,null,null,null,null,null,null,null,null,null,"~"]
["SA36",2025,"Choose",556,null,null,null,null,null,null,null,null,null,null,null,null,null,null,null,null,null,null,"~"]
["SA36",2025,"Choose",557,null,null,null,null,null,null,null,null,null,null,null,null,null,null,null,null,null,null,"~"]
["SA36",2025,"Choose",558,null,null,null,null,null,null,null,null,null,null,null,null,null,null,null,null,null,null,"~"]
["SA36",2025,"Choose",559,null,null,null,null,null,null,null,null,null,null,null,null,null,null,null,null,null,null,"~"]
["SA36",2025,"Choose",560,null,null,null,null,null,null,null,null,null,null,null,null,null,null,null,null,null,null,"~"]
["SA36",2025,"Choose",561,null,null,null,null,null,null,null,null,null,null,null,null,null,null,null,null,null,null,"~"]
["SA36",2025,"Choose",562,null,null,null,null,null,null,null,null,null,null,null,null,null,null,null,null,null,null,"~"]
["SA36",2025,"Choose",563,null,null,null,null,null,null,null,null,null,null,null,null,null,null,null,null,null,null,"~"]
["SA36",2025,"Choose",564,null,null,null,null,null,null,null,null,null,null,null,null,null,null,null,null,null,null,"~"]
["SA36",2025,"Choose",565,null,null,null,null,null,null,null,null,null,null,null,null,null,null,null,null,null,null,"~"]
["SA36",2025,"Choose",566,null,null,null,null,null,null,null,null,null,null,null,null,null,null,null,null,null,null,"~"]
["SA36",2025,"Choose",567,null,null,null,null,null,null,null,null,null,null,null,null,null,null,null,null,null,null,"~"]
["SA36",2025,"Choose",568,null,null,null,null,null,null,null,null,null,null,null,null,null,null,null,null,null,null,"~"]
["SA36",2025,"Choose",569,null,null,null,null,null,null,null,null,null,null,null,null,null,null,null,null,null,null,"~"]
["SA36",2025,"Choose",570,null,null,null,null,null,null,null,null,null,null,null,null,null,null,null,null,null,null,"~"]
["SA36",2025,"Choose",571,null,null,null,null,null,null,null,null,null,null,null,null,null,null,null,null,null,null,"~"]
["SA36",2025,"Choose",572,null,null,null,null,null,null,null,null,null,null,null,null,null,null,null,null,null,null,"~"]
["SA36",2025,"Choose",573,null,null,null,null,null,null,null,null,null,null,null,null,null,null,null,null,null,null,"~"]
["SA36",2025,"Choose",574,null,null,null,null,null,null,null,null,null,null,null,null,null,null,null,null,null,null,"~"]
["SA36",2025,"Choose",575,null,null,null,null,null,null,null,null,null,null,null,null,null,null,null,null,null,null,"~"]
["SA36",2025,"Choose",576,null,null,null,null,null,null,null,null,null,null,null,null,null,null,null,null,null,null,"~"]
["SA36",2025,"Choose",577,null,null,null,null,null,null,null,null,null,null,null,null,null,null,null,null,null,null,"~"]
["SA36",2025,"Choose",578,null,null,null,null,null,null,null,null,null,null,null,null,null,null,null,null,null,null,"~"]
["SA36",2025,"Choose",579,null,null,null,null,null,null,null,null,null,null,null,null,null,null,null,null,null,null,"~"]
["SA36",2025,"Choose",580,null,null,null,null,null,null,null,null,null,null,null,null,null,null,null,null,null,null,"~"]
["SA36",2025,"Choose",581,null,null,null,null,null,null,null,null,null,null,null,null,null,null,null,null,null,null,"~"]
["SA36",2025,"Choose",582,null,null,null,null,null,null,null,null,null,null,null,null,null,null,null,null,null,null,"~"]
["SA36",2025,"Choose",583,null,null,null,null,null,null,null,null,null,null,null,null,null,null,null,null,null,null,"~"]
["SA36",2025,"Choose",584,null,null,null,null,null,null,null,null,null,null,null,null,null,null,null,null,null,null,"~"]
["SA36",2025,"Choose",585,null,null,null,null,null,null,null,null,null,null,null,null,null,null,null,null,null,null,"~"]
["SA36",2025,"Choose",586,null,null,null,null,null,null,null,null,null,null,null,null,null,null,null,null,null,null,"~"]
["SA36",2025,"Choose",587,null,null,null,null,null,null,null,null,null,null,null,null,null,null,null,null,null,null,"~"]
["SA36",2025,"Choose",588,null,null,null,null,null,null,null,null,null,null,null,null,null,null,null,null,null,null,"~"]
["SA36",2025,"Choose",589,null,null,null,null,null,null,null,null,null,null,null,null,null,null,null,null,null,null,"~"]
["SA36",2025,"Choose",590,null,null,null,null,null,null,null,null,null,null,null,null,null,null,null,null,null,null,"~"]
["SA36",2025,"Choose",591,null,null,null,null,null,null,null,null,null,null,null,null,null,null,null,null,null,null,"~"]
["SA36",2025,"Choose",592,null,null,null,null,null,null,null,null,null,null,null,null,null,null,null,null,null,null,"~"]
["SA36",2025,"Choose",593,null,null,null,null,null,null,null,null,null,null,null,null,null,null,null,null,null,null,"~"]
["SA36",2025,"Choose",594,null,null,null,null,null,null,null,null,null,null,null,null,null,null,null,null,null,null,"~"]
["SA36",2025,"Choose",595,null,null,null,null,null,null,null,null,null,null,null,null,null,null,null,null,null,null,"~"]
["SA36",2025,"Choose",596,null,null,null,null,null,null,null,null,null,null,null,null,null,null,null,null,null,null,"~"]
["SA36",2025,"Choose",597,null,null,null,null,null,null,null,null,null,null,null,null,null,null,null,null,null,null,"~"]
["SA36",2025,"Choose",598,null,null,null,null,null,null,null,null,null,null,null,null,null,null,null,null,null,null,"~"]
["SA36",2025,"Choose",599,null,null,null,null,null,null,null,null,null,null,null,null,null,null,null,null,null,null,"~"]
["SA36",{"$f":"+MTREF","v":2025},{"$f":"LEFT(muni,(FIND(\" \",muni,1)-1))","v":"Choose"},600,null,null,null,null,null,null,null,null,null,null,null,null,null,null,null,null,null,null,"~"]
["SA36",2025,"Choose",601,null,null,null,null,null,null,null,null,null,null,null,null,null,null,null,null,null,null,"~"]
["SA36",2025,"Choose",602,null,null,null,null,null,null,null,null,null,null,null,null,null,null,null,null,null,null,"~"]
["SA36",2025,"Choose",603,null,null,null,null,null,null,null,null,null,null,null,null,null,null,null,null,null,null,"~"]
["SA36",2025,"Choose",604,null,null,null,null,null,null,null,null,null,null,null,null,null,null,null,null,null,null,"~"]
["SA36",2025,"Choose",605,null,null,null,null,null,null,null,null,null,null,null,null,null,null,null,null,null,null,"~"]
["SA36",2025,"Choose",606,null,null,null,null,null,null,null,null,null,null,null,null,null,null,null,null,null,null,"~"]
["SA36",2025,"Choose",607,null,null,null,null,null,null,null,null,null,null,null,null,null,null,null,null,null,null,"~"]
["SA36",2025,"Choose",608,null,null,null,null,null,null,null,null,null,null,null,null,null,null,null,null,null,null,"~"]
["SA36",2025,"Choose",609,null,null,null,null,null,null,null,null,null,null,null,null,null,null,null,null,null,null,"~"]
["SA36",2025,"Choose",610,null,null,null,null,null,null,null,null,null,null,null,null,null,null,null,null,null,null,"~"]
["SA36",2025,"Choose",611,null,null,null,null,null,null,null,null,null,null,null,null,null,null,null,null,null,null,"~"]
["SA36",2025,"Choose",612,null,null,null,null,null,null,null,null,null,null,null,null,null,null,null,null,null,null,"~"]
["SA36",2025,"Choose",613,null,null,null,null,null,null,null,null,null,null,null,null,null,null,null,null,null,null,"~"]
["SA36",2025,"Choose",614,null,null,null,null,null,null,null,null,null,null,null,null,null,null,null,null,null,null,"~"]
["SA36",2025,"Choose",615,null,null,null,null,null,null,null,null,null,null,null,null,null,null,null,null,null,null,"~"]
["SA36",2025,"Choose",616,null,null,null,null,null,null,null,null,null,null,null,null,null,null,null,null,null,null,"~"]
["SA36",2025,"Choose",617,null,null,null,null,null,null,null,null,null,null,null,null,null,null,null,null,null,null,"~"]
["SA36",2025,"Choose",618,null,null,null,null,null,null,null,null,null,null,null,null,null,null,null,null,null,null,"~"]
["SA36",2025,"Choose",619,null,null,null,null,null,null,null,null,null,null,null,null,null,null,null,null,null,null,"~"]
["SA36",2025,"Choose",620,null,null,null,null,null,null,null,null,null,null,null,null,null,null,null,null,null,null,"~"]
["SA36",2025,"Choose",621,null,null,null,null,null,null,null,null,null,null,null,null,null,null,null,null,null,null,"~"]
["SA36",2025,"Choose",622,null,null,null,null,null,null,null,null,null,null,null,null,null,null,null,null,null,null,"~"]
["SA36",2025,"Choose",623,null,null,null,null,null,null,null,null,null,null,null,null,null,null,null,null,null,null,"~"]
["SA36",2025,"Choose",624,null,null,null,null,null,null,null,null,null,null,null,null,null,null,null,null,null,null,"~"]
["SA36",2025,"Choose",625,null,null,null,null,null,null,null,null,null,null,null,null,null,null,null,null,null,null,"~"]
["SA36",2025,"Choose",626,null,null,null,null,null,null,null,null,null,null,null,null,null,null,null,null,null,null,"~"]
["SA36",2025,"Choose",627,null,null,null,null,null,null,null,null,null,null,null,null,null,null,null,null,null,null,"~"]
["SA36",2025,"Choose",628,null,null,null,null,null,null,null,null,null,null,null,null,null,null,null,null,null,null,"~"]
["SA36",2025,"Choose",629,null,null,null,null,null,null,null,null,null,null,null,null,null,null,null,null,null,null,"~"]
["SA36",2025,"Choose",630,null,null,null,null,null,null,null,null,null,null,null,null,null,null,null,null,null,null,"~"]
["SA36",2025,"Choose",631,null,null,null,null,null,null,null,null,null,null,null,null,null,null,null,null,null,null,"~"]
["SA36",2025,"Choose",632,null,null,null,null,null,null,null,null,null,null,null,null,null,null,null,null,null,null,"~"]
["SA36",2025,"Choose",633,null,null,null,null,null,null,null,null,null,null,null,null,null,null,null,null,null,null,"~"]
["SA36",2025,"Choose",634,null,null,null,null,null,null,null,null,null,null,null,null,null,null,null,null,null,null,"~"]
["SA36",2025,"Choose",635,null,null,null,null,null,null,null,null,null,null,null,null,null,null,null,null,null,null,"~"]
["SA36",2025,"Choose",636,null,null,null,null,null,null,null,null,null,null,null,null,null,null,null,null,null,null,"~"]
["SA36",2025,"Choose",637,null,null,null,null,null,null,null,null,null,null,null,null,null,null,null,null,null,null,"~"]
["SA36",2025,"Choose",638,null,null,null,null,null,null,null,null,null,null,null,null,null,null,null,null,null,null,"~"]
["SA36",2025,"Choose",639,null,null,null,null,null,null,null,null,null,null,null,null,null,null,null,null,null,null,"~"]
["SA36",2025,"Choose",640,null,null,null,null,null,null,null,null,null,null,null,null,null,null,null,null,null,null,"~"]
["SA36",2025,"Choose",641,null,null,null,null,null,null,null,null,null,null,null,null,null,null,null,null,null,null,"~"]
["SA36",2025,"Choose",642,null,null,null,null,null,null,null,null,null,null,null,null,null,null,null,null,null,null,"~"]
["SA36",2025,"Choose",643,null,null,null,null,null,null,null,null,null,null,null,null,null,null,null,null,null,null,"~"]
["SA36",2025,"Choose",644,null,null,null,null,null,null,null,null,null,null,null,null,null,null,null,null,null,null,"~"]
["SA36",2025,"Choose",645,null,null,null,null,null,null,null,null,null,null,null,null,null,null,null,null,null,null,"~"]
["SA36",2025,"Choose",646,null,null,null,null,null,null,null,null,null,null,null,null,null,null,null,null,null,null,"~"]
["SA36",2025,"Choose",647,null,null,null,null,null,null,null,null,null,null,null,null,null,null,null,null,null,null,"~"]
["SA36",2025,"Choose",648,null,null,null,null,null,null,null,null,null,null,null,null,null,null,null,null,null,null,"~"]
["SA36",2025,"Choose",649,null,null,null,null,null,null,null,null,null,null,null,null,null,null,null,null,null,null,"~"]
["SA36",2025,"Choose",650,null,null,null,null,null,null,null,null,null,null,null,null,null,null,null,null,null,null,"~"]
["SA36",2025,"Choose",651,null,null,null,null,null,null,null,null,null,null,null,null,null,null,null,null,null,null,"~"]
["SA36",2025,"Choose",652,null,null,null,null,null,null,null,null,null,null,null,null,null,null,null,null,null,null,"~"]
["SA36",2025,"Choose",653,null,null,null,null,null,null,null,null,null,null,null,null,null,null,null,null,null,null,"~"]
["SA36",2025,"Choose",654,null,null,null,null,null,null,null,null,null,null,null,null,null,null,null,null,null,null,"~"]
["SA36",2025,"Choose",655,null,null,null,null,null,null,null,null,null,null,null,null,null,null,null,null,null,null,"~"]
["SA36",2025,"Choose",656,null,null,null,null,null,null,null,null,null,null,null,null,null,null,null,null,null,null,"~"]
["SA36",2025,"Choose",657,null,null,null,null,null,null,null,null,null,null,null,null,null,null,null,null,null,null,"~"]
["SA36",2025,"Choose",658,null,null,null,null,null,null,null,null,null,null,null,null,null,null,null,null,null,null,"~"]
["SA36",2025,"Choose",659,null,null,null,null,null,null,null,null,null,null,null,null,null,null,null,null,null,null,"~"]
["SA36",2025,"Choose",660,null,null,null,null,null,null,null,null,null,null,null,null,null,null,null,null,null,null,"~"]
["SA36",2025,"Choose",661,null,null,null,null,null,null,null,null,null,null,null,null,null,null,null,null,null,null,"~"]
["SA36",2025,"Choose",662,null,null,null,null,null,null,null,null,null,null,null,null,null,null,null,null,null,null,"~"]
["SA36",2025,"Choose",663,null,null,null,null,null,null,null,null,null,null,null,null,null,null,null,null,null,null,"~"]
["SA36",{"$f":"+MTREF","v":2025},{"$f":"LEFT(muni,(FIND(\" \",muni,1)-1))","v":"Choose"},664,null,null,null,null,null,null,null,null,null,null,null,null,null,null,null,null,null,null,"~"]
["SA36",2025,"Choose",665,null,null,null,null,null,null,null,null,null,null,null,null,null,null,null,null,null,null,"~"]
["SA36",2025,"Choose",666,null,null,null,null,null,null,null,null,null,null,null,null,null,null,null,null,null,null,"~"]
["SA36",2025,"Choose",667,null,null,null,null,null,null,null,null,null,null,null,null,null,null,null,null,null,null,"~"]
["SA36",2025,"Choose",668,null,null,null,null,null,null,null,null,null,null,null,null,null,null,null,null,null,null,"~"]
["SA36",2025,"Choose",669,null,null,null,null,null,null,null,null,null,null,null,null,null,null,null,null,null,null,"~"]
["SA36",2025,"Choose",670,null,null,null,null,null,null,null,null,null,null,null,null,null,null,null,null,null,null,"~"]
["SA36",2025,"Choose",671,null,null,null,null,null,null,null,null,null,null,null,null,null,null,null,null,null,null,"~"]
["SA36",2025,"Choose",672,null,null,null,null,null,null,null,null,null,null,null,null,null,null,null,null,null,null,"~"]
["SA36",2025,"Choose",673,null,null,null,null,null,null,null,null,null,null,null,null,null,null,null,null,null,null,"~"]
["SA36",2025,"Choose",674,null,null,null,null,null,null,null,null,null,null,null,null,null,null,null,null,null,null,"~"]
["SA36",2025,"Choose",675,null,null,null,null,null,null,null,null,null,null,null,null,null,null,null,null,null,null,"~"]
["SA36",2025,"Choose",676,null,null,null,null,null,null,null,null,null,null,null,null,null,null,null,null,null,null,"~"]
["SA36",2025,"Choose",677,null,null,null,null,null,null,null,null,null,null,null,null,null,null,null,null,null,null,"~"]
["SA36",2025,"Choose",678,null,null,null,null,null,null,null,null,null,null,null,null,null,null,null,null,null,null,"~"]
["SA36",2025,"Choose",679,null,null,null,null,null,null,null,null,null,null,null,null,null,null,null,null,null,null,"~"]
["SA36",2025,"Choose",680,null,null,null,null,null,null,null,null,null,null,null,null,null,null,null,null,null,null,"~"]
["SA36",2025,"Choose",681,null,null,null,null,null,null,null,null,null,null,null,null,null,null,null,null,null,null,"~"]
["SA36",2025,"Choose",682,null,null,null,null,null,null,null,null,null,null,null,null,null,null,null,null,null,null,"~"]
["SA36",2025,"Choose",683,null,null,null,null,null,null,null,null,null,null,null,null,null,null,null,null,null,null,"~"]
["SA36",2025,"Choose",684,null,null,null,null,null,null,null,null,null,null,null,null,null,null,null,null,null,null,"~"]
["SA36",2025,"Choose",685,null,null,null,null,null,null,null,null,null,null,null,null,null,null,null,null,null,null,"~"]
["SA36",2025,"Choose",686,null,null,null,null,null,null,null,null,null,null,null,null,null,null,null,null,null,null,"~"]
["SA36",2025,"Choose",687,null,null,null,null,null,null,null,null,null,null,null,null,null,null,null,null,null,null,"~"]
["SA36",2025,"Choose",688,null,null,null,null,null,null,null,null,null,null,null,null,null,null,null,null,null,null,"~"]
["SA36",2025,"Choose",689,null,null,null,null,null,null,null,null,null,null,null,null,null,null,null,null,null,null,"~"]
["SA36",2025,"Choose",690,null,null,null,null,null,null,null,null,null,null,null,null,null,null,null,null,null,null,"~"]
["SA36",2025,"Choose",691,null,null,null,null,null,null,null,null,null,null,null,null,null,null,null,null,null,null,"~"]
["SA36",2025,"Choose",692,null,null,null,null,null,null,null,null,null,null,null,null,null,null,null,null,null,null,"~"]
["SA36",2025,"Choose",693,null,null,null,null,null,null,null,null,null,null,null,null,null,null,null,null,null,null,"~"]
["SA36",2025,"Choose",694,null,null,null,null,null,null,null,null,null,null,null,null,null,null,null,null,null,null,"~"]
["SA36",2025,"Choose",695,null,null,null,null,null,null,null,null,null,null,null,null,null,null,null,null,null,null,"~"]
["SA36",2025,"Choose",696,null,null,null,null,null,null,null,null,null,null,null,null,null,null,null,null,null,null,"~"]
["SA36",2025,"Choose",697,null,null,null,null,null,null,null,null,null,null,null,null,null,null,null,null,null,null,"~"]
["SA36",2025,"Choose",698,null,null,null,null,null,null,null,null,null,null,null,null,null,null,null,null,null,null,"~"]
["SA36",2025,"Choose",699,null,null,null,null,null,null,null,null,null,null,null,null,null,null,null,null,null,null,"~"]
["SA36",2025,"Choose",700,null,null,null,null,null,null,null,null,null,null,null,null,null,null,null,null,null,null,"~"]
["SA36",2025,"Choose",701,null,null,null,null,null,null,null,null,null,null,null,null,null,null,null,null,null,null,"~"]
["SA36",2025,"Choose",702,null,null,null,null,null,null,null,null,null,null,null,null,null,null,null,null,null,null,"~"]
["SA36",2025,"Choose",703,null,null,null,null,null,null,null,null,null,null,null,null,null,null,null,null,null,null,"~"]
["SA36",2025,"Choose",704,null,null,null,null,null,null,null,null,null,null,null,null,null,null,null,null,null,null,"~"]
["SA36",2025,"Choose",705,null,null,null,null,null,null,null,null,null,null,null,null,null,null,null,null,null,null,"~"]
["SA36",2025,"Choose",706,null,null,null,null,null,null,null,null,null,null,null,null,null,null,null,null,null,null,"~"]
["SA36",2025,"Choose",707,null,null,null,null,null,null,null,null,null,null,null,null,null,null,null,null,null,null,"~"]
["SA36",2025,"Choose",708,null,null,null,null,null,null,null,null,null,null,null,null,null,null,null,null,null,null,"~"]
["SA36",2025,"Choose",709,null,null,null,null,null,null,null,null,null,null,null,null,null,null,null,null,null,null,"~"]
["SA36",2025,"Choose",710,null,null,null,null,null,null,null,null,null,null,null,null,null,null,null,null,null,null,"~"]
["SA36",2025,"Choose",711,null,null,null,null,null,null,null,null,null,null,null,null,null,null,null,null,null,null,"~"]
["SA36",2025,"Choose",712,null,null,null,null,null,null,null,null,null,null,null,null,null,null,null,null,null,null,"~"]
["SA36",2025,"Choose",713,null,null,null,null,null,null,null,null,null,null,null,null,null,null,null,null,null,null,"~"]
["SA36",2025,"Choose",714,null,null,null,null,null,null,null,null,null,null,null,null,null,null,null,null,null,null,"~"]
["SA36",2025,"Choose",715,null,null,null,null,null,null,null,null,null,null,null,null,null,null,null,null,null,null,"~"]
["SA36",2025,"Choose",716,null,null,null,null,null,null,null,null,null,null,null,null,null,null,null,null,null,null,"~"]
["SA36",2025,"Choose",717,null,null,null,null,null,null,null,null,null,null,null,null,null,null,null,null,null,null,"~"]
["SA36",2025,"Choose",718,null,null,null,null,null,null,null,null,null,null,null,null,null,null,null,null,null,null,"~"]
["SA36",2025,"Choose",719,null,null,null,null,null,null,null,null,null,null,null,null,null,null,null,null,null,null,"~"]
["SA36",2025,"Choose",720,null,null,null,null,null,null,null,null,null,null,null,null,null,null,null,null,null,null,"~"]
["SA36",2025,"Choose",721,null,null,null,null,null,null,null,null,null,null,null,null,null,null,null,null,null,null,"~"]
["SA36",2025,"Choose",722,null,null,null,null,null,null,null,null,null,null,null,null,null,null,null,null,null,null,"~"]
["SA36",2025,"Choose",723,null,null,null,null,null,null,null,null,null,null,null,null,null,null,null,null,null,null,"~"]
["SA36",2025,"Choose",724,null,null,null,null,null,null,null,null,null,null,null,null,null,null,null,null,null,null,"~"]
["SA36",2025,"Choose",725,null,null,null,null,null,null,null,null,null,null,null,null,null,null,null,null,null,null,"~"]
["SA36",2025,"Choose",726,null,null,null,null,null,null,null,null,null,null,null,null,null,null,null,null,null,null,"~"]
["SA36",2025,"Choose",727,null,null,null,null,null,null,null,null,null,null,null,null,null,null,null,null,null,null,"~"]
["SA36",{"$f":"+MTREF","v":2025},{"$f":"LEFT(muni,(FIND(\" \",muni,1)-1))","v":"Choose"},728,null,null,null,null,null,null,null,null,null,null,null,null,null,null,null,null,null,null,"~"]
["SA36",2025,"Choose",729,null,null,null,null,null,null,null,null,null,null,null,null,null,null,null,null,null,null,"~"]
["SA36",2025,"Choose",730,null,null,null,null,null,null,null,null,null,null,null,null,null,null,null,null,null,null,"~"]
["SA36",2025,"Choose",731,null,null,null,null,null,null,null,null,null,null,null,null,null,null,null,null,null,null,"~"]
["SA36",2025,"Choose",732,null,null,null,null,null,null,null,null,null,null,null,null,null,null,null,null,null,null,"~"]
["SA36",2025,"Choose",733,null,null,null,null,null,null,null,null,null,null,null,null,null,null,null,null,null,null,"~"]
["SA36",2025,"Choose",734,null,null,null,null,null,null,null,null,null,null,null,null,null,null,null,null,null,null,"~"]
["SA36",2025,"Choose",735,null,null,null,null,null,null,null,null,null,null,null,null,null,null,null,null,null,null,"~"]
["SA36",2025,"Choose",736,null,null,null,null,null,null,null,null,null,null,null,null,null,null,null,null,null,null,"~"]
["SA36",2025,"Choose",737,null,null,null,null,null,null,null,null,null,null,null,null,null,null,null,null,null,null,"~"]
["SA36",2025,"Choose",738,null,null,null,null,null,null,null,null,null,null,null,null,null,null,null,null,null,null,"~"]
["SA36",2025,"Choose",739,null,null,null,null,null,null,null,null,null,null,null,null,null,null,null,null,null,null,"~"]
["SA36",2025,"Choose",740,null,null,null,null,null,null,null,null,null,null,null,null,null,null,null,null,null,null,"~"]
["SA36",2025,"Choose",741,null,null,null,null,null,null,null,null,null,null,null,null,null,null,null,null,null,null,"~"]
["SA36",2025,"Choose",742,null,null,null,null,null,null,null,null,null,null,null,null,null,null,null,null,null,null,"~"]
["SA36",2025,"Choose",743,null,null,null,null,null,null,null,null,null,null,null,null,null,null,null,null,null,null,"~"]
["SA36",2025,"Choose",744,null,null,null,null,null,null,null,null,null,null,null,null,null,null,null,null,null,null,"~"]
["SA36",2025,"Choose",745,null,null,null,null,null,null,null,null,null,null,null,null,null,null,null,null,null,null,"~"]
["SA36",2025,"Choose",746,null,null,null,null,null,null,null,null,null,null,null,null,null,null,null,null,null,null,"~"]
["SA36",2025,"Choose",747,null,null,null,null,null,null,null,null,null,null,null,null,null,null,null,null,null,null,"~"]
["SA36",2025,"Choose",748,null,null,null,null,null,null,null,null,null,null,null,null,null,null,null,null,null,null,"~"]
["SA36",2025,"Choose",749,null,null,null,null,null,null,null,null,null,null,null,null,null,null,null,null,null,null,"~"]
["SA36",2025,"Choose",750,null,null,null,null,null,null,null,null,null,null,null,null,null,null,null,null,null,null,"~"]
["SA36",2025,"Choose",751,null,null,null,null,null,null,null,null,null,null,null,null,null,null,null,null,null,null,"~"]
["SA36",2025,"Choose",752,null,null,null,null,null,null,null,null,null,null,null,null,null,null,null,null,null,null,"~"]
["SA36",2025,"Choose",753,null,null,null,null,null,null,null,null,null,null,null,null,null,null,null,null,null,null,"~"]
["SA36",2025,"Choose",754,null,null,null,null,null,null,null,null,null,null,null,null,null,null,null,null,null,null,"~"]
["SA36",2025,"Choose",755,null,null,null,null,null,null,null,null,null,null,null,null,null,null,null,null,null,null,"~"]
["SA36",2025,"Choose",756,null,null,null,null,null,null,null,null,null,null,null,null,null,null,null,null,null,null,"~"]
["SA36",2025,"Choose",757,null,null,null,null,null,null,null,null,null,null,null,null,null,null,null,null,null,null,"~"]
["SA36",2025,"Choose",758,null,null,null,null,null,null,null,null,null,null,null,null,null,null,null,null,null,null,"~"]
["SA36",2025,"Choose",759,null,null,null,null,null,null,null,null,null,null,null,null,null,null,null,null,null,null,"~"]
["SA36",2025,"Choose",760,null,null,null,null,null,null,null,null,null,null,null,null,null,null,null,null,null,null,"~"]
["SA36",2025,"Choose",761,null,null,null,null,null,null,null,null,null,null,null,null,null,null,null,null,null,null,"~"]
["SA36",2025,"Choose",762,null,null,null,null,null,null,null,null,null,null,null,null,null,null,null,null,null,null,"~"]
["SA36",2025,"Choose",763,null,null,null,null,null,null,null,null,null,null,null,null,null,null,null,null,null,null,"~"]
["SA36",2025,"Choose",764,null,null,null,null,null,null,null,null,null,null,null,null,null,null,null,null,null,null,"~"]
["SA36",2025,"Choose",765,null,null,null,null,null,null,null,null,null,null,null,null,null,null,null,null,null,null,"~"]
["SA36",2025,"Choose",766,null,null,null,null,null,null,null,null,null,null,null,null,null,null,null,null,null,null,"~"]
["SA36",2025,"Choose",767,null,null,null,null,null,null,null,null,null,null,null,null,null,null,null,null,null,null,"~"]
["SA36",2025,"Choose",768,null,null,null,null,null,null,null,null,null,null,null,null,null,null,null,null,null,null,"~"]
["SA36",2025,"Choose",769,null,null,null,null,null,null,null,null,null,null,null,null,null,null,null,null,null,null,"~"]
["SA36",2025,"Choose",770,null,null,null,null,null,null,null,null,null,null,null,null,null,null,null,null,null,null,"~"]
["SA36",2025,"Choose",771,null,null,null,null,null,null,null,null,null,null,null,null,null,null,null,null,null,null,"~"]
["SA36",2025,"Choose",772,null,null,null,null,null,null,null,null,null,null,null,null,null,null,null,null,null,null,"~"]
["SA36",2025,"Choose",773,null,null,null,null,null,null,null,null,null,null,null,null,null,null,null,null,null,null,"~"]
["SA36",2025,"Choose",774,null,null,null,null,null,null,null,null,null,null,null,null,null,null,null,null,null,null,"~"]
["SA36",2025,"Choose",775,null,null,null,null,null,null,null,null,null,null,null,null,null,null,null,null,null,null,"~"]
["SA36",2025,"Choose",776,null,null,null,null,null,null,null,null,null,null,null,null,null,null,null,null,null,null,"~"]
["SA36",2025,"Choose",777,null,null,null,null,null,null,null,null,null,null,null,null,null,null,null,null,null,null,"~"]
["SA36",2025,"Choose",778,null,null,null,null,null,null,null,null,null,null,null,null,null,null,null,null,null,null,"~"]
["SA36",2025,"Choose",779,null,null,null,null,null,null,null,null,null,null,null,null,null,null,null,null,null,null,"~"]
["SA36",2025,"Choose",780,null,null,null,null,null,null,null,null,null,null,null,null,null,null,null,null,null,null,"~"]
["SA36",2025,"Choose",781,null,null,null,null,null,null,null,null,null,null,null,null,null,null,null,null,null,null,"~"]
["SA36",2025,"Choose",782,null,null,null,null,null,null,null,null,null,null,null,null,null,null,null,null,null,null,"~"]
["SA36",2025,"Choose",783,null,null,null,null,null,null,null,null,null,null,null,null,null,null,null,null,null,null,"~"]
["SA36",2025,"Choose",784,null,null,null,null,null,null,null,null,null,null,null,null,null,null,null,null,null,null,"~"]
["SA36",2025,"Choose",785,null,null,null,null,null,null,null,null,null,null,null,null,null,null,null,null,null,null,"~"]
["SA36",2025,"Choose",786,null,null,null,null,null,null,null,null,null,null,null,null,null,null,null,null,null,null,"~"]
["SA36",2025,"Choose",787,null,null,null,null,null,null,null,null,null,null,null,null,null,null,null,null,null,null,"~"]
["SA36",2025,"Choose",788,null,null,null,null,null,null,null,null,null,null,null,null,null,null,null,null,null,null,"~"]
["SA36",2025,"Choose",789,null,null,null,null,null,null,null,null,null,null,null,null,null,null,null,null,null,null,"~"]
["SA36",2025,"Choose",790,null,null,null,null,null,null,null,null,null,null,null,null,null,null,null,null,null,null,"~"]
["SA36",2025,"Choose",791,null,null,null,null,null,null,null,null,null,null,null,null,null,null,null,null,null,null,"~"]
["SA36",{"$f":"+MTREF","v":2025},{"$f":"LEFT(muni,(FIND(\" \",muni,1)-1))","v":"Choose"},792,null,null,null,null,null,null,null,null,null,null,null,null,null,null,null,null,null,null,"~"]
["SA36",2025,"Choose",793,null,null,null,null,null,null,null,null,null,null,null,null,null,null,null,null,null,null,"~"]
["SA36",2025,"Choose",794,null,null,null,null,null,null,null,null,null,null,null,null,null,null,null,null,null,null,"~"]
["SA36",2025,"Choose",795,null,null,null,null,null,null,null,null,null,null,null,null,null,null,null,null,null,null,"~"]
["SA36",2025,"Choose",796,null,null,null,null,null,null,null,null,null,null,null,null,null,null,null,null,null,null,"~"]
["SA36",2025,"Choose",797,null,null,null,null,null,null,null,null,null,null,null,null,null,null,null,null,null,null,"~"]
["SA36",2025,"Choose",798,null,null,null,null,null,null,null,null,null,null,null,null,null,null,null,null,null,null,"~"]
["SA36",2025,"Choose",799,null,null,null,null,null,null,null,null,null,null,null,null,null,null,null,null,null,null,"~"]
["SA36",2025,"Choose",800,null,null,null,null,null,null,null,null,null,null,null,null,null,null,null,null,null,null,"~"]
["SA36",2025,"Choose",801,null,null,null,null,null,null,null,null,null,null,null,null,null,null,null,null,null,null,"~"]
["SA36",2025,"Choose",802,null,null,null,null,null,null,null,null,null,null,null,null,null,null,null,null,null,null,"~"]
["SA36",2025,"Choose",803,null,null,null,null,null,null,null,null,null,null,null,null,null,null,null,null,null,null,"~"]
["SA36",2025,"Choose",804,null,null,null,null,null,null,null,null,null,null,null,null,null,null,null,null,null,null,"~"]
["SA36",2025,"Choose",805,null,null,null,null,null,null,null,null,null,null,null,null,null,null,null,null,null,null,"~"]
["SA36",2025,"Choose",806,null,null,null,null,null,null,null,null,null,null,null,null,null,null,null,null,null,null,"~"]
["SA36",2025,"Choose",807,null,null,null,null,null,null,null,null,null,null,null,null,null,null,null,null,null,null,"~"]
["SA36",2025,"Choose",808,null,null,null,null,null,null,null,null,null,null,null,null,null,null,null,null,null,null,"~"]
["SA36",2025,"Choose",809,null,null,null,null,null,null,null,null,null,null,null,null,null,null,null,null,null,null,"~"]
["SA36",2025,"Choose",810,null,null,null,null,null,null,null,null,null,null,null,null,null,null,null,null,null,null,"~"]
["SA36",2025,"Choose",811,null,null,null,null,null,null,null,null,null,null,null,null,null,null,null,null,null,null,"~"]
["SA36",2025,"Choose",812,null,null,null,null,null,null,null,null,null,null,null,null,null,null,null,null,null,null,"~"]
["SA36",2025,"Choose",813,null,null,null,null,null,null,null,null,null,null,null,null,null,null,null,null,null,null,"~"]
["SA36",2025,"Choose",814,null,null,null,null,null,null,null,null,null,null,null,null,null,null,null,null,null,null,"~"]
["SA36",2025,"Choose",815,null,null,null,null,null,null,null,null,null,null,null,null,null,null,null,null,null,null,"~"]
["SA36",2025,"Choose",816,null,null,null,null,null,null,null,null,null,null,null,null,null,null,null,null,null,null,"~"]
["SA36",2025,"Choose",817,null,null,null,null,null,null,null,null,null,null,null,null,null,null,null,null,null,null,"~"]
["SA36",2025,"Choose",818,null,null,null,null,null,null,null,null,null,null,null,null,null,null,null,null,null,null,"~"]
["SA36",2025,"Choose",819,null,null,null,null,null,null,null,null,null,null,null,null,null,null,null,null,null,null,"~"]
["SA36",2025,"Choose",820,null,null,null,null,null,null,null,null,null,null,null,null,null,null,null,null,null,null,"~"]
["SA36",2025,"Choose",821,null,null,null,null,null,null,null,null,null,null,null,null,null,null,null,null,null,null,"~"]
["SA36",2025,"Choose",822,null,null,null,null,null,null,null,null,null,null,null,null,null,null,null,null,null,null,"~"]
["SA36",2025,"Choose",823,null,null,null,null,null,null,null,null,null,null,null,null,null,null,null,null,null,null,"~"]
["SA36",2025,"Choose",824,null,null,null,null,null,null,null,null,null,null,null,null,null,null,null,null,null,null,"~"]
["SA36",2025,"Choose",825,null,null,null,null,null,null,null,null,null,null,null,null,null,null,null,null,null,null,"~"]
["SA36",2025,"Choose",826,null,null,null,null,null,null,null,null,null,null,null,null,null,null,null,null,null,null,"~"]
["SA36",2025,"Choose",827,null,null,null,null,null,null,null,null,null,null,null,null,null,null,null,null,null,null,"~"]
["SA36",2025,"Choose",828,null,null,null,null,null,null,null,null,null,null,null,null,null,null,null,null,null,null,"~"]
["SA36",2025,"Choose",829,null,null,null,null,null,null,null,null,null,null,null,null,null,null,null,null,null,null,"~"]
["SA36",2025,"Choose",830,null,null,null,null,null,null,null,null,null,null,null,null,null,null,null,null,null,null,"~"]
["SA36",2025,"Choose",831,null,null,null,null,null,null,null,null,null,null,null,null,null,null,null,null,null,null,"~"]
["SA36",2025,"Choose",832,null,null,null,null,null,null,null,null,null,null,null,null,null,null,null,null,null,null,"~"]
["SA36",2025,"Choose",833,null,null,null,null,null,null,null,null,null,null,null,null,null,null,null,null,null,null,"~"]
["SA36",2025,"Choose",834,null,null,null,null,null,null,null,null,null,null,null,null,null,null,null,null,null,null,"~"]
["SA36",2025,"Choose",835,null,null,null,null,null,null,null,null,null,null,null,null,null,null,null,null,null,null,"~"]
["SA36",2025,"Choose",836,null,null,null,null,null,null,null,null,null,null,null,null,null,null,null,null,null,null,"~"]
["SA36",2025,"Choose",837,null,null,null,null,null,null,null,null,null,null,null,null,null,null,null,null,null,null,"~"]
["SA36",2025,"Choose",838,null,null,null,null,null,null,null,null,null,null,null,null,null,null,null,null,null,null,"~"]
["SA36",2025,"Choose",839,null,null,null,null,null,null,null,null,null,null,null,null,null,null,null,null,null,null,"~"]
["SA36",2025,"Choose",840,null,null,null,null,null,null,null,null,null,null,null,null,null,null,null,null,null,null,"~"]
["SA36",2025,"Choose",841,null,null,null,null,null,null,null,null,null,null,null,null,null,null,null,null,null,null,"~"]
["SA36",2025,"Choose",842,null,null,null,null,null,null,null,null,null,null,null,null,null,null,null,null,null,null,"~"]
["SA36",2025,"Choose",843,null,null,null,null,null,null,null,null,null,null,null,null,null,null,null,null,null,null,"~"]
["SA36",2025,"Choose",844,null,null,null,null,null,null,null,null,null,null,null,null,null,null,null,null,null,null,"~"]
["SA36",2025,"Choose",845,null,null,null,null,null,null,null,null,null,null,null,null,null,null,null,null,null,null,"~"]
["SA36",2025,"Choose",846,null,null,null,null,null,null,null,null,null,null,null,null,null,null,null,null,null,null,"~"]
["SA36",2025,"Choose",847,null,null,null,null,null,null,null,null,null,null,null,null,null,null,null,null,null,null,"~"]
["SA36",2025,"Choose",848,null,null,null,null,null,null,null,null,null,null,null,null,null,null,null,null,null,null,"~"]
["SA36",2025,"Choose",849,null,null,null,null,null,null,null,null,null,null,null,null,null,null,null,null,null,null,"~"]
["SA36",2025,"Choose",850,null,null,null,null,null,null,null,null,null,null,null,null,null,null,null,null,null,null,"~"]
["SA36",2025,"Choose",851,null,null,null,null,null,null,null,null,null,null,null,null,null,null,null,null,null,null,"~"]
["SA36",2025,"Choose",852,null,null,null,null,null,null,null,null,null,null,null,null,null,null,null,null,null,null,"~"]
["SA36",2025,"Choose",853,null,null,null,null,null,null,null,null,null,null,null,null,null,null,null,null,null,null,"~"]
["SA36",2025,"Choose",854,null,null,null,null,null,null,null,null,null,null,null,null,null,null,null,null,null,null,"~"]
["SA36",2025,"Choose",855,null,null,null,null,null,null,null,null,null,null,null,null,null,null,null,null,null,null,"~"]
["SA36",{"$f":"+MTREF","v":2025},{"$f":"LEFT(muni,(FIND(\" \",muni,1)-1))","v":"Choose"},856,null,null,null,null,null,null,null,null,null,null,null,null,null,null,null,null,null,null,"~"]
["SA36",2025,"Choose",857,null,null,null,null,null,null,null,null,null,null,null,null,null,null,null,null,null,null,"~"]
["SA36",2025,"Choose",858,null,null,null,null,null,null,null,null,null,null,null,null,null,null,null,null,null,null,"~"]
["SA36",2025,"Choose",859,null,null,null,null,null,null,null,null,null,null,null,null,null,null,null,null,null,null,"~"]
["SA36",2025,"Choose",860,null,null,null,null,null,null,null,null,null,null,null,null,null,null,null,null,null,null,"~"]
["SA36",2025,"Choose",861,null,null,null,null,null,null,null,null,null,null,null,null,null,null,null,null,null,null,"~"]
["SA36",2025,"Choose",862,null,null,null,null,null,null,null,null,null,null,null,null,null,null,null,null,null,null,"~"]
["SA36",2025,"Choose",863,null,null,null,null,null,null,null,null,null,null,null,null,null,null,null,null,null,null,"~"]
["SA36",2025,"Choose",864,null,null,null,null,null,null,null,null,null,null,null,null,null,null,null,null,null,null,"~"]
["SA36",2025,"Choose",865,null,null,null,null,null,null,null,null,null,null,null,null,null,null,null,null,null,null,"~"]
["SA36",2025,"Choose",866,null,null,null,null,null,null,null,null,null,null,null,null,null,null,null,null,null,null,"~"]
["SA36",2025,"Choose",867,null,null,null,null,null,null,null,null,null,null,null,null,null,null,null,null,null,null,"~"]
["SA36",2025,"Choose",868,null,null,null,null,null,null,null,null,null,null,null,null,null,null,null,null,null,null,"~"]
["SA36",2025,"Choose",869,null,null,null,null,null,null,null,null,null,null,null,null,null,null,null,null,null,null,"~"]
["SA36",2025,"Choose",870,null,null,null,null,null,null,null,null,null,null,null,null,null,null,null,null,null,null,"~"]
["SA36",2025,"Choose",871,null,null,null,null,null,null,null,null,null,null,null,null,null,null,null,null,null,null,"~"]
["SA36",2025,"Choose",872,null,null,null,null,null,null,null,null,null,null,null,null,null,null,null,null,null,null,"~"]
["SA36",2025,"Choose",873,null,null,null,null,null,null,null,null,null,null,null,null,null,null,null,null,null,null,"~"]
["SA36",2025,"Choose",874,null,null,null,null,null,null,null,null,null,null,null,null,null,null,null,null,null,null,"~"]
["SA36",2025,"Choose",875,null,null,null,null,null,null,null,null,null,null,null,null,null,null,null,null,null,null,"~"]
["SA36",2025,"Choose",876,null,null,null,null,null,null,null,null,null,null,null,null,null,null,null,null,null,null,"~"]
["SA36",2025,"Choose",877,null,null,null,null,null,null,null,null,null,null,null,null,null,null,null,null,null,null,"~"]
["SA36",2025,"Choose",878,null,null,null,null,null,null,null,null,null,null,null,null,null,null,null,null,null,null,"~"]
["SA36",2025,"Choose",879,null,null,null,null,null,null,null,null,null,null,null,null,null,null,null,null,null,null,"~"]
["SA36",2025,"Choose",880,null,null,null,null,null,null,null,null,null,null,null,null,null,null,null,null,null,null,"~"]
["SA36",2025,"Choose",881,null,null,null,null,null,null,null,null,null,null,null,null,null,null,null,null,null,null,"~"]
["SA36",2025,"Choose",882,null,null,null,null,null,null,null,null,null,null,null,null,null,null,null,null,null,null,"~"]
["SA36",2025,"Choose",883,null,null,null,null,null,null,null,null,null,null,null,null,null,null,null,null,null,null,"~"]
["SA36",2025,"Choose",884,null,null,null,null,null,null,null,null,null,null,null,null,null,null,null,null,null,null,"~"]
["SA36",2025,"Choose",885,null,null,null,null,null,null,null,null,null,null,null,null,null,null,null,null,null,null,"~"]
["SA36",2025,"Choose",886,null,null,null,null,null,null,null,null,null,null,null,null,null,null,null,null,null,null,"~"]
["SA36",2025,"Choose",887,null,null,null,null,null,null,null,null,null,null,null,null,null,null,null,null,null,null,"~"]
["SA36",2025,"Choose",888,null,null,null,null,null,null,null,null,null,null,null,null,null,null,null,null,null,null,"~"]
["SA36",2025,"Choose",889,null,null,null,null,null,null,null,null,null,null,null,null,null,null,null,null,null,null,"~"]
["SA36",2025,"Choose",890,null,null,null,null,null,null,null,null,null,null,null,null,null,null,null,null,null,null,"~"]
["SA36",2025,"Choose",891,null,null,null,null,null,null,null,null,null,null,null,null,null,null,null,null,null,null,"~"]
["SA36",2025,"Choose",892,null,null,null,null,null,null,null,null,null,null,null,null,null,null,null,null,null,null,"~"]
["SA36",2025,"Choose",893,null,null,null,null,null,null,null,null,null,null,null,null,null,null,null,null,null,null,"~"]
["SA36",2025,"Choose",894,null,null,null,null,null,null,null,null,null,null,null,null,null,null,null,null,null,null,"~"]
["SA36",2025,"Choose",895,null,null,null,null,null,null,null,null,null,null,null,null,null,null,null,null,null,null,"~"]
["SA36",2025,"Choose",896,null,null,null,null,null,null,null,null,null,null,null,null,null,null,null,null,null,null,"~"]
["SA36",2025,"Choose",897,null,null,null,null,null,null,null,null,null,null,null,null,null,null,null,null,null,null,"~"]
["SA36",2025,"Choose",898,null,null,null,null,null,null,null,null,null,null,null,null,null,null,null,null,null,null,"~"]
["SA36",2025,"Choose",899,null,null,null,null,null,null,null,null,null,null,null,null,null,null,null,null,null,null,"~"]
["SA36",2025,"Choose",900,null,null,null,null,null,null,null,null,null,null,null,null,null,null,null,null,null,null,"~"]
["SA36",2025,"Choose",901,null,null,null,null,null,null,null,null,null,null,null,null,null,null,null,null,null,null,"~"]
["SA36",2025,"Choose",902,null,null,null,null,null,null,null,null,null,null,null,null,null,null,null,null,null,null,"~"]
["SA36",2025,"Choose",903,null,null,null,null,null,null,null,null,null,null,null,null,null,null,null,null,null,null,"~"]
["SA36",2025,"Choose",904,null,null,null,null,null,null,null,null,null,null,null,null,null,null,null,null,null,null,"~"]
["SA36",2025,"Choose",905,null,null,null,null,null,null,null,null,null,null,null,null,null,null,null,null,null,null,"~"]
["SA36",2025,"Choose",906,null,null,null,null,null,null,null,null,null,null,null,null,null,null,null,null,null,null,"~"]
["SA36",2025,"Choose",907,null,null,null,null,null,null,null,null,null,null,null,null,null,null,null,null,null,null,"~"]
["SA36",2025,"Choose",908,null,null,null,null,null,null,null,null,null,null,null,null,null,null,null,null,null,null,"~"]
["SA36",2025,"Choose",909,null,null,null,null,null,null,null,null,null,null,null,null,null,null,null,null,null,null,"~"]
["SA36",2025,"Choose",910,null,null,null,null,null,null,null,null,null,null,null,null,null,null,null,null,null,null,"~"]
["SA36",2025,"Choose",911,null,null,null,null,null,null,null,null,null,null,null,null,null,null,null,null,null,null,"~"]
["SA36",2025,"Choose",912,null,null,null,null,null,null,null,null,null,null,null,null,null,null,null,null,null,null,"~"]
["SA36",2025,"Choose",913,null,null,null,null,null,null,null,null,null,null,null,null,null,null,null,null,null,null,"~"]
["SA36",2025,"Choose",914,null,null,null,null,null,null,null,null,null,null,null,null,null,null,null,null,null,null,"~"]
["SA36",2025,"Choose",915,null,null,null,null,null,null,null,null,null,null,null,null,null,null,null,null,null,null,"~"]
["SA36",2025,"Choose",916,null,null,null,null,null,null,null,null,null,null,null,null,null,null,null,null,null,null,"~"]
["SA36",2025,"Choose",917,null,null,null,null,null,null,null,null,null,null,null,null,null,null,null,null,null,null,"~"]
["SA36",2025,"Choose",918,null,null,null,null,null,null,null,null,null,null,null,null,null,null,null,null,null,null,"~"]
["SA36",2025,"Choose",919,null,null,null,null,null,null,null,null,null,null,null,null,null,null,null,null,null,null,"~"]
["SA36",{"$f":"+MTREF","v":2025},{"$f":"LEFT(muni,(FIND(\" \",muni,1)-1))","v":"Choose"},920,null,null,null,null,null,null,null,null,null,null,null,null,null,null,null,null,null,null,"~"]
["SA36",2025,"Choose",921,null,null,null,null,null,null,null,null,null,null,null,null,null,null,null,null,null,null,"~"]
["SA36",2025,"Choose",922,null,null,null,null,null,null,null,null,null,null,null,null,null,null,null,null,null,null,"~"]
["SA36",2025,"Choose",923,null,null,null,null,null,null,null,null,null,null,null,null,null,null,null,null,null,null,"~"]
["SA36",2025,"Choose",924,null,null,null,null,null,null,null,null,null,null,null,null,null,null,null,null,null,null,"~"]
["SA36",2025,"Choose",925,null,null,null,null,null,null,null,null,null,null,null,null,null,null,null,null,null,null,"~"]
["SA36",2025,"Choose",926,null,null,null,null,null,null,null,null,null,null,null,null,null,null,null,null,null,null,"~"]
["SA36",2025,"Choose",927,null,null,null,null,null,null,null,null,null,null,null,null,null,null,null,null,null,null,"~"]
["SA36",2025,"Choose",928,null,null,null,null,null,null,null,null,null,null,null,null,null,null,null,null,null,null,"~"]
["SA36",2025,"Choose",929,null,null,null,null,null,null,null,null,null,null,null,null,null,null,null,null,null,null,"~"]
["SA36",2025,"Choose",930,null,null,null,null,null,null,null,null,null,null,null,null,null,null,null,null,null,null,"~"]
["SA36",2025,"Choose",931,null,null,null,null,null,null,null,null,null,null,null,null,null,null,null,null,null,null,"~"]
["SA36",2025,"Choose",932,null,null,null,null,null,null,null,null,null,null,null,null,null,null,null,null,null,null,"~"]
["SA36",2025,"Choose",933,null,null,null,null,null,null,null,null,null,null,null,null,null,null,null,null,null,null,"~"]
["SA36",2025,"Choose",934,null,null,null,null,null,null,null,null,null,null,null,null,null,null,null,null,null,null,"~"]
["SA36",2025,"Choose",935,null,null,null,null,null,null,null,null,null,null,null,null,null,null,null,null,null,null,"~"]
["SA36",2025,"Choose",936,null,null,null,null,null,null,null,null,null,null,null,null,null,null,null,null,null,null,"~"]
["SA36",2025,"Choose",937,null,null,null,null,null,null,null,null,null,null,null,null,null,null,null,null,null,null,"~"]
["SA36",2025,"Choose",938,null,null,null,null,null,null,null,null,null,null,null,null,null,null,null,null,null,null,"~"]
["SA36",2025,"Choose",939,null,null,null,null,null,null,null,null,null,null,null,null,null,null,null,null,null,null,"~"]
["SA36",2025,"Choose",940,null,null,null,null,null,null,null,null,null,null,null,null,null,null,null,null,null,null,"~"]
["SA36",2025,"Choose",941,null,null,null,null,null,null,null,null,null,null,null,null,null,null,null,null,null,null,"~"]
["SA36",2025,"Choose",942,null,null,null,null,null,null,null,null,null,null,null,null,null,null,null,null,null,null,"~"]
["SA36",2025,"Choose",943,null,null,null,null,null,null,null,null,null,null,null,null,null,null,null,null,null,null,"~"]
["SA36",2025,"Choose",944,null,null,null,null,null,null,null,null,null,null,null,null,null,null,null,null,null,null,"~"]
["SA36",2025,"Choose",945,null,null,null,null,null,null,null,null,null,null,null,null,null,null,null,null,null,null,"~"]
["SA36",2025,"Choose",946,null,null,null,null,null,null,null,null,null,null,null,null,null,null,null,null,null,null,"~"]
["SA36",2025,"Choose",947,null,null,null,null,null,null,null,null,null,null,null,null,null,null,null,null,null,null,"~"]
["SA36",2025,"Choose",948,null,null,null,null,null,null,null,null,null,null,null,null,null,null,null,null,null,null,"~"]
["SA36",2025,"Choose",949,null,null,null,null,null,null,null,null,null,null,null,null,null,null,null,null,null,null,"~"]
["SA36",2025,"Choose",950,null,null,null,null,null,null,null,null,null,null,null,null,null,null,null,null,null,null,"~"]
["SA36",2025,"Choose",951,null,null,null,null,null,null,null,null,null,null,null,null,null,null,null,null,null,null,"~"]
["SA36",2025,"Choose",952,null,null,null,null,null,null,null,null,null,null,null,null,null,null,null,null,null,null,"~"]
["SA36",2025,"Choose",953,null,null,null,null,null,null,null,null,null,null,null,null,null,null,null,null,null,null,"~"]
["SA36",2025,"Choose",954,null,null,null,null,null,null,null,null,null,null,null,null,null,null,null,null,null,null,"~"]
["SA36",2025,"Choose",955,null,null,null,null,null,null,null,null,null,null,null,null,null,null,null,null,null,null,"~"]
["SA36",2025,"Choose",956,null,null,null,null,null,null,null,null,null,null,null,null,null,null,null,null,null,null,"~"]
["SA36",2025,"Choose",957,null,null,null,null,null,null,null,null,null,null,null,null,null,null,null,null,null,null,"~"]
["SA36",2025,"Choose",958,null,null,null,null,null,null,null,null,null,null,null,null,null,null,null,null,null,null,"~"]
["SA36",2025,"Choose",959,null,null,null,null,null,null,null,null,null,null,null,null,null,null,null,null,null,null,"~"]
["SA36",2025,"Choose",960,null,null,null,null,null,null,null,null,null,null,null,null,null,null,null,null,null,null,"~"]
["SA36",2025,"Choose",961,null,null,null,null,null,null,null,null,null,null,null,null,null,null,null,null,null,null,"~"]
["SA36",2025,"Choose",962,null,null,null,null,null,null,null,null,null,null,null,null,null,null,null,null,null,null,"~"]
["SA36",2025,"Choose",963,null,null,null,null,null,null,null,null,null,null,null,null,null,null,null,null,null,null,"~"]
["SA36",2025,"Choose",964,null,null,null,null,null,null,null,null,null,null,null,null,null,null,null,null,null,null,"~"]
["SA36",2025,"Choose",965,null,null,null,null,null,null,null,null,null,null,null,null,null,null,null,null,null,null,"~"]
["SA36",2025,"Choose",966,null,null,null,null,null,null,null,null,null,null,null,null,null,null,null,null,null,null,"~"]
["SA36",2025,"Choose",967,null,null,null,null,null,null,null,null,null,null,null,null,null,null,null,null,null,null,"~"]
["SA36",2025,"Choose",968,null,null,null,null,null,null,null,null,null,null,null,null,null,null,null,null,null,null,"~"]
["SA36",2025,"Choose",969,null,null,null,null,null,null,null,null,null,null,null,null,null,null,null,null,null,null,"~"]
["SA36",2025,"Choose",970,null,null,null,null,null,null,null,null,null,null,null,null,null,null,null,null,null,null,"~"]
["SA36",2025,"Choose",971,null,null,null,null,null,null,null,null,null,null,null,null,null,null,null,null,null,null,"~"]
["SA36",2025,"Choose",972,null,null,null,null,null,null,null,null,null,null,null,null,null,null,null,null,null,null,"~"]
["SA36",2025,"Choose",973,null,null,null,null,null,null,null,null,null,null,null,null,null,null,null,null,null,null,"~"]
["SA36",2025,"Choose",974,null,null,null,null,null,null,null,null,null,null,null,null,null,null,null,null,null,null,"~"]
["SA36",2025,"Choose",975,null,null,null,null,null,null,null,null,null,null,null,null,null,null,null,null,null,null,"~"]
["SA36",2025,"Choose",976,null,null,null,null,null,null,null,null,null,null,null,null,null,null,null,null,null,null,"~"]
["SA36",2025,"Choose",977,null,null,null,null,null,null,null,null,null,null,null,null,null,null,null,null,null,null,"~"]
["SA36",2025,"Choose",978,null,null,null,null,null,null,null,null,null,null,null,null,null,null,null,null,null,null,"~"]
["SA36",2025,"Choose",979,null,null,null,null,null,null,null,null,null,null,null,null,null,null,null,null,null,null,"~"]
["SA36",2025,"Choose",980,null,null,null,null,null,null,null,null,null,null,null,null,null,null,null,null,null,null,"~"]
["SA36",2025,"Choose",981,null,null,null,null,null,null,null,null,null,null,null,null,null,null,null,null,null,null,"~"]
["SA36",2025,"Choose",982,null,null,null,null,null,null,null,null,null,null,null,null,null,null,null,null,null,null,"~"]
["SA36",2025,"Choose",983,null,null,null,null,null,null,null,null,null,null,null,null,null,null,null,null,null,null,"~"]
["SA36",{"$f":"+MTREF","v":2025},{"$f":"LEFT(muni,(FIND(\" \",muni,1)-1))","v":"Choose"},984,null,null,null,null,null,null,null,null,null,null,null,null,null,null,null,null,null,null,"~"]
["SA36",2025,"Choose",985,null,null,null,null,null,null,null,null,null,null,null,null,null,null,null,null,null,null,"~"]
["SA36",2025,"Choose",986,null,null,null,null,null,null,null,null,null,null,null,null,null,null,null,null,null,null,"~"]
["SA36",2025,"Choose",987,null,null,null,null,null,null,null,null,null,null,null,null,null,null,null,null,null,null,"~"]
["SA36",2025,"Choose",988,null,null,null,null,null,null,null,null,null,null,null,null,null,null,null,null,null,null,"~"]
["SA36",2025,"Choose",989,null,null,null,null,null,null,null,null,null,null,null,null,null,null,null,null,null,null,"~"]
["SA36",2025,"Choose",990,null,null,null,null,null,null,null,null,null,null,null,null,null,null,null,null,null,null,"~"]
["SA36",2025,"Choose",991,null,null,null,null,null,null,null,null,null,null,null,null,null,null,null,null,null,null,"~"]
["SA36",2025,"Choose",992,null,null,null,null,null,null,null,null,null,null,null,null,null,null,null,null,null,null,"~"]
["SA36",2025,"Choose",993,null,null,null,null,null,null,null,null,null,null,null,null,null,null,null,null,null,null,"~"]
["SA36",2025,"Choose",994,null,null,null,null,null,null,null,null,null,null,null,null,null,null,null,null,null,null,"~"]
["SA36",2025,"Choose",995,null,null,null,null,null,null,null,null,null,null,null,null,null,null,null,null,null,null,"~"]
["SA36",2025,"Choose",996,null,null,null,null,null,null,null,null,null,null,null,null,null,null,null,null,null,null,"~"]
["SA36",2025,"Choose",997,null,null,null,null,null,null,null,null,null,null,null,null,null,null,null,null,null,null,"~"]
["SA36",2025,"Choose",998,null,null,null,null,null,null,null,null,null,null,null,null,null,null,null,null,null,null,"~"]
["SA36",2025,"Choose",999,null,null,null,null,null,null,null,null,null,null,null,null,null,null,null,null,null,null,"~"]
["SA36",2025,"Choose",1000,null,null,null,null,null,null,null,null,null,null,null,null,null,null,null,null,null,null,"~"]
["SA37",2025,"Choose",1,null,null,null,null,null,null,null,null,null,null,null,null,null,null,null,null,null,null,"~"]
["SA37",2025,"Choose",2,null,null,null,null,null,null,null,null,null,null,null,null,null,null,null,null,null,null,"~"]
["SA37",2025,"Choose",3,null,null,null,null,null,null,null,null,null,null,null,null,null,null,null,null,null,null,"~"]
["SA37",2025,"Choose",4,null,null,null,null,null,null,null,null,null,null,null,null,null,null,null,null,null,null,"~"]
["SA37",2025,"Choose",5,null,null,null,null,null,null,null,null,null,null,null,null,null,null,null,null,null,null,"~"]
["SA37",2025,"Choose",6,null,null,null,null,null,null,null,null,null,null,null,null,null,null,null,null,null,null,"~"]
["SA37",2025,"Choose",7,null,null,null,null,null,null,null,null,null,null,null,null,null,null,null,null,null,null,"~"]
["SA37",2025,"Choose",8,null,null,null,null,null,null,null,null,null,null,null,null,null,null,null,null,null,null,"~"]
["SA37",2025,"Choose",9,null,null,null,null,null,null,null,null,null,null,null,null,null,null,null,null,null,null,"~"]
["SA37",2025,"Choose",10,null,null,null,null,null,null,null,null,null,null,null,null,null,null,null,null,null,null,"~"]
["SA37",2025,"Choose",11,null,null,null,null,null,null,null,null,null,null,null,null,null,null,null,null,null,null,"~"]
["SA37",2025,"Choose",12,null,null,null,null,null,null,null,null,null,null,null,null,null,null,null,null,null,null,"~"]
["SA37",2025,"Choose",13,null,null,null,null,null,null,null,null,null,null,null,null,null,null,null,null,null,null,"~"]
["SA37",2025,"Choose",14,null,null,null,null,null,null,null,null,null,null,null,null,null,null,null,null,null,null,"~"]
["SA37",2025,"Choose",15,null,null,null,null,null,null,null,null,null,null,null,null,null,null,null,null,null,null,"~"]
["SA37",2025,"Choose",16,null,null,null,null,null,null,null,null,null,null,null,null,null,null,null,null,null,null,"~"]
["SA37",2025,"Choose",17,null,null,null,null,null,null,null,null,null,null,null,null,null,null,null,null,null,null,"~"]
["SA37",2025,"Choose",18,null,null,null,null,null,null,null,null,null,null,null,null,null,null,null,null,null,null,"~"]
["SA37",2025,"Choose",19,null,null,null,null,null,null,null,null,null,null,null,null,null,null,null,null,null,null,"~"]
["SA37",2025,"Choose",20,null,null,null,null,null,null,null,null,null,null,null,null,null,null,null,null,null,null,"~"]
["SA37",2025,"Choose",21,null,null,null,null,null,null,null,null,null,null,null,null,null,null,null,null,null,null,"~"]
["SA37",2025,"Choose",22,null,null,null,null,null,null,null,null,null,null,null,null,null,null,null,null,null,null,"~"]
["SA37",2025,"Choose",23,null,null,null,null,null,null,null,null,null,null,null,null,null,null,null,null,null,null,"~"]
["SA37",2025,"Choose",24,null,null,null,null,null,null,null,null,null,null,null,null,null,null,null,null,null,null,"~"]
["SA37",2025,"Choose",25,null,null,null,null,null,null,null,null,null,null,null,null,null,null,null,null,null,null,"~"]
["SA37",2025,"Choose",26,null,null,null,null,null,null,null,null,null,null,null,null,null,null,null,null,null,null,"~"]
["SA37",2025,"Choose",27,null,null,null,null,null,null,null,null,null,null,null,null,null,null,null,null,null,null,"~"]
["SA37",2025,"Choose",28,null,null,null,null,null,null,null,null,null,null,null,null,null,null,null,null,null,null,"~"]
["SA37",2025,"Choose",29,null,null,null,null,null,null,null,null,null,null,null,null,null,null,null,null,null,null,"~"]
["SA37",2025,"Choose",30,null,null,null,null,null,null,null,null,null,null,null,null,null,null,null,null,null,null,"~"]
["SA37",2025,"Choose",31,null,null,null,null,null,null,null,null,null,null,null,null,null,null,null,null,null,null,"~"]
["SA37",2025,"Choose",32,null,null,null,null,null,null,null,null,null,null,null,null,null,null,null,null,null,null,"~"]
["SA37",2025,"Choose",33,null,null,null,null,null,null,null,null,null,null,null,null,null,null,null,null,null,null,"~"]
["SA37",2025,"Choose",34,null,null,null,null,null,null,null,null,null,null,null,null,null,null,null,null,null,null,"~"]
["SA37",2025,"Choose",35,null,null,null,null,null,null,null,null,null,null,null,null,null,null,null,null,null,null,"~"]
["SA37",2025,"Choose",36,null,null,null,null,null,null,null,null,null,null,null,null,null,null,null,null,null,null,"~"]
["SA37",2025,"Choose",37,null,null,null,null,null,null,null,null,null,null,null,null,null,null,null,null,null,null,"~"]
["SA37",2025,"Choose",38,null,null,null,null,null,null,null,null,null,null,null,null,null,null,null,null,null,null,"~"]
["SA37",2025,"Choose",39,null,null,null,null,null,null,null,null,null,null,null,null,null,null,null,null,null,null,"~"]
["SA37",2025,"Choose",40,null,null,null,null,null,null,null,null,null,null,null,null,null,null,null,null,null,null,"~"]
["SA37",2025,"Choose",41,null,null,null,null,null,null,null,null,null,null,null,null,null,null,null,null,null,null,"~"]
["SA37",2025,"Choose",42,null,null,null,null,null,null,null,null,null,null,null,null,null,null,null,null,null,null,"~"]
["SA37",2025,"Choose",43,null,null,null,null,null,null,null,null,null,null,null,null,null,null,null,null,null,null,"~"]
["SA37",2025,"Choose",44,null,null,null,null,null,null,null,null,null,null,null,null,null,null,null,null,null,null,"~"]
["SA37",2025,"Choose",45,null,null,null,null,null,null,null,null,null,null,null,null,null,null,null,null,null,null,"~"]
["SA37",2025,"Choose",46,null,null,null,null,null,null,null,null,null,null,null,null,null,null,null,null,null,null,"~"]
["SA37",2025,"Choose",47,null,null,null,null,null,null,null,null,null,null,null,null,null,null,null,null,null,null,"~"]
["SA37",{"$f":"+MTREF","v":2025},{"$f":"LEFT(muni,(FIND(\" \",muni,1)-1))","v":"Choose"},48,null,null,null,null,null,null,null,null,null,null,null,null,null,null,null,null,null,null,"~"]
["SA37",2025,"Choose",49,null,null,null,null,null,null,null,null,null,null,null,null,null,null,null,null,null,null,"~"]
["SA37",2025,"Choose",50,null,null,null,null,null,null,null,null,null,null,null,null,null,null,null,null,null,null,"~"]
["SA37",2025,"Choose",51,null,null,null,null,null,null,null,null,null,null,null,null,null,null,null,null,null,null,"~"]
["SA37",2025,"Choose",52,null,null,null,null,null,null,null,null,null,null,null,null,null,null,null,null,null,null,"~"]
["SA37",2025,"Choose",53,null,null,null,null,null,null,null,null,null,null,null,null,null,null,null,null,null,null,"~"]
["SA37",2025,"Choose",54,null,null,null,null,null,null,null,null,null,null,null,null,null,null,null,null,null,null,"~"]
["SA37",2025,"Choose",55,null,null,null,null,null,null,null,null,null,null,null,null,null,null,null,null,null,null,"~"]
["SA37",2025,"Choose",56,null,null,null,null,null,null,null,null,null,null,null,null,null,null,null,null,null,null,"~"]
["SA37",2025,"Choose",57,null,null,null,null,null,null,null,null,null,null,null,null,null,null,null,null,null,null,"~"]
["SA37",2025,"Choose",58,null,null,null,null,null,null,null,null,null,null,null,null,null,null,null,null,null,null,"~"]
["SA37",2025,"Choose",59,null,null,null,null,null,null,null,null,null,null,null,null,null,null,null,null,null,null,"~"]
["SA37",2025,"Choose",60,null,null,null,null,null,null,null,null,null,null,null,null,null,null,null,null,null,null,"~"]
["SA37",2025,"Choose",61,null,null,null,null,null,null,null,null,null,null,null,null,null,null,null,null,null,null,"~"]
["SA37",2025,"Choose",62,null,null,null,null,null,null,null,null,null,null,null,null,null,null,null,null,null,null,"~"]
["SA37",2025,"Choose",63,null,null,null,null,null,null,null,null,null,null,null,null,null,null,null,null,null,null,"~"]
["SA37",2025,"Choose",64,null,null,null,null,null,null,null,null,null,null,null,null,null,null,null,null,null,null,"~"]
["SA37",2025,"Choose",65,null,null,null,null,null,null,null,null,null,null,null,null,null,null,null,null,null,null,"~"]
["SA37",2025,"Choose",66,null,null,null,null,null,null,null,null,null,null,null,null,null,null,null,null,null,null,"~"]
["SA37",2025,"Choose",67,null,null,null,null,null,null,null,null,null,null,null,null,null,null,null,null,null,null,"~"]
["SA37",2025,"Choose",68,null,null,null,null,null,null,null,null,null,null,null,null,null,null,null,null,null,null,"~"]
["SA37",2025,"Choose",69,null,null,null,null,null,null,null,null,null,null,null,null,null,null,null,null,null,null,"~"]
["SA37",2025,"Choose",70,null,null,null,null,null,null,null,null,null,null,null,null,null,null,null,null,null,null,"~"]
["SA37",2025,"Choose",71,null,null,null,null,null,null,null,null,null,null,null,null,null,null,null,null,null,null,"~"]
["SA37",2025,"Choose",72,null,null,null,null,null,null,null,null,null,null,null,null,null,null,null,null,null,null,"~"]
["SA37",2025,"Choose",73,null,null,null,null,null,null,null,null,null,null,null,null,null,null,null,null,null,null,"~"]
["SA37",2025,"Choose",74,null,null,null,null,null,null,null,null,null,null,null,null,null,null,null,null,null,null,"~"]
["SA37",2025,"Choose",75,null,null,null,null,null,null,null,null,null,null,null,null,null,null,null,null,null,null,"~"]
["SA37",2025,"Choose",76,null,null,null,null,null,null,null,null,null,null,null,null,null,null,null,null,null,null,"~"]
["SA37",2025,"Choose",77,null,null,null,null,null,null,null,null,null,null,null,null,null,null,null,null,null,null,"~"]
["SA37",2025,"Choose",78,null,null,null,null,null,null,null,null,null,null,null,null,null,null,null,null,null,null,"~"]
["SA37",2025,"Choose",79,null,null,null,null,null,null,null,null,null,null,null,null,null,null,null,null,null,null,"~"]
["SA37",2025,"Choose",80,null,null,null,null,null,null,null,null,null,null,null,null,null,null,null,null,null,null,"~"]
["SA37",2025,"Choose",81,null,null,null,null,null,null,null,null,null,null,null,null,null,null,null,null,null,null,"~"]
["SA37",2025,"Choose",82,null,null,null,null,null,null,null,null,null,null,null,null,null,null,null,null,null,null,"~"]
["SA37",2025,"Choose",83,null,null,null,null,null,null,null,null,null,null,null,null,null,null,null,null,null,null,"~"]
["SA37",2025,"Choose",84,null,null,null,null,null,null,null,null,null,null,null,null,null,null,null,null,null,null,"~"]
["SA37",2025,"Choose",85,null,null,null,null,null,null,null,null,null,null,null,null,null,null,null,null,null,null,"~"]
["SA37",2025,"Choose",86,null,null,null,null,null,null,null,null,null,null,null,null,null,null,null,null,null,null,"~"]
["SA37",2025,"Choose",87,null,null,null,null,null,null,null,null,null,null,null,null,null,null,null,null,null,null,"~"]
["SA37",2025,"Choose",88,null,null,null,null,null,null,null,null,null,null,null,null,null,null,null,null,null,null,"~"]
["SA37",2025,"Choose",89,null,null,null,null,null,null,null,null,null,null,null,null,null,null,null,null,null,null,"~"]
["SA37",2025,"Choose",90,null,null,null,null,null,null,null,null,null,null,null,null,null,null,null,null,null,null,"~"]
["SA37",2025,"Choose",91,null,null,null,null,null,null,null,null,null,null,null,null,null,null,null,null,null,null,"~"]
["SA37",2025,"Choose",92,null,null,null,null,null,null,null,null,null,null,null,null,null,null,null,null,null,null,"~"]
["SA37",2025,"Choose",93,null,null,null,null,null,null,null,null,null,null,null,null,null,null,null,null,null,null,"~"]
["SA37",2025,"Choose",94,null,null,null,null,null,null,null,null,null,null,null,null,null,null,null,null,null,null,"~"]
["SA37",2025,"Choose",95,null,null,null,null,null,null,null,null,null,null,null,null,null,null,null,null,null,null,"~"]
["SA37",2025,"Choose",96,null,null,null,null,null,null,null,null,null,null,null,null,null,null,null,null,null,null,"~"]
["SA37",2025,"Choose",97,null,null,null,null,null,null,null,null,null,null,null,null,null,null,null,null,null,null,"~"]
["SA37",2025,"Choose",98,null,null,null,null,null,null,null,null,null,null,null,null,null,null,null,null,null,null,"~"]
["SA37",2025,"Choose",99,null,null,null,null,null,null,null,null,null,null,null,null,null,null,null,null,null,null,"~"]
["SA37",2025,"Choose",100,null,null,null,null,null,null,null,null,null,null,null,null,null,null,null,null,null,null,"~"]
["SA37",2025,"Choose",101,null,null,null,null,null,null,null,null,null,null,null,null,null,null,null,null,null,null,"~"]
["SA37",2025,"Choose",102,null,null,null,null,null,null,null,null,null,null,null,null,null,null,null,null,null,null,"~"]
["SA37",2025,"Choose",103,null,null,null,null,null,null,null,null,null,null,null,null,null,null,null,null,null,null,"~"]
["SA37",2025,"Choose",104,null,null,null,null,null,null,null,null,null,null,null,null,null,null,null,null,null,null,"~"]
["SA37",2025,"Choose",105,null,null,null,null,null,null,null,null,null,null,null,null,null,null,null,null,null,null,"~"]
["SA37",2025,"Choose",106,null,null,null,null,null,null,null,null,null,null,null,null,null,null,null,null,null,null,"~"]
["SA37",2025,"Choose",107,null,null,null,null,null,null,null,null,null,null,null,null,null,null,null,null,null,null,"~"]
["SA37",2025,"Choose",108,null,null,null,null,null,null,null,null,null,null,null,null,null,null,null,null,null,null,"~"]
["SA37",2025,"Choose",109,null,null,null,null,null,null,null,null,null,null,null,null,null,null,null,null,null,null,"~"]
["SA37",2025,"Choose",110,null,null,null,null,null,null,null,null,null,null,null,null,null,null,null,null,null,null,"~"]
["SA37",2025,"Choose",111,null,null,null,null,null,null,null,null,null,null,null,null,null,null,null,null,null,null,"~"]
["SA37",{"$f":"+MTREF","v":2025},{"$f":"LEFT(muni,(FIND(\" \",muni,1)-1))","v":"Choose"},112,null,null,null,null,null,null,null,null,null,null,null,null,null,null,null,null,null,null,"~"]
["SA37",2025,"Choose",113,null,null,null,null,null,null,null,null,null,null,null,null,null,null,null,null,null,null,"~"]
["SA37",2025,"Choose",114,null,null,null,null,null,null,null,null,null,null,null,null,null,null,null,null,null,null,"~"]
["SA37",2025,"Choose",115,null,null,null,null,null,null,null,null,null,null,null,null,null,null,null,null,null,null,"~"]
["SA37",2025,"Choose",116,null,null,null,null,null,null,null,null,null,null,null,null,null,null,null,null,null,null,"~"]
["SA37",2025,"Choose",117,null,null,null,null,null,null,null,null,null,null,null,null,null,null,null,null,null,null,"~"]
["SA37",2025,"Choose",118,null,null,null,null,null,null,null,null,null,null,null,null,null,null,null,null,null,null,"~"]
["SA37",2025,"Choose",119,null,null,null,null,null,null,null,null,null,null,null,null,null,null,null,null,null,null,"~"]
["SA37",2025,"Choose",120,null,null,null,null,null,null,null,null,null,null,null,null,null,null,null,null,null,null,"~"]
["SA37",2025,"Choose",121,null,null,null,null,null,null,null,null,null,null,null,null,null,null,null,null,null,null,"~"]
["SA37",2025,"Choose",122,null,null,null,null,null,null,null,null,null,null,null,null,null,null,null,null,null,null,"~"]
["SA37",2025,"Choose",123,null,null,null,null,null,null,null,null,null,null,null,null,null,null,null,null,null,null,"~"]
["SA37",2025,"Choose",124,null,null,null,null,null,null,null,null,null,null,null,null,null,null,null,null,null,null,"~"]
["SA37",2025,"Choose",125,null,null,null,null,null,null,null,null,null,null,null,null,null,null,null,null,null,null,"~"]
["SA37",2025,"Choose",126,null,null,null,null,null,null,null,null,null,null,null,null,null,null,null,null,null,null,"~"]
["SA37",2025,"Choose",127,null,null,null,null,null,null,null,null,null,null,null,null,null,null,null,null,null,null,"~"]
["SA37",2025,"Choose",128,null,null,null,null,null,null,null,null,null,null,null,null,null,null,null,null,null,null,"~"]
["SA37",2025,"Choose",129,null,null,null,null,null,null,null,null,null,null,null,null,null,null,null,null,null,null,"~"]
["SA37",2025,"Choose",130,null,null,null,null,null,null,null,null,null,null,null,null,null,null,null,null,null,null,"~"]
["SA37",2025,"Choose",131,null,null,null,null,null,null,null,null,null,null,null,null,null,null,null,null,null,null,"~"]
["SA37",2025,"Choose",132,null,null,null,null,null,null,null,null,null,null,null,null,null,null,null,null,null,null,"~"]
["SA37",2025,"Choose",133,null,null,null,null,null,null,null,null,null,null,null,null,null,null,null,null,null,null,"~"]
["SA37",2025,"Choose",134,null,null,null,null,null,null,null,null,null,null,null,null,null,null,null,null,null,null,"~"]
["SA37",2025,"Choose",135,null,null,null,null,null,null,null,null,null,null,null,null,null,null,null,null,null,null,"~"]
["SA37",2025,"Choose",136,null,null,null,null,null,null,null,null,null,null,null,null,null,null,null,null,null,null,"~"]
["SA37",2025,"Choose",137,null,null,null,null,null,null,null,null,null,null,null,null,null,null,null,null,null,null,"~"]
["SA37",2025,"Choose",138,null,null,null,null,null,null,null,null,null,null,null,null,null,null,null,null,null,null,"~"]
["SA37",2025,"Choose",139,null,null,null,null,null,null,null,null,null,null,null,null,null,null,null,null,null,null,"~"]
["SA37",2025,"Choose",140,null,null,null,null,null,null,null,null,null,null,null,null,null,null,null,null,null,null,"~"]
["SA37",2025,"Choose",141,null,null,null,null,null,null,null,null,null,null,null,null,null,null,null,null,null,null,"~"]
["SA37",2025,"Choose",142,null,null,null,null,null,null,null,null,null,null,null,null,null,null,null,null,null,null,"~"]
["SA37",2025,"Choose",143,null,null,null,null,null,null,null,null,null,null,null,null,null,null,null,null,null,null,"~"]
["SA37",2025,"Choose",144,null,null,null,null,null,null,null,null,null,null,null,null,null,null,null,null,null,null,"~"]
["SA37",2025,"Choose",145,null,null,null,null,null,null,null,null,null,null,null,null,null,null,null,null,null,null,"~"]
["SA37",2025,"Choose",146,null,null,null,null,null,null,null,null,null,null,null,null,null,null,null,null,null,null,"~"]
["SA37",2025,"Choose",147,null,null,null,null,null,null,null,null,null,null,null,null,null,null,null,null,null,null,"~"]
["SA37",2025,"Choose",148,null,null,null,null,null,null,null,null,null,null,null,null,null,null,null,null,null,null,"~"]
["SA37",2025,"Choose",149,null,null,null,null,null,null,null,null,null,null,null,null,null,null,null,null,null,null,"~"]
["SA37",2025,"Choose",150,null,null,null,null,null,null,null,null,null,null,null,null,null,null,null,null,null,null,"~"]
["SA37",2025,"Choose",151,null,null,null,null,null,null,null,null,null,null,null,null,null,null,null,null,null,null,"~"]
["SA37",2025,"Choose",152,null,null,null,null,null,null,null,null,null,null,null,null,null,null,null,null,null,null,"~"]
["SA37",2025,"Choose",153,null,null,null,null,null,null,null,null,null,null,null,null,null,null,null,null,null,null,"~"]
["SA37",2025,"Choose",154,null,null,null,null,null,null,null,null,null,null,null,null,null,null,null,null,null,null,"~"]
["SA37",2025,"Choose",155,null,null,null,null,null,null,null,null,null,null,null,null,null,null,null,null,null,null,"~"]
["SA37",2025,"Choose",156,null,null,null,null,null,null,null,null,null,null,null,null,null,null,null,null,null,null,"~"]
["SA37",2025,"Choose",157,null,null,null,null,null,null,null,null,null,null,null,null,null,null,null,null,null,null,"~"]
["SA37",2025,"Choose",158,null,null,null,null,null,null,null,null,null,null,null,null,null,null,null,null,null,null,"~"]
["SA37",2025,"Choose",159,null,null,null,null,null,null,null,null,null,null,null,null,null,null,null,null,null,null,"~"]
["SA37",2025,"Choose",160,null,null,null,null,null,null,null,null,null,null,null,null,null,null,null,null,null,null,"~"]
["SA37",2025,"Choose",161,null,null,null,null,null,null,null,null,null,null,null,null,null,null,null,null,null,null,"~"]
["SA37",2025,"Choose",162,null,null,null,null,null,null,null,null,null,null,null,null,null,null,null,null,null,null,"~"]
["SA37",2025,"Choose",163,null,null,null,null,null,null,null,null,null,null,null,null,null,null,null,null,null,null,"~"]
["SA37",2025,"Choose",164,null,null,null,null,null,null,null,null,null,null,null,null,null,null,null,null,null,null,"~"]
["SA37",2025,"Choose",165,null,null,null,null,null,null,null,null,null,null,null,null,null,null,null,null,null,null,"~"]
["SA37",2025,"Choose",166,null,null,null,null,null,null,null,null,null,null,null,null,null,null,null,null,null,null,"~"]
["SA37",2025,"Choose",167,null,null,null,null,null,null,null,null,null,null,null,null,null,null,null,null,null,null,"~"]
["SA37",2025,"Choose",168,null,null,null,null,null,null,null,null,null,null,null,null,null,null,null,null,null,null,"~"]
["SA37",2025,"Choose",169,null,null,null,null,null,null,null,null,null,null,null,null,null,null,null,null,null,null,"~"]
["SA37",2025,"Choose",170,null,null,null,null,null,null,null,null,null,null,null,null,null,null,null,null,null,null,"~"]
["SA37",2025,"Choose",171,null,null,null,null,null,null,null,null,null,null,null,null,null,null,null,null,null,null,"~"]
["SA37",2025,"Choose",172,null,null,null,null,null,null,null,null,null,null,null,null,null,null,null,null,null,null,"~"]
["SA37",2025,"Choose",173,null,null,null,null,null,null,null,null,null,null,null,null,null,null,null,null,null,null,"~"]
["SA37",2025,"Choose",174,null,null,null,null,null,null,null,null,null,null,null,null,null,null,null,null,null,null,"~"]
["SA37",2025,"Choose",175,null,null,null,null,null,null,null,null,null,null,null,null,null,null,null,null,null,null,"~"]
["SA37",{"$f":"+MTREF","v":2025},{"$f":"LEFT(muni,(FIND(\" \",muni,1)-1))","v":"Choose"},176,null,null,null,null,null,null,null,null,null,null,null,null,null,null,null,null,null,null,"~"]
["SA37",2025,"Choose",177,null,null,null,null,null,null,null,null,null,null,null,null,null,null,null,null,null,null,"~"]
["SA37",2025,"Choose",178,null,null,null,null,null,null,null,null,null,null,null,null,null,null,null,null,null,null,"~"]
["SA37",2025,"Choose",179,null,null,null,null,null,null,null,null,null,null,null,null,null,null,null,null,null,null,"~"]
["SA37",2025,"Choose",180,null,null,null,null,null,null,null,null,null,null,null,null,null,null,null,null,null,null,"~"]
["SA37",2025,"Choose",181,null,null,null,null,null,null,null,null,null,null,null,null,null,null,null,null,null,null,"~"]
["SA37",2025,"Choose",182,null,null,null,null,null,null,null,null,null,null,null,null,null,null,null,null,null,null,"~"]
["SA37",2025,"Choose",183,null,null,null,null,null,null,null,null,null,null,null,null,null,null,null,null,null,null,"~"]
["SA37",2025,"Choose",184,null,null,null,null,null,null,null,null,null,null,null,null,null,null,null,null,null,null,"~"]
["SA37",2025,"Choose",185,null,null,null,null,null,null,null,null,null,null,null,null,null,null,null,null,null,null,"~"]
["SA37",2025,"Choose",186,null,null,null,null,null,null,null,null,null,null,null,null,null,null,null,null,null,null,"~"]
["SA37",2025,"Choose",187,null,null,null,null,null,null,null,null,null,null,null,null,null,null,null,null,null,null,"~"]
["SA37",2025,"Choose",188,null,null,null,null,null,null,null,null,null,null,null,null,null,null,null,null,null,null,"~"]
["SA37",2025,"Choose",189,null,null,null,null,null,null,null,null,null,null,null,null,null,null,null,null,null,null,"~"]
["SA37",2025,"Choose",190,null,null,null,null,null,null,null,null,null,null,null,null,null,null,null,null,null,null,"~"]
["SA37",2025,"Choose",191,null,null,null,null,null,null,null,null,null,null,null,null,null,null,null,null,null,null,"~"]
["SA37",2025,"Choose",192,null,null,null,null,null,null,null,null,null,null,null,null,null,null,null,null,null,null,"~"]
["SA37",2025,"Choose",193,null,null,null,null,null,null,null,null,null,null,null,null,null,null,null,null,null,null,"~"]
["SA37",2025,"Choose",194,null,null,null,null,null,null,null,null,null,null,null,null,null,null,null,null,null,null,"~"]
["SA37",2025,"Choose",195,null,null,null,null,null,null,null,null,null,null,null,null,null,null,null,null,null,null,"~"]
["SA37",2025,"Choose",196,null,null,null,null,null,null,null,null,null,null,null,null,null,null,null,null,null,null,"~"]
["SA37",2025,"Choose",197,null,null,null,null,null,null,null,null,null,null,null,null,null,null,null,null,null,null,"~"]
["SA37",2025,"Choose",198,null,null,null,null,null,null,null,null,null,null,null,null,null,null,null,null,null,null,"~"]
["SA37",2025,"Choose",199,null,null,null,null,null,null,null,null,null,null,null,null,null,null,null,null,null,null,"~"]
["SA37",2025,"Choose",200,null,null,null,null,null,null,null,null,null,null,null,null,null,null,null,null,null,null,"~"]
["SA37",2025,"Choose",201,null,null,null,null,null,null,null,null,null,null,null,null,null,null,null,null,null,null,"~"]
["SA37",2025,"Choose",202,null,null,null,null,null,null,null,null,null,null,null,null,null,null,null,null,null,null,"~"]
["SA37",2025,"Choose",203,null,null,null,null,null,null,null,null,null,null,null,null,null,null,null,null,null,null,"~"]
["SA37",2025,"Choose",204,null,null,null,null,null,null,null,null,null,null,null,null,null,null,null,null,null,null,"~"]
["SA37",2025,"Choose",205,null,null,null,null,null,null,null,null,null,null,null,null,null,null,null,null,null,null,"~"]
["SA37",2025,"Choose",206,null,null,null,null,null,null,null,null,null,null,null,null,null,null,null,null,null,null,"~"]
["SA37",2025,"Choose",207,null,null,null,null,null,null,null,null,null,null,null,null,null,null,null,null,null,null,"~"]
["SA37",2025,"Choose",208,null,null,null,null,null,null,null,null,null,null,null,null,null,null,null,null,null,null,"~"]
["SA37",2025,"Choose",209,null,null,null,null,null,null,null,null,null,null,null,null,null,null,null,null,null,null,"~"]
["SA37",2025,"Choose",210,null,null,null,null,null,null,null,null,null,null,null,null,null,null,null,null,null,null,"~"]
["SA37",2025,"Choose",211,null,null,null,null,null,null,null,null,null,null,null,null,null,null,null,null,null,null,"~"]
["SA37",2025,"Choose",212,null,null,null,null,null,null,null,null,null,null,null,null,null,null,null,null,null,null,"~"]
["SA37",2025,"Choose",213,null,null,null,null,null,null,null,null,null,null,null,null,null,null,null,null,null,null,"~"]
["SA37",2025,"Choose",214,null,null,null,null,null,null,null,null,null,null,null,null,null,null,null,null,null,null,"~"]
["SA37",2025,"Choose",215,null,null,null,null,null,null,null,null,null,null,null,null,null,null,null,null,null,null,"~"]
["SA37",2025,"Choose",216,null,null,null,null,null,null,null,null,null,null,null,null,null,null,null,null,null,null,"~"]
["SA37",2025,"Choose",217,null,null,null,null,null,null,null,null,null,null,null,null,null,null,null,null,null,null,"~"]
["SA37",2025,"Choose",218,null,null,null,null,null,null,null,null,null,null,null,null,null,null,null,null,null,null,"~"]
["SA37",2025,"Choose",219,null,null,null,null,null,null,null,null,null,null,null,null,null,null,null,null,null,null,"~"]
["SA37",2025,"Choose",220,null,null,null,null,null,null,null,null,null,null,null,null,null,null,null,null,null,null,"~"]
["SA37",2025,"Choose",221,null,null,null,null,null,null,null,null,null,null,null,null,null,null,null,null,null,null,"~"]
["SA37",2025,"Choose",222,null,null,null,null,null,null,null,null,null,null,null,null,null,null,null,null,null,null,"~"]
["SA37",2025,"Choose",223,null,null,null,null,null,null,null,null,null,null,null,null,null,null,null,null,null,null,"~"]
["SA37",2025,"Choose",224,null,null,null,null,null,null,null,null,null,null,null,null,null,null,null,null,null,null,"~"]
["SA37",2025,"Choose",225,null,null,null,null,null,null,null,null,null,null,null,null,null,null,null,null,null,null,"~"]
["SA37",2025,"Choose",226,null,null,null,null,null,null,null,null,null,null,null,null,null,null,null,null,null,null,"~"]
["SA37",2025,"Choose",227,null,null,null,null,null,null,null,null,null,null,null,null,null,null,null,null,null,null,"~"]
["SA37",2025,"Choose",228,null,null,null,null,null,null,null,null,null,null,null,null,null,null,null,null,null,null,"~"]
["SA37",2025,"Choose",229,null,null,null,null,null,null,null,null,null,null,null,null,null,null,null,null,null,null,"~"]
["SA37",2025,"Choose",230,null,null,null,null,null,null,null,null,null,null,null,null,null,null,null,null,null,null,"~"]
["SA37",2025,"Choose",231,null,null,null,null,null,null,null,null,null,null,null,null,null,null,null,null,null,null,"~"]
["SA37",2025,"Choose",232,null,null,null,null,null,null,null,null,null,null,null,null,null,null,null,null,null,null,"~"]
["SA37",2025,"Choose",233,null,null,null,null,null,null,null,null,null,null,null,null,null,null,null,null,null,null,"~"]
["SA37",2025,"Choose",234,null,null,null,null,null,null,null,null,null,null,null,null,null,null,null,null,null,null,"~"]
["SA37",2025,"Choose",235,null,null,null,null,null,null,null,null,null,null,null,null,null,null,null,null,null,null,"~"]
["SA37",2025,"Choose",236,null,null,null,null,null,null,null,null,null,null,null,null,null,null,null,null,null,null,"~"]
["SA37",2025,"Choose",237,null,null,null,null,null,null,null,null,null,null,null,null,null,null,null,null,null,null,"~"]
["SA37",2025,"Choose",238,null,null,null,null,null,null,null,null,null,null,null,null,null,null,null,null,null,null,"~"]
["SA37",2025,"Choose",239,null,null,null,null,null,null,null,null,null,null,null,null,null,null,null,null,null,null,"~"]
["SA37",{"$f":"+MTREF","v":2025},{"$f":"LEFT(muni,(FIND(\" \",muni,1)-1))","v":"Choose"},240,null,null,null,null,null,null,null,null,null,null,null,null,null,null,null,null,null,null,"~"]
["SA37",2025,"Choose",241,null,null,null,null,null,null,null,null,null,null,null,null,null,null,null,null,null,null,"~"]
["SA37",2025,"Choose",242,null,null,null,null,null,null,null,null,null,null,null,null,null,null,null,null,null,null,"~"]
["SA37",2025,"Choose",243,null,null,null,null,null,null,null,null,null,null,null,null,null,null,null,null,null,null,"~"]
["SA37",2025,"Choose",244,null,null,null,null,null,null,null,null,null,null,null,null,null,null,null,null,null,null,"~"]
["SA37",2025,"Choose",245,null,null,null,null,null,null,null,null,null,null,null,null,null,null,null,null,null,null,"~"]
["SA37",2025,"Choose",246,null,null,null,null,null,null,null,null,null,null,null,null,null,null,null,null,null,null,"~"]
["SA37",2025,"Choose",247,null,null,null,null,null,null,null,null,null,null,null,null,null,null,null,null,null,null,"~"]
["SA37",2025,"Choose",248,null,null,null,null,null,null,null,null,null,null,null,null,null,null,null,null,null,null,"~"]
["SA37",2025,"Choose",249,null,null,null,null,null,null,null,null,null,null,null,null,null,null,null,null,null,null,"~"]
["SA37",2025,"Choose",250,null,null,null,null,null,null,null,null,null,null,null,null,null,null,null,null,null,null,"~"]
["SA37",2025,"Choose",251,null,null,null,null,null,null,null,null,null,null,null,null,null,null,null,null,null,null,"~"]
["SA37",2025,"Choose",252,null,null,null,null,null,null,null,null,null,null,null,null,null,null,null,null,null,null,"~"]
["SA37",2025,"Choose",253,null,null,null,null,null,null,null,null,null,null,null,null,null,null,null,null,null,null,"~"]
["SA37",2025,"Choose",254,null,null,null,null,null,null,null,null,null,null,null,null,null,null,null,null,null,null,"~"]
["SA37",2025,"Choose",255,null,null,null,null,null,null,null,null,null,null,null,null,null,null,null,null,null,null,"~"]
["SA37",2025,"Choose",256,null,null,null,null,null,null,null,null,null,null,null,null,null,null,null,null,null,null,"~"]
["SA37",2025,"Choose",257,null,null,null,null,null,null,null,null,null,null,null,null,null,null,null,null,null,null,"~"]
["SA37",2025,"Choose",258,null,null,null,null,null,null,null,null,null,null,null,null,null,null,null,null,null,null,"~"]
["SA37",2025,"Choose",259,null,null,null,null,null,null,null,null,null,null,null,null,null,null,null,null,null,null,"~"]
["SA37",2025,"Choose",260,null,null,null,null,null,null,null,null,null,null,null,null,null,null,null,null,null,null,"~"]
["SA37",2025,"Choose",261,null,null,null,null,null,null,null,null,null,null,null,null,null,null,null,null,null,null,"~"]
["SA37",2025,"Choose",262,null,null,null,null,null,null,null,null,null,null,null,null,null,null,null,null,null,null,"~"]
["SA37",2025,"Choose",263,null,null,null,null,null,null,null,null,null,null,null,null,null,null,null,null,null,null,"~"]
["SA37",2025,"Choose",264,null,null,null,null,null,null,null,null,null,null,null,null,null,null,null,null,null,null,"~"]
["SA37",2025,"Choose",265,null,null,null,null,null,null,null,null,null,null,null,null,null,null,null,null,null,null,"~"]
["SA37",2025,"Choose",266,null,null,null,null,null,null,null,null,null,null,null,null,null,null,null,null,null,null,"~"]
["SA37",2025,"Choose",267,null,null,null,null,null,null,null,null,null,null,null,null,null,null,null,null,null,null,"~"]
["SA37",2025,"Choose",268,null,null,null,null,null,null,null,null,null,null,null,null,null,null,null,null,null,null,"~"]
["SA37",2025,"Choose",269,null,null,null,null,null,null,null,null,null,null,null,null,null,null,null,null,null,null,"~"]
["SA37",2025,"Choose",270,null,null,null,null,null,null,null,null,null,null,null,null,null,null,null,null,null,null,"~"]
["SA37",2025,"Choose",271,null,null,null,null,null,null,null,null,null,null,null,null,null,null,null,null,null,null,"~"]
["SA37",2025,"Choose",272,null,null,null,null,null,null,null,null,null,null,null,null,null,null,null,null,null,null,"~"]
["SA37",2025,"Choose",273,null,null,null,null,null,null,null,null,null,null,null,null,null,null,null,null,null,null,"~"]
["SA37",2025,"Choose",274,null,null,null,null,null,null,null,null,null,null,null,null,null,null,null,null,null,null,"~"]
["SA37",2025,"Choose",275,null,null,null,null,null,null,null,null,null,null,null,null,null,null,null,null,null,null,"~"]
["SA37",2025,"Choose",276,null,null,null,null,null,null,null,null,null,null,null,null,null,null,null,null,null,null,"~"]
["SA37",2025,"Choose",277,null,null,null,null,null,null,null,null,null,null,null,null,null,null,null,null,null,null,"~"]
["SA37",2025,"Choose",278,null,null,null,null,null,null,null,null,null,null,null,null,null,null,null,null,null,null,"~"]
["SA37",2025,"Choose",279,null,null,null,null,null,null,null,null,null,null,null,null,null,null,null,null,null,null,"~"]
["SA37",2025,"Choose",280,null,null,null,null,null,null,null,null,null,null,null,null,null,null,null,null,null,null,"~"]
["SA37",2025,"Choose",281,null,null,null,null,null,null,null,null,null,null,null,null,null,null,null,null,null,null,"~"]
["SA37",2025,"Choose",282,null,null,null,null,null,null,null,null,null,null,null,null,null,null,null,null,null,null,"~"]
["SA37",2025,"Choose",283,null,null,null,null,null,null,null,null,null,null,null,null,null,null,null,null,null,null,"~"]
["SA37",2025,"Choose",284,null,null,null,null,null,null,null,null,null,null,null,null,null,null,null,null,null,null,"~"]
["SA37",2025,"Choose",285,null,null,null,null,null,null,null,null,null,null,null,null,null,null,null,null,null,null,"~"]
["SA37",2025,"Choose",286,null,null,null,null,null,null,null,null,null,null,null,null,null,null,null,null,null,null,"~"]
["SA37",2025,"Choose",287,null,null,null,null,null,null,null,null,null,null,null,null,null,null,null,null,null,null,"~"]
["SA37",2025,"Choose",288,null,null,null,null,null,null,null,null,null,null,null,null,null,null,null,null,null,null,"~"]
["SA37",2025,"Choose",289,null,null,null,null,null,null,null,null,null,null,null,null,null,null,null,null,null,null,"~"]
["SA37",2025,"Choose",290,null,null,null,null,null,null,null,null,null,null,null,null,null,null,null,null,null,null,"~"]
["SA37",2025,"Choose",291,null,null,null,null,null,null,null,null,null,null,null,null,null,null,null,null,null,null,"~"]
["SA37",2025,"Choose",292,null,null,null,null,null,null,null,null,null,null,null,null,null,null,null,null,null,null,"~"]
["SA37",2025,"Choose",293,null,null,null,null,null,null,null,null,null,null,null,null,null,null,null,null,null,null,"~"]
["SA37",2025,"Choose",294,null,null,null,null,null,null,null,null,null,null,null,null,null,null,null,null,null,null,"~"]
["SA37",2025,"Choose",295,null,null,null,null,null,null,null,null,null,null,null,null,null,null,null,null,null,null,"~"]
["SA37",2025,"Choose",296,null,null,null,null,null,null,null,null,null,null,null,null,null,null,null,null,null,null,"~"]
["SA37",2025,"Choose",297,null,null,null,null,null,null,null,null,null,null,null,null,null,null,null,null,null,null,"~"]
["SA37",2025,"Choose",298,null,null,null,null,null,null,null,null,null,null,null,null,null,null,null,null,null,null,"~"]
["SA37",2025,"Choose",299,null,null,null,null,null,null,null,null,null,null,null,null,null,null,null,null,null,null,"~"]
["SA37",2025,"Choose",300,null,null,null,null,null,null,null,null,null,null,null,null,null,null,null,null,null,null,"~"]
["SA37",2025,"Choose",301,null,null,null,null,null,null,null,null,null,null,null,null,null,null,null,null,null,null,"~"]
["SA37",2025,"Choose",302,null,null,null,null,null,null,null,null,null,null,null,null,null,null,null,null,null,null,"~"]
["SA37",2025,"Choose",303,null,null,null,null,null,null,null,null,null,null,null,null,null,null,null,null,null,null,"~"]
["SA37",{"$f":"+MTREF","v":2025},{"$f":"LEFT(muni,(FIND(\" \",muni,1)-1))","v":"Choose"},304,null,null,null,null,null,null,null,null,null,null,null,null,null,null,null,null,null,null,"~"]
["SA37",2025,"Choose",305,null,null,null,null,null,null,null,null,null,null,null,null,null,null,null,null,null,null,"~"]
["SA37",2025,"Choose",306,null,null,null,null,null,null,null,null,null,null,null,null,null,null,null,null,null,null,"~"]
["SA37",2025,"Choose",307,null,null,null,null,null,null,null,null,null,null,null,null,null,null,null,null,null,null,"~"]
["SA37",2025,"Choose",308,null,null,null,null,null,null,null,null,null,null,null,null,null,null,null,null,null,null,"~"]
["SA37",2025,"Choose",309,null,null,null,null,null,null,null,null,null,null,null,null,null,null,null,null,null,null,"~"]
["SA37",2025,"Choose",310,null,null,null,null,null,null,null,null,null,null,null,null,null,null,null,null,null,null,"~"]
["SA37",2025,"Choose",311,null,null,null,null,null,null,null,null,null,null,null,null,null,null,null,null,null,null,"~"]
["SA37",2025,"Choose",312,null,null,null,null,null,null,null,null,null,null,null,null,null,null,null,null,null,null,"~"]
["SA37",2025,"Choose",313,null,null,null,null,null,null,null,null,null,null,null,null,null,null,null,null,null,null,"~"]
["SA37",2025,"Choose",314,null,null,null,null,null,null,null,null,null,null,null,null,null,null,null,null,null,null,"~"]
["SA37",2025,"Choose",315,null,null,null,null,null,null,null,null,null,null,null,null,null,null,null,null,null,null,"~"]
["SA37",2025,"Choose",316,null,null,null,null,null,null,null,null,null,null,null,null,null,null,null,null,null,null,"~"]
["SA37",2025,"Choose",317,null,null,null,null,null,null,null,null,null,null,null,null,null,null,null,null,null,null,"~"]
["SA37",2025,"Choose",318,null,null,null,null,null,null,null,null,null,null,null,null,null,null,null,null,null,null,"~"]
["SA37",2025,"Choose",319,null,null,null,null,null,null,null,null,null,null,null,null,null,null,null,null,null,null,"~"]
["SA37",2025,"Choose",320,null,null,null,null,null,null,null,null,null,null,null,null,null,null,null,null,null,null,"~"]
["SA37",2025,"Choose",321,null,null,null,null,null,null,null,null,null,null,null,null,null,null,null,null,null,null,"~"]
["SA37",2025,"Choose",322,null,null,null,null,null,null,null,null,null,null,null,null,null,null,null,null,null,null,"~"]
["SA37",2025,"Choose",323,null,null,null,null,null,null,null,null,null,null,null,null,null,null,null,null,null,null,"~"]
["SA37",2025,"Choose",324,null,null,null,null,null,null,null,null,null,null,null,null,null,null,null,null,null,null,"~"]
["SA37",2025,"Choose",325,null,null,null,null,null,null,null,null,null,null,null,null,null,null,null,null,null,null,"~"]
["SA37",2025,"Choose",326,null,null,null,null,null,null,null,null,null,null,null,null,null,null,null,null,null,null,"~"]
["SA37",2025,"Choose",327,null,null,null,null,null,null,null,null,null,null,null,null,null,null,null,null,null,null,"~"]
["SA37",2025,"Choose",328,null,null,null,null,null,null,null,null,null,null,null,null,null,null,null,null,null,null,"~"]
["SA37",2025,"Choose",329,null,null,null,null,null,null,null,null,null,null,null,null,null,null,null,null,null,null,"~"]
["SA37",2025,"Choose",330,null,null,null,null,null,null,null,null,null,null,null,null,null,null,null,null,null,null,"~"]
["SA37",2025,"Choose",331,null,null,null,null,null,null,null,null,null,null,null,null,null,null,null,null,null,null,"~"]
["SA37",2025,"Choose",332,null,null,null,null,null,null,null,null,null,null,null,null,null,null,null,null,null,null,"~"]
["SA37",2025,"Choose",333,null,null,null,null,null,null,null,null,null,null,null,null,null,null,null,null,null,null,"~"]
["SA37",2025,"Choose",334,null,null,null,null,null,null,null,null,null,null,null,null,null,null,null,null,null,null,"~"]
["SA37",2025,"Choose",335,null,null,null,null,null,null,null,null,null,null,null,null,null,null,null,null,null,null,"~"]
["SA37",2025,"Choose",336,null,null,null,null,null,null,null,null,null,null,null,null,null,null,null,null,null,null,"~"]
["SA37",2025,"Choose",337,null,null,null,null,null,null,null,null,null,null,null,null,null,null,null,null,null,null,"~"]
["SA37",2025,"Choose",338,null,null,null,null,null,null,null,null,null,null,null,null,null,null,null,null,null,null,"~"]
["SA37",2025,"Choose",339,null,null,null,null,null,null,null,null,null,null,null,null,null,null,null,null,null,null,"~"]
["SA37",2025,"Choose",340,null,null,null,null,null,null,null,null,null,null,null,null,null,null,null,null,null,null,"~"]
["SA37",2025,"Choose",341,null,null,null,null,null,null,null,null,null,null,null,null,null,null,null,null,null,null,"~"]
["SA37",2025,"Choose",342,null,null,null,null,null,null,null,null,null,null,null,null,null,null,null,null,null,null,"~"]
["SA37",2025,"Choose",343,null,null,null,null,null,null,null,null,null,null,null,null,null,null,null,null,null,null,"~"]
["SA37",2025,"Choose",344,null,null,null,null,null,null,null,null,null,null,null,null,null,null,null,null,null,null,"~"]
["SA37",2025,"Choose",345,null,null,null,null,null,null,null,null,null,null,null,null,null,null,null,null,null,null,"~"]
["SA37",2025,"Choose",346,null,null,null,null,null,null,null,null,null,null,null,null,null,null,null,null,null,null,"~"]
["SA37",2025,"Choose",347,null,null,null,null,null,null,null,null,null,null,null,null,null,null,null,null,null,null,"~"]
["SA37",2025,"Choose",348,null,null,null,null,null,null,null,null,null,null,null,null,null,null,null,null,null,null,"~"]
["SA37",2025,"Choose",349,null,null,null,null,null,null,null,null,null,null,null,null,null,null,null,null,null,null,"~"]
["SA37",2025,"Choose",350,null,null,null,null,null,null,null,null,null,null,null,null,null,null,null,null,null,null,"~"]
["SA37",2025,"Choose",351,null,null,null,null,null,null,null,null,null,null,null,null,null,null,null,null,null,null,"~"]
["SA37",2025,"Choose",352,null,null,null,null,null,null,null,null,null,null,null,null,null,null,null,null,null,null,"~"]
["SA37",2025,"Choose",353,null,null,null,null,null,null,null,null,null,null,null,null,null,null,null,null,null,null,"~"]
["SA37",2025,"Choose",354,null,null,null,null,null,null,null,null,null,null,null,null,null,null,null,null,null,null,"~"]
["SA37",2025,"Choose",355,null,null,null,null,null,null,null,null,null,null,null,null,null,null,null,null,null,null,"~"]
["SA37",2025,"Choose",356,null,null,null,null,null,null,null,null,null,null,null,null,null,null,null,null,null,null,"~"]
["SA37",2025,"Choose",357,null,null,null,null,null,null,null,null,null,null,null,null,null,null,null,null,null,null,"~"]
["SA37",2025,"Choose",358,null,null,null,null,null,null,null,null,null,null,null,null,null,null,null,null,null,null,"~"]
["SA37",2025,"Choose",359,null,null,null,null,null,null,null,null,null,null,null,null,null,null,null,null,null,null,"~"]
["SA37",2025,"Choose",360,null,null,null,null,null,null,null,null,null,null,null,null,null,null,null,null,null,null,"~"]
["SA37",2025,"Choose",361,null,null,null,null,null,null,null,null,null,null,null,null,null,null,null,null,null,null,"~"]
["SA37",2025,"Choose",362,null,null,null,null,null,null,null,null,null,null,null,null,null,null,null,null,null,null,"~"]
["SA37",2025,"Choose",363,null,null,null,null,null,null,null,null,null,null,null,null,null,null,null,null,null,null,"~"]
["SA37",2025,"Choose",364,null,null,null,null,null,null,null,null,null,null,null,null,null,null,null,null,null,null,"~"]
["SA37",2025,"Choose",365,null,null,null,null,null,null,null,null,null,null,null,null,null,null,null,null,null,null,"~"]
["SA37",2025,"Choose",366,null,null,null,null,null,null,null,null,null,null,null,null,null,null,null,null,null,null,"~"]
["SA37",2025,"Choose",367,null,null,null,null,null,null,null,null,null,null,null,null,null,null,null,null,null,null,"~"]
["SA37",{"$f":"+MTREF","v":2025},{"$f":"LEFT(muni,(FIND(\" \",muni,1)-1))","v":"Choose"},368,null,null,null,null,null,null,null,null,null,null,null,null,null,null,null,null,null,null,"~"]
["SA37",2025,"Choose",369,null,null,null,null,null,null,null,null,null,null,null,null,null,null,null,null,null,null,"~"]
["SA37",2025,"Choose",370,null,null,null,null,null,null,null,null,null,null,null,null,null,null,null,null,null,null,"~"]
["SA37",2025,"Choose",371,null,null,null,null,null,null,null,null,null,null,null,null,null,null,null,null,null,null,"~"]
["SA37",2025,"Choose",372,null,null,null,null,null,null,null,null,null,null,null,null,null,null,null,null,null,null,"~"]
["SA37",2025,"Choose",373,null,null,null,null,null,null,null,null,null,null,null,null,null,null,null,null,null,null,"~"]
["SA37",2025,"Choose",374,null,null,null,null,null,null,null,null,null,null,null,null,null,null,null,null,null,null,"~"]
["SA37",2025,"Choose",375,null,null,null,null,null,null,null,null,null,null,null,null,null,null,null,null,null,null,"~"]
["SA37",2025,"Choose",376,null,null,null,null,null,null,null,null,null,null,null,null,null,null,null,null,null,null,"~"]
["SA37",2025,"Choose",377,null,null,null,null,null,null,null,null,null,null,null,null,null,null,null,null,null,null,"~"]
["SA37",2025,"Choose",378,null,null,null,null,null,null,null,null,null,null,null,null,null,null,null,null,null,null,"~"]
["SA37",2025,"Choose",379,null,null,null,null,null,null,null,null,null,null,null,null,null,null,null,null,null,null,"~"]
["SA37",2025,"Choose",380,null,null,null,null,null,null,null,null,null,null,null,null,null,null,null,null,null,null,"~"]
["SA37",2025,"Choose",381,null,null,null,null,null,null,null,null,null,null,null,null,null,null,null,null,null,null,"~"]
["SA37",2025,"Choose",382,null,null,null,null,null,null,null,null,null,null,null,null,null,null,null,null,null,null,"~"]
["SA37",2025,"Choose",383,null,null,null,null,null,null,null,null,null,null,null,null,null,null,null,null,null,null,"~"]
["SA37",2025,"Choose",384,null,null,null,null,null,null,null,null,null,null,null,null,null,null,null,null,null,null,"~"]
["SA37",2025,"Choose",385,null,null,null,null,null,null,null,null,null,null,null,null,null,null,null,null,null,null,"~"]
["SA37",2025,"Choose",386,null,null,null,null,null,null,null,null,null,null,null,null,null,null,null,null,null,null,"~"]
["SA37",2025,"Choose",387,null,null,null,null,null,null,null,null,null,null,null,null,null,null,null,null,null,null,"~"]
["SA37",2025,"Choose",388,null,null,null,null,null,null,null,null,null,null,null,null,null,null,null,null,null,null,"~"]
["SA37",2025,"Choose",389,null,null,null,null,null,null,null,null,null,null,null,null,null,null,null,null,null,null,"~"]
["SA37",2025,"Choose",390,null,null,null,null,null,null,null,null,null,null,null,null,null,null,null,null,null,null,"~"]
["SA37",2025,"Choose",391,null,null,null,null,null,null,null,null,null,null,null,null,null,null,null,null,null,null,"~"]
["SA37",2025,"Choose",392,null,null,null,null,null,null,null,null,null,null,null,null,null,null,null,null,null,null,"~"]
["SA37",2025,"Choose",393,null,null,null,null,null,null,null,null,null,null,null,null,null,null,null,null,null,null,"~"]
["SA37",2025,"Choose",394,null,null,null,null,null,null,null,null,null,null,null,null,null,null,null,null,null,null,"~"]
["SA37",2025,"Choose",395,null,null,null,null,null,null,null,null,null,null,null,null,null,null,null,null,null,null,"~"]
["SA37",2025,"Choose",396,null,null,null,null,null,null,null,null,null,null,null,null,null,null,null,null,null,null,"~"]
["SA37",2025,"Choose",397,null,null,null,null,null,null,null,null,null,null,null,null,null,null,null,null,null,null,"~"]
["SA37",2025,"Choose",398,null,null,null,null,null,null,null,null,null,null,null,null,null,null,null,null,null,null,"~"]
["SA37",2025,"Choose",399,null,null,null,null,null,null,null,null,null,null,null,null,null,null,null,null,null,null,"~"]
["SA37",2025,"Choose",400,null,null,null,null,null,null,null,null,null,null,null,null,null,null,null,null,null,null,"~"]
["SA37",2025,"Choose",401,null,null,null,null,null,null,null,null,null,null,null,null,null,null,null,null,null,null,"~"]
["SA37",2025,"Choose",402,null,null,null,null,null,null,null,null,null,null,null,null,null,null,null,null,null,null,"~"]
["SA37",2025,"Choose",403,null,null,null,null,null,null,null,null,null,null,null,null,null,null,null,null,null,null,"~"]
["SA37",2025,"Choose",404,null,null,null,null,null,null,null,null,null,null,null,null,null,null,null,null,null,null,"~"]
["SA37",2025,"Choose",405,null,null,null,null,null,null,null,null,null,null,null,null,null,null,null,null,null,null,"~"]
["SA37",2025,"Choose",406,null,null,null,null,null,null,null,null,null,null,null,null,null,null,null,null,null,null,"~"]
["SA37",2025,"Choose",407,null,null,null,null,null,null,null,null,null,null,null,null,null,null,null,null,null,null,"~"]
["SA37",2025,"Choose",408,null,null,null,null,null,null,null,null,null,null,null,null,null,null,null,null,null,null,"~"]
["SA37",2025,"Choose",409,null,null,null,null,null,null,null,null,null,null,null,null,null,null,null,null,null,null,"~"]
["SA37",2025,"Choose",410,null,null,null,null,null,null,null,null,null,null,null,null,null,null,null,null,null,null,"~"]
["SA37",2025,"Choose",411,null,null,null,null,null,null,null,null,null,null,null,null,null,null,null,null,null,null,"~"]
["SA37",2025,"Choose",412,null,null,null,null,null,null,null,null,null,null,null,null,null,null,null,null,null,null,"~"]
["SA37",2025,"Choose",413,null,null,null,null,null,null,null,null,null,null,null,null,null,null,null,null,null,null,"~"]
["SA37",2025,"Choose",414,null,null,null,null,null,null,null,null,null,null,null,null,null,null,null,null,null,null,"~"]
["SA37",2025,"Choose",415,null,null,null,null,null,null,null,null,null,null,null,null,null,null,null,null,null,null,"~"]
["SA37",2025,"Choose",416,null,null,null,null,null,null,null,null,null,null,null,null,null,null,null,null,null,null,"~"]
["SA37",2025,"Choose",417,null,null,null,null,null,null,null,null,null,null,null,null,null,null,null,null,null,null,"~"]
["SA37",2025,"Choose",418,null,null,null,null,null,null,null,null,null,null,null,null,null,null,null,null,null,null,"~"]
["SA37",2025,"Choose",419,null,null,null,null,null,null,null,null,null,null,null,null,null,null,null,null,null,null,"~"]
["SA37",2025,"Choose",420,null,null,null,null,null,null,null,null,null,null,null,null,null,null,null,null,null,null,"~"]
["SA37",2025,"Choose",421,null,null,null,null,null,null,null,null,null,null,null,null,null,null,null,null,null,null,"~"]
["SA37",2025,"Choose",422,null,null,null,null,null,null,null,null,null,null,null,null,null,null,null,null,null,null,"~"]
["SA37",2025,"Choose",423,null,null,null,null,null,null,null,null,null,null,null,null,null,null,null,null,null,null,"~"]
["SA37",2025,"Choose",424,null,null,null,null,null,null,null,null,null,null,null,null,null,null,null,null,null,null,"~"]
["SA37",2025,"Choose",425,null,null,null,null,null,null,null,null,null,null,null,null,null,null,null,null,null,null,"~"]
["SA37",2025,"Choose",426,null,null,null,null,null,null,null,null,null,null,null,null,null,null,null,null,null,null,"~"]
["SA37",2025,"Choose",427,null,null,null,null,null,null,null,null,null,null,null,null,null,null,null,null,null,null,"~"]
["SA37",2025,"Choose",428,null,null,null,null,null,null,null,null,null,null,null,null,null,null,null,null,null,null,"~"]
["SA37",2025,"Choose",429,null,null,null,null,null,null,null,null,null,null,null,null,null,null,null,null,null,null,"~"]
["SA37",2025,"Choose",430,null,null,null,null,null,null,null,null,null,null,null,null,null,null,null,null,null,null,"~"]
["SA37",2025,"Choose",431,null,null,null,null,null,null,null,null,null,null,null,null,null,null,null,null,null,null,"~"]
["SA37",{"$f":"+MTREF","v":2025},{"$f":"LEFT(muni,(FIND(\" \",muni,1)-1))","v":"Choose"},432,null,null,null,null,null,null,null,null,null,null,null,null,null,null,null,null,null,null,"~"]
["SA37",2025,"Choose",433,null,null,null,null,null,null,null,null,null,null,null,null,null,null,null,null,null,null,"~"]
["SA37",2025,"Choose",434,null,null,null,null,null,null,null,null,null,null,null,null,null,null,null,null,null,null,"~"]
["SA37",2025,"Choose",435,null,null,null,null,null,null,null,null,null,null,null,null,null,null,null,null,null,null,"~"]
["SA37",2025,"Choose",436,null,null,null,null,null,null,null,null,null,null,null,null,null,null,null,null,null,null,"~"]
["SA37",2025,"Choose",437,null,null,null,null,null,null,null,null,null,null,null,null,null,null,null,null,null,null,"~"]
["SA37",2025,"Choose",438,null,null,null,null,null,null,null,null,null,null,null,null,null,null,null,null,null,null,"~"]
["SA37",2025,"Choose",439,null,null,null,null,null,null,null,null,null,null,null,null,null,null,null,null,null,null,"~"]
["SA37",2025,"Choose",440,null,null,null,null,null,null,null,null,null,null,null,null,null,null,null,null,null,null,"~"]
["SA37",2025,"Choose",441,null,null,null,null,null,null,null,null,null,null,null,null,null,null,null,null,null,null,"~"]
["SA37",2025,"Choose",442,null,null,null,null,null,null,null,null,null,null,null,null,null,null,null,null,null,null,"~"]
["SA37",2025,"Choose",443,null,null,null,null,null,null,null,null,null,null,null,null,null,null,null,null,null,null,"~"]
["SA37",2025,"Choose",444,null,null,null,null,null,null,null,null,null,null,null,null,null,null,null,null,null,null,"~"]
["SA37",2025,"Choose",445,null,null,null,null,null,null,null,null,null,null,null,null,null,null,null,null,null,null,"~"]
["SA37",2025,"Choose",446,null,null,null,null,null,null,null,null,null,null,null,null,null,null,null,null,null,null,"~"]
["SA37",2025,"Choose",447,null,null,null,null,null,null,null,null,null,null,null,null,null,null,null,null,null,null,"~"]
["SA37",2025,"Choose",448,null,null,null,null,null,null,null,null,null,null,null,null,null,null,null,null,null,null,"~"]
["SA37",2025,"Choose",449,null,null,null,null,null,null,null,null,null,null,null,null,null,null,null,null,null,null,"~"]
["SA37",2025,"Choose",450,null,null,null,null,null,null,null,null,null,null,null,null,null,null,null,null,null,null,"~"]
["SA37",2025,"Choose",451,null,null,null,null,null,null,null,null,null,null,null,null,null,null,null,null,null,null,"~"]
["SA37",2025,"Choose",452,null,null,null,null,null,null,null,null,null,null,null,null,null,null,null,null,null,null,"~"]
["SA37",2025,"Choose",453,null,null,null,null,null,null,null,null,null,null,null,null,null,null,null,null,null,null,"~"]
["SA37",2025,"Choose",454,null,null,null,null,null,null,null,null,null,null,null,null,null,null,null,null,null,null,"~"]
["SA37",2025,"Choose",455,null,null,null,null,null,null,null,null,null,null,null,null,null,null,null,null,null,null,"~"]
["SA37",2025,"Choose",456,null,null,null,null,null,null,null,null,null,null,null,null,null,null,null,null,null,null,"~"]
["SA37",2025,"Choose",457,null,null,null,null,null,null,null,null,null,null,null,null,null,null,null,null,null,null,"~"]
["SA37",2025,"Choose",458,null,null,null,null,null,null,null,null,null,null,null,null,null,null,null,null,null,null,"~"]
["SA37",2025,"Choose",459,null,null,null,null,null,null,null,null,null,null,null,null,null,null,null,null,null,null,"~"]
["SA37",2025,"Choose",460,null,null,null,null,null,null,null,null,null,null,null,null,null,null,null,null,null,null,"~"]
["SA37",2025,"Choose",461,null,null,null,null,null,null,null,null,null,null,null,null,null,null,null,null,null,null,"~"]
["SA37",2025,"Choose",462,null,null,null,null,null,null,null,null,null,null,null,null,null,null,null,null,null,null,"~"]
["SA37",2025,"Choose",463,null,null,null,null,null,null,null,null,null,null,null,null,null,null,null,null,null,null,"~"]
["SA37",2025,"Choose",464,null,null,null,null,null,null,null,null,null,null,null,null,null,null,null,null,null,null,"~"]
["SA37",2025,"Choose",465,null,null,null,null,null,null,null,null,null,null,null,null,null,null,null,null,null,null,"~"]
["SA37",2025,"Choose",466,null,null,null,null,null,null,null,null,null,null,null,null,null,null,null,null,null,null,"~"]
["SA37",2025,"Choose",467,null,null,null,null,null,null,null,null,null,null,null,null,null,null,null,null,null,null,"~"]
["SA37",2025,"Choose",468,null,null,null,null,null,null,null,null,null,null,null,null,null,null,null,null,null,null,"~"]
["SA37",2025,"Choose",469,null,null,null,null,null,null,null,null,null,null,null,null,null,null,null,null,null,null,"~"]
["SA37",2025,"Choose",470,null,null,null,null,null,null,null,null,null,null,null,null,null,null,null,null,null,null,"~"]
["SA37",2025,"Choose",471,null,null,null,null,null,null,null,null,null,null,null,null,null,null,null,null,null,null,"~"]
["SA37",2025,"Choose",472,null,null,null,null,null,null,null,null,null,null,null,null,null,null,null,null,null,null,"~"]
["SA37",2025,"Choose",473,null,null,null,null,null,null,null,null,null,null,null,null,null,null,null,null,null,null,"~"]
["SA37",2025,"Choose",474,null,null,null,null,null,null,null,null,null,null,null,null,null,null,null,null,null,null,"~"]
["SA37",2025,"Choose",475,null,null,null,null,null,null,null,null,null,null,null,null,null,null,null,null,null,null,"~"]
["SA37",2025,"Choose",476,null,null,null,null,null,null,null,null,null,null,null,null,null,null,null,null,null,null,"~"]
["SA37",2025,"Choose",477,null,null,null,null,null,null,null,null,null,null,null,null,null,null,null,null,null,null,"~"]
["SA37",2025,"Choose",478,null,null,null,null,null,null,null,null,null,null,null,null,null,null,null,null,null,null,"~"]
["SA37",2025,"Choose",479,null,null,null,null,null,null,null,null,null,null,null,null,null,null,null,null,null,null,"~"]
["SA37",2025,"Choose",480,null,null,null,null,null,null,null,null,null,null,null,null,null,null,null,null,null,null,"~"]
["SA37",2025,"Choose",481,null,null,null,null,null,null,null,null,null,null,null,null,null,null,null,null,null,null,"~"]
["SA37",2025,"Choose",482,null,null,null,null,null,null,null,null,null,null,null,null,null,null,null,null,null,null,"~"]
["SA37",2025,"Choose",483,null,null,null,null,null,null,null,null,null,null,null,null,null,null,null,null,null,null,"~"]
["SA37",2025,"Choose",484,null,null,null,null,null,null,null,null,null,null,null,null,null,null,null,null,null,null,"~"]
["SA37",2025,"Choose",485,null,null,null,null,null,null,null,null,null,null,null,null,null,null,null,null,null,null,"~"]
["SA37",2025,"Choose",486,null,null,null,null,null,null,null,null,null,null,null,null,null,null,null,null,null,null,"~"]
["SA37",2025,"Choose",487,null,null,null,null,null,null,null,null,null,null,null,null,null,null,null,null,null,null,"~"]
["SA37",2025,"Choose",488,null,null,null,null,null,null,null,null,null,null,null,null,null,null,null,null,null,null,"~"]
["SA37",2025,"Choose",489,null,null,null,null,null,null,null,null,null,null,null,null,null,null,null,null,null,null,"~"]
["SA37",2025,"Choose",490,null,null,null,null,null,null,null,null,null,null,null,null,null,null,null,null,null,null,"~"]
["SA37",2025,"Choose",491,null,null,null,null,null,null,null,null,null,null,null,null,null,null,null,null,null,null,"~"]
["SA37",2025,"Choose",492,null,null,null,null,null,null,null,null,null,null,null,null,null,null,null,null,null,null,"~"]
["SA37",2025,"Choose",493,null,null,null,null,null,null,null,null,null,null,null,null,null,null,null,null,null,null,"~"]
["SA37",2025,"Choose",494,null,null,null,null,null,null,null,null,null,null,null,null,null,null,null,null,null,null,"~"]
["SA37",2025,"Choose",495,null,null,null,null,null,null,null,null,null,null,null,null,null,null,null,null,null,null,"~"]
["SA37",{"$f":"+MTREF","v":2025},{"$f":"LEFT(muni,(FIND(\" \",muni,1)-1))","v":"Choose"},496,null,null,null,null,null,null,null,null,null,null,null,null,null,null,null,null,null,null,"~"]
["SA37",2025,"Choose",497,null,null,null,null,null,null,null,null,null,null,null,null,null,null,null,null,null,null,"~"]
["SA37",2025,"Choose",498,null,null,null,null,null,null,null,null,null,null,null,null,null,null,null,null,null,null,"~"]
["SA37",2025,"Choose",499,null,null,null,null,null,null,null,null,null,null,null,null,null,null,null,null,null,null,"~"]
["SA37",2025,"Choose",500,null,null,null,null,null,null,null,null,null,null,null,null,null,null,null,null,null,null,"~"]
["SA37",2025,"Choose",501,null,null,null,null,null,null,null,null,null,null,null,null,null,null,null,null,null,null,"~"]
["SA37",2025,"Choose",502,null,null,null,null,null,null,null,null,null,null,null,null,null,null,null,null,null,null,"~"]
["SA37",2025,"Choose",503,null,null,null,null,null,null,null,null,null,null,null,null,null,null,null,null,null,null,"~"]
["SA37",2025,"Choose",504,null,null,null,null,null,null,null,null,null,null,null,null,null,null,null,null,null,null,"~"]
["SA37",2025,"Choose",505,null,null,null,null,null,null,null,null,null,null,null,null,null,null,null,null,null,null,"~"]
["SA37",2025,"Choose",506,null,null,null,null,null,null,null,null,null,null,null,null,null,null,null,null,null,null,"~"]
["SA37",2025,"Choose",507,null,null,null,null,null,null,null,null,null,null,null,null,null,null,null,null,null,null,"~"]
["SA37",2025,"Choose",508,null,null,null,null,null,null,null,null,null,null,null,null,null,null,null,null,null,null,"~"]
["SA37",2025,"Choose",509,null,null,null,null,null,null,null,null,null,null,null,null,null,null,null,null,null,null,"~"]
["SA37",2025,"Choose",510,null,null,null,null,null,null,null,null,null,null,null,null,null,null,null,null,null,null,"~"]
["SA37",2025,"Choose",511,null,null,null,null,null,null,null,null,null,null,null,null,null,null,null,null,null,null,"~"]
["SA37",2025,"Choose",512,null,null,null,null,null,null,null,null,null,null,null,null,null,null,null,null,null,null,"~"]
["SA37",2025,"Choose",513,null,null,null,null,null,null,null,null,null,null,null,null,null,null,null,null,null,null,"~"]
["SA37",2025,"Choose",514,null,null,null,null,null,null,null,null,null,null,null,null,null,null,null,null,null,null,"~"]
["SA37",2025,"Choose",515,null,null,null,null,null,null,null,null,null,null,null,null,null,null,null,null,null,null,"~"]
["SA37",2025,"Choose",516,null,null,null,null,null,null,null,null,null,null,null,null,null,null,null,null,null,null,"~"]
["SA37",2025,"Choose",517,null,null,null,null,null,null,null,null,null,null,null,null,null,null,null,null,null,null,"~"]
["SA37",2025,"Choose",518,null,null,null,null,null,null,null,null,null,null,null,null,null,null,null,null,null,null,"~"]
["SA37",2025,"Choose",519,null,null,null,null,null,null,null,null,null,null,null,null,null,null,null,null,null,null,"~"]
["SA37",2025,"Choose",520,null,null,null,null,null,null,null,null,null,null,null,null,null,null,null,null,null,null,"~"]
["SA37",2025,"Choose",521,null,null,null,null,null,null,null,null,null,null,null,null,null,null,null,null,null,null,"~"]
["SA37",2025,"Choose",522,null,null,null,null,null,null,null,null,null,null,null,null,null,null,null,null,null,null,"~"]
["SA37",2025,"Choose",523,null,null,null,null,null,null,null,null,null,null,null,null,null,null,null,null,null,null,"~"]
["SA37",2025,"Choose",524,null,null,null,null,null,null,null,null,null,null,null,null,null,null,null,null,null,null,"~"]
["SA37",2025,"Choose",525,null,null,null,null,null,null,null,null,null,null,null,null,null,null,null,null,null,null,"~"]
["SA37",2025,"Choose",526,null,null,null,null,null,null,null,null,null,null,null,null,null,null,null,null,null,null,"~"]
["SA37",2025,"Choose",527,null,null,null,null,null,null,null,null,null,null,null,null,null,null,null,null,null,null,"~"]
["SA37",2025,"Choose",528,null,null,null,null,null,null,null,null,null,null,null,null,null,null,null,null,null,null,"~"]
["SA37",2025,"Choose",529,null,null,null,null,null,null,null,null,null,null,null,null,null,null,null,null,null,null,"~"]
["SA37",2025,"Choose",530,null,null,null,null,null,null,null,null,null,null,null,null,null,null,null,null,null,null,"~"]
["SA37",2025,"Choose",531,null,null,null,null,null,null,null,null,null,null,null,null,null,null,null,null,null,null,"~"]
["SA37",2025,"Choose",532,null,null,null,null,null,null,null,null,null,null,null,null,null,null,null,null,null,null,"~"]
["SA37",2025,"Choose",533,null,null,null,null,null,null,null,null,null,null,null,null,null,null,null,null,null,null,"~"]
["SA37",2025,"Choose",534,null,null,null,null,null,null,null,null,null,null,null,null,null,null,null,null,null,null,"~"]
["SA37",2025,"Choose",535,null,null,null,null,null,null,null,null,null,null,null,null,null,null,null,null,null,null,"~"]
["SA37",2025,"Choose",536,null,null,null,null,null,null,null,null,null,null,null,null,null,null,null,null,null,null,"~"]
["SA37",2025,"Choose",537,null,null,null,null,null,null,null,null,null,null,null,null,null,null,null,null,null,null,"~"]
["SA37",2025,"Choose",538,null,null,null,null,null,null,null,null,null,null,null,null,null,null,null,null,null,null,"~"]
["SA37",2025,"Choose",539,null,null,null,null,null,null,null,null,null,null,null,null,null,null,null,null,null,null,"~"]
["SA37",2025,"Choose",540,null,null,null,null,null,null,null,null,null,null,null,null,null,null,null,null,null,null,"~"]
["SA37",2025,"Choose",541,null,null,null,null,null,null,null,null,null,null,null,null,null,null,null,null,null,null,"~"]
["SA37",2025,"Choose",542,null,null,null,null,null,null,null,null,null,null,null,null,null,null,null,null,null,null,"~"]
["SA37",2025,"Choose",543,null,null,null,null,null,null,null,null,null,null,null,null,null,null,null,null,null,null,"~"]
["SA37",2025,"Choose",544,null,null,null,null,null,null,null,null,null,null,null,null,null,null,null,null,null,null,"~"]
["SA37",2025,"Choose",545,null,null,null,null,null,null,null,null,null,null,null,null,null,null,null,null,null,null,"~"]
["SA37",2025,"Choose",546,null,null,null,null,null,null,null,null,null,null,null,null,null,null,null,null,null,null,"~"]
["SA37",2025,"Choose",547,null,null,null,null,null,null,null,null,null,null,null,null,null,null,null,null,null,null,"~"]
["SA37",2025,"Choose",548,null,null,null,null,null,null,null,null,null,null,null,null,null,null,null,null,null,null,"~"]
["SA37",2025,"Choose",549,null,null,null,null,null,null,null,null,null,null,null,null,null,null,null,null,null,null,"~"]
["SA37",2025,"Choose",550,null,null,null,null,null,null,null,null,null,null,null,null,null,null,null,null,null,null,"~"]
["SA37",2025,"Choose",551,null,null,null,null,null,null,null,null,null,null,null,null,null,null,null,null,null,null,"~"]
["SA37",2025,"Choose",552,null,null,null,null,null,null,null,null,null,null,null,null,null,null,null,null,null,null,"~"]
["SA37",2025,"Choose",553,null,null,null,null,null,null,null,null,null,null,null,null,null,null,null,null,null,null,"~"]
["SA37",2025,"Choose",554,null,null,null,null,null,null,null,null,null,null,null,null,null,null,null,null,null,null,"~"]
["SA37",2025,"Choose",555,null,null,null,null,null,null,null,null,null,null,null,null,null,null,null,null,null,null,"~"]
["SA37",2025,"Choose",556,null,null,null,null,null,null,null,null,null,null,null,null,null,null,null,null,null,null,"~"]
["SA37",2025,"Choose",557,null,null,null,null,null,null,null,null,null,null,null,null,null,null,null,null,null,null,"~"]
["SA37",2025,"Choose",558,null,null,null,null,null,null,null,null,null,null,null,null,null,null,null,null,null,null,"~"]
["SA37",2025,"Choose",559,null,null,null,null,null,null,null,null,null,null,null,null,null,null,null,null,null,null,"~"]
["SA37",{"$f":"+MTREF","v":2025},{"$f":"LEFT(muni,(FIND(\" \",muni,1)-1))","v":"Choose"},560,null,null,null,null,null,null,null,null,null,null,null,null,null,null,null,null,null,null,"~"]
["SA37",2025,"Choose",561,null,null,null,null,null,null,null,null,null,null,null,null,null,null,null,null,null,null,"~"]
["SA37",2025,"Choose",562,null,null,null,null,null,null,null,null,null,null,null,null,null,null,null,null,null,null,"~"]
["SA37",2025,"Choose",563,null,null,null,null,null,null,null,null,null,null,null,null,null,null,null,null,null,null,"~"]
["SA37",2025,"Choose",564,null,null,null,null,null,null,null,null,null,null,null,null,null,null,null,null,null,null,"~"]
["SA37",2025,"Choose",565,null,null,null,null,null,null,null,null,null,null,null,null,null,null,null,null,null,null,"~"]
["SA37",2025,"Choose",566,null,null,null,null,null,null,null,null,null,null,null,null,null,null,null,null,null,null,"~"]
["SA37",2025,"Choose",567,null,null,null,null,null,null,null,null,null,null,null,null,null,null,null,null,null,null,"~"]
["SA37",2025,"Choose",568,null,null,null,null,null,null,null,null,null,null,null,null,null,null,null,null,null,null,"~"]
["SA37",2025,"Choose",569,null,null,null,null,null,null,null,null,null,null,null,null,null,null,null,null,null,null,"~"]
["SA37",2025,"Choose",570,null,null,null,null,null,null,null,null,null,null,null,null,null,null,null,null,null,null,"~"]
["SA37",2025,"Choose",571,null,null,null,null,null,null,null,null,null,null,null,null,null,null,null,null,null,null,"~"]
["SA37",2025,"Choose",572,null,null,null,null,null,null,null,null,null,null,null,null,null,null,null,null,null,null,"~"]
["SA37",2025,"Choose",573,null,null,null,null,null,null,null,null,null,null,null,null,null,null,null,null,null,null,"~"]
["SA37",2025,"Choose",574,null,null,null,null,null,null,null,null,null,null,null,null,null,null,null,null,null,null,"~"]
["SA37",2025,"Choose",575,null,null,null,null,null,null,null,null,null,null,null,null,null,null,null,null,null,null,"~"]
["SA37",2025,"Choose",576,null,null,null,null,null,null,null,null,null,null,null,null,null,null,null,null,null,null,"~"]
["SA37",2025,"Choose",577,null,null,null,null,null,null,null,null,null,null,null,null,null,null,null,null,null,null,"~"]
["SA37",2025,"Choose",578,null,null,null,null,null,null,null,null,null,null,null,null,null,null,null,null,null,null,"~"]
["SA37",2025,"Choose",579,null,null,null,null,null,null,null,null,null,null,null,null,null,null,null,null,null,null,"~"]
["SA37",2025,"Choose",580,null,null,null,null,null,null,null,null,null,null,null,null,null,null,null,null,null,null,"~"]
["SA37",2025,"Choose",581,null,null,null,null,null,null,null,null,null,null,null,null,null,null,null,null,null,null,"~"]
["SA37",2025,"Choose",582,null,null,null,null,null,null,null,null,null,null,null,null,null,null,null,null,null,null,"~"]
["SA37",2025,"Choose",583,null,null,null,null,null,null,null,null,null,null,null,null,null,null,null,null,null,null,"~"]
["SA37",2025,"Choose",584,null,null,null,null,null,null,null,null,null,null,null,null,null,null,null,null,null,null,"~"]
["SA37",2025,"Choose",585,null,null,null,null,null,null,null,null,null,null,null,null,null,null,null,null,null,null,"~"]
["SA37",2025,"Choose",586,null,null,null,null,null,null,null,null,null,null,null,null,null,null,null,null,null,null,"~"]
["SA37",2025,"Choose",587,null,null,null,null,null,null,null,null,null,null,null,null,null,null,null,null,null,null,"~"]
["SA37",2025,"Choose",588,null,null,null,null,null,null,null,null,null,null,null,null,null,null,null,null,null,null,"~"]
["SA37",2025,"Choose",589,null,null,null,null,null,null,null,null,null,null,null,null,null,null,null,null,null,null,"~"]
["SA37",2025,"Choose",590,null,null,null,null,null,null,null,null,null,null,null,null,null,null,null,null,null,null,"~"]
["SA37",2025,"Choose",591,null,null,null,null,null,null,null,null,null,null,null,null,null,null,null,null,null,null,"~"]
["SA37",2025,"Choose",592,null,null,null,null,null,null,null,null,null,null,null,null,null,null,null,null,null,null,"~"]
["SA37",2025,"Choose",593,null,null,null,null,null,null,null,null,null,null,null,null,null,null,null,null,null,null,"~"]
["SA37",2025,"Choose",594,null,null,null,null,null,null,null,null,null,null,null,null,null,null,null,null,null,null,"~"]
["SA37",2025,"Choose",595,null,null,null,null,null,null,null,null,null,null,null,null,null,null,null,null,null,null,"~"]
["SA37",2025,"Choose",596,null,null,null,null,null,null,null,null,null,null,null,null,null,null,null,null,null,null,"~"]
["SA37",2025,"Choose",597,null,null,null,null,null,null,null,null,null,null,null,null,null,null,null,null,null,null,"~"]
["SA37",2025,"Choose",598,null,null,null,null,null,null,null,null,null,null,null,null,null,null,null,null,null,null,"~"]
["SA37",2025,"Choose",599,null,null,null,null,null,null,null,null,null,null,null,null,null,null,null,null,null,null,"~"]
["SA37",2025,"Choose",600,null,null,null,null,null,null,null,null,null,null,null,null,null,null,null,null,null,null,"~"]
["SA37",2025,"Choose",601,null,null,null,null,null,null,null,null,null,null,null,null,null,null,null,null,null,null,"~"]
["SA37",2025,"Choose",602,null,null,null,null,null,null,null,null,null,null,null,null,null,null,null,null,null,null,"~"]
["SA37",2025,"Choose",603,null,null,null,null,null,null,null,null,null,null,null,null,null,null,null,null,null,null,"~"]
["SA37",2025,"Choose",604,null,null,null,null,null,null,null,null,null,null,null,null,null,null,null,null,null,null,"~"]
["SA37",2025,"Choose",605,null,null,null,null,null,null,null,null,null,null,null,null,null,null,null,null,null,null,"~"]
["SA37",2025,"Choose",606,null,null,null,null,null,null,null,null,null,null,null,null,null,null,null,null,null,null,"~"]
["SA37",2025,"Choose",607,null,null,null,null,null,null,null,null,null,null,null,null,null,null,null,null,null,null,"~"]
["SA37",2025,"Choose",608,null,null,null,null,null,null,null,null,null,null,null,null,null,null,null,null,null,null,"~"]
["SA37",2025,"Choose",609,null,null,null,null,null,null,null,null,null,null,null,null,null,null,null,null,null,null,"~"]
["SA37",2025,"Choose",610,null,null,null,null,null,null,null,null,null,null,null,null,null,null,null,null,null,null,"~"]
["SA37",2025,"Choose",611,null,null,null,null,null,null,null,null,null,null,null,null,null,null,null,null,null,null,"~"]
["SA37",2025,"Choose",612,null,null,null,null,null,null,null,null,null,null,null,null,null,null,null,null,null,null,"~"]
["SA37",2025,"Choose",613,null,null,null,null,null,null,null,null,null,null,null,null,null,null,null,null,null,null,"~"]
["SA37",2025,"Choose",614,null,null,null,null,null,null,null,null,null,null,null,null,null,null,null,null,null,null,"~"]
["SA37",2025,"Choose",615,null,null,null,null,null,null,null,null,null,null,null,null,null,null,null,null,null,null,"~"]
["SA37",2025,"Choose",616,null,null,null,null,null,null,null,null,null,null,null,null,null,null,null,null,null,null,"~"]
["SA37",2025,"Choose",617,null,null,null,null,null,null,null,null,null,null,null,null,null,null,null,null,null,null,"~"]
["SA37",2025,"Choose",618,null,null,null,null,null,null,null,null,null,null,null,null,null,null,null,null,null,null,"~"]
["SA37",2025,"Choose",619,null,null,null,null,null,null,null,null,null,null,null,null,null,null,null,null,null,null,"~"]
["SA37",2025,"Choose",620,null,null,null,null,null,null,null,null,null,null,null,null,null,null,null,null,null,null,"~"]
["SA37",2025,"Choose",621,null,null,null,null,null,null,null,null,null,null,null,null,null,null,null,null,null,null,"~"]
["SA37",2025,"Choose",622,null,null,null,null,null,null,null,null,null,null,null,null,null,null,null,null,null,null,"~"]
["SA37",2025,"Choose",623,null,null,null,null,null,null,null,null,null,null,null,null,null,null,null,null,null,null,"~"]
["SA37",{"$f":"+MTREF","v":2025},{"$f":"LEFT(muni,(FIND(\" \",muni,1)-1))","v":"Choose"},624,null,null,null,null,null,null,null,null,null,null,null,null,null,null,null,null,null,null,"~"]
["SA37",2025,"Choose",625,null,null,null,null,null,null,null,null,null,null,null,null,null,null,null,null,null,null,"~"]
["SA37",2025,"Choose",626,null,null,null,null,null,null,null,null,null,null,null,null,null,null,null,null,null,null,"~"]
["SA37",2025,"Choose",627,null,null,null,null,null,null,null,null,null,null,null,null,null,null,null,null,null,null,"~"]
["SA37",2025,"Choose",628,null,null,null,null,null,null,null,null,null,null,null,null,null,null,null,null,null,null,"~"]
["SA37",2025,"Choose",629,null,null,null,null,null,null,null,null,null,null,null,null,null,null,null,null,null,null,"~"]
["SA37",2025,"Choose",630,null,null,null,null,null,null,null,null,null,null,null,null,null,null,null,null,null,null,"~"]
["SA37",2025,"Choose",631,null,null,null,null,null,null,null,null,null,null,null,null,null,null,null,null,null,null,"~"]
["SA37",2025,"Choose",632,null,null,null,null,null,null,null,null,null,null,null,null,null,null,null,null,null,null,"~"]
["SA37",2025,"Choose",633,null,null,null,null,null,null,null,null,null,null,null,null,null,null,null,null,null,null,"~"]
["SA37",2025,"Choose",634,null,null,null,null,null,null,null,null,null,null,null,null,null,null,null,null,null,null,"~"]
["SA37",2025,"Choose",635,null,null,null,null,null,null,null,null,null,null,null,null,null,null,null,null,null,null,"~"]
["SA37",2025,"Choose",636,null,null,null,null,null,null,null,null,null,null,null,null,null,null,null,null,null,null,"~"]
["SA37",2025,"Choose",637,null,null,null,null,null,null,null,null,null,null,null,null,null,null,null,null,null,null,"~"]
["SA37",2025,"Choose",638,null,null,null,null,null,null,null,null,null,null,null,null,null,null,null,null,null,null,"~"]
["SA37",2025,"Choose",639,null,null,null,null,null,null,null,null,null,null,null,null,null,null,null,null,null,null,"~"]
["SA37",2025,"Choose",640,null,null,null,null,null,null,null,null,null,null,null,null,null,null,null,null,null,null,"~"]
["SA37",2025,"Choose",641,null,null,null,null,null,null,null,null,null,null,null,null,null,null,null,null,null,null,"~"]
["SA37",2025,"Choose",642,null,null,null,null,null,null,null,null,null,null,null,null,null,null,null,null,null,null,"~"]
["SA37",2025,"Choose",643,null,null,null,null,null,null,null,null,null,null,null,null,null,null,null,null,null,null,"~"]
["SA37",2025,"Choose",644,null,null,null,null,null,null,null,null,null,null,null,null,null,null,null,null,null,null,"~"]
["SA37",2025,"Choose",645,null,null,null,null,null,null,null,null,null,null,null,null,null,null,null,null,null,null,"~"]
["SA37",2025,"Choose",646,null,null,null,null,null,null,null,null,null,null,null,null,null,null,null,null,null,null,"~"]
["SA37",2025,"Choose",647,null,null,null,null,null,null,null,null,null,null,null,null,null,null,null,null,null,null,"~"]
["SA37",2025,"Choose",648,null,null,null,null,null,null,null,null,null,null,null,null,null,null,null,null,null,null,"~"]
["SA37",2025,"Choose",649,null,null,null,null,null,null,null,null,null,null,null,null,null,null,null,null,null,null,"~"]
["SA37",2025,"Choose",650,null,null,null,null,null,null,null,null,null,null,null,null,null,null,null,null,null,null,"~"]
["SA37",2025,"Choose",651,null,null,null,null,null,null,null,null,null,null,null,null,null,null,null,null,null,null,"~"]
["SA37",2025,"Choose",652,null,null,null,null,null,null,null,null,null,null,null,null,null,null,null,null,null,null,"~"]
["SA37",2025,"Choose",653,null,null,null,null,null,null,null,null,null,null,null,null,null,null,null,null,null,null,"~"]
["SA37",2025,"Choose",654,null,null,null,null,null,null,null,null,null,null,null,null,null,null,null,null,null,null,"~"]
["SA37",2025,"Choose",655,null,null,null,null,null,null,null,null,null,null,null,null,null,null,null,null,null,null,"~"]
["SA37",2025,"Choose",656,null,null,null,null,null,null,null,null,null,null,null,null,null,null,null,null,null,null,"~"]
["SA37",2025,"Choose",657,null,null,null,null,null,null,null,null,null,null,null,null,null,null,null,null,null,null,"~"]
["SA37",2025,"Choose",658,null,null,null,null,null,null,null,null,null,null,null,null,null,null,null,null,null,null,"~"]
["SA37",2025,"Choose",659,null,null,null,null,null,null,null,null,null,null,null,null,null,null,null,null,null,null,"~"]
["SA37",2025,"Choose",660,null,null,null,null,null,null,null,null,null,null,null,null,null,null,null,null,null,null,"~"]
["SA37",2025,"Choose",661,null,null,null,null,null,null,null,null,null,null,null,null,null,null,null,null,null,null,"~"]
["SA37",2025,"Choose",662,null,null,null,null,null,null,null,null,null,null,null,null,null,null,null,null,null,null,"~"]
["SA37",2025,"Choose",663,null,null,null,null,null,null,null,null,null,null,null,null,null,null,null,null,null,null,"~"]
["SA37",2025,"Choose",664,null,null,null,null,null,null,null,null,null,null,null,null,null,null,null,null,null,null,"~"]
["SA37",2025,"Choose",665,null,null,null,null,null,null,null,null,null,null,null,null,null,null,null,null,null,null,"~"]
["SA37",2025,"Choose",666,null,null,null,null,null,null,null,null,null,null,null,null,null,null,null,null,null,null,"~"]
["SA37",2025,"Choose",667,null,null,null,null,null,null,null,null,null,null,null,null,null,null,null,null,null,null,"~"]
["SA37",2025,"Choose",668,null,null,null,null,null,null,null,null,null,null,null,null,null,null,null,null,null,null,"~"]
["SA37",2025,"Choose",669,null,null,null,null,null,null,null,null,null,null,null,null,null,null,null,null,null,null,"~"]
["SA37",2025,"Choose",670,null,null,null,null,null,null,null,null,null,null,null,null,null,null,null,null,null,null,"~"]
["SA37",2025,"Choose",671,null,null,null,null,null,null,null,null,null,null,null,null,null,null,null,null,null,null,"~"]
["SA37",2025,"Choose",672,null,null,null,null,null,null,null,null,null,null,null,null,null,null,null,null,null,null,"~"]
["SA37",2025,"Choose",673,null,null,null,null,null,null,null,null,null,null,null,null,null,null,null,null,null,null,"~"]
["SA37",2025,"Choose",674,null,null,null,null,null,null,null,null,null,null,null,null,null,null,null,null,null,null,"~"]
["SA37",2025,"Choose",675,null,null,null,null,null,null,null,null,null,null,null,null,null,null,null,null,null,null,"~"]
["SA37",2025,"Choose",676,null,null,null,null,null,null,null,null,null,null,null,null,null,null,null,null,null,null,"~"]
["SA37",2025,"Choose",677,null,null,null,null,null,null,null,null,null,null,null,null,null,null,null,null,null,null,"~"]
["SA37",2025,"Choose",678,null,null,null,null,null,null,null,null,null,null,null,null,null,null,null,null,null,null,"~"]
["SA37",2025,"Choose",679,null,null,null,null,null,null,null,null,null,null,null,null,null,null,null,null,null,null,"~"]
["SA37",2025,"Choose",680,null,null,null,null,null,null,null,null,null,null,null,null,null,null,null,null,null,null,"~"]
["SA37",2025,"Choose",681,null,null,null,null,null,null,null,null,null,null,null,null,null,null,null,null,null,null,"~"]
["SA37",2025,"Choose",682,null,null,null,null,null,null,null,null,null,null,null,null,null,null,null,null,null,null,"~"]
["SA37",2025,"Choose",683,null,null,null,null,null,null,null,null,null,null,null,null,null,null,null,null,null,null,"~"]
["SA37",2025,"Choose",684,null,null,null,null,null,null,null,null,null,null,null,null,null,null,null,null,null,null,"~"]
["SA37",2025,"Choose",685,null,null,null,null,null,null,null,null,null,null,null,null,null,null,null,null,null,null,"~"]
["SA37",2025,"Choose",686,null,null,null,null,null,null,null,null,null,null,null,null,null,null,null,null,null,null,"~"]
["SA37",2025,"Choose",687,null,null,null,null,null,null,null,null,null,null,null,null,null,null,null,null,null,null,"~"]
["SA37",{"$f":"+MTREF","v":2025},{"$f":"LEFT(muni,(FIND(\" \",muni,1)-1))","v":"Choose"},688,null,null,null,null,null,null,null,null,null,null,null,null,null,null,null,null,null,null,"~"]
["SA37",2025,"Choose",689,null,null,null,null,null,null,null,null,null,null,null,null,null,null,null,null,null,null,"~"]
["SA37",2025,"Choose",690,null,null,null,null,null,null,null,null,null,null,null,null,null,null,null,null,null,null,"~"]
["SA37",2025,"Choose",691,null,null,null,null,null,null,null,null,null,null,null,null,null,null,null,null,null,null,"~"]
["SA37",2025,"Choose",692,null,null,null,null,null,null,null,null,null,null,null,null,null,null,null,null,null,null,"~"]
["SA37",2025,"Choose",693,null,null,null,null,null,null,null,null,null,null,null,null,null,null,null,null,null,null,"~"]
["SA37",2025,"Choose",694,null,null,null,null,null,null,null,null,null,null,null,null,null,null,null,null,null,null,"~"]
["SA37",2025,"Choose",695,null,null,null,null,null,null,null,null,null,null,null,null,null,null,null,null,null,null,"~"]
["SA37",2025,"Choose",696,null,null,null,null,null,null,null,null,null,null,null,null,null,null,null,null,null,null,"~"]
["SA37",2025,"Choose",697,null,null,null,null,null,null,null,null,null,null,null,null,null,null,null,null,null,null,"~"]
["SA37",2025,"Choose",698,null,null,null,null,null,null,null,null,null,null,null,null,null,null,null,null,null,null,"~"]
["SA37",2025,"Choose",699,null,null,null,null,null,null,null,null,null,null,null,null,null,null,null,null,null,null,"~"]
["SA37",2025,"Choose",700,null,null,null,null,null,null,null,null,null,null,null,null,null,null,null,null,null,null,"~"]
["SA37",2025,"Choose",701,null,null,null,null,null,null,null,null,null,null,null,null,null,null,null,null,null,null,"~"]
["SA37",2025,"Choose",702,null,null,null,null,null,null,null,null,null,null,null,null,null,null,null,null,null,null,"~"]
["SA37",2025,"Choose",703,null,null,null,null,null,null,null,null,null,null,null,null,null,null,null,null,null,null,"~"]
["SA37",2025,"Choose",704,null,null,null,null,null,null,null,null,null,null,null,null,null,null,null,null,null,null,"~"]
["SA37",2025,"Choose",705,null,null,null,null,null,null,null,null,null,null,null,null,null,null,null,null,null,null,"~"]
["SA37",2025,"Choose",706,null,null,null,null,null,null,null,null,null,null,null,null,null,null,null,null,null,null,"~"]
["SA37",2025,"Choose",707,null,null,null,null,null,null,null,null,null,null,null,null,null,null,null,null,null,null,"~"]
["SA37",2025,"Choose",708,null,null,null,null,null,null,null,null,null,null,null,null,null,null,null,null,null,null,"~"]
["SA37",2025,"Choose",709,null,null,null,null,null,null,null,null,null,null,null,null,null,null,null,null,null,null,"~"]
["SA37",2025,"Choose",710,null,null,null,null,null,null,null,null,null,null,null,null,null,null,null,null,null,null,"~"]
["SA37",2025,"Choose",711,null,null,null,null,null,null,null,null,null,null,null,null,null,null,null,null,null,null,"~"]
["SA37",2025,"Choose",712,null,null,null,null,null,null,null,null,null,null,null,null,null,null,null,null,null,null,"~"]
["SA37",2025,"Choose",713,null,null,null,null,null,null,null,null,null,null,null,null,null,null,null,null,null,null,"~"]
["SA37",2025,"Choose",714,null,null,null,null,null,null,null,null,null,null,null,null,null,null,null,null,null,null,"~"]
["SA37",2025,"Choose",715,null,null,null,null,null,null,null,null,null,null,null,null,null,null,null,null,null,null,"~"]
["SA37",2025,"Choose",716,null,null,null,null,null,null,null,null,null,null,null,null,null,null,null,null,null,null,"~"]
["SA37",2025,"Choose",717,null,null,null,null,null,null,null,null,null,null,null,null,null,null,null,null,null,null,"~"]
["SA37",2025,"Choose",718,null,null,null,null,null,null,null,null,null,null,null,null,null,null,null,null,null,null,"~"]
["SA37",2025,"Choose",719,null,null,null,null,null,null,null,null,null,null,null,null,null,null,null,null,null,null,"~"]
["SA37",2025,"Choose",720,null,null,null,null,null,null,null,null,null,null,null,null,null,null,null,null,null,null,"~"]
["SA37",2025,"Choose",721,null,null,null,null,null,null,null,null,null,null,null,null,null,null,null,null,null,null,"~"]
["SA37",2025,"Choose",722,null,null,null,null,null,null,null,null,null,null,null,null,null,null,null,null,null,null,"~"]
["SA37",2025,"Choose",723,null,null,null,null,null,null,null,null,null,null,null,null,null,null,null,null,null,null,"~"]
["SA37",2025,"Choose",724,null,null,null,null,null,null,null,null,null,null,null,null,null,null,null,null,null,null,"~"]
["SA37",2025,"Choose",725,null,null,null,null,null,null,null,null,null,null,null,null,null,null,null,null,null,null,"~"]
["SA37",2025,"Choose",726,null,null,null,null,null,null,null,null,null,null,null,null,null,null,null,null,null,null,"~"]
["SA37",2025,"Choose",727,null,null,null,null,null,null,null,null,null,null,null,null,null,null,null,null,null,null,"~"]
["SA37",2025,"Choose",728,null,null,null,null,null,null,null,null,null,null,null,null,null,null,null,null,null,null,"~"]
["SA37",2025,"Choose",729,null,null,null,null,null,null,null,null,null,null,null,null,null,null,null,null,null,null,"~"]
["SA37",2025,"Choose",730,null,null,null,null,null,null,null,null,null,null,null,null,null,null,null,null,null,null,"~"]
["SA37",2025,"Choose",731,null,null,null,null,null,null,null,null,null,null,null,null,null,null,null,null,null,null,"~"]
["SA37",2025,"Choose",732,null,null,null,null,null,null,null,null,null,null,null,null,null,null,null,null,null,null,"~"]
["SA37",2025,"Choose",733,null,null,null,null,null,null,null,null,null,null,null,null,null,null,null,null,null,null,"~"]
["SA37",2025,"Choose",734,null,null,null,null,null,null,null,null,null,null,null,null,null,null,null,null,null,null,"~"]
["SA37",2025,"Choose",735,null,null,null,null,null,null,null,null,null,null,null,null,null,null,null,null,null,null,"~"]
["SA37",2025,"Choose",736,null,null,null,null,null,null,null,null,null,null,null,null,null,null,null,null,null,null,"~"]
["SA37",2025,"Choose",737,null,null,null,null,null,null,null,null,null,null,null,null,null,null,null,null,null,null,"~"]
["SA37",2025,"Choose",738,null,null,null,null,null,null,null,null,null,null,null,null,null,null,null,null,null,null,"~"]
["SA37",2025,"Choose",739,null,null,null,null,null,null,null,null,null,null,null,null,null,null,null,null,null,null,"~"]
["SA37",2025,"Choose",740,null,null,null,null,null,null,null,null,null,null,null,null,null,null,null,null,null,null,"~"]
["SA37",2025,"Choose",741,null,null,null,null,null,null,null,null,null,null,null,null,null,null,null,null,null,null,"~"]
["SA37",2025,"Choose",742,null,null,null,null,null,null,null,null,null,null,null,null,null,null,null,null,null,null,"~"]
["SA37",2025,"Choose",743,null,null,null,null,null,null,null,null,null,null,null,null,null,null,null,null,null,null,"~"]
["SA37",2025,"Choose",744,null,null,null,null,null,null,null,null,null,null,null,null,null,null,null,null,null,null,"~"]
["SA37",2025,"Choose",745,null,null,null,null,null,null,null,null,null,null,null,null,null,null,null,null,null,null,"~"]
["SA37",2025,"Choose",746,null,null,null,null,null,null,null,null,null,null,null,null,null,null,null,null,null,null,"~"]
["SA37",2025,"Choose",747,null,null,null,null,null,null,null,null,null,null,null,null,null,null,null,null,null,null,"~"]
["SA37",2025,"Choose",748,null,null,null,null,null,null,null,null,null,null,null,null,null,null,null,null,null,null,"~"]
["SA37",2025,"Choose",749,null,null,null,null,null,null,null,null,null,null,null,null,null,null,null,null,null,null,"~"]
["SA37",2025,"Choose",750,null,null,null,null,null,null,null,null,null,null,null,null,null,null,null,null,null,null,"~"]
["SA37",2025,"Choose",751,null,null,null,null,null,null,null,null,null,null,null,null,null,null,null,null,null,null,"~"]
["SA37",{"$f":"+MTREF","v":2025},{"$f":"LEFT(muni,(FIND(\" \",muni,1)-1))","v":"Choose"},752,null,null,null,null,null,null,null,null,null,null,null,null,null,null,null,null,null,null,"~"]
["SA37",2025,"Choose",753,null,null,null,null,null,null,null,null,null,null,null,null,null,null,null,null,null,null,"~"]
["SA37",2025,"Choose",754,null,null,null,null,null,null,null,null,null,null,null,null,null,null,null,null,null,null,"~"]
["SA37",2025,"Choose",755,null,null,null,null,null,null,null,null,null,null,null,null,null,null,null,null,null,null,"~"]
["SA37",2025,"Choose",756,null,null,null,null,null,null,null,null,null,null,null,null,null,null,null,null,null,null,"~"]
["SA37",2025,"Choose",757,null,null,null,null,null,null,null,null,null,null,null,null,null,null,null,null,null,null,"~"]
["SA37",2025,"Choose",758,null,null,null,null,null,null,null,null,null,null,null,null,null,null,null,null,null,null,"~"]
["SA37",2025,"Choose",759,null,null,null,null,null,null,null,null,null,null,null,null,null,null,null,null,null,null,"~"]
["SA37",2025,"Choose",760,null,null,null,null,null,null,null,null,null,null,null,null,null,null,null,null,null,null,"~"]
["SA37",2025,"Choose",761,null,null,null,null,null,null,null,null,null,null,null,null,null,null,null,null,null,null,"~"]
["SA37",2025,"Choose",762,null,null,null,null,null,null,null,null,null,null,null,null,null,null,null,null,null,null,"~"]
["SA37",2025,"Choose",763,null,null,null,null,null,null,null,null,null,null,null,null,null,null,null,null,null,null,"~"]
["SA37",2025,"Choose",764,null,null,null,null,null,null,null,null,null,null,null,null,null,null,null,null,null,null,"~"]
["SA37",2025,"Choose",765,null,null,null,null,null,null,null,null,null,null,null,null,null,null,null,null,null,null,"~"]
["SA37",2025,"Choose",766,null,null,null,null,null,null,null,null,null,null,null,null,null,null,null,null,null,null,"~"]
["SA37",2025,"Choose",767,null,null,null,null,null,null,null,null,null,null,null,null,null,null,null,null,null,null,"~"]
["SA37",2025,"Choose",768,null,null,null,null,null,null,null,null,null,null,null,null,null,null,null,null,null,null,"~"]
["SA37",2025,"Choose",769,null,null,null,null,null,null,null,null,null,null,null,null,null,null,null,null,null,null,"~"]
["SA37",2025,"Choose",770,null,null,null,null,null,null,null,null,null,null,null,null,null,null,null,null,null,null,"~"]
["SA37",2025,"Choose",771,null,null,null,null,null,null,null,null,null,null,null,null,null,null,null,null,null,null,"~"]
["SA37",2025,"Choose",772,null,null,null,null,null,null,null,null,null,null,null,null,null,null,null,null,null,null,"~"]
["SA37",2025,"Choose",773,null,null,null,null,null,null,null,null,null,null,null,null,null,null,null,null,null,null,"~"]
["SA37",2025,"Choose",774,null,null,null,null,null,null,null,null,null,null,null,null,null,null,null,null,null,null,"~"]
["SA37",2025,"Choose",775,null,null,null,null,null,null,null,null,null,null,null,null,null,null,null,null,null,null,"~"]
["SA37",2025,"Choose",776,null,null,null,null,null,null,null,null,null,null,null,null,null,null,null,null,null,null,"~"]
["SA37",2025,"Choose",777,null,null,null,null,null,null,null,null,null,null,null,null,null,null,null,null,null,null,"~"]
["SA37",2025,"Choose",778,null,null,null,null,null,null,null,null,null,null,null,null,null,null,null,null,null,null,"~"]
["SA37",2025,"Choose",779,null,null,null,null,null,null,null,null,null,null,null,null,null,null,null,null,null,null,"~"]
["SA37",2025,"Choose",780,null,null,null,null,null,null,null,null,null,null,null,null,null,null,null,null,null,null,"~"]
["SA37",2025,"Choose",781,null,null,null,null,null,null,null,null,null,null,null,null,null,null,null,null,null,null,"~"]
["SA37",2025,"Choose",782,null,null,null,null,null,null,null,null,null,null,null,null,null,null,null,null,null,null,"~"]
["SA37",2025,"Choose",783,null,null,null,null,null,null,null,null,null,null,null,null,null,null,null,null,null,null,"~"]
["SA37",2025,"Choose",784,null,null,null,null,null,null,null,null,null,null,null,null,null,null,null,null,null,null,"~"]
["SA37",2025,"Choose",785,null,null,null,null,null,null,null,null,null,null,null,null,null,null,null,null,null,null,"~"]
["SA37",2025,"Choose",786,null,null,null,null,null,null,null,null,null,null,null,null,null,null,null,null,null,null,"~"]
["SA37",2025,"Choose",787,null,null,null,null,null,null,null,null,null,null,null,null,null,null,null,null,null,null,"~"]
["SA37",2025,"Choose",788,null,null,null,null,null,null,null,null,null,null,null,null,null,null,null,null,null,null,"~"]
["SA37",2025,"Choose",789,null,null,null,null,null,null,null,null,null,null,null,null,null,null,null,null,null,null,"~"]
["SA37",2025,"Choose",790,null,null,null,null,null,null,null,null,null,null,null,null,null,null,null,null,null,null,"~"]
["SA37",2025,"Choose",791,null,null,null,null,null,null,null,null,null,null,null,null,null,null,null,null,null,null,"~"]
["SA37",2025,"Choose",792,null,null,null,null,null,null,null,null,null,null,null,null,null,null,null,null,null,null,"~"]
["SA37",2025,"Choose",793,null,null,null,null,null,null,null,null,null,null,null,null,null,null,null,null,null,null,"~"]
["SA37",2025,"Choose",794,null,null,null,null,null,null,null,null,null,null,null,null,null,null,null,null,null,null,"~"]
["SA37",2025,"Choose",795,null,null,null,null,null,null,null,null,null,null,null,null,null,null,null,null,null,null,"~"]
["SA37",2025,"Choose",796,null,null,null,null,null,null,null,null,null,null,null,null,null,null,null,null,null,null,"~"]
["SA37",2025,"Choose",797,null,null,null,null,null,null,null,null,null,null,null,null,null,null,null,null,null,null,"~"]
["SA37",2025,"Choose",798,null,null,null,null,null,null,null,null,null,null,null,null,null,null,null,null,null,null,"~"]
["SA37",2025,"Choose",799,null,null,null,null,null,null,null,null,null,null,null,null,null,null,null,null,null,null,"~"]
["SA37",2025,"Choose",800,null,null,null,null,null,null,null,null,null,null,null,null,null,null,null,null,null,null,"~"]
["SA37",2025,"Choose",801,null,null,null,null,null,null,null,null,null,null,null,null,null,null,null,null,null,null,"~"]
["SA37",2025,"Choose",802,null,null,null,null,null,null,null,null,null,null,null,null,null,null,null,null,null,null,"~"]
["SA37",2025,"Choose",803,null,null,null,null,null,null,null,null,null,null,null,null,null,null,null,null,null,null,"~"]
["SA37",2025,"Choose",804,null,null,null,null,null,null,null,null,null,null,null,null,null,null,null,null,null,null,"~"]
["SA37",2025,"Choose",805,null,null,null,null,null,null,null,null,null,null,null,null,null,null,null,null,null,null,"~"]
["SA37",2025,"Choose",806,null,null,null,null,null,null,null,null,null,null,null,null,null,null,null,null,null,null,"~"]
["SA37",2025,"Choose",807,null,null,null,null,null,null,null,null,null,null,null,null,null,null,null,null,null,null,"~"]
["SA37",2025,"Choose",808,null,null,null,null,null,null,null,null,null,null,null,null,null,null,null,null,null,null,"~"]
["SA37",2025,"Choose",809,null,null,null,null,null,null,null,null,null,null,null,null,null,null,null,null,null,null,"~"]
["SA37",2025,"Choose",810,null,null,null,null,null,null,null,null,null,null,null,null,null,null,null,null,null,null,"~"]
["SA37",2025,"Choose",811,null,null,null,null,null,null,null,null,null,null,null,null,null,null,null,null,null,null,"~"]
["SA37",2025,"Choose",812,null,null,null,null,null,null,null,null,null,null,null,null,null,null,null,null,null,null,"~"]
["SA37",2025,"Choose",813,null,null,null,null,null,null,null,null,null,null,null,null,null,null,null,null,null,null,"~"]
["SA37",2025,"Choose",814,null,null,null,null,null,null,null,null,null,null,null,null,null,null,null,null,null,null,"~"]
["SA37",2025,"Choose",815,null,null,null,null,null,null,null,null,null,null,null,null,null,null,null,null,null,null,"~"]
["SA37",{"$f":"+MTREF","v":2025},{"$f":"LEFT(muni,(FIND(\" \",muni,1)-1))","v":"Choose"},816,null,null,null,null,null,null,null,null,null,null,null,null,null,null,null,null,null,null,"~"]
["SA37",2025,"Choose",817,null,null,null,null,null,null,null,null,null,null,null,null,null,null,null,null,null,null,"~"]
["SA37",2025,"Choose",818,null,null,null,null,null,null,null,null,null,null,null,null,null,null,null,null,null,null,"~"]
["SA37",2025,"Choose",819,null,null,null,null,null,null,null,null,null,null,null,null,null,null,null,null,null,null,"~"]
["SA37",2025,"Choose",820,null,null,null,null,null,null,null,null,null,null,null,null,null,null,null,null,null,null,"~"]
["SA37",2025,"Choose",821,null,null,null,null,null,null,null,null,null,null,null,null,null,null,null,null,null,null,"~"]
["SA37",2025,"Choose",822,null,null,null,null,null,null,null,null,null,null,null,null,null,null,null,null,null,null,"~"]
["SA37",2025,"Choose",823,null,null,null,null,null,null,null,null,null,null,null,null,null,null,null,null,null,null,"~"]
["SA37",2025,"Choose",824,null,null,null,null,null,null,null,null,null,null,null,null,null,null,null,null,null,null,"~"]
["SA37",2025,"Choose",825,null,null,null,null,null,null,null,null,null,null,null,null,null,null,null,null,null,null,"~"]
["SA37",2025,"Choose",826,null,null,null,null,null,null,null,null,null,null,null,null,null,null,null,null,null,null,"~"]
["SA37",2025,"Choose",827,null,null,null,null,null,null,null,null,null,null,null,null,null,null,null,null,null,null,"~"]
["SA37",2025,"Choose",828,null,null,null,null,null,null,null,null,null,null,null,null,null,null,null,null,null,null,"~"]
["SA37",2025,"Choose",829,null,null,null,null,null,null,null,null,null,null,null,null,null,null,null,null,null,null,"~"]
["SA37",2025,"Choose",830,null,null,null,null,null,null,null,null,null,null,null,null,null,null,null,null,null,null,"~"]
["SA37",2025,"Choose",831,null,null,null,null,null,null,null,null,null,null,null,null,null,null,null,null,null,null,"~"]
["SA37",2025,"Choose",832,null,null,null,null,null,null,null,null,null,null,null,null,null,null,null,null,null,null,"~"]
["SA37",2025,"Choose",833,null,null,null,null,null,null,null,null,null,null,null,null,null,null,null,null,null,null,"~"]
["SA37",2025,"Choose",834,null,null,null,null,null,null,null,null,null,null,null,null,null,null,null,null,null,null,"~"]
["SA37",2025,"Choose",835,null,null,null,null,null,null,null,null,null,null,null,null,null,null,null,null,null,null,"~"]
["SA37",2025,"Choose",836,null,null,null,null,null,null,null,null,null,null,null,null,null,null,null,null,null,null,"~"]
["SA37",2025,"Choose",837,null,null,null,null,null,null,null,null,null,null,null,null,null,null,null,null,null,null,"~"]
["SA37",2025,"Choose",838,null,null,null,null,null,null,null,null,null,null,null,null,null,null,null,null,null,null,"~"]
["SA37",2025,"Choose",839,null,null,null,null,null,null,null,null,null,null,null,null,null,null,null,null,null,null,"~"]
["SA37",2025,"Choose",840,null,null,null,null,null,null,null,null,null,null,null,null,null,null,null,null,null,null,"~"]
["SA37",2025,"Choose",841,null,null,null,null,null,null,null,null,null,null,null,null,null,null,null,null,null,null,"~"]
["SA37",2025,"Choose",842,null,null,null,null,null,null,null,null,null,null,null,null,null,null,null,null,null,null,"~"]
["SA37",2025,"Choose",843,null,null,null,null,null,null,null,null,null,null,null,null,null,null,null,null,null,null,"~"]
["SA37",2025,"Choose",844,null,null,null,null,null,null,null,null,null,null,null,null,null,null,null,null,null,null,"~"]
["SA37",2025,"Choose",845,null,null,null,null,null,null,null,null,null,null,null,null,null,null,null,null,null,null,"~"]
["SA37",2025,"Choose",846,null,null,null,null,null,null,null,null,null,null,null,null,null,null,null,null,null,null,"~"]
["SA37",2025,"Choose",847,null,null,null,null,null,null,null,null,null,null,null,null,null,null,null,null,null,null,"~"]
["SA37",2025,"Choose",848,null,null,null,null,null,null,null,null,null,null,null,null,null,null,null,null,null,null,"~"]
["SA37",2025,"Choose",849,null,null,null,null,null,null,null,null,null,null,null,null,null,null,null,null,null,null,"~"]
["SA37",2025,"Choose",850,null,null,null,null,null,null,null,null,null,null,null,null,null,null,null,null,null,null,"~"]
["SA37",2025,"Choose",851,null,null,null,null,null,null,null,null,null,null,null,null,null,null,null,null,null,null,"~"]
["SA37",2025,"Choose",852,null,null,null,null,null,null,null,null,null,null,null,null,null,null,null,null,null,null,"~"]
["SA37",2025,"Choose",853,null,null,null,null,null,null,null,null,null,null,null,null,null,null,null,null,null,null,"~"]
["SA37",2025,"Choose",854,null,null,null,null,null,null,null,null,null,null,null,null,null,null,null,null,null,null,"~"]
["SA37",2025,"Choose",855,null,null,null,null,null,null,null,null,null,null,null,null,null,null,null,null,null,null,"~"]
["SA37",2025,"Choose",856,null,null,null,null,null,null,null,null,null,null,null,null,null,null,null,null,null,null,"~"]
["SA37",2025,"Choose",857,null,null,null,null,null,null,null,null,null,null,null,null,null,null,null,null,null,null,"~"]
["SA37",2025,"Choose",858,null,null,null,null,null,null,null,null,null,null,null,null,null,null,null,null,null,null,"~"]
["SA37",2025,"Choose",859,null,null,null,null,null,null,null,null,null,null,null,null,null,null,null,null,null,null,"~"]
["SA37",2025,"Choose",860,null,null,null,null,null,null,null,null,null,null,null,null,null,null,null,null,null,null,"~"]
["SA37",2025,"Choose",861,null,null,null,null,null,null,null,null,null,null,null,null,null,null,null,null,null,null,"~"]
["SA37",2025,"Choose",862,null,null,null,null,null,null,null,null,null,null,null,null,null,null,null,null,null,null,"~"]
["SA37",2025,"Choose",863,null,null,null,null,null,null,null,null,null,null,null,null,null,null,null,null,null,null,"~"]
["SA37",2025,"Choose",864,null,null,null,null,null,null,null,null,null,null,null,null,null,null,null,null,null,null,"~"]
["SA37",2025,"Choose",865,null,null,null,null,null,null,null,null,null,null,null,null,null,null,null,null,null,null,"~"]
["SA37",2025,"Choose",866,null,null,null,null,null,null,null,null,null,null,null,null,null,null,null,null,null,null,"~"]
["SA37",2025,"Choose",867,null,null,null,null,null,null,null,null,null,null,null,null,null,null,null,null,null,null,"~"]
["SA37",2025,"Choose",868,null,null,null,null,null,null,null,null,null,null,null,null,null,null,null,null,null,null,"~"]
["SA37",2025,"Choose",869,null,null,null,null,null,null,null,null,null,null,null,null,null,null,null,null,null,null,"~"]
["SA37",2025,"Choose",870,null,null,null,null,null,null,null,null,null,null,null,null,null,null,null,null,null,null,"~"]
["SA37",2025,"Choose",871,null,null,null,null,null,null,null,null,null,null,null,null,null,null,null,null,null,null,"~"]
["SA37",2025,"Choose",872,null,null,null,null,null,null,null,null,null,null,null,null,null,null,null,null,null,null,"~"]
["SA37",2025,"Choose",873,null,null,null,null,null,null,null,null,null,null,null,null,null,null,null,null,null,null,"~"]
["SA37",2025,"Choose",874,null,null,null,null,null,null,null,null,null,null,null,null,null,null,null,null,null,null,"~"]
["SA37",2025,"Choose",875,null,null,null,null,null,null,null,null,null,null,null,null,null,null,null,null,null,null,"~"]
["SA37",2025,"Choose",876,null,null,null,null,null,null,null,null,null,null,null,null,null,null,null,null,null,null,"~"]
["SA37",2025,"Choose",877,null,null,null,null,null,null,null,null,null,null,null,null,null,null,null,null,null,null,"~"]
["SA37",2025,"Choose",878,null,null,null,null,null,null,null,null,null,null,null,null,null,null,null,null,null,null,"~"]
["SA37",2025,"Choose",879,null,null,null,null,null,null,null,null,null,null,null,null,null,null,null,null,null,null,"~"]
["SA37",{"$f":"+MTREF","v":2025},{"$f":"LEFT(muni,(FIND(\" \",muni,1)-1))","v":"Choose"},880,null,null,null,null,null,null,null,null,null,null,null,null,null,null,null,null,null,null,"~"]
["SA37",2025,"Choose",881,null,null,null,null,null,null,null,null,null,null,null,null,null,null,null,null,null,null,"~"]
["SA37",2025,"Choose",882,null,null,null,null,null,null,null,null,null,null,null,null,null,null,null,null,null,null,"~"]
["SA37",2025,"Choose",883,null,null,null,null,null,null,null,null,null,null,null,null,null,null,null,null,null,null,"~"]
["SA37",2025,"Choose",884,null,null,null,null,null,null,null,null,null,null,null,null,null,null,null,null,null,null,"~"]
["SA37",2025,"Choose",885,null,null,null,null,null,null,null,null,null,null,null,null,null,null,null,null,null,null,"~"]
["SA37",2025,"Choose",886,null,null,null,null,null,null,null,null,null,null,null,null,null,null,null,null,null,null,"~"]
["SA37",2025,"Choose",887,null,null,null,null,null,null,null,null,null,null,null,null,null,null,null,null,null,null,"~"]
["SA37",2025,"Choose",888,null,null,null,null,null,null,null,null,null,null,null,null,null,null,null,null,null,null,"~"]
["SA37",2025,"Choose",889,null,null,null,null,null,null,null,null,null,null,null,null,null,null,null,null,null,null,"~"]
["SA37",2025,"Choose",890,null,null,null,null,null,null,null,null,null,null,null,null,null,null,null,null,null,null,"~"]
["SA37",2025,"Choose",891,null,null,null,null,null,null,null,null,null,null,null,null,null,null,null,null,null,null,"~"]
["SA37",2025,"Choose",892,null,null,null,null,null,null,null,null,null,null,null,null,null,null,null,null,null,null,"~"]
["SA37",2025,"Choose",893,null,null,null,null,null,null,null,null,null,null,null,null,null,null,null,null,null,null,"~"]
["SA37",2025,"Choose",894,null,null,null,null,null,null,null,null,null,null,null,null,null,null,null,null,null,null,"~"]
["SA37",2025,"Choose",895,null,null,null,null,null,null,null,null,null,null,null,null,null,null,null,null,null,null,"~"]
["SA37",2025,"Choose",896,null,null,null,null,null,null,null,null,null,null,null,null,null,null,null,null,null,null,"~"]
["SA37",2025,"Choose",897,null,null,null,null,null,null,null,null,null,null,null,null,null,null,null,null,null,null,"~"]
["SA37",2025,"Choose",898,null,null,null,null,null,null,null,null,null,null,null,null,null,null,null,null,null,null,"~"]
["SA37",2025,"Choose",899,null,null,null,null,null,null,null,null,null,null,null,null,null,null,null,null,null,null,"~"]
["SA37",2025,"Choose",900,null,null,null,null,null,null,null,null,null,null,null,null,null,null,null,null,null,null,"~"]
["SA37",2025,"Choose",901,null,null,null,null,null,null,null,null,null,null,null,null,null,null,null,null,null,null,"~"]
["SA37",2025,"Choose",902,null,null,null,null,null,null,null,null,null,null,null,null,null,null,null,null,null,null,"~"]
["SA37",2025,"Choose",903,null,null,null,null,null,null,null,null,null,null,null,null,null,null,null,null,null,null,"~"]
["SA37",2025,"Choose",904,null,null,null,null,null,null,null,null,null,null,null,null,null,null,null,null,null,null,"~"]
["SA37",2025,"Choose",905,null,null,null,null,null,null,null,null,null,null,null,null,null,null,null,null,null,null,"~"]
["SA37",2025,"Choose",906,null,null,null,null,null,null,null,null,null,null,null,null,null,null,null,null,null,null,"~"]
["SA37",2025,"Choose",907,null,null,null,null,null,null,null,null,null,null,null,null,null,null,null,null,null,null,"~"]
["SA37",2025,"Choose",908,null,null,null,null,null,null,null,null,null,null,null,null,null,null,null,null,null,null,"~"]
["SA37",2025,"Choose",909,null,null,null,null,null,null,null,null,null,null,null,null,null,null,null,null,null,null,"~"]
["SA37",2025,"Choose",910,null,null,null,null,null,null,null,null,null,null,null,null,null,null,null,null,null,null,"~"]
["SA37",2025,"Choose",911,null,null,null,null,null,null,null,null,null,null,null,null,null,null,null,null,null,null,"~"]
["SA37",2025,"Choose",912,null,null,null,null,null,null,null,null,null,null,null,null,null,null,null,null,null,null,"~"]
["SA37",2025,"Choose",913,null,null,null,null,null,null,null,null,null,null,null,null,null,null,null,null,null,null,"~"]
["SA37",2025,"Choose",914,null,null,null,null,null,null,null,null,null,null,null,null,null,null,null,null,null,null,"~"]
["SA37",2025,"Choose",915,null,null,null,null,null,null,null,null,null,null,null,null,null,null,null,null,null,null,"~"]
["SA37",2025,"Choose",916,null,null,null,null,null,null,null,null,null,null,null,null,null,null,null,null,null,null,"~"]
["SA37",2025,"Choose",917,null,null,null,null,null,null,null,null,null,null,null,null,null,null,null,null,null,null,"~"]
["SA37",2025,"Choose",918,null,null,null,null,null,null,null,null,null,null,null,null,null,null,null,null,null,null,"~"]
["SA37",2025,"Choose",919,null,null,null,null,null,null,null,null,null,null,null,null,null,null,null,null,null,null,"~"]
["SA37",2025,"Choose",920,null,null,null,null,null,null,null,null,null,null,null,null,null,null,null,null,null,null,"~"]
["SA37",2025,"Choose",921,null,null,null,null,null,null,null,null,null,null,null,null,null,null,null,null,null,null,"~"]
["SA37",2025,"Choose",922,null,null,null,null,null,null,null,null,null,null,null,null,null,null,null,null,null,null,"~"]
["SA37",2025,"Choose",923,null,null,null,null,null,null,null,null,null,null,null,null,null,null,null,null,null,null,"~"]
["SA37",2025,"Choose",924,null,null,null,null,null,null,null,null,null,null,null,null,null,null,null,null,null,null,"~"]
["SA37",2025,"Choose",925,null,null,null,null,null,null,null,null,null,null,null,null,null,null,null,null,null,null,"~"]
["SA37",2025,"Choose",926,null,null,null,null,null,null,null,null,null,null,null,null,null,null,null,null,null,null,"~"]
["SA37",2025,"Choose",927,null,null,null,null,null,null,null,null,null,null,null,null,null,null,null,null,null,null,"~"]
["SA37",2025,"Choose",928,null,null,null,null,null,null,null,null,null,null,null,null,null,null,null,null,null,null,"~"]
["SA37",2025,"Choose",929,null,null,null,null,null,null,null,null,null,null,null,null,null,null,null,null,null,null,"~"]
["SA37",2025,"Choose",930,null,null,null,null,null,null,null,null,null,null,null,null,null,null,null,null,null,null,"~"]
["SA37",2025,"Choose",931,null,null,null,null,null,null,null,null,null,null,null,null,null,null,null,null,null,null,"~"]
["SA37",2025,"Choose",932,null,null,null,null,null,null,null,null,null,null,null,null,null,null,null,null,null,null,"~"]
["SA37",2025,"Choose",933,null,null,null,null,null,null,null,null,null,null,null,null,null,null,null,null,null,null,"~"]
["SA37",2025,"Choose",934,null,null,null,null,null,null,null,null,null,null,null,null,null,null,null,null,null,null,"~"]
["SA37",2025,"Choose",935,null,null,null,null,null,null,null,null,null,null,null,null,null,null,null,null,null,null,"~"]
["SA37",2025,"Choose",936,null,null,null,null,null,null,null,null,null,null,null,null,null,null,null,null,null,null,"~"]
["SA37",2025,"Choose",937,null,null,null,null,null,null,null,null,null,null,null,null,null,null,null,null,null,null,"~"]
["SA37",2025,"Choose",938,null,null,null,null,null,null,null,null,null,null,null,null,null,null,null,null,null,null,"~"]
["SA37",2025,"Choose",939,null,null,null,null,null,null,null,null,null,null,null,null,null,null,null,null,null,null,"~"]
["SA37",2025,"Choose",940,null,null,null,null,null,null,null,null,null,null,null,null,null,null,null,null,null,null,"~"]
["SA37",2025,"Choose",941,null,null,null,null,null,null,null,null,null,null,null,null,null,null,null,null,null,null,"~"]
["SA37",2025,"Choose",942,null,null,null,null,null,null,null,null,null,null,null,null,null,null,null,null,null,null,"~"]
["SA37",2025,"Choose",943,null,null,null,null,null,null,null,null,null,null,null,null,null,null,null,null,null,null,"~"]
["SA37",{"$f":"+MTREF","v":2025},{"$f":"LEFT(muni,(FIND(\" \",muni,1)-1))","v":"Choose"},944,null,null,null,null,null,null,null,null,null,null,null,null,null,null,null,null,null,null,"~"]
["SA37",2025,"Choose",945,null,null,null,null,null,null,null,null,null,null,null,null,null,null,null,null,null,null,"~"]
["SA37",2025,"Choose",946,null,null,null,null,null,null,null,null,null,null,null,null,null,null,null,null,null,null,"~"]
["SA37",2025,"Choose",947,null,null,null,null,null,null,null,null,null,null,null,null,null,null,null,null,null,null,"~"]
["SA37",2025,"Choose",948,null,null,null,null,null,null,null,null,null,null,null,null,null,null,null,null,null,null,"~"]
["SA37",2025,"Choose",949,null,null,null,null,null,null,null,null,null,null,null,null,null,null,null,null,null,null,"~"]
["SA37",2025,"Choose",950,null,null,null,null,null,null,null,null,null,null,null,null,null,null,null,null,null,null,"~"]
["SA37",2025,"Choose",951,null,null,null,null,null,null,null,null,null,null,null,null,null,null,null,null,null,null,"~"]
["SA37",2025,"Choose",952,null,null,null,null,null,null,null,null,null,null,null,null,null,null,null,null,null,null,"~"]
["SA37",2025,"Choose",953,null,null,null,null,null,null,null,null,null,null,null,null,null,null,null,null,null,null,"~"]
["SA37",2025,"Choose",954,null,null,null,null,null,null,null,null,null,null,null,null,null,null,null,null,null,null,"~"]
["SA37",2025,"Choose",955,null,null,null,null,null,null,null,null,null,null,null,null,null,null,null,null,null,null,"~"]
["SA37",2025,"Choose",956,null,null,null,null,null,null,null,null,null,null,null,null,null,null,null,null,null,null,"~"]
["SA37",2025,"Choose",957,null,null,null,null,null,null,null,null,null,null,null,null,null,null,null,null,null,null,"~"]
["SA37",2025,"Choose",958,null,null,null,null,null,null,null,null,null,null,null,null,null,null,null,null,null,null,"~"]
["SA37",2025,"Choose",959,null,null,null,null,null,null,null,null,null,null,null,null,null,null,null,null,null,null,"~"]
["SA37",2025,"Choose",960,null,null,null,null,null,null,null,null,null,null,null,null,null,null,null,null,null,null,"~"]
["SA37",2025,"Choose",961,null,null,null,null,null,null,null,null,null,null,null,null,null,null,null,null,null,null,"~"]
["SA37",2025,"Choose",962,null,null,null,null,null,null,null,null,null,null,null,null,null,null,null,null,null,null,"~"]
["SA37",2025,"Choose",963,null,null,null,null,null,null,null,null,null,null,null,null,null,null,null,null,null,null,"~"]
["SA37",2025,"Choose",964,null,null,null,null,null,null,null,null,null,null,null,null,null,null,null,null,null,null,"~"]
["SA37",2025,"Choose",965,null,null,null,null,null,null,null,null,null,null,null,null,null,null,null,null,null,null,"~"]
["SA37",2025,"Choose",966,null,null,null,null,null,null,null,null,null,null,null,null,null,null,null,null,null,null,"~"]
["SA37",2025,"Choose",967,null,null,null,null,null,null,null,null,null,null,null,null,null,null,null,null,null,null,"~"]
["SA37",2025,"Choose",968,null,null,null,null,null,null,null,null,null,null,null,null,null,null,null,null,null,null,"~"]
["SA37",2025,"Choose",969,null,null,null,null,null,null,null,null,null,null,null,null,null,null,null,null,null,null,"~"]
["SA37",2025,"Choose",970,null,null,null,null,null,null,null,null,null,null,null,null,null,null,null,null,null,null,"~"]
["SA37",2025,"Choose",971,null,null,null,null,null,null,null,null,null,null,null,null,null,null,null,null,null,null,"~"]
["SA37",2025,"Choose",972,null,null,null,null,null,null,null,null,null,null,null,null,null,null,null,null,null,null,"~"]
["SA37",2025,"Choose",973,null,null,null,null,null,null,null,null,null,null,null,null,null,null,null,null,null,null,"~"]
["SA37",2025,"Choose",974,null,null,null,null,null,null,null,null,null,null,null,null,null,null,null,null,null,null,"~"]
["SA37",2025,"Choose",975,null,null,null,null,null,null,null,null,null,null,null,null,null,null,null,null,null,null,"~"]
["SA37",2025,"Choose",976,null,null,null,null,null,null,null,null,null,null,null,null,null,null,null,null,null,null,"~"]
["SA37",2025,"Choose",977,null,null,null,null,null,null,null,null,null,null,null,null,null,null,null,null,null,null,"~"]
["SA37",2025,"Choose",978,null,null,null,null,null,null,null,null,null,null,null,null,null,null,null,null,null,null,"~"]
["SA37",2025,"Choose",979,null,null,null,null,null,null,null,null,null,null,null,null,null,null,null,null,null,null,"~"]
["SA37",2025,"Choose",980,null,null,null,null,null,null,null,null,null,null,null,null,null,null,null,null,null,null,"~"]
["SA37",2025,"Choose",981,null,null,null,null,null,null,null,null,null,null,null,null,null,null,null,null,null,null,"~"]
["SA37",2025,"Choose",982,null,null,null,null,null,null,null,null,null,null,null,null,null,null,null,null,null,null,"~"]
["SA37",2025,"Choose",983,null,null,null,null,null,null,null,null,null,null,null,null,null,null,null,null,null,null,"~"]
["SA37",2025,"Choose",984,null,null,null,null,null,null,null,null,null,null,null,null,null,null,null,null,null,null,"~"]
["SA37",2025,"Choose",985,null,null,null,null,null,null,null,null,null,null,null,null,null,null,null,null,null,null,"~"]
["SA37",2025,"Choose",986,null,null,null,null,null,null,null,null,null,null,null,null,null,null,null,null,null,null,"~"]
["SA37",2025,"Choose",987,null,null,null,null,null,null,null,null,null,null,null,null,null,null,null,null,null,null,"~"]
["SA37",2025,"Choose",988,null,null,null,null,null,null,null,null,null,null,null,null,null,null,null,null,null,null,"~"]
["SA37",2025,"Choose",989,null,null,null,null,null,null,null,null,null,null,null,null,null,null,null,null,null,null,"~"]
["SA37",2025,"Choose",990,null,null,null,null,null,null,null,null,null,null,null,null,null,null,null,null,null,null,"~"]
["SA37",2025,"Choose",991,null,null,null,null,null,null,null,null,null,null,null,null,null,null,null,null,null,null,"~"]
["SA37",2025,"Choose",992,null,null,null,null,null,null,null,null,null,null,null,null,null,null,null,null,null,null,"~"]
["SA37",2025,"Choose",993,null,null,null,null,null,null,null,null,null,null,null,null,null,null,null,null,null,null,"~"]
["SA37",2025,"Choose",994,null,null,null,null,null,null,null,null,null,null,null,null,null,null,null,null,null,null,"~"]
["SA37",2025,"Choose",995,null,null,null,null,null,null,null,null,null,null,null,null,null,null,null,null,null,null,"~"]
["SA37",2025,"Choose",996,null,null,null,null,null,null,null,null,null,null,null,null,null,null,null,null,null,null,"~"]
["SA37",2025,"Choose",997,null,null,null,null,null,null,null,null,null,null,null,null,null,null,null,null,null,null,"~"]
["SA37",2025,"Choose",998,null,null,null,null,null,null,null,null,null,null,null,null,null,null,null,null,null,null,"~"]
["SA37",2025,"Choose",999,null,null,null,null,null,null,null,null,null,null,null,null,null,null,null,null,null,null,"~"]
["SA37",2025,"Choose",1000,null,null,null,null,null,null,null,null,null,null,null,null,null,null,null,null,null,null,"~"]
["CONTACT",2025,"Choose",1,null,null,null,null,null,null,null,null,null,null,null,null,null,null,null,null,null,null,"~"]
["CONTACT",2025,"Choose",2,null,null,null,null,null,null,null,null,null,null,null,null,null,null,null,null,null,null,"~"]
["CONTACT",2025,"Choose",3,null,null,null,null,null,null,null,null,null,null,null,null,null,null,null,null,null,null,"~"]
["CONTACT",2025,"Choose",4,null,null,null,null,null,null,null,null,null,null,null,null,null,null,null,null,null,null,"~"]
["CONTACT",2025,"Choose",5,null,null,null,null,null,null,null,null,null,null,null,null,null,null,null,null,null,null,"~"]
["CONTACT",2025,"Choose",6,null,null,null,null,null,null,null,null,null,null,null,null,null,null,null,null,null,null,"~"]
["CONTACT",2025,"Choose",7,null,null,null,null,null,null,null,null,null,null,null,null,null,null,null,null,null,null,"~"]
["CONTACT",{"$f":"+MTREF","v":2025},{"$f":"LEFT(muni,(FIND(\" \",muni,1)-1))","v":"Choose"},8,null,null,null,null,null,null,null,null,null,null,null,null,null,null,null,null,null,null,"~"]
["CONTACT",2025,"Choose",9,null,null,null,null,null,null,null,null,null,null,null,null,null,null,null,null,null,null,"~"]
["CONTACT",2025,"Choose",10,null,null,null,null,null,null,null,null,null,null,null,null,null,null,null,null,null,null,"~"]
["CONTACT",2025,"Choose",11,null,null,null,null,null,null,null,null,null,null,null,null,null,null,null,null,null,null,"~"]
["CONTACT",2025,"Choose",12,null,null,null,null,null,null,null,null,null,null,null,null,null,null,null,null,null,null,"~"]
["CONTACT",2025,"Choose",13,null,null,null,null,null,null,null,null,null,null,null,null,null,null,null,null,null,null,"~"]
["CONTACT",2025,"Choose",14,null,null,null,null,null,null,null,null,null,null,null,null,null,null,null,null,null,null,"~"]
["CONTACT",2025,"Choose",15,null,null,null,null,null,null,null,null,null,null,null,null,null,null,null,null,null,null,"~"]
["CONTACT",2025,"Choose",16,null,null,null,null,null,null,null,null,null,null,null,null,null,null,null,null,null,null,"~"]
["CONTACT",2025,"Choose",17,null,null,null,null,null,null,null,null,null,null,null,null,null,null,null,null,null,null,"~"]
["CONTACT",2025,"Choose",18,null,null,null,null,null,null,null,null,null,null,null,null,null,null,null,null,null,null,"~"]
["CONTACT",2025,"Choose",19,null,null,null,null,null,null,null,null,null,null,null,null,null,null,null,null,null,null,"~"]
["CONTACT",2025,"Choose",20,null,null,null,null,null,null,null,null,null,null,null,null,null,null,null,null,null,null,"~"]
["CONTACT",2025,"Choose",21,null,null,null,null,null,null,null,null,null,null,null,null,null,null,null,null,null,null,"~"]
["CONTACT",2025,"Choose",22,null,null,null,null,null,null,null,null,null,null,null,null,null,null,null,null,null,null,"~"]
["CONTACT",2025,"Choose",23,null,null,null,null,null,null,null,null,null,null,null,null,null,null,null,null,null,null,"~"]
["CONTACT",2025,"Choose",24,null,null,null,null,null,null,null,null,null,null,null,null,null,null,null,null,null,null,"~"]
["CONTACT",2025,"Choose",25,null,null,null,null,null,null,null,null,null,null,null,null,null,null,null,null,null,null,"~"]
["CONTACT",2025,"Choose",26,null,null,null,null,null,null,null,null,null,null,null,null,null,null,null,null,null,null,"~"]
["CONTACT",2025,"Choose",27,null,null,null,null,null,null,null,null,null,null,null,null,null,null,null,null,null,null,"~"]
["CONTACT",2025,"Choose",28,null,null,null,null,null,null,null,null,null,null,null,null,null,null,null,null,null,null,"~"]
["CONTACT",2025,"Choose",29,null,null,null,null,null,null,null,null,null,null,null,null,null,null,null,null,null,null,"~"]
["CONTACT",2025,"Choose",30,null,null,null,null,null,null,null,null,null,null,null,null,null,null,null,null,null,null,"~"]
["CONTACT",2025,"Choose",31,null,null,null,null,null,null,null,null,null,null,null,null,null,null,null,null,null,null,"~"]
["CONTACT",2025,"Choose",32,null,null,null,null,null,null,null,null,null,null,null,null,null,null,null,null,null,null,"~"]
["CONTACT",2025,"Choose",33,null,null,null,null,null,null,null,null,null,null,null,null,null,null,null,null,null,null,"~"]
["CONTACT",2025,"Choose",34,null,null,null,null,null,null,null,null,null,null,null,null,null,null,null,null,null,null,"~"]
["CONTACT",2025,"Choose",35,null,null,null,null,null,null,null,null,null,null,null,null,null,null,null,null,null,null,"~"]
["CONTACT",2025,"Choose",36,null,null,null,null,null,null,null,null,null,null,null,null,null,null,null,null,null,null,"~"]
["CONTACT",2025,"Choose",37,null,null,null,null,null,null,null,null,null,null,null,null,null,null,null,null,null,null,"~"]
["CONTACT",2025,"Choose",38,null,null,null,null,null,null,null,null,null,null,null,null,null,null,null,null,null,null,"~"]
["CONTACT",2025,"Choose",39,null,null,null,null,null,null,null,null,null,null,null,null,null,null,null,null,null,null,"~"]
["CONTACT",2025,"Choose",40,null,null,null,null,null,null,null,null,null,null,null,null,null,null,null,null,null,null,"~"]
["CONTACT",2025,"Choose",41,null,null,null,null,null,null,null,null,null,null,null,null,null,null,null,null,null,null,"~"]
["CONTACT",2025,"Choose",42,null,null,null,null,null,null,null,null,null,null,null,null,null,null,null,null,null,null,"~"]
["CONTACT",2025,"Choose",43,null,null,null,null,null,null,null,null,null,null,null,null,null,null,null,null,null,null,"~"]
["CONTACT",2025,"Choose",44,null,null,null,null,null,null,null,null,null,null,null,null,null,null,null,null,null,null,"~"]
["CONTACT",2025,"Choose",45,null,null,null,null,null,null,null,null,null,null,null,null,null,null,null,null,null,null,"~"]
["CONTACT",2025,"Choose",46,null,null,null,null,null,null,null,null,null,null,null,null,null,null,null,null,null,null,"~"]
["CONTACT",2025,"Choose",47,null,null,null,null,null,null,null,null,null,null,null,null,null,null,null,null,null,null,"~"]
["CONTACT",2025,"Choose",48,null,null,null,null,null,null,null,null,null,null,null,null,null,null,null,null,null,null,"~"]
["CONTACT",2025,"Choose",49,null,null,null,null,null,null,null,null,null,null,null,null,null,null,null,null,null,null,"~"]
["CONTACT",2025,"Choose",50,null,null,null,null,null,null,null,null,null,null,null,null,null,null,null,null,null,null,"~"]
["CONTACT",2025,"Choose",51,null,null,null,null,null,null,null,null,null,null,null,null,null,null,null,null,null,null,"~"]
["CONTACT",2025,"Choose",52,null,null,null,null,null,null,null,null,null,null,null,null,null,null,null,null,null,null,"~"]
["CONTACT",2025,"Choose",53,null,null,null,null,null,null,null,null,null,null,null,null,null,null,null,null,null,null,"~"]
["CONTACT",2025,"Choose",54,null,null,null,null,null,null,null,null,null,null,null,null,null,null,null,null,null,null,"~"]
["CONTACT",2025,"Choose",55,null,null,null,null,null,null,null,null,null,null,null,null,null,null,null,null,null,null,"~"]
["CONTACT",2025,"Choose",56,null,null,null,null,null,null,null,null,null,null,null,null,null,null,null,null,null,null,"~"]
["CONTACT",2025,"Choose",57,null,null,null,null,null,null,null,null,null,null,null,null,null,null,null,null,null,null,"~"]
["CONTACT",2025,"Choose",58,null,null,null,null,null,null,null,null,null,null,null,null,null,null,null,null,null,null,"~"]
["CONTACT",2025,"Choose",59,null,null,null,null,null,null,null,null,null,null,null,null,null,null,null,null,null,null,"~"]
["CONTACT",2025,"Choose",60,null,null,null,null,null,null,null,null,null,null,null,null,null,null,null,null,null,null,"~"]
["CONTACT",2025,"Choose",61,null,null,null,null,null,null,null,null,null,null,null,null,null,null,null,null,null,null,"~"]
["CONTACT",2025,"Choose",62,null,null,null,null,null,null,null,null,null,null,null,null,null,null,null,null,null,null,"~"]
["CONTACT",2025,"Choose",63,null,null,null,null,null,null,null,null,null,null,null,null,null,null,null,null,null,null,"~"]
["CONTACT",2025,"Choose",64,null,null,null,null,null,null,null,null,null,null,null,null,null,null,null,null,null,null,"~"]
["CONTACT",2025,"Choose",65,null,null,null,null,null,null,null,null,null,null,null,null,null,null,null,null,null,null,"~"]
["CONTACT",2025,"Choose",66,null,null,null,null,null,null,null,null,null,null,null,null,null,null,null,null,null,null,"~"]
["CONTACT",2025,"Choose",67,null,null,null,null,null,null,null,null,null,null,null,null,null,null,null,null,null,null,"~"]
["CONTACT",2025,"Choose",68,null,null,null,null,null,null,null,null,null,null,null,null,null,null,null,null,null,null,"~"]
["CONTACT",2025,"Choose",69,null,null,null,null,null,null,null,null,null,null,null,null,null,null,null,null,null,null,"~"]
["CONTACT",2025,"Choose",70,null,null,null,null,null,null,null,null,null,null,null,null,null,null,null,null,null,null,"~"]
["CONTACT",2025,"Choose",71,null,null,null,null,null,null,null,null,null,null,null,null,null,null,null,null,null,null,"~"]
["CONTACT",{"$f":"+MTREF","v":2025},{"$f":"LEFT(muni,(FIND(\" \",muni,1)-1))","v":"Choose"},72,null,null,null,null,null,null,null,null,null,null,null,null,null,null,null,null,null,null,"~"]
["CONTACT",2025,"Choose",73,null,null,null,null,null,null,null,null,null,null,null,null,null,null,null,null,null,null,"~"]
["CONTACT",2025,"Choose",74,null,null,null,null,null,null,null,null,null,null,null,null,null,null,null,null,null,null,"~"]
["CONTACT",2025,"Choose",75,null,null,null,null,null,null,null,null,null,null,null,null,null,null,null,null,null,null,"~"]
["CONTACT",2025,"Choose",76,null,null,null,null,null,null,null,null,null,null,null,null,null,null,null,null,null,null,"~"]
["CONTACT",2025,"Choose",77,null,null,null,null,null,null,null,null,null,null,null,null,null,null,null,null,null,null,"~"]
["CONTACT",2025,"Choose",78,null,null,null,null,null,null,null,null,null,null,null,null,null,null,null,null,null,null,"~"]
["CONTACT",2025,"Choose",79,null,null,null,null,null,null,null,null,null,null,null,null,null,null,null,null,null,null,"~"]
["CONTACT",2025,"Choose",80,null,null,null,null,null,null,null,null,null,null,null,null,null,null,null,null,null,null,"~"]
["CONTACT",2025,"Choose",81,null,null,null,null,null,null,null,null,null,null,null,null,null,null,null,null,null,null,"~"]
["CONTACT",2025,"Choose",82,null,null,null,null,null,null,null,null,null,null,null,null,null,null,null,null,null,null,"~"]
["CONTACT",2025,"Choose",83,null,null,null,null,null,null,null,null,null,null,null,null,null,null,null,null,null,null,"~"]
["CONTACT",2025,"Choose",84,null,null,null,null,null,null,null,null,null,null,null,null,null,null,null,null,null,null,"~"]
["CONTACT",2025,"Choose",85,null,null,null,null,null,null,null,null,null,null,null,null,null,null,null,null,null,null,"~"]
["CONTACT",2025,"Choose",86,null,null,null,null,null,null,null,null,null,null,null,null,null,null,null,null,null,null,"~"]
["CONTACT",2025,"Choose",87,null,null,null,null,null,null,null,null,null,null,null,null,null,null,null,null,null,null,"~"]
["CONTACT",2025,"Choose",88,null,null,null,null,null,null,null,null,null,null,null,null,null,null,null,null,null,null,"~"]
["CONTACT",2025,"Choose",89,null,null,null,null,null,null,null,null,null,null,null,null,null,null,null,null,null,null,"~"]
["CONTACT",2025,"Choose",90,null,null,null,null,null,null,null,null,null,null,null,null,null,null,null,null,null,null,"~"]
["CONTACT",2025,"Choose",91,null,null,null,null,null,null,null,null,null,null,null,null,null,null,null,null,null,null,"~"]
["CONTACT",2025,"Choose",92,null,null,null,null,null,null,null,null,null,null,null,null,null,null,null,null,null,null,"~"]
["CONTACT",2025,"Choose",93,null,null,null,null,null,null,null,null,null,null,null,null,null,null,null,null,null,null,"~"]
["CONTACT",2025,"Choose",94,null,null,null,null,null,null,null,null,null,null,null,null,null,null,null,null,null,null,"~"]
["CONTACT",2025,"Choose",95,null,null,null,null,null,null,null,null,null,null,null,null,null,null,null,null,null,null,"~"]
["CONTACT",2025,"Choose",96,null,null,null,null,null,null,null,null,null,null,null,null,null,null,null,null,null,null,"~"]
["CONTACT",2025,"Choose",97,null,null,null,null,null,null,null,null,null,null,null,null,null,null,null,null,null,null,"~"]
["CONTACT",2025,"Choose",98,null,null,null,null,null,null,null,null,null,null,null,null,null,null,null,null,null,null,"~"]
["CONTACT",2025,"Choose",99,null,null,null,null,null,null,null,null,null,null,null,null,null,null,null,null,null,null,"~"]
["CONTACT",2025,"Choose",100,null,null,null,null,null,null,null,null,null,null,null,null,null,null,null,null,null,null,"~"]
["CONTACT",2025,"Choose",101,null,null,null,null,null,null,null,null,null,null,null,null,null,null,null,null,null,null,"~"]
["CONTACT",2025,"Choose",102,null,null,null,null,null,null,null,null,null,null,null,null,null,null,null,null,null,null,"~"]
["CONTACT",2025,"Choose",103,null,null,null,null,null,null,null,null,null,null,null,null,null,null,null,null,null,null,"~"]
["CONTACT",2025,"Choose",104,null,null,null,null,null,null,null,null,null,null,null,null,null,null,null,null,null,null,"~"]
["CONTACT",2025,"Choose",105,null,null,null,null,null,null,null,null,null,null,null,null,null,null,null,null,null,null,"~"]
["CONTACT",2025,"Choose",106,null,null,null,null,null,null,null,null,null,null,null,null,null,null,null,null,null,null,"~"]
["CONTACT",2025,"Choose",107,null,null,null,null,null,null,null,null,null,null,null,null,null,null,null,null,null,null,"~"]
["CONTACT",2025,"Choose",108,null,null,null,null,null,null,null,null,null,null,null,null,null,null,null,null,null,null,"~"]
["CONTACT",2025,"Choose",109,null,null,null,null,null,null,null,null,null,null,null,null,null,null,null,null,null,null,"~"]
["CONTACT",2025,"Choose",110,null,null,null,null,null,null,null,null,null,null,null,null,null,null,null,null,null,null,"~"]
["CONTACT",2025,"Choose",111,null,null,null,null,null,null,null,null,null,null,null,null,null,null,null,null,null,null,"~"]
["CONTACT",2025,"Choose",112,null,null,null,null,null,null,null,null,null,null,null,null,null,null,null,null,null,null,"~"]
["CONTACT",2025,"Choose",113,null,null,null,null,null,null,null,null,null,null,null,null,null,null,null,null,null,null,"~"]
["CONTACT",2025,"Choose",114,null,null,null,null,null,null,null,null,null,null,null,null,null,null,null,null,null,null,"~"]
["CONTACT",2025,"Choose",115,null,null,null,null,null,null,null,null,null,null,null,null,null,null,null,null,null,null,"~"]
["CONTACT",2025,"Choose",116,null,null,null,null,null,null,null,null,null,null,null,null,null,null,null,null,null,null,"~"]
["CONTACT",2025,"Choose",117,null,null,null,null,null,null,null,null,null,null,null,null,null,null,null,null,null,null,"~"]
["CONTACT",2025,"Choose",118,null,null,null,null,null,null,null,null,null,null,null,null,null,null,null,null,null,null,"~"]
["CONTACT",2025,"Choose",119,null,null,null,null,null,null,null,null,null,null,null,null,null,null,null,null,null,null,"~"]
["CONTACT",2025,"Choose",120,null,null,null,null,null,null,null,null,null,null,null,null,null,null,null,null,null,null,"~"]
["CONTACT",2025,"Choose",121,null,null,null,null,null,null,null,null,null,null,null,null,null,null,null,null,null,null,"~"]
["CONTACT",2025,"Choose",122,null,null,null,null,null,null,null,null,null,null,null,null,null,null,null,null,null,null,"~"]
["CONTACT",2025,"Choose",123,null,null,null,null,null,null,null,null,null,null,null,null,null,null,null,null,null,null,"~"]
["CONTACT",2025,"Choose",124,null,null,null,null,null,null,null,null,null,null,null,null,null,null,null,null,null,null,"~"]
["CONTACT",2025,"Choose",125,null,null,null,null,null,null,null,null,null,null,null,null,null,null,null,null,null,null,"~"]
["CONTACT",2025,"Choose",126,null,null,null,null,null,null,null,null,null,null,null,null,null,null,null,null,null,null,"~"]
["CONTACT",2025,"Choose",127,null,null,null,null,null,null,null,null,null,null,null,null,null,null,null,null,null,null,"~"]
["CONTACT",2025,"Choose",128,null,null,null,null,null,null,null,null,null,null,null,null,null,null,null,null,null,null,"~"]
["CONTACT",2025,"Choose",129,null,null,null,null,null,null,null,null,null,null,null,null,null,null,null,null,null,null,"~"]
["CONTACT",2025,"Choose",130,null,null,null,null,null,null,null,null,null,null,null,null,null,null,null,null,null,null,"~"]
["CONTACT",2025,"Choose",131,null,null,null,null,null,null,null,null,null,null,null,null,null,null,null,null,null,null,"~"]
["CONTACT",2025,"Choose",132,null,null,null,null,null,null,null,null,null,null,null,null,null,null,null,null,null,null,"~"]
["CONTACT",2025,"Choose",133,null,null,null,null,null,null,null,null,null,null,null,null,null,null,null,null,null,null,"~"]
["CONTACT",2025,"Choose",134,null,null,null,null,null,null,null,null,null,null,null,null,null,null,null,null,null,null,"~"]
["CONTACT",2025,"Choose",135,null,null,null,null,null,null,null,null,null,null,null,null,null,null,null,null,null,null,"~"]
["CONTACT",2025,"Choose",136,null,null,null,null,null,null,null,null,null,null,null,null,null,null,null,null,null,null,"~"]
["CONTACT",2025,"Choose",137,null,null,null,null,null,null,null,null,null,null,null,null,null,null,null,null,null,null,"~"]
["CONTACT",2025,"Choose",138,null,null,null,null,null,null,null,null,null,null,null,null,null,null,null,null,null,null,"~"]
["SA25",2025,"Choose",0,1,"Revenue By Source",null,null,null,null,null,null,null,null,null,null,null,null,null,null,null,null,"~"]
["SA25",2025,"Choose",0,2,"Property rates",null,null,null,null,null,null,null,null,null,null,null,null,null,null,null,null,"~"]
["SA25",2025,"Choose",0,3,"Property rates - penalties & collection charges",null,null,null,null,null,null,null,null,null,null,null,null,null,null,null,null,"~"]
["SA25",2025,"Choose",0,4,"Service charges - electricity revenue",null,null,null,null,null,null,null,null,null,null,null,null,null,null,null,null,"~"]
["SA25",2025,"Choose",0,5,"Service charges - water revenue",null,null,null,null,null,null,null,null,null,null,null,null,null,null,null,null,"~"]
["SA25",2025,"Choose",0,6,"Service charges - sanitation revenue",null,null,null,null,null,null,null,null,null,null,null,null,null,null,null,null,"~"]
["SA25",2025,"Choose",0,7,"Service charges - refuse revenue",null,null,null,null,null,null,null,null,null,null,null,null,null,null,null,null,"~"]
["SA25",2025,"Choose",0,8,"Service charges - other",null,null,null,null,null,null,null,null,null,null,null,null,null,null,null,null,"~"]
["SA25",2025,"Choose",0,9,"Rental of facilities and equipment",null,null,null,null,null,null,null,null,null,null,null,null,null,null,null,null,"~"]
["SA25",2025,"Choose",0,10,"Interest earned - external investments",null,null,null,null,null,null,null,null,null,null,null,null,null,null,null,null,"~"]
["SA25",2025,"Choose",0,11,"Interest earned - outstanding debtors",null,null,null,null,null,null,null,null,null,null,null,null,null,null,null,null,"~"]
["SA25",2025,"Choose",0,12,"Dividends received",null,null,null,null,null,null,null,null,null,null,null,null,null,null,null,null,"~"]
["SA25",2025,"Choose",0,13,"Fines",null,null,null,null,null,null,null,null,null,null,null,null,null,null,null,null,"~"]
["SA25",2025,"Choose",0,14,"Licences and permits",null,null,null,null,null,null,null,null,null,null,null,null,null,null,null,null,"~"]
["SA25",2025,"Choose",0,15,"Agency services",null,null,null,null,null,null,null,null,null,null,null,null,null,null,null,null,"~"]
["SA25",2025,"Choose",0,16,"Transfers recognised - operational",null,null,null,null,null,null,null,null,null,null,null,null,null,null,null,null,"~"]
["SA25",2025,"Choose",0,17,"Other revenue",null,null,null,null,null,null,null,null,null,null,null,null,null,null,null,null,"~"]
["SA25",2025,"Choose",0,18,"Gains on disposal of PPE",null,null,null,null,null,null,null,null,null,null,null,null,null,null,null,null,"~"]
["SA25",2025,"Choose",0,19,"Total Revenue (excluding capital transfers and contributions)",null,null,null,null,null,null,null,null,null,null,null,null,null,null,null,null,"~"]
["SA25",2025,"Choose",0,20,null,null,null,null,null,null,null,null,null,null,null,null,null,null,null,null,null,"~"]
["SA25",2025,"Choose",0,21,"Expenditure By Type",null,null,null,null,null,null,null,null,null,null,null,null,null,null,null,null,"~"]
["SA25",2025,"Choose",0,22,"Employee related costs",null,null,null,null,null,null,null,null,null,null,null,null,null,null,null,null,"~"]
["SA25",2025,"Choose",0,23,"Remuneration of councillors",null,null,null,null,null,null,null,null,null,null,null,null,null,null,null,null,"~"]
["SA25",2025,"Choose",0,24,"Debt impairment",null,null,null,null,null,null,null,null,null,null,null,null,null,null,null,null,"~"]
["SA25",2025,"Choose",0,25,"Depreciation & asset impairment",null,null,null,null,null,null,null,null,null,null,null,null,null,null,null,null,"~"]
["SA25",2025,"Choose",0,26,"Finance charges",null,null,null,null,null,null,null,null,null,null,null,null,null,null,null,null,"~"]
["SA25",2025,"Choose",0,27,"Bulk purchases",null,null,null,null,null,null,null,null,null,null,null,null,null,null,null,null,"~"]
["SA25",2025,"Choose",0,28,"Other materials",null,null,null,null,null,null,null,null,null,null,null,null,null,null,null,null,"~"]
["SA25",2025,"Choose",0,29,"Contracted services",null,null,null,null,null,null,null,null,null,null,null,null,null,null,null,null,"~"]
["SA25",2025,"Choose",0,30,"Transfers and grants",null,null,null,null,null,null,null,null,null,null,null,null,null,null,null,null,"~"]
["SA25",2025,"Choose",0,31,"Other expenditure",null,null,null,null,null,null,null,null,null,null,null,null,null,null,null,null,"~"]
["SA25",2025,"Choose",0,32,"Loss on disposal of PPE",null,null,null,null,null,null,null,null,null,null,null,null,null,null,null,null,"~"]
["SA25",2025,"Choose",0,33,"Total Expenditure",null,null,null,null,null,null,null,null,null,null,null,null,null,null,null,null,"~"]
["SA25",2025,"Choose",0,34,null,null,null,null,null,null,null,null,null,null,null,null,null,null,null,null,null,"~"]
["SA25",2025,"Choose",0,35,"Surplus/(Deficit)",null,null,null,null,null,null,null,null,null,null,null,null,null,null,null,null,"~"]
["SA25",{"$f":"+MTREF","v":2025},{"$f":"LEFT(muni,(FIND(\" \",muni,1)-1))","v":"Choose"},0,36,"Transfers recognised - capital",null,null,null,null,null,null,null,null,null,null,null,null,null,null,null,null,"~"]
["SA25",2025,"Choose",0,37,"Contributions recognised - capital",null,null,null,null,null,null,null,null,null,null,null,null,null,null,null,null,"~"]
["SA25",2025,"Choose",0,38,"Contributed assets",null,null,null,null,null,null,null,null,null,null,null,null,null,null,null,null,"~"]
["SA25",2025,"Choose",0,39,"Surplus/(Deficit) after capital transfers & contributions",null,null,null,null,null,null,null,null,null,null,null,null,null,null,null,null,"~"]
["SA25",2025,"Choose",0,40,"Taxation",null,null,null,null,null,null,null,null,null,null,null,null,null,null,null,null,"~"]
["SA25",2025,"Choose",0,41,"Attributable to minorities",null,null,null,null,null,null,null,null,null,null,null,null,null,null,null,null,"~"]
["SA25",2025,"Choose",0,44,"Share of surplus/ (deficit) of associate",null,null,null,null,null,null,null,null,null,null,null,null,null,null,null,null,"~"]
["SA27",2025,"Choose",null,null,"Revenue - Standard",null,null,null,null,null,null,null,null,null,null,null,null,null,null,null,null,"~"]
["SA27",2025,"Choose",null,null,"Governance and administration",null,null,null,null,null,null,null,null,null,null,null,null,null,null,null,null,"~"]
["SA27",2025,"Choose",1,11,"Executive and council",null,null,null,null,null,null,null,null,null,null,null,null,null,null,null,null,"~"]
["SA27",2025,"Choose",1,12,"Budget and treasury office",null,null,null,null,null,null,null,null,null,null,null,null,null,null,null,null,"~"]
["SA27",2025,"Choose",1,13,"Corporate services",null,null,null,null,null,null,null,null,null,null,null,null,null,null,null,null,"~"]
["SA27",2025,"Choose",null,null,"Community and public safety",null,null,null,null,null,null,null,null,null,null,null,null,null,null,null,null,"~"]
["SA27",2025,"Choose",1,21,"Community and social services",null,null,null,null,null,null,null,null,null,null,null,null,null,null,null,null,"~"]
["SA27",2025,"Choose",1,22,"Sport and recreation",null,null,null,null,null,null,null,null,null,null,null,null,null,null,null,null,"~"]
["SA27",2025,"Choose",1,23,"Public safety",null,null,null,null,null,null,null,null,null,null,null,null,null,null,null,null,"~"]
["SA27",2025,"Choose",1,24,"Housing",null,null,null,null,null,null,null,null,null,null,null,null,null,null,null,null,"~"]
["SA27",2025,"Choose",1,25,"Health",null,null,null,null,null,null,null,null,null,null,null,null,null,null,null,null,"~"]
["SA27",2025,"Choose",null,null,"Economic and environmental services",null,null,null,null,null,null,null,null,null,null,null,null,null,null,null,null,"~"]
["SA27",2025,"Choose",1,31,"Planning and development",null,null,null,null,null,null,null,null,null,null,null,null,null,null,null,null,"~"]
["SA27",2025,"Choose",1,32,"Road transport",null,null,null,null,null,null,null,null,null,null,null,null,null,null,null,null,"~"]
["SA27",2025,"Choose",1,33,"Environmental protection",null,null,null,null,null,null,null,null,null,null,null,null,null,null,null,null,"~"]
["SA27",2025,"Choose",null,null,"Trading services",null,null,null,null,null,null,null,null,null,null,null,null,null,null,null,null,"~"]
["SA27",2025,"Choose",1,41,"Electricity",null,null,null,null,null,null,null,null,null,null,null,null,null,null,null,null,"~"]
["SA27",2025,"Choose",1,42,"Water",null,null,null,null,null,null,null,null,null,null,null,null,null,null,null,null,"~"]
["SA27",2025,"Choose",1,43,"Waste water management",null,null,null,null,null,null,null,null,null,null,null,null,null,null,null,null,"~"]
["SA27",2025,"Choose",1,44,"Waste management",null,null,null,null,null,null,null,null,null,null,null,null,null,null,null,null,"~"]
["SA27",2025,"Choose",1,45,"Other",null,null,null,null,null,null,null,null,null,null,null,null,null,null,null,null,"~"]
["SA27",2025,"Choose",null,null,"Total Revenue - Standard",null,null,null,null,null,null,null,null,null,null,null,null,null,null,null,null,"~"]
["SA27",2025,"Choose",null,null,null,null,null,null,null,null,null,null,null,null,null,null,null,null,null,null,null,"~"]
["SA27",2025,"Choose",null,null,"Expenditure - Standard",null,null,null,null,null,null,null,null,null,null,null,null,null,null,null,null,"~"]
["SA27",2025,"Choose",null,null,"Governance and administration",null,null,null,null,null,null,null,null,null,null,null,null,null,null,null,null,"~"]
["SA27",2025,"Choose",2,11,"Executive and council",null,null,null,null,null,null,null,null,null,null,null,null,null,null,null,null,"~"]
["SA27",2025,"Choose",2,12,"Budget and treasury office",null,null,null,null,null,null,null,null,null,null,null,null,null,null,null,null,"~"]
["SA27",2025,"Choose",2,13,"Corporate services",null,null,null,null,null,null,null,null,null,null,null,null,null,null,null,null,"~"]
["SA27",2025,"Choose",null,null,"Community and public safety",null,null,null,null,null,null,null,null,null,null,null,null,null,null,null,null,"~"]
["SA27",2025,"Choose",2,21,"Community and social services",null,null,null,null,null,null,null,null,null,null,null,null,null,null,null,null,"~"]
["SA27",2025,"Choose",2,22,"Sport and recreation",null,null,null,null,null,null,null,null,null,null,null,null,null,null,null,null,"~"]
["SA27",2025,"Choose",2,23,"Public safety",null,null,null,null,null,null,null,null,null,null,null,null,null,null,null,null,"~"]
["SA27",2025,"Choose",2,24,"Housing",null,null,null,null,null,null,null,null,null,null,null,null,null,null,null,null,"~"]
["SA27",2025,"Choose",2,25,"Health",null,null,null,null,null,null,null,null,null,null,null,null,null,null,null,null,"~"]
["SA27",2025,"Choose",null,null,"Economic and environmental services",null,null,null,null,null,null,null,null,null,null,null,null,null,null,null,null,"~"]
["SA27",2025,"Choose",2,31,"Planning and development",null,null,null,null,null,null,null,null,null,null,null,null,null,null,null,null,"~"]
["SA27",2025,"Choose",2,32,"Road transport",null,null,null,null,null,null,null,null,null,null,null,null,null,null,null,null,"~"]
["SA27",2025,"Choose",2,33,"Environmental protection",null,null,null,null,null,null,null,null,null,null,null,null,null,null,null,null,"~"]
["SA27",2025,"Choose",null,null,"Trading services",null,null,null,null,null,null,null,null,null,null,null,null,null,null,null,null,"~"]
["SA27",2025,"Choose",2,41,"Electricity",null,null,null,null,null,null,null,null,null,null,null,null,null,null,null,null,"~"]
["SA27",2025,"Choose",2,42,"Water",null,null,null,null,null,null,null,null,null,null,null,null,null,null,null,null,"~"]
["SA27",2025,"Choose",2,43,"Waste water management",null,null,null,null,null,null,null,null,null,null,null,null,null,null,null,null,"~"]
["SA27",2025,"Choose",2,44,"Waste management",null,null,null,null,null,null,null,null,null,null,null,null,null,null,null,null,"~"]
["SA27",2025,"Choose",2,45,"Other",null,null,null,null,null,null,null,null,null,null,null,null,null,null,null,null,"~"]
["SA27",2025,"Choose",null,null,"Total Expenditure - Standard",null,null,null,null,null,null,null,null,null,null,null,null,null,null,null,null,"~"]
["SA29",2025,"Choose",null,null,"Capital Expenditure - Standard",null,null,null,null,null,null,null,null,null,null,null,null,null,null,null,null,"~"]
["SA29",2025,"Choose",null,null,"Governance and administration",null,null,null,null,null,null,null,null,null,null,null,null,null,null,null,null,"~"]
["SA29",2025,"Choose",1,11,"Executive and council",null,null,null,null,null,null,null,null,null,null,null,null,null,null,null,null,"~"]
["SA29",2025,"Choose",1,12,"Budget and treasury office",null,null,null,null,null,null,null,null,null,null,null,null,null,null,null,null,"~"]
["SA29",2025,"Choose",1,13,"Corporate services",null,null,null,null,null,null,null,null,null,null,null,null,null,null,null,null,"~"]
["SA29",2025,"Choose",null,null,"Community and public safety",null,null,null,null,null,null,null,null,null,null,null,null,null,null,null,null,"~"]
["SA29",2025,"Choose",1,21,"Community and social services",null,null,null,null,null,null,null,null,null,null,null,null,null,null,null,null,"~"]
["SA29",2025,"Choose",1,22,"Sport and recreation",null,null,null,null,null,null,null,null,null,null,null,null,null,null,null,null,"~"]
["SA29",2025,"Choose",1,23,"Public safety",null,null,null,null,null,null,null,null,null,null,null,null,null,null,null,null,"~"]
["SA29",2025,"Choose",1,24,"Housing",null,null,null,null,null,null,null,null,null,null,null,null,null,null,null,null,"~"]
["SA29",2025,"Choose",1,25,"Health",null,null,null,null,null,null,null,null,null,null,null,null,null,null,null,null,"~"]
["SA29",2025,"Choose",null,null,"Economic and environmental services",null,null,null,null,null,null,null,null,null,null,null,null,null,null,null,null,"~"]
["SA29",{"$f":"+MTREF","v":2025},{"$f":"LEFT(muni,(FIND(\" \",muni,1)-1))","v":"Choose"},1,31,"Planning and development",null,null,null,null,null,null,null,null,null,null,null,null,null,null,null,null,"~"]
["SA29",2025,"Choose",1,32,"Road transport",null,null,null,null,null,null,null,null,null,null,null,null,null,null,null,null,"~"]
["SA29",2025,"Choose",1,33,"Environmental protection",null,null,null,null,null,null,null,null,null,null,null,null,null,null,null,null,"~"]
["SA29",2025,"Choose",null,null,"Trading services",null,null,null,null,null,null,null,null,null,null,null,null,null,null,null,null,"~"]
["SA29",2025,"Choose",1,41,"Electricity",null,null,null,null,null,null,null,null,null,null,null,null,null,null,null,null,"~"]
["SA29",2025,"Choose",1,42,"Water",null,null,null,null,null,null,null,null,null,null,null,null,null,null,null,null,"~"]
["SA29",2025,"Choose",1,43,"Waste water management",null,null,null,null,null,null,null,null,null,null,null,null,null,null,null,null,"~"]
["SA29",2025,"Choose",1,44,"Waste management",null,null,null,null,null,null,null,null,null,null,null,null,null,null,null,null,"~"]
["SA29",2025,"Choose",1,45,"Other",null,null,null,null,null,null,null,null,null,null,null,null,null,null,null,null,"~"]
["SA29",2025,"Choose",null,null,"Total Capital Expenditure - Standard",null,null,null,null,null,null,null,null,null,null,null,null,null,null,null,null,"~"]
["SA29",2025,"Choose",null,null,null,null,null,null,null,null,null,null,null,null,null,null,null,null,null,null,null,"~"]
["SA29",2025,"Choose",2,50,"Funded by:",null,null,null,null,null,null,null,null,null,null,null,null,null,null,null,null,"~"]
["SA29",2025,"Choose",2,51,"National Government",null,null,null,null,null,null,null,null,null,null,null,null,null,null,null,null,"~"]
["SA29",2025,"Choose",2,52,"Provincial Government",null,null,null,null,null,null,null,null,null,null,null,null,null,null,null,null,"~"]
["SA29",2025,"Choose",2,53,"District Municipality",null,null,null,null,null,null,null,null,null,null,null,null,null,null,null,null,"~"]
["SA29",2025,"Choose",2,54,"Other transfers and grants",null,null,null,null,null,null,null,null,null,null,null,null,null,null,null,null,"~"]
["SA29",2025,"Choose",2,55,"Transfers recognised - capital",null,null,null,null,null,null,null,null,null,null,null,null,null,null,null,null,"~"]
["SA29",2025,"Choose",2,56,"Public contributions & donations",null,null,null,null,null,null,null,null,null,null,null,null,null,null,null,null,"~"]
["SA29",2025,"Choose",2,57,"Borrowing",null,null,null,null,null,null,null,null,null,null,null,null,null,null,null,null,"~"]
["SA29",2025,"Choose",2,58,"Internally generated funds",null,null,null,null,null,null,null,null,null,null,null,null,null,null,null,null,"~"]
["SA29",2025,"Choose",2,59,"Total Capital Funding",null,null,null,null,null,null,null,null,null,null,null,null,null,null,null,null,"~"]